Workbook
Name CUMPLE_EMPRENDIMIENTO_MUJER: IF(COUNTIFS(EXPERIENCIA!$I$19:$I$24,">=0,1",EXPERIENCIA!$N$19:$N$24,"SI"),"SI","NO")
Name CUMPLE_EXP_ADICIONAL: IF(EXPERIENCIA!XES1>=(EXPERIENCIA!$J$10/2),"CUMPLE","NO CUMPLE")
Name CUMPLE_EXP_ESPECIFICA: IF(COUNTIFS(EXPERIENCIA!$O$40:$O$58,"VALIDA",EXPERIENCIA!$R$40:$R$58,">1621")>=1,"CUMPLE","NO CUMPLE")
Name CUMPLE_F_RUP: IF(EXPERIENCIA!$K1<(EXPERIENCIA!$F$10-30),"NO CUMPLE","CUMPLE")
Name CUMPLE_MIPYMES: IF(COUNTIFS(EXPERIENCIA!$I$19:$I$24,">=0,1",EXPERIENCIA!$J$19:$J$24,"SI",EXPERIENCIA!$L$19:$L$24,"SI"),"SI","NO")
Name ESTADO_CERTIFICACION: IF(EXPERIENCIA!$D1="","",IF(AND(EXPERIENCIA!$J1="CUMPLE",EXPERIENCIA!$K1="CUMPLE",(EXPERIENCIA!$M1<EXPERIENCIA!$F$10)),"VALIDA","NO VALIDA"))
Name Formato_13: IF(EXPERIENCIA!XFD1="","",IF(EXPERIENCIA!XFD1="SE ANEXA","SI","NO"))
Name INT1_PYMES: AND(EXPERIENCIA!$I1>10%,EXPERIENCIA!$J1="SI",EXPERIENCIA!$L1="SI")
Name INTEGRANTE_2: IF(EXPERIENCIA!$N$15="Proponente Plural",IF(ISBLANK((VLOOKUP(EXPERIENCIA!$D$15,[1]OFERENTES!$A$8:$H$27,5,FALSE))),"",VLOOKUP(EXPERIENCIA!$D$15,[1]OFERENTES!$A$8:$H$27,5,FALSE)),"")
Name INTEGRANTE_3: IF(EXPERIENCIA!$N$15="Proponente Plural",IF(ISBLANK((VLOOKUP(EXPERIENCIA!$D$15,[1]OFERENTES!$A$8:$H$27,7,FALSE))),"",VLOOKUP(EXPERIENCIA!$D$15,[1]OFERENTES!$A$8:$H$27,7,FALSE)),"")
Name INTEGRANTE_4: IF(EXPERIENCIA!$N$15="Proponente Plural",IF(ISBLANK((VLOOKUP(EXPERIENCIA!$D$15,[1]OFERENTES!$A$8:$AA$27,9,FALSE))),"",VLOOKUP(EXPERIENCIA!$D$15,[1]OFERENTES!$A$8:$AA$27,9,FALSE)),"")
Name INTEGRANTE_5: IF(EXPERIENCIA!$N$15="Proponente Plural",IF(ISBLANK((VLOOKUP(EXPERIENCIA!$D$15,[1]OFERENTES!$A$8:$AA$27,11,FALSE))),"",VLOOKUP(EXPERIENCIA!$D$15,[1]OFERENTES!$A$8:$AA$27,11,FALSE)),"")
Name INTEGRANTE_6: IF(EXPERIENCIA!$N$15="Proponente Plural",IF(ISBLANK((VLOOKUP(EXPERIENCIA!$D$15,[1]OFERENTES!$A$8:$AA$27,13,FALSE))),"",VLOOKUP(EXPERIENCIA!$D$15,[1]OFERENTES!$A$8:$AA$27,13,FALSE)),"")
Name INTEGRANTE_PORCENTAJE_PYME: IFERROR(INDEX(EXPERIENCIA!$D$19:$D$24,MATCH(TRUE, EXPERIENCIA!$I$19:$I$24 <10%, 0),1),"")
Name INTEGRANTE_RUP_NO_FIRME: IFERROR(INDEX(EXPERIENCIA!$D$19:$D$21,MATCH(TRUE,(EXPERIENCIA!$J$19:$J$21 = "NO"), 0),1),"")
Name INTEGRANTES_EMP_MUJ: _xlfn._xlws.FILTER(EXPERIENCIA!$D$19:$D$24,EXPERIENCIA!$A$19:$A$24="v")
Name INTEGRANTES_PYMES: _xlfn._xlws.FILTER(EXPERIENCIA!$D$19:$D$24,EXPERIENCIA!$C$19:$C$24="v")
Name NO_PORCENTAJE_PYMES: COUNTIFS(EXPERIENCIA!$I$19:$I$24,"<10%",EXPERIENCIA!$L$19:$L$24,"SI")
Name NO_PORCENTAJEMUJER: COUNTIFS(EXPERIENCIA!$I$19:$I$24,"<10%",EXPERIENCIA!$N$19:$N$24,"si")
Name NOCUMPLE_RUPFIRME_PYME: COUNTIFS(EXPERIENCIA!$J$19:$J$24,"NO",EXPERIENCIA!$L$19:$L$24,"SI")
Name NOM_PROPONENTE: IFERROR(IF(EXPERIENCIA!$D$15>0,(VLOOKUP(EXPERIENCIA!$D$15,[1]OFERENTES!$A$8:$W$27,2,FALSE)),""),"")
Name NSR_10: IF(COUNTIFS(EXPERIENCIA!$O$40:$O$58,"VALIDA",EXPERIENCIA!$J$40:$J$58,">15/7/2010")>=1,"CUMPLE","NO CUMPLE")
Name NSR_98: IF(COUNTIFS(EXPERIENCIA!$O$40:$O$58,"valida",EXPERIENCIA!$J$40:$J$58,">35804")>=COUNTIFS(EXPERIENCIA!$O$40:$O$58,"VALIDA")-1,"CUMPLE","NO CUMPLE")
Name OFERENTE_40porciento: IFERROR(INDEX(EXPERIENCIA!$D$80:$D$82,MATCH(TRUE,EXPERIENCIA!$I$80:$I$82>=40%,0),1),"")
Name PORCENTAJE_INTEGRANTE1: IF(EXPERIENCIA!$D$15>0,IF(ISBLANK((VLOOKUP(EXPERIENCIA!$D$15,[1]OFERENTES!$A$8:$AH$27,4,FALSE))),"",(VLOOKUP(EXPERIENCIA!$D$15,[1]OFERENTES!$A$8:$AH$27,4,FALSE))),"")
Name PORCENTAJE_INTEGRANTE2: IF(EXPERIENCIA!$D$15>0,IF(ISBLANK((VLOOKUP(EXPERIENCIA!$D$15,[1]OFERENTES!$A$8:$AH$27,6,FALSE))),"",(VLOOKUP(EXPERIENCIA!$D$15,[1]OFERENTES!$A$8:$AH$27,6,FALSE))),"")
Name PORCENTAJE_INTEGRANTE3: IF(EXPERIENCIA!$D$15>0,IF(ISBLANK((VLOOKUP(EXPERIENCIA!$D$15,[1]OFERENTES!$A$8:$AH$27,8,FALSE))),"",(VLOOKUP(EXPERIENCIA!$D$15,[1]OFERENTES!$A$8:$AH$27,8,FALSE))),"")
Name PORCENTAJE_INTEGRANTE4: IF(EXPERIENCIA!$D$15>0,IF(ISBLANK((VLOOKUP(EXPERIENCIA!$D$15,[1]OFERENTES!$A$8:$AH$27,10,FALSE))),"",(VLOOKUP(EXPERIENCIA!$D$15,[1]OFERENTES!$A$8:$AH$27,10,FALSE))),"")
Name PORCENTAJE_INTEGRANTE5: IF(EXPERIENCIA!$D$15>0,IF(ISBLANK((VLOOKUP(EXPERIENCIA!$D$15,[1]OFERENTES!$A$8:$AH$27,12,FALSE))),"",(VLOOKUP(EXPERIENCIA!$D$15,[1]OFERENTES!$A$8:$AH$27,12,FALSE))),"")
Name PORCENTAJE_INTEGRANTE6: IF(EXPERIENCIA!$D$15>0,IF(ISBLANK((VLOOKUP(EXPERIENCIA!$D$15,[1]OFERENTES!$A$8:$AH$27,14,FALSE))),"",(VLOOKUP(EXPERIENCIA!$D$15,[1]OFERENTES!$A$8:$AH$27,14,FALSE))),"")
Name PORCENTAJE_MENOR: IFERROR(MATCH(TRUE, EXPERIENCIA!$I$19:$I$21 <10%, 0),"")
Name POSICIÓN_FIRMEZA_RUT: IFERROR(MATCH(TRUE, EXPERIENCIA!$J$19:$J$24 = "no", 0),"")
Name RESPUESTAS_UNICAS: IF(EXPERIENCIA!$L$65="CUMPLE","SIN OBSERVACIONES",VLOOKUP(EXPERIENCIA!$B1,[1]RESPUESTAS!$B$8:$H$75,3,FALSE))
Name TIPO_PROPONENTE: IFERROR(VLOOKUP(EXPERIENCIA!$D$15,[1]OFERENTES!$A$8:$AA$107,26,FALSE),"")

Sheet PROPONENTE
B1: #VALUE! | D1: IDENTIFICACIÓN DEL PROPONENTE
B5: Oferente: | C5: =+EXPERIENCIA!D15 -> 45 | E5: =IF($C$5>0,(VLOOKUP($C$5,[1]OFERENTES!$A$8:$W$1027,2,FALSE)),"") -> LAEL CONSTRUCCIONES S.A.S | K5: TIPO PROPONENTE | M5: =IFERROR(VLOOKUP($C$5,[1]OFERENTES!$A$8:$AA$1027,26,FALSE),"") -> Proponente Individual
B8: 2. CAPÍTULO II. ELABORACIÓN Y PRESENTACIÓN DE LA OFERTA
B10: 2.1. CARTA DE PRESENTACIÓN DE LA OFERTA
B12: El proponente individual o prlura presento el FORMATO 1 – CARTA DE PRESENTACIÓN DE LA OFERTA | M12: SI
B14: APLICACIÓN DEL ARTICULO 20 DE LA LEY 842 DE 2023
B15: La oferta del porponente individual o Plural es avalada por un Ingeniero de conformidad con el ART 20 ley 842 de 2023? | M15: SI
B17: El proponente Adjunta copia de la tarjeta profesional | M17: SI
B19: El proponente adjunta copia de la tarjeta profesional y certificado de vigencia de la matrícula profesional expedida por la autoridad competente | M19: SI
B21: El certificado de vigencia de la matrícula profesional se encuentra vigente al cierre del presente proceso? | M21: SI
B23: ESTADO REVISIÓN DOCUMENTOS DE PRESENTACIÓN OFERTA | M23: =IF($M$12="","",IF(COUNTIF(M12:M21,"si")>4,"CUMPLE","NO CUMPLE")) -> CUMPLE
B24: Observaciones

Sheet EXPERIENCIA
B2: #VALUE! | C2: EVALUACIÓN CRITERIOS TECNICOS HABILITANTES DE EXPERIENCIA | Q2: ESTADO HABILITACIÓN
Q3: =IF($J$25="NO CUMPLE","OFERTA RECHAZADA",IF(COUNTIF(L65:$M$70,"CUMPLE")=6,"CUMPLE","NO CUMPLE")) -> CUMPLE
B5: 1. D A T O S D E L P R O C E S O.
B8: OBJETO: | D8: =+'[1]DATOS DEL PROCESO'!D3 -> CONSTRUCCIÓN DE LA CASA DE LA CULTURA – CENTRO CULTURAL RROM DEL MUNICIPIO DE SAMPUÉS, DEPARTAMENTO DE SUCRE.
B10: No. PROCESO | D10: =+'[1]DATOS DEL PROCESO'!D2 -> MC-LP-010-2024 | E10: FECHA CIERRE | F10: =+'[1]DATOS DEL PROCESO'!D4 -> 45632 | G10: PLAZO | H10: =+'[1]DATOS DEL PROCESO'!D7 -> 6 | I10: VALOR PPTO | J10: =+'[1]DATOS DEL PROCESO'!D5 -> 1501251043 | K10: SMMLV | L10: =+J10/1300000 -> 1154.8085 | M10: ANTICIPO | N10: =+'[1]DATOS DEL PROCESO'!D12 -> 0.5 | O10: AREA | Q10: =+'[1]DATOS DEL PROCESO'!D8 -> 240 | R10: =+Q10*'[1]DATOS DEL PROCESO'!D10 -> 120
F11: =+F10-30 -> 45602
B13: 2. I D E N T I F I C A C I Ó N D E L O F E R E N T E
B15: Oferente: | D15: 45 | F15: =IF($D$15>0,(VLOOKUP($D$15,[1]OFERENTES!$A$8:$W$1027,2,FALSE)),"") -> LAEL CONSTRUCCIONES S.A.S | L15: TIPO PROPONENTE | N15: =IFERROR(VLOOKUP(EXPERIENCIA!$D$15,[1]OFERENTES!$A$8:$AA$1027,26,FALSE),"") -> Proponente Individual
D17: I N T E G R A N T E S | I17: PARTICIPACIÓN | J17: VIGENCIA FIRMEZA RUP | K17: FECHA EXPEDICIÓN RUP | L17: MIPYME | M17: FORMATO 13 | N17: EMPRENDIMIENTO MUJER | O17: FORMATO 3 | Q17: ESTADO MIPYMES | R17: ESTADO EMPRENDIMIENTO Y/O MUJER
A19: =IF(AND($I19>=10%,$N19="CUMPLE"),"V","F") -> V | B19: ÚNICO PROPONENTE / Integrante 1 | C19: =IF(AND($I19>=10%,$J19="CUMPLE",$L19="SE CLASIFICA"),"V","F") -> V | D19: =IFERROR(IF(EXPERIENCIA!$N$15="Proponente Plural",IF(ISBLANK((VLOOKUP(EXPERIENCIA!$D$15,[1]OFERENTES!$A$8:$H$101027,3,FALSE))),"",VLOOKUP(EXPERIENCIA!$D$15,[1]OFERENTES!$A$8:$H$101027,3,FALSE)),VLOOKUP(EXPERIENCIA!$D$15,[1]OFERENTES!$A$8:$H$1027,3,FALSE)),"") -> LAEL CONSTRUCCIONES S.A.S | I19: =IF(EXPERIENCIA!$D$15>0,IF(ISBLANK((VLOOKUP(EXPERIENCIA!$D$15,[1]OFERENTES!$A$8:$AH$1027,4,FALSE))),"",(VLOOKUP(EXPERIENCIA!$D$15,[1]OFERENTES!$A$8:$AH$1027,4,FALSE))),"") -> 1 | J19: CUMPLE | K19: 45624 | L19: SE CLASIFICA | M19: SE ANEXA | N19: =IF(EXPERIENCIA!M19="","",IF(EXPERIENCIA!M19="SE ANEXA","CUMPLE","NO CUMPLE")) -> CUMPLE | O19: CUMPLE | Q19: =IF($J$25="","",IF(COUNTIFS(EXPERIENCIA!$I$19:$I$24,">=0,1",EXPERIENCIA!$J$19:$J$24,"CUMPLE",EXPERIENCIA!$L$19:$L$24,"SE CLASIFICA"),"APLICA","NO CUMPLE")) -> APLICA | R19: =IF($N$19="","",IF(COUNTIFS($I$19:$I$24,">=0,1",$N$19:$N$24,"CUMPLE"),"CUMPLE","NO CUMPLE")) -> CUMPLE
A20: =IF(AND($I20>=10%,$N20="CUMPLE"),"V","F") -> F | B20: Integrante 2 | C20: =IF(AND($I20>=10%,$J20="CUMPLE",$L20="SE CLASIFICA"),"V","F") -> F | D20: =IF(EXPERIENCIA!$N$15="Proponente Plural",IF(ISBLANK((VLOOKUP(EXPERIENCIA!$D$15,[1]OFERENTES!$A$8:$H$1027,5,FALSE))),"",VLOOKUP(EXPERIENCIA!$D$15,[1]OFERENTES!$A$8:$H$1027,5,FALSE)),"") | I20: =IF(EXPERIENCIA!$D$15>0,IF(ISBLANK((VLOOKUP(EXPERIENCIA!$D$15,[1]OFERENTES!$A$8:$AH$1027,6,FALSE))),"",(VLOOKUP(EXPERIENCIA!$D$15,[1]OFERENTES!$A$8:$AH$1027,6,FALSE))),"") | N20: =IF(EXPERIENCIA!M20="","",IF(EXPERIENCIA!M20="SE ANEXA","CUMPLE","NO CUMPLE"))
A21: =IF(AND($I21>=10%,$N21="CUMPLE"),"V","F") -> F | B21: Integrante 3 | C21: =IF(AND($I21>=10%,$J21="CUMPLE",$L21="SE CLASIFICA"),"V","F") -> F | D21: =IF(EXPERIENCIA!$N$15="Proponente Plural",IF(ISBLANK((VLOOKUP(EXPERIENCIA!$D$15,[1]OFERENTES!$A$8:$H$1027,7,FALSE))),"",VLOOKUP(EXPERIENCIA!$D$15,[1]OFERENTES!$A$8:$H$1027,7,FALSE)),"") | I21: =IF(EXPERIENCIA!$D$15>0,IF(ISBLANK((VLOOKUP(EXPERIENCIA!$D$15,[1]OFERENTES!$A$8:$AH$1027,8,FALSE))),"",(VLOOKUP(EXPERIENCIA!$D$15,[1]OFERENTES!$A$8:$AH$1027,8,FALSE))),"") | N21: =IF(EXPERIENCIA!M21="","",IF(EXPERIENCIA!M21="SE ANEXA","CUMPLE","NO CUMPLE"))
A22: =IF(AND($I22>=10%,$N22="CUMPLE"),"V","F") -> F | B22: Integrante 4 | C22: =IF(AND($I22>=10%,$J22="CUMPLE",$L22="SE CLASIFICA"),"V","F") -> F | D22: =IF(EXPERIENCIA!$N$15="Proponente Plural",IF(ISBLANK((VLOOKUP(EXPERIENCIA!$D$15,[1]OFERENTES!$A$8:$AA$1027,9,FALSE))),"",VLOOKUP(EXPERIENCIA!$D$15,[1]OFERENTES!$A$8:$AA$1027,9,FALSE)),"") | I22: =IF(EXPERIENCIA!$D$15>0,IF(ISBLANK((VLOOKUP(EXPERIENCIA!$D$15,[1]OFERENTES!$A$8:$AH$1027,10,FALSE))),"",(VLOOKUP(EXPERIENCIA!$D$15,[1]OFERENTES!$A$8:$AH$1027,10,FALSE))),"") | N22: =IF(EXPERIENCIA!M22="","",IF(EXPERIENCIA!M22="SE ANEXA","CUMPLE","NO CUMPLE"))
A23: =IF(AND($I23>=10%,$N23="CUMPLE"),"V","F") -> F | B23: Integrante 5 | C23: =IF(AND($I23>=10%,$J23="CUMPLE",$L23="SE CLASIFICA"),"V","F") -> F | D23: =IF(EXPERIENCIA!$N$15="Proponente Plural",IF(ISBLANK((VLOOKUP(EXPERIENCIA!$D$15,[1]OFERENTES!$A$8:$AA$1027,11,FALSE))),"",VLOOKUP(EXPERIENCIA!$D$15,[1]OFERENTES!$A$8:$AA$1027,11,FALSE)),"") | I23: =IF(EXPERIENCIA!$N$15="Proponente Plural",IF(ISBLANK((VLOOKUP(EXPERIENCIA!$D$15,[1]OFERENTES!$A$8:$AA$1027,11,FALSE))),"",VLOOKUP(EXPERIENCIA!$D$15,[1]OFERENTES!$A$8:$AA$1027,11,FALSE)),"") | N23: =IF(EXPERIENCIA!M23="","",IF(EXPERIENCIA!M23="SE ANEXA","CUMPLE","NO CUMPLE"))
A24: =IF(AND($I24>=10%,$N24="CUMPLE"),"V","F") -> F | B24: Integrante 6 | C24: =IF(AND($I24>=10%,$J24="CUMPLE",$L24="SE CLASIFICA"),"V","F") -> F | D24: =IF(EXPERIENCIA!$N$15="Proponente Plural",IF(ISBLANK((VLOOKUP(EXPERIENCIA!$D$15,[1]OFERENTES!$A$8:$AA$1027,13,FALSE))),"",VLOOKUP(EXPERIENCIA!$D$15,[1]OFERENTES!$A$8:$AA$1027,13,FALSE)),"") | I24: =IF(EXPERIENCIA!$D$15>0,IF(ISBLANK((VLOOKUP(EXPERIENCIA!$D$15,[1]OFERENTES!$A$8:$AH$1027,14,FALSE))),"",(VLOOKUP(EXPERIENCIA!$D$15,[1]OFERENTES!$A$8:$AH$1027,14,FALSE))),"") | N24: =IF(EXPERIENCIA!M24="","",IF(EXPERIENCIA!M24="SE ANEXA","CUMPLE","NO CUMPLE"))
I25: =IF(I19="","",SUM(I19:I24)) -> 1 | J25: =IF(J19="","",IF(COUNTIF($J$19:$J$24,"NO CUMPLE"),"NO CUMPLE","CUMPLE")) -> CUMPLE | K25: =IF(K19="","",IF(COUNTIF($K$19:$K$24,"<2/11/2024")>=1,"NO CUMPLE","CUMPLE")) -> CUMPLE
E28: =IF(J19="NO",D19,"")
B29: 3. E X P E R I E N C I A R E Q U E R I D A.
B31: Experiencia solicitada: | D31: 10.1.1 CARACTERÍSTICAS DE LOS CONTRATOS PRESENTADOS PARA ACREDITAR LA EXPERIENCIA DEL PROPONENTE
D32: 1.1. PROYECTOS DE CONSTRUCCIÓN Y/O AMPLIACIÓN Y/O RECONSTRUCCIÓN DE INFRAESTRUCTURA CULTURAL. | F32: EXPERIENCIA GENERAL | J32: EXPERIENCIA ESPECIFICA | O32: % DIMENSIONAMIENTO | Q32: CLASIFICACIÓN UNSPSC
F33: CONSTRUCCIÓN Y/O AMPLIACIÓN Y/O RECONSTRUCCIÓN DE EDIFICACIONES. | J33: Por lo menos uno (1) de los contratos válidos aportados como experiencia general deben contemplar un área intervenida o construida igual o superior al (50%) del total de metros cuadrados del proceso de selección, el cual corresponde a 240 m2 | O33: Valor de F% 50% | Q33: 721214 721515 721519 721529
B36: VERIFICACIÓN CUMPLIMIENTO DE EXPERIENCIA REQUERIDA MATRIZ DE EXPERIENCIA
D39: ENTIDAD QUE CERTIFICA EL CONTRATO EJECUTADO | E39: INTEGRANTE que aporta la experiencia | F39: I, C , UT , OTRA | G39: % Participación | H39: Ubicación RUP | I39: Salarios Mínimos registrados en el RUP | J39: FECHA INICIO EJECUCIÓN | K39: FECHA DE TERMINACIÓN EJECUCIÓN | L39: AREA CERTIFICADA CUBIERTA CONTRATO | M39: EXPERIENCIA GENERAL ACTIVIDAD PRINCIPAL | N39: CLASIFICADOR DE BIENES Y SERVICIOS UNSPSC | O39: VERIFICACIÓN CERTIFICACIÓN | Q39: EXPERIENCIA ESPECIFICA ACTIVIDAD PRINCIPAL | R39: SMMLV APORTADOS INDIVIDUAL | S39: SMMLV APORTADOS PROPONENTE
B40: Certificación 1 | D40: UNIVERSIDAD DE SUCRE | E40: LAEL CONSTRUCCIONES S.A.S | F40: C | G40: 0.34 | H40: 8 | I40: 5563.54 | J40: 42885 | K40: 43845 | L40: 1898.4 | M40: Cumple | N40: Cumple | O40: =IF(D40="","",IF(AND($M40="CUMPLE",$N40="CUMPLE",$K40<$F$10),"VALIDA","NO VALIDA")) -> VALIDA | Q40: =IF($D40="","",IF($O40="NO VALIDA","",($L40*SUM($G$40:$G$42)))) -> 645.456 | R40: =IFERROR(ROUND(IF($D40="","",IF(AND($L$65="CUMPLE",$O40="VALIDA"),$I40*$G40,IF(AND($O40="VALIDA",$J40>35804),I40*$G40,""))),0),"") -> 1892 | S40: =IF(SUM(R40:R42)=0,"",SUM(R40:R42)) -> 1892
R41: =IFERROR(ROUND(IF($D40="","",IF(AND($L$65="CUMPLE",$O40="VALIDA"),$I40*$G41,IF(AND($O40="VALIDA",$J40>35804),I40*$G41,""))),0),"") -> 0
R42: =IFERROR(ROUND(IF($D40="","",IF(AND($L$65="CUMPLE",$O40="VALIDA"),$I40*$G42,IF(AND($O40="VALIDA",$J40>35804),I40*$G42,""))),0),"") -> 0
B43: Certificación 2 | O43: =IF(D43="","",IF(AND($M43="CUMPLE",$N43="CUMPLE",$K43<$F$10),"VALIDA","NO VALIDA")) | Q43: =IF($D43="","",IF($O43="NO VALIDA","",($L43*SUM($G$43:$G$45)))) | R43: =IFERROR(ROUND(IF($D43="","",IF(AND($L$65="CUMPLE",$O43="VALIDA"),$I43*$G43,IF(AND($O43="VALIDA",$J43>35804),I43*$G43,""))),0),"") | S43: =IF(SUM(R43:R45)=0,"",SUM(R43:R45))
R44: =IFERROR(ROUND(IF($D43="","",IF(AND($L$65="CUMPLE",$O43="VALIDA"),$I43*$G44,IF(AND($O43="VALIDA",$J43>35804),I43*$G44,""))),0),"")
R45: =IFERROR(ROUND(IF($D43="","",IF(AND($L$65="CUMPLE",$O43="VALIDA"),$I43*$G45,IF(AND($O43="VALIDA",$J43>35804),I43*$G45,""))),0),"")
B46: Certificación 3 | O46: =IF(D46="","",IF(AND($M46="CUMPLE",$N46="CUMPLE",$K46<$F$10),"VALIDA","NO VALIDA")) | Q46: =IF($D46="","",IF($O46="NO VALIDA","",($L46*SUM($G$46:$G$48)))) | R46: =IFERROR(ROUND(IF($D46="","",IF(AND($L$65="CUMPLE",$O46="VALIDA"),$I46*$G46,IF(AND($O46="VALIDA",$J46>35804),I46*$G46,""))),0),"") | S46: =IF(SUM(R46:R48)=0,"",SUM(R46:R48))
R47: =IFERROR(ROUND(IF($D46="","",IF(AND($L$65="CUMPLE",$O46="VALIDA"),$I46*$G47,IF(AND($O46="VALIDA",$J46>35804),I46*$G47,""))),0),"")
R48: =IFERROR(ROUND(IF($D46="","",IF(AND($L$65="CUMPLE",$O46="VALIDA"),$I46*$G48,IF(AND($O46="VALIDA",$J46>35804),I46*$G48,""))),0),"")
B49: Certificación 4 | O49: =IF(D49="","",IF(AND($M49="CUMPLE",$N49="CUMPLE",$K49<$F$10),"VALIDA","NO VALIDA")) | Q49: =IF($D49="","",IF($O49="NO VALIDA","",($L49*SUM($G$49:$G$51)))) | R49: =IFERROR(ROUND(IF($D49="","",IF(AND($L$65="CUMPLE",$O49="VALIDA"),$I49*$G49,IF(AND($O49="VALIDA",$J49>35804),I49*$G49,""))),0),"") | S49: =IF(SUM(R49:R51)=0,"",SUM(R49:R51))
R50: =IFERROR(ROUND(IF($D49="","",IF(AND($L$65="CUMPLE",$O49="VALIDA"),$I49*$G50,IF(AND($O49="VALIDA",$J49>35804),I49*$G50,""))),0),"")
R51: =IFERROR(ROUND(IF($D49="","",IF(AND($L$65="CUMPLE",$O49="VALIDA"),$I49*$G51,IF(AND($O49="VALIDA",$J49>35804),I49*$G51,""))),0),"")
B52: Certificación 5 | O52: =IF(D52="","",IF(AND($M52="CUMPLE",$N52="CUMPLE",$K52<$F$10),"VALIDA","NO VALIDA")) | Q52: =IF($D52="","",IF($O52="NO VALIDA","",($L52*SUM($G$52:$G$54)))) | R52: =IFERROR(ROUND(IF($D52="","",IF(AND($L$65="CUMPLE",$O52="VALIDA"),$I52*$G52,IF(AND($O52="VALIDA",$J52>35804),I52*$G52,""))),0),"") | S52: =IF(SUM(R52:R54)=0,"",SUM(R52:R54))
R53: =IFERROR(ROUND(IF($D52="","",IF(AND($L$65="CUMPLE",$O52="VALIDA"),$I52*$G53,IF(AND($O52="VALIDA",$J52>35804),I52*$G53,""))),0),"")
R54: =IFERROR(ROUND(IF($D52="","",IF(AND($L$65="CUMPLE",$O52="VALIDA"),$I52*$G54,IF(AND($O52="VALIDA",$J52>35804),I52*$G54,""))),0),"")
B55: Certificación 6 | O55: =IF(D55="","",IF(AND($M55="CUMPLE",$N55="CUMPLE",$K55<$F$10),"VALIDA","NO VALIDA")) | Q55: =IF($D55="","",IF($O55="NO VALIDA","",($L55*SUM($G$55:$G$57)))) | R55: =IFERROR(ROUND(IF($D55="","",IF(AND($L$65="CUMPLE",$O55="VALIDA"),$I55*$G55,IF(AND($O55="VALIDA",$J55>35804),I55*$G55,""))),0),"") | S55: =IF(SUM(R55:R57)=0,"",SUM(R55:R57))
R56: =IFERROR(ROUND(IF($D55="","",IF(AND($L$65="CUMPLE",$O55="VALIDA"),$I55*$G56,IF(AND($O55="VALIDA",$J55>35804),I55*$G56,""))),0),"")
...

Sheet PONDERACIÓN
B1: EVALUACIÓN CRITERIOS PONDERABLES | G1: =+[1]OFERENTES!C2 -> MC-LP-010-2024 | K1: 1 | L1: Lebrija
J2: No | K2: 2 | L2: San Jacinto
A3: CONSECUTIVO: | B3: =+EXPERIENCIA!D15 -> 45 | C3: NOMBRE PROPONENTE | D3: =IF($B$3>0,(VLOOKUP($B$3,[1]OFERENTES!$A$8:$W$1027,2,FALSE)),"") -> LAEL CONSTRUCCIONES S.A.S | F3: TIPO PROPONENTE | G3: =IFERROR(VLOOKUP($B$3,[1]OFERENTES!$A$8:$AA$1027,26,FALSE),"") -> Proponente Individual
F5: ESTADO FINAL PROPONENTE | G5: =IFERROR(VLOOKUP($B$3,[1]OFERENTES!$A$8:$S$31,19,FALSE),"")
A7: FORMATO 7 - FACTOR DE CALIDAD
A8: Requisitos de Verificación | F8: Verificación Cumplimiento (SI/NO) | G8: PUNTAJE | H8: PUNTAJE OBTENIDO
A9: ¿El Proponente presenta EL ANEXO 7A – Programa de gerencia de proyectos,? | F9: SI | G9: 10 | H9: =IF(AND($F$9="SI",$F$10="NO")=TRUE,G9,IF(AND($F$9="si",$F$10="si"),$G$9-$G$10,0)) -> 10
A10: El Proponente o uno de sus integrantes cuentan con alguna anotación vigente que repose en el registro nacional de obras civiles inconclusas (https://obrasinconclusas.contraloria.gov.co/) - (Ley 2020 de 2020) | E10: https://obrasinconclusas.contraloria.gov.co/ | F10: NO | G10: 1 | J10: https://obrasinconclusas.contraloria.gov.co/
A12: Observaciones: | B12: Relacionadas con el ANEXO 7A | C12: =IF($F$9="NO",[1]RESPUESTAS!$D$19,[1]RESPUESTAS!$C$19) -> SIN OBSERVACIONES
B13: Relacionadas con el Registro Nacional de Obras Civiles Inconclusas | C13: =IF($F$10="SI",[1]RESPUESTAS!$E$19,[1]RESPUESTAS!$C$19) -> SIN OBSERVACIONES
B14: CONDICIONES DEL PLIEGO | C14: =+[1]RESPUESTAS!H19 -> 4.2. FACTOR DE CALIDAD La Entidad asignará el puntaje de factor de calidad como sigue: (i) implementación del programa de gerencia de proyectos; 10 puntos Las Entidades Estatales deben consultar y analizar las anotaciones vigentes que reposen en el Registro Nacional de Obras Civiles Inconclusas, de que trata la Ley 2020 de 2020. En el evento que las personas naturales o jurídicas, nacionales o extranjeras domiciliadas o con Sucursal en Colombia, o integrantes de Proponentes Plurales, cuenten con alguna anotación vigente de obra civil inconclusa, en el mencionado registro, SE DESCONTARÁ UN (1) punto de la sumatoria obtenida en relación con el factor de calidad. 4.2.1. IMPLEMENTACIÓN DEL PROGRAMA DE GERENCIA DE PROYECTOS La Entidad asignará 10 al Proponente que se comprometa a instaurar un programa de gerencia de proyectos mediante la suscripción del FORMATO 7A – Programa de gerencia de proyectos, en el cual bajo la gravedad de juramento conste el compromiso que en este sentido asume.
A16: FORMATO 12 - FACTOR DE SOSTENIBILIDAD TÉCNICO AMBIENTAL AGREGADO
A17: Requisitos de Verificación | F17: Verificación Cumplimiento (SI/NO) | G17: PUNTAJE | H17: PUNTAJE OBTENIDO
A18: ¿El Proponente presenta el Formato 12 - Factor de Sostenibilidad firmado por el proponente o su Representan Legal comprometiéndose a: una (1) estación de ciclo-parqueaderos empleando materiales reciclados, el cual puede ser de forma horizontal o vertical, según la disponibilidad de espacio que cuente el predio en el cual serán adelantado el proyecto de infraestructura social | F18: SI | G18: 9 | H18: =IF(F18="SI",9,0) -> 9
A19: Observaciones: | B19: Relacionadas con el FORMATO 12 | C19: =IF($F$18="NO",[1]RESPUESTAS!$D$20,[1]RESPUESTAS!$C$20) -> SIN OBSERVACIONES
B20: CONDICIONES DEL PLIEGO | C20: =+[1]RESPUESTAS!H20 -> 4.3. FACTORES DE SOSTENIBILIDAD TÉCNICO AMBIENTAL AGREGADO La Entidad asignará un puntaje de nueve (9) puntos al proponente que se comprometa a ofrecer alguno de los elementos que conforman el factor de sostenibilidad técnico ambiental agregado, mediante la suscripción del Formato 12, en el cual bajo la gravedad de juramento conste el compromiso que asume y el ofrecimiento realizado. Los ofrecimientos efectuados serán opcionales para los Proponentes que producto del análisis hecho se encuentren en la capacidad de materializarlos y cumplirlos, por lo que los Proponentes que no presenten el Formato 12 no serán acreedores de puntaje por este factor.
A22: Formato 9 - Puntaje apoyo a la industria nacional
A23: PROMOCIÓN DE SERVICIOS NACIONALES O CON TRATO NACIONAL | F23: Verificación Cumplimiento (SI/NO) | G23: PUNTAJE | H23: PUNTAJE OBTENIDO
A24: Formato 9 A – Promoción de Servicios Nacionales o con Trato Nacional | F24: SI | G24: 20 | H24: =IF($F$42="SI",$G$42,IF(AND($F$28="SI",$F$24="SI",COUNTIF($F$25:$F$27,"SI")>=1,$F$29="SI"),$F$30,IF(AND($F$28="NO",$F$24="SI",COUNTIF($F$25:$F$27,"SI")>=1),20,0))) -> 20
A25: A. Persona natural colombiana: La cédula de ciudadanía del Proponente.
A26: B. Persona natural extranjera residente en Colombia: La visa de residencia que le permita la ejecución del objeto contractual de conformidad con la ley.
A27: C. Persona jurídica constituida en Colombia: El certificado de existencia y representación legal emitido por alguna de las cámaras de comercio del país. | F27: SI
A28: AL PROCESO LE APLICA EL USO DE BIENES RELEANTES? | F28: SI
A29: El Proponentes que se comprometan a adquirir uno, varios o todos los bienes nacionales relevantes para el cumplimiento del contrato? | F29: SI
A30: Total bienes Relevantes | B30: =COUNTA(B34:D41) -> 3 | C30: Total bienes relevantes comprometidos a adquirir | D30: =COUNTIF($F$34:$F$41,"SI") -> 3 | E30: PUNTAJE PROPORCIONAL POR BIENES RELEVANTES | F30: =(IF(F34="SI",E34,0))+(IF(F35="SI",E35,0))+(IF(F36="SI",E36,0))+(IF(F37="SI",E37,0)) -> 20
A31: RELACION DE BIENES RELEVANTES
A33: N° | B33: Bien nacional relevante | E33: Puntaje individual de cada bien | F33: Compromiso Bien relevante
A34: 1. | B34: Malla Electrosoldada | E34: 8.47 | F34: SI
A35: 2. | B35: Acero De Refuerzo 60000 PSI | E35: 8.47 | F35: SI
A36: 3 | B36: Placa de contrapiso en concreto reforzado (Cemento Portland Gris) | E36: 3.06 | F36: SI
A42: INCORPORACIÓN DE COMPONENTE NACIONAL EN SERVICIOS EXTRANJEROS Formato 9B – Incorporación de Componente Nacional en Servicios Extranjeros El proponente manifiesta bajo la gravedad de juramento que incorporará en la ejecución del contrato más del noventa por ciento (90%) de personal técnico, operativo y profesional de origen Colombiano | F42: NO | G42: 5
A43: Observaciones: | B43: Relacionadas con los anexos 9A Y 9B | C43: =IF(AND($F$24="",$F$42=""),"",IF(AND($F$24="NO",$F$42="NO"),[1]RESPUESTAS!$E$21,IF($F$24="NO",[1]RESPUESTAS!$D$21,IF(AND($F$24="SI",COUNTIF($F$25:$F$27,"SI")=0),[1]RESPUESTAS!$G$21,IF($F$42="NO",[1]RESPUESTAS!$F$21,[1]RESPUESTAS!$C$21))))) -> El Proponente NO ANEXO el FORMATO 9B – INCORPORACIÓN DE COMPONENTE NACIONAL EN SERVICIOS EXTRANJEROS , por lo cual no se realizará la asignación del puntaje establecido (5 puntos.)
B44: Relacionadas con los BIENES RELEVANTES | C44: =IF(F28="NO",[1]RESPUESTAS!E22,[1]RESPUESTAS!D22) -> SIN OBSERVACIONES
B45: CONDICIONES PLIEGO | C45: =[1]RESPUESTAS!H21 -> 4.4.1.1. ACREDITACIÓN DEL PUNTAJE POR SERVICIOS NACIONALES O CON TRATO NACIONAL (...)Para que el Proponente nacional obtenga puntaje por Servicios Nacionales debe presentar, además del Formato 9 A – Promoción de Servicios Nacionales o con Trato Nacional, alguno de los siguientes documentos, según corresponda: A. Persona natural colombiana: La cédula de ciudadanía del Proponente. B. Persona natural extranjera residente en Colombia: La visa de residencia que le permita la ejecución del objeto contractual de conformidad con la ley. C. Persona jurídica constituida en Colombia: El certificado de existencia y representación legal emitido por alguna de las cámaras de comercio del país. El Proponente nacional podrá subsanar la falta de presentación de la cédula de ciudadanía o del certificado de existencia y representación legal para acreditar el requisito habilitante de capacidad jurídica. No obstante, no podrá subsanar esta circunstancia para la asignación del puntaje por Promoción de Servicios Nacionales o con Trato Nacional.(...) 4.4.2. INCORPORACIÓN DE COMPONENTE NACIONAL EN SERVICIOS EXTRANJEROS (...) Para recibir el puntaje por incorporación de componente colombiano, el representante legal o el apoderado del Proponente deberá diligenciar el Formato 9B – Incorporación de Componente Nacional en Servicios Extranjeros el cual manifieste bajo la gravedad de juramento que incorporará en la ejecución del contrato más del noventa por ciento (90%) de personal técnico, operativo y profesional de origen colombiano, en caso de resultar adjudicatario del Proceso de Contratación. La Entidad Estatal únicamente otorgará el puntaje por promoción de la incorporación de componente nacional cuando el Proponente que presente el Formato 9B – Incorporación de Componente Nacional en Servicios Extranjeros no haya recibido puntaje alguno por promoción de Servicios Nacionales o con Trato Nacional.(...)
A47: Formato 8 . Incentivo en favor de personas con discapacidad.
A48: Requisitos de Verificación | F48: Verificación Cumplimiento (SI/NO) | G48: PUNTAJE | H48: PUNTAJE OBTENIDO
A49: FORMATO 8 VINCULACIÓN DE PERSONAS CON DISCAPACIDAD SUSCRITO POR LA PERSONA NATURAL, EL REPRESENTANTE LEGAL O EL REVISOR FISCAL | F49: SI | G49: 1 | H49: =IF(COUNTIF($F$49:$F$53,"SI")=2,G49,0) -> 1
A50: En caso de oferentes plurales el integrante que aporta el personal con discapacidad, aporta mas del 40% de la experiencia expresada en SMLV (En caso de oferente individual indicar únicamente si) | F50: PORCENTAJE DE SMMLV ACREDITADOS
A51: SELECCIONE EL INTEGRANTE QUE APORTA LA CONDICION DE DISCAPACITADOS | D51: LAEL CONSTRUCCIONES S.A.S | F51: =IFERROR(VLOOKUP($D$51,EXPERIENCIA!$D$80:$J$85,6,FALSE),0) -> 2.18
A52: Acreditación Numero minimo de personas en condición de discapacidad de conformidad certificación de Ministerio de Trabajo | B52: Número total de trabajadores vinculados a la planta de personal | C52: Número total reportado de personas con discapacidad en la planta de personal | D52: Certificado Ministerio de Trabajo VIGENTE | E52: Número mínimo de trabajadores con discapacidad exigido DECRETO 1082 de 2015 | F52: =IF(AND(D53="SI",C53>=E53),"SI","NO") -> SI
...

Sheet KRESIDUAL
D2: EVALUACIÓN CAPACIDAD RESIDUAL DE CONTRATACIÓN
B5: 1. IDENTIFICACIÓN DEL OFERENTE
C7: Oferente: | D7: =+PONDERACIÓN!B3 -> 45 | E7: NOMBRE PROPONENTE: | F7: =IF($D$7>0,(VLOOKUP($D$7,[1]OFERENTES!$A$8:$W$1027,2,FALSE)),"") -> LAEL CONSTRUCCIONES S.A.S | L7: TIPO PROPONENTE: | N7: =IFERROR(VLOOKUP($D$7,[1]OFERENTES!$A$8:$AA$1027,26,FALSE),"") -> Proponente Individual
B10: 2. CAPACIDAD RESIDUAL
J11: CPR | K11: CRPC | L11: ESTADO FINANCIEROS DICTAMINADOS | M11: ESTADO CAPACIDAD RESIDUAL
C12: El Proponente será hábil si su capacidad residual es mayor o igual a la capacidad residual de Proceso de Contratación (CRPC). Así: CPR >= CRPC: | J12: 7.5267919e+08 | K12: =+N17 -> 7.5062552e+08 | L12: SI | M12: =IF(J12="","",IF(J12>=K12,"HABILITADO","NO HABILITADO")) -> HABILITADO
B15: 3. CÁLCULO DE LA CAPACIDAD RESIDUAL DEL PROCESO DE CONTRATACIÓN (CRPC)
C17: MESES CONTRATO | D17: ANTICIPO O PAGO ANTICIPADO | E17: POE | F17: CÁLCULO DE LA CAPACIDAD RESIDUAL DEL PROCESO DE CONTRATACIÓN (CRPC) | G17: OPCION 1 | H17: <= a 12 meses | J17: 𝐶𝑅𝑃𝐶=𝑃𝑂𝐸−𝐴𝑛𝑡𝑖𝑐𝑖𝑝𝑜 𝑦/𝑜 𝑝𝑎𝑔𝑜 𝑎𝑛𝑡𝑖𝑐𝑖𝑝𝑎𝑑𝑜 | L17: =CONCATENATE("CRPC"," ",'[1]DATOS DEL PROCESO'!D2) -> CRPC MC-LP-010-2024 | M17: EN PESOS COLOMBIANOS | N17: =IF($C$18>="12",($E$18-($E$18*$D$18)/$C$18)*12,($E$18-($E$18*$D$18))) -> 7.5062552e+08
C18: =+EXPERIENCIA!H10 -> 6 | D18: =+EXPERIENCIA!N10 -> 0.5 | E18: =+EXPERIENCIA!J10 -> 1501251043 | G18: OPCION 2 | H18: >= a 12 meses | J18: POE−Anticipo y/o pago anticipado CRPC = ------------------------------------------------------------- * 12 Plazo estimado (meses) | M18: EN SMMLV | N18: =ROUND((N17/1300000),2) -> 577.4
C20: OBSERVACIÓN: | D20: SIN OBSERVACIONES.
B24: 4. CÁLCULO DE LA CAPACIDAD RESIDUAL DEL PROPONENTE (CRP) | H24: REVISIÓN COLOMBIA COMPRA EFICIENTE
C26: CÁLCULO DE LA CAPACIDAD RESIDUAL DEL PROPONENTE (CRP) | F26: PUNTAJE MAXIMO
C27: CO | D27: Capacidad de Organización | F27: N/A
C28: E | D28: Experiencia | F28: 120
C29: CT | D29: Capacidad Técnica | F29: 40
C30: CF | D30: Capacidad Financiera | F30: 40
C31: SCE | D31: Saldos de Contratos en Ejecución | F31: N/A
C41: EXPERIENCIA (E) | E41: 120
C43: El factor (E) del Proponente para propósitos de la capacidad residual es acreditado por medio de la relación entre: i) el valor total en Pesos de los contratos relacionados con la actividad de la construcción inscritos por el Proponente en el RUP, o Formato 5 – Capacidad residual en el segmento 72 “Servicios de Edificación, Construcción de Instalaciones y Mantenimiento” del Clasificador de Bienes y Servicios; y ii) el Presupuesto Oficial del Proceso de Contratación.
C44: El puntaje al factor (E) será asignado con base en la siguiente tabla:
C46: MAYOR A | D46: MENOR IGUAL A | E46: PUNTAJE | J46: PROPONENTE O INTEGRANTE DEL PROPONENTE PLURAL | N46: PORCENTAJE PARTICIPACIÓN
C47: 0 | D47: 3 | E47: 60 | J47: 1 | K47: {=UNICO_PROPONENTE_INTEGRANTE_1} | N47: {=PORCENTAJE_INTEGRANTE1} -> #N/A
C48: 3 | D48: 6 | E48: 80 | J48: 2 | K48: {=INTEGRANTE_2} | N48: {=PORCENTAJE_INTEGRANTE2} -> #N/A
C49: 6 | D49: 10 | E49: 100 | J49: 3 | K49: {=INTEGRANTE_3} | N49: {=PORCENTAJE_INTEGRANTE3} -> #N/A
C50: 10 | D50: En adelante | E50: 120 | J50: 4 | K50: {=INTEGRANTE_4} | N50: {=PORCENTAJE_INTEGRANTE4} -> #N/A
J51: 5 | K51: {=INTEGRANTE_5} | N51: {=PORCENTAJE_INTEGRANTE5} -> #N/A
J52: 6 | K52: {=INTEGRANTE_6} | N52: {=PORCENTAJE_INTEGRANTE6} -> #N/A
C55: PROPONENTE INDIVIDUAL | J55: PROPONENTE PLURAL
C56: Valor total de los contratos (COP) E = ---------------------------------------------------------------- Presupuesto total estimado (COP) | J56: FORMULA PARA CADA UNO DE LOS INTEGRANTES DEL PROPONENTE PLURAL: Valor total de los contratos (COP) E = ---------------------------------------------------------------- Presupuesto total estimado (COP) * % Participación
C59: VALOR TOTAL CONTRATOS -FORMATO 5 | D59: POE | E59: EXPERIENCIA | F59: TOTAL PUNTAJE | J59: VALOR TOTAL CONTRATOS -FORMATO 5 | K59: POE * % PARTICIPACIÓN | L59: EXPERIENCIA | M59: TOTAL VECES DEL POE | N59: TOTAL PUNTAJE
C60: 2000000 | D60: =IF($N$7="Único Proponente",$E$18,"") | E60: =IF($N$7="Único Proponente",$C$60/$D$60,"") | F60: =IF($N$7="Único Proponente",IF($E$60>11,$E$50,IF($E$60>$C$49,$E$49,IF($E$60>$C$48,$E$48,IF($E$60>$C$47,E47,"")))),"") | I60: 1 | J60: 2500000000 | K60: =IFERROR(IF($N$7="Proponente Plural",$E$18*$N47,""),"") | L60: =IFERROR((J60/K60),"") | M60: =IF(SUM($L$60:$L$65)=0,"",SUM($L$60:$L$65)) | N60: =IF($N$7="Proponente Plural",IF($M$60>11,$E$50,IF($M$60>$C$49,$E$49,IF($M$60>$C$48,$E$48,IF($M$60>$C$47,E47,"")))),"")
I61: 2 | J61: 700000000 | K61: =IFERROR(IF($N$7="Proponente Plural",$E$18*$N48,""),"") | L61: =IFERROR((J61/K61),"")
I62: 3 | K62: =IFERROR(IF($N$7="Proponente Plural",$E$18*$N49,""),"") | L62: =IFERROR((J62/K62),"")
I63: 4 | K63: =IFERROR(IF($N$7="Proponente Plural",$E$18*$N50,""),"") | L63: =IFERROR((J63/K63),"")
I64: 5 | K64: =IFERROR(IF($N$7="Proponente Plural",$E$18*$N51,""),"") | L64: =IFERROR((J64/K64),"")
I65: 6 | K65: =IFERROR(IF($N$7="Proponente Plural",$E$18*$N52,""),"") | L65: =IFERROR((J65/K65),"")
C67: CAPACIDAD FINANCIERA (CF) | E67: 40
C69: El factor (CF) para propósitos de la capacidad residual se obtiene teniendo en cuenta el índice de liquidez del Proponente con base en la siguiente fórmula: | F69: Activo Corriente Índice de liquidez = ------------------------------------------- Pasivo Corriente
C71: El puntaje para la liquidez se debe asignar con base en la siguiente tabla:
J72: INTEGRANTES PROPONENTE PLURAL | L72: ACTIVO CORRIENTE | M72: PASIVO CORRIENTE
...
