Workbook
Name \0: #REF!
Name \00: #REF!
Name \a: #REF!
Name \AA: [1]LIQUIDACION!#REF!
Name \b: [2]STRSUMM0!#REF!
Name \bb: [2]STRSUMM0!#REF!
Name \E: #REF!
Name \EE: #REF!
Name \eliminar: [3]RESUM96!#REF!
Name \eliminar1: [3]RESUM96!#REF!
Name \G: #REF!
Name \k: '[4]7422CW00'!#REF!
Name \l: [5]STRSUMM0!#REF!
Name \M: #REF!
Name \ñ: '[6]7422CW00'!#REF!
Name \P: #REF!
Name \q: #REF!
Name \R: #REF!
Name \s: #REF!
Name \V: #REF!
Name \X: [0]!ERR
Name \Z: [0]!ERR
Name _________AFC1: [7]INV!$A$25:$D$28
Name _________AFC3: [7]INV!$F$25:$I$28
Name _________AFC5: [7]INV!$K$25:$N$28
Name _________BGC1: [7]INV!$A$5:$D$8
Name _________BGC3: [7]INV!$F$5:$I$8
Name _________BGC5: [7]INV!$K$5:$N$8
Name _________CAC1: [7]INV!$A$19:$D$22
Name _________CAC3: [7]INV!$F$19:$I$22
Name _________CAC5: [7]INV!$K$19:$N$22
Name _________PJ50: #REF!
Name _________SBC1: [7]INV!$A$12:$D$15
Name _________SBC3: [7]INV!$F$12:$I$15
Name _________SBC5: [7]INV!$K$12:$N$15
Name ________AFC1: [7]INV!$A$25:$D$28
Name ________AFC3: [7]INV!$F$25:$I$28
Name ________AFC5: [7]INV!$K$25:$N$28
Name ________BGC1: [7]INV!$A$5:$D$8
Name ________BGC3: [7]INV!$F$5:$I$8
Name ________BGC5: [7]INV!$K$5:$N$8
Name ________CAC1: [7]INV!$A$19:$D$22
Name ________CAC3: [7]INV!$F$19:$I$22
Name ________CAC5: [7]INV!$K$19:$N$22
Name ________MA2: #REF!
Name ________PJ50: #REF!
Name ________SBC1: [7]INV!$A$12:$D$15
Name ________SBC3: [7]INV!$F$12:$I$15
Name ________SBC5: [7]INV!$K$12:$N$15
Name _______AFC1: [7]INV!$A$25:$D$28
Name _______AFC3: [7]INV!$F$25:$I$28
Name _______AFC5: [7]INV!$K$25:$N$28
Name _______BGC1: [7]INV!$A$5:$D$8
Name _______BGC3: [7]INV!$F$5:$I$8
Name _______BGC5: [7]INV!$K$5:$N$8
Name _______CAC1: [7]INV!$A$19:$D$22
Name _______CAC3: [7]INV!$F$19:$I$22
Name _______CAC5: [7]INV!$K$19:$N$22
Name _______MA2: #REF!
Name _______PJ50: #REF!

Sheet LISTA DE OFERENTES
A1: ALCALDIA LOCAL DE SAN CRISTOBAL
A2: FDLC-SAMC-004-2024
A3: No. | B3: NOMBRE | C3: REPRESENTANTE LEGAL | D3: TIPO DE OFERENTE | E3: CONSORCIADO 1 | F3: CONSORCIADO 2
A4: 1 | B4: TEEN GROUP SAS | C4: CLAUDIA MARCELA CHAPARRO | D4: EMPRESA
A5: 2 | B5: CARLOS ALBERTO PINZON MOLINA | C5: CARLOS ALBERTO PINZON MOLINA | D5: PERSONA NATURAL

Sheet EVALUACION TÉC
A1: ='LISTA DE OFERENTES'!A1 -> ALCALDIA LOCAL DE SAN CRISTOBAL
A2: ='LISTA DE OFERENTES'!A2 -> FDLC-SAMC-004-2024
A3: REQUISITOS HABILITANTES TÉCNICOS | P3: CUMPLE
P4: NO CUMPLE
A8: 1 | E8: =VLOOKUP(A8,'LISTA DE OFERENTES'!$A$4:$B$11,2,FALSE) -> TEEN GROUP SAS
A9: NÚMERO DE CONTRATOS PRESENTADOS | B9: 3 | C9: PRESUPUESTO OFICIAL EN SMMLV | D9: =+$E$35 -> 427.0614
A10: VALOR MÍNIMO A CERTIFICAR | C10: 1 | D10: =+D9*C10 -> 427.0614
A11: TERMINO DE EJECUCION EXIGIDO | C11: 45610
A12: TOTAL SALARIOS MINIMOS ACREDITADOS | C12: CUMPLE
A13: CONDICIONES DE EXPERIENCIA | J13: CUMPLIMIENTO UNSPSC | K13: CONCLUSIÓN EXPERIENCIA GENERAL | L13: 2 contratos adicionales a la experiencia general | M13: CONCLUSIÓN EXPERIENCIA ESPECIFICA | N13: Observación y respuesta a observaciones
A14: Objeto del Contrato | B14: Entidad Contratante | D14: Valor Contrato | E14: Año de ejecución aportado | F14: Valor del Contrato en SMMLV | G14: Participación UT/CONSORCIO | H14: Participación en SMMLV | I14: Término de ejecución aportado | J14: CODIGO UNSPSC SEGMENTOS
A15: ='LISTA DE OFERENTES'!B4 -> TEEN GROUP SAS
A16: contratar la prestacion de los servicios para el juzgamiento, logistica, organización y realizacion de las actividades, certamentes y eventos apoyados y/o ejecutados por el IDRD | B16: IDRD | D16: 600752136 | E16: 2023 | F16: =D16/(VLOOKUP(E16,$D$55:$E$88,2,FALSE)) -> 517.88977 | G16: 1 | H16: =G16*F16 -> 517.88977 | I16: 43003 | J16: CUMPLE | K16: CUMPLE | L16: NO CUMPLE | M16: NO CUMPLE | N16: Se hace necesario allegar mas contratos para relacionar la experiencia especifica determinada en el pliego de condiciones
A17: TOTALES | H17: =SUM(H16:H16) -> 517.88977 | I17: EXPERIENCIA DEL PROPONENTE | N17: NO CUMPLE
A19: =A8+1 -> 2 | E19: =VLOOKUP(A19,'LISTA DE OFERENTES'!$A$4:$B$11,2,FALSE) -> CARLOS ALBERTO PINZON MOLINA
A20: NÚMERO DE CONTRATOS PRESENTADOS | B20: 2 | C20: PRESUPUESTO OFICIAL EN SMMLV | D20: =+$E$35 -> 427.0614
A21: VALOR MÍNIMO A CERTIFICAR | C21: 1 | D21: =+D20*C21 -> 427.0614
A22: TERMINO DE EJECUCION EXIGIDO | C22: 45610
A23: TOTAL SALARIOS MINIMOS ACREDITADOS | C23: NO CUMPLE
A24: CONDICIONES DE EXPERIENCIA | J24: CUMPLIMIENTO UNSPSC | K24: CONCLUSIÓN EXPERIENCIA GENERAL | L24: 2 contratos adicionales a la experiencia general | M24: CONCLUSIÓN EXPERIENCIA ESPECIFICA | N24: Observación y respuesta a observaciones
A25: Objeto del Contrato | B25: Entidad Contratante | D25: Valor Contrato | E25: Año de ejecución aportado | F25: Valor del Contrato en SMMLV | G25: Participación UT/CONSORCIO | H25: Participación en SMMLV | I25: Término de ejecución aportado | J25: CODIGO UNSPSC SEGMENTOS
A26: =+'LISTA DE OFERENTES'!E5 -> 0
A27: EJECUTAR LAS ACCIONES NECESARIAS PARA PROMOVER ESTILOS DE VIDA SALUDABLES, EL AUMENTO Y APROVECHAMIENTO DE LAS PRÁCTICAS DEPORTIVAS Y RECREATIVAS, EL USO DE ESPACIOS Y LOS PROCESOS DE INTEGRACIÓN SOCIAL Y COMUNITARIA DE LOS ADULTOS MAYORES DE LA LOCALIDAD DE ENGATIVA | B27: ALCALDIA LOCAL DE ENGATIVA | D27: 4950000000 | E27: 2017 | F27: =D27/(VLOOKUP(E27,$D$61:$E$88,2,FALSE)) -> 6709.8901 | G27: 0.5 | H27: =G27*F27 -> 3354.9451 | I27: 2017 | J27: CUMPLE | K27: CUMPLE | L27: CUMPLE | M27: CUMPLE
A28: EJECUTAR ACCIONES QUE CONTRIBUYAN A LA DISMINUCION DE LA IMPUNIDAD FRENTE A LOS DELITOS COMETIDOS CONTRA MUJERES, NIÑAS Y ADOLESCENTES DE LA LOCALIDAD DE ENGATIVA , A TRAVES DE LA IMPLEMENTACION DEL PROGRAMA DE JUSTICIA DE GENERO PARA LA VIGENCIA 2011 | B28: ALCALDIA LOCAL DE ENGATIVA | D28: 97060107 | E28: 2012 | F28: =D28/(VLOOKUP(E28,$D$61:$E$88,2,FALSE)) -> 171.27247 | G28: 0.5 | H28: =G28*F28 -> 85.636233 | I28: 2012 | J28: CUMPLE | K28: CUMPLE | M28: CUMPLE
A29: PRESTACIÓN DE SERVICIOS PARA REALIZAR LOS PROCESOS DE PROMOCIÓN DEL BUEN TRATO DONDE SE INTEGREN ACCIONES DE PREVENCIÓN, ORIENTACIÓN Y ASESORÍA INDIVIDUAL Y FAMILIAR A VÍCTIMAS DE VIOLENCIA INTRAFAMILIAR Y SEXUAL DIRIGIDA A LOS HABITANTES DE LA LOCALIDAD DE ENGATIVÁ. | B29: ALCALDIA LOCAL DE ENGATIVA | D29: 435296000 | E29: 2015 | F29: =D29/(VLOOKUP(E29,$D$61:$E$88,2,FALSE)) -> 675.55831 | G29: 1 | H29: =G29*F29 -> 675.55831 | I29: 2015 | J29: CUMPLE | K29: NO CUMPLE | M29: NO CUMPLE | N29: NO CUMPLE DEBIDO A QUE DEBE PRESENTAR ALGUNO DE LOS DOCUMENTOS ESTIMADOS DENTRO DEL PLIEGO DE CONDICIONES PARA ACREDITAR LA EXPERIENCIA.
A30: TOTALES | H30: =+SUM(H27:H29) -> 4116.1396 | I30: EXPERIENCIA DEL PROPONENTE | N30: NO CUMPLE
A34: VALOR TOTAL PROYECTO | C34: 1 | D34: SMMLV | E34: PRESUPUESTO OFICIAL
A35: VALOR: | B35: 555179822 | C35: =+B35 -> 555179822 | D35: =+$C$35/$E$88 -> 427.0614 | E35: =$B$35/$E$88 -> 427.0614
J41: 7
J42: 2
J43: 3
J44: 4
J45: 5
J46: 6
J47: 7
J48: 8
J49: 9
D54: Año | E54: Salario mínimo mensual
D55: 1991 | E55: 51720
D56: 1992 | E56: 65190
...

Sheet PROFESIONALES
A1: ='LISTA DE OFERENTES'!A1 -> ALCALDIA LOCAL DE SAN CRISTOBAL
A2: ='LISTA DE OFERENTES'!A2 -> FDLC-SAMC-004-2024
A3: Verificación recurso humano
A5: 1 | B5: COORDINADOR DELN PROYECTO | H5: APOYO A LA COORDINACION DEL PROYECTO | N5: =VLOOKUP(A5,'LISTA DE OFERENTES'!$A$4:$B$11,2,FALSE) -> TEEN GROUP SAS
B8: NO APORTA | H8: NO APORTA
A28: 2 | B28: COORDINADOR DELN PROYECTO | H28: APOYO A LA COORDINACION DEL PROYECTO | N28: =VLOOKUP(A28,'LISTA DE OFERENTES'!$A$4:$B$11,2,FALSE) -> CARLOS ALBERTO PINZON MOLINA
B31: CUMPLE | H31: CUMPLE
