Workbook
Name \a: #REF!
Name \L: #REF!
Name \P: #REF!
Name \s: #REF!
Name \X: [0]!err
Name \Z: [0]!err
Name _________________________________________________i1: #REF!
Name ________________________________________________i1: #REF!
Name _______________________________________________i1: #REF!
Name ______________________________________________i1: #REF!
Name _____________________________________________i1: #REF!
Name ____________________________________________i1: #REF!
Name ___________________________________________i1: #REF!
Name __________________________________________i1: #REF!
Name _________________________________________i1: #REF!
Name ________________________________________i1: #REF!
Name _______________________________________i1: #REF!
Name ______________________________________i1: #REF!
Name _____________________________________i1: #REF!
Name ____________________________________i1: #REF!
Name ___________________________________i1: #REF!
Name __________________________________i1: #REF!
Name _________________________________i1: #REF!
Name ________________________________i1: #REF!
Name _______________________________i1: #REF!
Name ______________________________i1: #REF!
Name _____________________________i1: #REF!
Name ____________________________i1: #REF!
Name ___________________________i1: #REF!
Name __________________________i1: #REF!
Name _________________________i1: #REF!
Name ________________________i1: #REF!
Name _______________________i1: #REF!
Name ______________________i1: #REF!
Name _____________________i1: #REF!
Name ____________________i1: #REF!
Name ___________________i1: #REF!
Name __________________A1: IF([0]!Values_Entered,[0]!Header_Row+[0]!Number_of_Payments,[0]!Header_Row)
Name __________________A17000: #REF!
Name __________________A20000: #REF!
Name __________________A30000: #REF!
Name __________________AFC1: [1]INV!$A$25:$D$28
Name __________________AFC3: [1]INV!$F$25:$I$28
Name __________________AFC5: [1]INV!$K$25:$N$28
Name __________________BGC1: [1]INV!$A$5:$D$8
Name __________________BGC3: [1]INV!$F$5:$I$8
Name __________________BGC5: [1]INV!$K$5:$N$8
Name __________________CAC1: [1]INV!$A$19:$D$22
Name __________________CAC3: [1]INV!$F$19:$I$22
Name __________________CAC5: [1]INV!$K$19:$N$22
Name __________________G1: #N/A
Name __________________i1: #REF!
Name __________________MA2: #REF!
Name __________________PJ50: #REF!
Name __________________SBC1: [1]INV!$A$12:$D$15
Name __________________SBC3: [1]INV!$F$12:$I$15
Name __________________SBC5: [1]INV!$K$12:$N$15
Name __________________v1: IF(__________________v8,[0]!Header_Row+__________________v4,[0]!Header_Row)
Name __________________v2: IF(__________________v8,[0]!Header_Row+__________________v4,[0]!Header_Row)
Name __________________v4: #N/A

Sheet FORMULARIO 1 - DETALLADO
C3: FECHA DE DILIGENCIAMIENTO | E3: 45547
C4: ÁREA DE INFRAESTRUCTURA | J4: REALIZAR LA INTERVENTORÍA TÉCNICA, ADMINISTRATIVA, FINANCIERA, JURÍDICA, AMBIENTAL, SOCIAL Y SST AL CONTRATO DE OBRA PÚBLICA CUYO OBJETO ES: EJECUTAR A PRECIOS UNITARIOS Y A MONTO AGOTABLE, LAS ACTIVIDADES NECESARIAS PARA LA CONSTRUCCIÓN DE LA MALLA VIAL DE LA LOCALIDAD DE SAN CRISTÓBAL, EN BOGOTÁ D.C.
C5: FONDO DE DESARROLLO LOCAL DE SAN CRISTÓBAL
C7: COSTO DE LA INTERVENTORÍA | E7: =+L56 -> 671576745
C8: TERMINO ESTIMADO DE EJECUCIÓN DE OBRA | E8: 6 | F8: MESES
C9: TERMINO ESTIMADO DE EJECUCIÓN DE ACTIVIDADES PREVIAS | E9: 1 | F9: MESES
C12: 1. COSTOS MENSUALES DE PERSONAL
C13: CANTIDAD | D13: CARGO | E13: CATEGORÍA | F13: DEDICACIÓN MES ACTIVIDADES PREVIAS | H13: DEDICACIÓN MES ACTIVIDADES DE OBRA | J13: TARIFA MENSUAL | K13: FACTOR PRESTACIONAL | L13: SALARIO + PRESTACIONES ETAPA ACTIVIDADES PREVIAS | M13: SALARIO + PRESTACIONES ETAPA DE OBRA | R13: 1179719885
C14: A | F14: B | H14: B | J14: C | K14: D | L14: E = A * B * C * D | M14: E = A * B * C * D
C15: 1.1 PERSONAL PROFESIONAL (Ingenieros y Otros)
C16: 1 | D16: DIRECTOR DE INTERVENTORÍA | E16: 5 | F16: 0.5 | H16: 0.5 | J16: 7768000 | K16: 2.15 | L16: =+ROUND(F16*J16*K16,0) -> 8350600 | M16: =ROUND(C16*H16*J16*K16,0) -> 8350600
C17: 1 | D17: INGENIERO RESIDENTE DE INTERVENTORÍA | E17: 6 | F17: 0.5 | H17: 1 | J17: 6927000 | K17: =+K16 -> 2.15 | L17: =+ROUND(F17*J17*K17,0) -> 7446525 | M17: =ROUND(C17*H17*J17*K17,0) -> 14893050 | R17: =+R13-E7 -> 508143140
C18: 1 | D18: ESPECIALISTA EN PAVIMENTOS | E18: 5 | F18: 0.3 | H18: 0.1 | J18: 7768000 | K18: =+K17 -> 2.15 | L18: =+ROUND(F18*J18*K18,0) -> 5010360 | M18: =ROUND(C18*H18*J18*K18,0) -> 1670120
C19: 1 | D19: ESPECIALISTA EN REDES HIDROSANITARIAS | E19: 5 | F19: 0.1 | H19: 0.1 | J19: 7768000 | K19: =+K18 -> 2.15 | L19: =+ROUND(F19*J19*K19,0) -> 1670120 | M19: =ROUND(C19*H19*J19*K19,0) -> 1670120
C20: 1 | D20: ESPECIALISTA EN COSTOS, PRESUPUESTOS Y PROGRAMACION | E20: 5 | F20: 0.1 | H20: 0.1 | J20: 7768000 | K20: =+K19 -> 2.15 | L20: =+ROUND(F20*J20*K20,0) -> 1670120 | M20: =ROUND(C20*H20*J20*K20,0) -> 1670120
C21: 1 | D21: ESPECIALISTA GEOTECNIA | E21: 5 | F21: 0.1 | H21: 0.1 | J21: 7768000 | K21: =+K20 -> 2.15 | L21: =+ROUND(F21*J21*K21,0) -> 1670120 | M21: =ROUND(C21*H21*J21*K21,0) -> 1670120
C22: 1 | D22: ESPECIALISTA FORESTAL | E22: 5 | F22: 0.05 | H22: 0.05 | J22: 7768000 | K22: =+K21 -> 2.15 | L22: =+ROUND(F22*J22*K22,0) -> 835060 | M22: =ROUND(C22*H22*J22*K22,0) -> 835060
D23: COMPONENTE AMBIENTAL
C24: 1 | D24: RESIDENTE AMBIENTAL | E24: 7 | F24: 0.3 | H24: 0.3 | J24: 5238000 | K24: =+K22 -> 2.15 | L24: =+ROUND(F24*J24*K24,0) -> 3378510 | M24: =ROUND(C24*H24*J24*K24,0) -> 3378510
C25: 1 | D25: RESIDENTE SST | E25: 7 | F25: 0.3 | H25: 0.3 | J25: 5238000 | K25: =+K24 -> 2.15 | L25: =+ROUND(F25*J25*K25,0) -> 3378510 | M25: =ROUND(C25*H25*J25*K25,0) -> 3378510
D26: COMPONENTE SOCIAL | L26: =+ROUND(F26*J26*K26,0) -> 0
C27: 1 | D27: RESIDENTE SOCIAL | E27: 7 | F27: 0.3 | H27: 0.5 | J27: 5238000 | K27: =+K25 -> 2.15 | L27: =+ROUND(F27*J27*K27,0) -> 3378510 | M27: =ROUND(C27*H27*J27*K27,0) -> 5630850
D28: COMPONENTE TRANSITO
C29: 1 | D29: ESPECIALISTA EN TRÁNSITO Y TRANSPORTE | E29: 5 | F29: 0.1 | H29: 0.1 | J29: 7768000 | K29: =+K27 -> 2.15 | L29: =+ROUND(F29*J29*K29,0) -> 1670120 | M29: =ROUND(C29*H29*J29*K29,0) -> 1670120
C30: 1.2 PERSONAL TÉCNICO Y PERSONAL AUXILIAR TÉCNICO
A31: 9088 | C31: 1 | D31: =+[98]PROFESIONALES!F46 -> TARIFA MES - PERSONAL TÉCNICO - TOPÓGRAFO INSPECTOR (NO INCLUYE FACTOR DE PRESTACIONES) | F31: 0.1 | H31: 1 | J31: 3379000 | K31: =+K29 -> 2.15 | L31: =+ROUND(F31*J31*K31,0) -> 726485 | M31: =ROUND(C31*H31*J31*K31,0) -> 7264850
A32: 9089 | C32: 3 | D32: =+[98]PROFESIONALES!F52 -> TARIFA MES - PERSONAL TÉCNICO - INSPECTOR 2 (NO INCLUYE FACTOR DE PRESTACIONES) | F32: 0 | H32: 1 | J32: 2213000 | K32: =+K31 -> 2.15 | L32: =+ROUND(F32*J32*K32,0) -> 0 | M32: =ROUND(C32*H32*J32*K32,0) -> 14273850
A33: 9093 | C33: 1 | D33: =+[98]PROFESIONALES!F56 -> TARIFA MES - PERSONAL AUXILIAR TÉCNICO - CADENERO 1 (NO INCLUYE FACTOR DE PRESTACIONES) | F33: 0.1 | H33: 1 | J33: 2095000 | K33: =+K32 -> 2.15 | L33: =+ROUND(F33*J33*K33,0) -> 450425 | M33: =ROUND(C33*H33*J33*K33,0) -> 4504250
A34: 9100 | C34: 1 | D34: =+[98]PROFESIONALES!F58 -> TARIFA MES - PERSONAL AUXILIAR TÉCNICO - CONDUCTOR O MOTORISTA (NO INCLUYE FACTOR DE PRESTACIONES) | F34: 0.3 | H34: 1 | J34: 1389000 | K34: =+K33 -> 2.15 | L34: =+ROUND(F34*J34*K34,0) -> 895905 | M34: =ROUND(C34*H34*J34*K34,0) -> 2986350
D35: TURNO NOCTURNO
A36: 9088 | C36: 1 | D36: =VLOOKUP(A36,#REF!,2,FALSE) -> #REF! | F36: 0 | H36: 0 | J36: =VLOOKUP(A36,#REF!,4,FALSE) -> #REF! | K36: =VLOOKUP(A36,#REF!,6,FALSE) -> #REF! | L36: =ROUND(A36*E36*I36*J36,0) -> #REF! | M36: =ROUND(C36*F36*J36*K36,0) -> #REF!
A37: 9099 | C37: 1 | D37: =VLOOKUP(A37,#REF!,2,FALSE) -> #REF! | F37: 0 | H37: 0 | J37: =VLOOKUP(A37,#REF!,4,FALSE) -> #REF! | K37: =VLOOKUP(A37,#REF!,6,FALSE) -> #REF! | L37: =ROUND(A37*E37*I37*J37,0) -> #REF! | M37: =ROUND(C37*F37*J37*K37,0) -> #REF!
A38: 9089 | C38: 1 | D38: =VLOOKUP(A38,#REF!,2,FALSE) -> #REF! | F38: 0 | H38: 0 | J38: =VLOOKUP(A38,#REF!,4,FALSE) -> #REF! | K38: =VLOOKUP(A38,#REF!,6,FALSE) -> #REF! | L38: =ROUND(A38*E38*I38*J38,0) -> #REF! | M38: =ROUND(C38*F38*J38*K38,0) -> #REF!
A39: 9093 | C39: 1 | D39: =VLOOKUP(A39,#REF!,2,FALSE) -> #REF! | F39: 0 | H39: 0 | J39: =VLOOKUP(A39,#REF!,4,FALSE) -> #REF! | K39: =VLOOKUP(A39,#REF!,6,FALSE) -> #REF! | L39: =ROUND(A39*E39*I39*J39,0) -> #REF! | M39: =ROUND(C39*F39*J39*K39,0) -> #REF!
A40: 9100 | C40: 1 | D40: =VLOOKUP(A40,#REF!,2,FALSE) -> #REF! | F40: 0 | H40: 0 | J40: =VLOOKUP(A40,#REF!,4,FALSE) -> #REF! | K40: =VLOOKUP(A40,#REF!,6,FALSE) -> #REF! | L40: =ROUND(A40*E40*I40*J40,0) -> #REF! | M40: =ROUND(C40*F40*J40*K40,0) -> #REF!
C41: SUBTOTAL COSTOS MENSUALES DE PERSONAL | L41: =+SUM(L16:L29,L31:L34) -> 40531370 | M41: =+SUM(M16:M29,M31:M34) -> 73846480
C43: 2. GASTOS OPERACIONALES MENSUALES | E43: AREA (M2) | F43: DEDICACIÓN ETAPA ACTIVIDADES PREVIAS | H43: DEDICACIÓN | J43: DEDICACIÓN X ÁREA (M2) | K43: COSTO ($/M2.MES) | L43: VALOR ($) | M43: VALOR ($)
A44: 9576 | C44: =VLOOKUP(A44,[98]INSUMOS!$B$2:$G$3649,2,FALSE) -> ALQUILER MES - ARRIENDO OFICINA INCL. ADMINISTRACIÓN, SERVICIOS PÚBLICOS, COMUNICACIONES | E44: 45 | F44: 0.2 | H44: 1 | J44: 45 | K44: 48579 | L44: =ROUND(F44*J44*K44,0) -> 437211 | M44: =ROUND(J44*K44,0) -> 2186055
A45: 9578 | C45: GASTOS OFICINA (PAPELERIA, FOTOCOPIAS Y OTROS) | F45: 0.3 | H45: 1 | K45: 1140473 | L45: =ROUND(F45*K45,0) -> 342142 | M45: =ROUND(H45*K45,0) -> 1140473
A46: 6318 | C46: ALQUILER DE PORTATIL. CARACTERÍSTICAS: Procesador intel, Core i3 4005U, celeron o similar, Memoria RAM de 4 GB ( 2 x 2048 MB)Disco duro de 500gb a 7200 rpmPantalla LED HP BrightView widescreen de alta definición con 35,6 cm (14") o similar, HD INTEL GRAPHIC HD4400UNIDAD DE DVD QUEMADORBLUETOOTH | F46: 0.3 | H46: 5 | K46: 154700 | L46: =ROUND(F46*K46,0) -> 46410 | M46: =ROUND(H46*K46,0) -> 773500
...

Sheet FORMULARIO 1 - GLOBAL
C3: FECHA DE DILIGENCIAMIENTO | E3: 45547
C4: ÁREA DE INFRAESTRUCTURA | J4: REALIZAR LA INTERVENTORÍA TÉCNICA, ADMINISTRATIVA, FINANCIERA, JURÍDICA, AMBIENTAL, SOCIAL Y SST AL CONTRATO DE OBRA PÚBLICA CUYO OBJETO ES: EJECUTAR A PRECIOS UNITARIOS Y A MONTO AGOTABLE, LAS ACTIVIDADES NECESARIAS PARA LA CONSTRUCCIÓN DE LA MALLA VIAL DE LA LOCALIDAD DE SAN CRISTÓBAL, EN BOGOTÁ D.C.
C5: FONDO DE DESARROLLO LOCAL DE SAN CRISTÓBAL
C7: COSTO DE LA INTERVENTORÍA | E7: =+L56 -> 671576745
C8: TERMINO ESTIMADO DE EJECUCIÓN DE OBRA | E8: 6 | F8: MESES
C9: TERMINO ESTIMADO DE EJECUCIÓN DE ACTIVIDADES PREVIAS | E9: 1 | F9: MESES
C12: 1. COSTOS MENSUALES DE PERSONAL
C13: CANTIDAD | D13: CARGO | E13: CATEGORÍA | F13: DEDICACIÓN MES ACTIVIDADES PREVIAS | H13: DEDICACIÓN MES ACTIVIDADES DE OBRA | J13: TARIFA MENSUAL | K13: FACTOR PRESTACIONAL | L13: SALARIO + PRESTACIONES ETAPA ACTIVIDADES PREVIAS | M13: SALARIO + PRESTACIONES ETAPA DE OBRA | R13: 1179719885
C14: A | F14: B | H14: B | J14: C | K14: D | L14: E = A * B * C * D | M14: E = A * B * C * D
C15: 1.1 PERSONAL PROFESIONAL (Ingenieros y Otros)
C16: 1 | D16: DIRECTOR DE INTERVENTORÍA | E16: =+'FORMULARIO 1 - DETALLADO'!E16 -> 5 | F16: =+'FORMULARIO 1 - DETALLADO'!F16:G16 -> 0.5 | H16: =+'FORMULARIO 1 - DETALLADO'!J16 -> 7768000 | J16: =+'FORMULARIO 1 - DETALLADO'!K16 -> 2.15 | K16: =+'FORMULARIO 1 - DETALLADO'!L16 -> 8350600 | L16: =+'FORMULARIO 1 - DETALLADO'!L16 -> 8350600 | M16: =+'FORMULARIO 1 - DETALLADO'!M16 -> 8350600
C17: 1 | D17: INGENIERO RESIDENTE DE INTERVENTORÍA | E17: =+'FORMULARIO 1 - DETALLADO'!E17 -> 6 | F17: =+'FORMULARIO 1 - DETALLADO'!F17:G17 -> 0.5 | H17: =+'FORMULARIO 1 - DETALLADO'!J17 -> 6927000 | J17: =+'FORMULARIO 1 - DETALLADO'!K17 -> 2.15 | K17: =+'FORMULARIO 1 - DETALLADO'!L17 -> 7446525 | L17: =+'FORMULARIO 1 - DETALLADO'!L17 -> 7446525 | M17: =+'FORMULARIO 1 - DETALLADO'!M17 -> 14893050 | R17: =+R13-E7 -> 508143140
C18: 1 | D18: ESPECIALISTA EN PAVIMENTOS | E18: =+'FORMULARIO 1 - DETALLADO'!E18 -> 5 | F18: =+'FORMULARIO 1 - DETALLADO'!F18:G18 -> 0.3 | H18: =+'FORMULARIO 1 - DETALLADO'!J18 -> 7768000 | J18: =+'FORMULARIO 1 - DETALLADO'!K18 -> 2.15 | K18: =+'FORMULARIO 1 - DETALLADO'!L18 -> 5010360 | L18: =+'FORMULARIO 1 - DETALLADO'!L18 -> 5010360 | M18: =+'FORMULARIO 1 - DETALLADO'!M18 -> 1670120
C19: 1 | D19: ESPECIALISTA EN REDES HIDROSANITARIAS | E19: =+'FORMULARIO 1 - DETALLADO'!E19 -> 5 | F19: =+'FORMULARIO 1 - DETALLADO'!F19:G19 -> 0.1 | H19: =+'FORMULARIO 1 - DETALLADO'!J19 -> 7768000 | J19: =+'FORMULARIO 1 - DETALLADO'!K19 -> 2.15 | K19: =+'FORMULARIO 1 - DETALLADO'!L19 -> 1670120 | L19: =+'FORMULARIO 1 - DETALLADO'!L19 -> 1670120 | M19: =+'FORMULARIO 1 - DETALLADO'!M19 -> 1670120
C20: 1 | D20: ESPECIALISTA EN COSTOS, PRESUPUESTOS Y PROGRAMACION | E20: =+'FORMULARIO 1 - DETALLADO'!E20 -> 5 | F20: =+'FORMULARIO 1 - DETALLADO'!F20:G20 -> 0.1 | H20: =+'FORMULARIO 1 - DETALLADO'!J20 -> 7768000 | J20: =+'FORMULARIO 1 - DETALLADO'!K20 -> 2.15 | K20: =+'FORMULARIO 1 - DETALLADO'!L20 -> 1670120 | L20: =+'FORMULARIO 1 - DETALLADO'!L20 -> 1670120 | M20: =+'FORMULARIO 1 - DETALLADO'!M20 -> 1670120
C21: 1 | D21: ESPECIALISTA GEOTECNIA | E21: =+'FORMULARIO 1 - DETALLADO'!E21 -> 5 | F21: =+'FORMULARIO 1 - DETALLADO'!F21:G21 -> 0.1 | H21: =+'FORMULARIO 1 - DETALLADO'!J21 -> 7768000 | J21: =+'FORMULARIO 1 - DETALLADO'!K21 -> 2.15 | K21: =+'FORMULARIO 1 - DETALLADO'!L21 -> 1670120 | L21: =+'FORMULARIO 1 - DETALLADO'!L21 -> 1670120 | M21: =+'FORMULARIO 1 - DETALLADO'!M21 -> 1670120
C22: 1 | D22: ESPECIALISTA FORESTAL | E22: =+'FORMULARIO 1 - DETALLADO'!E22 -> 5 | F22: =+'FORMULARIO 1 - DETALLADO'!F22:G22 -> 0.05 | H22: =+'FORMULARIO 1 - DETALLADO'!J22 -> 7768000 | J22: =+'FORMULARIO 1 - DETALLADO'!K22 -> 2.15 | K22: =+'FORMULARIO 1 - DETALLADO'!L22 -> 835060 | L22: =+'FORMULARIO 1 - DETALLADO'!L22 -> 835060 | M22: =+'FORMULARIO 1 - DETALLADO'!M22 -> 835060
D23: COMPONENTE AMBIENTAL
C24: 1 | D24: RESIDENTE AMBIENTAL | E24: =+'FORMULARIO 1 - DETALLADO'!E24 -> 7 | F24: =+'FORMULARIO 1 - DETALLADO'!F24:G24 -> 0.3 | H24: =+'FORMULARIO 1 - DETALLADO'!J24 -> 5238000 | J24: =+'FORMULARIO 1 - DETALLADO'!K24 -> 2.15 | K24: =+'FORMULARIO 1 - DETALLADO'!L24 -> 3378510 | L24: =+'FORMULARIO 1 - DETALLADO'!L24 -> 3378510 | M24: =+'FORMULARIO 1 - DETALLADO'!M24 -> 3378510
C25: 1 | D25: RESIDENTE SST | E25: =+'FORMULARIO 1 - DETALLADO'!E25 -> 7 | F25: =+'FORMULARIO 1 - DETALLADO'!F25:G25 -> 0.3 | H25: =+'FORMULARIO 1 - DETALLADO'!J25 -> 5238000 | J25: =+'FORMULARIO 1 - DETALLADO'!K25 -> 2.15 | K25: =+'FORMULARIO 1 - DETALLADO'!L25 -> 3378510 | L25: =+'FORMULARIO 1 - DETALLADO'!L25 -> 3378510 | M25: =+'FORMULARIO 1 - DETALLADO'!M25 -> 3378510
D26: COMPONENTE SOCIAL
C27: 1 | D27: RESIDENTE SOCIAL | E27: =+'FORMULARIO 1 - DETALLADO'!E27 -> 7 | F27: =+'FORMULARIO 1 - DETALLADO'!F27:G27 -> 0.3 | H27: =+'FORMULARIO 1 - DETALLADO'!J27 -> 5238000 | J27: =+'FORMULARIO 1 - DETALLADO'!K27 -> 2.15 | K27: =+'FORMULARIO 1 - DETALLADO'!L27 -> 3378510 | L27: =+'FORMULARIO 1 - DETALLADO'!L27 -> 3378510 | M27: =+'FORMULARIO 1 - DETALLADO'!M27 -> 5630850
D28: COMPONENTE TRANSITO
C29: 1 | D29: ESPECIALISTA EN TRÁNSITO Y TRANSPORTE | E29: =+'FORMULARIO 1 - DETALLADO'!E29 -> 5 | F29: =+'FORMULARIO 1 - DETALLADO'!F29:G29 -> 0.1 | H29: =+'FORMULARIO 1 - DETALLADO'!J29 -> 7768000 | J29: =+'FORMULARIO 1 - DETALLADO'!K29 -> 2.15 | K29: =+'FORMULARIO 1 - DETALLADO'!L29 -> 1670120 | L29: =+'FORMULARIO 1 - DETALLADO'!L29 -> 1670120 | M29: =+'FORMULARIO 1 - DETALLADO'!M29 -> 1670120
C30: 1.2 PERSONAL TÉCNICO Y PERSONAL AUXILIAR TÉCNICO
A31: 9088 | C31: 1 | D31: =+[98]PROFESIONALES!F46 -> TARIFA MES - PERSONAL TÉCNICO - TOPÓGRAFO INSPECTOR (NO INCLUYE FACTOR DE PRESTACIONES) | F31: =+'FORMULARIO 1 - DETALLADO'!F31:G31 -> 0.1 | H31: =+'FORMULARIO 1 - DETALLADO'!J31 -> 3379000 | J31: =+'FORMULARIO 1 - DETALLADO'!K31 -> 2.15 | K31: =+'FORMULARIO 1 - DETALLADO'!L31 -> 726485 | L31: =+'FORMULARIO 1 - DETALLADO'!L31 -> 726485 | M31: =+'FORMULARIO 1 - DETALLADO'!M31 -> 7264850
A32: 9089 | C32: 3 | D32: =+[98]PROFESIONALES!F52 -> TARIFA MES - PERSONAL TÉCNICO - INSPECTOR 2 (NO INCLUYE FACTOR DE PRESTACIONES) | F32: =+'FORMULARIO 1 - DETALLADO'!F32:G32 -> 0 | H32: =+'FORMULARIO 1 - DETALLADO'!J32 -> 2213000 | J32: =+'FORMULARIO 1 - DETALLADO'!K32 -> 2.15 | K32: =+'FORMULARIO 1 - DETALLADO'!L32 -> 0 | L32: =+'FORMULARIO 1 - DETALLADO'!L32 -> 0 | M32: =+'FORMULARIO 1 - DETALLADO'!M32 -> 14273850
A33: 9093 | C33: 1 | D33: =+[98]PROFESIONALES!F56 -> TARIFA MES - PERSONAL AUXILIAR TÉCNICO - CADENERO 1 (NO INCLUYE FACTOR DE PRESTACIONES) | F33: =+'FORMULARIO 1 - DETALLADO'!F33:G33 -> 0.1 | H33: =+'FORMULARIO 1 - DETALLADO'!J33 -> 2095000 | J33: =+'FORMULARIO 1 - DETALLADO'!K33 -> 2.15 | K33: =+'FORMULARIO 1 - DETALLADO'!L33 -> 450425 | L33: =+'FORMULARIO 1 - DETALLADO'!L33 -> 450425 | M33: =+'FORMULARIO 1 - DETALLADO'!M33 -> 4504250
A34: 9100 | C34: 1 | D34: =+[98]PROFESIONALES!F58 -> TARIFA MES - PERSONAL AUXILIAR TÉCNICO - CONDUCTOR O MOTORISTA (NO INCLUYE FACTOR DE PRESTACIONES) | F34: =+'FORMULARIO 1 - DETALLADO'!F34:G34 -> 0.3 | H34: =+'FORMULARIO 1 - DETALLADO'!J34 -> 1389000 | J34: =+'FORMULARIO 1 - DETALLADO'!K34 -> 2.15 | K34: =+'FORMULARIO 1 - DETALLADO'!L34 -> 895905 | L34: =+'FORMULARIO 1 - DETALLADO'!L34 -> 895905 | M34: =+'FORMULARIO 1 - DETALLADO'!M34 -> 2986350
D35: TURNO NOCTURNO | E35: =+'FORMULARIO 1 - DETALLADO'!E35 -> 0
A36: 9088 | C36: 1 | D36: =VLOOKUP(A36,#REF!,2,FALSE) -> #REF! | E36: =+'FORMULARIO 1 - DETALLADO'!E36 -> 0 | F36: 0 | H36: 0 | J36: =VLOOKUP(A36,#REF!,4,FALSE) -> #REF! | K36: =VLOOKUP(A36,#REF!,6,FALSE) -> #REF! | L36: =ROUND(A36*E36*I36*J36,0) -> #REF! | M36: =ROUND(C36*F36*J36*K36,0) -> #REF!
A37: 9099 | C37: 1 | D37: =VLOOKUP(A37,#REF!,2,FALSE) -> #REF! | E37: =+'FORMULARIO 1 - DETALLADO'!E37 -> 0 | F37: 0 | H37: 0 | J37: =VLOOKUP(A37,#REF!,4,FALSE) -> #REF! | K37: =VLOOKUP(A37,#REF!,6,FALSE) -> #REF! | L37: =ROUND(A37*E37*I37*J37,0) -> #REF! | M37: =ROUND(C37*F37*J37*K37,0) -> #REF!
A38: 9089 | C38: 1 | D38: =VLOOKUP(A38,#REF!,2,FALSE) -> #REF! | E38: =+'FORMULARIO 1 - DETALLADO'!E38 -> 0 | F38: 0 | H38: 0 | J38: =VLOOKUP(A38,#REF!,4,FALSE) -> #REF! | K38: =VLOOKUP(A38,#REF!,6,FALSE) -> #REF! | L38: =ROUND(A38*E38*I38*J38,0) -> #REF! | M38: =ROUND(C38*F38*J38*K38,0) -> #REF!
A39: 9093 | C39: 1 | D39: =VLOOKUP(A39,#REF!,2,FALSE) -> #REF! | E39: =+'FORMULARIO 1 - DETALLADO'!E39 -> 0 | F39: 0 | H39: 0 | J39: =VLOOKUP(A39,#REF!,4,FALSE) -> #REF! | K39: =VLOOKUP(A39,#REF!,6,FALSE) -> #REF! | L39: =ROUND(A39*E39*I39*J39,0) -> #REF! | M39: =ROUND(C39*F39*J39*K39,0) -> #REF!
A40: 9100 | C40: 1 | D40: =VLOOKUP(A40,#REF!,2,FALSE) -> #REF! | E40: =+'FORMULARIO 1 - DETALLADO'!E40 -> 0 | F40: 0 | H40: 0 | J40: =VLOOKUP(A40,#REF!,4,FALSE) -> #REF! | K40: =VLOOKUP(A40,#REF!,6,FALSE) -> #REF! | L40: =ROUND(A40*E40*I40*J40,0) -> #REF! | M40: =ROUND(C40*F40*J40*K40,0) -> #REF!
C41: SUBTOTAL COSTOS MENSUALES DE PERSONAL | L41: =+SUM(L16:L29,L31:L34) -> 40531370 | M41: =+SUM(M16:M29,M31:M34) -> 73846480
C43: 2. GASTOS OPERACIONALES MENSUALES | E43: AREA (M2) | F43: DEDICACIÓN ETAPA ACTIVIDADES PREVIAS | H43: DEDICACIÓN | J43: DEDICACIÓN X ÁREA (M2) | K43: COSTO ($/M2.MES) | L43: VALOR ($) | M43: VALOR ($)
A44: 9576 | C44: =VLOOKUP(A44,[98]INSUMOS!$B$2:$G$3649,2,FALSE) -> ALQUILER MES - ARRIENDO OFICINA INCL. ADMINISTRACIÓN, SERVICIOS PÚBLICOS, COMUNICACIONES | E44: =+'FORMULARIO 1 - DETALLADO'!E44 -> 45 | F44: =+'FORMULARIO 1 - DETALLADO'!F44:G44 -> 0.2 | H44: =+'FORMULARIO 1 - DETALLADO'!J44 -> 45 | J44: =+'FORMULARIO 1 - DETALLADO'!K44 -> 48579 | K44: =+'FORMULARIO 1 - DETALLADO'!L44 -> 437211 | L44: =+'FORMULARIO 1 - DETALLADO'!L44 -> 437211 | M44: =+'FORMULARIO 1 - DETALLADO'!M44 -> 2186055
A45: 9578 | C45: GASTOS OFICINA (PAPELERIA, FOTOCOPIAS Y OTROS) | F45: =+'FORMULARIO 1 - DETALLADO'!F45:G45 -> 0.3 | H45: =+'FORMULARIO 1 - DETALLADO'!J45 -> 0 | J45: =+'FORMULARIO 1 - DETALLADO'!K45 -> 1140473 | K45: =+'FORMULARIO 1 - DETALLADO'!L45 -> 342142 | L45: =+'FORMULARIO 1 - DETALLADO'!L45 -> 342142 | M45: =+'FORMULARIO 1 - DETALLADO'!M45 -> 1140473
A46: 6318 | C46: ALQUILER DE PORTATIL. CARACTERÍSTICAS: Procesador intel, Core i3 4005U, celeron o similar, Memoria RAM de 4 GB ( 2 x 2048 MB)Disco duro de 500gb a 7200 rpmPantalla LED HP BrightView widescreen de alta definición con 35,6 cm (14") o similar, HD INTEL GRAPHIC HD4400UNIDAD DE DVD QUEMADORBLUETOOTH | F46: =+'FORMULARIO 1 - DETALLADO'!F46:G46 -> 0.3 | H46: =+'FORMULARIO 1 - DETALLADO'!J46 -> 0 | J46: =+'FORMULARIO 1 - DETALLADO'!K46 -> 154700 | K46: =+'FORMULARIO 1 - DETALLADO'!L46 -> 46410 | L46: =+'FORMULARIO 1 - DETALLADO'!L46 -> 46410 | M46: =+'FORMULARIO 1 - DETALLADO'!M46 -> 773500
...

Sheet FM
B2: DESGLOSE FACTOR MULTIPLICADOR
B4: 1 | C4: Salario Y prestaciones Sociales de Personal Facturable
B5: 1.1 | C5: Salarios | D5: 1
B6: 1.2 | C6: Prima Anual (Legal) | D6: 0.0833
B7: 1.3 | C7: Cesantías | D7: 0.0833
B8: 1.4 | C8: Interéses a las cesantías | D8: 0.01
B9: 1.5 | C9: Vacaciones | D9: 0.0417
B10: 1.6 | C10: Seguridad Social (Salud + Pensión) | D10: 0.12
B11: 1.7 | C11: Caja de Compensacion Familiar | D11: 0.04
B12: 1.8 | C12: ARL | D12: 0.0696
B13: 1.9 | C13: servicio Nacional de Aprendizaje (SENA) | D13: 0.02
B14: 1.1 | C14: Instituto Colombiano de Bienestar Familiar (ICBF) | D14: 0.03
B15: 1.11 | C15: Otros (auxilios varios, prestaciones extralegales, incapacidades no cubiertas) | D15: 0.15
B16: 1.12 | C16: Dotacion | D16: 0.02
C17: Subtotal | D17: =+SUM(D5:D16) -> 1.6679
B18: 2 | C18: Gastos Generales
B19: 2.1 | C19: Preparación de Propuesta | D19: 0.01
B20: 2.2 | C20: Asesoria Contable Tributaria y Juridica | D20: 0.02
B21: 2.3 | C21: Equipos y mantenimiento Oficina (Aseo) | D21: 0.02
B22: 2.4 | C22: Seguros de robo e incendio | D22: 0.01
B23: 2.5 | C23: Documentación Técnica | D23: 0.02
B24: 2.6 | C24: Personal Administrativo no facturado | D24: 0.03
B25: 2.8 | C25: Personal Profesional no facturado | D25: 0.02
B26: 2.9 | C26: Depreciación de muebles y equipos | D26: 0.01
B27: 2.1 | C27: Licenciamiento de software | D27: 0.02
B28: 2.11 | C28: Correo y otros (administración de la empresa) | D28: 0.03
B29: 2.12 | C29: Gastos de Representación | D29: 0.02
C30: Subtotal | D30: =+SUM(D19:D29) -> 0.21
B32: 3 | C32: Costos Directos no Reembolsables
B33: 3.1 | C33: Poliza de Calidad | D33: 0.00089
B34: 3.2 | C34: Póliza Cumplimiento | D34: 0.0009
B35: 3.3 | C35: Póliza Salarios y prestaciones Sociales | D35: 0.0009
B36: 3.4 | C36: Póliza Responsabilidad civl Extracontractual | D36: 0.0009
B37: 3.5 | C37: Retefuente | D37: 0.06
B38: 3.6 | C38: Rete ICA | D38: 0.0069
B39: 3.7 | C39: Impuestos distritales | D39: 0.05
B40: 3.8 | C40: Rete IVA | D40: =15%*19% -> 0.0285
C41: SUBTOTAL | D41: =+SUM(D33:D40) -> 0.14899
B44: 4 | C44: Honorarios (Utilidad del consultor y costos no previstos) 6% *(1+2+3+4) | D44: =6%*(D17+D30+D41) -> 0.1216134
B46: T O T A L - F.M. | D46: =ROUND(+D17++D30+D41+D44,2) -> 2.15

Sheet FORMULARIO1 - GLOBAL
B2: Formulario 1 - Formulario de presupuesto oficial -Interventoría de obra pública de infraestructura de transporte - versión 2
B3: Código | C3: CCE-EICP-FM-70 | D3: Versión | E3: 2
C8: FORMULARIO 1 - GLOBAL
C9: [La Entidad puede utilizar este Formulario para determinar las condiciones bajo las cuales los Proponentes presentarán su propuesta económica de forma global, sin perjuicio que puedan modificarlo o alleguen la oferta económica con un Formulario distinto. Es presentado a modo ilustrativo y como una sugerencia]
C10: VALOR GLOBAL DE LA INTERVENTORÍA
C11: ÍTEM | D11: DESCRIPCIÓN | F11: VALOR OFERTA
C13: 1 | D13: Valor de su propuesta sin IVA
C14: 2 | D14: Valor del IVA
C15: 3 | D15: Valor total de la propuesta | F15: =SUM(F13:G14) -> 0
C17: VALORES OFICIALES PARA LOS ITEMS A PAGAR POR PRECIOS UNITARIOS PARA LOS ENSAYOS DE LABORATORIO (en caso de aplicar)
C18: ÍTEM | D18: DESCRIPCIÓN | E18: UNIDAD | F18: VALOR BÁSICO UNITARIO OFICIAL (sin IVA) | G18: VALOR BÁSICO UNITARIO PROPUESTO (sin IVA)
C32: FIRMAS:
C36: Nombre y firma del representante legal del Proponente | G36: Nombre y firma del Proponente
