Workbook
Name _Toc530481013: 'FORMATO. BUENAS PRAC. AMBIENT'!#REF!

Sheet EXPERIENCIA LOTE 4 MUSICALES
B1: “SUMINISTRAR POR LOTES, A MONTO AGOTABLE, LOS ELEMENTOS DIDÁCTICOS (LOTE 1), ARTÍSTICOS (LOTE 2), DEPORTIVOS (LOTE 3), MUSICALES (LOTE4), Y MOBILIARIOS Y OTROS (LOTE 5), ELECTRÓDOMÉSTICOS Y/O EQUIPOS DE CÓMPUTO (LOTE 6), PARA DOTAR JARDINES INFANTILES, CENTROS DE DESARROLLO COMUNITARIO, CENTROS CRECER Y CENTRO AMAR, DE LA LOCALIDAD DE CIUDAD BOLÍVAR, EN EL MARCO DEL PLAN DE DESARROLLO LOCAL 2021-2024. | C1: PROPONENTE No. 1 | D1: PROPONENTE No. 5 | E1: PROPONENTE No. 6 | F1: PROPONENTE No. 10 | G1: PROPONENTE No. 12 | H1: PROPONENTE No. 13
C2: INGFRACOL SAS | D2: ABOVE COLOMBIA SAS | E2: E&T S.A.S | F2: COMERCIALIZADORA SERLE.COM S.A.S. | G2: UT CAPITAL GROUP | H2: Integra de Colombia S.A.S
B3: CONTRATO No. 1 GENERAL
B4: NO. DE CONTRATO | C4: 094-2013 | D4: 353 - 2019 | E4: 616-2018 | F4: 1599 DE 2017 | G4: LGN-DEP23-2023 | H4: 1950-2022
B5: No. CONSECUTIVO EN EL RUP | C5: 126- Pag 2651 | D5: 30 Pag 97 | E5: 24 Pag 246 | F5: 253 Pag 490 | G5: 5 | H5: 92
B6: OBJETO: | C6: ADQUISICIÓN DE UNIFORMES, INSTRUMENTOS MUSICALES Y MANTENIMIENTO DE LOS INSTRUMENTOS EXISTENTES DE LA BANDA MARCIAL DEL MUNICIPIO DE SAN CARLOS DE GUAROA | D6: CONTRATAR LA ADQUISICIÓN DE INSTRUMENTOS MUSICALES PARA EL FORTALECIMIENTO DEL CENTRO FILARMONICO LOCAL DE SAN CRISTOBAL | E6: ADQUISICiÓN DE ELEMENTOS DESTINADOS A DOTAR LAS DIFERENTES AREAS DE LA ESCUELA DE FORMACiÓN ARTISTICA y CULTURAL DEL MUNICIPIO DE CHíA. GRUPO II - INSTRUMENTOS y ACCESORIOS MUSICALES | F6: CONTRATAR LA COMPRA DE MOBILIARIO Y OTROS EQUIPOS PARA EL MEJORAMIENTO DE LOS AMBIENTES DE FORMACIÓN DEL CENTRO DE INDUSTRIA Y CONSTRUCCIÓN SENA REGIONAL TOLIMA. "LOTE 2 EQUIPOS | G6: ADQUISICION DE ELEMENTOS DICATICOS, DEPORTIVOS E INTRUMENTOS MUSICALES | H6: SUMINISTRO DE MATERIAL DIDACTICO E INSTRUMENTOS MUSICALES PARA DESARROLLAR LOS PROYECTOS DE LA VIGENCIA 2020
B7: ENTIDAD QUE EXPIDE LA CERTIFICACIÓN: | C7: META - ALCALDÍA MUNICIPIO DE SAN CARLOS DE GUAROA | D7: BOGOTA DISTRITO CAPITAL- ALCALDIA LOCAL DE SAN CRISTOBAL | E7: MUNICIPIO DE CHIA | F7: SERVICIO NACIONAL DE APRENDIZAJE - SENA | G7: LOGISTICA Y GESTIÓN DE NEGOCIOS SAS | H7: ASNEA
B8: SMMLV DEL PRESUPUESTO DEL CONTRATO | C8: 135.55 | D8: 174.32 | E8: 49.63 | F8: 118.42 | G8: 1384.61 | H8: 162.04
B9: VALOR EN $ DEL PRESUPUESTO | C9: 100000000 | D9: 153023658 | E9: 41100000 | F9: 123955838 | G9: 1799993 | H9: 142245500
B10: SMMLV PRESUPUESTO OFICIAL | C10: 56.02 | D10: 56.02 | E10: 56.02 | F10: 56.02 | G10: 56.02 | H10: 56.02
B11: VALOR PRESUPUESTO OFICIAL $ | C11: 72825661 | D11: 72825661 | E11: 72825661 | F11: 72825661 | G11: 72825661 | H11: 72825661
B12: Códigos UNSPSC | C12: 60131000 | D12: 60131000 | E12: 60131000 | F12: 60131000 | G12: 60131000 | H12: 60131300
C13: 60131300 | D13: 60131300 | E13: 60131300 | F13: 60131300 | G13: 60131500 | H13: 60131600
C14: 60131500 | D14: 60131500 | E14: 60131500 | F14: 60131500 | G14: 60131700 | H14: 60131700
B15: OBSERVACIÓN | C15: SEGÚN LA CERTIFICACIÓN ALLEGADA CUMPLE TODA VEZ QUE SEGÚN LOS DOCUMENTOS APORTADOS EL OBJETO Y/O ALCANCE ESTA RELACIONADO CON EL SUMINISTRO Y/O COMPRA DE ELEMENTOS MUSICALES | D15: SEGÚN LA CERTIFICACIÓN ALLEGADA CUMPLE TODA VEZ QUE SEGÚN LOS DOCUMENTOS APORTADOS EL OBJETO Y/O ALCANCE ESTA RELACIONADO CON EL SUMINISTRO Y/O COMPRA DE ELEMENTOS MUSICALES | E15: SEGÚN LA CERTIFICACIÓN ALLEGADA CUMPLE TODA VEZ QUE SEGÚN LOS DOCUMENTOS APORTADOS EL OBJETO Y/O ALCANCE ESTA RELACIONADO CON EL SUMINISTRO Y/O COMPRA DE ELEMENTOS MUSICALES | F15: SEGÚN LA CERTIFICACIÓN ALLEGADA CUMPLE TODA VEZ QUE SEGÚN LOS DOCUMENTOS APORTADOS EL OBJETO Y/O ALCANCE ESTA RELACIONADO CON EL SUMINISTRO Y/O COMPRA DE ELEMENTOS MUSICALES | G15: SEGÚN LA CERTIFICACIÓN ALLEGADA EN LA SUBSANACION, CUMPLE TODA VEZ QUE SEGÚN LOS DOCUMENTOS APORTADOS EL OBJETO Y/O ALCANCE ESTA RELACIONADO CON EL SUMINISTRO Y/O COMPRA DE ELEMENTOS MUSICALES | H15: SEGÚN LA SUBSANACIÓN ALLEGADA CUMPLE TODA VEZ QUE DE ACUERDO A LOS DOCUMENTOS APORTADOS CORRESPONDE AL SUMINISTRO DE ELEMENTOS MUSICALES.
B16: CONTRATO No. 2 GENERAL
B17: NO. DE CONTRATO | C17: 573 -2021 | D17: OC1306A - 2019 | E17: 90 - 2018 | F17: 572 - 2022 | G17: 01 DEL 2021 | H17: 617-2023
B18: No. CONSECUTIVO EN EL RUP | C18: 216 - Pag. 4557 | D18: 53 Pag 141 | E18: 25 Pag 256 | F18: 475 Pag 1062 | G18: 12 | H18: 113
B19: OBJETO: | C19: ADQUISICIÓN Y ENTREGA DE ELEMENTOS DE DOTACIÓN A LAS CASAS DE JUVENTUD OPERADAS POR LA SECRETARÍA DISTRITAL DE INTEGRACIÓN SOCIAL EN LA LOCALIDAD DE CIUDAD BOLÍVAR | D19: Suministro de elementos e instrumentos musicales de media y alta gama según anexo y características técnicas, que incluye entrega afinación yp uesta a punto. | E19: SUMINISTRO DE DOTACION DE INSTRUMENTOS MUSICALES PARA LA BANDA SINFONICA DEL MUNISIPIO DE VILLETA | F19: “CONTRATAR A MONTO AGOTABLE LA ADQUISICIÓN Y DISTRIBUCIÓN DE ELEMENTOS PARA EL CENTRO DE DESARROLLO COMUNITARIO SAN BLAS DE LA LOCALIDAD DE SAN CRISTÓBAL, EN EL MARCO DEL PROYECTO 1811 SAN | G19: ADQUISICION DE ELEMENTOS ARTISTICOS Y CULTURALES, MATERIAL DIDACTICO, INSTRUMENTOS MUSICALES, COMPUTADORES Y ELECTRODOMESTICOS. | H19: REALIZAR LA ADQUISICIÓN DE MATERIALES Y ELEMENTOS NECESARIOS PARA LOS PROCESOS DE FORMACIÓN ARTISTICA, CULTURAL, DEPORTIVA Y DE CIRCULACIÓN A CARGO DEL FONDO DE DESARROLLO LOCAL DE KENNEDY LOTE 4 MUSICA Y CULTURA
B20: ENTIDAD QUE EXPIDE LA CERTIFICACIÓN: | C20: FONDO DE DESARROLLO LOCAL DE CIUDAD BOLIVAR | D20: ESCUELA NUEVA VOLVAMOS A LA GENTE | E20: INSTITUTO MUNICIPAL PARA EL TURISMO LA CULTURA LA RECREACION Y EL DEPORTE DE VILLETA | G20: JORGE URREGO LOBATON | H20: ALCALDIA LOCAL DE KENNEDY
B21: SMMLV DEL PRESUPUESTO DEL CONTRATO | C21: 312.13 | D21: 241.43 | E21: 9.62 | F21: 107.13 | G21: 550.34 | H21: 41.63
B22: VALOR EN $ DEL PRESUPUESTO | C22: 312138400 | D22: 199932264 | E22: 7521670 | F22: 24274502 | G22: 500000000 | H22: 54123927
B23: SMMLV PRESUPUESTO OFICIAL | C23: 56.02 | D23: 56.02 | E23: 56.02 | F23: 56.02 | G23: 56.02 | H23: 56.02
B24: VALOR PRESUPUESTO OFICIAL $ | C24: 72825661 | D24: 72825661 | E24: 72825661 | F24: 72825661 | G24: 72825661 | H24: 72825661
B25: Códigos UNSPSC | C25: 60131000 | D25: 60131000 | E25: 60131000 | F25: 60131000 | G25: 60131300 | H25: 60131000
C26: 60131300 | D26: 60131300 | E26: 60131300 | F26: 60131300 | G26: 60131500 | H26: 60131300
C27: 60131500 | D27: 60131500 | E27: 60131500 | F27: 60131500 | G27: 60131600 | H27: 60131500
B28: OBSERVACIÓN | C28: SEGÚN LA CERTIFICACIÓN ALLEGADA CUMPLE TODA VEZ QUE SEGÚN LOS DOCUMENTOS APORTADOS EL OBJETO Y/O ALCANCE ESTA RELACIONADO CON EL SUMINISTRO Y/O COMPRA DE ELEMENTOS MUSICALES | D28: SEGÚN LA CERTIFICACIÓN ALLEGADA CUMPLE TODA VEZ QUE SEGÚN LOS DOCUMENTOS APORTADOS EL OBJETO Y/O ALCANCE ESTA RELACIONADO CON EL SUMINISTRO Y/O COMPRA DE ELEMENTOS MUSICALES | E28: SEGÚN LA CERTIFICACIÓN ALLEGADA CUMPLE TODA VEZ QUE SEGÚN LOS DOCUMENTOS APORTADOS EL OBJETO Y/O ALCANCE ESTA RELACIONADO CON EL SUMINISTRO Y/O COMPRA DE ELEMENTOS MUSICALES | F28: SEGÚN LA CERTIFICACIÓN ALLEGADA CUMPLE TODA VEZ QUE SEGÚN LOS DOCUMENTOS APORTADOS EL OBJETO Y/O ALCANCE ESTA RELACIONADO CON EL SUMINISTRO Y/O COMPRA DE ELEMENTOS MUSICALES | G28: SEGÚN LA CERTIFICACIÓN ALLEGADA EN LA SUBSANACION, CUMPLE TODA VEZ QUE SEGÚN LOS DOCUMENTOS APORTADOS EL OBJETO Y/O ALCANCE ESTA RELACIONADO CON EL SUMINISTRO Y/O COMPRA DE ELEMENTOS MUSICALES | H28: SEGÚN LA SUBSANACIÓN ALLEGADA CUMPLE TODA VEZ QUE DE ACUERDO A LOS DOCUMENTOS APORTADOS CORRESPONDE AL SUMINISTRO DE ELEMENTOS MUSICALES.
B29: RESULTADO EXPERIENCIA GENERAL | C29: HABILITADO | D29: HABILITADO | E29: HABILITADO | F29: HABILITADO | G29: HABILITADO | H29: HABILITADO
B31: SUMATORIA SMMLV CONTRATOS PROPONENTES EXP GENERAL | C31: =+C21+C8 -> 447.68 | D31: =+D21+D8 -> 415.75 | E31: =+E21+E8 -> 59.25 | F31: =+F21+F8 -> 225.55 | G31: =+G21+G8 -> 1934.95 | H31: =+H21+H8 -> 203.67
B32: SMMLV PRESUPUESTO OFICIAL | C32: =+C10 -> 56.02 | D32: =+D10 -> 56.02 | E32: =+E10 -> 56.02 | F32: =+F10 -> 56.02 | G32: =+G10 -> 56.02 | H32: =+H10 -> 56.02
B35: RESULTADO SMMLV: | C35: HABILITADO | D35: HABILITADO | E35: HABILITADO | F35: HABILITADO | G35: HABILITADO | H35: HABILITADO
B38: Elaboro: MABEL ANGELICA SAAVEDRA ACOSTA - Contratista Planeación Social CPS 1319-2024
B45: CUMPLE
B46: NO CUMPLE
B47: HABILITADO
B49: RECHAZADO

Sheet FORMATO EXP. HABILITANTE 
B1: “FORMATO EXPERIENCIA DEL PROPONENTE HABILITANTE”
B3: ÍTEM | C3: OFERENTES | D3: RESULTADO | E3: OBSERVACIÓN
B4: 1 | C4: PROPONENTE No. 1 | D4: HABILITADO | E4: DE ACUERDO A LA SUBSANACIÓN ALLEGADA CUMPLE CON EL FORMATO
C5: =+'EXPERIENCIA LOTE 4 MUSICALES'!C2 -> INGFRACOL SAS
B6: 2 | C6: PROPONENTE No. 5 | D6: HABILITADO | E6: DE ACUERDO A LA SUBSANACIÓN ALLEGADA CUMPLE CON EL FORMATO
C7: =+'EXPERIENCIA LOTE 4 MUSICALES'!D2 -> ABOVE COLOMBIA SAS
B8: 3 | C8: PROPONENTE No. 6 | D8: HABILITADO | E8: DE ACUERDO A LA SUBSANACIÓN ALLEGADA CUMPLE CON EL FORMATO
C9: =+'EXPERIENCIA LOTE 4 MUSICALES'!E2 -> E&T S.A.S
B10: 4 | C10: PROPONENTE No. 10 | D10: HABILITADO | E10: N/A
C11: =+'EXPERIENCIA LOTE 4 MUSICALES'!F2 -> COMERCIALIZADORA SERLE.COM S.A.S.
B12: 5 | C12: PROPONENTE No. 12 | D12: HABILITADO | E12: N/A
C13: =+'EXPERIENCIA LOTE 4 MUSICALES'!G2 -> UT CAPITAL GROUP
B14: 6 | C14: PROPONENTE No. 13 | D14: HABILITADO | E14: DE ACUERDO A LA SUBSANACIÓN ALLEGADA CUMPLE CON EL FORMATO
C15: =+'EXPERIENCIA LOTE 4 MUSICALES'!H2 -> Integra de Colombia S.A.S
B18: Elaboro: MABEL ANGELICA SAAVEDRA ACOSTA - Contratista Planeación Social CPS 1319-2024

Sheet FORMATO ACEPT. CONDIC. TECNICAS
B2: "FORMATO ACEPTACIÓN DE LAS CONDICIONES TÉCNICAS"
B4: ÍTEM | C4: OFERENTES | D4: RESULTADO | E4: OBSERVACIÓN
B5: 1 | C5: PROPONENTE No. 1 | D5: HABILITADO | E5: N/A
C6: =+'EXPERIENCIA LOTE 4 MUSICALES'!C2 -> INGFRACOL SAS
B7: 2 | C7: PROPONENTE No. 5 | D7: HABILITADO | E7: N/A
C8: =+'EXPERIENCIA LOTE 4 MUSICALES'!D2 -> ABOVE COLOMBIA SAS
B9: 3 | C9: PROPONENTE No. 6 | D9: HABILITADO | E9: N/A
C10: =+'EXPERIENCIA LOTE 4 MUSICALES'!E2 -> E&T S.A.S
B11: 3 | C11: PROPONENTE No. 10 | D11: HABILITADO | E11: N/A
C12: =+'EXPERIENCIA LOTE 4 MUSICALES'!F2 -> COMERCIALIZADORA SERLE.COM S.A.S.
B13: 3 | C13: PROPONENTE No. 12 | D13: HABILITADO | E13: N/A
C14: =+'EXPERIENCIA LOTE 4 MUSICALES'!G2 -> UT CAPITAL GROUP
B15: 3 | C15: PROPONENTE No. 13 | D15: HABILITADO | E15: N/A
C16: =+'EXPERIENCIA LOTE 4 MUSICALES'!H2 -> Integra de Colombia S.A.S
B18: Elaboro: MABEL ANGELICA SAAVEDRA ACOSTA - Contratista Planeación Social CPS 1319-2024

Sheet FORMATO. BUENAS PRAC. AMBIENT
A1: BUENAS PRÁCTICAS AMBIENTALES
A2: OBJETO DEL PROCESO | B2: PROPONENTE No. 1 | C2: PROPONENTE No. 5 | D2: PROPONENTE No. 6 | E2: PROPONENTE No. 10 | F2: PROPONENTE No. 12 | G2: PROPONENTE No. 13
B3: =+'EXPERIENCIA LOTE 4 MUSICALES'!C2 -> INGFRACOL SAS | C3: =+'EXPERIENCIA LOTE 4 MUSICALES'!D2 -> ABOVE COLOMBIA SAS | D3: =+'EXPERIENCIA LOTE 4 MUSICALES'!E2 -> E&T S.A.S | E3: =+'EXPERIENCIA LOTE 4 MUSICALES'!F2 -> COMERCIALIZADORA SERLE.COM S.A.S. | F3: =+'EXPERIENCIA LOTE 4 MUSICALES'!G2 -> UT CAPITAL GROUP | G3: =+'EXPERIENCIA LOTE 4 MUSICALES'!H2 -> Integra de Colombia S.A.S
A4: ANEXO - “COMPROMISOS AMBIENTALES” | B4: SI | C4: SI | D4: SI | E4: SI | F4: SI | G4: SI
A5: Observación: | B5: DE ACUERDO A LA SUBSANACIÓN ALLEGADA CUMPLE CON EL FORMATO | C5: - | F5: DE ACUERDO A LA SUBSANACIÓN ALLEGADA CUMPLE CON EL FORMATO
A6: RESULTADO: | B6: HABILITADO | C6: HABILITADO | D6: HABILITADO | E6: HABILITADO | F6: HABILITADO | G6: HABILITADO
B9: Elaboro: MABEL ANGELICA SAAVEDRA ACOSTA - Contratista Planeación Social CPS 1319-2024

Sheet CONSOLIDADO TÉCNICO-FINAL
A2: "CONSOLIDADO SASI 002 LOTE 4"
A4: ÍTEM | B4: OFERENTES | C4: VERIFICACION EXPERIENCIA GENERAL | D4: VERIFICACION FORMATO EXPERIENCIA | E4: VERIFICACION FORMATO DE ACEPTACION CONDICIONES TECNICAS | F4: VERIFICACION BUENAS PRACTICAS AMBIENTALES | G4: RESULTADO
A5: 1 | B5: PROPONENTE No. 1 | C5: HABILITADO | D5: HABILITADO | E5: HABILITADO | F5: HABILITADO | G5: HABILITADO
B6: =+'EXPERIENCIA LOTE 4 MUSICALES'!C2 -> INGFRACOL SAS
A7: 2 | B7: PROPONENTE No. 5 | C7: HABILITADO | D7: HABILITADO | E7: HABILITADO | F7: HABILITADO | G7: HABILITADO
B8: =+'EXPERIENCIA LOTE 4 MUSICALES'!D2 -> ABOVE COLOMBIA SAS
A9: 3 | B9: PROPONENTE No. 6 | C9: HABILITADO | D9: HABILITADO | E9: HABILITADO | F9: HABILITADO | G9: HABILITADO
B10: =+'EXPERIENCIA LOTE 4 MUSICALES'!E2 -> E&T S.A.S
A11: 4 | B11: PROPONENTE No. 10 | C11: HABILITADO | D11: HABILITADO | E11: HABILITADO | F11: HABILITADO | G11: HABILITADO
B12: =+'EXPERIENCIA LOTE 4 MUSICALES'!F2 -> COMERCIALIZADORA SERLE.COM S.A.S.
A13: 5 | B13: PROPONENTE No. 12 | C13: CUMPLE | D13: HABILITADO | E13: HABILITADO | F13: HABILITADO | G13: HABILITADO
B14: =+'EXPERIENCIA LOTE 4 MUSICALES'!G2 -> UT CAPITAL GROUP
A15: 6 | B15: PROPONENTE No. 13 | C15: HABILITADO | D15: HABILITADO | E15: HABILITADO | F15: HABILITADO | G15: HABILITADO
B16: =+'EXPERIENCIA LOTE 4 MUSICALES'!H2 -> Integra de Colombia S.A.S
A18: Elaboro: MABEL ANGELICA SAAVEDRA ACOSTA - Contratista Planeación Social CPS 1319-2024
