Workbook
Name _Hlk15969929: 'FORMATO GIL-F-029'!$B$26
Name _Hlk33425932: 'FORMATO GIL-F-029'!$B$25
Name _Hlk34208968: 'FORMATO GIL-F-029'!#REF!
Name NOM_BPIN: '[1]RUBROS X BPIN '!$A$2:$D$338
Name Regional_Antioquia: #REF!
Name Regional_Valle: #REF!
Name regionales: [2]regionales!$A$1:$B$34

Sheet FORMATO GIL-F-029
I1: Versión:07
I2: Código: GIL-F-029
B3: Proceso Gestión de Infraestructura y Logística
B4: Formato Certificación Contrato para Intervenciones a Inmuebles
B5: FECHA DILIGENCIAMIENTO | D5: 45656
B6: DATOS GENERALES DEL CONTRATO
B7: CONTRATO No. | D7: CONTRATO No. CO1.PCCNTR.6738432 DEL 09 DE SEPTIEMBRE 2024 | G7: FECHA SUSCRIPCIÓN | H7: 45544
B8: REGIONAL O CENTRO DE FORMACIÓN DE EJECUCIÓN PRESUPUESTAL | D8: TOLIMA CENTRO AGROPECUARIO LA GRANJA | G8: POSICIÓN CATÁLOGO INSTITUCIONAL REGIONAL O CENTRO DE FORMACIÓN | H8: =+VLOOKUP(D8,'[3]LISTADO PCI''s'!A:C,3,0) -> 36-02-00-073-912310
B9: CONTRATISTA | D9: ARMANDO MONSALVE OSORIO | G9: NIT | H9: 14319972-6
B10: OBJETO: | D10: CONTRATAR OBRAS DE MANTENIMIENTO E IMPERMEABILIZACION DE CUBIERTAS Y MUROS EXTERIORES EN DIVERSOS AMBIENTES DE FORMACION DEL CENTRO AGROPECUARIO LA GRANJA DEL SENA ESPINAL - TOLIMA EN LA VIGENCIA 2024.
B11: REPRESENTANTE LEGAL | D11: ARMANDO MONSALVE OSORIO
B12: CONCEPTO DEL CONTRATO | D12: MANTENIMIENTO Y/O REPARACIONES
B13: REGIONAL DONDE SE REALIZA EL PROYECTO O INVERSIÓN | D13: TOLIMA | G13: POSICION CATALOGO INSITUCIONAL REGIONAL O CENTRO DE FORMACIÓN | H13: =+VLOOKUP(D13,'[3]LISTADO PCI''s'!B:C,2,0) -> 36-02-00-073-000000
B14: CENTRO DONDE SE UBICA EL PROYECTO O INVERSIÓN | D14: TOLIMA CENTRO AGROPECUARIO LA GRANJA | G14: ESTADO DE TENENCIA | H14: PROPIO EN USO
B15: DIRECCIÓN DEL INMUEBLE | D15: KILOMETRO 5 VIA ESPINAL - IBAGUE | G15: CIUDAD | H15: EL ESPINAL
B16: ORDENADOR DEL GASTO | D16: JUAN CAMILO SOTO DIAZ | G16: CARGO | H16: SUBDIRECTOR
B17: UNIDAD ADMINISTRATIVA RESPONSABLE DE ORDENAR EL GASTO | D17: SUBDIRECCION DEL CENTRO | G17: DEPARTAMENTO / CIUDAD / MUNICIPIO EXENTO DE IVA? | H17: NO
B18: SUPERVISIÓN / INTERVENTORIA | G18: CONTRATO No
B19: DIRECTOR DE INTERVENTORÍA
B20: SUPERVISIÓN SENA | D20: HARRISON MORENO PEÑA | G20: APOYO SUPERVISIÓN | H20: CESAR AUGUSTO CAMELO MUÑOZ
B21: FECHA DE INICIO | D21: 45547 | G21: FECHA ESTIMADA DE TERMINACIÓN | H21: 45653
B23: ACTOS ADMINISTRATIVOS
B24: TIPO DE ACTO ADMINISTRATIVO | D24: FECHA | F24: CONCEPTO
B25: Adición Presupuestal y Prorroga | D25: 45632 | F25: Adición presupuestal para el CONTRATO No. CO1.PCCNTR.6738432 del 09 de septiembre 2024 por valor $5.554.692,03 y prroroga hasta el 27/12/2024
B27: VALOR DEL CONTRATO
B28: CONCEPTO | D28: VALOR ANTES DE IVA | E28: IVA | F28: VALOR TOTAL IVA INCLUIDO | G28: ANTICIPO DISCRIMINADO | I28: TOTAL ANTICIPO
G29: PORCENTAJE (%) | H29: VALOR
B30: Valor inicial del Contrato | D30: =F30-E30 -> 2.6989411e+08 | E30: =0.0095*F30/1.2595 -> 2051195.3 | F30: 2.7194531e+08 | H30: =+F30*G30 -> 0 | I30: =+H30 -> 0
F32: =SUM(D32:E32) -> 0 | H32: =+F32*G32 -> 0 | I32: =+H32 -> 0
B33: VALOR TOTAL DEL CONTRATO | D33: =F33-E33 -> 2.6989411e+08 | E33: =0.0095*F33/1.2595 -> 2051195.3 | F33: =F30 -> 2.7194531e+08 | G33: VALOR TOTAL ANTICIPO | I33: =+SUM(I30:I32) -> 0
B34: ACTO ADMINISTRATIVO | D34: VALOR ANTES DE IVA | E34: IVA | F34: VALOR TOTAL IVA INCLUIDO | G34: PORCENTAJE (%) | H34: VALOR | I34: TOTAL ANTICIPO
B35: Adición Presupuestal y proroga | D35: =F35-E35 -> 5512794.8 | E35: =0.0095*F35/1.2595 -> 41897.24 | F35: 5554692 | H35: =+F35*G35 -> 0 | I35: =+H35 -> 0
B38: SUBTOTAL ADICIONES O MODIFICACIONES | D38: =SUM(D35:D37) -> 5512794.8 | E38: =SUM(E35:E37) -> 41897.24 | F38: =SUM(F35:F37) -> 5554692 | G38: VALOR TOTAL ANTICIPO ACUMULADO | I38: =+I33+SUM(I35:I37) -> 0
B39: VALOR TOTAL CONTRATO = VR INICIAL + ADICIONES | G39: =F33+F38 -> 277500000 | H39: VR TOTAL ANTICIPO | I39: =+I38 -> 0
B40: DATOS CONTABLES | D40: VALOR TOTAL DEL IVA | G40: =+E33+E38 -> 2093092.5
D41: VALOR TOTAL DEL CONTRATO SIN IVA | G41: =+G39-G40 -> 2.7540691e+08
B43: INFORMACIÓN PRESUPUESTAL | F43: ¿INCLUYE DEMOLICIÓN TOTAL O PARCIAL DE LA EDIFICACION? | I43: NO
B44: No. REGISTRO PRESUPUESTAL DEL COMPROMISO | C44: FECHA | D44: VALOR | F44: NOMBRE DEL COMPONENTE A DEMOLER | H44: % DEMOLICIÓN | I44: ÁREA EN M2
B45: 200124 | C45: 11 de septiembre de 2024 | D45: 277500000
B50: FACTURA - CORTE O PAGO A REALIZAR
...

Sheet FORMATO GIL-F-047
AU1: Versión: 06
AU2: Código: GIL-F- 047
B3: Proceso Gestion de Infraestructura y Logística
B4: Formato de Construcciones en Curso
B5: SENA - DIRECCIÓN GENERAL - DIRECCION ADMINISTRATIVA Y FINANCIERA - GRUPO DE CONSTRUCCIONES
B6: CORTE AL MES DE _______ DE ______
B7: POR FAVOR LEER LAS INSTRUCCIONES ANTES DE DILIGENCIAR (CLIC AQUÍ)
B8: INFORMACION DE OBRA Y CONTRATO | U8: DEMOLICIÓN | Y8: ANTICIPOS | AC8: OBLIGACIONES Y AMORTIZACIONES DE ANTICIPOS | AK8: VALOR TOTAL PAGADO CONSTRUCCION EN CURSO/CONTRATO Afectado a cuenta 1615 | AL8: PORCENTAJE DE AVANCE LA OBRA | AM8: DOCUMENTOS SOPORTE ADJUNTOS | AO8: FIN DE OBRA | AR8: NOMBRES DE RESPONSABLES DE LA INFORMACIÓN
B9: ITEM | C9: OBRA REFERENTE | D9: NOMBRE REGIONAL O CENTRO DE FORMACIÓN EJECUCIÓN PRESUPUESTAL | E9: CÓDIGO PCI EJECUCION PRESUPUESTAL | F9: NOMBRE REGIONAL EJECUCIÓN DE OBRA | G9: CÓDIGO PCI EJECUCIÓN DE OBRA | H9: CIUDAD O MUNICIPIO | I9: DIRECCIÓN DEL INMUEBLE OBJETO DE LA OBRA | J9: LINK SECOP II | K9: No. CEDULA O NIT DEL CONTRATISTA | L9: NOMBRE TERCERO CONTRATISTA | M9: CONTRATO No. | N9: FECHA DEL CONTRATO | O9: FECHA DE INICIO | P9: FECHA ESTIMADA DE TERMINACIÓN DE LA OBRA | Q9: VALOR INICIAL DEL CONTRATO | R9: ADICIONES O DISMINUCIONES AL VALOR DEL CONTRATO | S9: VALOR TOTAL DEL CONTRATO | T9: OBJETO/ DESCRIPCIÓN | U9: ¿INCLUYE DEMOLICION? | V9: % DEMOLICIÓN | W9: FECHA DE LA DEMOLICIÓN | X9: No. DE COMPROBANTE CONTABLE DEL REGISTRO DE LA DEMOLICIÓN | Y9: No. DE ORDEN DE PAGO DEL ANTICIPO | Z9: FECHA ORDEN DE PAGO | AA9: VALOR ORDEN DE PAGO ANTICIPO | AB9: SALDO POR AMORTIZAR DEL ANTICIPO | AC9: NO. REGISTRO PRESUPUESTAL DEL COMPROMISO | AD9: TIPO DE REGISTRO | AE9: NÚMERO DE OBLIGACIÓN O AMORTIZACIÓN | AF9: CÓDIGO CONTABLE AFECTADO EN LA OBLIGACION O AMORTIZACIÓN | AG9: FECHA DE LA OBLIGACIÓN O AMORTIZACIÓN | AH9: VALOR DE LA OBLIGACIÓN O AMORTIZACIÓN | AI9: VALOR DE IVA | AJ9: CONCEPTO DEL PAGO O AMORTIZACIÓN | AM9: COPIA DEL CONTRATO Y SUS MODIFICACIONES Y/O RESOLUCIÓN DE LICENCIA URBANÍSTICA DE CONSTRUCCIÓN | AN9: SOPORTE DEL PAGO (FACTURA, CUENTA DE COBRO O DOCUMENTO EQUIVALENTE) DE ACUERDO CON EL AVANCE O EJECUCIÓN DE OBRA. | AO9: ¿OBRA TERMINADA Y EN CONDICIONES DE USO? | AP9: ¿ACTIVADO MAYOR VALOR AL INMUEBLE? | AQ9: No. TRANSACCIÓN CONTABLE ACTIVACIÓN OBRA | AR9: SUPERVISOR | AS9: CONTABILIDAD | AT9: HOMÓLOGO DEL GRUPO DE CONSTRUCCIONES | AU9: COORDINADOR GRUPO ADMINISTRATIVO MIXTO Y/O COORD CONSTRUCCIONES (DG)
B10: 1 | C10: 5293541_2023_CENTRO AGROPECUARIO LA GRANJA | D10: TOLIMA CENTRO AGROPECUARIO LA GRANJA | E10: =+VLOOKUP(D10,'[4]LISTADO PCI''s'!A:C,3,0) -> 36-02-00-073-912310 | F10: TOLIMA | G10: =+VLOOKUP(F10,'[4]LISTADO PCI''s'!B:C,2,0) -> 36-02-00-073-000000 | H10: EL ESPINAL | I10: KILOMETRO 5 VIA ESPINAL - IBAGUE | J10: https://www.secop.gov.co/CO1ContractsManagement/Tendering/ProcurementContractEdit/View?docUniqueIdentifier=CO1.PCCNTR.6738432&prevCtxUrl=https%3a%2f%2fwww.secop.gov.co%3a443%2fCO1ContractsManagement%2fTendering%2fProcurementContractManagement%2fIndex&prevCtxLbl=Contratos+ | K10: 14319972-6 | L10: ARMANDO MONSALVE OSORIO | M10: CONTRATO No. CO1.PCCNTR.6738432 DEL 09 DE SEPTIEMBRE 2024 | N10: 45544 | O10: 45547 | P10: 45653 | Q10: 2.7194531e+08 | R10: 5554692 | S10: =+Q10+R10 -> 277500000 | T10: CONTRATAR OBRAS DE MANTENIMIENTO E IMPERMEABILIZACION DE CUBIERTAS Y MUROS EXTERIORES EN DIVERSOS AMBIENTES DE FORMACION DEL CENTRO AGROPECUARIO LA GRANJA DEL SENA ESPINAL - TOLIMA EN LA VIGENCIA 2024. | U10: NO | AC10: Registro Presupuestal Número 200124 del 11 de septiembre de 2024 | AD10: Presupuestal | AJ10: Único y último pago (Corte de Obra) del contrato CONTRATO No. CO1.PCCNTR.6738432 DEL 09 DE SEPTIEMBRE 2024. | AK10: =S10 -> 277500000 | AL10: 1 | AM10: NO | AN10: SI | AO10: SI | AP10: SI | AQ10: N/A | AR10: HARRISON MORENO PEÑA | AS10: GLORIA PATRICIA ARDILA | AT10: PAOLA MORALES RUIZ | AU10: MARCELA SANCHEZ SANCHEZ
B11: =+B10+1 -> 2 | S11: =+Q11+R11 -> 0 | AK11: =((IF(OR(AF11=161501001,AF11=161504001,AF11=161590001,AF11=161505001),AH11,0))) -> 0
B12: =+B11+1 -> 3 | S12: =+Q12+R12 -> 0 | AK12: =((IF(OR(AF12=161501001,AF12=161504001,AF12=161590001,AF12=161505001),AH12,0))) -> 0
B13: =+B12+1 -> 4 | S13: =+Q13+R13 -> 0 | AK13: =((IF(OR(AF13=161501001,AF13=161504001,AF13=161590001,AF13=161505001),AH13,0))) -> 0
B14: =+B13+1 -> 5 | S14: =+Q14+R14 -> 0 | AK14: =((IF(OR(AF14=161501001,AF14=161504001,AF14=161590001,AF14=161505001),AH14,0))) -> 0
B15: =+B14+1 -> 6 | S15: =+Q15+R15 -> 0 | AK15: =((IF(OR(AF15=161501001,AF15=161504001,AF15=161590001,AF15=161505001),AH15,0))) -> 0
B16: =+B15+1 -> 7 | S16: =+Q16+R16 -> 0 | AK16: =((IF(OR(AF16=161501001,AF16=161504001,AF16=161590001,AF16=161505001),AH16,0))) -> 0
B17: =+B16+1 -> 8 | S17: =+Q17+R17 -> 0 | AK17: =((IF(OR(AF17=161501001,AF17=161504001,AF17=161590001,AF17=161505001),AH17,0))) -> 0
B18: =+B17+1 -> 9 | S18: =+Q18+R18 -> 0 | AK18: =((IF(OR(AF18=161501001,AF18=161504001,AF18=161590001,AF18=161505001),AH18,0))) -> 0
B19: =+B18+1 -> 10 | S19: =+Q19+R19 -> 0 | AK19: =((IF(OR(AF19=161501001,AF19=161504001,AF19=161590001,AF19=161505001),AH19,0))) -> 0
B20: =+B19+1 -> 11 | S20: =+Q20+R20 -> 0 | AK20: =((IF(OR(AF20=161501001,AF20=161504001,AF20=161590001,AF20=161505001),AH20,0))) -> 0
B21: TOTAL CUENTA 1615 CONSTRUCCIONES EN CURSO | AK21: =SUM(AK10:AK20) -> 277500000

Sheet FORMATO GIL-F-045
AH1: Versión: 06
AH2: Código: GIL-F- 045
B3: Proceso Gestion de Infraestructura y Logística
B4: Formato Consolidado de hechos económicos inmuebles
B5: SENA - DIRECCIÓN GENERAL - DIRECCION ADMINISTRATIVA Y FINANCIERA - GRUPO DE CONSTRUCCIONES
B6: REPORTE ACTIVACION OBRAS A BIENES INMUEBLES CORRESPONDIENTE AL MES DE DICIEMBRE DE 2023
B7: ANTES DE DILIGENCIAR ESTE FORMATO POR FAVOR LEER LAS INSTRUCCIONES - CLIC AQUÍ
B9: INFORMACIÓN DEL CONTRATO E INMUEBLE | Q9: DEMOLICIÓN | U9: MODIFICACION VIDA ÚTIL | W9: INFORMACIÓN FINANCIERA | AA9: DOCUMENTOS SOPORTE ADJUNTOS | AE9: RESPONSABLES DE LA INFORMACIÓN
B10: OBRA REFERENTE | C10: NOMBRE REGIONAL O CENTRO DE FORMACIÓN DE EJECUCIÓN PRESUPUESTAL | D10: CÓDIGO PCI REGIONAL O CENTRO DE EJECUCIÓN PRESUPUESTAL | E10: NOMBRE REGIONAL DE EJECUCION DE OBRA | F10: CÓDIGO PCI REGIONAL EJECUCIÓN OBRA | G10: DIRECCIÓN DEL INMUEBLE AL CUAL SE REALIZA LA INTERVENCIÓN | H10: ESTADO DE TENENCIA | I10: ENLACE SECOP II | J10: NÚMERO DE CÉDULA O NIT DEL CONTRATISTA | K10: NOMBRE O RAZÓN SOCIAL CONTRATISTA | L10: NO. CONTRATO | M10: FECHA DEL CONTRATO | N10: FECHA TERMINACIÓN DE OBRA | O10: OBJETO DEL CONTRATO | P10: VALOR TOTAL DEL CONTRATO (SIN IVA) | Q10: ¿INCLUYE DEMOLICIÓN? | R10: PORCENTAJE DE DEMOLICIÓN | S10: ÁREA DEMOLIDA EN M2 | T10: No. COMPROBANTE (S) CONTABLE (S) DE REGISTRO DE DEMOLICIÓN | U10: ¿AUMENTO DE VIDA ÚTIL? | V10: VIDA ÚTIL A AUMENTAR (MESES) | W10: VALOR TOTAL PAGADO POR CONSTRUCCIÓN, ADECUACIÓN O MEJORAS (SIN IVA) | X10: VALOR PENDIENTE DE PAGO (SIN IVA) | Y10: VALOR ACTIVACIÓN | Z10: No. TRANSACCIÓN CONTABLE DE LA ACTIVACIÓN DE LA OBRA | AA10: COPIA DEL CONTRATO Y SUS MODIFICACIONES Y/O RESOLUCIÓN DE LICENCIA URBANÍSTICA DE CONSTRUCCIÓN | AB10: ACTA DE RECIBO A SATISFACCIÓN | AC10: ÚLTIMO FORMATO GIL-F-029 | AD10: FICHA METODOLÓGICA DE DEPURACIÓN CONTABLE | AE10: SUPERVISOR | AF10: CONTABILIDAD | AG10: HOMÓLOGO DEL GRUPO DE CONSTRUCCIONES | AH10: COORDINADOR GRUPO ADMINISTRATIVO Y/O COORDINADOR CONSTRUCCIONES (DG)
B11: 5293541_2023_CENTRO AGROPECUARIO LA GRANJA | C11: TOLIMA CENTRO AGROPECUARIO LA GRANJA | D11: =+VLOOKUP(C11,'[5]LISTADO PCI''s'!A:C,3,0) -> 36-02-00-073-912310 | E11: TOLIMA | F11: 36-02-00-73-000000 | G11: KILOMETRO 5 VIA ESPINAL - IBAGUE | H11: PROPIO | I11: https://www.secop.gov.co/CO1ContractsManagement/Tendering/ProcurementContractEdit/View?docUniqueIdentifier=CO1.PCCNTR.6738432&prevCtxUrl=https%3a%2f%2fwww.secop.gov.co%3a443%2fCO1ContractsManagement%2fTendering%2fProcurementContractManagement%2fIndex&prevCtxLbl=Contratos+ | J11: 14319972-6 | K11: ARMANDO MONSALVE OSORIO | L11: CONTRATO No. CO1.PCCNTR.6738432 DEL 09 DE SEPTIEMBRE 2024 | M11: 45544 | N11: 45653 | O11: CONTRATAR OBRAS DE MANTENIMIENTO E IMPERMEABILIZACION DE CUBIERTAS Y MUROS EXTERIORES EN DIVERSOS AMBIENTES DE FORMACION DEL CENTRO AGROPECUARIO LA GRANJA DEL SENA ESPINAL - TOLIMA EN LA VIGENCIA 2024. | P11: 2.7540691e+08 | Q11: NO | U11: SI | V11: 36 | W11: 2.7540691e+08 | X11: 0 | Y11: 2.7540691e+08 | AA11: NO APLICA | AB11: NO APLICA | AC11: NO | AD11: NO | AE11: HARRISON MORENO PEÑA | AF11: GLORIA PATRICIA ARDILA | AG11: PAOLA MORALES RUIZ | AH11: MARCELA SANCHEZ SANCHEZ
Y12: =+W12+X12 -> 0
Y13: =+W13+X13 -> 0
Y14: =+W14+X14 -> 0
Y15: =+W15+X15 -> 0
Y16: =+W16+X16 -> 0
Y17: =+W17+X17 -> 0
Y18: =+W18+X18 -> 0
Y19: =+W19+X19 -> 0
Y20: =+W20+X20 -> 0
Y21: =+W21+X21 -> 0
Y22: =+W22+X22 -> 0
Y23: =+W23+X23 -> 0
