Workbook

Sheet DATOS INICIALES
A1: ALCALDIA LOCAL DE KENNEDY
B2: OBJETO DEL CONTRATO: | D2: REALIZAR LA INTERVENTORÍA TÉCNICA, ADMINISTRATIVA, FINANCIERA, JURÍDICA, AMBIENTAL, SOCIAL Y DE SEGURIDAD Y SALUD EN EL TRABAJO AL CONTRATO DE OBRA PÚBLICA RESULTANTE DEL PROCESO DE LICITACIÓN PÚBLICA No. FDLK-LP-013-2024 CUYO OBJETO ES: CONTRATAR POR EL SISTEMA DE PRECIOS UNITARIOS A MONTO AGOTABLE EL DIAGNÓSTICO, MANTENIMIENTO CORRECTIVO Y PREVENTIVO, SUMINISTRO E INSTALACION DE MOBILIARIO DE LOS PARQUES DE PROXIMIDAD (VECINALES Y DE BOLSILLO) PRIORIZADOS EN LA LOCALIDAD DE KENNEDY
B3: DATOS DEL PROCESO
A4: MODALIDAD DE CONTRATACION | B4: CONCURSO DE MERITOS ABIERTO | E4: No. Del Proceso | G4: FDLK-CMA-003-2024
A5: VALOR DEL PROCESO: | B5: PRESUPUESTO | C5: 526819451 | E5: PLAZO: | G5: 7 | I5: MESES
A8: PRESUPUESTO OFICIAL EN PESOS | B8: VALOR SMMLV | C8: PRESUPUESTO OFICIAL SMMLV
A9: =C5 -> 526819451 | B9: 1300000 | C9: =A9/B9 -> 405.24573
A12: VIGENCIA | B12: VALOR
A13: 1984 | B13: 11298
A14: 1990 | B14: 41025
A15: 1995 | B15: 118934
A16: 1996 | B16: 142125
A17: 1997 | B17: 172005
A18: 1998 | B18: 203826
A19: 1999 | B19: 236460
A20: 2000 | B20: 260100
A21: 2001 | B21: 286000 | D21: CODIGO UNSPSC | E21: DESCRIPCION
A22: 2002 | B22: 309000 | D22: 81141500 | E22: Control de calidad
A23: 2003 | B23: 332000 | D23: 80101500 | E23: Servicios de Consultoría de negocios y administración corporativa
A24: 2004 | B24: 358000 | D24: 80101600 | E24: Servicios de mantenimiento y reparación de infraestructura
A25: 2005 | B25: 381500 | D25: 81101500 | E25: Servicios de mantenimiento y reparación de instalaciones
A26: 2006 | B26: 408000
A27: 2007 | B27: 433700
A28: 2008 | B28: 461500
A29: 2009 | B29: 496900
A30: 2010 | B30: 515000
A31: 2011 | B31: 535600
A32: 2012 | B32: 566700
A33: 2013 | B33: 589500
A34: 2014 | B34: 616000
A35: 2015 | B35: 644350
A36: 2016 | B36: 689455
A37: 2017 | B37: 737717
... A43: 2023 | B43: 1160000
A45: HABILITADO | C45: SI
A46: INHABILITADO | C46: NO
A47: N/A | C47: N/A
A50: CUMPLE | C50: REPORTADO
A51: NO CUMPLE | C51: NO REPORTADO
A52: N/A
...

Sheet PROPONENTES
A1: ALCALDIA LOCAL DE KENNEDY
C2: OBJETO DEL CONTRATO: | E2: =+'DATOS INICIALES'!D2 -> REALIZAR LA INTERVENTORÍA TÉCNICA, ADMINISTRATIVA, FINANCIERA, JURÍDICA, AMBIENTAL, SOCIAL Y DE SEGURIDAD Y SALUD EN EL TRABAJO AL CONTRATO DE OBRA PÚBLICA RESULTANTE DEL PROCESO DE LICITACIÓN PÚBLICA No. FDLK-LP-013-2024 CUYO OBJETO ES: CONTRATAR POR EL SISTEMA DE PRECIOS UNITARIOS A MONTO AGOTABLE EL DIAGNÓSTICO, MANTENIMIENTO CORRECTIVO Y PREVENTIVO, SUMINISTRO E INSTALACION DE MOBILIARIO DE LOS PARQUES DE PROXIMIDAD (VECINALES Y DE BOLSILLO) PRIORIZADOS EN LA LOCALIDAD DE KENNEDY
C3: DATOS DEL PROCESO
A4: MODALIDAD DE CONTRATACION | C4: =+'DATOS INICIALES'!B4 -> CONCURSO DE MERITOS ABIERTO | F4: No. Del Proceso | H4: =+'DATOS INICIALES'!G4 -> FDLK-CMA-003-2024
A5: VALOR DEL PROCESO: | C5: =+'DATOS INICIALES'!B5 -> PRESUPUESTO | D5: =+'DATOS INICIALES'!C5 -> 526819451 | F5: PLAZO | N5: =+'DATOS INICIALES'!G5 -> 7 | O5: =+'DATOS INICIALES'!I5 -> MESES
A8: INFORMACIÓN GENERAL DE LOS PROPONENTES GRUPO 1
A9: No. | B9: NOMBRE DEL PROPONENTE | C9: INTEGRANTE 1 | D9: % PARTICIPACION | E9: INTEGRANTE 2 | F9: % PARTICIPACION | G9: INTEGRANTE 3 | H9: % PARTICIPACION | I9: INTEGRANTE 4 | J9: % PARTICIPACION | K9: INTEGRANTE 5 | L9: % PARTICIPACION | M9: TOTAL INTEGRANTES | N9: SUMATORIA %PARTICIPACIÓN
A10: 1 | B10: SOLIUN INGENIERIA SAS | C10: SOLIUN INGENIERIA SAS | D10: 1 | M10: =+COUNTIF(C10:L10,"*") -> 1 | N10: =+SUM(D10,F10,H10,J10,L10) -> 1
A11: 2 | B11: VELNEC S.A. | C11: VELNEC S.A. | D11: 1 | M11: =+COUNTIF(C11:L11,"*") -> 1 | N11: =+SUM(D11,F11,H11,J11,L11) -> 1
A12: 3 | B12: ARQUITECTURA URBANA LTDA | C12: ARQUITECTURA URBANA LTDA | D12: 1 | M12: =+COUNTIF(C12:L12,"*") -> 1 | N12: =+SUM(D12,F12,H12,J12,L12) -> 1
A13: 4 | B13: ABDO JOSÉ SALGADO AYOLA | C13: ABDO JOSÉ SALGADO AYOLA | D13: 1 | M13: =+COUNTIF(C13:L13,"*") -> 1 | N13: =+SUM(D13,F13,H13,J13,L13) -> 1
A14: 5 | B14: PRODEINCOL S.A.S. | C14: PRODEINCOL S.A.S. | D14: 1 | M14: =+COUNTIF(C14:L14,"*") -> 1 | N14: =+SUM(D14,F14,H14,J14,L14) -> 1
A15: 6 | B15: CONSORCIO INTERVEP KM | C15: KALPA INGENIERIA SAS SOCIEDAD DE BENEFICIO E INTERES COLECTIVO - BIC | D15: 0.99 | E15: MEDINA & RIVERA INGENIEROS ASOCIADOS SAS | F15: 0.01 | M15: =+COUNTIF(C15:L15,"*") -> 2 | N15: =+SUM(D15,F15,H15,J15,L15) -> 1
A16: 7 | B16: CONSULTORES DEL OCCIDENTE SAS | C16: CONSULTORES DEL OCCIDENTE SAS | D16: 1 | M16: =+COUNTIF(C16:L16,"*") -> 1 | N16: =+SUM(D16,F16,H16,J16,L16) -> 1
A17: 8 | B17: CONSULTORES DONOVAN SAS | C17: CONSULTORES DONOVAN SAS | D17: 1 | M17: =+COUNTIF(C17:L17,"*") -> 1 | N17: =+SUM(D17,F17,H17,J17,L17) -> 1
A18: 9 | B18: JESAK SAS | C18: JESAK SAS | D18: 1 | M18: =+COUNTIF(C18:L18,"*") -> 1 | N18: =+SUM(D18,F18,H18,J18,L18) -> 1
A19: 10 | B19: R&M CONSTRUCCIONES E INTERVENTORIAS SAS | C19: R&M CONSTRUCCIONES E INTERVENTORIAS SAS | D19: 1 | M19: =+COUNTIF(C19:L19,"*") -> 1 | N19: =+SUM(D19,F19,H19,J19,L19) -> 1
A20: 11 | B20: CONSORCIO INTERVENTORÍA DSG | C20: SESAC S.A. | D20: 0.7 | E20: DEIGMA S.A.S. | F20: 0.2 | G20: GESSI ALVERA S.A.S. | H20: 0.1 | M20: =+COUNTIF(C20:L20,"*") -> 3 | N20: =+SUM(D20,F20,H20,J20,L20) -> 1
A21: 12 | B21: INGENIEROS CONSTRUCTORES Y ASESORES SAS | C21: INGENIEROS CONSTRUCTORES Y ASESORES SAS | D21: 1 | M21: =+COUNTIF(C21:L21,"*") -> 1 | N21: =+SUM(D21,F21,H21,J21,L21) -> 1
A22: 13 | B22: CONSORCIO INTERVENTOR ANFAO | C22: GRUPO FAO SAS | D22: 0.9 | E22: ANDINA DE CONSULTORÍA Y CONSTRUCCIONES SAS | F22: 0.1 | M22: =+COUNTIF(C22:L22,"*") -> 2 | N22: =+SUM(D22,F22,H22,J22,L22) -> 1
A23: 14 | B23: GRUPO METRO COLOMBIA SAS | C23: GRUPO METRO COLOMBIA SAS | D23: 1 | M23: =+COUNTIF(C23:L23,"*") -> 1 | N23: =+SUM(D23,F23,H23,J23,L23) -> 1
A24: 15 | B24: CONSORCIO INTERPROYECTOS CAREN | C24: COMPAÑÍA DE INTERVENTORIAS Y CONSULTORIAS DE LA COSTA S.A.S. | D24: 0.25 | E24: AREN PROYECTOS & CONSULTORIAS S.A.S. | F24: 0.75 | M24: =+COUNTIF(C24:L24,"*") -> 2 | N24: =+SUM(D24,F24,H24,J24,L24) -> 1
A25: 16 | B25: CONSORCIO INTER PARQUES IYC 2024 | C25: INTERVENTORIA Y CONSTRUCIVILES SAS | D25: 0.5 | E25: 2L PROYECTOS S.A.S. BIC | F25: 0.5 | M25: =+COUNTIF(C25:L25,"*") -> 2 | N25: =+SUM(D25,F25,H25,J25,L25) -> 1
A26: 17 | B26: CONSORCIO-INTER-P-KENEDY | C26: ENVIRONMENTAL AND GEOMECHANICAL SOLUTIONS EGS SAS | D26: 0.9 | E26: JAPG INGENIERIA SAS | F26: 0.1 | M26: =+COUNTIF(C26:L26,"*") -> 2 | N26: =+SUM(D26,F26,H26,J26,L26) -> 1
A27: 18 | B27: CONSORCIO INTERPARQUES BOGOTÁ | C27: CITPRO CONSULTORES S.A.S. ZOMAC | D27: 0.3 | E27: HG INGENIERIA Y DESARROLLO S.A.S | F27: 0.7 | M27: =+COUNTIF(C27:L27,"*") -> 2 | N27: =+SUM(D27,F27,H27,J27,L27) -> 1
A28: 19 | B28: CONSORCIO PARQUES VECINALES 2025 | C28: RAZING SAS | D28: 0.1 | E28: SUMMA PROYECTOS E INGENIERIA SOCIEDAD POR ACCIONES SIMPLIFICADA | F28: 0.9 | M28: =+COUNTIF(C28:L28,"*") -> 2 | N28: =+SUM(D28,F28,H28,J28,L28) -> 1
A29: 20 | B29: DF CONSULTORIA SAS | C29: DF CONSULTORIA SAS | D29: 1 | M29: =+COUNTIF(C29:L29,"*") -> 1 | N29: =+SUM(D29,F29,H29,J29,L29) -> 1
A30: 21 | B30: CONSORCIO COMODORO | C30: ARQUITECTURA Y URBANISMO SXXI SAS | D30: 0.34 | E30: J. FELIPE ARDILA V. & CIA SAS | F30: 0.33 | G30: INGEPLAN.CO SAS BIC | H30: 0.33 | M30: =+COUNTIF(C30:L30,"*") -> 3 | N30: =+SUM(D30,F30,H30,J30,L30) -> 1
A31: 22 | B31: CONSORCIO PRO_CARING | C31: CARING S.A.S | D31: 0.5 | E31: PROYECTOS E INTERVENTORÍAS S.A.S | F31: 0.5 | M31: =+COUNTIF(C31:L31,"*") -> 2 | N31: =+SUM(D31,F31,H31,J31,L31) -> 1
A32: 23 | B32: SOLUCIONES PARA LA INGENIERÍA S.A.S. | C32: SOLUCIONES PARA LA INGENIERÍA S.A.S. | D32: 1 | M32: =+COUNTIF(C32:L32,"*") -> 1 | N32: =+SUM(D32,F32,H32,J32,L32) -> 1
A33: 24 | B33: CONSORCIO ARALEP 003 | C33: ARA INGENIERIA S.A.S. | D33: 0.51 | E33: LEP INGENIEROS S.A.S. | F33: 0.49 | M33: =+COUNTIF(C33:L33,"*") -> 2 | N33: =+SUM(D33,F33,H33,J33,L33) -> 1
A34: 25 | B34: PRAN CONSTRUCCIONES S.A.S. | C34: PRAN CONSTRUCCIONES S.A.S. | D34: 1 | M34: =+COUNTIF(C34:L34,"*") -> 1 | N34: =+SUM(D34,F34,H34,J34,L34) -> 1
A35: 26 | B35: CONSORCIO PROYECTOS 2024 | C35: FUNDACION CAMINO VERDE ONG SOCIAL CULTURAL Y AMBIENTAL CON SIGLA FUNDCAVE | D35: 0.1 | E35: AC2R INGENIERIA Y PROYECTOS S.A.S | F35: 0.9 | M35: =+COUNTIF(C35:L35,"*") -> 2 | N35: =+SUM(D35,F35,H35,J35,L35) -> 1
A36: 27 | B36: CONSORCIO KENNEDY JINT 3 | C36: JPS INGENIERIA S.A.S. | D36: 0.9 | E36: INTING S.A.S. | F36: 0.1 | M36: =+COUNTIF(C36:L36,"*") -> 2 | N36: =+SUM(D36,F36,H36,J36,L36) -> 1
A37: 28 | B37: CABA INTERVENTORÍA SAS | C37: CABA INTERVENTORÍA SAS | D37: 1
A38: 29 | B38: MIRS LATINOAMERICA S.A.S | C38: MIRS LATINOAMERICA S.A.S | D38: 1
A39: 30 | B39: CONSORCIO MULTIPARK KENNEDY | C39: GRUPO CONSULTOR KAPITAL S.A.S. | D39: 0.45 | E39: PROCIVING S.A.S. | F39: 0.45 | G39: INCOSS INGENIERIA CONSULTORIA SERVICIOS Y SUMINISTROS S.A.S. | H39: 0.1
A40: 31 | B40: CONSORCIO PRO-TEV 20 | C40: PROYECTISTAS ASOCIADOS SAS | D40: 0.91 | E40: CONSTRUCTORA TEATINO VARGAS – CONSTRUTEV SAS | F40: 0.09
A41: 32 | B41: LOGIA 3 ASOCIADOS S.A.S – BIC | C41: LOGIA 3 ASOCIADOS S.A.S – BIC | D41: 1
A42: 33 | B42: CONSORCIO AL PARK 003 | C42: INCOPLAN IN SAS | D42: 0.6 | E42: GRUPO ESPECIALIZADO EN DESARROLLO DE INFRAESTRUCTURA S.A.S. | F42: 0.4
...

Sheet 1
B2: ALCALDIA LOCAL DE KENNEDY
B4: ='DATOS INICIALES'!G4 -> FDLK-CMA-003-2024
B6: Ciudad | C6: BOGOTÁ D.C | D6: Fecha de Evaluación | G6: Fecha de Cierre | H6: 44902
B7: DATOS GENERALES | J7: VALOR MINIMO A CERTIFICAR
B8: OBJETO DE LA CONVOCATORIA | C8: ='DATOS INICIALES'!D2 -> REALIZAR LA INTERVENTORÍA TÉCNICA, ADMINISTRATIVA, FINANCIERA, JURÍDICA, AMBIENTAL, SOCIAL Y DE SEGURIDAD Y SALUD EN EL TRABAJO AL CONTRATO DE OBRA PÚBLICA RESULTANTE DEL PROCESO DE LICITACIÓN PÚBLICA No. FDLK-LP-013-2024 CUYO OBJETO ES: CONTRATAR POR EL SISTEMA DE PRECIOS UNITARIOS A MONTO AGOTABLE EL DIAGNÓSTICO, MANTENIMIENTO CORRECTIVO Y PREVENTIVO, SUMINISTRO E INSTALACION DE MOBILIARIO DE LOS PARQUES DE PROXIMIDAD (VECINALES Y DE BOLSILLO) PRIORIZADOS EN LA LOCALIDAD DE KENNEDY | J8: DE 1 HASTA 4, 5 ó 6 | K8: 1 | L8: =K8*$C$10 -> 405.24573
B9: VALOR DEL PROCESO EN PESOS | C9: =+'DATOS INICIALES'!C5 -> 526819451
B10: VALOR DEL PROCESO EN SMMLV | C10: =C9/'DATOS INICIALES'!B9 -> 405.24573
A11: 1 | B11: PROPONENTE | C11: =VLOOKUP(A11,PROPONENTES!A10:B46,2,FALSE) -> SOLIUN INGENIERIA SAS | H11: CONCEPTO FINAL | I11: =IF(AND(F20="CUMPLE",G20="CUMPLE",H20="CUMPLE",L14="CUMPLE",D74="CUMPLE",K16="CUMPLE"),"CUMPLE","NO CUMPLE") -> CUMPLE
B13: ACREDITACIÓN DE EXPERIENCIA FIGURA ASOCIATIVA | I13: TOTAL CONTRATOS VÁLIDOS | J13: VALOR TOTAL A ACREDITAR (SMMLV) | K13: VALOR TOTAL ACREDITADO (SMMLV) | L13: CONCEPTO
B14: MIEMBRO UNICO O INTEGRANTES DEL CONSORCIO O UNION TEMPORAL. | C14: INTEGRANTE | D14: % PARTICIPACIÓN | E14: EXPERIENCIA TOTAL APORTADA | F14: ¿AL MENOS UNO APORTA EL 50% DE EXPERIENCIA? | G14: ¿APORTA MÍNIMO EL 5% DE EXPERIENCIA? | H14: SI NO APORTA ¿TIENE COMO MAXIMO EL 10% DE PARTICIPACIÓN? | I14: =COUNTIF(D68:I68,"CUMPLE") -> 1 | J14: =+L8 -> 405.24573 | K14: =+E20 -> 666.91 | L14: =IF(K14>=J14,"CUMPLE","NO CUMPLE") -> CUMPLE
C15: =IF(VLOOKUP(C11,PROPONENTES!B10:N46,2,FALSE)=0,"",VLOOKUP(C11,PROPONENTES!B10:N46,2,FALSE)) -> SOLIUN INGENIERIA SAS | D15: =IF(VLOOKUP(C11,PROPONENTES!B10:N46,3,FALSE)=0,"",VLOOKUP(C11,PROPONENTES!B10:N46,3,FALSE)) -> 1 | E15: =IF(C15="","",IF($D$68="CUMPLE",IF(C15=$D$24,$D$39)+IF(C15=$D$25,$D$42)+IF(C15=$D$26,$D$45))+IF($E$68="CUMPLE",IF(C15=$E$24,$E$39)+IF(C15=$E$25,$E$42)+IF(C15=$E$26,$E$45))+IF($F$68="CUMPLE",IF(C15=$F$24,$F$39)+IF(C15=$F$25,$F$42)+IF(C15=$F$26,$F$45))+IF($G$68="CUMPLE",IF(C15=$G$24,$G$39)+IF(C15=$G$25,$G$42)+IF(C15=$G$26,$G$45))+IF($H$68="CUMPLE",IF(C15=$H$24,$H$39)+IF(C15=$H$25,$H$42)+IF(C15=$H$26,$H$45))+IF($I$68="CUMPLE",IF(C15=$I$24,$I$39)+IF(C15=$I$25,$I$42)+IF(C15=$I$26,$I$45))+IF($J$68="CUMPLE",IF(C15=$J$24,$J$39)+IF(C15=$J$25,$J$42)+IF(C15=$J$26,$J$45))) -> 666.91 | F15: =IF(C15="","",IF(E15>=$J$14*0.5,"SI","NO")) -> SI | G15: =IF(C15="","",IF(E15>=$J$14*0.05,"SI",IF(E15=0,"NO APORTA EXPERIENCIA",))) -> SI | H15: =IF(C15="","",IF(AND(G15="NO APORTA EXPERIENCIA",D15<=10%),"SI",IF(G15="SI","NO APLICA","NO - PORCENTAJE MAYOR AL 10%"))) -> NO APLICA | I15: EXP. ESPECIFICA ACREDITADA 2 CONTRATOS (SMMLV) | J15: EXP. ESPECIFICA SOLICITADA (SMMLV) | K15: CONCEPTO | L15: VALOR PROMEDIO DE CONTRATOS VALIDOS
C16: =IF(VLOOKUP(C11,PROPONENTES!B10:N46,4,FALSE)=0,"",VLOOKUP(C11,PROPONENTES!B10:N46,4,FALSE)) | D16: =IF(VLOOKUP(C11,PROPONENTES!B10:N46,5,FALSE)=0,"",VLOOKUP(C11,PROPONENTES!B10:N46,5,FALSE)) | E16: =IF(C16="","",IF($D$68="CUMPLE",IF(C16=$D$24,$D$39)+IF(C16=$D$25,$D$42)+IF(C16=$D$26,$D$45))+IF($E$68="CUMPLE",IF(C16=$E$24,$E$39)+IF(C16=$E$25,$E$42)+IF(C16=$E$26,$E$45))+IF($F$68="CUMPLE",IF(C16=$F$24,$F$39)+IF(C16=$F$25,$F$42)+IF(C16=$F$26,$F$45))+IF($G$68="CUMPLE",IF(C16=$G$24,$G$39)+IF(C16=$G$25,$G$42)+IF(C16=$G$26,$G$45))+IF($H$68="CUMPLE",IF(C16=$H$24,$H$39)+IF(C16=$H$25,$H$42)+IF(C16=$H$26,$H$45))+IF($I$68="CUMPLE",IF(C16=$I$24,$I$39)+IF(C16=$I$25,$I$42)+IF(C16=$I$26,$I$45))+IF($J$68="CUMPLE",IF(C16=$J$24,$J$39)+IF(C16=$J$25,$J$42)+IF(C16=$J$26,$J$45))) | F16: =IF(C16="","",IF(E16>=$J$14*0.5,"SI","NO")) | G16: =IF(C16="","",IF(E16>=$J$14*0.05,"SI",IF(E16=0,"NO APORTA EXPERIENCIA",))) | H16: =IF(C16="","",IF(AND(G16="NO APORTA EXPERIENCIA",D16<=10%),"SI",IF(G16="SI","NO APLICA","NO - PORCENTAJE MAYOR AL 5%"))) | I16: =SUMIF(D69:J69,"CUMPLE",D39:J39)+SUMIF(D69:J69,"CUMPLE",D42:J42)+SUMIF(D69:J69,"CUMPLE",D45:J45) -> 666.91 | J16: =+L8*0.7 -> 283.67201 | K16: =IF(I16>=J16,"CUMPLE","NO CUMPLE") -> CUMPLE | L16: =AVERAGEIF(D68:J68,"CUMPLE",D46:J46) -> 666.91
C17: =IF(VLOOKUP(C11,PROPONENTES!B10:N46,6,FALSE)=0,"",VLOOKUP(C11,PROPONENTES!B10:N46,6,FALSE)) | D17: =IF(VLOOKUP(C11,PROPONENTES!B10:N46,7,FALSE)=0,"",VLOOKUP(C11,PROPONENTES!B10:N46,7,FALSE)) | E17: =IF(C17="","",IF($D$68="CUMPLE",IF(C17=$D$24,$D$39)+IF(C17=$D$25,$D$42)+IF(C17=$D$26,$D$45))+IF($E$68="CUMPLE",IF(C17=$E$24,$E$39)+IF(C17=$E$25,$E$42)+IF(C17=$E$26,$E$45))+IF($F$68="CUMPLE",IF(C17=$F$24,$F$39)+IF(C17=$F$25,$F$42)+IF(C17=$F$26,$F$45))+IF($G$68="CUMPLE",IF(C17=$G$24,$G$39)+IF(C17=$G$25,$G$42)+IF(C17=$G$26,$G$45))+IF($H$68="CUMPLE",IF(C17=$H$24,$H$39)+IF(C17=$H$25,$H$42)+IF(C17=$H$26,$H$45))+IF($I$68="CUMPLE",IF(C17=$I$24,$I$39)+IF(C17=$I$25,$I$42)+IF(C17=$I$26,$I$45))+IF($J$68="CUMPLE",IF(C17=$J$24,$J$39)+IF(C17=$J$25,$J$42)+IF(C17=$J$26,$J$45))) | F17: =IF(C17="","",IF(E17>=$J$14*0.5,"SI","NO")) | G17: =IF(C17="","",IF(E17>=$J$14*0.05,"SI",IF(E17=0,"NO APORTA EXPERIENCIA",))) | H17: =IF(C17="","",IF(AND(G17="NO APORTA EXPERIENCIA",D17<=10%),"SI",IF(G17="SI","NO APLICA","NO - PORCENTAJE MAYOR AL 5%")))
C18: =IF(VLOOKUP(C11,PROPONENTES!B10:N46,8,FALSE)=0,"",VLOOKUP(C11,PROPONENTES!B10:N46,8,FALSE)) | D18: =IF(VLOOKUP(C11,PROPONENTES!B10:N46,9,FALSE)=0,"",VLOOKUP(C11,PROPONENTES!B10:N46,9,FALSE)) | E18: =IF(C18="","",IF($D$68="CUMPLE",IF(C18=$D$24,$D$39)+IF(C18=$D$25,$D$42)+IF(C18=$D$26,$D$45))+IF($E$68="CUMPLE",IF(C18=$E$24,$E$39)+IF(C18=$E$25,$E$42)+IF(C18=$E$26,$E$45))+IF($F$68="CUMPLE",IF(C18=$F$24,$F$39)+IF(C18=$F$25,$F$42)+IF(C18=$F$26,$F$45))+IF($G$68="CUMPLE",IF(C18=$G$24,$G$39)+IF(C18=$G$25,$G$42)+IF(C18=$G$26,$G$45))+IF($H$68="CUMPLE",IF(C18=$H$24,$H$39)+IF(C18=$H$25,$H$42)+IF(C18=$H$26,$H$45))+IF($I$68="CUMPLE",IF(C18=$I$24,$I$39)+IF(C18=$I$25,$I$42)+IF(C18=$I$26,$I$45))+IF($J$68="CUMPLE",IF(C18=$J$24,$J$39)+IF(C18=$J$25,$J$42)+IF(C18=$J$26,$J$45))) | F18: =IF(C18="","",IF(E18>=$J$14*0.5,"SI","NO")) | G18: =IF(C18="","",IF(E18>=$J$14*0.05,"SI",IF(E18=0,"NO APORTA EXPERIENCIA",))) | H18: =IF(C18="","",IF(AND(G18="NO APORTA EXPERIENCIA",D18<=10%),"SI",IF(G18="SI","NO APLICA","NO - PORCENTAJE MAYOR AL 5%")))
C19: =IF(VLOOKUP(C11,PROPONENTES!B10:N46,10,FALSE)=0,"",VLOOKUP(C11,PROPONENTES!B10:N46,10,FALSE)) | D19: =IF(VLOOKUP(C11,PROPONENTES!B10:N46,11,FALSE)=0,"",VLOOKUP(C11,PROPONENTES!B10:N46,11,FALSE)) | E19: =IF(C19="","",IF($D$68="CUMPLE",IF(C19=$D$24,$D$39)+IF(C19=$D$25,$D$42)+IF(C19=$D$26,$D$45))+IF($E$68="CUMPLE",IF(C19=$E$24,$E$39)+IF(C19=$E$25,$E$42)+IF(C19=$E$26,$E$45))+IF($F$68="CUMPLE",IF(C19=$F$24,$F$39)+IF(C19=$F$25,$F$42)+IF(C19=$F$26,$F$45))+IF($G$68="CUMPLE",IF(C19=$G$24,$G$39)+IF(C19=$G$25,$G$42)+IF(C19=$G$26,$G$45))+IF($H$68="CUMPLE",IF(C19=$H$24,$H$39)+IF(C19=$H$25,$H$42)+IF(C19=$H$26,$H$45))+IF($I$68="CUMPLE",IF(C19=$I$24,$I$39)+IF(C19=$I$25,$I$42)+IF(C19=$I$26,$I$45))+IF($J$68="CUMPLE",IF(C19=$J$24,$J$39)+IF(C19=$J$25,$J$42)+IF(C19=$J$26,$J$45))) | F19: =IF(C19="","",IF(E19>=$J$14*0.5,"SI","NO")) | G19: =IF(C19="","",IF(E19>=$J$14*0.05,"SI",IF(E19=0,"NO APORTA EXPERIENCIA",))) | H19: =IF(C19="","",IF(AND(G19="NO APORTA EXPERIENCIA",D19<=10%),"SI",IF(G19="SI","NO APLICA","NO - PORCENTAJE MAYOR AL 5%")))
B20: TOTAL | C20: =+VLOOKUP(C11,PROPONENTES!B10:N46,12,FALSE) -> 1 | D20: =+VLOOKUP(C11,PROPONENTES!B10:N46,13,FALSE) -> 1 | E20: =SUM(E15:E19) -> 666.91 | F20: =IF(F15="SI","CUMPLE",IF(F16="SI","CUMPLE",IF(F17="SI","CUMPLE",IF(F18="SI","CUMPLE",IF(F19="SI","CUMPLE","NO CUMPLE"))))) -> CUMPLE | G20: =+IF(COUNTIF(E15:E19,0)>1,"NO CUMPLE, HAY MAS DE UN (1) INTEGRANTE QUE NO APORTA EXPERIENCIA",IF(AND(OR(G15="NO APORTA EXPERIENCIA",G15="SI",G15=""),OR(G16="NO APORTA EXPERIENCIA",G16="SI",G16=""),OR(G17="NO APORTA EXPERIENCIA",G17="SI",G17=""),OR(G18="NO APORTA EXPERIENCIA",G18="SI",G18=""),OR(G19="NO APORTA EXPERIENCIA",G19="SI",G19="")),"CUMPLE","NO CUMPLE")) -> CUMPLE | H20: =IF(COUNTIF(E15:E19,0)>1,"NO CUMPLE, HAY MAS DE UN (1) INTEGRANTE QUE NO APORTA EXPERIENCIA",IF(AND(OR(H15="NO APLICA",H15="SI",H15=""),OR(H16="NO APLICA",H16="SI",H16=""),OR(H17="NO APLICA",H17="SI",H17=""),OR(H18="NO APLICA",H18="SI",H18=""),OR(H19="NO APLICA",H19="SI",H19="")),"CUMPLE","NO CUMPLE")) -> CUMPLE | I20: EMPRENDIMIENTO MUJER | J20: =IF(VLOOKUP(C11,PUNTAJE!B15:AD109,25,FALSE)=0.25,"SI","NO") -> SI | K20: MIPYME | L20: =IF(VLOOKUP(C11,PUNTAJE!B15:AD109,29,FALSE)=0.25,"SI","NO") -> SI
B22: =CONCATENATE("ACREDITACION EXPERIENCIA ",'DATOS INICIALES'!G4) -> ACREDITACION EXPERIENCIA FDLK-CMA-003-2024
B23: NÚMERO DE CERTIFICACIONES | C23: Máximo 5, 6 o 7 contratos | D23: CONTRATO No. 1 | E23: CONTRATO No. 2 | F23: CONTRATO No. 3 | G23: CONTRATO No. 4 | H23: CONTRATO No. 5 | I23: CONTRATO No. 6 | K23: OBSERVACIONES
B24: INTEGRANTE 1 DEL CONTRATO APORTADO | D24: SOLIUN INGENIERIA SAS
B25: INTEGRANTE 2 DEL CONTRATO APORTADO
B26: INTEGRANTE 3 DEL CONTRATO APORTADO
B27: DATOS DEL CONTRATO | C27: N° del contrato y año de suscripción
C28: Objeto | D28: REALIZAR LA INTERVENTORÍA TÉCNICA ADMINISTRATIVA, FINANCIERA, Y JURÍDICA PARA LAS OBRAS DE CONSTRUCCIÓN ADECUACIÓN DEL PARQUE METROPOLITANO TERCER MILENIO.
C29: Fecha de iniciación del contrato. (dd/mm/aaaa) | D29: 43441
C30: Fecha de terminación del contrato. (dd/mm/aaaa) | D30: 43790
C31: Año de terminación para convertir en SMMLV | D31: 2019
C32: Nombre o razón social del contratante | D32: IDRD
C33: Nombre o razón social del contratista | D33: SOLIUN INGENIERIA SAS
C34: No. Consecutivo RUP | D34: 29
C35: Valor final del contrato en SMMLV reportado en el RUP | D35: 1333.82
C36: Valor final contrato en pesos | D36: =IFERROR(D35*VLOOKUP(D31,'DATOS INICIALES'!$A$12:$B$43,2,0),"0") -> 1.1045577e+09 | E36: =IFERROR(E35*VLOOKUP(E31,'DATOS INICIALES'!$A$12:$B$43,2,0),"0") -> 0 | F36: =IFERROR(F35*VLOOKUP(F31,'DATOS INICIALES'!$A$12:$B$43,2,0),"0") -> 0 | G36: =IFERROR(G35*VLOOKUP(G31,'DATOS INICIALES'!$A$12:$B$43,2,0),"0") -> 0 | H36: =IFERROR(H35*VLOOKUP(H31,'DATOS INICIALES'!$A$12:$B$43,2,0),"0") -> 0 | I36: =IFERROR(I35*VLOOKUP(I31,'DATOS INICIALES'!$A$12:$B$43,2,0),"0") -> 0 | J36: =IFERROR(J35*VLOOKUP(J31,'DATOS INICIALES'!$A$12:$B$43,2,0),"0") -> 0
C37: Porcentaje de Participación INTEGRANTE 1 | D37: 0.5
C38: Valor final según porcentaje de participación INTEGRANTE 1 EN PESOS | D38: =IF(D24="","0",D37*D36) -> 5.5227884e+08 | E38: =IF(E24="","0",E37*E36) -> 0 | F38: =IF(F24="","0",F37*F36) -> 0 | G38: =IF(G24="","0",G37*G36) -> 0 | H38: =IF(H24="","0",H37*H36) -> 0 | I38: =IF(I24="","0",I37*I36) -> 0 | J38: =IF(J24="","0",J37*J36) -> 0
C39: Valor final según porcentaje de participación INTEGRANTE 1 en SMMLV | D39: =IFERROR(D35*D37,"0") -> 666.91 | E39: =IFERROR(E35*E37,"0") -> 0 | F39: =IFERROR(F35*F37,"0") -> 0 | G39: =IFERROR(G35*G37,"0") -> 0 | H39: =IFERROR(H35*H37,"0") -> 0 | I39: =IFERROR(I35*I37,"0") -> 0 | J39: =IFERROR(J35*J37,"0") -> 0
C40: Porcentaje de Participación INTEGRANTE 2
C41: Valor final según porcentaje de participación INTEGRANTE 2 EN PESOS | D41: =IF(D25="","0",D40*D36) -> 0 | E41: =IF(E25="","0",E40*E36) -> 0 | F41: =IF(F25="","0",F40*F36) -> 0 | G41: =IF(G25="","0",G40*G36) -> 0 | H41: =IF(H25="","0",H40*H36) -> 0 | I41: =IF(I25="","0",I40*I36) -> 0 | J41: =IF(J25="","0",J40*J36) -> 0
C42: Valor final según porcentaje de participación INTEGRANTE 2 en SMMLV | D42: =IF(D25="",0,D35*D40) -> 0 | E42: =IF(E25="",0,E35*E40) -> 0 | F42: =IF(F25="",0,F35*F40) -> 0 | G42: =IF(G25="",0,G35*G40) -> 0 | H42: =IF(H25="",0,H35*H40) -> 0 | I42: =IF(I25="",0,I35*I40) -> 0 | J42: =IF(J25="",0,J35*J40) -> 0
C43: Porcentaje de Participación INTEGRANTE 3
C44: Valor final según porcentaje de participación INTEGRANTE 3 EN PESOS | D44: =IF(D26="","0",D43*D36) -> 0 | E44: =IF(E26="","0",E43*E36) -> 0 | F44: =IF(F26="","0",F43*F36) -> 0 | G44: =IF(G26="","0",G43*G36) -> 0 | H44: =IF(H26="","0",H43*H36) -> 0 | I44: =IF(I26="","0",I43*I36) -> 0 | J44: =IF(J26="","0",J43*J36) -> 0
C45: Valor final según porcentaje de participación INTEGRANTE 3 en SMMLV | D45: =IF(D26="",0,D35*D43) -> 0 | E45: =IF(E26="",0,E35*E43) -> 0 | F45: =IF(F26="",0,F35*F43) -> 0 | G45: =IF(G26="",0,G35*G43) -> 0 | H45: =IF(H26="",0,H35*H43) -> 0 | I45: =IF(I26="",0,I35*I43) -> 0 | J45: =IF(J26="",0,J35*J43) -> 0
...

Sheet K RESIDUAL DOCUMENTOS
A2: FONDO DE DESARROLLO LOCAL DE KENNEDY
A4: ='DATOS INICIALES'!G4 -> FDLK-CMA-003-2024
A6: Ciudad | C6: BOGOTÁ D.C | D6: Fecha de Evaluación | G6: 44498
A7: DATOS GENERALES
A8: OBJETO DE LA CONVOCATORIA | C8: ='DATOS INICIALES'!D2 -> REALIZAR LA INTERVENTORÍA TÉCNICA, ADMINISTRATIVA, FINANCIERA, JURÍDICA, AMBIENTAL, SOCIAL Y DE SEGURIDAD Y SALUD EN EL TRABAJO AL CONTRATO DE OBRA PÚBLICA RESULTANTE DEL PROCESO DE LICITACIÓN PÚBLICA No. FDLK-LP-013-2024 CUYO OBJETO ES: CONTRATAR POR EL SISTEMA DE PRECIOS UNITARIOS A MONTO AGOTABLE EL DIAGNÓSTICO, MANTENIMIENTO CORRECTIVO Y PREVENTIVO, SUMINISTRO E INSTALACION DE MOBILIARIO DE LOS PARQUES DE PROXIMIDAD (VECINALES Y DE BOLSILLO) PRIORIZADOS EN LA LOCALIDAD DE KENNEDY
A9: VALOR DEL PROCESO EN PESOS | C9: =+'DATOS INICIALES'!C6 -> 0 | F9: PLAZO DEL CONTRATO (MESES) | G9: 4
A10: VALOR DEL PROCESO EN SMMLV | C10: =C9/'DATOS INICIALES'!B43 -> 0 | F10: ANTICIPO | G10: 0
A12: No. | B12: PROPONENTE | C12: INTEGRANTE | D12: % | E12: RUP VIGENTE Y EN FIRME | F12: BALANCE GENERAL Y CERTIFICACION DE ESTADOS FINANCIEROS | G12: ESTADO DE RESULTADOS | H12: INFORME DE AUDITORIA | I12: TARJETA PROFESIONAL Y CERTIFICADO DE ANTECEDENTES DEL CONTADOR, REVISOR FISCAL Y AUDITOR | J12: FORMATO 4 - CAPACIDAD FINANCIERA Y ORGANIZACIONAL PARA EXTRANJEROS | K12: FORMATO 5 - CAPACIDAD RESIDUAL EN EL SEGMENTO 72 | L12: FORMATO 5 - CAPACIDAD TECNICA | M12: FORMATO 5 - SALDO DE CONTRATOS EN EJECUCIÓN | N12: K RESIDUAL DOCUMENTOS | O12: K RESIDUAL ACREDITADO | P12: K RESIDUAL REQUERIDO | Q12: CONCEPTO FINAL K RESIDUAL | R12: OBSERVACIONES
A13: 1 | B13: =+PROPONENTES!B10 -> SOLIUN INGENIERIA SAS | C13: =IF(VLOOKUP(B13,PROPONENTES!$B$10:$N$16,2,FALSE)="","",VLOOKUP(B13,PROPONENTES!$B$10:$N$16,2,FALSE)) -> SOLIUN INGENIERIA SAS | D13: =VLOOKUP(B13,PROPONENTES!$B$10:$N$16,3,FALSE) -> 1 | E13: CUMPLE | F13: NO CUMPLE | G13: CUMPLE | H13: CUMPLE | I13: CUMPLE | J13: N/A | K13: CUMPLE | L13: CUMPLE | M13: CUMPLE | N13: =IF(C13="","N/A",IF(AND(OR(E13="CUMPLE",E13="N/A"),OR(F13="CUMPLE",F13="N/A"),OR(G13="CUMPLE",G13="N/A"),OR(H13="CUMPLE",H13="N/A"),OR(I13="CUMPLE",I13="N/A"),OR(J13="CUMPLE",J13="N/A"),OR(K13="CUMPLE",K13="N/A"),OR(L13="CUMPLE",L13="N/A"),OR(M13="CUMPLE",M13="N/A")),"CUMPLE","NO CUMPLE")) -> NO CUMPLE | O13: =+'K RESIDUAL CALCULO'!N13 -> #DIV/0! | P13: =IF($G$9<=12,$C$9-$G$10*$C$9,(($C$9-$G$10)/$G$9)*12) -> 0 | Q13: =IF(AND(O13>=P13,OR(N13="CUMPLE",N13="N/A"),OR(N14="CUMPLE",N14="N/A"),OR(N15="CUMPLE",N15="N/A"),OR(N16="CUMPLE",N16="N/A")*OR(N17="CUMPLE",N17="N/A")),"CUMPLE","NO CUMPLE") -> #DIV/0!
C14: =IF(VLOOKUP(B13,PROPONENTES!$B$10:$N$16,4,FALSE)="","",VLOOKUP(B13,PROPONENTES!$B$10:$N$16,4,FALSE)) | D14: =VLOOKUP(B13,PROPONENTES!$B$10:$N$16,5,FALSE) -> 0 | E14: CUMPLE | F14: NO CUMPLE | G14: CUMPLE | H14: CUMPLE | I14: CUMPLE | J14: N/A | K14: CUMPLE | L14: CUMPLE | M14: CUMPLE | N14: =IF(C14="","N/A",IF(AND(OR(E14="CUMPLE",E14="N/A"),OR(F14="CUMPLE",F14="N/A"),OR(G14="CUMPLE",G14="N/A"),OR(H14="CUMPLE",H14="N/A"),OR(I14="CUMPLE",I14="N/A"),OR(J14="CUMPLE",J14="N/A"),OR(K14="CUMPLE",K14="N/A"),OR(L14="CUMPLE",L14="N/A"),OR(M14="CUMPLE",M14="N/A")),"CUMPLE","NO CUMPLE")) -> N/A
C15: =IF(VLOOKUP(B13,PROPONENTES!$B$10:$N$16,6,FALSE)="","",VLOOKUP(B13,PROPONENTES!$B$10:$N$16,6,FALSE)) | D15: =VLOOKUP(B13,PROPONENTES!$B$10:$N$16,7,FALSE) -> 0 | N15: =IF(C15="","N/A",IF(AND(OR(E15="CUMPLE",E15="N/A"),OR(F15="CUMPLE",F15="N/A"),OR(G15="CUMPLE",G15="N/A"),OR(H15="CUMPLE",H15="N/A"),OR(I15="CUMPLE",I15="N/A"),OR(J15="CUMPLE",J15="N/A"),OR(K15="CUMPLE",K15="N/A"),OR(L15="CUMPLE",L15="N/A"),OR(M15="CUMPLE",M15="N/A")),"CUMPLE","NO CUMPLE")) -> N/A
C16: =IF(VLOOKUP(B13,PROPONENTES!$B$10:$N$16,8,FALSE)="","",VLOOKUP(B13,PROPONENTES!$B$10:$N$16,8,FALSE)) | D16: =VLOOKUP(B13,PROPONENTES!$B$10:$N$16,9,FALSE) -> 0 | N16: =IF(C16="","N/A",IF(AND(OR(E16="CUMPLE",E16="N/A"),OR(F16="CUMPLE",F16="N/A"),OR(G16="CUMPLE",G16="N/A"),OR(H16="CUMPLE",H16="N/A"),OR(I16="CUMPLE",I16="N/A"),OR(J16="CUMPLE",J16="N/A"),OR(K16="CUMPLE",K16="N/A"),OR(L16="CUMPLE",L16="N/A"),OR(M16="CUMPLE",M16="N/A")),"CUMPLE","NO CUMPLE")) -> N/A
C17: =IF(VLOOKUP(B13,PROPONENTES!$B$10:$N$16,8,FALSE)="","",VLOOKUP(B13,PROPONENTES!$B$10:$N$16,10,FALSE)) | D17: =VLOOKUP(B13,PROPONENTES!$B$10:$N$16,11,FALSE) -> 0 | N17: =IF(C17="","N/A",IF(AND(OR(E17="CUMPLE",E17="N/A"),OR(F17="CUMPLE",F17="N/A"),OR(G17="CUMPLE",G17="N/A"),OR(H17="CUMPLE",H17="N/A"),OR(I17="CUMPLE",I17="N/A"),OR(J17="CUMPLE",J17="N/A"),OR(K17="CUMPLE",K17="N/A"),OR(L17="CUMPLE",L17="N/A"),OR(M17="CUMPLE",M17="N/A")),"CUMPLE","NO CUMPLE")) -> N/A
A18: 2 | B18: =+PROPONENTES!B11 -> VELNEC S.A. | C18: =IF(VLOOKUP(B18,PROPONENTES!$B$10:$N$16,2,FALSE)="","",VLOOKUP(B18,PROPONENTES!$B$10:$N$16,2,FALSE)) -> VELNEC S.A. | D18: =VLOOKUP(B18,PROPONENTES!$B$10:$N$16,3,FALSE) -> 1 | E18: CUMPLE | F18: N/A | G18: NO CUMPLE | H18: NO CUMPLE | I18: NO CUMPLE | J18: N/A | K18: CUMPLE | L18: CUMPLE | M18: NO CUMPLE | N18: =IF(C18="","N/A",IF(AND(OR(E18="CUMPLE",E18="N/A"),OR(F18="CUMPLE",F18="N/A"),OR(G18="CUMPLE",G18="N/A"),OR(H18="CUMPLE",H18="N/A"),OR(I18="CUMPLE",I18="N/A"),OR(J18="CUMPLE",J18="N/A"),OR(K18="CUMPLE",K18="N/A"),OR(L18="CUMPLE",L18="N/A"),OR(M18="CUMPLE",M18="N/A")),"CUMPLE","NO CUMPLE")) -> NO CUMPLE | O18: =+'K RESIDUAL CALCULO'!N18 -> #DIV/0! | P18: =IF($G$9<=12,$C$9-$G$10*$C$9,(($C$9-$G$10)/$G$9)*12) -> 0 | Q18: =IF(AND(O18>=P18,OR(N18="CUMPLE",N18="N/A"),OR(N19="CUMPLE",N19="N/A"),OR(N20="CUMPLE",N20="N/A"),OR(N21="CUMPLE",N21="N/A")*OR(N22="CUMPLE",N22="N/A")),"CUMPLE","NO CUMPLE") -> #DIV/0! | R18: - El estado de resultados aportado no cuenta con la firma del revisor fiscal según lo solicitado en el pliego de condiciones en el numeral 3.10.2 CALCULO DE LA CAPACIDAD RESIDUAL DEL PROPONENTE (CRP), literal A. CAPACIDAD DE ORGANIZACIÓN, subliteral i. Estado de resultados integral (estado de resultado o pérdida o ganancias), del año en que hayan obtenido el mayor ingreso operacional en los últimos cinco (5) años, debidamente firmado por el representante legal, contador y revisor fiscal y/o contador independiente (externo), si están obligados a tenerlos -- Se debe aportar el informe del revisor fiscal - Se deben aportar los documentos del revisor fiscal (TP y certificado de antecedentes) - Debe corregir el Formato 5 - Saldo de contratos en ejecución, toda vez que la fecha de cierre reportada en el formato no coincide con la fecha del cierre del proceso de selección.
C19: =IF(VLOOKUP(B18,PROPONENTES!$B$10:$N$16,4,FALSE)="","",VLOOKUP(B18,PROPONENTES!$B$10:$N$16,4,FALSE)) | D19: =VLOOKUP(B18,PROPONENTES!$B$10:$N$16,5,FALSE) -> 0 | N19: =IF(C19="","N/A",IF(AND(OR(E19="CUMPLE",E19="N/A"),OR(F19="CUMPLE",F19="N/A"),OR(G19="CUMPLE",G19="N/A"),OR(H19="CUMPLE",H19="N/A"),OR(I19="CUMPLE",I19="N/A"),OR(J19="CUMPLE",J19="N/A"),OR(K19="CUMPLE",K19="N/A"),OR(L19="CUMPLE",L19="N/A"),OR(M19="CUMPLE",M19="N/A")),"CUMPLE","NO CUMPLE")) -> N/A
C20: =IF(VLOOKUP(B18,PROPONENTES!$B$10:$N$16,6,FALSE)="","",VLOOKUP(B18,PROPONENTES!$B$10:$N$16,6,FALSE)) | D20: =VLOOKUP(B18,PROPONENTES!$B$10:$N$16,7,FALSE) -> 0 | N20: =IF(C20="","N/A",IF(AND(OR(E20="CUMPLE",E20="N/A"),OR(F20="CUMPLE",F20="N/A"),OR(G20="CUMPLE",G20="N/A"),OR(H20="CUMPLE",H20="N/A"),OR(I20="CUMPLE",I20="N/A"),OR(J20="CUMPLE",J20="N/A"),OR(K20="CUMPLE",K20="N/A"),OR(L20="CUMPLE",L20="N/A"),OR(M20="CUMPLE",M20="N/A")),"CUMPLE","NO CUMPLE")) -> N/A
C21: =IF(VLOOKUP(B18,PROPONENTES!$B$10:$N$16,8,FALSE)="","",VLOOKUP(B18,PROPONENTES!$B$10:$N$16,8,FALSE)) | D21: =VLOOKUP(B18,PROPONENTES!$B$10:$N$16,9,FALSE) -> 0 | N21: =IF(C21="","N/A",IF(AND(OR(E21="CUMPLE",E21="N/A"),OR(F21="CUMPLE",F21="N/A"),OR(G21="CUMPLE",G21="N/A"),OR(H21="CUMPLE",H21="N/A"),OR(I21="CUMPLE",I21="N/A"),OR(J21="CUMPLE",J21="N/A"),OR(K21="CUMPLE",K21="N/A"),OR(L21="CUMPLE",L21="N/A"),OR(M21="CUMPLE",M21="N/A")),"CUMPLE","NO CUMPLE")) -> N/A
C22: =IF(VLOOKUP(B18,PROPONENTES!$B$10:$N$16,8,FALSE)="","",VLOOKUP(B18,PROPONENTES!$B$10:$N$16,10,FALSE)) | D22: =VLOOKUP(B18,PROPONENTES!$B$10:$N$16,11,FALSE) -> 0 | N22: =IF(C22="","N/A",IF(AND(OR(E22="CUMPLE",E22="N/A"),OR(F22="CUMPLE",F22="N/A"),OR(G22="CUMPLE",G22="N/A"),OR(H22="CUMPLE",H22="N/A"),OR(I22="CUMPLE",I22="N/A"),OR(J22="CUMPLE",J22="N/A"),OR(K22="CUMPLE",K22="N/A"),OR(L22="CUMPLE",L22="N/A"),OR(M22="CUMPLE",M22="N/A")),"CUMPLE","NO CUMPLE")) -> N/A
A23: 3 | B23: =+PROPONENTES!B12 -> ARQUITECTURA URBANA LTDA | C23: =IF(VLOOKUP(B23,PROPONENTES!$B$10:$N$16,2,FALSE)="","",VLOOKUP(B23,PROPONENTES!$B$10:$N$16,2,FALSE)) -> ARQUITECTURA URBANA LTDA | D23: =VLOOKUP(B23,PROPONENTES!$B$10:$N$16,3,FALSE) -> 1 | E23: CUMPLE | F23: N/A | G23: NO CUMPLE | H23: NO CUMPLE | I23: NO CUMPLE | J23: N/A | K23: CUMPLE | L23: CUMPLE | M23: CUMPLE | N23: =IF(C23="","N/A",IF(AND(OR(E23="CUMPLE",E23="N/A"),OR(F23="CUMPLE",F23="N/A"),OR(G23="CUMPLE",G23="N/A"),OR(H23="CUMPLE",H23="N/A"),OR(I23="CUMPLE",I23="N/A"),OR(J23="CUMPLE",J23="N/A"),OR(K23="CUMPLE",K23="N/A"),OR(L23="CUMPLE",L23="N/A"),OR(M23="CUMPLE",M23="N/A")),"CUMPLE","NO CUMPLE")) -> NO CUMPLE | O23: =+'K RESIDUAL CALCULO'!N23 -> #DIV/0! | P23: =IF($G$9<=12,$C$9-$G$10*$C$9,(($C$9-$G$10)/$G$9)*12) -> 0 | Q23: =IF(AND(O23>=P23,OR(N23="CUMPLE",N23="N/A"),OR(N24="CUMPLE",N24="N/A"),OR(N25="CUMPLE",N25="N/A"),OR(N26="CUMPLE",N26="N/A")*OR(N27="CUMPLE",N27="N/A")),"CUMPLE","NO CUMPLE") -> #DIV/0! | R23: - El estado de resultados aportado no cuenta con la firma del revisor fiscal según lo solicitado en el pliego de condiciones en el numeral 3.10.2 CALCULO DE LA CAPACIDAD RESIDUAL DEL PROPONENTE (CRP), literal A. CAPACIDAD DE ORGANIZACIÓN, subliteral i. Estado de resultados integral (estado de resultado o pérdida o ganancias), del año en que hayan obtenido el mayor ingreso operacional en los últimos cinco (5) años, debidamente firmado por el representante legal, contador y revisor fiscal y/o contador independiente (externo), si están obligados a tenerlos -- Se debe aportar el informe del revisor fiscal - Se deben aportar los documentos del revisor fiscal (TP y certificado de antecedentes)
C24: =IF(VLOOKUP(B23,PROPONENTES!$B$10:$N$16,4,FALSE)="","",VLOOKUP(B23,PROPONENTES!$B$10:$N$16,4,FALSE)) | D24: =VLOOKUP(B23,PROPONENTES!$B$10:$N$16,5,FALSE) -> 0 | N24: =IF(C24="","N/A",IF(AND(OR(E24="CUMPLE",E24="N/A"),OR(F24="CUMPLE",F24="N/A"),OR(G24="CUMPLE",G24="N/A"),OR(H24="CUMPLE",H24="N/A"),OR(I24="CUMPLE",I24="N/A"),OR(J24="CUMPLE",J24="N/A"),OR(K24="CUMPLE",K24="N/A"),OR(L24="CUMPLE",L24="N/A"),OR(M24="CUMPLE",M24="N/A")),"CUMPLE","NO CUMPLE")) -> N/A
C25: =IF(VLOOKUP(B23,PROPONENTES!$B$10:$N$16,6,FALSE)="","",VLOOKUP(B23,PROPONENTES!$B$10:$N$16,6,FALSE)) | D25: =VLOOKUP(B23,PROPONENTES!$B$10:$N$16,7,FALSE) -> 0 | N25: =IF(C25="","N/A",IF(AND(OR(E25="CUMPLE",E25="N/A"),OR(F25="CUMPLE",F25="N/A"),OR(G25="CUMPLE",G25="N/A"),OR(H25="CUMPLE",H25="N/A"),OR(I25="CUMPLE",I25="N/A"),OR(J25="CUMPLE",J25="N/A"),OR(K25="CUMPLE",K25="N/A"),OR(L25="CUMPLE",L25="N/A"),OR(M25="CUMPLE",M25="N/A")),"CUMPLE","NO CUMPLE")) -> N/A
C26: =IF(VLOOKUP(B23,PROPONENTES!$B$10:$N$16,8,FALSE)="","",VLOOKUP(B23,PROPONENTES!$B$10:$N$16,8,FALSE)) | D26: =VLOOKUP(B23,PROPONENTES!$B$10:$N$16,9,FALSE) -> 0 | N26: =IF(C26="","N/A",IF(AND(OR(E26="CUMPLE",E26="N/A"),OR(F26="CUMPLE",F26="N/A"),OR(G26="CUMPLE",G26="N/A"),OR(H26="CUMPLE",H26="N/A"),OR(I26="CUMPLE",I26="N/A"),OR(J26="CUMPLE",J26="N/A"),OR(K26="CUMPLE",K26="N/A"),OR(L26="CUMPLE",L26="N/A"),OR(M26="CUMPLE",M26="N/A")),"CUMPLE","NO CUMPLE")) -> N/A
C27: =IF(VLOOKUP(B23,PROPONENTES!$B$10:$N$16,8,FALSE)="","",VLOOKUP(B23,PROPONENTES!$B$10:$N$16,10,FALSE)) | D27: =VLOOKUP(B23,PROPONENTES!$B$10:$N$16,11,FALSE) -> 0 | N27: =IF(C27="","N/A",IF(AND(OR(E27="CUMPLE",E27="N/A"),OR(F27="CUMPLE",F27="N/A"),OR(G27="CUMPLE",G27="N/A"),OR(H27="CUMPLE",H27="N/A"),OR(I27="CUMPLE",I27="N/A"),OR(J27="CUMPLE",J27="N/A"),OR(K27="CUMPLE",K27="N/A"),OR(L27="CUMPLE",L27="N/A"),OR(M27="CUMPLE",M27="N/A")),"CUMPLE","NO CUMPLE")) -> N/A
A28: 4 | B28: =+PROPONENTES!B13 -> ABDO JOSÉ SALGADO AYOLA | C28: =IF(VLOOKUP(B28,PROPONENTES!$B$10:$N$16,2,FALSE)="","",VLOOKUP(B28,PROPONENTES!$B$10:$N$16,2,FALSE)) -> ABDO JOSÉ SALGADO AYOLA | D28: =VLOOKUP(B28,PROPONENTES!$B$10:$N$16,3,FALSE) -> 1 | E28: CUMPLE | F28: CUMPLE | G28: CUMPLE | H28: CUMPLE | I28: CUMPLE | J28: N/A | K28: CUMPLE | L28: CUMPLE | M28: CUMPLE | N28: =IF(C28="","N/A",IF(AND(OR(E28="CUMPLE",E28="N/A"),OR(F28="CUMPLE",F28="N/A"),OR(G28="CUMPLE",G28="N/A"),OR(H28="CUMPLE",H28="N/A"),OR(I28="CUMPLE",I28="N/A"),OR(J28="CUMPLE",J28="N/A"),OR(K28="CUMPLE",K28="N/A"),OR(L28="CUMPLE",L28="N/A"),OR(M28="CUMPLE",M28="N/A")),"CUMPLE","NO CUMPLE")) -> CUMPLE | O28: =+'K RESIDUAL CALCULO'!N28 -> #DIV/0! | P28: =IF($G$9<=12,$C$9-$G$10*$C$9,(($C$9-$G$10)/$G$9)*12) -> 0 | Q28: =IF(AND(O28>=P28,OR(N28="CUMPLE",N28="N/A"),OR(N29="CUMPLE",N29="N/A"),OR(N30="CUMPLE",N30="N/A"),OR(N31="CUMPLE",N31="N/A")*OR(N32="CUMPLE",N32="N/A")),"CUMPLE","NO CUMPLE") -> #DIV/0! | R28: El CIVIL CONSTRUCTOR SAS, no presenta el informe de auditoria correspondiente.
C29: =IF(VLOOKUP(B28,PROPONENTES!$B$10:$N$16,4,FALSE)="","",VLOOKUP(B28,PROPONENTES!$B$10:$N$16,4,FALSE)) | D29: =VLOOKUP(B28,PROPONENTES!$B$10:$N$16,5,FALSE) -> 0 | E29: CUMPLE | F29: CUMPLE | G29: CUMPLE | H29: NO CUMPLE | I29: CUMPLE | J29: N/A | K29: CUMPLE | L29: CUMPLE | M29: CUMPLE | N29: =IF(C29="","N/A",IF(AND(OR(E29="CUMPLE",E29="N/A"),OR(F29="CUMPLE",F29="N/A"),OR(G29="CUMPLE",G29="N/A"),OR(H29="CUMPLE",H29="N/A"),OR(I29="CUMPLE",I29="N/A"),OR(J29="CUMPLE",J29="N/A"),OR(K29="CUMPLE",K29="N/A"),OR(L29="CUMPLE",L29="N/A"),OR(M29="CUMPLE",M29="N/A")),"CUMPLE","NO CUMPLE")) -> N/A
C30: =IF(VLOOKUP(B28,PROPONENTES!$B$10:$N$16,6,FALSE)="","",VLOOKUP(B28,PROPONENTES!$B$10:$N$16,6,FALSE)) | D30: =VLOOKUP(B28,PROPONENTES!$B$10:$N$16,7,FALSE) -> 0 | N30: =IF(C30="","N/A",IF(AND(OR(E30="CUMPLE",E30="N/A"),OR(F30="CUMPLE",F30="N/A"),OR(G30="CUMPLE",G30="N/A"),OR(H30="CUMPLE",H30="N/A"),OR(I30="CUMPLE",I30="N/A"),OR(J30="CUMPLE",J30="N/A"),OR(K30="CUMPLE",K30="N/A"),OR(L30="CUMPLE",L30="N/A"),OR(M30="CUMPLE",M30="N/A")),"CUMPLE","NO CUMPLE")) -> N/A
C31: =IF(VLOOKUP(B28,PROPONENTES!$B$10:$N$16,8,FALSE)="","",VLOOKUP(B28,PROPONENTES!$B$10:$N$16,8,FALSE)) | D31: =VLOOKUP(B28,PROPONENTES!$B$10:$N$16,9,FALSE) -> 0 | N31: =IF(C31="","N/A",IF(AND(OR(E31="CUMPLE",E31="N/A"),OR(F31="CUMPLE",F31="N/A"),OR(G31="CUMPLE",G31="N/A"),OR(H31="CUMPLE",H31="N/A"),OR(I31="CUMPLE",I31="N/A"),OR(J31="CUMPLE",J31="N/A"),OR(K31="CUMPLE",K31="N/A"),OR(L31="CUMPLE",L31="N/A"),OR(M31="CUMPLE",M31="N/A")),"CUMPLE","NO CUMPLE")) -> N/A
C32: =IF(VLOOKUP(B28,PROPONENTES!$B$10:$N$16,8,FALSE)="","",VLOOKUP(B28,PROPONENTES!$B$10:$N$16,10,FALSE)) | D32: =VLOOKUP(B28,PROPONENTES!$B$10:$N$16,11,FALSE) -> 0 | N32: =IF(C32="","N/A",IF(AND(OR(E32="CUMPLE",E32="N/A"),OR(F32="CUMPLE",F32="N/A"),OR(G32="CUMPLE",G32="N/A"),OR(H32="CUMPLE",H32="N/A"),OR(I32="CUMPLE",I32="N/A"),OR(J32="CUMPLE",J32="N/A"),OR(K32="CUMPLE",K32="N/A"),OR(L32="CUMPLE",L32="N/A"),OR(M32="CUMPLE",M32="N/A")),"CUMPLE","NO CUMPLE")) -> N/A
A33: 5 | B33: =+PROPONENTES!B14 -> PRODEINCOL S.A.S. | C33: =IF(VLOOKUP(B33,PROPONENTES!$B$10:$N$16,2,FALSE)="","",VLOOKUP(B33,PROPONENTES!$B$10:$N$16,2,FALSE)) -> PRODEINCOL S.A.S. | D33: =VLOOKUP(B33,PROPONENTES!$B$10:$N$16,3,FALSE) -> 1 | E33: CUMPLE | F33: NO CUMPLE | G33: NO CUMPLE | H33: NO CUMPLE | I33: NO CUMPLE | J33: N/A | K33: NO CUMPLE | L33: NO CUMPLE | M33: NO CUMPLE | N33: =IF(C33="","N/A",IF(AND(OR(E33="CUMPLE",E33="N/A"),OR(F33="CUMPLE",F33="N/A"),OR(G33="CUMPLE",G33="N/A"),OR(H33="CUMPLE",H33="N/A"),OR(I33="CUMPLE",I33="N/A"),OR(J33="CUMPLE",J33="N/A"),OR(K33="CUMPLE",K33="N/A"),OR(L33="CUMPLE",L33="N/A"),OR(M33="CUMPLE",M33="N/A")),"CUMPLE","NO CUMPLE")) -> NO CUMPLE | O33: =+'K RESIDUAL CALCULO'!N33 -> #DIV/0! | P33: =IF($G$9<=12,$C$9-$G$10*$C$9,(($C$9-$G$10)/$G$9)*12) -> 0 | Q33: =IF(AND(O33>=P33,OR(N33="CUMPLE",N33="N/A"),OR(N34="CUMPLE",N34="N/A"),OR(N35="CUMPLE",N35="N/A"),OR(N36="CUMPLE",N36="N/A")*OR(N37="CUMPLE",N37="N/A")),"CUMPLE","NO CUMPLE") -> #DIV/0! | R33: Los integrantes del proponenete no presentan los formatos 5, ni los documentos solicitados en el numeral 3,10, motivo por el cual es imposible calcular el K residual.
C34: =IF(VLOOKUP(B33,PROPONENTES!$B$10:$N$16,4,FALSE)="","",VLOOKUP(B33,PROPONENTES!$B$10:$N$16,4,FALSE)) | D34: =VLOOKUP(B33,PROPONENTES!$B$10:$N$16,5,FALSE) -> 0 | E34: CUMPLE | F34: NO CUMPLE | G34: NO CUMPLE | H34: NO CUMPLE | I34: NO CUMPLE | J34: N/A | K34: NO CUMPLE | L34: NO CUMPLE | M34: CUMPLE | N34: =IF(C34="","N/A",IF(AND(OR(E34="CUMPLE",E34="N/A"),OR(F34="CUMPLE",F34="N/A"),OR(G34="CUMPLE",G34="N/A"),OR(H34="CUMPLE",H34="N/A"),OR(I34="CUMPLE",I34="N/A"),OR(J34="CUMPLE",J34="N/A"),OR(K34="CUMPLE",K34="N/A"),OR(L34="CUMPLE",L34="N/A"),OR(M34="CUMPLE",M34="N/A")),"CUMPLE","NO CUMPLE")) -> N/A
C35: =IF(VLOOKUP(B33,PROPONENTES!$B$10:$N$16,6,FALSE)="","",VLOOKUP(B33,PROPONENTES!$B$10:$N$16,6,FALSE)) | D35: =VLOOKUP(B33,PROPONENTES!$B$10:$N$16,7,FALSE) -> 0 | N35: =IF(C35="","N/A",IF(AND(OR(E35="CUMPLE",E35="N/A"),OR(F35="CUMPLE",F35="N/A"),OR(G35="CUMPLE",G35="N/A"),OR(H35="CUMPLE",H35="N/A"),OR(I35="CUMPLE",I35="N/A"),OR(J35="CUMPLE",J35="N/A"),OR(K35="CUMPLE",K35="N/A"),OR(L35="CUMPLE",L35="N/A"),OR(M35="CUMPLE",M35="N/A")),"CUMPLE","NO CUMPLE")) -> N/A
C36: =IF(VLOOKUP(B33,PROPONENTES!$B$10:$N$16,8,FALSE)="","",VLOOKUP(B33,PROPONENTES!$B$10:$N$16,8,FALSE)) | D36: =VLOOKUP(B33,PROPONENTES!$B$10:$N$16,9,FALSE) -> 0 | N36: =IF(C36="","N/A",IF(AND(OR(E36="CUMPLE",E36="N/A"),OR(F36="CUMPLE",F36="N/A"),OR(G36="CUMPLE",G36="N/A"),OR(H36="CUMPLE",H36="N/A"),OR(I36="CUMPLE",I36="N/A"),OR(J36="CUMPLE",J36="N/A"),OR(K36="CUMPLE",K36="N/A"),OR(L36="CUMPLE",L36="N/A"),OR(M36="CUMPLE",M36="N/A")),"CUMPLE","NO CUMPLE")) -> N/A
C37: =IF(VLOOKUP(B33,PROPONENTES!$B$10:$N$16,8,FALSE)="","",VLOOKUP(B33,PROPONENTES!$B$10:$N$16,10,FALSE)) | D37: =VLOOKUP(B33,PROPONENTES!$B$10:$N$16,11,FALSE) -> 0 | N37: =IF(C37="","N/A",IF(AND(OR(E37="CUMPLE",E37="N/A"),OR(F37="CUMPLE",F37="N/A"),OR(G37="CUMPLE",G37="N/A"),OR(H37="CUMPLE",H37="N/A"),OR(I37="CUMPLE",I37="N/A"),OR(J37="CUMPLE",J37="N/A"),OR(K37="CUMPLE",K37="N/A"),OR(L37="CUMPLE",L37="N/A"),OR(M37="CUMPLE",M37="N/A")),"CUMPLE","NO CUMPLE")) -> N/A
A38: 6 | B38: =+PROPONENTES!B15 -> CONSORCIO INTERVEP KM | C38: =IF(VLOOKUP(B38,PROPONENTES!$B$10:$N$16,2,FALSE)="","",VLOOKUP(B38,PROPONENTES!$B$10:$N$16,2,FALSE)) -> KALPA INGENIERIA SAS SOCIEDAD DE BENEFICIO E INTERES COLECTIVO - BIC | D38: =VLOOKUP(B38,PROPONENTES!$B$10:$N$16,3,FALSE) -> 0.99 | E38: CUMPLE | F38: CUMPLE | G38: CUMPLE | H38: CUMPLE | I38: NO CUMPLE | J38: N/A | K38: CUMPLE | L38: CUMPLE | M38: CUMPLE | N38: =IF(C38="","N/A",IF(AND(OR(E38="CUMPLE",E38="N/A"),OR(F38="CUMPLE",F38="N/A"),OR(G38="CUMPLE",G38="N/A"),OR(H38="CUMPLE",H38="N/A"),OR(I38="CUMPLE",I38="N/A"),OR(J38="CUMPLE",J38="N/A"),OR(K38="CUMPLE",K38="N/A"),OR(L38="CUMPLE",L38="N/A"),OR(M38="CUMPLE",M38="N/A")),"CUMPLE","NO CUMPLE")) -> NO CUMPLE | O38: =+'K RESIDUAL CALCULO'!N38 -> #DIV/0! | P38: =IF($G$9<=12,$C$9-$G$10*$C$9,(($C$9-$G$10)/$G$9)*12) -> 0 | Q38: =IF(AND(O38>=P38,OR(N38="CUMPLE",N38="N/A"),OR(N39="CUMPLE",N39="N/A"),OR(N40="CUMPLE",N40="N/A"),OR(N41="CUMPLE",N41="N/A")*OR(N42="CUMPLE",N42="N/A")),"CUMPLE","NO CUMPLE") -> #DIV/0! | R38: El contador Neil Constantino Zarate identificado con C.C. 79.055.708 no aporta un certificado de antecedentes de contador vigente, ya que el certificado que se adjunta a la oferta tiene fecha de expedición del 9 de agosto 2021 y estos certificados solamente tienen tres (3) meses de vigencia. Por lo tanto, el certificado aportado por el contador Neil Constantino Zarate, no está vigente a la fecha de la presentación de las ofertas cuya fecha de cierre fue el 26 de noviembre de 2021. Lo anterior, se hace necesario indicar para dar cumplimiento a lo establecido en el pliego de condiciones y los demás documentos contractuales de la licitación pública FDLK-LP-12-2021.
C39: =IF(VLOOKUP(B38,PROPONENTES!$B$10:$N$16,4,FALSE)="","",VLOOKUP(B38,PROPONENTES!$B$10:$N$16,4,FALSE)) -> MEDINA & RIVERA INGENIEROS ASOCIADOS SAS | D39: =VLOOKUP(B38,PROPONENTES!$B$10:$N$16,5,FALSE) -> 0.01 | N39: =IF(C39="","N/A",IF(AND(OR(E39="CUMPLE",E39="N/A"),OR(F39="CUMPLE",F39="N/A"),OR(G39="CUMPLE",G39="N/A"),OR(H39="CUMPLE",H39="N/A"),OR(I39="CUMPLE",I39="N/A"),OR(J39="CUMPLE",J39="N/A"),OR(K39="CUMPLE",K39="N/A"),OR(L39="CUMPLE",L39="N/A"),OR(M39="CUMPLE",M39="N/A")),"CUMPLE","NO CUMPLE")) -> NO CUMPLE
C40: =IF(VLOOKUP(B38,PROPONENTES!$B$10:$N$16,6,FALSE)="","",VLOOKUP(B38,PROPONENTES!$B$10:$N$16,6,FALSE)) | D40: =VLOOKUP(B38,PROPONENTES!$B$10:$N$16,7,FALSE) -> 0 | N40: =IF(C40="","N/A",IF(AND(OR(E40="CUMPLE",E40="N/A"),OR(F40="CUMPLE",F40="N/A"),OR(G40="CUMPLE",G40="N/A"),OR(H40="CUMPLE",H40="N/A"),OR(I40="CUMPLE",I40="N/A"),OR(J40="CUMPLE",J40="N/A"),OR(K40="CUMPLE",K40="N/A"),OR(L40="CUMPLE",L40="N/A"),OR(M40="CUMPLE",M40="N/A")),"CUMPLE","NO CUMPLE")) -> N/A
C41: =IF(VLOOKUP(B38,PROPONENTES!$B$10:$N$16,8,FALSE)="","",VLOOKUP(B38,PROPONENTES!$B$10:$N$16,8,FALSE)) | D41: =VLOOKUP(B38,PROPONENTES!$B$10:$N$16,9,FALSE) -> 0 | N41: =IF(C41="","N/A",IF(AND(OR(E41="CUMPLE",E41="N/A"),OR(F41="CUMPLE",F41="N/A"),OR(G41="CUMPLE",G41="N/A"),OR(H41="CUMPLE",H41="N/A"),OR(I41="CUMPLE",I41="N/A"),OR(J41="CUMPLE",J41="N/A"),OR(K41="CUMPLE",K41="N/A"),OR(L41="CUMPLE",L41="N/A"),OR(M41="CUMPLE",M41="N/A")),"CUMPLE","NO CUMPLE")) -> N/A
C42: =IF(VLOOKUP(B38,PROPONENTES!$B$10:$N$16,8,FALSE)="","",VLOOKUP(B38,PROPONENTES!$B$10:$N$16,10,FALSE)) | D42: =VLOOKUP(B38,PROPONENTES!$B$10:$N$16,11,FALSE) -> 0 | N42: =IF(C42="","N/A",IF(AND(OR(E42="CUMPLE",E42="N/A"),OR(F42="CUMPLE",F42="N/A"),OR(G42="CUMPLE",G42="N/A"),OR(H42="CUMPLE",H42="N/A"),OR(I42="CUMPLE",I42="N/A"),OR(J42="CUMPLE",J42="N/A"),OR(K42="CUMPLE",K42="N/A"),OR(L42="CUMPLE",L42="N/A"),OR(M42="CUMPLE",M42="N/A")),"CUMPLE","NO CUMPLE")) -> N/A
A43: 7 | B43: =+PROPONENTES!B16 -> CONSULTORES DEL OCCIDENTE SAS | C43: =IF(VLOOKUP(B43,PROPONENTES!$B$10:$N$16,2,FALSE)="","",VLOOKUP(B43,PROPONENTES!$B$10:$N$16,2,FALSE)) -> CONSULTORES DEL OCCIDENTE SAS | D43: =VLOOKUP(B43,PROPONENTES!$B$10:$N$16,3,FALSE) -> 1 | E43: CUMPLE | F43: CUMPLE | G43: CUMPLE | H43: NO CUMPLE | I43: NO CUMPLE | J43: N/A | K43: CUMPLE | L43: CUMPLE | M43: CUMPLE | N43: =IF(C43="","N/A",IF(AND(OR(E43="CUMPLE",E43="N/A"),OR(F43="CUMPLE",F43="N/A"),OR(G43="CUMPLE",G43="N/A"),OR(H43="CUMPLE",H43="N/A"),OR(I43="CUMPLE",I43="N/A"),OR(J43="CUMPLE",J43="N/A"),OR(K43="CUMPLE",K43="N/A"),OR(L43="CUMPLE",L43="N/A"),OR(M43="CUMPLE",M43="N/A")),"CUMPLE","NO CUMPLE")) -> NO CUMPLE | O43: =+'K RESIDUAL CALCULO'!N43 -> #DIV/0! | P43: =IF($G$9<=12,$C$9-$G$10*$C$9,(($C$9-$G$10)/$G$9)*12) -> 0 | Q43: =IF(AND(O43>=P43,OR(N43="CUMPLE",N43="N/A"),OR(N44="CUMPLE",N44="N/A"),OR(N45="CUMPLE",N45="N/A"),OR(N46="CUMPLE",N46="N/A")*OR(N47="CUMPLE",N47="N/A")),"CUMPLE","NO CUMPLE") -> #DIV/0! | R43: Los proponentes que conforman la UNION TEMPORAL KENNEDY VEHICULAR, NO aportan el informe de auditoría de los estados financieros debidamente suscrito por un revisor fiscal o un contador independiente. Por otro lado, los dos proponentes que conforman al oferente UNION TEMPORAL KENNEDY VEHICULAR NO aportan la tarjeta profesional de los contadores que firman los documentos presentados en la propuesta, ni tampoco el certificado de antecedentes profesionales vigente de los contadores (certificado de la junta de contadores). Lo anterior, se hace necesario indicar para dar cumplimiento a lo establecido en el pliego de condiciones y los demás documentos contractuales de la licitación pública FDLK-LP-12-2021.
C44: =IF(VLOOKUP(B43,PROPONENTES!$B$10:$N$16,4,FALSE)="","",VLOOKUP(B43,PROPONENTES!$B$10:$N$16,4,FALSE)) | D44: =VLOOKUP(B43,PROPONENTES!$B$10:$N$16,5,FALSE) -> 0 | E44: CUMPLE | F44: CUMPLE | G44: CUMPLE | H44: NO CUMPLE | I44: NO CUMPLE | J44: N/A | K44: CUMPLE | L44: CUMPLE | M44: CUMPLE | N44: =IF(C44="","N/A",IF(AND(OR(E44="CUMPLE",E44="N/A"),OR(F44="CUMPLE",F44="N/A"),OR(G44="CUMPLE",G44="N/A"),OR(H44="CUMPLE",H44="N/A"),OR(I44="CUMPLE",I44="N/A"),OR(J44="CUMPLE",J44="N/A"),OR(K44="CUMPLE",K44="N/A"),OR(L44="CUMPLE",L44="N/A"),OR(M44="CUMPLE",M44="N/A")),"CUMPLE","NO CUMPLE")) -> N/A
...

Sheet K RESIDUAL CALCULO
A2: FONDO DE DESARROLLO LOCAL DE KENNEDY
A4: ='DATOS INICIALES'!G4 -> FDLK-CMA-003-2024
A6: Ciudad | C6: BOGOTÁ D.C | D6: Fecha de Evaluación | G6: 44498
A7: DATOS GENERALES
A8: OBJETO DE LA CONVOCATORIA | C8: ='DATOS INICIALES'!D2 -> REALIZAR LA INTERVENTORÍA TÉCNICA, ADMINISTRATIVA, FINANCIERA, JURÍDICA, AMBIENTAL, SOCIAL Y DE SEGURIDAD Y SALUD EN EL TRABAJO AL CONTRATO DE OBRA PÚBLICA RESULTANTE DEL PROCESO DE LICITACIÓN PÚBLICA No. FDLK-LP-013-2024 CUYO OBJETO ES: CONTRATAR POR EL SISTEMA DE PRECIOS UNITARIOS A MONTO AGOTABLE EL DIAGNÓSTICO, MANTENIMIENTO CORRECTIVO Y PREVENTIVO, SUMINISTRO E INSTALACION DE MOBILIARIO DE LOS PARQUES DE PROXIMIDAD (VECINALES Y DE BOLSILLO) PRIORIZADOS EN LA LOCALIDAD DE KENNEDY
A9: VALOR DEL PROCESO EN PESOS | C9: =+'DATOS INICIALES'!C6 -> 0 | F9: PLAZO DEL CONTRATO (MESES) | G9: 4
A10: VALOR DEL PROCESO EN SMMLV | C10: =C9/'DATOS INICIALES'!B43 -> 0 | F10: ANTICIPO | G10: 0
A12: No. | B12: PROPONENTE | C12: INTEGRANTE | D12: % | E12: INDICE DE LIQUIDEZ | F12: MEJOR INGRESO OPERACIONAL DE LOS ULTIMOS 5 AÑOS | G12: VALOR TOTAL CONTRATOS CODIGO 72 | H12: CANTIDAD DE SOCIOS Y PROFESIONALES DE LA ARQUITECTURA, INGENIERÍA Y GEOLOGÍA VINCULADOS | I12: SALDO DE CONTRATOS EN EJECUCIÓN | J12: PUNTAJE EXPERIENCIA (E) | K12: CAPACIDAD FINANCIERA (CF) | L12: CAPACIDAD TECNICA (CT) | M12: K RESIDUAL | N12: K RESIDUAL ACREDITADO | O12: K RESIDUAL REQUERIDO | P12: CONCEPTO
A13: 1 | B13: =+PROPONENTES!B10 -> SOLIUN INGENIERIA SAS | C13: =IF(VLOOKUP(B13,PROPONENTES!$B$10:$N$16,2,FALSE)="","",VLOOKUP(B13,PROPONENTES!$B$10:$N$16,2,FALSE)) -> SOLIUN INGENIERIA SAS | D13: =VLOOKUP(B13,PROPONENTES!$B$10:$N$16,3,FALSE) -> 1 | E13: 7.69 | F13: 1143587893 | G13: 4.7581519e+10 | H13: 1 | I13: 114692409 | J13: =IF(C13="","",IF(AND((G13/($C$9*D13))>0,(G13/($C$9*D13))<=3),60,IF(AND((G13/($C$9*D13))>3,(G13/($C$9*D13))<=6),80,IF(AND((G13/($C$9*D13))>6,(G13/($C$9*D13))<=10),100,IF((G13/($C$9*D13))>10,120,))))) -> #DIV/0! | K13: =IF(C13="","",IF(AND(E13>0,E13<=0.5),20,IF(AND(E13>0.5,E13<=0.75),25,IF(AND(E13>0.75,E13<=1),30,IF(AND(E13>1,E13<=1.5),35,IF(E13>1.5,40)))))) -> 40 | L13: =IF(C13="","",IF(AND(H13>=1,H13<=5),20,IF(AND(H13>=6,H13<=10),30,IF(H13>=11,40,)))) -> 20 | M13: =+IF(C13="","",(F13*(J13+K13+L13)/100)-I13) -> #DIV/0! | N13: =SUM(M13:M17) -> #DIV/0! | O13: =IF($G$9<=12,$C$9-$G$10*$C$9,(($C$9-$G$10)/$G$9)*12) -> 0 | P13: =IF(N13>=O13,"CUMPLE","NO CUMPLE") -> #DIV/0!
C14: =IF(VLOOKUP(B13,PROPONENTES!$B$10:$N$16,4,FALSE)="","",VLOOKUP(B13,PROPONENTES!$B$10:$N$16,4,FALSE)) | D14: =VLOOKUP(B13,PROPONENTES!$B$10:$N$16,5,FALSE) -> 0 | E14: 4.93 | F14: 1.2605074e+08 | G14: 2.0725185e+10 | H14: 1 | I14: 473451635 | J14: =IF(C14="","",IF(AND((G14/($C$9*D14))>0,(G14/($C$9*D14))<=3),60,IF(AND((G14/($C$9*D14))>3,(G14/($C$9*D14))<=6),80,IF(AND((G14/($C$9*D14))>6,(G14/($C$9*D14))<=10),100,IF((G14/($C$9*D14))>10,120,))))) | K14: =IF(C14="","",IF(AND(E14>0,E14<=0.5),20,IF(AND(E14>0.5,E14<=0.75),25,IF(AND(E14>0.75,E14<=1),30,IF(AND(E14>1,E14<=1.5),35,IF(E14>1.5,40)))))) | L14: =IF(C14="","",IF(AND(H14>=1,H14<=5),20,IF(AND(H14>=6,H14<=10),30,IF(H14>=11,40,)))) | M14: =+IF(C14="","",(F14*(J14+K14+L14)/100)-I14)
C15: =IF(VLOOKUP(B13,PROPONENTES!$B$10:$N$16,6,FALSE)="","",VLOOKUP(B13,PROPONENTES!$B$10:$N$16,6,FALSE)) | D15: =VLOOKUP(B13,PROPONENTES!$B$10:$N$16,7,FALSE) -> 0 | J15: =IF(C15="","",IF(AND((G15/($C$9*D15))>0,(G15/($C$9*D15))<=3),60,IF(AND((G15/($C$9*D15))>3,(G15/($C$9*D15))<=6),80,IF(AND((G15/($C$9*D15))>6,(G15/($C$9*D15))<=10),100,IF((G15/($C$9*D15))>10,120,))))) | K15: =IF(C15="","",IF(AND(E15>0,E15<=0.5),20,IF(AND(E15>0.5,E15<=0.75),25,IF(AND(E15>0.75,E15<=1),30,IF(AND(E15>1,E15<=1.5),35,IF(E15>1.5,40)))))) | L15: =IF(C15="","",IF(AND(H15>=1,H15<=5),20,IF(AND(H15>=6,H15<=10),30,IF(H15>=11,40,)))) | M15: =+IF(C15="","",(F15*(J15+K15+L15)/100)-I15)
C16: =IF(VLOOKUP(B13,PROPONENTES!$B$10:$N$16,8,FALSE)="","",VLOOKUP(B13,PROPONENTES!$B$10:$N$16,8,FALSE)) | D16: =VLOOKUP(B13,PROPONENTES!$B$10:$N$16,9,FALSE) -> 0 | J16: =IF(C16="","",IF(AND((G16/($C$9*D16))>0,(G16/($C$9*D16))<=3),60,IF(AND((G16/($C$9*D16))>3,(G16/($C$9*D16))<=6),80,IF(AND((G16/($C$9*D16))>6,(G16/($C$9*D16))<=10),100,IF((G16/($C$9*D16))>10,120,))))) | K16: =IF(C16="","",IF(AND(E16>0,E16<=0.5),20,IF(AND(E16>0.5,E16<=0.75),25,IF(AND(E16>0.75,E16<=1),30,IF(AND(E16>1,E16<=1.5),35,IF(E16>1.5,40)))))) | L16: =IF(C16="","",IF(AND(H16>=1,H16<=5),20,IF(AND(H16>=6,H16<=10),30,IF(H16>=11,40,)))) | M16: =+IF(C16="","",(F16*(J16+K16+L16)/100)-I16)
C17: =IF(VLOOKUP(B13,PROPONENTES!$B$10:$N$16,8,FALSE)="","",VLOOKUP(B13,PROPONENTES!$B$10:$N$16,10,FALSE)) | D17: =VLOOKUP(B13,PROPONENTES!$B$10:$N$16,11,FALSE) -> 0 | J17: =IF(C17="","",IF(AND((G17/($C$9*D17))>0,(G17/($C$9*D17))<=3),60,IF(AND((G17/($C$9*D17))>3,(G17/($C$9*D17))<=6),80,IF(AND((G17/($C$9*D17))>6,(G17/($C$9*D17))<=10),100,IF((G17/($C$9*D17))>10,120,))))) | K17: =IF(C17="","",IF(AND(E17>0,E17<=0.5),20,IF(AND(E17>0.5,E17<=0.75),25,IF(AND(E17>0.75,E17<=1),30,IF(AND(E17>1,E17<=1.5),35,IF(E17>1.5,40)))))) | L17: =IF(C17="","",IF(AND(H17>=1,H17<=5),20,IF(AND(H17>=6,H17<=10),30,IF(H17>=11,40,)))) | M17: =+IF(C17="","",(F17*(J17+K17+L17)/100)-I17)
A18: 2 | B18: =+PROPONENTES!B11 -> VELNEC S.A. | C18: =IF(VLOOKUP(B18,PROPONENTES!$B$10:$N$16,2,FALSE)="","",VLOOKUP(B18,PROPONENTES!$B$10:$N$16,2,FALSE)) -> VELNEC S.A. | D18: =VLOOKUP(B18,PROPONENTES!$B$10:$N$16,3,FALSE) -> 1 | E18: 9.36 | F18: 3939642522 | G18: 2.2662094e+10 | H18: 9 | I18: 0 | J18: =IF(C18="","",IF(AND((G18/($C$9*D18))>0,(G18/($C$9*D18))<=3),60,IF(AND((G18/($C$9*D18))>3,(G18/($C$9*D18))<=6),80,IF(AND((G18/($C$9*D18))>6,(G18/($C$9*D18))<=10),100,IF((G18/($C$9*D18))>10,120,))))) -> #DIV/0! | K18: =IF(C18="","",IF(AND(E18>0,E18<=0.5),20,IF(AND(E18>0.5,E18<=0.75),25,IF(AND(E18>0.75,E18<=1),30,IF(AND(E18>1,E18<=1.5),35,IF(E18>1.5,40)))))) -> 40 | L18: =IF(C18="","",IF(AND(H18>=1,H18<=5),20,IF(AND(H18>=6,H18<=10),30,IF(H18>=11,40,)))) -> 30 | M18: =+IF(C18="","",(F18*(J18+K18+L18)/100)-I18) -> #DIV/0! | N18: =SUM(M18:M22) -> #DIV/0! | O18: =IF($G$9<=12,$C$9-$G$10*$C$9,(($C$9-$G$10)/$G$9)*12) -> 0 | P18: =IF(B18="","",IF(N18>=O18,"CUMPLE","NO CUMPLE")) -> #DIV/0!
C19: =IF(VLOOKUP(B18,PROPONENTES!$B$10:$N$16,4,FALSE)="","",VLOOKUP(B18,PROPONENTES!$B$10:$N$16,4,FALSE)) | D19: =VLOOKUP(B18,PROPONENTES!$B$10:$N$16,5,FALSE) -> 0 | J19: =IF(C19="","",IF(AND((G19/($C$9*D19))>0,(G19/($C$9*D19))<=3),60,IF(AND((G19/($C$9*D19))>3,(G19/($C$9*D19))<=6),80,IF(AND((G19/($C$9*D19))>6,(G19/($C$9*D19))<=10),100,IF((G19/($C$9*D19))>10,120,))))) | K19: =IF(C19="","",IF(AND(E19>0,E19<=0.5),20,IF(AND(E19>0.5,E19<=0.75),25,IF(AND(E19>0.75,E19<=1),30,IF(AND(E19>1,E19<=1.5),35,IF(E19>1.5,40)))))) | L19: =IF(C19="","",IF(AND(H19>=1,H19<=5),20,IF(AND(H19>=6,H19<=10),30,IF(H19>=11,40,)))) | M19: =+IF(C19="","",(F19*(J19+K19+L19)/100)-I19)
C20: =IF(VLOOKUP(B18,PROPONENTES!$B$10:$N$16,6,FALSE)="","",VLOOKUP(B18,PROPONENTES!$B$10:$N$16,6,FALSE)) | D20: =VLOOKUP(B18,PROPONENTES!$B$10:$N$16,7,FALSE) -> 0 | J20: =IF(C20="","",IF(AND((G20/($C$9*D20))>0,(G20/($C$9*D20))<=3),60,IF(AND((G20/($C$9*D20))>3,(G20/($C$9*D20))<=6),80,IF(AND((G20/($C$9*D20))>6,(G20/($C$9*D20))<=10),100,IF((G20/($C$9*D20))>10,120,))))) | K20: =IF(C20="","",IF(AND(E20>0,E20<=0.5),20,IF(AND(E20>0.5,E20<=0.75),25,IF(AND(E20>0.75,E20<=1),30,IF(AND(E20>1,E20<=1.5),35,IF(E20>1.5,40)))))) | L20: =IF(C20="","",IF(AND(H20>=1,H20<=5),20,IF(AND(H20>=6,H20<=10),30,IF(H20>=11,40,)))) | M20: =+IF(C20="","",(F20*(J20+K20+L20)/100)-I20)
C21: =IF(VLOOKUP(B18,PROPONENTES!$B$10:$N$16,8,FALSE)="","",VLOOKUP(B18,PROPONENTES!$B$10:$N$16,8,FALSE)) | D21: =VLOOKUP(B18,PROPONENTES!$B$10:$N$16,9,FALSE) -> 0 | J21: =IF(C21="","",IF(AND((G21/($C$9*D21))>0,(G21/($C$9*D21))<=3),60,IF(AND((G21/($C$9*D21))>3,(G21/($C$9*D21))<=6),80,IF(AND((G21/($C$9*D21))>6,(G21/($C$9*D21))<=10),100,IF((G21/($C$9*D21))>10,120,))))) | K21: =IF(C21="","",IF(AND(E21>0,E21<=0.5),20,IF(AND(E21>0.5,E21<=0.75),25,IF(AND(E21>0.75,E21<=1),30,IF(AND(E21>1,E21<=1.5),35,IF(E21>1.5,40)))))) | L21: =IF(C21="","",IF(AND(H21>=1,H21<=5),20,IF(AND(H21>=6,H21<=10),30,IF(H21>=11,40,)))) | M21: =+IF(C21="","",(F21*(J21+K21+L21)/100)-I21)
C22: =IF(VLOOKUP(B18,PROPONENTES!$B$10:$N$16,8,FALSE)="","",VLOOKUP(B18,PROPONENTES!$B$10:$N$16,10,FALSE)) | D22: =VLOOKUP(B18,PROPONENTES!$B$10:$N$16,11,FALSE) -> 0 | J22: =IF(C22="","",IF(AND((G22/($C$9*D22))>0,(G22/($C$9*D22))<=3),60,IF(AND((G22/($C$9*D22))>3,(G22/($C$9*D22))<=6),80,IF(AND((G22/($C$9*D22))>6,(G22/($C$9*D22))<=10),100,IF((G22/($C$9*D22))>10,120,))))) | K22: =IF(C22="","",IF(AND(E22>0,E22<=0.5),20,IF(AND(E22>0.5,E22<=0.75),25,IF(AND(E22>0.75,E22<=1),30,IF(AND(E22>1,E22<=1.5),35,IF(E22>1.5,40)))))) | L22: =IF(C22="","",IF(AND(H22>=1,H22<=5),20,IF(AND(H22>=6,H22<=10),30,IF(H22>=11,40,)))) | M22: =+IF(C22="","",(F22*(J22+K22+L22)/100)-I22)
A23: 3 | B23: =+PROPONENTES!B12 -> ARQUITECTURA URBANA LTDA | C23: =IF(VLOOKUP(B23,PROPONENTES!$B$10:$N$16,2,FALSE)="","",VLOOKUP(B23,PROPONENTES!$B$10:$N$16,2,FALSE)) -> ARQUITECTURA URBANA LTDA | D23: =VLOOKUP(B23,PROPONENTES!$B$10:$N$16,3,FALSE) -> 1 | E23: 61.61 | F23: 2950600000 | G23: 1.8288205e+10 | H23: 1 | I23: 3.7016722e+08 | J23: =IF(C23="","",IF(AND((G23/($C$9*D23))>0,(G23/($C$9*D23))<=3),60,IF(AND((G23/($C$9*D23))>3,(G23/($C$9*D23))<=6),80,IF(AND((G23/($C$9*D23))>6,(G23/($C$9*D23))<=10),100,IF((G23/($C$9*D23))>10,120,))))) -> #DIV/0! | K23: =IF(C23="","",IF(AND(E23>0,E23<=0.5),20,IF(AND(E23>0.5,E23<=0.75),25,IF(AND(E23>0.75,E23<=1),30,IF(AND(E23>1,E23<=1.5),35,IF(E23>1.5,40)))))) -> 40 | L23: =IF(C23="","",IF(AND(H23>=1,H23<=5),20,IF(AND(H23>=6,H23<=10),30,IF(H23>=11,40,)))) -> 20 | M23: =+IF(C23="","",(F23*(J23+K23+L23)/100)-I23) -> #DIV/0! | N23: =SUM(M23:M27) -> #DIV/0! | O23: =IF($G$9<=12,$C$9-$G$10*$C$9,(($C$9-$G$10)/$G$9)*12) -> 0 | P23: =IF(N23>=O23,"CUMPLE","NO CUMPLE") -> #DIV/0!
C24: =IF(VLOOKUP(B23,PROPONENTES!$B$10:$N$16,4,FALSE)="","",VLOOKUP(B23,PROPONENTES!$B$10:$N$16,4,FALSE)) | D24: =VLOOKUP(B23,PROPONENTES!$B$10:$N$16,5,FALSE) -> 0 | J24: =IF(C24="","",IF(AND((G24/($C$9*D24))>0,(G24/($C$9*D24))<=3),60,IF(AND((G24/($C$9*D24))>3,(G24/($C$9*D24))<=6),80,IF(AND((G24/($C$9*D24))>6,(G24/($C$9*D24))<=10),100,IF((G24/($C$9*D24))>10,120,))))) | K24: =IF(C24="","",IF(AND(E24>0,E24<=0.5),20,IF(AND(E24>0.5,E24<=0.75),25,IF(AND(E24>0.75,E24<=1),30,IF(AND(E24>1,E24<=1.5),35,IF(E24>1.5,40)))))) | L24: =IF(C24="","",IF(AND(H24>=1,H24<=5),20,IF(AND(H24>=6,H24<=10),30,IF(H24>=11,40,)))) | M24: =+IF(C24="","",(F24*(J24+K24+L24)/100)-I24)
C25: =IF(VLOOKUP(B23,PROPONENTES!$B$10:$N$16,6,FALSE)="","",VLOOKUP(B23,PROPONENTES!$B$10:$N$16,6,FALSE)) | D25: =VLOOKUP(B23,PROPONENTES!$B$10:$N$16,7,FALSE) -> 0 | J25: =IF(C25="","",IF(AND((G25/($C$9*D25))>0,(G25/($C$9*D25))<=3),60,IF(AND((G25/($C$9*D25))>3,(G25/($C$9*D25))<=6),80,IF(AND((G25/($C$9*D25))>6,(G25/($C$9*D25))<=10),100,IF((G25/($C$9*D25))>10,120,))))) | K25: =IF(C25="","",IF(AND(E25>0,E25<=0.5),20,IF(AND(E25>0.5,E25<=0.75),25,IF(AND(E25>0.75,E25<=1),30,IF(AND(E25>1,E25<=1.5),35,IF(E25>1.5,40)))))) | L25: =IF(C25="","",IF(AND(H25>=1,H25<=5),20,IF(AND(H25>=6,H25<=10),30,IF(H25>=11,40,)))) | M25: =+IF(C25="","",(F25*(J25+K25+L25)/100)-I25)
C26: =IF(VLOOKUP(B23,PROPONENTES!$B$10:$N$16,8,FALSE)="","",VLOOKUP(B23,PROPONENTES!$B$10:$N$16,8,FALSE)) | D26: =VLOOKUP(B23,PROPONENTES!$B$10:$N$16,9,FALSE) -> 0 | J26: =IF(C26="","",IF(AND((G26/($C$9*D26))>0,(G26/($C$9*D26))<=3),60,IF(AND((G26/($C$9*D26))>3,(G26/($C$9*D26))<=6),80,IF(AND((G26/($C$9*D26))>6,(G26/($C$9*D26))<=10),100,IF((G26/($C$9*D26))>10,120,))))) | K26: =IF(C26="","",IF(AND(E26>0,E26<=0.5),20,IF(AND(E26>0.5,E26<=0.75),25,IF(AND(E26>0.75,E26<=1),30,IF(AND(E26>1,E26<=1.5),35,IF(E26>1.5,40)))))) | L26: =IF(C26="","",IF(AND(H26>=1,H26<=5),20,IF(AND(H26>=6,H26<=10),30,IF(H26>=11,40,)))) | M26: =+IF(C26="","",(F26*(J26+K26+L26)/100)-I26)
C27: =IF(VLOOKUP(B23,PROPONENTES!$B$10:$N$16,8,FALSE)="","",VLOOKUP(B23,PROPONENTES!$B$10:$N$16,10,FALSE)) | D27: =VLOOKUP(B23,PROPONENTES!$B$10:$N$16,11,FALSE) -> 0 | J27: =IF(C27="","",IF(AND((G27/($C$9*D27))>0,(G27/($C$9*D27))<=3),60,IF(AND((G27/($C$9*D27))>3,(G27/($C$9*D27))<=6),80,IF(AND((G27/($C$9*D27))>6,(G27/($C$9*D27))<=10),100,IF((G27/($C$9*D27))>10,120,))))) | K27: =IF(C27="","",IF(AND(E27>0,E27<=0.5),20,IF(AND(E27>0.5,E27<=0.75),25,IF(AND(E27>0.75,E27<=1),30,IF(AND(E27>1,E27<=1.5),35,IF(E27>1.5,40)))))) | L27: =IF(C27="","",IF(AND(H27>=1,H27<=5),20,IF(AND(H27>=6,H27<=10),30,IF(H27>=11,40,)))) | M27: =+IF(C27="","",(F27*(J27+K27+L27)/100)-I27)
A28: 4 | B28: =+PROPONENTES!B13 -> ABDO JOSÉ SALGADO AYOLA | C28: =IF(VLOOKUP(B28,PROPONENTES!$B$10:$N$16,2,FALSE)="","",VLOOKUP(B28,PROPONENTES!$B$10:$N$16,2,FALSE)) -> ABDO JOSÉ SALGADO AYOLA | D28: =VLOOKUP(B28,PROPONENTES!$B$10:$N$16,3,FALSE) -> 1 | E28: 64.51 | F28: 626253000 | G28: 6.722154e+08 | H28: 1 | I28: 0 | J28: =IF(C28="","",IF(AND((G28/($C$9*D28))>0,(G28/($C$9*D28))<=3),60,IF(AND((G28/($C$9*D28))>3,(G28/($C$9*D28))<=6),80,IF(AND((G28/($C$9*D28))>6,(G28/($C$9*D28))<=10),100,IF((G28/($C$9*D28))>10,120,))))) -> #DIV/0! | K28: =IF(C28="","",IF(AND(E28>0,E28<=0.5),20,IF(AND(E28>0.5,E28<=0.75),25,IF(AND(E28>0.75,E28<=1),30,IF(AND(E28>1,E28<=1.5),35,IF(E28>1.5,40)))))) -> 40 | L28: =IF(C28="","",IF(AND(H28>=1,H28<=5),20,IF(AND(H28>=6,H28<=10),30,IF(H28>=11,40,)))) -> 20 | M28: =+IF(C28="","",(F28*(J28+K28+L28)/100)-I28) -> #DIV/0! | N28: =SUM(M28:M32) -> #DIV/0! | O28: =IF($G$9<=12,$C$9-$G$10*$C$9,(($C$9-$G$10)/$G$9)*12) -> 0 | P28: =IF(N28>=O28,"CUMPLE","NO CUMPLE") -> #DIV/0!
