Workbook

Sheet EVALUACIÓN_TECNICA_DEFINITIVA
B1: EVALUADOR TÉCNICO | C1: =IF([1]INFORMACIÓN_INICIAL!E1="","",CONCATENATE([1]INFORMACIÓN_INICIAL!E1,"-",[1]INFORMACIÓN_INICIAL!E2)) -> Sergio Mejia Dussán-Evaluador | G1: =IF([1]INFORMACIÓN_INICIAL!I1="","",CONCATENATE([1]INFORMACIÓN_INICIAL!I1,"-",[1]INFORMACIÓN_INICIAL!I2)) -> Santiago Alejandro Cárdenas Caballero-Evaluador
B2: NOMBRE DEL INFORME | C2: =IF([1]INFORMACIÓN_INICIAL!$D$3="","",[1]INFORMACIÓN_INICIAL!$D$3) -> Informe preliminar de requisitos habilitantes técnicos - proceso FDLS-LP-003-2024
B3: OBJETO: | C3: =IF([1]INFORMACIÓN_INICIAL!D4="","",CONCATENATE([1]INFORMACIÓN_INICIAL!B4,"",[1]INFORMACIÓN_INICIAL!D4)) -> OBJETO:PRESTACIÓN DE SERVICIOS PARA CAPACITACIÓN, SENSIBILIZACIÓN Y SOCIALIZACIÓN DE ESTRATEGIAS DIRIGIDAS A LA PREVENCIÓN, MANEJO Y SEGUIMIENTO DE FACTORES GENERADORES DE VIOLENCIA EN EL CONTEXTO FAMILIAR Y/O VIOLENCIA SEXUAL EN LA LOCALIDAD DE SUBA.
B4: VALOR DEL CONTRATO: | C4: =IF([1]INFORMACIÓN_INICIAL!D5="","",CONCATENATE([1]INFORMACIÓN_INICIAL!B5," ",[1]INFORMACIÓN_INICIAL!D5)) -> VALOR DEL CONTRATO EN LETRAS: MIL TRESCIENTOS CINCO MILLONES CUATROCIENTOS CATORCE MIL CUATROCIENTOS CINCUENTA Y CINCO PESOS MCTE
B5: REQUISITOS HABILITANTES | C5: =IF([1]INFORMACIÓN_INICIAL!D6="","",[1]INFORMACIÓN_INICIAL!D6) -> Experiencia del proponente general y específica | D5: =IF([1]INFORMACIÓN_INICIAL!E6="","",[1]INFORMACIÓN_INICIAL!E6) -> Códigos UNSPSC | E5: =IF([1]INFORMACIÓN_INICIAL!F6="","",[1]INFORMACIÓN_INICIAL!F6) | F5: =IF([1]INFORMACIÓN_INICIAL!G6="","",[1]INFORMACIÓN_INICIAL!G6) | G5: =IF([1]INFORMACIÓN_INICIAL!H6="","",[1]INFORMACIÓN_INICIAL!H6)
C7: FONDO DESARROLLO LOCAL DE SUBA
C8: =C2 -> Informe preliminar de requisitos habilitantes técnicos - proceso FDLS-LP-003-2024
C9: =CONCATENATE(B3," ",C3) -> OBJETO: OBJETO:PRESTACIÓN DE SERVICIOS PARA CAPACITACIÓN, SENSIBILIZACIÓN Y SOCIALIZACIÓN DE ESTRATEGIAS DIRIGIDAS A LA PREVENCIÓN, MANEJO Y SEGUIMIENTO DE FACTORES GENERADORES DE VIOLENCIA EN EL CONTEXTO FAMILIAR Y/O VIOLENCIA SEXUAL EN LA LOCALIDAD DE SUBA.
A10: NO. | B10: NOMBRE DEL PROPONENTE | C10: REQUISITOS HABILITANTES | H10: HABILITADO NO HABILITADO | I10: OBSERVACIONES | J10: VALOR OFERTA HABILITADOS TECNICAMENTE REVISAR JURIDICA Y FINANCIERAMENTE
C11: REQUISITO TECNICO HABILITANTE | D11: REQUISITO TÉCNICO HABILITANTE PERSONAL | E11: CONDICIONES TÉCNICAS | F11: BUENAS PRÁCTICAS AMBIENTALES | G11: CUMPLE ( SI / NO) 1+2+3 +4
C14: CUMPLE / NO CUMPLE | D14: CUMPLE / NO CUMPLE | E14: CUMPLE / NO CUMPLE | F14: CUMPLE / NO CUMPLE
A15: 1 | B15: =IF([1]INFORMACIÓN_INICIAL!$C$11="","",[1]INFORMACIÓN_INICIAL!$C$11) -> FUNDAP | C15: NO CUMPLE | D15: NO CUMPLE | E15: CUMPLE | F15: CUMPLE | G15: =IF(AND(C15="CUMPLE",D15="CUMPLE",E15="CUMPLE",F15="CUMPLE"),"CUMPLE",IF(B15="","","NO CUMPLE")) -> NO CUMPLE | H15: =IF(B15="","",IF(G15="CUMPLE","HABILITADO","NO HABILITADO")) -> NO HABILITADO | I15: 1. El código 93141900 - Desarrollo rural no guarda relación con el obejto del presente proceso de selección y no será tenido en cuenta, al igual No incluyó el contrato con objeto por parte del ICBF , no se aceptan autocertificaciones 2. Aunque el perfil cumple, no se tiene constancia de certificaciones laborales posteriores a la fecha de grado como contador público (26 de marzo de 2010) El pliego definitivo de condiciones en el numeral 7.4.3. personal ménimo hablitante, establece: " (...) (84) meses debidamente certificada, contados a partir de la expedición de la tarjeta profesional, terminación de materias y/o fecha de grado, según aplique. (...)" | J15: NO HABILITADO
A16: 2 | B16: =IF([1]INFORMACIÓN_INICIAL!$C$12="","",[1]INFORMACIÓN_INICIAL!$C$12) -> ALBERTO MERANÍ | C16: CUMPLE | D16: CUMPLE | E16: CUMPLE | F16: CUMPLE | G16: =IF(AND(C16="CUMPLE",D16="CUMPLE",E16="CUMPLE",F16="CUMPLE"),"CUMPLE",IF(B16="","","NO CUMPLE")) -> CUMPLE | H16: =IF(B16="","",IF(G16="CUMPLE","HABILITADO","NO HABILITADO")) -> HABILITADO | J16: 1.2855625e+09
A17: 3 | B17: =IF([1]INFORMACIÓN_INICIAL!$C$13="","",[1]INFORMACIÓN_INICIAL!$C$13) -> ADIFCOL | C17: CUMPLE | D17: CUMPLE | E17: CUMPLE | F17: CUMPLE | G17: =IF(AND(C17="CUMPLE",D17="CUMPLE",E17="CUMPLE",F17="CUMPLE"),"CUMPLE",IF(B17="","","NO CUMPLE")) -> CUMPLE | H17: =IF(B17="","",IF(G17="CUMPLE","HABILITADO","NO HABILITADO")) -> HABILITADO | I17: NO SUBSANÓ, LA CERTIFICACIÓN SOLICITADA, POR LO CUAL SOLO SE TUVO EN CUENTA EL CONTRATO CON AGUAZÚL y CON ESTA CUMPLE | J17: 1.2952535e+09
A18: 4 | B18: =IF([1]INFORMACIÓN_INICIAL!$C$14="","",[1]INFORMACIÓN_INICIAL!$C$14) -> UT FORMANDO PAÍS | C18: CUMPLE | D18: CUMPLE | E18: CUMPLE | F18: CUMPLE | G18: =IF(AND(C18="CUMPLE",D18="CUMPLE",E18="CUMPLE",F18="CUMPLE"),"CUMPLE",IF(B18="","","NO CUMPLE")) -> CUMPLE | H18: =IF(B18="","",IF(G18="CUMPLE","HABILITADO","NO HABILITADO")) -> HABILITADO | J18: 1.3003669e+09
A19: 5 | B19: =IF([1]INFORMACIÓN_INICIAL!$C$15="","",[1]INFORMACIÓN_INICIAL!$C$15) -> CORPORACIÓN PARTNERS COLOMBIA | C19: NO CUMPLE | D19: CUMPLE | E19: CUMPLE | F19: CUMPLE | G19: =IF(AND(C19="CUMPLE",D19="CUMPLE",E19="CUMPLE",F19="CUMPLE"),"CUMPLE",IF(B19="","","NO CUMPLE")) -> NO CUMPLE | H19: =IF(B19="","",IF(G19="CUMPLE","HABILITADO","NO HABILITADO")) -> NO HABILITADO | I19: NO SUBSANÓ. LOS VALORES DE LOS CONTRATOS HABILITADOS EXPRESADOS EN SMMLV NO CUMPLEN CON EL 100% | J19: NO HABILITADO
A20: 6 | B20: =IF([1]INFORMACIÓN_INICIAL!$C$16="","",[1]INFORMACIÓN_INICIAL!$C$16) -> IKALA | C20: NO CUMPLE | D20: CUMPLE | E20: CUMPLE | F20: CUMPLE | G20: =IF(AND(C20="CUMPLE",D20="CUMPLE",E20="CUMPLE",F20="CUMPLE"),"CUMPLE",IF(B20="","","NO CUMPLE")) -> NO CUMPLE | H20: =IF(B20="","",IF(G20="CUMPLE","HABILITADO","NO HABILITADO")) -> NO HABILITADO | I20: NO SUBSANÓ. El proponente IKALA, habiéndosele dado traslado de la evaluación para que subsanar lo relacionado, no subsanó razón por la cual en aplicación de la causal en el numeral 7,4,1 "(...) Cada uno de los contratos aportados para acreditar la experiencia anterior, deberán encontrarse inscritos con mínimo tres (3) de los siguientes códigos: (...)" de los pliegos de condiciones y del art. 5° de la Ley 1150 de 2007, modificado por la Ley 1882 de 2018, se rechaza su propuesta por no cumplir con los criterios exigidos para este proceso de selección. | J20: NO HABILITADO
A21: 7 | B21: =IF([1]INFORMACIÓN_INICIAL!$C$17="","",[1]INFORMACIÓN_INICIAL!$C$17) -> CONSORCIO AOC PROCEDER | C21: NO CUMPLE | D21: CUMPLE | E21: CUMPLE | F21: CUMPLE | G21: =IF(AND(C21="CUMPLE",D21="CUMPLE",E21="CUMPLE",F21="CUMPLE"),"CUMPLE",IF(B21="","","NO CUMPLE")) -> NO CUMPLE | H21: =IF(B21="","",IF(G21="CUMPLE","HABILITADO","NO HABILITADO")) -> NO HABILITADO | I21: No subsanó. La entidad solicitó subasanar el coordinador general, además en el pliego de condiciones, numeral 7.3.3, la siguiente información y datos al momento de acreditar la experiencia del personal propuesto para el rol de coordinador (a): “(…)” Nombre o razón social del contratante, nombre del contratista, numero del contrato, objeto del contrato, fecha de suscripción del contrato, fecha de iniciación, fecha de terminación, valor del contrato, obligaciones contractuales”. Se autocertifico el coordinador general para el proyecto | J21: NO HABILITADO
A22: 8 | B22: =IF([1]INFORMACIÓN_INICIAL!$C$18="","",[1]INFORMACIÓN_INICIAL!$C$18) -> ESTARCOP HUMANITY | C22: CUMPLE | D22: CUMPLE | E22: CUMPLE | F22: CUMPLE | G22: =IF(AND(C22="CUMPLE",D22="CUMPLE",E22="CUMPLE",F22="CUMPLE"),"CUMPLE",IF(B22="","","NO CUMPLE")) -> CUMPLE | H22: =IF(B22="","",IF(G22="CUMPLE","HABILITADO","NO HABILITADO")) -> HABILITADO | I22: Se acepta la aclaración | J22: 1.2869159e+09
A23: 9 | B23: =IF([1]INFORMACIÓN_INICIAL!$C$19="","",[1]INFORMACIÓN_INICIAL!$C$19) -> UT ESTRATÉGICA CEDAVIDA | C23: CUMPLE | D23: NO CUMPLE | E23: CUMPLE | F23: CUMPLE | G23: =IF(AND(C23="CUMPLE",D23="CUMPLE",E23="CUMPLE",F23="CUMPLE"),"CUMPLE",IF(B23="","","NO CUMPLE")) -> NO CUMPLE | H23: =IF(B23="","",IF(G23="CUMPLE","HABILITADO","NO HABILITADO")) -> NO HABILITADO | I23: No adjuntó la Hoja de Vida solicitada en la obserbación | J23: NO HABILITADO
A24: 10 | B24: =IF([1]INFORMACIÓN_INICIAL!$C$20="","",[1]INFORMACIÓN_INICIAL!$C$20) -> EUONIA SAS | C24: CUMPLE | D24: CUMPLE | E24: CUMPLE | F24: CUMPLE | G24: =IF(AND(C24="CUMPLE",D24="CUMPLE",E24="CUMPLE",F24="CUMPLE"),"CUMPLE",IF(B24="","","NO CUMPLE")) -> CUMPLE | H24: =IF(B24="","",IF(G24="CUMPLE","HABILITADO","NO HABILITADO")) -> HABILITADO | I24: Cumple según la subsanación | J24: 1.2945949e+09
A25: 11 | B25: =IF([1]INFORMACIÓN_INICIAL!$C$21="","",[1]INFORMACIÓN_INICIAL!$C$21) -> FUNDACÓN DE EDUCACIÓN SAN JOSÉ | C25: RECHAZADO | I25: Se rechaza la propuesta económica por modificación de los items 24 a 30 | J25: RECHAZADO
A26: 12 | B26: =IF([1]INFORMACIÓN_INICIAL!$C$22="","",[1]INFORMACIÓN_INICIAL!$C$22) -> ONSORCIO APÜSHI | C26: CUMPLE | D26: CUMPLE | E26: CUMPLE | F26: CUMPLE | G26: =IF(AND(C26="CUMPLE",D26="CUMPLE",E26="CUMPLE",F26="CUMPLE"),"CUMPLE",IF(B26="","","NO CUMPLE")) -> CUMPLE | H26: =IF(B26="","",IF(G26="CUMPLE","HABILITADO","NO HABILITADO")) -> HABILITADO | I26: Se ajustaron según las subsanaciones | J26: 1.2946781e+09
A27: 13 | B27: =IF([1]INFORMACIÓN_INICIAL!$C$23="","",[1]INFORMACIÓN_INICIAL!$C$23) -> FUNDACIÓN PARA EL APOYO, LA UNIDAD Y RESPETO A LA SOCIEDAD | C27: RECHAZADO | I27: Rechazado por cambiar los valores unitarios de la porpuesta económica ITEM 1 AL 12 | J27: RECHAZADO
A28: 14 | B28: =IF([1]INFORMACIÓN_INICIAL!$C$24="","",[1]INFORMACIÓN_INICIAL!$C$24) -> FUNVIVE 2.0 | C28: RECHAZADO | I28: Rechazado por cambiar los valores unitarios de la porpuesta económica ITEM 1 AL 12 | J28: RECHAZADO
A29: 15 | B29: =IF([1]INFORMACIÓN_INICIAL!$C$25="","",[1]INFORMACIÓN_INICIAL!$C$25) -> UT CONTRA LA VIOLENCIA | C29: CUMPLE | D29: CUMPLE | E29: CUMPLE | F29: CUMPLE | G29: =IF(AND(C29="CUMPLE",D29="CUMPLE",E29="CUMPLE",F29="CUMPLE"),"CUMPLE",IF(B29="","","NO CUMPLE")) -> CUMPLE | H29: =IF(B29="","",IF(G29="CUMPLE","HABILITADO","NO HABILITADO")) -> HABILITADO | J29: 1.2907083e+09
A30: 16 | B30: =IF([1]INFORMACIÓN_INICIAL!$C$26="","",[1]INFORMACIÓN_INICIAL!$C$26) -> FUNXI | C30: CUMPLE | D30: CUMPLE | E30: CUMPLE | F30: CUMPLE | G30: =IF(AND(C30="CUMPLE",D30="CUMPLE",E30="CUMPLE",F30="CUMPLE"),"CUMPLE",IF(B30="","","NO CUMPLE")) -> CUMPLE | H30: =IF(B30="","",IF(G30="CUMPLE","HABILITADO","NO HABILITADO")) -> HABILITADO | I30: El propoenente subsanó enviando las facturas com oconsta ne el archivo: "“CERTIFICADOS DE EXPERIENCIA” PAG 109. | J30: 1.2940248e+09
A31: 17 | B31: =IF([1]INFORMACIÓN_INICIAL!$C$27="","",[1]INFORMACIÓN_INICIAL!$C$27) -> FUNDACIÓN PARA LA DEFENSA DE Los DERECHOS HUMANOS | C31: RECHAZADO | I31: Rechazado por cambiar los valores unitarios de la porpuesta económica ITEM 3,6 8 | J31: RECHAZADO
B33: ELABORÓ | C33: FIRMA | F33: ELABORÓ | H33: FIRMA
B34: =[1]INFORMACIÓN_INICIAL!$E$1 -> Sergio Mejia Dussán | F34: =[1]INFORMACIÓN_INICIAL!$I$1 -> Santiago Alejandro Cárdenas Caballero
B35: =[1]INFORMACIÓN_INICIAL!$E$2 -> Evaluador | F35: =[1]INFORMACIÓN_INICIAL!$I$2 -> Evaluador

Sheet PUNTAJE OFERTA ECONOMICA
D6: 4
E31: puntaje maximo | G31: 42.25
E32: Nombre | F32: Valor oferta unitario inclido iva | G32: puntaje
E33: ADIFCOL | F33: 99779802 | G33: =+$G$31*$F$39/F33 -> 41.665159
E34: UT CONTRA LA VIOLENCIA | F34: 99735995 | G34: =+$G$31*$F$39/F34 -> 41.68346
E35: CONSORCIO APÜSHI | F35: 99600852 | G35: =+$G$31*$F$39/F35 -> 41.740017
E36: EUONIA SAS | F36: 99595943 | G36: =+$G$31*$F$39/F36 -> 41.742075
E37: FUNXI | F37: 99561600 | G37: =+$G$31*$F$39/F37 -> 41.756473
E38: ALBERTO MERANÍ | F38: 99051348 | G38: =+$G$31*$F$39/F38 -> 41.971577
E39: ESTARCOP HUMANITY | F39: 98398610 | G39: =+$G$31*$F$39/F39 -> 42.25

Sheet PUNTAJE 
B1: FONDO DESARROLLO LOCAL DE SUBA
B2: Informe preliminar de requisitos habilitantes técnicos - proceso FDLS-LP-003-2024
B3: OBJETO: OBJETO:PRESTACIÓN DE SERVICIOS PARA CAPACITACIÓN, SENSIBILIZACIÓN Y SOCIALIZACIÓN DE ESTRATEGIAS DIRIGIDAS A LA PREVENCIÓN, MANEJO Y SEGUIMIENTO DE FACTORES GENERADORES DE VIOLENCIA EN EL CONTEXTO FAMILIAR Y/O VIOLENCIA SEXUAL EN LA LOCALIDAD DE SUBA.
B4: CRITERIOS DE EVALUACION Y ASIGNACION DE PUNTAJE | C4: PUNTAJE | D4: =IF([3]INFORMACIÓN_INICIAL!$C$12="","",[3]INFORMACIÓN_INICIAL!$C$12) -> ALBERTO MERANÍ | F4: =IF([3]INFORMACIÓN_INICIAL!$C$13="","",[3]INFORMACIÓN_INICIAL!$C$13) -> ADIFCOL | H4: =IF([3]INFORMACIÓN_INICIAL!$C$18="","",[3]INFORMACIÓN_INICIAL!$C$18) -> ESTARCOP HUMANITY | J4: =IF([3]INFORMACIÓN_INICIAL!$C$20="","",[3]INFORMACIÓN_INICIAL!$C$20) -> EUONIA SAS | L4: =IF([3]INFORMACIÓN_INICIAL!$C$22="","",[3]INFORMACIÓN_INICIAL!$C$22) -> ONSORCIO APÜSHI | N4: =IF([3]INFORMACIÓN_INICIAL!$C$25="","",[3]INFORMACIÓN_INICIAL!$C$25) -> UT CONTRA LA VIOLENCIA | P4: =IF([3]INFORMACIÓN_INICIAL!$C$26="","",[3]INFORMACIÓN_INICIAL!$C$26) -> FUNXI
D5: PUNTAJE | E5: OBSERVACIÓN | F5: PUNTAJE | G5: OBSERVACIÓN | H5: PUNTAJE | I5: OBSERVACIÓN | J5: PUNTAJE | K5: OBSERVACIÓN | L5: PUNTAJE | M5: OBSERVACIÓN | N5: PUNTAJE | O5: OBSERVACIÓN | P5: PUNTAJE | Q5: OBSERVACIÓN
A6: 1 | B6: Cirterio No 1 VINCULAR FAMILIAS ADICIONALES A LAS CONTEMPLADAS EN EL COMPONENTE DE ORIENTACIÓN Y ASESORÍA FAMILIAR (36,5) | C6: 36.5 | D6: 36.5 | F6: 36.5 | H6: 36.5 | J6: 36.5 | L6: 36.5 | N6: 36.5 | P6: 36.5
B7: Criterio No 2 VINCULACIÓN DE UN (1) COORDINADOR(A) OPERATIVO(A) ADICIONAL AL EXIGIDO SIN CARGO AL FONDO DE DESARROLLO LOCAL DE SUBA (10) | C7: 10 | D7: 10 | F7: 10 | H7: 10 | J7: 10 | L7: 10 | N7: 10 | P7: 10
A8: 2 | B8: Factor económico (ponderación económica 42.25 puntos) | C8: 42.25 | D8: 41.971577 | F8: 41.665159 | H8: 42.25 | J8: 41.742075 | L8: 41.740017 | N8: 41.683459 | P8: 41.756473
A9: 3 | B9: Apoyo a la Industria Nacional (10 puntos) | C9: 10 | D9: 10 | F9: 10 | H9: 10 | J9: 10 | L9: 0 | M9: No utilizan el formato establecido | N9: 10 | P9: 0 | Q9: No aporta certificado para aplicar a este puntaje
A10: 4 | B10: Personal con discapacidad (1 punto) | C10: 1 | D10: 1 | F10: 0 | G10: NO ADJUNTÓ | H10: 1 | J10: 1 | L10: 1 | N10: 1 | P10: 0 | Q10: No aporta certificado para aplicar a este puntaje
A11: 6 | B11: Criterio diferencial Decreto 1860 de 2021 emprendimiento de mujeres (0,25 puntos) | C11: 0.25 | D11: 0.25 | F11: 0.25 | H11: 0.25 | J11: 0.25 | L11: 0.25 | N11: 0.25 | P11: 0 | Q11: No aporta certificado para aplicar este puntaje
A12: TOTAL PUNTOS ASIGNADOS | C12: =C6+C8+C9+C10+C11+C7 -> 100 | D12: =D6+D8+D9+D10+D11+D7 -> 99.721577 | E12: =E6+E8+E9+E10+E11+E7 -> 0 | F12: =F6+F8+F9+F10+F11+F7 -> 98.415159 | H12: =H6+H8+H9+H10+H11+H7 -> 100 | I12: =I6+I8+I9+I10+I11+I7 -> 0 | J12: =J6+J8+J9+J10+J11+J7 -> 99.492075 | L12: =L6+L8+L9+L10+L11+L7 -> 89.490017 | N12: =N6+N8+N9+N10+N11+N7 -> 99.433459 | P12: =P6+P8+P9+P10+P11+P7 -> 88.256473
A13: OBSERVACIONES
