Workbook

Sheet FDLS-LP-003-2024 1 al 3
F1: Código: GCO-GCI-F107 Versión: 02 Vigencia: 23 de diciembre de 2021 Caso HOLA: 209033
C3: VERIFICACIÓN FINANCIERA Y CAPACIDAD ORGANIZACIONAL
B6: LICITACIÓN PÚBLICA FDLS-LP-003-2024
B7: OBJETO: “PRESTACIÓN DE SERVICIOS PARA CAPACITACIÓN, SENSIBILIZACIÓN Y SOCIALIZACIÓN DE ESTRATEGIAS DIRIGIDAS A LA PREVENCIÓN, MANEJO Y SEGUIMIENTO DE FACTORES GENERADORES DE VIOLENCIA EN EL CONTEXTO FAMILIAR Y/O VIOLENCIA SEXUAL EN LA LOCALIDAD DE SUBA.
B8: CONCEPTO | C8: FUNDACION APOYAR FUNDAP NIT: 800055599 8 | D8: FUNDACION INTERNACIONAL DE PEDAGOGIA CONCEPTUAL ALBERTO MERANI NIT: 800055691 8 | E8: ASOCIACION PARA EL DESARROLLO INTEGRAL DE LA FAMILIA COLOMBIANA SIGLA ADIFCOL NIT: 900216251 5 | H8: Datos para validación financiera
C9: 1 | D9: 2 | E9: 3 | F9: 4
B10: BALANCE GENERAL CON CORTE A 31 DE DICIEMBRE DEL AÑO: 2020, 2021 o 2022 | C10: =IF(YEAR(C70)=2024,"31-DIC.-2023 RUP","31-DIC.-2022 RUP") -> 31-DIC.-2023 RUP | D10: =IF(YEAR(D70)=2024,"31-DIC.-2023 RUP","31-DIC.-2022 RUP") -> 31-DIC.-2023 RUP | E10: =IF(YEAR(C70)=2024,"31-DIC.-2023 RUP","31-DIC.-2022 RUP") -> 31-DIC.-2023 RUP
B11: PRESENTACIÓN DE RUP VIGENTE | C11: =IF(C73<=$B$74,"VIGENTE","NO VIGENTE") -> VIGENTE | D11: =IF(D73<=$B$74,"VIGENTE","NO VIGENTE") -> VIGENTE | E11: =IF(E73<=$B$74,"VIGENTE","NO VIGENTE") -> VIGENTE | F11: =IF(F73<=$B$74,"VIGENTE","NO VIGENTE") -> VIGENTE
B12: INFORMACION TOMADA DEL RUP VIGENTE | C12: 1 | D12: 1 | E12: 1 | F12: 1
B13: ACTIVO CORRIENTE | C13: 1930495691 | D13: 11513567000 | E13: 1438713437
B14: PASIVO CORRIENTE | C14: 776112327 | D14: 4758341000 | E14: 101454276
B15: ACTIVO TOTAL | C15: 3691335863 | D15: 12479529000 | E15: 1522585274
B16: PASIVO TOTAL | C16: 1330719568 | D16: 4758341000 | E16: 101454276
B17: PATRIMONIO | C17: 2360616295 | D17: 7721188000 | E17: 1421130998
B18: Activo total-Pasivo total-Patrimonio | C18: =+C15-C16-C17 -> 0 | D18: =+D15-D16-D17 -> 0 | E18: =+E15-E16-E17 -> 0
B19: UTILIDAD OPERACIONAL | C19: 335041498 | D19: 696306000 | E19: 299047000
B20: GASTOS DE INTERESES | C20: 0 | D20: 0 | E20: 6892000
B21: Rentabilidad del Patrimonio = Utilidad Operacional / Patrimonio | C21: =+C19/C17 -> 0.14192967 | D21: =+D19/D17 -> 0.0901812 | E21: =+E19/E17 -> 0.21042888
B22: Rentabilidad del Activo = Utilidad Operacional / Activo Total | C22: =+C19/C15 -> 0.090764295 | D22: =+D19/D15 -> 0.055795856 | E22: =+E19/E15 -> 0.19640739 | H22: MiPyME | I22: Esales
B23: VALOR DEL PRESUPUESTO OFICIAL | C23: =IF(C12=1,$H$23,"") -> 1305414455 | D23: =IF(D12=1,$H$23,"") -> 1305414455 | E23: =IF(E12=1,$H$23,"") -> 1305414455 | H23: 1305414455 | I23: =+H23 -> 1305414455
B24: CRITERIO DE VERIFICACIÓN FINANCIERA
B25: HÁBIL
B26: NO HÁBIL
B27: CRITERIO DE VERIFICACIÓN FINANCIERA
B28: =CONCATENATE("Índice de Liquidez: Mayor o Igual a ",H28) -> Índice de Liquidez: Mayor o Igual a 2 | C28: =IF(C75="MiPyME",IF(C29>=$H$28,$B$25,$B$26),IF(C29>=$I$28,$B$25,$B$26)) -> HÁBIL | D28: =IF(D75="MiPyME",IF(D29>=$H$28,$B$25,$B$26),IF(D29>=$I$28,$B$25,$B$26)) -> HÁBIL | E28: =IF(E75="MiPyME",IF(E29>=$H$28,$B$25,$B$26),IF(E29>=$I$28,$B$25,$B$26)) -> HÁBIL | H28: 2 | I28: 2
B29: Activo corriente / Pasivo corriente | C29: =C13/C14 -> 2.4873921 | D29: =D13/D14 -> 2.4196599 | E29: =E13/E14 -> 14.180905
B30: =CONCATENATE("Endeudamiento total: Menor o Igual a ",H30) -> Endeudamiento total: Menor o Igual a 0,55 | C30: =IF(C75="MiPyME",IF(C31<=$H$30,$B$25,$B$26),IF(C31<=$I$30,$B$25,$B$26)) -> HÁBIL | D30: =IF(D75="MiPyME",IF(D31<=$H$30,$B$25,$B$26),IF(D31<=$I$30,$B$25,$B$26)) -> HÁBIL | E30: =IF(E75="MiPyME",IF(E31<=$H$30,$B$25,$B$26),IF(E31<=$I$30,$B$25,$B$26)) -> HÁBIL | H30: 0.55 | I30: 0.55
B31: (Pasivo total / Activo total)*100 | C31: =C16/C15 -> 0.3604981 | D31: =D16/D15 -> 0.38129171 | E31: =E16/E15 -> 0.066632902
B32: =CONCATENATE("Razón de Cobertura de Intereses Mayor o Igual a ",H32," o Indeterminado") -> Razón de Cobertura de Intereses Mayor o Igual a 1,7 o Indeterminado | C32: =IF(C75="MiPyME",IF(AND(C33="Indeterminado",C19<=0),$B$26,IF(C33>=$H$32,$B$25,$B$26)),IF(AND(C33="Indeterminado",C19<=0),$B$26,IF(C33>=$I$32,$B$25,$B$26))) -> HÁBIL | D32: =IF(D75="MiPyME",IF(AND(D33="Indeterminado",D19<=0),$B$26,IF(D33>=$H$32,$B$25,$B$26)),IF(AND(D33="Indeterminado",D19<=0),$B$26,IF(D33>=$I$32,$B$25,$B$26))) -> HÁBIL | E32: =IF(E75="MiPyME",IF(AND(E33="Indeterminado",E19<=0),$B$26,IF(E33>=$H$32,$B$25,$B$26)),IF(AND(E33="Indeterminado",E19<=0),$B$26,IF(E33>=$I$32,$B$25,$B$26))) -> HÁBIL | H32: 1.7 | I32: 1.7
B33: RC= (Utilidad Operacional) / (Gastos de Intereses) | C33: =IFERROR(C19/C20,"Indeterminado") -> Indeterminado | D33: =IFERROR(D19/D20,"Indeterminado") -> Indeterminado | E33: =IFERROR(E19/E20,"Indeterminado") -> 43.390453
B34: =CONCATENATE("CAPITAL DE TRABAJO ≥ A ",TEXT(H34,"#,0#%")," DEL PPTO OFICIAL") -> CAPITAL DE TRABAJO ≥ A 35,0% DEL PPTO OFICIAL | C34: =IF(C75="MiPyME",IF(C35>(C23*$H$34),$B$25,$B$26),IF(C35>(C23*$I$34),$B$25,$B$26)) -> HÁBIL | D34: =IF(D75="MiPyME",IF(D35>(D23*$H$34),$B$25,$B$26),IF(D35>(D23*$I$34),$B$25,$B$26)) -> HÁBIL | E34: =IF(E75="MiPyME",IF(E35>(E23*$H$34),$B$25,$B$26),IF(E35>(E23*$I$34),$B$25,$B$26)) -> HÁBIL | H34: 0.35 | I34: 0.35
B35: =CONCATENATE("CT = Activo Corriente - Pasivo Corriente ≥ ",TEXT((H23*H34),"$###.###.###.##0")) -> CT = Activo Corriente - Pasivo Corriente ≥ $456.895.059 | C35: =C13-C14 -> 1154383364 | D35: =D13-D14 -> 6755226000 | E35: =E13-E14 -> 1337259161
B36: CRITERIO DE VERIFICACIÓN CAPACIDAD ORGANIZACIONAL
B38: =CONCATENATE("Indicador Rentabilidad del Patrimonio",CHAR(10),"Mayor o Igual a ",H38) -> Indicador Rentabilidad del Patrimonio Mayor o Igual a 0,06 | C38: =IF(C75="MiPyME",IF(C39>=$H$38,$B$25,$B$26),IF(C39>=$I$38,$B$25,$B$26)) -> HÁBIL | D38: =IF(D75="MiPyME",IF(D39>=$H$38,$B$25,$B$26),IF(D39>=$I$38,$B$25,$B$26)) -> HÁBIL | E38: =IF(E75="MiPyME",IF(E39>=$H$38,$B$25,$B$26),IF(E39>=$I$38,$B$25,$B$26)) -> HÁBIL | H38: 0.06 | I38: 0
B39: RP = (Utilidad Operacional / Patrimonio) | C39: =C19/C17 -> 0.14192967 | D39: =D19/D17 -> 0.0901812 | E39: =E19/E17 -> 0.21042888
B40: =CONCATENATE("Indicador Rentabilidad del Activo",CHAR(10),"Mayor o Igual a ",H40) -> Indicador Rentabilidad del Activo Mayor o Igual a 0,03 | C40: =IF(C75="MiPyME",IF(C41>=$H$40,$B$25,$B$26),IF(C41>=$I$40,$B$25,$B$26)) -> HÁBIL | D40: =IF(D75="MiPyME",IF(D41>=$H$40,$B$25,$B$26),IF(D41>=$I$40,$B$25,$B$26)) -> HÁBIL | E40: =IF(E75="MiPyME",IF(E41>=$H$40,$B$25,$B$26),IF(E41>=$I$40,$B$25,$B$26)) -> HÁBIL | H40: 0.03 | I40: 0
B41: RA = (Utilidad Operacional / Activo Total) | C41: =C19/C15 -> 0.090764295 | D41: =D19/D15 -> 0.055795856 | E41: =E19/E15 -> 0.19640739
B42: CUMPLIMIENTO REQUISITOS HABLITANTES | C42: =+IF(COUNTIF(C28:C41,"NO HÁBIL")>=1,"NO HABILITADO","HABILITADO") -> HABILITADO | D42: =+IF(COUNTIF(D28:D41,"NO HÁBIL")>=1,"NO HABILITADO","HABILITADO") -> HABILITADO | E42: =+IF(COUNTIF(E28:E41,"NO HÁBIL")>=1,"NO HABILITADO","HABILITADO") -> HABILITADO | F42: =+IF(COUNTIF(F28:F41,"NO HÁBIL")>=1,"NO HABILITADO","HABILITADO") -> HABILITADO
B44: NOTA: Una vez verificada la Información Financiera presentada por cada uno de los proponentes, se informa que las sociedades arriba descritas, que cumplen con lo solicitado en los pliegos de condiciones definitivos en cuanto a los Indicadores Financieros requeridos, se encuentran HABILITADAS.
B47: =B72 -> Fecha de cierre del proceso:
...

Sheet Consolidado 1 a 20
B1: Alcaldía de Bogotá D.C.
B2: Secretaría Distrital de Gobierno
B3: Alcaldía Local de Suba
B5: ='FDLS-LP-003-2024 1 al 3'!B6 -> LICITACIÓN PÚBLICA FDLS-LP-003-2024
B6: ='FDLS-LP-003-2024 1 al 3'!B7 -> OBJETO: “PRESTACIÓN DE SERVICIOS PARA CAPACITACIÓN, SENSIBILIZACIÓN Y SOCIALIZACIÓN DE ESTRATEGIAS DIRIGIDAS A LA PREVENCIÓN, MANEJO Y SEGUIMIENTO DE FACTORES GENERADORES DE VIOLENCIA EN EL CONTEXTO FAMILIAR Y/O VIOLENCIA SEXUAL EN LA LOCALIDAD DE SUBA.
B7: Presupuesto Oficial del Proceso | C7: ='FDLS-LP-003-2024 1 al 3'!H23 -> 1305414455
B8: Fecha corte Información Financiera | C8: 44926 | D8: 44561 | E8: 44196
B9: Fecha cierre del proceso de selección | C9: ='FDLS-LP-003-2024 1 al 3'!C72 -> 45622
B10: VERIFICACIóN DE LOS INDICADORES | I10: RUP | J10: RESULTADO FINANCIERO | K10: OBERVACIONES
B11: NOMBRE DEL PROPONENTE | C11: Índice de liquidez | D11: Índice de endeudamiento | E11: Razón de Cobertura de intereses | F11: Capital de trabajo | G11: Rentabilidad del patrimonio | H11: Rentabilidad del activo | I11: VIGENTE; EN FIRME Y 30 DÍAS ANTERIORES
A12: ='FDLS-LP-003-2024 1 al 3'!C9 -> 1 | B12: ='FDLS-LP-003-2024 1 al 3'!C8 -> FUNDACION APOYAR FUNDAP NIT: 800055599 8 | C12: CUMPLE | D12: CUMPLE | E12: CUMPLE | F12: CUMPLE | G12: CUMPLE | H12: CUMPLE | I12: VIGENTE | J12: =+'FDLS-LP-003-2024 1 al 3'!C42 -> HABILITADO
A13: =A12+1 -> 2 | B13: ='FDLS-LP-003-2024 1 al 3'!D8 -> FUNDACION INTERNACIONAL DE PEDAGOGIA CONCEPTUAL ALBERTO MERANI NIT: 800055691 8 | C13: CUMPLE | D13: CUMPLE | E13: CUMPLE | F13: CUMPLE | G13: CUMPLE | H13: CUMPLE | I13: VIGENTE | J13: =+'FDLS-LP-003-2024 1 al 3'!D42 -> HABILITADO
A14: =A13+1 -> 3 | B14: ='FDLS-LP-003-2024 1 al 3'!E8 -> ASOCIACION PARA EL DESARROLLO INTEGRAL DE LA FAMILIA COLOMBIANA SIGLA ADIFCOL NIT: 900216251 5 | C14: CUMPLE | D14: CUMPLE | E14: CUMPLE | F14: CUMPLE | G14: CUMPLE | H14: CUMPLE | I14: VIGENTE | J14: =+'FDLS-LP-003-2024 1 al 3'!E42 -> HABILITADO
A15: =A14+1 -> 4 | B15: UT.FORMANDO PAIS | C15: CUMPLE | D15: CUMPLE | E15: CUMPLE | F15: CUMPLE | G15: CUMPLE | H15: CUMPLE | I15: VIGENTE | J15: HABILITADO
A16: =A15+1 -> 5 | B16: CORPORACION PARTNERS COLOMBIA | C16: CUMPLE | D16: CUMPLE | E16: CUMPLE | F16: NO CUMPLE | G16: CUMPLE | H16: CUMPLE | I16: VIGENTE | J16: NO HAB ILITADO | K16: NO CUMPLE, el proponente Corporacion PARTNERS COLOMBIA no cumple con el indicador de capital de trabajo. Por lo anterior se solicita al proponente allegar el RUP con los resultados financieros del año 2021 y 2022. SUBSANAR: De acuerdo con lo establecido en el estudio previo I…) 5.3.5.3 ACREDITACIÓN DE LA CAPACIDAD FINANCIERA Y ORGANIZACIONAL La evaluación financiera y organizacional de las propuestas se efectuará a partir de la información contenida en el RUP vigente y en firme. En tal sentido, la evaluación de la capacidad financiera se realizará de acuerdo con la información reportada en el RUP, según las disposiciones establecidas en la Subsección 5, de la Sección 1, del Capítulo 1, del Título 1, de la Parte 2 del Decreto 1082 de 2015, o las normas que las modifiquen, adicionen o sustituyan, por lo que se tomará la información financiera del mejor año fiscal que se refleje en el registro del Proponente y que esté vigente y en firme.
A17: 6 | B17: IKALA-EMPRESA PARA EL DESARROLLO SOCIAL S.A.S BIC | C17: CUMPLE | D17: CUMPLE | E17: CUMPLE | F17: CUMPLE | G17: CUMPLE | H17: CUMPLE | I17: VIGENTE | J17: HABILITADO
A18: 7 | B18: CONSORCIO AOC-PROSEDER 2024 | C18: CUMPLE | D18: CUMPLE | E18: CUMPLE | F18: CUMPLE | G18: CUMPLE | H18: CUMPLE | I18: VIGENTE | J18: HABILITADO | K18: El consorciado Avance Organizacional Consultores SAS BIC NIT: 800131690 6, no allego RUP con fecha de expedicion menor a la fecha de cierre, no obstante la entidad descargo el RUP con fecha de la evaluacion el cual se adjunta.
A19: 8 | B19: FUNDACION STAR COP HUMANITY SUYA SIGLA ES SCH NIT | C19: CUMPLE | D19: CUMPLE | E19: CUMPLE | F19: CUMPLE | G19: CUMPLE | H19: CUMPLE | I19: VIGENTE | J19: HABILITADO
A20: 9 | B20: UNION ESTRATÉGICA - CEDAVIDA | C20: CUMPLE | D20: CUMPLE | E20: CUMPLE | F20: CUMPLE | G20: CUMPLE | H20: CUMPLE | I20: VIGENTE | J20: HABILITADO
A21: 10 | B21: EUONIA S.AS. | C21: CUMPLE | D21: CUMPLE | E21: CUMPLE | F21: CUMPLE | G21: CUMPLE | H21: CUMPLE | I21: VIGENTE | J21: HABILITADO
A22: 11 | B22: FUNDACION DE EDUCACION SUPERIOR SAN JOSE FESSANJOSE | C22: CUMPLE | D22: CUMPLE | E22: CUMPLE | F22: CUMPLE | G22: CUMPLE | H22: CUMPLE | I22: VIGENTE | J22: HABILITADO
A23: 12 | B23: CONSORCIO APUSHI | C23: CUMPLE | D23: CUMPLE | E23: CUMPLE | F23: CUMPLE | G23: CUMPLE | H23: CUMPLE | I23: VIGENTE | J23: HABILITADO
A24: 13 | B24: FUNDACION PARA EL APOYO, UNIDAD Y RESPETO A LA SOCIEDAD. AURA | C24: CUMPLE | D24: CUMPLE | E24: CUMPLE | F24: NO CUMPLE | G24: CUMPLE | H24: CUMPLE | I24: CUMPLE | J24: HABILITADO
A25: 14 | B25: FUNDACION SOCIAL VIVE COLOMBIA | C25: CUMPLE | D25: CUMPLE | E25: CUMPLE | F25: CUMPLE | G25: CUMPLE | H25: CUMPLE | I25: CUMPLE | J25: HABILITADO
A26: 15 | B26: UNION TEMPORAL CONTRA LA VIOLENCIA | C26: CUMPLE | D26: CUMPLE | E26: CUMPLE | F26: CUMPLE | G26: CUMPLE | H26: CUMPLE | I26: CUMPLE | J26: HABILITADO
A27: 16 | B27: FUNDACION XIXA | C27: CUMPLE | D27: CUMPLE | E27: CUMPLE | F27: CUMPLE | G27: CUMPLE | H27: CUMPLE | I27: CUMPLE | J27: HABILITADO
A28: 17 | B28: FUNDACION PARA LA DEFENSA DE LOS DERECHOS HUMANOS | C28: CUMPLE | D28: CUMPLE | E28: CUMPLE | F28: CUMPLE | G28: CUMPLE | H28: CUMPLE | I28: CUMPLE | J28: HABILITADO
A30: * Se realiza la Evaluación Financiera y Organizacional de acuerdo a lo establecido con el pliego de condiciones definitivo del proceso; la evaluación es puesta a disposición de la Oficina de Contratación y Despacho para que se continúe con el proceso de evaluación.
B33: ='FDLS-LP-003-2024 1 al 3'!B48 -> 45622
