Workbook
Name \a: #REF!
Name \a: #REF!
Name \a: #REF!
Name \a: #REF!
Name \b: #REF!
Name \b: #REF!
Name \b: #REF!
Name \b: #REF!
Name \c: #REF!
Name \c: #REF!
Name \c: #REF!
Name \c: #REF!
Name \l: #REF!
Name \l: #REF!
Name \l: #REF!
Name \l: #REF!
Name A_impresión_IM: #REF!
Name A_impresión_IM: #REF!
Name A_impresión_IM: #REF!
Name A_impresión_IM: #REF!
Name aiu_mat: [1]PRESUPUESTO!$AD$891
Name BASURA: [2]ANEXO2!$B$90:$M$133
Name campamentos: [1]PRESUPUESTO!$AD$883
Name carreteras: #REF!
Name carreteras: #REF!
Name CONTRATACIÓN: #REF!
Name CONTRATACIÓN: #REF!
Name CONTRATACIÓN: #REF!
Name CONTRATACIÓN: #REF!
Name CUAESTRUCT: #REF!
Name CUAESTRUCT: #REF!
Name CUAESTRUCT: #REF!
Name CUAESTRUCT: #REF!
Name CUAPRUEBAS: #REF!
Name CUAPRUEBAS: #REF!
Name CUAPRUEBAS: #REF!
Name CUAPRUEBAS: #REF!
Name equipos: [1]PRESUPUESTO!$AD$876
Name FM: #REF!
Name FM: #REF!
Name FM: #REF!
Name FM: #REF!
Name FMA: #REF!
Name FMA: #REF!
Name FMA: #REF!
Name FMA: #REF!
Name FMB: #REF!
Name FMB: #REF!
Name FMB: #REF!
Name FMB: #REF!
Name FMC: #REF!
Name FMC: #REF!
Name FMC: #REF!
Name FMC: #REF!
Name FMD: #REF!
Name FMD: #REF!
Name FMD: #REF!
Name FMD: #REF!
Name FME: #REF!
Name FME: #REF!

Sheet Datos
A1: DATOS GENERALES
A2: Objeto | B2: REALIZAR LA INTERVENTORÍA TÉCNICA, ADMINISTRATIVA, LEGAL, FINANCIERA, SOCIAL, AMBIENTAL, SISO Y CONTABLE PARA EL CONTRATO DE OBRA PÚBLICA QUE RESULTE DE LA LICITACIÓN FDLS-LP- 007-2024 CUYO OBJETO CORRESPONDE A “CONTRATAR A PRECIOS UNITARIOS FIJOS Y A MONTO AGOTABLE EL DIAGNOSTICO Y LA INTERVENCIÓN DE LOS PARQUES DE PROXIMIDAD CARGO DEL FONDO DE DESARROLLO LOCAL DE SUBA, MEDIANTE ACCIONES DE REHABILITACIÓN Y/O MEJORAMIENTO Y/O MANTENIMIENTO Y/O ADECUACIÓN Y/O RECUPERACION Y/O AMPLIACIÓN Y/O TERMINACIÓN Y/O DOTACIÓN DE LA INFRAESTRUCTURA FISICA.”
A3: No de Proceso | B3: FDLS-CMA-001-2024
A4: Presupuesto Oficial | B4: 215897184
A5: Presupuesto Solicitado | B5: 1
A6: Fecha de Cierre del Proceso | B6: 45642
A7: Comité Evaluador - Técnico | B7: Clara Gutierrez
B8: Diego Olarte
B9: Andres Acosta
B10: Alejandro Victoria

Sheet Listas
A2: PROPONENTE | B2: SMMLV 2024 | C2: Método | D2: Rango (inclusive) | E2: Rango (inclusive) | F2: Método
A3: Persona Natural | B3: 1300000 | C3: Mediana con Valor Absoluto | D3: De 0.00 a 0.33 | E3: 0 | F3: Mediana con Valor Absoluto
A4: Persona Juridica | C4: Media Geométrica con presupuesto oficial | D4: De 0.34 a 0.67 | E4: 0.01 | F4: Mediana con Valor Absoluto
A5: Consorcio | C5: Media Aritmética | D5: De 0.68 a 0.99 | E5: 0.02 | F5: Mediana con Valor Absoluto
A6: Union Temporal | E6: 0.03 | F6: Mediana con Valor Absoluto
E7: 0.04 | F7: Mediana con Valor Absoluto
E8: 0.05 | F8: Mediana con Valor Absoluto
E9: 0.06 | F9: Mediana con Valor Absoluto
E10: 0.07 | F10: Mediana con Valor Absoluto
E11: 0.08 | F11: Mediana con Valor Absoluto
E12: 0.09 | F12: Mediana con Valor Absoluto
E13: 0.1 | F13: Mediana con Valor Absoluto
E14: 0.11 | F14: Mediana con Valor Absoluto
E15: 0.12 | F15: Mediana con Valor Absoluto
E16: 0.13 | F16: Mediana con Valor Absoluto
E17: 0.14 | F17: Mediana con Valor Absoluto
E18: 0.15 | F18: Mediana con Valor Absoluto
... E102: 0.99 | F102: Media Aritmética

Sheet 1. Exp.Habilitante 
B2: FONDO DE DESARROLLO LOCAL DE SUBA
B3: FORMATO: EVALUACIÓN PRELIMINAR EXPERIENCIA MINIMA HABILITANTE TECNICA PROPONENTES
B4: CONCURSO DE MERITOS ABIERTO
B7: OBJETO: | E7: =+Datos!B2 -> REALIZAR LA INTERVENTORÍA TÉCNICA, ADMINISTRATIVA, LEGAL, FINANCIERA, SOCIAL, AMBIENTAL, SISO Y CONTABLE PARA EL CONTRATO DE OBRA PÚBLICA QUE RESULTE DE LA LICITACIÓN FDLS-LP- 007-2024 CUYO OBJETO CORRESPONDE A “CONTRATAR A PRECIOS UNITARIOS FIJOS Y A MONTO AGOTABLE EL DIAGNOSTICO Y LA INTERVENCIÓN DE LOS PARQUES DE PROXIMIDAD CARGO DEL FONDO DE DESARROLLO LOCAL DE SUBA, MEDIANTE ACCIONES DE REHABILITACIÓN Y/O MEJORAMIENTO Y/O MANTENIMIENTO Y/O ADECUACIÓN Y/O RECUPERACION Y/O AMPLIACIÓN Y/O TERMINACIÓN Y/O DOTACIÓN DE LA INFRAESTRUCTURA FISICA.”
B13: 1 | C13: CONSORCIO REAL A&U 2024 | M13: NO CUMPLE
B16: PROPONENTE (Persona Natural, Jurídica, Consorcio o Unión Temporal): | E16: =C13 -> CONSORCIO REAL A&U 2024 | I16: INTEGRANTE 1: | K16: ARQUITECTURA E INGENIERIA DE CONSULTA ARINCO S.A.S. | P16: PORCENTAJE DE PARTICIPACIÓN: | S16: 0.9
I17: INTEGRANTE 2: | K17: URBANISMO Y ARQUITECTURA S.A.S. | P17: PORCENTAJE DE PARTICIPACIÓN: | S17: 0.1
P18: TOTAL PORCENTAJE | S18: =S16+S17 -> 1
B20: PRESUPUESTO OFICIAL ESTIMADO: | E20: 215897184 | G20: PRESUPUESTO OFICIAL EN SMLMV 2024 SOLICITADO: | J20: 1 | K20: =((E20/1300000)*J20) -> 166.07476 | L20: NO CUMPLE
G21: % DIMENSIONAMIENTO PPTO OFICIAL | J21: 0.7 | K21: =((E20/1300000)*J21) -> 116.25233 | L21: CUMPLE
B23: CÓDIGOS RUP MÍNIMOS SOLICITADOS | D23: 1 | E23: 80101600 | F23: 81101500 | I23: Conteo de Códigos | K23: Cumple / NO Cumple
B24: CÓDIGOS RUP: | D24: Contrato 1 | E24: X | F24: X | I24: =COUNTA(E24:F24) -> 2 | K24: CUMPLE
B25: CÓDIGOS RUP: | D25: Contrato 2 | I25: =COUNTA(E25:F25) -> 0 | K25: NO CUMPLE
B26: CÓDIGOS RUP: | D26: Contrato 3 | E26: X | F26: X | I26: =COUNTA(E26:F26) -> 2 | K26: CUMPLE
B27: CÓDIGOS RUP: | D27: Contrato 4 | E27: X | F27: X | I27: =COUNTA(E27:F27) -> 2 | K27: CUMPLE
B28: CÓDIGOS RUP: | D28: Contrato 5 | E28: X | F28: X | I28: =COUNTA(E28:F28) -> 2 | K28: CUMPLE
B29: CONSOLIDADO | I29: =COUNTA(E29:F29) -> 0
B31: No. | C31: # Contrato en RUP | D31: # PAGINA DEL RUP (PDF) | E31: ENTIDAD CONTRATANTE (Escriba el Nombre de la entidad con la cual suscribió la experiencia ante la Camara de Comercio.) | F31: OBJETO DEL CONTRATO (Indique tal como aparece en la certificación y/o acta de liquidación, y/o acta de terminación) | I31: NOMBRE DEL ARCHIVO SOPORTE APORTADO PARA VALIDAR LOS REQUERIMIENTOS SOLICITADOS. (Certificaciones, Contratos, Acta de Liquidacion y/o Facturas y/o cualquier otro documento que considere necesario) | K31: EXPERIENCIA GENERAL | N31: EXPERIENCIA ESPECIFICA | S31: CODIGOS CLASIFICACIÓN UNSPSC CUMPLE / NO CUMPLE | T31: NOMBRE PARTICIPANTE QUE APORTA LA EXPERIENCIA | U31: % PARTICIPACION EN EL CONSORCIO O UNIÓN TEMPORAL | V31: VALOR DEL CONTRATO EN SMMLV RELACIONADOS EN EL RUP | W31: VALOR DEL CONTRATO EN SMMLV X PORCENTAJE PARTICIPACIÓN PROMEDIO | X31: VALOR EJECUTADO EN SMMLV AFECTADO POR EL % DE PARTICIPACION SOLO CONTRATOS VALIDADOS | Y31: OBSERVACIONES | AA31: No cumple con lo dispuesto en el literal D DEL NUMERAL 3.5.2 CONSIDERACIONES PARA LA VALIDEZ DE LA EXPERIENCIA REQUERIDA EN Allegar la información para acreditación de experiencia entre particulares correspondiente al NUMERAL 3.5.5. DOCUMENTOS VALIDOS PARA LA ACREDITACION DE LA EXPERIENCIA REQUERIDA
K32: INTERVENTORÍA A CONSTRUCCIÓN Y/O RECONSTRUCCIÓN Y/O AMPLIACIÓN Y/O TERMINACIÓN Y/O REHABILITACIÓN Y/O MEJORAMIENTO Y/O MANTENIMIENTO Y/O ADECUACIÓN DE PARQUES | M32: INTERVENTORÍA A CONSTRUCCIÓN Y/O RECONSTRUCCIÓN Y/O AMPLIACIÓN Y/O TERMINACIÓN Y/O REHABILITACIÓN Y/O MEJORAMIENTO Y/O MANTENIMIENTO Y/O ADECUACIÓN DE ESPACIO PÚBLICO | N32: Con la sumatoria de hasta máximo dos (2) de los contratos válidos aportados como experiencia general debe corresponder mínimo al (F%) del presupuesto oficial del presente proceso de selección. % DE DIMENSIONAMIENTO F70%
K33: Nota 2: En el caso en el cual el proceso de selección contemple actividades de dotación de mobiliario, la experiencia válida aportada deberá acreditar en por lo menos uno (1) de los contratos actividades de INTERVENTORÍA A suministro e instalación de mobiliario. | M33: Nota 1: Para el caso de experiencia de ESPACIO PÚBLICO se excluyen de estos las vías destinadas al tránsito vehicular, así como la INTERVENTORÍA A conservación y/o preservación de playas marítimas.
B35: 1 | C35: 29 | D35: 261 | E35: IDRD | F35: INTERVENTORIATECNICA,ADMINISTRATIVA Y FINANCIERA A LA CONSTRUCCION DE OBRA DEL PARQUE VECINAL EL PARAISO,UBICADO EN LALOCALIDAD CIUDAD BOLIVAR DEL D.C.” | I35: Certificación en archivo gigital-CCE-EICP-FM-172 Formato 3 Experiencia Infraestructura Social V1 28-12-2023_1 | K35: CUMPLE | M35: N/A | N35: CUMPLE | S35: CUMPLE | T35: URBANISMO Y ARQUITECTURA S.A.S. | U35: 1 | V35: 140.99 | W35: =U35*V35 -> 140.99 | X35: =V35*U35 -> 140.99 | Y35: Cumple Nota 2 Cumple con 70% | AA35: El objeto del contrato aportado no corresponde a la experiencia requerida Subsanar en el termino del traslado de la evaluación
B36: 2 | C36: 59 | D36: 326 | E36: ESCORCIA ORETEGA &CIA SCA | F36: INTERVENTORIA TECNICA, ADMINISTRATIVA PARA LA CONSTRUCCION DEL CENTRO COMERCIAL EL POBLADO PLAZA | I36: Certificaión, Acta de recibo del contrato, en archivo Digital-CCE-EICP-FM-172 Formato 3 Experiencia Infraestructura Social V1 28-12-2023_1 | K36: N/A | M36: NO CUMPLE | N36: NO CUMPLE | S36: NO CUMPLE | T36: URBANISMO Y ARQUITECTURA S.A.S. | U36: 1 | V36: 866.5 | X36: =V36*U36 -> 866.5 | Y36: El objeto del contrato aportado no corresponde a la experiencia requerida de (Intervención parques y/o espacio público) aclarar el alcance de la intervención en SMMLV para parques y/o espacio publico en el contrato aportado No cumple con lo dispuesto en el literal D DEL NUMERAL 10.1.2 CONSIDERACIONES PARA LA VALIDEZ DE LA EXPERIENCIA DEL PROPONENTE "(...) Tratándose de Proponentes Plurales se tendrá en cuenta lo siguiente: i) uno de los integrantes debe aportar como mínimo el cincuenta por ciento (50 %) de la experiencia solicitada; ii) los demás integrantes deben acreditar al menos el cinco por ciento (5 %) de la experiencia solicitada; y iii) sin perjuicio de lo anterior, solo uno (1) de los integrantes, si así lo considera pertinente, podrá no demostrar experiencia. En este último caso, el porcentaje de participación del integrante que no aporta experiencia en la estructura plural no podrá superar el diez por ciento (10 %). Subsanar en el termino del traslado de la evaluación | AA36: Allegar la información para acreditación de experiencia entre particulares correspondiente al NUMERAL10.1.5 DOCUMENTOS VÁLIDOS PARA LA ACREDITACIÓN DE LA EXPERIENCIA REQUERIDA Subsanar en el termino del traslado de la evaluación
B38: VALOR SUMATORIA CONTRATOS ACREDITADOS PARA EXPERIENCIA HABILITANTE DEL PROPONENTE: | W38: =SUM(W35:W36) -> 140.99 | X38: =SUM(X35) -> 140.99
B39: PROMEDIO DE CONTRATOS ACREDITADOS VALIDOS DE EXPERIENCIA DEL PROPONENTE: | W39: =AVERAGE(W35:W36) -> 140.99
B42: 2 | C42: R&M CONSTRUCCIONES E INTERVENTORIAS S.A.S | M42: CUMPLE
B45: PROPONENTE (Persona Natural, Jurídica, Consorcio o Unión Temporal): | E45: =C42 -> R&M CONSTRUCCIONES E INTERVENTORIAS S.A.S | I45: INTEGRANTE 1: | K45: R&M CONSTRUCCIONES E INTERVENTORIAS S.A.S | P45: PORCENTAJE DE PARTICIPACIÓN: | S45: 1
I46: INTEGRANTE 2: | P46: PORCENTAJE DE PARTICIPACIÓN:
P47: TOTAL PORCENTAJE | S47: =S45+S46 -> 1
B49: PRESUPUESTO OFICIAL ESTIMADO: | E49: 215897184 | G49: PRESUPUESTO OFICIAL EN SMLMV 2024 SOLICITADO: | J49: 1 | K49: =((E49/1300000)*J49) -> 166.07476 | L49: CUMPLE
G50: % DIMENSIONAMIENTO PPTO OFICIAL | J50: 0.7 | K50: =((E49/1300000)*J50) -> 116.25233 | L50: CUMPLE
B52: CÓDIGOS RUP MÍNIMOS SOLICITADOS | D52: 1 | E52: 80101600 | F52: 81101500 | I52: Conteo de Códigos | K52: Cumple / NO Cumple
B53: CÓDIGOS RUP: | D53: Contrato 1 | E53: X | F53: X | I53: =COUNTA(E53:F53) -> 2 | K53: CUMPLE
B54: CÓDIGOS RUP: | D54: Contrato 2 | E54: X | F54: X | I54: =COUNTA(E54:F54) -> 2 | K54: CUMPLE
B55: CÓDIGOS RUP: | D55: Contrato 3 | E55: X | F55: X | I55: =COUNTA(E55:F55) -> 2 | K55: CUMPLE
B56: CÓDIGOS RUP: | D56: Contrato 4 | E56: X | F56: X | I56: =COUNTA(E56:F56) -> 2 | K56: CUMPLE
B57: CONSOLIDADO
B59: No. | C59: # Contrato en RUP | D59: # PAGINA DEL RUP (PDF) | E59: ENTIDAD CONTRATANTE (Escriba el Nombre de la entidad con la cual suscribió la experiencia ante la Camara de Comercio.) | F59: OBJETO DEL CONTRATO (Indique tal como aparece en la certificación y/o acta de liquidación, y/o acta de terminación) | I59: NOMBRE DEL ARCHIVO SOPORTE APORTADO PARA VALIDAR LOS REQUERIMIENTOS SOLICITADOS. (Certificaciones, Contratos, Acta de Liquidacion y/o Facturas y/o cualquier otro documento que considere necesario) | K59: EXPERIENCIA GENERAL | N59: EXPERIENCIA ESPECIFICA | S59: CODIGOS CLASIFICACIÓN UNSPSC CUMPLE / NO CUMPLE | T59: NOMBRE PARTICIPANTE QUE APORTA LA EXPERIENCIA | U59: % PARTICIPACION EN EL CONSORCIO O UNIÓN TEMPORAL | V59: VALOR DEL CONTRATO EN SMMLV RELACIONADOS EN EL RUP | W59: VALOR DEL CONTRATO EN SMMLV X PORCENTAJE PARTICIPACIÓN | X59: VALOR EJECUTADO EN SMMLV AFECTADO POR EL % DE PARTICIPACION SOLO CONTRATOS VALIDADOS | Y59: OBSERVACIONES
K60: INTERVENTORÍA A CONSTRUCCIÓN Y/O RECONSTRUCCIÓN Y/O AMPLIACIÓN Y/O TERMINACIÓN Y/O REHABILITACIÓN Y/O MEJORAMIENTO Y/O MANTENIMIENTO Y/O ADECUACIÓN DE PARQUES | M60: INTERVENTORÍA A CONSTRUCCIÓN Y/O RECONSTRUCCIÓN Y/O AMPLIACIÓN Y/O TERMINACIÓN Y/O REHABILITACIÓN Y/O MEJORAMIENTO Y/O MANTENIMIENTO Y/O ADECUACIÓN DE ESPACIO PÚBLICO | N60: Con la sumatoria de hasta máximo dos (2) de los contratos válidos aportados como experiencia general debe corresponder mínimo al (F%) del presupuesto oficial del presente proceso de selección. % DE DIMENSIONAMIENTO F70%
K61: Nota 2: En el caso en el cual el proceso de selección contemple actividades de dotación de mobiliario, la experiencia válida aportada deberá acreditar en por lo menos uno (1) de los contratos actividades de INTERVENTORÍA A suministro e instalación de mobiliario. | M61: Nota 1: Para el caso de experiencia de ESPACIO PÚBLICO se excluyen de estos las vías destinadas al tránsito vehicular, así como la INTERVENTORÍA A conservación y/o preservación de playas marítimas.
B63: 1 | C63: 34 | D63: 228 | E63: IDU | F63: INTERVENTORIA TECNICA, ADMINISTRATIVA, FINANCIERA Y AMBIENTAL PARA LA CONSTRUCCION DE LA ALAMEDA FLORIDA-JUAN AMARILLO | I63: Certificaión, ACUERDO CONSORCIAL , acta de liquidacion en archivo Digital- 7. EXPERIENCIA_1 | K63: N/A | M63: CUMPLE | N63: CUMPLE | S63: CUMPLE | T63: RYM CONSTRUCCIONES E INTERVENTORIAS SAS | U63: 0.8 | V63: 143.04 | W63: =U63*V63 -> 114.432 | X63: =V63*U63 -> 114.432
...

Sheet 2.Experiencia Personal clave
B2: FONDO DE DESARROLLO LOCAL DE SUBA
B3: FORMATO: EVALUACIÓN PRELIMINAR EXIGENCIAS MÍNIMAS DE EXPERIENCIA Y FORMACIÓN ACADÉMICA DEL EQUIPO DE TRABAJO (Personal Clave Evaluable)
B4: CONCURSO DE MERITOS ABIERTO
B5: =[6]Datos!C3 -> FDLS-CMA-001-2024
B7: OBJETO: | C7: =+Datos!B2 -> REALIZAR LA INTERVENTORÍA TÉCNICA, ADMINISTRATIVA, LEGAL, FINANCIERA, SOCIAL, AMBIENTAL, SISO Y CONTABLE PARA EL CONTRATO DE OBRA PÚBLICA QUE RESULTE DE LA LICITACIÓN FDLS-LP- 007-2024 CUYO OBJETO CORRESPONDE A “CONTRATAR A PRECIOS UNITARIOS FIJOS Y A MONTO AGOTABLE EL DIAGNOSTICO Y LA INTERVENCIÓN DE LOS PARQUES DE PROXIMIDAD CARGO DEL FONDO DE DESARROLLO LOCAL DE SUBA, MEDIANTE ACCIONES DE REHABILITACIÓN Y/O MEJORAMIENTO Y/O MANTENIMIENTO Y/O ADECUACIÓN Y/O RECUPERACION Y/O AMPLIACIÓN Y/O TERMINACIÓN Y/O DOTACIÓN DE LA INFRAESTRUCTURA FISICA.”
B9: 1 | C9: CONSORCIO REAL A&U 2024 | F9: NO CUMPLE | G9: No cumple con lo dispuesto en el literal 3.9.2 EXIGENCIAS MÍNIMAS DE EXPERIENCIA Y FORMACIÓN ACADÉMICA DEL EQUIPO DE TRABAJO (Personal Clave Evaluable) "(…) Las condiciones de formación académica y experiencia de los perfiles del personal integrante del equipo de trabajo denominado Personal Clave Evaluable se encuentran en el “Anexo 1 – Anexo Técnico” del Proceso de Contratación, las cuales serán verificadas durante la evaluación de las propuestas, de acuerdo con las reglas establecidas en el Pliego de Condiciones, particularmente, en el numeral “10.2. Acreditación de experiencia y formación académica del equipo de trabajo y del Personal Clave Evaluable”
B10: 3.9.2 EXIGENCIAS MÍNIMAS DE EXPERIENCIA Y FORMACIÓN ACADÉMICA DEL EQUIPO DE TRABAJO (VERIFICACIÓN DE CUMPLIMIENTO (Formato 8 - Aceptación y cumplimiento de la formación académica y la experiencia del personal clave evaluable)
B12: 1.DIRECTOR DE INTERVENTORIA : TITULO PROFESIONAL- INGENIERO/A CIVIL O ARQUITECTO/A-DEDICACION 20%
B14: NOMBRE COMPLETO | O14: NO CUMPLE
B15: DOCUMENTO DE IDENTIDAD
B16: PROFESION
B18: TITULO PROFESIONAL Y POSGRADO : ESPECIALIZACIÓN O MAESTRIA EN GERENCIA DE OBRAS O EN GERENCIA DE PROYECTOS DE INGENIERIA O EN GERENCIA DE PROYECTOS DE CONSTRUCCIÓN O EN GERENCIA E INTERVENTORÍA DE OBRAS CIVILES, O EN INTERVENTORÍA DE PROYECTOS Y OBRAS, O INTERVENTORÍA DE OBRAS CIVILES Nota: No se aceptarán estudios de tipo: diplomado, curso, seminario como un estudio de posgrado
B20: UNIVERSIDAD (PROFESIONAL Y POSGRADO) | E20: TITULO OBTENIDO | F20: 10.2.3 NOMBRE DEL ARCHIVO SOPORTE APORTADO PARA VALIDAR LA FORMACION ACADEMICA (i) copia del acta de grado o del diploma de grado y ii) copia de la tarjeta profesional o de la matrícula profesional en los casos en que aplique y su certificado de antecedentes profesionales. títulos académicos otorgados en el exterior deberá acreditar la convalidación de estos títulos en Colombia ante el Ministerio de Educación Nacional-Resolución expedida por el Ministerio de Educación Nacional que convalida el título | L20: ACREDITACION FORMACION ACADEMICA CUMPLE / NO CUMPLE | N20: OBSERVACIONES
L21: NO CUMPLE | N21: No allega los documentos de soporte validos para acreditar la formacio academica
L22: NO CUMPLE
B24: 1.1 EXPERIENCIA GENERAL : CUATRO (4) AÑOS EN EL EJERCICIO DE LA PROFESIÓN, CONTADOS PARTIR DE LA TARJETA PROFESIONAL | L24: NO CUMPLE | N24: OBSERVACIONES
N25: No allega los documentos de soporte
B27: 1.2. EXPERIENCIA ESPECÍFICA :DOS (2) AÑOS DE EXPERIENCIA CERTIFICADA COMO DIRECTOR Y/O COORDINADOR DE INTERVENTORIA EN PROYECTOS DE CONSTRUCCIÓN Y/O RECONSTRUCCIÓN Y/O AMPLIACIÓN Y/O TERMINACIÓN Y/O REHABILITACIÓN Y/O MEJORAMIENTO Y/O MANTENIMIENTO Y/O ADECUACIÓN DE PARQUES Y/O CAMPOS DEPORTIVOS,
B28: ENTIDAD CONTRATANTE, TIEMPO , TIPO DE PROYECTO | C28: TIEMPO ( MESES) | E28: CARGO DESEMPEÑADO | F28: 10.2.2 NOMBRE DEL ARCHIVO SOPORTE APORTADO DOCUMENTOS SOPORTE VÁLIDOS PARA ACREDITAR LA EXPERIENCIA DEL EQUIPO DE TRABAJO Y EL PERSONAL CLAVE EVALUABLE 1.Certificados laborales o de ejecución de su experiencia profesional. 2. Actas de liquidación o actas de terminación de los contratos, en caso de aplicar. 3. Copia de los contratos en los cuales laboró o ejerció las actividades respectivas. 4. Copia de las resoluciones de nombramiento y de posesión para cargos públicos. | L28: ACREDITACION EXPERIENCIA ESPECIFICA CUMPLE / NO CUMPLE | N28: OBSERVACIONES
L29: NO CUMPLE | N29: No allega los documentos de soporte validos para acreditar la Experiencia
L30: NO CUMPLE
L31: NO CUMPLE
B32: TOTAL MESES | C32: =C29+C30+C31 -> 0 | E32: NO CUMPLE
B34: 2. PROFESIONAL EN TRANSITO Y TRANSPORTE : TITULO PROFESIONAL- INGENIERO (A) CIVIL O INGENIERO (A) DE TRANSITO Y TRANSPORTE- DEDICACION 30%
B36: NOMBRE COMPLETO | O36: NO CUMPLE
B37: DOCUMENTO DE IDENTIDAD
B38: PROFESION
B40: TITULO PROFESIONAL Y POSGRADO :ESPECIALIZACIÓN O MAESTRIA EN ALGUNA DE LAS SIGUIENTES ALTERNATIVAS: Ingeniería tránsito, diseño y seguridad vial o Diseño de vías urbanas, tránsito y transporte o Ingeniería infraestructura y sistema de transporte o Ingeniería infraestructura o Infraestructura vial y de transporte o Pavimentos o geotecnia vial o vías y trasporte Nota: No se aceptarán estudios de tipo: diplomado, curso, seminario como un estudio de posgrado
B42: UNIVERSIDAD (PROFESIONAL Y POSGRADO) | E42: TITULO OBTENIDO | F42: 10.2.3 NOMBRE DEL ARCHIVO SOPORTE APORTADO PARA VALIDAR LA FORMACION ACADEMICA (i) copia del acta de grado o del diploma de grado y ii) copia de la tarjeta profesional o de la matrícula profesional en los casos en que aplique y su certificado de antecedentes profesionales. títulos académicos otorgados en el exterior deberá acreditar la convalidación de estos títulos en Colombia ante el Ministerio de Educación Nacional-Resolución expedida por el Ministerio de Educación Nacional que convalida el título | L42: ACREDITACION FORMACION ACADEMICA CUMPLE / NO CUMPLE | N42: OBSERVACIONES
L43: NO CUMPLE | N43: No allega los documentos de soporte validos para acreditar la formacio academica
L44: NO CUMPLE
B46: 2.1. EXPERIENCIA GENERAL : CUATRO (4) AÑOS EN EL EJERCICIO DE LA PROFESIÓN, CONTADOS PARTIR DE LA TARJETA PROFESIONAL | L46: NO CUMPLE | N46: OBSERVACIONES
N47: No allega los documentos de soporte
B49: 2.2 EXPERIENCIA ESPECÍFICA :DOS (2) AÑOS DE EXPERIENCIA CERTIFICADA COMO PROFESIONAL Y/O ESPECIALISTA DE OBRA Y/O INTERVENTORIA EN TRANSITO Y TRANSPORTE Y/O PAVIMENTOS Y/O GEOTECNIA EN PROYECTOS DE CONSTRUCCIÓN Y/O RECONSTRUCCIÓN Y/O AMPLIACIÓN Y/O TERMINACIÓN Y/O REHABILITACIÓN Y/O MEJORAMIENTO Y/O MANTENIMIENTO Y/O ADECUACIÓN DE PARQUES Y/O CAMPOS DEPORTIVOS,
B50: ENTIDAD CONTRATANTE, TIEMPO , TIPO DE PROYECTO | C50: TIEMPO ( MESES) | E50: CARGO DESEMPEÑADO | F50: 10.2.2 NOMBRE DEL ARCHIVO SOPORTE APORTADO DOCUMENTOS SOPORTE VÁLIDOS PARA ACREDITAR LA EXPERIENCIA DEL EQUIPO DE TRABAJO Y EL PERSONAL CLAVE EVALUABLE 1.Certificados laborales o de ejecución de su experiencia profesional. 2. Actas de liquidación o actas de terminación de los contratos, en caso de aplicar. 3. Copia de los contratos en los cuales laboró o ejerció las actividades respectivas. 4. Copia de las resoluciones de nombramiento y de posesión para cargos públicos. | L50: ACREDITACION EXPERIENCIA ESPECIFICA CUMPLE / NO CUMPLE | N50: OBSERVACIONES
L51: NO CUMPLE | N51: No allega los documentos de soporte validos para acreditar la Experiencia
L52: NO CUMPLE
L53: NO CUMPLE
B54: TOTAL MESES | C54: =C51+C52+C53 -> 0 | E54: NO CUMPLE
B57: 2 | C57: R&M CONSTRUCCIONES E INTERVENTORIAS S.A.S | F57: NO CUMPLE | G57: DIRECTOR DE INTERVENTORIA: Los documentos que aporta para acreditar la experiencia especifica- NO CERTIFICA QUE SE HAYA DESEMPEÑADO COMO DIRECTOR DE INTERVENTORIA, DEDICACIÓN Y EL TIEMPO O DURACION
...

Sheet 3. Oferta Económica
B3: FONDO DE DESARROLLO LOCAL DE SUBA
B4: FORMATO: EVALUACIÓN PRELIMINAR VERIFICACIÓN DE OFERTA ECONÓMICA - “Formulario 1 – Global”.
B5: CONCURSO DE MERITOS ABIERTO
B6: =Datos!B3 -> FDLS-CMA-001-2024
B8: OBJETO DEL CONTRATO
B9: =+Datos!B2 -> REALIZAR LA INTERVENTORÍA TÉCNICA, ADMINISTRATIVA, LEGAL, FINANCIERA, SOCIAL, AMBIENTAL, SISO Y CONTABLE PARA EL CONTRATO DE OBRA PÚBLICA QUE RESULTE DE LA LICITACIÓN FDLS-LP- 007-2024 CUYO OBJETO CORRESPONDE A “CONTRATAR A PRECIOS UNITARIOS FIJOS Y A MONTO AGOTABLE EL DIAGNOSTICO Y LA INTERVENCIÓN DE LOS PARQUES DE PROXIMIDAD CARGO DEL FONDO DE DESARROLLO LOCAL DE SUBA, MEDIANTE ACCIONES DE REHABILITACIÓN Y/O MEJORAMIENTO Y/O MANTENIMIENTO Y/O ADECUACIÓN Y/O RECUPERACION Y/O AMPLIACIÓN Y/O TERMINACIÓN Y/O DOTACIÓN DE LA INFRAESTRUCTURA FISICA.”
B11: VERIFICACIÓN DE OFERTA ECONÓMICA - “Formulario 1 – Global”.
B12: No. | C12: Oferente | D12: CUMPLE / NO CUMPLE | E12: Observaciones
B15: 1 | C15: CONSORCIO REAL A&U 2024 | D15: CUMPLE | E15: Presenta Oferta, Sin Observaciones.
B16: 2 | C16: R&M CONSTRUCCIONES E INTERVENTORIAS S.A.S | D16: NO CUMPLE | E16: NO APORTA "EL FORMULARIO 1-Global" de acuerdo a lo establecido en el CAPÍTULO V. OFERTA ECONÓMICA Subsanar o alcarar en termino de traslado
B17: 3 | C17: UNION TEMPORAL PAMACO | D17: CUMPLE | E17: Presenta Oferta, Sin Observaciones.
B18: 4 | C18: ARA INGENEIRIA SAS | D18: NO CUMPLE | E18: NO APORTA "EL FORMULARIO 1-Global" de acuerdo a lo establecido en el CAPÍTULO V. OFERTA ECONÓMICA Subsanar o alcarar en termino de traslado
B19: 5 | C19: HR INGENIERIA SAS | D19: NO CUMPLE | E19: NO APORTA "EL FORMULARIO 1-Global" de acuerdo a lo establecido en el CAPÍTULO V. OFERTA ECONÓMICA Subsanar o alcarar en termino de traslado
B20: 6 | C20: CONSORCIO CT | D20: CUMPLE | E20: Presenta Oferta, Sin Observaciones.
B21: 7 | C21: CONSORCIO ALMA-INTERNOVAC | D21: NO CUMPLE | E21: NO APORTA OFERTA ECONÓMICA DILIGENCIADA "EL FORMULARIO 1-Global" , de acuerdo a lo establecido en el CAPÍTULO V. OFERTA ECONÓMICA Subsanar o alcarar en termino de traslado
B22: 8 | C22: CONSORCIO SAN LUIS 310 | D22: NO CUMPLE | E22: NO APORTA "EL FORMULARIO 1-Global" de acuerdo a lo establecido en el CAPÍTULO V. OFERTA ECONÓMICA Subsanar o alcarar en termino de traslado
B23: 9 | C23: PRAN COSTRUCCIONES SAS | D23: CUMPLE | E23: Presenta Oferta, Sin Observaciones.
B24: 10 | C24: UMBRELLA INTERNACIONAL SAS | D24: CUMPLE | E24: Presenta Oferta, Sin Observaciones.
B25: 11 | C25: CONSORCIO LAGARTOS | D25: CUMPLE | E25: Presenta Oferta, Sin Observaciones.
B26: 12 | C26: CONSORCIO PARQUES BOGOTA SR | D26: NO CUMPLE | E26: NO APORTA OFERTA ECONÓMICA DILIGENCIADA "EL FORMULARIO 1-Global" , de acuerdo a lo establecido en el CAPÍTULO V. OFERTA ECONÓMICA Subsanar o alcarar en termino de traslado
... B30: 16 | C30: CONSORCIO DG | D30: NO CUMPLE | E30: NO APORTA OFERTA ECONÓMICA DILIGENCIADA "EL FORMULARIO 1-Global" , de acuerdo a lo establecido en el CAPÍTULO V. OFERTA ECONÓMICA Subsanar o alcarar en termino de traslado
B31: 17 | C31: CONSORCIO LAAP
B32: 18 | C32: CONSORCIO HG INFRAESTRUCTURA | D32: CUMPLE | E32: Presenta Oferta, Sin Observaciones.
B33: 19 | C33: CONSORCIO SAN MARCOS 001 | D33: CUMPLE | E33: Presenta Oferta, Sin Observaciones.

Sheet 4. Consolidado Habilitantes pre
B2: FONDO DE DESARROLLO LOCAL DE SUBA
B3: CONCURSO DE MERITOS ABIERTO
B4: =Datos!B3 -> FDLS-CMA-001-2024
B5: CONSOLIDADO VERIFICACIÓN PRELIMINAR HABILITANTE
B7: OBJETO: | D7: =Datos!B2 -> REALIZAR LA INTERVENTORÍA TÉCNICA, ADMINISTRATIVA, LEGAL, FINANCIERA, SOCIAL, AMBIENTAL, SISO Y CONTABLE PARA EL CONTRATO DE OBRA PÚBLICA QUE RESULTE DE LA LICITACIÓN FDLS-LP- 007-2024 CUYO OBJETO CORRESPONDE A “CONTRATAR A PRECIOS UNITARIOS FIJOS Y A MONTO AGOTABLE EL DIAGNOSTICO Y LA INTERVENCIÓN DE LOS PARQUES DE PROXIMIDAD CARGO DEL FONDO DE DESARROLLO LOCAL DE SUBA, MEDIANTE ACCIONES DE REHABILITACIÓN Y/O MEJORAMIENTO Y/O MANTENIMIENTO Y/O ADECUACIÓN Y/O RECUPERACION Y/O AMPLIACIÓN Y/O TERMINACIÓN Y/O DOTACIÓN DE LA INFRAESTRUCTURA FISICA.”
B9: No. | C9: PROPONENTE | D9: REQUISITOS HABILITANTES TÉCNICOS | G9: RESUMEN HABILITADO / NO HABILITADO | I9: OBSERVACIONES
D10: 1. REQUISITOS EXPERIENCIA MÍNIMA HABILITANTE | E10: 2. EXPERIENCIA PERSONAL CLAVE EVALUABLE | F10: 3. OFERTA ECONÓMICA
D11: CRITERIO | E11: CRITERIO | F11: CRITERIO
B12: 1 | C12: CONSORCIO REAL A&U 2024 | D12: NO CUMPLE | E12: NO CUMPLE | F12: CUMPLE | G12: NO HABILITADO | I12: * Ver Evaluación Preliminar "Experiencia" * Ver Evaluación Preliminar "Personal clave" Subsanar en el termino del traslado de la evaluación
B13: 2 | C13: R&M CONSTRUCCIONES E INTERVENTORIAS S.A.S | D13: CUMPLE | E13: NO CUMPLE | F13: NO CUMPLE | G13: NO HABILITADO | I13: * Ver Evaluación Preliminar "Personal clave" * Ver Evaluación Preliminar "Oferta Económica* Subsanar en el termino del traslado de la evaluación
B14: 3 | C14: UNION TEMPORAL PAMACO | D14: CUMPLE | E14: CUMPLE | F14: CUMPLE | G14: HABILITADO | I14: Sin Observaciones.
B15: 4 | C15: ARA INGENEIRIA SAS | D15: CUMPLE | E15: NO CUMPLE | F15: NO CUMPLE | G15: NO HABILITADO | I15: * Ver Evaluación Preliminar "Personal clave" * Ver Evaluación Preliminar "Oferta Económica* Subsanar en el termino del traslado de la evaluación
B16: 5 | C16: HR INGENIERIA SAS | D16: CUMPLE | E16: NO CUMPLE | F16: NO CUMPLE | G16: NO HABILITADO | I16: * Ver Evaluación Preliminar "Personal clave" * Ver Evaluación Preliminar "Oferta Económica* Subsanar en el termino del traslado de la evaluación
B17: 6 | C17: CONSORCIO CT | D17: CUMPLE | E17: CUMPLE | F17: CUMPLE | G17: HABILITADO | I17: Sin Observaciones.
B18: 7 | C18: CONSORCIO ALMA-INTERNOVAC | D18: NO CUMPLE | E18: NO CUMPLE | F18: NO CUMPLE | G18: NO HABILITADO | I18: * Ver Evaluación Preliminar "Experiencia" * Ver Evaluación Preliminar "Personal clave" * Ver Evaluación Preliminar "Oferta Económica* Subsanar en el termino del traslado de la evaluación
B19: 8 | C19: CONSORCIO SAN LUIS 310 | D19: CUMPLE | E19: CUMPLE | F19: NO CUMPLE | G19: NO HABILITADO | I19: * Ver Evaluación Preliminar "Oferta Económica* Subsanar en el termino del traslado de la evaluación
B20: 9 | C20: PRAN COSTRUCCIONES SAS | D20: CUMPLE | E20: CUMPLE | F20: CUMPLE | G20: HABILITADO | I20: Sin Observaciones.
B21: 10 | C21: UMBRELLA INTERNACIONAL SAS | D21: NO CUMPLE | E21: CUMPLE | F21: CUMPLE | G21: NO HABILITADO | I21: Ver. Evaluación Experiencia Subsanar en el termino del traslado de la evaluación
B22: 11 | C22: CONSORCIO LAGARTOS | D22: CUMPLE | E22: NO CUMPLE | F22: CUMPLE | G22: NO HABILITADO | I22: * Ver Evaluación Preliminar "Personal clave" Subsanar en el termino del traslado de la evaluación
B23: 12 | C23: CONSORCIO PARQUES BOGOTA SR | D23: CUMPLE | E23: NO CUMPLE | F23: NO CUMPLE | G23: NO HABILITADO | I23: * Ver Evaluación Preliminar "Personal clave" * Ver Evaluación Preliminar "Oferta Económica* Subsanar en el termino del traslado de la evaluación
... B27: 16 | C27: CONSORCIO DG | D27: CUMPLE | E27: NO CUMPLE | F27: NO CUMPLE | G27: NO HABILITADO | I27: * Ver Evaluación Preliminar "Personal clave" * Ver Evaluación Preliminar "Oferta Económica* Subsanar en el termino del traslado de la evaluación
B28: 17 | C28: CONSORCIO LAAP
B29: 18 | C29: CONSORCIO HG INFRAESTRUCTURA | D29: CUMPLE | E29: CUMPLE | F29: CUMPLE | G29: HABILITADO | I29: Sin Observaciones.
B30: 19 | C30: CONSORCIO SAN MARCOS 001 | D30: CUMPLE | E30: NO CUMPLE | F30: CUMPLE | G30: NO HABILITADO | I30: * Ver Evaluación Preliminar "Personal clave" Subsanar en el termino del traslado de la evaluación
B32: COMITÉ EVALUADOR
