Workbook
Name PRINT_AREA_MI: #N/A
Name PRINT_TITLES_MI: #N/A

Sheet LISTA DE OFERENTES
A1: FONDO DE DESARROLLO LOCAL DE RAFAEL URIBE URIBE
A2: FDLRUU-LP-002-2024
A3: No. | B3: NOMBRE | C3: REPRESENTANTE LEGAL | D3: TIPO DE OFERENTE | E3: CONSORCIADO 1 | F3: CONSORCIADO 2 | G3: CONSORCIADO 3 | H3: OBSERVACIONES
A4: 1 | B4: CONSORCIO ARQING | C4: CARLOS MAURICIO BOTON GÓMEZ | D4: CONSORCIO | E4: GUSTAVO PALACIOS RUBIANO (40%) | F4: PROYECTOS DE INGENIERÍA PBS SAS (60%)
A5: 2 | B5: CONSORCIO CGC 2024 | C5: JONATHAN ALFREDO GOMEZ ORTIZ | D5: CONSORCIO | E5: CONSTRUCTORA COINAR SAS (10%) | F5: JAIME CEPEDA FONSECA (45%) | G5: JONATHAN ALFREDO GOMEZ ORTIZ (45%) | H5: EL PROPONENTE NO CUMPLE CON EL NUMERAL 3.5.1. CONSIDERACIONES PARA LA VALIDEZ DE LA EXPERIENCIA REQUERIDA, LITERAL D
A6: 3 | B6: CONSORCIO RAFAEL URIBE URIBE 2024 | C6: JULIANA VALENTINA GARCIA GONGORA | D6: CONSORCIO | E6: WILLIAM CARDONA OLMOS (50%) | F6: CDC INGENIERIA Y ARQUITECTURA SAS (50%)
A7: 4 | B7: CONSORCIO RAFAEL URIBE URIBE 002 2024 | C7: WILLIAMS HENRY GUEVARA TORRES | D7: CONSORCIO | E7: CONSTRUCTORA VALHER S.A.S. (90%) | F7: MAGDA HEYNNER UMAÑA TORRES (10%)
A8: 5 | B8: CONSORCIO PROCOLOMBIA 2024 | C8: JUAN PABLO LEMUS ACEVEDO | D8: CONSORCIO | E8: ORGANIZACION LUIS FERNANDO ROMERO SANDOVAL INGENIEROS SAS (50%) | F8: CONSTRUCCIONES PROCOLOMBIA SAS (50%)
A9: 6 | B9: CONSORCIO MAB RUU PARQUES | C9: EDILBERTO MATEUS ALVAREZ | D9: CONSORCIO | E9: GRUPO MABRIL SAS (90%) | F9: EDILBERTO MATEUS ALVAREZ (10%)
A10: 7 | B10: CONSORCIO SAN VICENTE V | C10: Edgar Chamorro Delgado | D10: CONSORCIO | E10: PRONACON SAS (50%) | F10: PROYECTOS CIVILES DE INFRAESTRUCTURA SAS (50%)
A11: 8 | B11: CONSORCIO CONSTRU-PARQUES UU | C11: JORGE ANDRES PULIDO OSPINA | D11: CONSORCIO | E11: DISTRIBUCIONES PBB S.A.S (10%) | F11: LYD PROYECTOS S.A.S (90%)
A12: 9 | B12: CONSORCIO PARQUES UNIDOS 2024 | C12: NESTOR RAUL GALINDO ROJAS | D12: CONSORCIO | E12: PARKVIAL SAS (90%) | F12: CHM INGENIERIA SAS (10%)
A13: 10 | B13: CONSORCIO PARQUES C&DIM 2025 | C13: CARLOS BORDA GUZMÁN | D13: CONSORCIO | E13: CPI GROUP PROJECT AND INVESTMENT COOPERATIVE (90%) | F13: CONSTRUCCIONES DIM SAS (10%)
A14: 11 | B14: INVERSIONES GUERFOR S.A.S. | C14: OSCAR HERNANDO GUERRERO PIÑEROS | D14: INDIVIDUAL
A15: 12 | B15: MLG | C15: Montenegro Siefken Rene Arturo | D15: INDIVIDUAL
A16: 13 | B16: CONSORCIO PARQUES VERDES | C16: ALEXANDER MERCHAN CHARRY | D16: CONSORCIO | E16: GRUPO IPROGEX ZOMAC S.A.S (10%) | F16: INGECOL HS Y CIA S EN C (90%)
A17: 14 | B17: CONSORCIO PARQUES RUU-5G | C17: DANIEL CHARRY CEDIEL | D17: CONSORCIO | E17: GLORIA ELVIRA CEDIEL ECHEVERRY (50%) | F17: SINCOMAQ SAS (50%)
A18: 15 | B18: CONSORCIO NUEVA PARK | C18: JUAN SEBASTIAN CRUZ RODRIGUEZ | D18: CONSORCIO | E18: M&M INGENIEROS ASOCIADOS S.A.S (90%) | F18: DOBLE CRUZ INGENIERIA Y ARQUITECTURA (10%)
A19: 16 | B19: T&G PARQUES IV | C19: NELSON RAFAEL PABA SOLANO | D19: CONSORCIO | E19: GYMCOL S.A.S (10%) | F19: TCONSTRUYE INGENIERIA SAS (90%)
A20: 17 | B20: CONSORCIO PARQUES RAFAEL URIBE URIBE 2024 | C20: LUIS FERNANDO PEREZ RODRIGUEZ | D20: CONSORCIO | E20: ANDINA JUEGOS Y PARQUES SAS (50%) | F20: JESVAR MULTIPROYECYOS SAS (50%)
A21: 18 | B21: CONSORCIO PARQUES INTRUCONCEPTOS | C21: JOSE ALBERTO HERAZO MOLINA | D21: CONSORCIO | E21: INFRAESTRUCTURA Y CONSULTORÍA S.A.S (10%) | F21: CONCEPTOS DE INGENIERÍA S.A.S (90%)
A22: 19 | B22: UT PARQUES URIBE URIBE | C22: OLGA LUCÍA GÓMEZ | D22: UNION TEMPORAL | E22: EQUIPOS Y CONSTRUCCIONES VAREGO SAS (50%) | F22: VAREGO SAS (50%)
A23: 20 | B23: CONSORCIO PARQUES INNFRA RUU | C23: ALEXANDER PEREZ PERNETT | D23: CONSORCIO | E23: RENOSTER S.A.S (25%) | F23: INNOVACIÓN E INFRAESRUCTURA S.A.S – INNFRA S.A.S (75%)
A24: 21 | B24: CONSORCIO QV RAFAEL | C24: CARLOS ALBERTO PALTA MUÑOZ | D24: CONSORCIO | E24: ISAIAS VARGAS GONZALEZ (90%) | F24: CAP QUALITY PROJECT S.A.S (10%)
A25: 22 | B25: CONSORCIO PARQUES RUU E&E 2024 | C25: IVAN ALONSO PARDO AVILA | D25: CONSORCIO | E25: ESTUDIOS E INGENIERIA SAS (50%) | F25: EDC INGENIERIA SAS (50%)
A26: 23 | B26: CONSORCIO ICOD PARK | C26: SOSCAR JULIAN MORENO CARRAZCO | D26: CONSORCIO | E26: ICOD CONSTRUCCIONES Y PROYECTOS SAS (95%) | F26: CONSTRUCCION E INGENIERIA GLOBAL S.A.S BYGGER S.A.S (5%)
A27: 24 | B27: CONSORCIO PARQUES 1014 | C27: JOSÉ NICOLÁS ORTEGÓN SÁNCHEZ | D27: CONSORCIO | E27: SOLINGTEC S.A.S (10%) | F27: ALFREDO ORTEGÓN PULIDO (90%)
A28: 25 | B28: CONSTRUCOL SAS | C28: MANUEL GUILLERMO GIL QUINTERO | D28: INDIVIDUAL
A29: 26 | B29: CONSORCIO CORING | C29: Jairo Eduardo Corredor Becerra | D29: CONSORCIO | E29: PEDRO JOSÉ CORREDOR BECERRA (30%) | F29: INCORDIS S.A.S (79%)
A30: 27 | B30: UNION TEMPORAL OBRAS CPM | C30: NILDO PEDRAZA PEDRAZA | D30: UNION TEMPORAL | E30: CONSTRUCCIONES HVG GROUP SAS (10%) | F30: NILDO PEDRAZA PEDRAZA (90%)
A31: 28 | B31: CONSORCIO INCITECO IP XXI | C31: IVÁN CAMILO LÓPEZ GÓMEZ | D31: CONSORCIO | E31: INCITECO SAS (90%) | F31: INGENIEROS PROYECTAR SAS (10%)
A32: 29 | B32: CONSORCIO PARQUES JGV 2025 | C32: JAIME ALBERTO GALAN VILLAMIZAR | D32: CONSORCIO | E32: JALGAVI INGENIEROS SAS (10%) | F32: JAIME ALBERTO GALAN VILLAMIZAR (90%)
A33: 30 | B33: OBRAS CYC SAS | C33: MIREYA CORREA IZQUIERDO | D33: INDIVIDUAL
A34: 31 | B34: PROMCIVILES S.A.S. | C34: LUIS ORLANDO PULIDO | D34: INDIVIDUAL
A35: 32 | B35: CONSORCIO PARQUES RAFAEL URIBE URIBE 2024 | C35: EDGAR EDUARDO JIMENEZ HURTADO | D35: CONSORCIO | E35: MANSER INGENIERIA S.A.S (30%) | F35: INGENIEROS CIVILES Y ARQUITECTOS CONSTRUCTORES ICIARCO S.A.S (10%) | G35: ALBERTO ANIBAL SANCHEZ LEMUS (60%)

Sheet EVALUACION TÉC
A1: FONDO DE DESARROLLO LOCAL DE FONTIBÓN
A2: FDLRUU-LP-002-2024
A3: REQUISITOS HABILITANTES TÉCNICOS | S3: CUMPLE
S4: NO CUMPLE
A5: 1 | E5: =+'LISTA DE OFERENTES'!B4 -> CONSORCIO ARQING
A6: NÚMERO DE CONTRATOS PRESENTADOS | B6: 4 | C6: PRESUPUESTO OFICIAL EN SMMLV | D6: =+$D$409 -> 2013.0027
A7: VALOR MÍNIMO A CERTIFICAR | C7: =IF(B6<3,0.75,IF(B6<5,1.2,1.5)) -> 1.2 | D7: =+D6*C7 -> 2415.6032
A9: TOTAL SALARIOS MINIMOS ACREDITADOS | C9: =+IF(H17>D7,"CUMPLE","NO CUMPLE") -> CUMPLE
A10: CONDICIONES DE EXPERIENCIA | I10: CONDICION N°. 1 (VER TABLA AL FINAL DE LA HOJA) | J10: CONDICION N°. 3 (VER TABLA AL FINAL DE LA HOJA) | K10: CONDICION N°. 2(VER TABLA AL FINAL DE LA HOJA) | M10: CONCLUSIÓN EXPERIENCIA GENERAL | O10: CONCLUSIÓN EXPERIENCIA ESPECIFICA | Q10: Observación y respuesta a observaciones
A11: Objeto del Contrato | B11: Entidad Contratante | D11: Participacion % | E11: No. Contrato | F11: Valor del Contrato en SMMLV | G11: Participación UT/CONSORCIO | H11: Participación en SMMLV | I11: MAXIMO 5 CONTRATOS | J11: CODIGO UNSPSC SEGMENTOS 72 | K11: Valor exigido 50%SMMLV | L11: Valor aportado | M11: EXPERIENCIA GENERAL | N11: NOTA 2 CONTRATO ACTIVIDADES DE SUMINISTRO | O11: Metros Cuadrados 5.474,02 | P11: CUMPLE / NO CUMPLE
A12: GUSTAVO PALACIOS RUBIANO (40%) Y PROYECTOS DE INGENIERÍA PBS SAS (60%) | K12: =H409 -> 1006.5013
A13: CONSTRUCCIÓN DE PARQUES RECREO - DEPORTIVOS EN URBANIZACIONES DONDE SE DESARROLLA EL PROGRAMA DE 100.000 VIVIENDAS – ZONA NORTE GRUPO 7 | B13: FINDETER | D13: 0.6 | E13: 021-2015 | F13: 2690.11 | G13: CONSORCIO | H13: =+F13*D13 -> 1614.066 | I13: CUMPLE | J13: CUMPLE | L13: =+H13 -> 1614.066 | M13: CUMPLE | N13: CUMPLE | O13: =17102+1145 -> 18247 | P13: CUMPLE
A14: "REALIZAR POR EL SISTEMA DE PRECIOS UNITARIOS FIJOS LAS OBRAS DE CONSTRUCCIÓN DE LOS PARQUES VECINALES VILLA HELENA COD 09-026, URBANIZACION LOS ANGELES I SECTOR COD. 10-186, LAS GUACAMAYAS COD. 04-066, Y URBANIZACION PIAMONTE II SECTOR COD. 07-047 EN BOGOTÁ D.C.", CON CARGO AL PROYECTO 1082, “CONSTRUCCIÓN Y ADECUACIÓN DE PARQUES Y EQUIPAMIENTO PARA TODOS." | B14: IDRD | D14: 0.8 | E14: 3441 - 2018 | F14: 2488.64 | G14: CONSORCIO | H14: =+F14*D14 -> 1990.912 | J14: CUMPLE | L14: =+H14 -> 1990.912 | M14: CUMPLE | N14: CUMPLE | O14: 2975.92 | P14: CUMPLE
A15: CONTRATAR POR EL SISTEMA DE PRECIO GLOBAL FIJO LOS DISEÑOS Y ESTUDIOS TÉCNICOS Y POR EL SISTEMA DE PRECIOS UNITARIOS FIJOS, SIN FORMULA DE AJUSTE, LA CONSTRUCCIÓN Y ADECUACIÓN DE DIFERENTES PARQUES UBICADOS EN LA LOCALIDAD DE RAFAEL URIBE URIBE DE BOGOTÁ DISTRITO CAPITAL. | B15: UEL-IDRD | D15: 1 | E15: UEL-IDRD N° 219-2008 | F15: 1648.13 | G15: CONSORCIO | H15: =+F15*D15 -> 1648.13 | J15: CUMPLE | L15: =+H15 -> 1648.13 | M15: CUMPLE | N15: CUMPLE | O15: 3857.54 | P15: CUMPLE
A16: CONSTRUCCIÓN DE PARQUES RECREO - DEPORTIVOS EN URBANIZACIONES DONDE SE DESARROLLA EL PROGRAMA DE 100.000 VIVIENDAS – ZONA NORTE GRUPO 8 | B16: FINDETER | D16: 0.6 | E16: 020-2015 | F16: 1985.65 | G16: CONSORCIO | H16: =+F16*D16 -> 1191.39 | J16: CUMPLE | L16: =+H16 -> 1191.39 | M16: CUMPLE | N16: CUMPLE | O16: =1647+6465 -> 8112 | P16: CUMPLE
A17: TOTALES | H17: =SUM(H13:H16) -> 6444.498 | Q17: CUMPLE
A19: =A5+1 -> 2 | E19: =+'LISTA DE OFERENTES'!B5 -> CONSORCIO CGC 2024
A20: NÚMERO DE CONTRATOS PRESENTADOS | B20: 2 | C20: PRESUPUESTO OFICIAL EN SMMLV | D20: =+$D$409 -> 2013.0027
A21: VALOR MÍNIMO A CERTIFICAR | C21: =IF(B20<3,0.75,IF(B20<5,1.2,1.5)) -> 0.75 | D21: =+D20*C21 -> 1509.752
A23: TOTAL SALARIOS MINIMOS ACREDITADOS | C23: =+IF(H30>D21,"CUMPLE","NO CUMPLE") -> NO CUMPLE
A24: CONDICIONES DE EXPERIENCIA | I24: CONDICION N°. 1 (VER TABLA AL FINAL DE LA HOJA) | J24: CONDICION N°. 3 (VER TABLA AL FINAL DE LA HOJA) | K24: CONDICION N°. 2(VER TABLA AL FINAL DE LA HOJA) | M24: CONCLUSIÓN EXPERIENCIA GENERAL | O24: CONCLUSIÓN EXPERIENCIA ESPECIFICA | Q24: Observación y respuesta a observaciones
A25: Objeto del Contrato | B25: Entidad Contratante | D25: Participacion % | E25: No. Contrato | F25: Valor del Contrato en SMMLV | G25: Participación UT/CONSORCIO | H25: Participación en SMMLV | I25: MAXIMO 5 CONTRATOS | J25: CODIGO UNSPSC SEGMENTOS 72 | K25: Valor exigido 50%SMMLV | L25: Valor aportado | M25: EXPERIENCIA GENERAL | N25: NOTA 2 CONTRATO ACTIVIDADES DE SUMINISTRO | O25: Metros Cuadrados 5.474,02 | P25: CUMPLE / NO CUMPLE
K26: =+$H$409 -> 1006.5013
A27: CONSTRUCCION DE UNA PLAZOLETA PARA REALIZAR ACTIVIDADES LUDICAS DEPORTIVAS Y CULTURALES EN EL BARRIO LA CANDELARIA MUNICIPIO DE OROCUE DEPARTAMENTO DE CASANARE | B27: MUNICIPIO DE OROCUE | D27: 1 | E27: 221039-2007 | F27: 4563.19 | G27: INDIVIDUAL | Q27: EL PROPONENTE NO CUMPLE CON EL NUMERAL 3.5.1. CONSIDERACIONES PARA LA VALIDEZ DE LA EXPERIENCIA REQUERIDA, LITERAL D
A29: ADECUACION Y CONSTRUCCION DEL PARQUE PRINCIPAL ETAPA I1 DEL MUNICIPIO DE SUSA CUNDINAMARCA | B29: MUNICIPIO DE SUSA | D29: 0.25 | E29: LP-001-2021 A | F29: 1167.8 | G29: UNION TEMPORAL
A30: TOTALES | H30: =SUM(H27:H29) -> 0 | I30: EXPERIENCIA DEL PROPONENTE | Q30: NO CUMPLE
A32: =A19+1 -> 3 | E32: =+'LISTA DE OFERENTES'!B6 -> CONSORCIO RAFAEL URIBE URIBE 2024
A33: NÚMERO DE CONTRATOS PRESENTADOS | B33: 2 | C33: PRESUPUESTO OFICIAL EN SMMLV | D33: =+$D$409 -> 2013.0027
A34: VALOR MÍNIMO A CERTIFICAR | C34: =IF(B33<3,0.75,IF(B33<5,1.2,1.5)) -> 0.75 | D34: =+D33*C34 -> 1509.752
A36: TOTAL SALARIOS MINIMOS ACREDITADOS | C36: =+IF(H42>D34,"CUMPLE","NO CUMPLE") -> CUMPLE
A37: CONDICIONES DE EXPERIENCIA | I37: CONDICION N°. 1 (VER TABLA AL FINAL DE LA HOJA) | J37: CONDICION N°. 3 (VER TABLA AL FINAL DE LA HOJA) | K37: CONDICION N°. 2(VER TABLA AL FINAL DE LA HOJA) | M37: CONCLUSIÓN EXPERIENCIA GENERAL | O37: CONCLUSIÓN EXPERIENCIA ESPECIFICA | Q37: Observación y respuesta a observaciones
A38: Objeto del Contrato | B38: Entidad Contratante | D38: Participacion % | E38: No. Contrato | F38: Valor del Contrato en SMMLV | G38: Participación UT/CONSORCIO | H38: Participación en SMMLV | I38: MAXIMO 5 CONTRATOS | J38: CODIGO UNSPSC SEGMENTOS 72 | K38: Valor exigido 50%SMMLV | L38: Valor aportado | M38: EXPERIENCIA GENERAL | N38: NOTA 2 CONTRATO ACTIVIDADES DE SUMINISTRO | O38: Metros Cuadrados 5.474,02 | P38: CUMPLE / NO CUMPLE
A39: WILLIAM CARDONA OLMOS (50%) Y CDC INGENIERIA Y ARQUITECTURA SAS (50%) | K39: 1006.5013 | P39: NO CUMPLE
A40: Ejecucion de estudios, diseños y construccion y puesta en funcionamiento de un Parque Recreodeportivo ubicado en la Urbanizacion Nuevo Amanecer en el Municipio de Aguachica Cesar y un Parque Recreodeportivo ubicado en la Urbanizacion Buenavista II en el Municipio de Villa del Rosario Departamento de Norte de Santander | B40: Findeter | D40: 1 | E40: PAF-EUC-O-023-2019 | F40: 1779.53 | G40: CONSORCIO | H40: =+F40*D40 -> 1779.53 | I40: CUMPLE | J40: CUMPLE | L40: =+H40 -> 1779.53 | M40: CUMPLE | N40: CUMPLE | O40: 1588.57 | Q40: SE CORRIGE VALOR CONFORME LO INDICADO EN EL RUP
A41: Estudios Tecnicos, Diseños y Construccion del Bulevar de la Universidad del Tolima | B41: Universidad del Tolima | D41: 1 | E41: 617-2021 | F41: 3708.5 | G41: CONSORCIO | J41: CUMPLE | L41: =+H41 -> 0 | M41: NO CUMPLE | N41: NO CUMPLE | O41: =1568.96+1369.56 -> 2938.52 | Q41: * EL OBJETO DEL CONTRATO NO CUMPLE CON LA EXPERIENCIA GENERAL REQERIDA. *EN LOS DOCUMENTOS APORTADOS PARA CERTIFICAR EL CONTRATO NO SE ESPECIFICA EL VALOR Y TIPO DE INTERVENCIONES HECHAS A LOS PARQUES: PARQUE LINEAL PARALELO AL DUCUARA Y PARQUE DUCUARA.
A42: TOTALES | H42: =SUM(H40) -> 1779.53 | I42: EXPERIENCIA DEL PROPONENTE | Q42: CUMPLE
A44: =A32+1 -> 4 | E44: =+'LISTA DE OFERENTES'!B7 -> CONSORCIO RAFAEL URIBE URIBE 002 2024
A45: NÚMERO DE CONTRATOS PRESENTADOS | B45: 2 | C45: PRESUPUESTO OFICIAL EN SMMLV | D45: =+$D$409 -> 2013.0027
A46: VALOR MÍNIMO A CERTIFICAR | C46: =IF(B45<3,0.75,IF(B45<5,1.2,1.5)) -> 0.75 | D46: =+D45*C46 -> 1509.752
A48: TOTAL SALARIOS MINIMOS ACREDITADOS | C48: =+IF(H54>D46,"CUMPLE","NO CUMPLE") -> CUMPLE
...

Sheet K RESIDUAL
A1: FONDO DE DESARROLLO LOCAL DE FONTIBÓN
A2: LICITACION PUBLICA FDLF-LP-003-2022
A3: Verificación Capacidad Residual
A5: 1 | B5: El proponente NO allegó el formato de calculo del Capacidad Residual establecido por Colombia Compra Eficiente, por lo cual no fue posible verificar por la Entidad. Por lo anterior, para continuar con el proceso el proponente debe allegar el formato de calculo del Capacidad Residual de conformidad con lo establecido Guía para Determinar y Verificar la Capacidad Residual del Proponente en los Procesos de Contratación de Obra Pública. Consultar el siguiente link https://colombiacompra.gov.co/manuales-guias-y-pliegos-tipo/manuales-y-guias/aplicacion-para-establecer-la-capacidad-residual | N5: =VLOOKUP(A5,'LISTA DE OFERENTES'!$A$4:$B$34,2,FALSE) -> CONSORCIO ARQING
A28: 2 | B28: El proponente NO allegó el formato de calculo del Capacidad Residual establecido por Colombia Compra Eficiente, por lo cual no fue posible verificar por la Entidad. Por lo anterior, para continuar con el proceso el proponente debe allegar el formato de calculo del Capacidad Residual de conformidad con lo establecido Guía para Determinar y Verificar la Capacidad Residual del Proponente en los Procesos de Contratación de Obra Pública. Consultar el siguiente link https://colombiacompra.gov.co/manuales-guias-y-pliegos-tipo/manuales-y-guias/aplicacion-para-establecer-la-capacidad-residual | N28: =VLOOKUP(A28,'LISTA DE OFERENTES'!$A$4:$B$34,2,FALSE) -> CONSORCIO CGC 2024
A51: 3 | B51: El proponente NO allegó el formato de calculo del Capacidad Residual establecido por Colombia Compra Eficiente, por lo cual no fue posible verificar por la Entidad. Por lo anterior, para continuar con el proceso el proponente debe allegar el formato de calculo del Capacidad Residual de conformidad con lo establecido Guía para Determinar y Verificar la Capacidad Residual del Proponente en los Procesos de Contratación de Obra Pública. Consultar el siguiente link https://colombiacompra.gov.co/manuales-guias-y-pliegos-tipo/manuales-y-guias/aplicacion-para-establecer-la-capacidad-residual | N51: =VLOOKUP(A51,'LISTA DE OFERENTES'!$A$4:$B$34,2,FALSE) -> CONSORCIO RAFAEL URIBE URIBE 2024
A74: 4 | B74: El proponente NO allegó el formato de calculo del Capacidad Residual establecido por Colombia Compra Eficiente, por lo cual no fue posible verificar por la Entidad. Por lo anterior, para continuar con el proceso el proponente debe allegar el formato de calculo del Capacidad Residual de conformidad con lo establecido Guía para Determinar y Verificar la Capacidad Residual del Proponente en los Procesos de Contratación de Obra Pública. Consultar el siguiente link https://colombiacompra.gov.co/manuales-guias-y-pliegos-tipo/manuales-y-guias/aplicacion-para-establecer-la-capacidad-residual | N74: =VLOOKUP(A74,'LISTA DE OFERENTES'!$A$4:$B$34,2,FALSE) -> CONSORCIO RAFAEL URIBE URIBE 002 2024
A97: 5 | N97: =VLOOKUP(A97,'LISTA DE OFERENTES'!$A$4:$B$34,2,FALSE) -> CONSORCIO PROCOLOMBIA 2024
A120: 6 | N120: =VLOOKUP(A120,'LISTA DE OFERENTES'!$A$4:$B$34,2,FALSE) -> CONSORCIO MAB RUU PARQUES
A143: 7 | B143: El proponente NO allegó el formato de calculo del Capacidad Residual establecido por Colombia Compra Eficiente, por lo cual no fue posible verificar por la Entidad. Por lo anterior, para continuar con el proceso el proponente debe allegar el formato de calculo del Capacidad Residual de conformidad con lo establecido Guía para Determinar y Verificar la Capacidad Residual del Proponente en los Procesos de Contratación de Obra Pública. Consultar el siguiente link https://colombiacompra.gov.co/manuales-guias-y-pliegos-tipo/manuales-y-guias/aplicacion-para-establecer-la-capacidad-residual | N143: =VLOOKUP(A143,'LISTA DE OFERENTES'!$A$4:$B$34,2,FALSE) -> CONSORCIO SAN VICENTE V
A166: 8 | B166: El proponente NO allegó el formato de calculo del Capacidad Residual establecido por Colombia Compra Eficiente, por lo cual no fue posible verificar por la Entidad. Por lo anterior, para continuar con el proceso el proponente debe allegar el formato de calculo del Capacidad Residual de conformidad con lo establecido Guía para Determinar y Verificar la Capacidad Residual del Proponente en los Procesos de Contratación de Obra Pública. Consultar el siguiente link https://colombiacompra.gov.co/manuales-guias-y-pliegos-tipo/manuales-y-guias/aplicacion-para-establecer-la-capacidad-residual | N166: =VLOOKUP(A166,'LISTA DE OFERENTES'!$A$4:$B$34,2,FALSE) -> CONSORCIO CONSTRU-PARQUES UU
A189: 9 | N189: =VLOOKUP(A189,'LISTA DE OFERENTES'!$A$4:$B$34,2,FALSE) -> CONSORCIO PARQUES UNIDOS 2024
A212: 10 | B212: El proponente NO allegó el formato de calculo del Capacidad Residual establecido por Colombia Compra Eficiente, por lo cual no fue posible verificar por la Entidad. Por lo anterior, para continuar con el proceso el proponente debe allegar el formato de calculo del Capacidad Residual de conformidad con lo establecido Guía para Determinar y Verificar la Capacidad Residual del Proponente en los Procesos de Contratación de Obra Pública. Consultar el siguiente link https://colombiacompra.gov.co/manuales-guias-y-pliegos-tipo/manuales-y-guias/aplicacion-para-establecer-la-capacidad-residual | N212: =VLOOKUP(A212,'LISTA DE OFERENTES'!$A$4:$B$34,2,FALSE) -> CONSORCIO PARQUES C&DIM 2025
A235: 11 | B235: El proponente NO allegó el formato de calculo del Capacidad Residual establecido por Colombia Compra Eficiente, por lo cual no fue posible verificar por la Entidad. Por lo anterior, para continuar con el proceso el proponente debe allegar el formato de calculo del Capacidad Residual de conformidad con lo establecido Guía para Determinar y Verificar la Capacidad Residual del Proponente en los Procesos de Contratación de Obra Pública. Consultar el siguiente link https://colombiacompra.gov.co/manuales-guias-y-pliegos-tipo/manuales-y-guias/aplicacion-para-establecer-la-capacidad-residual | N235: =VLOOKUP(A235,'LISTA DE OFERENTES'!$A$4:$B$34,2,FALSE) -> INVERSIONES GUERFOR S.A.S.
A258: 12 | B258: El proponente NO allegó el formato de calculo del Capacidad Residual establecido por Colombia Compra Eficiente, por lo cual no fue posible verificar por la Entidad. Por lo anterior, para continuar con el proceso el proponente debe allegar el formato de calculo del Capacidad Residual de conformidad con lo establecido Guía para Determinar y Verificar la Capacidad Residual del Proponente en los Procesos de Contratación de Obra Pública. Consultar el siguiente link https://colombiacompra.gov.co/manuales-guias-y-pliegos-tipo/manuales-y-guias/aplicacion-para-establecer-la-capacidad-residual | N258: =VLOOKUP(A258,'LISTA DE OFERENTES'!$A$4:$B$34,2,FALSE) -> MLG
A281: 13 | B281: El proponente NO allegó el formato de calculo del Capacidad Residual establecido por Colombia Compra Eficiente, por lo cual no fue posible verificar por la Entidad. Por lo anterior, para continuar con el proceso el proponente debe allegar el formato de calculo del Capacidad Residual de conformidad con lo establecido Guía para Determinar y Verificar la Capacidad Residual del Proponente en los Procesos de Contratación de Obra Pública. Consultar el siguiente link https://colombiacompra.gov.co/manuales-guias-y-pliegos-tipo/manuales-y-guias/aplicacion-para-establecer-la-capacidad-residual | N281: =VLOOKUP(A281,'LISTA DE OFERENTES'!$A$4:$B$34,2,FALSE) -> CONSORCIO PARQUES VERDES
A304: 14 | B304: El proponente NO allegó el formato de calculo del Capacidad Residual establecido por Colombia Compra Eficiente, por lo cual no fue posible verificar por la Entidad. Por lo anterior, para continuar con el proceso el proponente debe allegar el formato de calculo del Capacidad Residual de conformidad con lo establecido Guía para Determinar y Verificar la Capacidad Residual del Proponente en los Procesos de Contratación de Obra Pública. Consultar el siguiente link https://colombiacompra.gov.co/manuales-guias-y-pliegos-tipo/manuales-y-guias/aplicacion-para-establecer-la-capacidad-residual | N304: =VLOOKUP(A304,'LISTA DE OFERENTES'!$A$4:$B$34,2,FALSE) -> CONSORCIO PARQUES RUU-5G
A327: 15 | B327: El proponente NO allegó el formato de calculo del Capacidad Residual establecido por Colombia Compra Eficiente, por lo cual no fue posible verificar por la Entidad. Por lo anterior, para continuar con el proceso el proponente debe allegar el formato de calculo del Capacidad Residual de conformidad con lo establecido Guía para Determinar y Verificar la Capacidad Residual del Proponente en los Procesos de Contratación de Obra Pública. Consultar el siguiente link https://colombiacompra.gov.co/manuales-guias-y-pliegos-tipo/manuales-y-guias/aplicacion-para-establecer-la-capacidad-residual | N327: =VLOOKUP(A327,'LISTA DE OFERENTES'!$A$4:$B$34,2,FALSE) -> CONSORCIO NUEVA PARK
A350: 16 | B350: El proponente NO allegó el formato de calculo del Capacidad Residual establecido por Colombia Compra Eficiente, por lo cual no fue posible verificar por la Entidad. Por lo anterior, para continuar con el proceso el proponente debe allegar el formato de calculo del Capacidad Residual de conformidad con lo establecido Guía para Determinar y Verificar la Capacidad Residual del Proponente en los Procesos de Contratación de Obra Pública. Consultar el siguiente link https://colombiacompra.gov.co/manuales-guias-y-pliegos-tipo/manuales-y-guias/aplicacion-para-establecer-la-capacidad-residual | N350: =VLOOKUP(A350,'LISTA DE OFERENTES'!$A$4:$B$34,2,FALSE) -> T&G PARQUES IV
A373: 17 | B373: El proponente NO allegó el formato de calculo del Capacidad Residual establecido por Colombia Compra Eficiente, por lo cual no fue posible verificar por la Entidad. Por lo anterior, para continuar con el proceso el proponente debe allegar el formato de calculo del Capacidad Residual de conformidad con lo establecido Guía para Determinar y Verificar la Capacidad Residual del Proponente en los Procesos de Contratación de Obra Pública. Consultar el siguiente link https://colombiacompra.gov.co/manuales-guias-y-pliegos-tipo/manuales-y-guias/aplicacion-para-establecer-la-capacidad-residual | N373: =VLOOKUP(A373,'LISTA DE OFERENTES'!$A$4:$B$34,2,FALSE) -> CONSORCIO PARQUES RAFAEL URIBE URIBE 2024
A396: 18 | B396: El proponente NO allegó el formato de calculo del Capacidad Residual establecido por Colombia Compra Eficiente, por lo cual no fue posible verificar por la Entidad. Por lo anterior, para continuar con el proceso el proponente debe allegar el formato de calculo del Capacidad Residual de conformidad con lo establecido Guía para Determinar y Verificar la Capacidad Residual del Proponente en los Procesos de Contratación de Obra Pública. Consultar el siguiente link https://colombiacompra.gov.co/manuales-guias-y-pliegos-tipo/manuales-y-guias/aplicacion-para-establecer-la-capacidad-residual | N396: =VLOOKUP(A396,'LISTA DE OFERENTES'!$A$4:$B$34,2,FALSE) -> CONSORCIO PARQUES INTRUCONCEPTOS
A419: 19 | B419: El proponente NO allegó el formato de calculo del Capacidad Residual establecido por Colombia Compra Eficiente, por lo cual no fue posible verificar por la Entidad. Por lo anterior, para continuar con el proceso el proponente debe allegar el formato de calculo del Capacidad Residual de conformidad con lo establecido Guía para Determinar y Verificar la Capacidad Residual del Proponente en los Procesos de Contratación de Obra Pública. Consultar el siguiente link https://colombiacompra.gov.co/manuales-guias-y-pliegos-tipo/manuales-y-guias/aplicacion-para-establecer-la-capacidad-residual | N419: =VLOOKUP(A419,'LISTA DE OFERENTES'!$A$4:$B$34,2,FALSE) -> UT PARQUES URIBE URIBE
A442: 20 | B442: El proponente NO allegó el formato de calculo del Capacidad Residual establecido por Colombia Compra Eficiente, por lo cual no fue posible verificar por la Entidad. Por lo anterior, para continuar con el proceso el proponente debe allegar el formato de calculo del Capacidad Residual de conformidad con lo establecido Guía para Determinar y Verificar la Capacidad Residual del Proponente en los Procesos de Contratación de Obra Pública. Consultar el siguiente link https://colombiacompra.gov.co/manuales-guias-y-pliegos-tipo/manuales-y-guias/aplicacion-para-establecer-la-capacidad-residual | N442: =VLOOKUP(A442,'LISTA DE OFERENTES'!$A$4:$B$34,2,FALSE) -> CONSORCIO PARQUES INNFRA RUU
A465: 21 | B465: El proponente NO allegó el formato de calculo del Capacidad Residual establecido por Colombia Compra Eficiente, por lo cual no fue posible verificar por la Entidad. Por lo anterior, para continuar con el proceso el proponente debe allegar el formato de calculo del Capacidad Residual de conformidad con lo establecido Guía para Determinar y Verificar la Capacidad Residual del Proponente en los Procesos de Contratación de Obra Pública. Consultar el siguiente link https://colombiacompra.gov.co/manuales-guias-y-pliegos-tipo/manuales-y-guias/aplicacion-para-establecer-la-capacidad-residual | N465: =VLOOKUP(A465,'LISTA DE OFERENTES'!$A$4:$B$34,2,FALSE) -> CONSORCIO QV RAFAEL
A488: 22 | B488: El proponente NO allegó el formato de calculo del Capacidad Residual establecido por Colombia Compra Eficiente, por lo cual no fue posible verificar por la Entidad. Por lo anterior, para continuar con el proceso el proponente debe allegar el formato de calculo del Capacidad Residual de conformidad con lo establecido Guía para Determinar y Verificar la Capacidad Residual del Proponente en los Procesos de Contratación de Obra Pública. Consultar el siguiente link https://colombiacompra.gov.co/manuales-guias-y-pliegos-tipo/manuales-y-guias/aplicacion-para-establecer-la-capacidad-residual | N488: =VLOOKUP(A488,'LISTA DE OFERENTES'!$A$4:$B$34,2,FALSE) -> CONSORCIO PARQUES RUU E&E 2024
A511: 23 | N511: =VLOOKUP(A511,'LISTA DE OFERENTES'!$A$4:$B$34,2,FALSE) -> CONSORCIO ICOD PARK
A534: 24 | B534: El proponente NO allegó el formato de calculo del Capacidad Residual establecido por Colombia Compra Eficiente, por lo cual no fue posible verificar por la Entidad. Por lo anterior, para continuar con el proceso el proponente debe allegar el formato de calculo del Capacidad Residual de conformidad con lo establecido Guía para Determinar y Verificar la Capacidad Residual del Proponente en los Procesos de Contratación de Obra Pública. Consultar el siguiente link https://colombiacompra.gov.co/manuales-guias-y-pliegos-tipo/manuales-y-guias/aplicacion-para-establecer-la-capacidad-residual | N534: =VLOOKUP(A534,'LISTA DE OFERENTES'!$A$4:$B$34,2,FALSE) -> CONSORCIO PARQUES 1014
A557: 25 | B557: El proponente NO allegó el formato de calculo del Capacidad Residual establecido por Colombia Compra Eficiente, por lo cual no fue posible verificar por la Entidad. Por lo anterior, para continuar con el proceso el proponente debe allegar el formato de calculo del Capacidad Residual de conformidad con lo establecido Guía para Determinar y Verificar la Capacidad Residual del Proponente en los Procesos de Contratación de Obra Pública. Consultar el siguiente link https://colombiacompra.gov.co/manuales-guias-y-pliegos-tipo/manuales-y-guias/aplicacion-para-establecer-la-capacidad-residual | N557: =VLOOKUP(A557,'LISTA DE OFERENTES'!$A$4:$B$34,2,FALSE) -> CONSTRUCOL SAS
A580: 26 | B580: El proponente NO allegó el formato de calculo del Capacidad Residual establecido por Colombia Compra Eficiente, por lo cual no fue posible verificar por la Entidad. Por lo anterior, para continuar con el proceso el proponente debe allegar el formato de calculo del Capacidad Residual de conformidad con lo establecido Guía para Determinar y Verificar la Capacidad Residual del Proponente en los Procesos de Contratación de Obra Pública. Consultar el siguiente link https://colombiacompra.gov.co/manuales-guias-y-pliegos-tipo/manuales-y-guias/aplicacion-para-establecer-la-capacidad-residual | N580: =VLOOKUP(A580,'LISTA DE OFERENTES'!$A$4:$B$34,2,FALSE) -> CONSORCIO CORING
A603: 27 | N603: =VLOOKUP(A603,'LISTA DE OFERENTES'!$A$4:$B$34,2,FALSE) -> UNION TEMPORAL OBRAS CPM
A626: 28 | B626: El proponente NO allegó el formato de calculo del Capacidad Residual establecido por Colombia Compra Eficiente, por lo cual no fue posible verificar por la Entidad. Por lo anterior, para continuar con el proceso el proponente debe allegar el formato de calculo del Capacidad Residual de conformidad con lo establecido Guía para Determinar y Verificar la Capacidad Residual del Proponente en los Procesos de Contratación de Obra Pública. Consultar el siguiente link https://colombiacompra.gov.co/manuales-guias-y-pliegos-tipo/manuales-y-guias/aplicacion-para-establecer-la-capacidad-residual | N626: =VLOOKUP(A626,'LISTA DE OFERENTES'!$A$4:$B$34,2,FALSE) -> CONSORCIO INCITECO IP XXI
A649: 29 | B649: El proponente NO allegó el formato de calculo del Capacidad Residual establecido por Colombia Compra Eficiente, por lo cual no fue posible verificar por la Entidad. Por lo anterior, para continuar con el proceso el proponente debe allegar el formato de calculo del Capacidad Residual de conformidad con lo establecido Guía para Determinar y Verificar la Capacidad Residual del Proponente en los Procesos de Contratación de Obra Pública. Consultar el siguiente link https://colombiacompra.gov.co/manuales-guias-y-pliegos-tipo/manuales-y-guias/aplicacion-para-establecer-la-capacidad-residual - Tampoco allega documentos soporte | N649: =VLOOKUP(A649,'LISTA DE OFERENTES'!$A$4:$B$34,2,FALSE) -> CONSORCIO PARQUES JGV 2025
A672: 30 | B672: El proponente NO allegó el formato de calculo del Capacidad Residual establecido por Colombia Compra Eficiente, por lo cual no fue posible verificar por la Entidad. Por lo anterior, para continuar con el proceso el proponente debe allegar el formato de calculo del Capacidad Residual de conformidad con lo establecido Guía para Determinar y Verificar la Capacidad Residual del Proponente en los Procesos de Contratación de Obra Pública. Consultar el siguiente link https://colombiacompra.gov.co/manuales-guias-y-pliegos-tipo/manuales-y-guias/aplicacion-para-establecer-la-capacidad-residual - Tampoco allega documentos soporte | N672: =VLOOKUP(A672,'LISTA DE OFERENTES'!$A$4:$B$34,2,FALSE) -> OBRAS CYC SAS
A695: 31 | B695: El proponente NO allegó el formato de calculo del Capacidad Residual establecido por Colombia Compra Eficiente, por lo cual no fue posible verificar por la Entidad. Por lo anterior, para continuar con el proceso el proponente debe allegar el formato de calculo del Capacidad Residual de conformidad con lo establecido Guía para Determinar y Verificar la Capacidad Residual del Proponente en los Procesos de Contratación de Obra Pública. Consultar el siguiente link https://colombiacompra.gov.co/manuales-guias-y-pliegos-tipo/manuales-y-guias/aplicacion-para-establecer-la-capacidad-residual - Tampoco allega documentos soporte | N695: =VLOOKUP(A695,'LISTA DE OFERENTES'!$A$4:$B$34,2,FALSE) -> PROMCIVILES S.A.S.
A718: 32 | B718: El proponente NO allegó el formato de calculo del Capacidad Residual establecido por Colombia Compra Eficiente, por lo cual no fue posible verificar por la Entidad. Por lo anterior, para continuar con el proceso el proponente debe allegar el formato de calculo del Capacidad Residual de conformidad con lo establecido Guía para Determinar y Verificar la Capacidad Residual del Proponente en los Procesos de Contratación de Obra Pública. Consultar el siguiente link https://colombiacompra.gov.co/manuales-guias-y-pliegos-tipo/manuales-y-guias/aplicacion-para-establecer-la-capacidad-residual - Tampoco allega documentos soporte | N718: =+'LISTA DE OFERENTES'!B35 -> CONSORCIO PARQUES RAFAEL URIBE URIBE 2024

Sheet RESUMEN EVALUACIÓN
A1: FONDO DE DESARROLLO LOCAL DE FONTIBÓN
A2: FDLF-LP-003-2022
A3: CONTRATAR MEDIANTE EL SISTEMA DE PRECIOS UNITARIOS FIJOS SIN FORMULA DE AJUSTE, A MONTO AGOTABLE, LA ADECUACIÓN, MANTENIMIENTO Y/O DOTACIÓN DE LA INFRAESTRUCTURA Y MOBILIARIO DE LOS PARQUES VECINALES."
B5: Nombre de Oferente : | C5: INDICES FINANCIEROS | D5: CAPACIDAD JURIDICA | E5: CAPACIDAD TÉCNICA | F5: CAPACIDAD RESIDUAL | G5: INFORME FINAL | H5: OBSERVACIONES
A6: 1 | B6: =VLOOKUP(A6,'LISTA DE OFERENTES'!$A$4:$B$34,2,FALSE) -> CONSORCIO ARQING | C6: CUMPLE | D6: CUMPLE | E6: CUMPLE | F6: NO CUMPLE | G6: RECHAZADO
A7: 2 | B7: =VLOOKUP(A7,'LISTA DE OFERENTES'!$A$4:$B$34,2,FALSE) -> CONSORCIO CGC 2024 | C7: CUMPLE | D7: NO CUMPLE | E7: NO CUMPLE | F7: NO CUMPLE | G7: RECHAZADO | H7: EL PROPONENTE NO CUMPLE CON EL NUMERAL 3.5.1. CONSIDERACIONES PARA LA VALIDEZ DE LA EXPERIENCIA REQUERIDA, LITERAL D.
A8: 3 | B8: =VLOOKUP(A8,'LISTA DE OFERENTES'!$A$4:$B$34,2,FALSE) -> CONSORCIO RAFAEL URIBE URIBE 2024 | C8: CUMPLE | D8: NO CUMPLE | E8: CUMPLE | F8: NO CUMPLE | G8: RECHAZADO
A9: 4 | B9: =VLOOKUP(A9,'LISTA DE OFERENTES'!$A$4:$B$34,2,FALSE) -> CONSORCIO RAFAEL URIBE URIBE 002 2024 | C9: CUMPLE | D9: NO CUMPLE | E9: NO CUMPLE | F9: NO CUMPLE | G9: RECHAZADO | H9: LOS CONTRATOS APORTADOS PARA ACREDITAR EXPERIENCIA NO CUMPLEN CON LA EXPERIENCIA GENERAL EXIGIDA
A10: 5 | B10: =VLOOKUP(A10,'LISTA DE OFERENTES'!$A$4:$B$34,2,FALSE) -> CONSORCIO PROCOLOMBIA 2024 | C10: CUMPLE | D10: NO CUMPLE | E10: CUMPLE | F10: CUMPLE | G10: RECHAZADO
A11: 6 | B11: =VLOOKUP(A11,'LISTA DE OFERENTES'!$A$4:$B$34,2,FALSE) -> CONSORCIO MAB RUU PARQUES | C11: CUMPLE | D11: NO CUMPLE | E11: CUMPLE | F11: CUMPLE | G11: RECHAZADO
A12: 7 | B12: =VLOOKUP(A12,'LISTA DE OFERENTES'!$A$4:$B$34,2,FALSE) -> CONSORCIO SAN VICENTE V | C12: CUMPLE | D12: CUMPLE | E12: CUMPLE | F12: NO CUMPLE | G12: RECHAZADO
A13: 8 | B13: =VLOOKUP(A13,'LISTA DE OFERENTES'!$A$4:$B$34,2,FALSE) -> CONSORCIO CONSTRU-PARQUES UU | C13: CUMPLE | D13: NO CUMPLE | E13: CUMPLE | F13: NO CUMPLE | G13: RECHAZADO
A14: 9 | B14: =VLOOKUP(A14,'LISTA DE OFERENTES'!$A$4:$B$34,2,FALSE) -> CONSORCIO PARQUES UNIDOS 2024 | C14: CUMPLE | D14: NO CUMPLE | E14: CUMPLE | F14: CUMPLE | G14: RECHAZADO
A15: 10 | B15: =VLOOKUP(A15,'LISTA DE OFERENTES'!$A$4:$B$34,2,FALSE) -> CONSORCIO PARQUES C&DIM 2025 | C15: CUMPLE | D15: NO CUMPLE | E15: CUMPLE | F15: NO CUMPLE | G15: RECHAZADO
A16: 11 | B16: =VLOOKUP(A16,'LISTA DE OFERENTES'!$A$4:$B$34,2,FALSE) -> INVERSIONES GUERFOR S.A.S. | C16: CUMPLE | D16: NO CUMPLE | E16: NO CUMPLE | F16: NO CUMPLE | G16: RECHAZADO | H16: LOS CONTRATOS APORTADOS PARA ACREDITAR EXPERIENCIA NO CUMPLEN CON LA EXPERIENCIA GENERAL EXIGIDA
A17: 12 | B17: =VLOOKUP(A17,'LISTA DE OFERENTES'!$A$4:$B$34,2,FALSE) -> MLG | C17: CUMPLE | D17: NO CUMPLE | E17: NO CUMPLE | F17: NO CUMPLE | G17: RECHAZADO | H17: LOS CONTRATOS APORTADOS PARA ACREDITAR EXPERIENCIA NO CUMPLEN CON LA EXPERIENCIA GENERAL EXIGIDA
A18: 13 | B18: =VLOOKUP(A18,'LISTA DE OFERENTES'!$A$4:$B$34,2,FALSE) -> CONSORCIO PARQUES VERDES | C18: CUMPLE | D18: NO CUMPLE | E18: CUMPLE | F18: NO CUMPLE | G18: RECHAZADO
A19: 14 | B19: =VLOOKUP(A19,'LISTA DE OFERENTES'!$A$4:$B$34,2,FALSE) -> CONSORCIO PARQUES RUU-5G | C19: CUMPLE | D19: NO CUMPLE | E19: CUMPLE | F19: NO CUMPLE | G19: RECHAZADO
A20: 15 | B20: =VLOOKUP(A20,'LISTA DE OFERENTES'!$A$4:$B$34,2,FALSE) -> CONSORCIO NUEVA PARK | C20: CUMPLE | D20: NO CUMPLE | E20: NO CUMPLE | F20: NO CUMPLE | G20: RECHAZADO | H20: EL DOCUMENTO APORTADO PARA CERTIFICAR LA EXPERIENCIA GENERAL NO INCLUYE EL OBJETO CONTRACTUAL, POR LO QUE NO ES POSIBLE IDENTIFCAR LA EXPERIENCIA GENERAL REQUERIDA
A21: 16 | B21: =VLOOKUP(A21,'LISTA DE OFERENTES'!$A$4:$B$34,2,FALSE) -> T&G PARQUES IV | C21: NO CUMPLE | D21: NO CUMPLE | E21: CUMPLE | F21: NO CUMPLE | G21: RECHAZADO
A22: 17 | B22: =VLOOKUP(A22,'LISTA DE OFERENTES'!$A$4:$B$34,2,FALSE) -> CONSORCIO PARQUES RAFAEL URIBE URIBE 2024 | C22: CUMPLE | D22: NO CUMPLE | E22: NO CUMPLE | F22: NO CUMPLE | G22: RECHAZADO | H22: EL PROPONENTE NO APORTA FORMATO No. 3 - EXPERIENCA, TAMPOCO APORTA DOCUMENTOS PARA ACREDITAR EXPERIENCIA REQUERIDA
A23: 18 | B23: =VLOOKUP(A23,'LISTA DE OFERENTES'!$A$4:$B$34,2,FALSE) -> CONSORCIO PARQUES INTRUCONCEPTOS | C23: CUMPLE | D23: NO CUMPLE | E23: NO CUMPLE | F23: NO CUMPLE | G23: RECHAZADO | H23: EL CONTRATO APORTADO PARA ACREDITAR EXPERIENCIA NO CUMPLE CON LA EXPERIENCIA GENERAL EXIGIDA
A24: 19 | B24: =VLOOKUP(A24,'LISTA DE OFERENTES'!$A$4:$B$34,2,FALSE) -> UT PARQUES URIBE URIBE | C24: CUMPLE | D24: NO CUMPLE | E24: CUMPLE | F24: NO CUMPLE | G24: RECHAZADO
A25: 20 | B25: =VLOOKUP(A25,'LISTA DE OFERENTES'!$A$4:$B$34,2,FALSE) -> CONSORCIO PARQUES INNFRA RUU | C25: CUMPLE | D25: NO CUMPLE | E25: NO CUMPLE | F25: NO CUMPLE | G25: RECHAZADO | H25: LOS CONTRATOS APORTADOS PARA ACREDITAR EXPERIENCIA NO CUMPLEN CON LA EXPERIENCIA GENERAL EXIGIDA
A26: 21 | B26: =VLOOKUP(A26,'LISTA DE OFERENTES'!$A$4:$B$34,2,FALSE) -> CONSORCIO QV RAFAEL | C26: CUMPLE | D26: NO CUMPLE | E26: CUMPLE | F26: NO CUMPLE | G26: RECHAZADO
A27: 22 | B27: =VLOOKUP(A27,'LISTA DE OFERENTES'!$A$4:$B$34,2,FALSE) -> CONSORCIO PARQUES RUU E&E 2024 | C27: CUMPLE | D27: NO CUMPLE | E27: CUMPLE | F27: NO CUMPLE | G27: RECHAZADO
A28: 23 | B28: =VLOOKUP(A28,'LISTA DE OFERENTES'!$A$4:$B$34,2,FALSE) -> CONSORCIO ICOD PARK | C28: CUMPLE | D28: NO CUMPLE | E28: CUMPLE | F28: CUMPLE | G28: RECHAZADO
A29: 24 | B29: =VLOOKUP(A29,'LISTA DE OFERENTES'!$A$4:$B$34,2,FALSE) -> CONSORCIO PARQUES 1014 | C29: CUMPLE | D29: NO CUMPLE | E29: NO CUMPLE | F29: NO CUMPLE | G29: RECHAZADO | H29: LOS CONTRATOS APORTADOS PARA ACREDITAR EXPERIENCIA NO CUMPLEN CON LA EXPERIENCIA GENERAL EXIGIDA
A30: 25 | B30: =VLOOKUP(A30,'LISTA DE OFERENTES'!$A$4:$B$34,2,FALSE) -> CONSTRUCOL SAS | C30: CUMPLE | D30: NO CUMPLE | E30: NO CUMPLE | F30: NO CUMPLE | G30: RECHAZADO | H30: EN LAS CERTIIFCACIONES APORTADAS NO SE IDENTIFICA LO REQUERIDO EN LA EXPERIENCIA ESPECIFICA
A31: 26 | B31: =VLOOKUP(A31,'LISTA DE OFERENTES'!$A$4:$B$34,2,FALSE) -> CONSORCIO CORING | C31: CUMPLE | D31: NO CUMPLE | E31: CUMPLE | F31: NO CUMPLE | G31: RECHAZADO
A32: 27 | B32: =VLOOKUP(A32,'LISTA DE OFERENTES'!$A$4:$B$34,2,FALSE) -> UNION TEMPORAL OBRAS CPM | C32: CUMPLE | D32: NO CUMPLE | E32: CUMPLE | F32: CUMPLE | G32: RECHAZADO
A33: 28 | B33: =VLOOKUP(A33,'LISTA DE OFERENTES'!$A$4:$B$34,2,FALSE) -> CONSORCIO INCITECO IP XXI | C33: CUMPLE | D33: NO CUMPLE | E33: CUMPLE | F33: NO CUMPLE | G33: RECHAZADO
A34: 29 | B34: =VLOOKUP(A34,'LISTA DE OFERENTES'!$A$4:$B$34,2,FALSE) -> CONSORCIO PARQUES JGV 2025 | C34: CUMPLE | D34: NO CUMPLE | E34: NO CUMPLE | F34: NO CUMPLE | G34: RECHAZADO | H34: LOS CONTRATOS APORTADOS PARA ACREDITAR EXPERIENCIA NO CUMPLEN CON LA EXPERIENCIA GENERAL EXIGIDA
A35: 30 | B35: =VLOOKUP(A35,'LISTA DE OFERENTES'!$A$4:$B$34,2,FALSE) -> OBRAS CYC SAS | C35: CUMPLE | D35: NO CUMPLE | E35: NO CUMPLE | F35: NO CUMPLE | G35: RECHAZADO | H35: LOS CONTRATOS APORTADOS PARA ACREDITAR EXPERIENCIA NO CUMPLEN CON LA EXPERIENCIA GENERAL EXIGIDA
A36: 31 | B36: =VLOOKUP(A36,'LISTA DE OFERENTES'!$A$4:$B$34,2,FALSE) -> PROMCIVILES S.A.S. | C36: CUMPLE | D36: NO CUMPLE | E36: CUMPLE | F36: NO CUMPLE | G36: RECHAZADO
A37: 32 | B37: CONSORCIO PARQUES RAFAEL URIBE URIBE 2024 | C37: CUMPLE | D37: NO CUMPLE | E37: CUMPLE | F37: NO CUMPLE | G37: RECHAZADO

Sheet F. PONDERABLES 
A1: FONDO DE DESARROLLO LOCAL DE RAFAEL URIBE URIBE
A2: LICITACION PUBLICA FDLRUU-LP-002-2024
A3: FACTORES PONDERABLES
A7: FACTORES PONDERABLES / PUNTAJE FINAL | C7: OFERTA ECONÓMICA (59,5 PUNTOS) | D7: FACTOR DE CALIDAD (19 PUNTOS) | E7: APOYO A LA INDUSTRIAL NACIONAL (20 PUNTOS) | F7: VINCULACIÓN DE PERSONAS CON DISCAPACIDAD (1 PUNTO) | G7: EMPRENDIMIENT Y EMPRESAS DE MUJERES (0,25) | H7: Mipyme (0,25) | I7: MULTAS O CLAUSULAS PENALES DURANTE EL ÚLTIMO AÑO ART 58 LEY 2195 DE 2022 | J7: REGISTRO NACIONAL DE OBRAS INCONCLUSAS | K7: PUNTAJE TOTAL | L7: OBSERVACIONES
A8: 1 | B8: =VLOOKUP(A8,'LISTA DE OFERENTES'!$A$4:$B$34,2,FALSE) -> CONSORCIO ARQING | D8: 19 | E8: 20 | F8: 1 | G8: 0.25 | H8: 0.25 | K8: =SUM(C8:J8) -> 40.5
A9: 2 | B9: =VLOOKUP(A9,'LISTA DE OFERENTES'!$A$4:$B$34,2,FALSE) -> CONSORCIO CGC 2024
A10: 3 | B10: =VLOOKUP(A10,'LISTA DE OFERENTES'!$A$4:$B$34,2,FALSE) -> CONSORCIO RAFAEL URIBE URIBE 2024 | D10: 19 | E10: 20 | F10: 1 | G10: 0.25 | H10: 0.25 | K10: =SUM(C10:J10) -> 40.5
A11: 4 | B11: =VLOOKUP(A11,'LISTA DE OFERENTES'!$A$4:$B$34,2,FALSE) -> CONSORCIO RAFAEL URIBE URIBE 002 2024
A12: 5 | B12: =VLOOKUP(A12,'LISTA DE OFERENTES'!$A$4:$B$34,2,FALSE) -> CONSORCIO PROCOLOMBIA 2024 | D12: 19 | E12: 20 | F12: 1 | G12: 0.25 | H12: 0.25 | K12: =SUM(C12:J12) -> 40.5
A13: 6 | B13: =VLOOKUP(A13,'LISTA DE OFERENTES'!$A$4:$B$34,2,FALSE) -> CONSORCIO MAB RUU PARQUES | D13: 19 | E13: 20 | F13: 1 | G13: 0.25 | H13: 0.25 | K13: =SUM(C13:J13) -> 40.5
A14: 7 | B14: =VLOOKUP(A14,'LISTA DE OFERENTES'!$A$4:$B$34,2,FALSE) -> CONSORCIO SAN VICENTE V | D14: 19 | E14: 20 | F14: 1 | G14: 0.25 | H14: 0.25 | K14: =SUM(C14:J14) -> 40.5
A15: 8 | B15: =VLOOKUP(A15,'LISTA DE OFERENTES'!$A$4:$B$34,2,FALSE) -> CONSORCIO CONSTRU-PARQUES UU | D15: 19 | E15: 20 | F15: 1 | G15: 0.25 | H15: 0.25 | K15: =SUM(C15:J15) -> 40.5
A16: 9 | B16: =VLOOKUP(A16,'LISTA DE OFERENTES'!$A$4:$B$34,2,FALSE) -> CONSORCIO PARQUES UNIDOS 2024 | D16: 19 | E16: 20 | F16: 1 | G16: 0.25 | H16: 0.25 | K16: =SUM(C16:J16) -> 40.5
A17: 10 | B17: =VLOOKUP(A17,'LISTA DE OFERENTES'!$A$4:$B$34,2,FALSE) -> CONSORCIO PARQUES C&DIM 2025 | D17: 19 | E17: 20 | F17: 1 | G17: 0.25 | H17: 0.25 | K17: =SUM(C17:J17) -> 40.5
A18: 11 | B18: =VLOOKUP(A18,'LISTA DE OFERENTES'!$A$4:$B$34,2,FALSE) -> INVERSIONES GUERFOR S.A.S. | K18: =SUM(C18:J18) -> 0
A19: 12 | B19: =VLOOKUP(A19,'LISTA DE OFERENTES'!$A$4:$B$34,2,FALSE) -> MLG | K19: =SUM(C19:J19) -> 0
A20: 13 | B20: =VLOOKUP(A20,'LISTA DE OFERENTES'!$A$4:$B$34,2,FALSE) -> CONSORCIO PARQUES VERDES | D20: 19 | E20: 20 | F20: 1 | G20: 0.25 | H20: 0.25 | K20: =SUM(C20:J20) -> 40.5
A21: 14 | B21: =VLOOKUP(A21,'LISTA DE OFERENTES'!$A$4:$B$34,2,FALSE) -> CONSORCIO PARQUES RUU-5G | D21: 19 | E21: 20 | F21: 1 | G21: 0.25 | H21: 0.25 | K21: =SUM(C21:J21) -> 40.5
A22: 15 | B22: =VLOOKUP(A22,'LISTA DE OFERENTES'!$A$4:$B$34,2,FALSE) -> CONSORCIO NUEVA PARK | K22: =SUM(C22:J22) -> 0
A23: 16 | B23: =VLOOKUP(A23,'LISTA DE OFERENTES'!$A$4:$B$34,2,FALSE) -> T&G PARQUES IV | D23: 19 | E23: 20 | F23: 1 | G23: 0.25 | H23: 0.25 | K23: =SUM(C23:J23) -> 40.5
A24: 17 | B24: =VLOOKUP(A24,'LISTA DE OFERENTES'!$A$4:$B$34,2,FALSE) -> CONSORCIO PARQUES RAFAEL URIBE URIBE 2024 | K24: =SUM(C24:J24) -> 0
A25: 18 | B25: =VLOOKUP(A25,'LISTA DE OFERENTES'!$A$4:$B$34,2,FALSE) -> CONSORCIO PARQUES INTRUCONCEPTOS | K25: =SUM(C25:J25) -> 0
A26: 19 | B26: =VLOOKUP(A26,'LISTA DE OFERENTES'!$A$4:$B$34,2,FALSE) -> UT PARQUES URIBE URIBE | D26: 19 | E26: 20 | F26: 1 | G26: 0.25 | H26: 0.25 | K26: =SUM(C26:J26) -> 40.5
A27: 20 | B27: =VLOOKUP(A27,'LISTA DE OFERENTES'!$A$4:$B$34,2,FALSE) -> CONSORCIO PARQUES INNFRA RUU | K27: =SUM(C27:J27) -> 0
A28: 21 | B28: =VLOOKUP(A28,'LISTA DE OFERENTES'!$A$4:$B$34,2,FALSE) -> CONSORCIO QV RAFAEL | D28: 19 | E28: 20 | F28: 1 | G28: 0.25 | H28: 0.25 | K28: =SUM(C28:J28) -> 40.5
A29: 22 | B29: =VLOOKUP(A29,'LISTA DE OFERENTES'!$A$4:$B$34,2,FALSE) -> CONSORCIO PARQUES RUU E&E 2024 | D29: 19 | E29: 20 | F29: 1 | G29: 0.25 | H29: 0.25 | K29: =SUM(C29:J29) -> 40.5
A30: 23 | B30: =VLOOKUP(A30,'LISTA DE OFERENTES'!$A$4:$B$34,2,FALSE) -> CONSORCIO ICOD PARK | D30: 19 | E30: 20 | F30: 1 | G30: 0.25 | H30: 0.25 | K30: =SUM(C30:J30) -> 40.5
A31: 24 | B31: =VLOOKUP(A31,'LISTA DE OFERENTES'!$A$4:$B$34,2,FALSE) -> CONSORCIO PARQUES 1014 | K31: =SUM(C31:J31) -> 0
A32: 25 | B32: =VLOOKUP(A32,'LISTA DE OFERENTES'!$A$4:$B$34,2,FALSE) -> CONSTRUCOL SAS | K32: =SUM(C32:J32) -> 0
A33: 26 | B33: =VLOOKUP(A33,'LISTA DE OFERENTES'!$A$4:$B$34,2,FALSE) -> CONSORCIO CORING | D33: 19 | E33: 20 | F33: 1 | G33: 0.25 | H33: 0.25 | K33: =SUM(C33:J33) -> 40.5
A34: 27 | B34: =VLOOKUP(A34,'LISTA DE OFERENTES'!$A$4:$B$34,2,FALSE) -> UNION TEMPORAL OBRAS CPM | D34: 19 | E34: 20 | F34: 1 | G34: 0.25 | H34: 0.25 | K34: =SUM(C34:J34) -> 40.5
A35: 28 | B35: =VLOOKUP(A35,'LISTA DE OFERENTES'!$A$4:$B$34,2,FALSE) -> CONSORCIO INCITECO IP XXI | D35: 19 | E35: 20 | F35: 1 | G35: 0.25 | H35: 0.25 | K35: =SUM(C35:J35) -> 40.5
A36: 29 | B36: =VLOOKUP(A36,'LISTA DE OFERENTES'!$A$4:$B$34,2,FALSE) -> CONSORCIO PARQUES JGV 2025 | K36: =SUM(C36:J36) -> 0
A37: 30 | B37: =VLOOKUP(A37,'LISTA DE OFERENTES'!$A$4:$B$34,2,FALSE) -> OBRAS CYC SAS | K37: =SUM(C37:J37) -> 0
A38: 31 | B38: =VLOOKUP(A38,'LISTA DE OFERENTES'!$A$4:$B$34,2,FALSE) -> PROMCIVILES S.A.S. | D38: 19 | E38: 20 | F38: 1 | G38: 0.25 | H38: 0.25 | K38: =SUM(C38:J38) -> 40.5
A39: 32 | B39: =VLOOKUP(A39,'LISTA DE OFERENTES'!$A$4:$B$35,2,FALSE) -> CONSORCIO PARQUES RAFAEL URIBE URIBE 2024 | D39: 19 | E39: 20 | F39: 1 | G39: 0.25 | H39: 0.25 | K39: =SUM(C39:J39) -> 40.5
