Workbook
Name _: #REF!
Name _: #REF!
Name __: #REF!
Name ___AFC1: [1]INV!$A$25:$D$28
Name ___AFC3: [1]INV!$F$25:$I$28
Name ___AFC5: [1]INV!$K$25:$N$28
Name ___BGC1: [1]INV!$A$5:$D$8
Name ___BGC3: [1]INV!$F$5:$I$8
Name ___BGC5: [1]INV!$K$5:$N$8
Name ___CAC1: [1]INV!$A$19:$D$22
Name ___CAC3: [1]INV!$F$19:$I$22
Name ___CAC5: [1]INV!$K$19:$N$22
Name ___EST1: #REF!
Name ___EST10: #REF!
Name ___EST11: #REF!
Name ___EST12: #REF!
Name ___EST13: #REF!
Name ___EST14: #REF!
Name ___EST15: #REF!
Name ___EST16: #REF!
Name ___EST17: #REF!
Name ___EST18: #REF!
Name ___EST19: #REF!
Name ___EST2: #REF!
Name ___EST3: #REF!
Name ___EST4: #REF!
Name ___EST5: #REF!
Name ___EST6: #REF!
Name ___EST7: #REF!
Name ___EST8: #REF!
Name ___EST9: #REF!
Name ___EXC1: #REF!
Name ___EXC10: #REF!
Name ___EXC11: #REF!
Name ___EXC12: #REF!
Name ___EXC2: #REF!
Name ___EXC3: #REF!
Name ___EXC4: #REF!
Name ___EXC5: #REF!
Name ___EXC6: #REF!
Name ___EXC7: #REF!
Name ___EXC8: #REF!
Name ___EXC9: #REF!
Name ___SBC1: [1]INV!$A$12:$D$15
Name ___SBC3: [1]INV!$F$12:$I$15
Name ___SBC5: [1]INV!$K$12:$N$15
Name __AFC1: [1]INV!$A$25:$D$28
Name __AFC3: [1]INV!$F$25:$I$28
Name __AFC5: [1]INV!$K$25:$N$28
Name __BGC1: [1]INV!$A$5:$D$8
Name __BGC3: [1]INV!$F$5:$I$8
Name __BGC5: [1]INV!$K$5:$N$8
Name __CAC1: [1]INV!$A$19:$D$22
Name __CAC3: [1]INV!$F$19:$I$22
Name __CAC5: [1]INV!$K$19:$N$22
Name __EST1: #REF!
Name __EST10: #REF!
Name __EST11: #REF!
Name __EST12: #REF!
Name __EST13: #REF!

Sheet SMMLV
A1: AÑO | B1: SMMLV
A2: 2024 | B2: 1300000
A3: 2023 | B3: 1160000
A4: 2022 | B4: 1000000
A5: 2021 | B5: 908526
A6: 2020 | B6: 877802
A7: 2019 | B7: 828116
A8: 2018 | B8: 781242 | D8: 21207214908 | E8: =D8*B9 -> 1.5644923e+16
A9: 2017 | B9: 737717 | D9: 28747.08
A10: 2016 | B10: 689454
A11: 2015 | B11: 644350
A12: 2014 | B12: 616000
A13: 2013 | B13: 589500 | F13: =D14*B9 -> 0
A14: 2012 | B14: 566700
A15: 2011 | B15: 535600
A16: 2010 | B16: 515000
A17: 2009 | B17: 496900
A18: 2008 | B18: 461500
A19: 2007 | B19: 433700
A20: 2006 | B20: 408000
A21: 2005 | B21: 381500
A22: 2004 | B22: 358000
A23: 2003 | B23: 332000
A24: 2002 | B24: 309000
A25: 2001 | B25: 286000
... A57: 1960 | B57: 198

Sheet General
A1: Proceso No. | B1: FNA-VGHA-CP-015-2024 | D1: Entidad: | E1: FONDO NACIONAL DEL AHORRO
A2: Objeto: | B2: REALIZAR LAS REPARACIONES LOCATIVAS DE LA INFRAESTRUCTURA FÍSICA DE LA SEDE PRINCIPAL - CNA DEL FONDO NACIONAL DEL AHORRO S.A.
H3: Presupuesto: | I3: 5282931966
H4: Presupuesto Oficial en SMMLV | I4: =I3/I7 -> 4063.7938
H6: Año de revisión de documentos | I6: 2024
H7: SMMLV del año del proceso | I7: 1300000
H8: Fecha cierre | I8: 45643

Sheet Directorio
B1: No. | C1: TIPO DE PROCESO CD, SB. CP, CPA | D1: NOMBRE DEL OFERENTE | E1: NIT | F1: NOMBRE COMPLETO | G1: INTEGRANTES DEL CONSORCIO O DE LA UNIÓN TEMPORAL | P1: INTEGRANTES DEL CONSORCIO O DE LA UNIÓN TEMPORAL | Y1: INTEGRANTES DEL CONSORCIO O DE LA UNIÓN TEMPORAL | AH1: Socios Integrante 1 | AT1: Socios Integrante 2 | BF1: Socios Integrante 3
F2: ="("&#REF!&": "&G2&" "&TEXT(H2,"##0,00%")&" - "&I2&" "&TEXT(J2,"##0,00%")&" - "&K2&" "&TEXT(L2,"##0,00%")&")" -> #REF! | G2: Integrante 1 | H2: % Int. 1 | I2: NIT O CEDULA DE CIUDADANÍA | J2: Integrante 2 | K2: % Int. 2 | L2: NIT O CEDULA DE CIUDADANÍA | M2: INTEGRANTE 3 | N2: % Int. 3 | O2: NIT O CEDULA DE CIUDADANÍA | P2: Integrante 4 | Q2: % Int. 4 | R2: NIT O CEDULA DE CIUDADANÍA | S2: Integrante 5 | T2: % Int. 5 | U2: NIT O CEDULA DE CIUDADANÍA | V2: INTEGRANTE 6 | W2: % Int. 6 | X2: NIT O CEDULA DE CIUDADANÍA | Y2: Integrante 7 | Z2: % Int. 7 | AA2: NIT O CEDULA DE CIUDADANÍA | AB2: Integrante 8 | AC2: % Int. 8 | AD2: NIT O CEDULA DE CIUDADANÍA | AE2: INTEGRANTE 9 | AF2: % Int. 9 | AG2: NIT O CEDULA DE CIUDADANÍA | AH2: Socio 1 | AJ2: Socio 2 | AL2: Socio 3 | AN2: Socio 4 | AP2: Socio 5 | AR2: Socio 6 | AT2: Socio 1 | AV2: Socio 2 | AX2: Socio 3 | AZ2: Socio 4 | BB2: Socio 5 | BD2: Socio 6 | BF2: Socio 1 | BH2: Socio 2 | BJ2: Socio 3 | BL2: Socio 4 | BN2: Socio 5 | BP2: Socio 6
F3: ="("&G3&" "&TEXT(H3,"##0,00%")&" - "&I3&" "&TEXT(J3,"##0,00%")&" - "&K3&" "&TEXT(L3,"##0,00%")&")" -> ( 0,00% - 0,00% - 0,00%) | AH3: Nombre | AI3: C. de Ciudadanía | AJ3: Nombre | AK3: C. de Ciudadanía | AL3: Nombre | AM3: C. de Ciudadanía | AN3: Nombre | AO3: C. de Ciudadanía | AP3: Nombre | AQ3: C. de Ciudadanía | AR3: Nombre | AS3: C. de Ciudadanía | AT3: Nombre | AU3: C. de Ciudadanía | AV3: Nombre | AW3: C. de Ciudadanía | AX3: Nombre | AY3: C. de Ciudadanía | AZ3: Nombre | BA3: C. de Ciudadanía | BB3: Nombre | BC3: C. de Ciudadanía | BD3: Nombre | BE3: C. de Ciudadanía | BF3: Nombre | BG3: C. de Ciudadanía | BH3: Nombre | BI3: C. de Ciudadanía | BJ3: Nombre | BK3: C. de Ciudadanía | BL3: Nombre | BM3: C. de Ciudadanía | BN3: Nombre | BO3: C. de Ciudadanía | BP3: Nombre | BQ3: C. de Ciudadanía
B4: 1 | C4: FNA-VGHA-CP-015-2024 | D4: CONSORCIO OMNIA | F4: (CONSORCIO OMNIA: CONSORCIO OMNIA 000% - 000% - 000%) | G4: GESTIÓN RURAL Y URBANA S.A.S. | H4: 0.33 | I4: 830.128.894-1 | J4: REDES, CONSTRUCCIONES E INGENIERIA S.A.S. | K4: 0.33 | L4: 901.148.446-6 | M4: INGINIUS S.A.S. | N4: 0.34 | O4: 901.125.443-5
B5: 2 | C5: FNA-VGHA-CP-015-2024 | D5: INGEBYP SAS - FNA | E5: 830121507-2 | F5: (INGEBYP SAS - FNA: INGEBYP SAS - FNA 100% - 000% - 000%) | G5: INGEBYP SAS - FNA | H5: 1
B6: 3 | C6: FNA-VGHA-CP-015-2024 | D6: CONSORCIO 2024 FNA | F6: (CONSORCIO 2024 FNA: CONSORCIO 2024 FNA 70% - 30%) | G6: MARTINEZ OSPINA S.A.S. | H6: 0.7 | I6: 900.105.523-7 | J6: JORGE ENRIQUE MARTINEZ FONSECA | K6: 0.3 | L6: 19169883
B7: 4 | C7: FNA-VGHA-CP-015-2024 | D7: CONSORCIO FONDO NACIONAL | F7: (CONSORCIO FONDO NACIONAL: GCI GRUPO DE CONSTRUCCIONES E INGENIERIA SAS ZOMAC 060% - INDUSTRIA Y TRANSPORTE SAS ZESE - INTRASP SAS ZESE 030% - GEOESTRUCTURAL E INGENIERIA SAS 010%) | G7: GCI GRUPO DE CONSTRUCCIONES E INGENIERIA SAS ZOMAC | H7: 0.6 | I7: 901340726-5 | J7: INDUSTRIA Y TRANSPORTE SAS ZESE - INTRASP SAS ZESE | K7: 0.3 | L7: 901598212-1 | M7: GEOESTRUCTURAL E INGENIERIA SAS | N7: 0.1 | O7: 901490779-8
B8: 5 | C8: FNA-VGHA-CP-015-2024 | D8: UNINGECOL SA | E8: 900.176.059-4 | F8: (UNINGECOL SA: UNINGECOL SA 100%) | G8: UNINGECOL SA
B9: 6 | C9: FNA-VGHA-CP-015-2024 | D9: CONSTRUCCION Y MANTENIMIENTO CASTILLA Y LEON G&G SDAD LTDA | E9: 830108787-4 | F9: (CASTILLA Y LEON: CASTILLA Y LEON 000% - 000% - 000%) | G9: CASTILLA Y LEON
B10: 7 | C10: FNA-VGHA-CP-015-2024 | D10: INSOL | E10: 900139747-6 | F10: (INSOL: INSOL 000% - 000% - 000%) | G10: INSOL | H10: 1
B11: 8 | C11: FNA-VGHA-CP-015-2024 | D11: DIARQCO CONSTRUCTORES S.A.S. | E11: 900185357-2 | F11: (DIARQCO CONSTRUCTORES S.A.S.: DIARQCO CONSTRUCTORES S.A.S. 000% - 000% - 000%) | G11: DIARQCO CONSTRUCTORES S.A.S.
B12: 9 | C12: FNA-VGHA-CP-015-2024 | D12: UT AMF-ELATIN | F12: (UT AMF-ELATIN: UT AMF-ELATIN 000% - 000% - 000%) | G12: ELATIN SAS | H12: 0.99 | I12: 900424944-2 | J12: Armando Marulanda Fernandez | K12: 0.01 | L12: 14565656-7
B13: 10 | C13: FNA-VGHA-CP-015-2024 | D13: LIMACOR MY S.A.S. | E13: 900.126.632-1 | F13: (LIMACOR MY S.A.S.: LIMACOR MY S.A.S. 000% - 000% - 000%) | G13: LIMACOR MY S.A.S. | H13: 1 | I13: 900.126.632-1

Sheet Exp. Proponente
A1: =General!B2 -> REALIZAR LAS REPARACIONES LOCATIVAS DE LA INFRAESTRUCTURA FÍSICA DE LA SEDE PRINCIPAL - CNA DEL FONDO NACIONAL DEL AHORRO S.A.
A2: =General!B1 -> FNA-VGHA-CP-015-2024
A3: =+General!B3 -> 0
A4: 4.1.2.1. EXPERIENCIA MÍNIMA HABILITANTE
A5: # Contratos | B5: Propietario o Entidad Contratante | D5: Objeto / Obligaciones / Actividades | F5: Fecha Finalización a la fecha de cierre del proceso de selección | G5: Valor Contrato us$ | H5: TRM (Si aplica) | I5: en conjunto, la totalidad de las siguientes actividades de mantenimiento y/o reparaciones locativas y/o remodelación y/o adecuación y/o ampliación y/o construcción y/o rehabilitación y/o mejoramiento | J5: PRESUPUESTO TOTAL | L5: igual o superior 100% POE en SMMLV | M5: RUP | N5: Hoja1!B3
A6: MAX 3 | B6: personas jurídicas del sector privado, los certificados de contratos deberán allegarse con copia de este y/o su respectiva acta de liquidación y/o documentos que demuestren ejecución debida. | D6: objetos contractuales o alcances u obligaciones comprendan actividades de mantenimiento y/o reparaciones locativas y/o remodelación y/o adecuación y/o ampliación y/o construcción y/o rehabilitación y/o mejoramiento de edificaciones institucionales o empresariales o corporativas o comerciales. (no será válida edificaciones con destinación habitacional o residencial) | F6: =+General!I8-(365*10) -> 41993 | I6: • Estructuras o Redes hidráulicas • Redes eléctricas • Baterías sanitarias • Sistemas livianos de construcción • Pintura interior y/o exterior. • Cubiertas | J6: =General!I3 -> 5282931966 | L6: =General!I4 -> 4063.7938 | M6: Vigente y en firme | N6: como mínimo seis (06) de los siguientes códigos UNSPSC:
A7: # | B7: Contratante | C7: % Part Ejecución | D7: Contratista | E7: Objeto | F7: Fecha Finalización | G7: Valor Contrato us$ | H7: TRM (Si aplica) | I7: Actividades | J7: Valor Contrato | K7: SMMLV para Cálculo | L7: Valor Contrato en SMMLV | M7: Inscripción en el RUP | N7: Código UNSPSC | O7: CUMPLE/ NO CUMPLE | P7: Observaciones
A9: No. | B9: 1 | C9: OFERENTE: | D9: =VLOOKUP(B9,Directorio!$B$4:$O$9,3,FALSE) -> CONSORCIO OMNIA | O9: RESULTADO DE LA VERIFICACIÓN DOCUMENTAL | P9: =+L15 -> CUMPLE
A10: # | B10: Contratante | C10: % Part Ejecución | D10: Contratista | E10: Objeto | F10: Fecha Finalización | G10: Valor Contrato us$ | H10: TRM (Si aplica) | I10: Actividades | J10: Valor Contrato | K10: SMMLV para Cálculo | L10: Valor Contrato en SMMLV | M10: Inscripción en el RUP | N10: Código UNSPSC | O10: CUMPLE/ NO CUMPLE | P10: Observaciones
A11: 1 | B11: CONSORCIO AEO | C11: 1 | D11: CONSORCIO OMNIA | E11: MANTENIMIENTO GENERAL RECURRENTE DE LA INFRAESTRUCTURA FISICA EN LOS ESTABLECIMIENTOS PENITENCIARIOS Y CARCELARIOS A CARGO DEL INPEC - FASE 1 GRUPO 3 REGIONAL ORIENTE | F11: 45271 | I11: • Instalación de redes Hidrosantiarias, • Tubería PVCP 1/2" RDE 9, instalada subterránea y/o a nivel y/o en alturas hasta 10,00 m. • Tubería PVCS 3", instalada subterránea y/o a nivel y/o en alturas hasta 10,00 m • Prueba de red hidráulica con flauta en cobre y manómetro • Pintura vinilo 100% acrílica plástica mate, con altos sólidos, de alta calidad con máxima protección para intemperie; alta elasticidad, hidrorrepelente; resistente a algas, hongos, adhesión de suciedad, álcali y humos; • Esmalte sintético alquídico a base de aceite sobre Puertas metálicas, tres (3) capas aplicadas con pistola sobre la totalidad de las caras vistas de hoja y marco, • Suministro e instalacion de cubierta tipo Termosteel Maxter, 6,0 x 0,9 m. Incluye trabajo en alturas, • Suministro y ejecución de divisiones en panelería liviana acabado una (1) cara fabricadas en sistema drywall • frescasa, perfilería galvanizada CR. base 9 cal.26, estructura anclada muros y estructura con chazo • Red eléctrica Trifásica en Cable de Cu en 4 x N° 10 AWG (3 Fases + 1 Neutro) + 1 x N° 12T AWG LS-HFFR° • Suministro e instalacion de Tablero Trifasico de Distribución de 30 Circuitos con espacio para totalizador • Suministro e Instalación de luminaria E27, Incluye roseta, luminaria ahorradora de energía 25W | J11: 3055788000 | K11: =IF(F11>0,VLOOKUP(YEAR(F11),SMMLV!A:B,2,FALSE),0) -> 1160000 | L11: =IF(AND(F11>=$F$6,K11>0),J11/K11*C11,0) -> 2634.3 | M11: 27 | N11: 72101500 72152300 72152400 72153000 72153200 72103300 | O11: CUMPLE | P11: Se aclara que la certificación es de Redes de construcciones e Ingenieria que corresponde a uno de los consorciados con una participación del 33% . De acuerdo al la propuesta presentada por el oferente en la constitución consorcial. Una vez revisada la información de la experiencia, se puede evidenciar que en el FORMATO N°. 6 EXPERIENCIA ESPECÍFICA DEL OFERENTE se relaciona el valor del contrato por la suma de $3,055,788,000, mientras que en el documento de certificación de contrato expedido por una empresa privada el 15 de diciembre de 2023 se dispone que el valor del contrato es la suma de $3,055,788,000, el cual coincide con el valor ejecutado descrito en el acta de liquidación del contrato. Así las cosas este valor expresado en SMMLV corresponde a 2,634,30
A12: 2 | B12: CONSEJO SUPERIOR DE LA JUDICATURA DIRECCIÓN EJECUTIVA DE ADMINISTRACIÓN JUDICIAL | C12: 1 | D12: CONSORCIO OMNIA | E12: REALIZAR LAS OBRAS DE CONSTRUCCIÓN DE LA SEDE DE LOS DESPACHOS JUDICICALES DE LOS PATIOS - NORTE DE SANTANDER | F12: 44721 | I12: Las actividades se desarrollaron dentro del componente de obra civil, enunciadas a continuación: Cerramientos, Demoliciones, Excavaciones, Instalaciones Eléctricas, Cableado estructurado, Pintura, Muros Drywall, Mampostería, Cielo raso, enchape pisos, acabados en general, Impermeabilización Cubierta, Carpintería Metálica, vidrio aluminio y de madera, y mobiliario. | J12: 8106905679 | K12: =IF(F12>0,VLOOKUP(YEAR(F12),SMMLV!A:B,2,FALSE),0) -> 1000000 | L12: =IF(AND(J12>=$F$6,K12>0),J12/K12*C12,0) -> 8106.9057 | M12: 183 | N12: 72153000 72153200 72103300 72152500 80101600 81101500 | O12: CUMPLE | P12: Se aclara que la certificación es de Gestión Rural y Urbana SAS que corresponde a uno de los consorciados con una participación del 33% .De acuerdo al la propuesta presentada por el oferente en la constitución consorcial. Una vez revisada la información de la experiencia, se puede evidenciar que en el FORMATO N°. 6 EXPERIENCIA ESPECÍFICA DEL OFERENTE se relaciona el valor del contrato por la suma de $8,106,905,679, mientras que en el documento de certificación de contrato expedido por una empresa estatal el 27 de diciembre de 2022 se dispone que el valor del contrato es la suma de $8,106,905,679, el cual coincide con el valor ejecutado descrito en el acta de liquidación del contrato. Así las cosas este valor expresado en SMMLV corresponde a 8,106,91
A13: 3 | B13: CONSTRUCTORA J&V JIMENES Y CIA LTDA | C13: 1 | D13: CONSORCIO OMNIA | E13: OBRAS DE MANTENIMIENTO PARA LA SEGUNDA FASE DE REDES HIDROSANITARIAS Y RED CONTRAINCENDIO DEL ESPHA HOSPITAL CENTRAL POR LA MODALIDAD DE PRECIOS UNITARIOS FIJOS SIN FÓRMULA DE REAJUSTE | F13: 44135 | I13: Red General de suminstro de agua fría presión Puntos hidráulicos agua fria Red General de suminstro de agua caliente presión Arreglo de cielo raso modulado, incluye suministro de piezas nuevas Suministro y aplicación de Pintura vinilo tipo 1 dos manos sobre Pañete liso Sobre muros 1:4, de hasta 3 cm, incluye filos y dilataciones. Incluye Mano de Obra, Materiales, herramientas y equipos para su correcta instalación. Suministro e instalación de cielo raso en PVC M2 434.57 $ 36,326.50 $ 15,786,407 ARQ 10.25 Suministro y | J13: 803056800 | K13: =IF(F13>0,VLOOKUP(YEAR(F13),SMMLV!A:B,2,FALSE),0) -> 877802 | L13: =IF(AND(J13>=$F$6,K13>0),J13/K13*C13,0) -> 914.84959 | M13: 1 | N13: 72152200 72152300 72152500 72151500 72151900 72152000 | O13: CUMPLE | P13: Se aclara que la certificación es de INGENIUS que corresponde a uno de los consorciados con una participación del 34% . De acuerdo al la propuesta presentada por el oferente en la constitución consorcial. Una vez revisada la información de la experiencia, se puede evidenciar que en el FORMATO N°. 6 EXPERIENCIA ESPECÍFICA DEL OFERENTE se relaciona el valor del contrato por la suma de $803,056,800 mientras que en el documento de certificación de contrato expedido por una empresa privada el 30 de noviembre de 2020 se dispone que el valor del contrato es la suma de $803,056,800 el cual coincide con el valor ejecutado descrito en el acta de recibo final del contrato. Así las cosas este valor expresado en SMMLV corresponde a 914,85
L14: =SUM(L11:L13) -> 11656.055
L15: CUMPLE
A17: No. | B17: 2 | C17: OFERENTE: | D17: =VLOOKUP(B17,Directorio!$B$4:$O$9,3,FALSE) -> INGEBYP SAS - FNA | O17: RESULTADO DE LA VERIFICACIÓN DOCUMENTAL | P17: =+L23 -> CUMPLE
A18: # | B18: Contratante | C18: % Part Ejecución | D18: Contratista | E18: Objeto | F18: Fecha Finalización | G18: Valor Contrato us$ | H18: TRM (Si aplica) | I18: Actividades | J18: Valor Contrato | K18: SMMLV para Cálculo | L18: Valor Contrato en SMMLV | M18: Inscripción en el RUP | N18: Código UNSPSC | O18: CUMPLE/ NO CUMPLE | P18: Observaciones
A19: 1 | B19: SECRETARIA DE EDUCACION DISTRITAL | C19: 0.5 | D19: CONSORCIO CLB CONSTRUCCIONES (CONSTRUCTORA LANDA S.A.S y INGEBYP S.A.S) | E19: EJECUCIÓN DE LA CONSTRUCCION DE LA NUEVA PLANTA FISICA Y CERRAMIENTO EN EL PREDIO DENOMINADO SIERRA MORENA PARQUE, UBICADO EN LA LOCALIDAD 19 – CIUDAD BOLIVAR DEL DISTRITO CAPITAL, DE ACUERDO CON LOS PLANOS Y ESPECIFICACIONES ENTREGADOS POR SECRETARIA DE EDUCACION DEL DISTRITO. | F19: 44260 | I19: Construcción de mampostería, mampostería liviana, red agua potable, puntos hidráulicos, instalaciones sanitarias, entre otros. | J19: 27344355409 | K19: =IF(F19>0,VLOOKUP(YEAR(F19),SMMLV!A:B,2,FALSE),0) -> 908526 | L19: =IF(AND(J19>=$F$6,K19>0),J19/K19*C19,0) -> 15048.747 | M19: 99 | N19: 72102900-72152000-72152300-72153000-72153500-72153200 | O19: CUMPLE | P19: Una vez revisada la información se evidencia el documento: "1 CERTIFICACION CONSORCIO CLB CONSTRUCCIONES AREAS" donde se observa la participación un contrato para la ejecución de la construcción y cerramiento del parque sierra morena, suscrito a nombre de CONSORCIO CLB CONSTRUCCIONES por un valor total de $ 27.344,355,409, conformado por INGEBYP SAS, con una participación del 50% y CONSTRUCTORA LANDA SAS con una participación del 50%, correspondiendo a $ 13,672,176,100. Así las cosas este valor expresado en SMMLV corresponde a 15,048,75 Por otra parte en el documento "RUP INGEBYP NOV_1" se realizó la revisión para corroborar el valor en SMMLV y el consecutivo del reporte del contrato en El RUP localizado en la página 344. Encontrando coherencia en la información aportada.
A20: 2 | B20: DIRECCIÓN ADMINISTRATIVA Y FINANCIERA DE LA POLICÍA NACIONAL | C20: 1 | D20: INGEBYP S.A.S | E20: MANTENIMIENTO INSTALACIONES CENTRO AUTOMÁTICO DE DESPACHO C.A.D LA POLICÍA METROPOLITANA DE BOGOTÁ, A PRECIOS UNITARIOS FIJOS SIN FÓRMULA DE REAJUSTE Y SUMINISTRO E INSTALACIÓN DE MOBILIARIO. | F20: 42165 | I20: Demolición mampostería o placa existente, acabado de pisos, carpinteria metálica y en madera, sistema hidrosanitario, instalaciones eléctricas suministro e instalación. entre otros. | J20: 605804855 | K20: =IF(F20>0,VLOOKUP(YEAR(F20),SMMLV!A:B,2,FALSE),0) -> 644350 | L20: =IF(AND(F20>=$L$6,J20>0),J20/K20*C20,0) -> 940.1798 | M20: 88 | N20: 72103300-72151100-72151900-72152000-72152100-81101500 | O20: CUMPLE | P20: Una vez revisada la información se evidencia el documento: "2 CERTIFICACION" donde se observa un contrato para el "Mantenimiento de las Instalaciones Centro automático de despacho C.A.D de la Policía Metropolitana de Bogotá", suscrito a nombre de INGEBYP S.A.S. por un valor total de $ 605.804.855. Así las cosas este valor expresado en SMMLV corresponde a 940,18 Por otra parte para certificar el valor y el consecutivo del reporte del contrato se pudo encontrar en el documento "RUP INGEBYP NOV_1" donde se encuentra El RUP localizado en la página 294. Encontrando coherencia en la información aportada.
A21: 3 | B21: SECRETARIA DE EDUCACION DISTRITAL | C21: 0.5 | D21: CONSORCIO BCL CONSTRUCCIONES (CONSTRUCTORA LANDA S.A.S y INGEBYP S.A.S) | E21: Ejecución de obra nueva para el colegio la felicidad, de la localidad 9 Fontibón, identificado con el CPF 925 de acuerdo con los planos y especificaciones entregados por la Secretaría de Educación del Distrito | F21: 42950 | I21: Ejecución de actividades como cimentaciones,desagues,mamposteria, Instalaciones hidrosanitarias, pañetes, pisos, zocalos, carpinteria, enchapes, iluminación, instalaciones de red hidraulica y contraincendios, paruqueaderos, andenes y rampas de acceso. entre otros. | J21: 21207214785 | K21: =IF(F21>0,VLOOKUP(YEAR(F21),SMMLV!A:B,2,FALSE),0) -> 737717 | L21: =IF(AND(F21>=$L$6,J21>0),J21/K21*C21,0) -> 14373.544 | M21: 92 | N21: 72103300-72151100-72101500-72102900-72152000-72152100 | O21: CUMPLE | P21: Una vez revisada la información se evidencia el documento: "3 CERTIFICACION COLEGIO LA FELICIDAD 2021 NSR" donde se observa la participación en un contrato suscrito a nombre de CONSORCIO BCL CONSTRUCCIONES por un valor total ejecutado de $ 21,207,214,785 conformado por INGEBYP SAS, con una participación del 50% y CONSTRUCTORA LANDA SAS. con una participación del 50%, correspondiendo a $10,603,607,393 así las cosas este valor expresado en SMMLV corresponde a 14,373,54 Para verificar el valor y el consecutivo del reporte del contrato, se revisó el documento "RUP INGEBYP NOV_1" en la página 311. Al comparar el valor ejecutado del contrato expresado en SMMLV en el RUP, con las certificaciones enviadas (ACTA DE AVANCE FINAL Y EL FORMATO 6), se identificó una inconsistencia. Los documentos enviados reflejan el valor total del contrato ($21,207,214,908) en lugar del valor total ejecutado ($ 21,207,214,785 ).
L22: =SUM(L19:L21) -> 30362.47
L23: CUMPLE
H24: =COUNTIF(#REF!,"Vo.Bo.") -> #REF!
A26: No. | B26: 3 | C26: OFERENTE: | D26: =VLOOKUP(B26,Directorio!$B$4:$O$9,3,FALSE) -> CONSORCIO 2024 FNA | O26: RESULTADO DE LA VERIFICACIÓN DOCUMENTAL | P26: RECHAZADO CAUSAL 1
A27: # | B27: Contratante | C27: % Part Ejecución | D27: Contratista | E27: Objeto | F27: Fecha Finalización | G27: Valor Contrato us$ | H27: TRM (Si aplica) | I27: Actividades | J27: Valor Contrato | K27: SMMLV para Cálculo | L27: Valor Contrato en SMMLV | M27: Inscripción en el RUP | N27: Código UNSPSC | O27: CUMPLE/ NO CUMPLE | P27: Observaciones
A28: 1 | B28: Instituto Distrital de Patrimonio Cultural | C28: 0.85 | D28: CONSORCIO CONCORDIA 2015 | E28: Ejecución de la primera etapa de obra, bajo la modalidad de precios unitarios fijos sin fórmula de reajuste, para la intervención de reforzamiento estructural de la Plaza de Mercado de La Concordia, la construcción de la Galería Santafé y su entorno inmediato, ubicada en la carrera 1 B# 14 - 62 (antigua) - carrera 1 B# 12C - 62 (nueva). De la ciudad de Bogotá D.C | F28: 43039 | I28: • Reforzamiento estructural • Restauración de mampostería. • Restauración de cerchas. • Cambio de manto de cubierta. • Construcción de la galería de arte Santafé. • Construcción de muros de contención. • Caisson. • Cimentación profunda con micropilotes y cimentación superficial con losa de subpresión conformada por vigas y placa de concreto. • Cerramiento de fachadas • Acabado piso de ladrillo cocido tipo adoquín pegado con mortero. | J28: 8000427403 | K28: =IF(F28>0,VLOOKUP(YEAR(F28),SMMLV!A:B,2,FALSE),0) -> 737717 | L28: =IF(AND(F28>=$L$6,J28>0),J28/K28*C28,0) -> 9218.1193 | M28: RUP JORGE ENRIQUE MARTÍNEZ FONSECA: 104 - RUP MARTÍNEZ OSPINA S.A.S.: 5 | N28: RUP MARTÍNEZ OSPINA S.A.S.: 72101500, 72102900, 72103300, 72151100, 72151500,72151900 y 72152300 - RUP JORGE ENRIQUE MARTÍNEZ FONSECA: 72151500, 72151900,72152300, 72152500, 72152700 y 72153600. | O28: CUMPLE | P28: La experiencia se acredita con un contrato suscrito entre el INSTITUTO DISTRITAL DE PATRIMONIO CULTURAL y el CONSORCIO CONCORDIA 2015, el cual a su vez estuvo compuesto por JORGE ENRIQUE MARTÍNEZ FONSECA, con un porcentaje de participación del 70% y MARTÍNEZ OSPINA S.A.S. con un porcentaje de participación de 15%, para un total de 85%. Las actividades del contrato pudieron ser validadas de acuerdo con la información contenida en la certificación emitida por la interventoría del contrato de obra llevada a cabo por el CONSORCIO SAN ANDRÉS IPC, puesto que los documentos de actividades y cantidades de obra aportados se tornan ilegibles.
A29: 2 | B29: FONDO FINANCIERO DE PROYECTOS DE DESARROLLO (FONADE) | C29: 0.51 | D29: CONSORCIO CONCORDIA 2014 | E29: EJECUCIÓN DE LAS OBRAS DE RESTAURACIÓN, REFORZAMIENTO, ADECUACIÓN Y MANTENIMIENTO DEL CLAUSTRO NUESTRA SEÑORA DE LAS AGUAS LOCALIZADA EN LA CIUDAD DE BOGOTA D.C.", de acuerdo con la descripción, especificaciones y demás condiciones establecidas en las Reglas de Participación, Adenda(s), los documentos e información técnica suministrada por FONADE y la oferta presentada por EL CONTRATISTA, todo lo cual hace parte integral del contrato. | F29: 43208 | I29: • Cimientos zona patrimonial • Estructura de refuerzo • Reforzamiento edificación patrimonial • Cubierta • Mampostería y pañetes. • Cielorrasos • Pisos y guarda escobas zona patrimonial. • Pintura • Enchapes en cerámica • Aparatos sanitarios. • Carpintería en madera y metálica. • Instalaciones hidrosanitarias. | J29: 13756718579 | K29: =IF(F29>0,VLOOKUP(YEAR(F29),SMMLV!A:B,2,FALSE),0) -> 781242 | L29: =IF(AND(F29>=$L$6,J29>0),J29/K29*C29,0) -> 8980.4778 | M29: 105 | N29: 72101500,72102900, 72103300, 72151100, 72151500 y 72151900. | O29: NO CUMPLE | P29: No se aportó certificación de contrato, sino el acta de liquidación del contrato. Sin embargo, el documento faltante es el que se requiere para acreditar la experiencia conforme a lo descrito en el punto 4.2.2.1 de las reglas de participación, el cual reza lo siguiente: “El oferente deberá acreditar su experiencia con máximo tres (3) certificaciones de contratos terminados o ejecutados o liquidados cuyos objetos contractuales o alcances u obligaciones comprendan actividades de mantenimiento y/o reparaciones locativas y/o remodelación y/o adecuación y/o ampliación y/o construcción y/o rehabilitación y/o mejoramiento de edificaciones institucionales o empresariales o corporativas o comerciales a la fecha de cierre del proceso de selección cuya sumatoria sea igual o superior al 100% del POE expresado en SMMLV.” No obstante, cuando el proponente pretenda suplir el requisito de aportar la certificación de contrato, deberá remitir copia del contrato y como anexo el acta de liquidación, conforme a lo contemplado en el numeral 11 del punto 4.2.3 de las Reglas de Participación: “11. Se acepta como equivalente a la certificación de cumplimiento de los contratos ejecutados, copia de estos, siempre que se acompañen con la respectiva acta de liquidación, o de recibo final y en ellos conste mínimamente la información requerida en los literales a) al h) del presente numeral”. En ese sentido, es claro que el proponente no aportó la certificación de contrato y tampoco remitió copia del contrato para suplir el requisito.
A30: 3 | B30: ALCALDÍA DE MANIZALES | C30: 0.6 | D30: CONSORCIO 2021 | E30: FASE I DE REFORZAMIENTO ESTRUCTURAL, RESTAURACIÓN INTEGRAL Y AMPLIACIÓN DEL INMUEBLE DENOMINADO CONCENTRACIÓN ESCOLAR JUAN XXIII DEL MUNICIPIO DE MANIZALES | F30: 45443 | I30: • Suministro, conformación e instalación elementos en madera para construcción. • Placa base para acabados de pisos baños conformada con placas de fibrocemento. • Pañete exterior impermeabilizado para recubrimiento de muros. • Suministro conformación e instalación elementos en madera para construcción de cercha compuesta en madera entre pórticos. • Conexión acometida hidráulica. • Construcción de sumideros. • Bajante de agua lluvia en tubería. • Suministro e instalación de luminaria LED. • Suministro e instalación de alimentador desde el medidor hasta el tablero de distribución. • Suministro e instalación de tablero de distribución general. | J30: 18539397541 | K30: =IF(F30>0,VLOOKUP(YEAR(F30),SMMLV!A:B,2,FALSE),0) -> 1300000 | L30: =IF(AND(F30>=$L$6,J30>0),J30/K30*C30,0) -> 8556.645 | M30: RUP JORGE ENRIQUE MARTÍNEZ FONSECA: 115 - RUP MARTÍNEZ OSPINA S.A.S.: 9. | N30: RUP JORGE ENRIQUE MARTÍNEZ FONSECA: 115 - 72101500, 72102900, 72103300, 72151100, 72151500 y 72151900 - RUP MARTÍNEZ OSPINA S.A.S.: 9 - 72101500, 72152000, 72102900, 72103300, 72151100 y 80101600. | O30: NO CUMPLE | P30: No se aportó certificación de contrato, sino el acta recibo final. Sin embargo, el documento faltante es el que se requiere para acreditar la experiencia conforme a lo descrito en el punto 4.2.2.1 de las reglas de participación, el cual reza lo siguiente: “El oferente deberá acreditar su experiencia con máximo tres (3) certificaciones de contratos terminados o ejecutados o liquidados cuyos objetos contractuales o alcances u obligaciones comprendan actividades de mantenimiento y/o reparaciones locativas y/o remodelación y/o adecuación y/o ampliación y/o construcción y/o rehabilitación y/o mejoramiento de edificaciones institucionales o empresariales o corporativas o comerciales a la fecha de cierre del proceso de selección cuya sumatoria sea igual o superior al 100% del POE expresado en SMMLV.” No obstante, cuando el proponente pretenda suplir el requisito de aportar la certificación de contrato, deberá remitir copia del contrato y como anexo el acta de liquidación o el acta de recibo final, conforme a lo contemplado en el numeral 11 del punto 4.2.3 de las Reglas de Participación: “11. Se acepta como equivalente a la certificación de cumplimiento de los contratos ejecutados, copia de estos, siempre que se acompañen con la respectiva acta de liquidación, o de recibo final y en ellos conste mínimamente la información requerida en los literales a) al h) del presente numeral”. En ese sentido, es claro que el proponente no aportó la certificación de contrato y tampoco remitió copia del contrato para suplir el requisito.
L31: =SUM(L28:L30) -> 26755.242
L32: CUMPLE
H33: =COUNTIF(#REF!,"Vo.Bo.") -> #REF!
A35: No. | B35: 4 | C35: OFERENTE: | D35: =VLOOKUP(B35,Directorio!$B$4:$O$9,3,FALSE) -> CONSORCIO FONDO NACIONAL | O35: RESULTADO DE LA VERIFICACIÓN DOCUMENTAL | P35: =+L41 -> NO CUMPLE
A36: # | B36: Contratante | C36: % Part Ejecución | D36: Contratista | E36: Objeto | F36: Fecha Finalización | G36: Valor Contrato us$ | H36: TRM (Si aplica) | I36: Actividades | J36: Valor Contrato | K36: SMMLV para Cálculo | L36: Valor Contrato en SMMLV | M36: Inscripción en el RUP | N36: Código UNSPSC | O36: CUMPLE/ NO CUMPLE | P36: Observaciones
A37: 1 | B37: DEPARTAMENTO DE BOLIVAR | D37: CONSORCIO COLEGIOS DEL SUR Conformación (OBRAS MAQUINARIA Y EQUIPOS TRES A S.A.S. - NIT 830.031.936-2 - PARTICIPACIÓN 20%) (MARTINEZ CABALLERO S.A.S - NIT 890.403.530-1 - PARTICIPACIÓN 80%) | E37: CONSTRUCCION DE UN MEGA COLEGIO EN EL MUNICIPIO DE SANTA ROSA DEL SUR EN LA INSTITUTION EDUCATIVA MARIA INMACULADA BAJO LOS PARAMETROS DE LA NTC 4595 DEL ICONTEC PARA AUMENTAR LOS INDICADORES DE COBERTURA EDUCATIVA OFICIAL. | F37: 42062 | I37: Cimentación Desagues e instalaciones subterraneas Estructuras en concreto y metalicas Mamposteria Prefabricados Instalación hidrosanitarias y de gas Instalaciones electricas Pañete Pisos Cubiertas e impermeabilizaciones Carpinteria metalica Enchapes Iluminación Aparatos sanitarios y accesorios Cielo rasos Pintura Cerraduras y vidrios | J37: 11278811555 | K37: =IF(F37>0,VLOOKUP(YEAR(F37),SMMLV!A:B,2,FALSE),0) -> 644350 | M37: 53 | N37: 72101500 72102900 72103300 72151100 72151500 72151900 | O37: NO CUMPLE | P37: Validando los documentos presentados por el oferente se presenta el siguiente resumen. Considerando la información anterior y de conformidad con el numeral 4.2.3. ACREDITACIÓN EXPERIENCIA DEL OFERENTE “12. La experiencia de los socios de una persona jurídica se podrá acumular a la de esta cuando no cuente con más de tres (3) años de constituida. La acreditación de esta experiencia se sujetará a las exigencias en los numerales anteriores. El oferente cuya constitución sea inferior a tres (3) años, podrá acreditar la experiencia solicitada, aportando certificaciones de los socios, accionistas o constituyentes, conforme a lo establecido en el numeral 2.5 del artículo 2.2.1.1.1.5.2 del Decreto 1082 de 2015.”, es preciso señalar que los integrantes del proponente plural “GCI GRUPO DE CONSTRUCCIONES E INGENIERIA SAS ZOMAC” y “GEOESTRUCTURAL E INGENIERIA S.A.S” tienen un periodo de constitución que supera los tres años, de modo que se encuentran por fuera del criterio definido por las reglas de participación y el Decreto 1082 de 2015 para que la experiencia de sus socios sea válida, en consecuencia, la experiencia acreditada no pueden ser tenidas en cuenta para la acreditación de la experiencia en el presente proceso contractual. Ahora, si bien la experiencia que pretende acreditar Industrias y Transportes SAS ZESE - INTRASP S.A.S ZESE por intermedio de su socio cumple, lo cierto es que el proponente plural no acredita la experiencia de todos sus integrantes en los terminos del numeral 8 del acapite 4.2.3 de las Reglas de Participación que indica "en caso de oferentes plurales todos los integrantes deberán aportar experiencia"
A38: 2 | B38: DEPARTAMENTO DE CORDOBA - SECRETARIA DE INFRAESTRUCTURA | D38: CONSORCIO SAN JERONIMO Conformación (KATHLEEN DIAZ HOYOS - PARTICIPACIÓN 40%) (OBRAS MAQUINARIA Y EQUIPOS TRES A S.A.S - NIT 830.031.936-2 - PARTICIPACIÓN 60%) | E38: MEJORAMIENTO DE LAS INSTALACIONES DEL HOSPITAL SAN JERONIMO DE MONTERIA | F38: 43788 | J38: 11352756190 | K38: =IF(F38>0,VLOOKUP(YEAR(F38),SMMLV!A:B,2,FALSE),0) -> 828116 | M38: 143 | N38: 72101500 72102900 72103300 72151900 72152700 81101500 | O38: NO CUMPLE
A39: 3 | B39: FONDO DE BIENESTAR SOCIAL DE LA CONTRALORIA GENERAL DE LA REPUBLICA | D39: CONSORCIO INTERLOMAS 02 Conformación (JUAN CARLOS LEDESMA GUTIERREZ - PARTICIPACIÓN 50%) (OBRAS MAQUINARIA Y EQUIPOS TRES A S.A.S - NIT 830.031.936-2 - PARTICIPACIÓN 50%) | E39: CONTRATAR EL REFORZAMIENTO ESTRUCTURAL Y LA ADECUACION DE LA EDIFICACION DEL COLEGIO PARA HIJOS DE EMPLEADOS DE LA CONTRALORIA GENERAL DE LA REPUBLICA | F39: 42292 | J39: 1211780568 | K39: =IF(F39>0,VLOOKUP(YEAR(F39),SMMLV!A:B,2,FALSE),0) -> 644350 | M39: 136 | N39: 72101500 72102900 72103300 72151100 72151500 72151900 | O39: NO CUMPLE
L40: =SUM(L37:L39) -> 0
L41: NO CUMPLE
A44: No. | B44: 5 | C44: OFERENTE: | D44: =VLOOKUP(B44,Directorio!$B$4:$O$9,3,FALSE) -> UNINGECOL SA | O44: RESULTADO DE LA VERIFICACIÓN DOCUMENTAL | P44: RECHAZADA CAUSAL 1
A45: # | B45: Contratante | C45: % Part Ejecución | D45: Contratista | E45: Objeto | F45: Fecha Finalización | G45: Valor Contrato us$ | H45: TRM (Si aplica) | I45: Actividades | J45: Valor Contrato | K45: SMMLV para Cálculo | L45: Valor Contrato en SMMLV | M45: Inscripción en el RUP | N45: Código UNSPSC | O45: CUMPLE/ NO CUMPLE | P45: Observaciones
A46: 1 | B46: HOSPITAL DEPARTAMENTAL DE VILLAVICENCIO | C46: 0.49 | D46: UNION TEMPORAL MANTENIMIENTO INTEGRAL 2019 Conformación (UNINGECOL S.A - NIT 900.176.059-4 - PARTICIPACIÓN 49%) (CARLOS EDUARDO PULIDO GOMEZ - PARTICIPACIÓN 49%) (PEDRAZA INGENIERIA S.A.S. - NIT 900.546.289-1 - PARTICIPACIÓN 2%) | E46: “SERVICIO DE MANTENIMIENTO PREVENTIVO Y/O CORRECTIVO DE LA INFRAESTRUCTURA HOSPITALARIA INCLUYENDO MANTENIMIENTO A LAS INSTALACIONES ELECTRICAS, HIDRAULICAS, MECANICAS, DE VAPOR Y AREAS ADYACENTES, EQUIPOS DE USO INDUSTRIAL (PLANTAS ELECTRICAS, CALDERAS, BOMBAS DE AGUA, EQUIPOS DE REFRIGERACION, TORRES, ASCENSORES ENTRE OTROS) Y MOBILIARIO PARA USO ADMINISTRATIVO Y ASISTENCIAL DEL HOSPITAL DEPARTAMENTAL DE VILLAVICENCIO E.S.E” | F46: 43830 | I46: Mantenimiento a las instalaciones eléctricas, hidráulicas, mecánicas, de vapor y áreas adyacentes, equipos de uso industrial (plantas eléctricas, calderas, bombas de agua, equipos de refrigeración, torres, ascensores entre otros) y mobiliario para uso administrativo y asistencial. | J46: 2476672784 | K46: =IF(F46>0,VLOOKUP(YEAR(F46),SMMLV!A:B,2,FALSE),0) -> 828116 | M46: 146 | N46: 72 15 11 00 72 15 15 00 72 15 19 00 72 15 21 00 72 15 23 00 72 15 24 00 | O46: NO CUMPLE | P46: % Part Ejecución: El oferente acredita el 49% de participación en la certificación aportada incumpliendo con el numeral 4.2.3. ACREDITACIÓN EXPERIENCIA DEL OFERENTE: “17. Cuando el oferente pretenda acreditar experiencia adquirida a través de la prestación de servicios por medio de uniones temporales o consorcios, deberá presentar el documento idóneo en el que se certifique un porcentaje de participación en la mencionada estructura plural, igual o superior al 50% y el cumplimiento de las funciones asignada. En todo caso, el valor del contrato con el cual se pretenda acreditar la experiencia será de acuerdo con el porcentaje de participación acreditado en dicha estructura plural.”
...

Sheet UNSPSC
A1: Exp. Proponente'!A1
A2: Clasificación UNSPSC | B2: Segmento | C2: Familia | D2: Clase
A3: 72101500 | B3: Servicios de edificación, construcción de instalaciones y mantenimiento | C3: Servicios de mantenimiento y reparaciones de construcciones e instalaciones | D3: Servicios de apoyo para la construcción
A4: 72102900 | B4: Servicios de edificación, construcción de instalaciones y mantenimiento | C4: Servicios de mantenimiento y reparaciones de construcciones e instalaciones | D4: Servicios de mantenimiento y reparación de instalaciones
A5: 72103300 | B5: Servicios de edificación, construcción de instalaciones y mantenimiento | C5: Servicios de mantenimiento y reparaciones de construcciones e instalaciones | D5: Servicios de mantenimiento y reparación de infraestructura
A6: 72151100 | B6: Servicios de edificación, construcción de instalaciones y mantenimiento | C6: Servicio de mantenimiento y construcción de comercio especializado | D6: Servicios de construcción de plomería
A7: 72151500 | B7: Servicios de edificación, construcción de instalaciones y mantenimiento | C7: Servicios de mantenimiento y construcción de comercio especializado | D7: Servicios de sistemas eléctricos
A8: 72151900 | B8: Servicios de edificación, construcción de instalaciones y mantenimiento | C8: Servicios de mantenimiento y construcción de comercio especializado | D8: Servicios de albañilería y mampostería
A9: 72152000 | B9: Servicios de edificación, construcción de instalaciones y mantenimiento | C9: Servicios de mantenimiento y construcción de comercio especializado | D9: Servicios de pañetado y drywall
A10: 72152100 | B10: Servicios de edificación, construcción de instalaciones y mantenimiento | C10: Servicios de mantenimiento y construcción de comercio especializado | D10: Servicios acústicos y de aislamiento
A11: 72152300 | B11: Servicios de edificación, construcción de instalaciones y mantenimiento | C11: Servicios de mantenimiento y construcción de comercio especializado | D11: Servicios de carpintería
A12: 72152400 | B12: Servicios de edificación, construcción de instalaciones y mantenimiento | C12: Servicios de mantenimiento y construcción de comercio especializado | D12: Servicio de montaje e instalación de ventanas y puertas
A13: 72152500 | B13: Servicios de edificación, construcción de instalaciones y mantenimiento | C13: Servicios de mantenimiento y construcción de comercio especializado | D13: Servicio de instalación de pisos
A14: 72152600 | B14: Servicios de edificación, construcción de instalaciones y mantenimiento | C14: Servicios de mantenimiento y construcción de comercio especializado | D14: Servicios de techado y paredes externas y láminas de metal
... A21: 81101500 | B21: Servicios basados en ingeniería, investigación y tecnología | C21: Servicios profesionales de ingeniería y arquitectura | D21: Ingeniería civil y arquitectura

Sheet Req Técnicos
B1: 1 | C1: =VLOOKUP(B1,Directorio!$B$4:$O$9,3,FALSE) -> CONSORCIO OMNIA | E1: =1+B1 -> 2 | F1: =VLOOKUP(E1,Directorio!$B$4:$O$9,3,FALSE) -> INGEBYP SAS - FNA | H1: 3 | I1: =VLOOKUP(H1,Directorio!$B$4:$O$9,3,FALSE) -> CONSORCIO 2024 FNA | K1: 4 | L1: =VLOOKUP(K1,Directorio!$B$4:$O$9,3,FALSE) -> CONSORCIO FONDO NACIONAL | N1: 5 | O1: =VLOOKUP(N1,Directorio!$B$4:$O$9,3,FALSE) -> UNINGECOL SA | Q1: 6 | R1: =VLOOKUP(Q1,Directorio!$B$4:$O$9,3,FALSE) -> CONSTRUCCION Y MANTENIMIENTO CASTILLA Y LEON G&G SDAD LTDA | T1: 7 | U1: =VLOOKUP(T1,Directorio!$B$4:$O$13,3,FALSE) -> INSOL | W1: 8 | X1: =VLOOKUP(W1,Directorio!$B$4:$O$13,3,FALSE) -> DIARQCO CONSTRUCTORES S.A.S. | Z1: 9 | AA1: =VLOOKUP(Z1,Directorio!$B$4:$O$13,3,FALSE) -> UT AMF-ELATIN | AC1: 10 | AD1: =VLOOKUP(AC1,Directorio!$B$4:$O$13,3,FALSE) -> LIMACOR MY S.A.S.
B2: =VLOOKUP(B1,Directorio!$B$4:$O$9,13,FALSE) -> 0.34 | E2: =VLOOKUP(E1,Directorio!$B$4:$O$9,13,FALSE) -> 0 | H2: =VLOOKUP(H1,Directorio!$B$4:$O$9,13,FALSE) -> 0 | K2: =VLOOKUP(K1,Directorio!$B$4:$O$9,13,FALSE) -> 0.1 | N2: =VLOOKUP(N1,Directorio!$B$4:$O$9,13,FALSE) -> 0 | Q2: =VLOOKUP(Q1,Directorio!$B$4:$O$9,13,FALSE) -> 0 | T2: =VLOOKUP(T1,Directorio!$B$4:$O$13,13,FALSE) -> 0 | W2: =VLOOKUP(W1,Directorio!$B$4:$O$13,13,FALSE) -> 0 | Z2: =VLOOKUP(Z1,Directorio!$B$4:$O$13,13,FALSE) -> 0 | AC2: =VLOOKUP(AC1,Directorio!$B$4:$O$13,13,FALSE) -> 0
A5: DOCUMENTO | B5: SI | C5: NO | D5: OBSERVACIONES | E5: SI | F5: NO | G5: OBSERVACIONES | H5: SI | I5: NO | J5: OBSERVACIONES | K5: SI | L5: NO | M5: OBSERVACIONES | N5: SI | O5: NO | P5: OBSERVACIONES | Q5: SI | R5: NO | S5: OBSERVACIONES | T5: SI | U5: NO | V5: OBSERVACIONES | W5: SI | X5: NO | Y5: OBSERVACIONES | Z5: SI | AA5: NO | AB5: OBSERVACIONES | AC5: SI | AD5: NO | AE5: OBSERVACIONES
A6: REQUISITOS HABILITANTES
A7: 4.2.1. MANIFESTACIÓN DE ACEPTACIÓN DE REQUERIMIENTOS MÍNIMOS OBLIGATORIOS Y PERSONAL MÍNIMO.
A8: El proponente deberá manifestar mediante la suscripción por el Representante Legal del FORMATO No. 13 - MANIFESTACIÓN DE ACEPTACIÓN ASPECTOS TECNICOS Y PERSONAL MÍNIMO, que entiende, acepta y cumple cada uno de los requerimientos técnicos mínimos obligatorios exigidos en el presente pliego, así como los respectivos anexos adjuntos en el presente proceso, los cuales han sido dados a conocer, sin perjuicio de que en la ejecución del contrato se acuerden entre las partes requerimientos técnicos adicionales a los establecidos en el proceso de selección. | B8: x | D8: APORTA EL FORMATO EN EL ARCHIVO N°29 (ACEPTACIÓN ANEXOS TÉCNICOS Y PERSONAL MINIMO) | E8: x | G8: SE APORTÓ EN EL FORMATO N°13 | I8: X | J8: No se aportó documento diligenciado ni firmado por parte de quien presenta la oferta. Solo se adjuntó el borrador del formato en word sin diligenciar. | K8: X | M8: SE APORTÁ EL FORMATO No 13 (MANIFESTACION DE ACEPTACION ANEXOS TÉCNICOS Y PERSONAL MINIMO REQUERIDO). | N8: X | P8: SE APORTÁ EL FORMATO No 13 (MANIFESTACION DE ACEPTACION ANEXOS TÉCNICOS Y PERSONAL MINIMO REQUERIDO). | Q8: X | S8: SE APORTÁ EL FORMATO No 13 (MANIFESTACION DE ACEPTACION ANEXOS TÉCNICOS Y PERSONAL MINIMO REQUERIDO). | T8: X | V8: APORTA EL FORMATO EN EL ARCHIVO N°19 (ACEPTACIÓN TÉCNICOS) | W8: X | Y8: SE APORTÁ EL FORMATO No 13 (MANIFESTACION DE ACEPTACION ANEXOS TÉCNICOS Y PERSONAL MINIMO REQUERIDO). | Z8: X | AB8: SE APORTA EL DOCUMENTO NOMBRADO FORMATO 13 ACEPTACION | AC8: X | AE8: SE APORTA EL DOCUMENTO NOMBRADO DF FORMATO 13 (MANIFESTACION DE ACEPTACION ANEXOS TÉCNICOS Y PERSONAL MINIMO REQUERIDO).
B9: 1 | D9: CUMPLE | E9: 2 | G9: CUMPLE | H9: 3 | J9: NO CUMPLE | K9: =+K1 -> 4 | M9: CUMPLE | N9: =+N1 -> 5 | P9: CUMPLE | Q9: =+Q1 -> 6 | S9: CUMPLE | T9: =+T1 -> 7 | V9: CUMPLE | W9: =+W1 -> 8 | Y9: CUMPLE | Z9: =+Z1 -> 9 | AB9: CUMPLE | AC9: =+AC1 -> 10 | AE9: CUMPLE

Sheet Conclusión Habilitantes
A2: =General!E1 -> FONDO NACIONAL DEL AHORRO
A3: INFORME DE VERIFICACIÓN DE REQUISITOS DE CARÁCTER TÉCNICO FINAL
A4: =General!B1 -> FNA-VGHA-CP-015-2024
A6: =General!B2 -> REALIZAR LAS REPARACIONES LOCATIVAS DE LA INFRAESTRUCTURA FÍSICA DE LA SEDE PRINCIPAL - CNA DEL FONDO NACIONAL DEL AHORRO S.A. | N6: º
A8: Como producto de la verificación de los Requisitos Técnicos, a la fecha del presente Informe el resultado es el siguiente:
A12: INGRID LORENA MENESES GELVEZ | D12: JOSE RICARDO VALDERRAMA ESPITIA | F12: EDGAR ENRIQUE ESPITIA GOMEZ
A13: Revisión Técnica | D13: Revisión Técnica | F13: Revisión Técnica
F14: #VALUE!
A15: LAURA CRISTINA GARCIA LEDESMA | D15: ANA SOFIA GALLO TORO | F15: PEDRO JOSÉ PALACIO PARDO
A16: Revisión Técnica | D16: Revisión Técnica | F16: Revisión Técnica
A21: DIEGO FERNANDO NUÑEZ ALDANA
A22: Revisión Técnica
