Workbook
Name _Toc210551163: '1 LIMACOR'!#REF!
Name _Toc210551163: '10 CONS OMNIA'!#REF!
Name _Toc210551163: '2 UT AMF-ELATIN'!#REF!
Name _Toc210551163: '3 DIARQCO'!#REF!
Name _Toc210551163: '4 INSOL '!#REF!
Name _Toc210551163: '5 CASTILLA Y LEON'!#REF!
Name _Toc210551163: '6 UNINGECOL'!#REF!
Name _Toc210551163: '7 CONSORCIO FONDO NACIONAL'!#REF!
Name _Toc210551163: '8 CONSORCIO 2024 FNA'!#REF!
Name _Toc210551163: '9 INGEBYP'!#REF!
Name _Toc210551172: '1 LIMACOR'!#REF!
Name _Toc210551172: '10 CONS OMNIA'!#REF!
Name _Toc210551172: '2 UT AMF-ELATIN'!#REF!
Name _Toc210551172: '3 DIARQCO'!#REF!
Name _Toc210551172: '4 INSOL '!#REF!
Name _Toc210551172: '5 CASTILLA Y LEON'!#REF!
Name _Toc210551172: '6 UNINGECOL'!#REF!
Name _Toc210551172: '7 CONSORCIO FONDO NACIONAL'!#REF!
Name _Toc210551172: '8 CONSORCIO 2024 FNA'!#REF!
Name _Toc210551172: '9 INGEBYP'!#REF!
Name A: #REF!
Name A: #REF!
Name A: #REF!
Name A: #REF!
Name A: #REF!
Name A: #REF!
Name A: #REF!
Name A: #REF!
Name A: #REF!
Name A: #REF!
Name A: #REF!
Name A: #REF!
Name A: #REF!
Name A: #REF!
Name A: #REF!
Name A: #REF!
Name A: #REF!
Name AA: #REF!
Name AA: #REF!
Name AA: #REF!
Name AA: #REF!
Name AA: #REF!
Name AA: #REF!
Name AA: #REF!
Name AA: #REF!
Name AA: #REF!
Name AA: #REF!
Name AA: #REF!
Name AA: #REF!
Name AA: #REF!
Name AA: #REF!
Name AA: #REF!
Name AA: #REF!
Name AA: #REF!
Name class: #REF!
Name class: #REF!
Name class: #REF!
Name class: #REF!
Name class: #REF!
Name class: #REF!

Sheet CONSOLIDADO FINANCIERO
D1: EVALUACION FINANCIERA Y ECONOMICA PRELIMINAR
B3: CONSOLIDADO VERIFICACIÓN FINANCIERA
B5: OBJETO PROCESO | D5: REALIZAR LAS REPARACIONES LOCATIVAS DE LA INFRAESTRUCTURA FÍSICA DE LA SEDE PRINCIPAL - CNA DEL FONDO NACIONAL DEL AHORRO S.A. | L5: REALIZAR LAS REPARACIONES LOCATIVAS DE LA INFRAESTRUCTURA FÍSICA DE LA SEDE PRINCIPAL - CNA DEL FONDO NACIONAL DEL AHORRO S.A.
B6: NUMERO DE PROCESO | D6: FNA-VGHA-CP-015-2024
B7: PRESUPUESTO TOTAL | L7: 5282931966
B9: N° | C9: Proponente | E9: Capital de Trabajo | F9: Índice de Liquidez | G9: Nivel de Endeudamiento | H9: Razón de Cobertura de Intereses | I9: Rentabilidad sobre Patrimonio | J9: Rentabilidad sobre Activo | K9: Patrimonio | L9: Observaciones | M9: RESULTADOS DE INDICADORES FINANCIEROS Y CAPACIDAD ORGANIZACIONAL | N9: Observaciones | O9: RESULTADOS OFERTA ECONOMICA
B10: 1 | C10: =+'1 LIMACOR'!C8 -> LIMACOR MY S.A.S. 900126632 1 | E10: ='[2]2. ACTIVOS SAS'!$I$31 -> 50700205000 | F10: ='[2]2. ACTIVOS SAS'!$I$33 -> 2.2212881 | G10: ='[2]2. ACTIVOS SAS'!$I$35 -> 0.39225537 | H10: ='[2]2. ACTIVOS SAS'!$I$37 -> 5.7988596 | I10: ='[2]2. ACTIVOS SAS'!$I$39 -> 0.1111532 | J10: ='[2]2. ACTIVOS SAS'!$I$41 -> 0.067552758 | K10: ='[2]2. ACTIVOS SAS'!$I$43 -> 76747357000 | L10: =+'1 LIMACOR'!L31 -> El proponente cumple con los indicadores establecidos en las reglas de participación de conformidad con lo estabecido en el numeral 4.3 4.3. REQUISITOS MÍNIMOS HABILITANTES FINANCIEROS Y CAPACIDAD ORGANIZACIONAL de las reglas de participación | M10: =+'1 LIMACOR'!I45 -> CUMPLE | N10: El proponente cumple con lo establecido en el numeral 4.3.3. OFERTA ECONÓMICA de las reglas de partipación. | O10: ='[2]2. ACTIVOS SAS'!$I$45 -> CUMPLE
B11: 2 | C11: {=+'2 UT AMF-ELATIN'!C8:K8} -> UNIÓN TEMPORAL AMF-ELATIN | D11: 0 | E11: 0 | F11: 0 | G11: 0 | H11: 0 | I11: 0 | J11: 0 | K11: 0 | L11: =+'2 UT AMF-ELATIN'!L32 -> El proponente cumple con los indicadores establecidos en las reglas de participación de conformidad con lo estabecido en el numeral 4.3 4.3. REQUISITOS MÍNIMOS HABILITANTES FINANCIEROS Y CAPACIDAD ORGANIZACIONAL de las reglas de participación | M11: =+'2 UT AMF-ELATIN'!I46 -> CUMPLE | N11: El proponente cumple con lo establecido en el numeral 4.3.3. OFERTA ECONÓMICA de las reglas de partipación. | O11: ='[2]2. ACTIVOS SAS'!$I$45 -> CUMPLE
B12: 3 | C12: {=+'3 DIARQCO'!C8:K8} -> DIARQCO CONSTRUCTORES SAS NIT: 900185357 2 | D12: 0 | E12: 0 | F12: 0 | G12: 0 | H12: 0 | I12: 0 | J12: 0 | K12: 0 | L12: =+'3 DIARQCO'!L31 -> El proponente cumple con los indicadores establecidos en las reglas de participación de conformidad con lo estabecido en el numeral 4.3 4.3. REQUISITOS MÍNIMOS HABILITANTES FINANCIEROS Y CAPACIDAD ORGANIZACIONAL de las reglas de participación | M12: =+'3 DIARQCO'!I45 -> CUMPLE | N12: El proponente cumple con lo establecido en el numeral 4.3.3. OFERTA ECONÓMICA de las reglas de partipación. | O12: ='[2]2. ACTIVOS SAS'!$I$45 -> CUMPLE
B13: 4 | C13: {=+'4 INSOL '!C8:K8} -> INGENIERIA Y SOLUCIONES INSOL SAS N.I.T: 900.139.747-6 | D13: 0 | E13: 0 | F13: 0 | G13: 0 | H13: 0 | I13: 0 | J13: 0 | K13: 0 | L13: =+'4 INSOL '!L31 -> El proponente cumple con los indicadores establecidos en las reglas de participación de conformidad con lo estabecido en el numeral 4.3 4.3. REQUISITOS MÍNIMOS HABILITANTES FINANCIEROS Y CAPACIDAD ORGANIZACIONAL de las reglas de participación | M13: =+'4 INSOL '!I45 -> CUMPLE | N13: Se realiza la corrección aritmetica según lo establecido en el numeral 4.3.3. OFERTA ECONÓMICA de las reglas de partipación; el porponente dio respuesta afirmativa y acepto los valores unitarios y el valor total segun la correccion aritmetica realizada por la entidad. | O13: ='[2]2. ACTIVOS SAS'!$I$45 -> CUMPLE
B14: 5 | C14: {=+'5 CASTILLA Y LEON'!C8:K8} -> CONSTRUCCION Y MANTENIMIENTO CASTILLA Y LEON G&G S.L NIT:830.108.787 - 4 | D14: 0 | E14: 0 | F14: 0 | G14: 0 | H14: 0 | I14: 0 | J14: 0 | K14: 0 | L14: =+'5 CASTILLA Y LEON'!L31 -> El proponente cumple con los indicadores establecidos en las reglas de participación de conformidad con lo estabecido en el numeral 4.3 REQUISITOS MÍNIMOS HABILITANTES FINANCIEROS Y CAPACIDAD ORGANIZACIONAL de las reglas de participación | M14: =+'5 CASTILLA Y LEON'!I45 -> CUMPLE | N14: En respuesta a la observacion presentada por el proponente "Solicitamos sea habilitada nuestra propuesta economica" el comité evaluador indica: Como se indica en las reglas de participacion en el numeral 13 de las causales de rechazo "Cuando el Oferente, en la OFERTA ECONÓMICA, no diligencie los valores unitarios de la oferta según corresponda en la casilla determinada de uno o varios ítems, en el formato de OFERTA ECONÓMICA", adicional no siguio las instrucciones dadas para el diligenciamiento del formato No 9 numeral 2 "Asignar valor en las casillas "VALOR UNITARIO SIN IVA" y el porcentaje en "Administración", "Imprevistos" y "Utilidad". El valor del IVA se aplica sobre la Utilidad corresponde" Asi mismo, conforme a lo indicado en el literal g del numeral 4.3.3. OFERTA ECONÓMICA, de las reglas de participacion "Deberá diligenciar la totalidad de las casillas indicadas en el FORMATO No. 9." Dicho lo anterior no se acepta su observacion. | O14: RECHAZADO
B15: 6 | C15: =+'6 UNINGECOL'!C8 -> UNINGECOL S A NIT: 900.176.059 - 4 | L15: =+'6 UNINGECOL'!L31 -> El proponente cumple con los indicadores establecidos en las reglas de participación de conformidad con lo estabecido en el numeral 4.3 REQUISITOS MÍNIMOS HABILITANTES FINANCIEROS Y CAPACIDAD ORGANIZACIONAL de las reglas de participación | M15: =+'6 UNINGECOL'!I45 -> CUMPLE | N15: El proponente no diligencio las casillas correspondientes al porcentaje de AIU y esta inmerso en las causales de rechazo No.13 y no siguio las instrucciones dadas para el diligenciamiento del formato de oferta economica No. 9 numeral 2 Asignar valor en las casillas "VALOR UNITARIO SIN IVA" y el porcentaje en "Administración", "Imprevistos" y "Utilidad". El valor del IVA se aplica sobre la Utilidad corresponde. Adicionalmente el numeral 8.El oferente no podrá cambiar, eliminar la formulación. | O15: RECHAZADO
B16: 7 | C16: =+'7 CONSORCIO FONDO NACIONAL'!D5 -> CONSORCIO FONDO NACIONAL | L16: =+'7 CONSORCIO FONDO NACIONAL'!L31 -> El proponente cumple con los indicadores establecidos en las reglas de participación de conformidad con lo estabecido en el numeral 4.3 REQUISITOS MÍNIMOS HABILITANTES FINANCIEROS Y CAPACIDAD ORGANIZACIONAL de las reglas de participación | M16: =+'7 CONSORCIO FONDO NACIONAL'!I45 -> CUMPLE | N16: El proponente cumple con lo establecido en el numeral 4.3.3. OFERTA ECONÓMICA de las reglas de partipación. | O16: ='[2]2. ACTIVOS SAS'!$I$45 -> CUMPLE
B17: 8 | C17: {=+'8 CONSORCIO 2024 FNA'!D5:K5} -> CONSORCIO 2024 FNA | D17: 0 | E17: 0 | F17: 0 | G17: 0 | H17: 0 | I17: 0 | J17: 0 | L17: =+'8 CONSORCIO 2024 FNA'!L31 -> El proponente cumple con los indicadores establecidos en las reglas de participación de conformidad con lo estabecido en el numeral 4.3 REQUISITOS MÍNIMOS HABILITANTES FINANCIEROS Y CAPACIDAD ORGANIZACIONAL de las reglas de participación | M17: =+'8 CONSORCIO 2024 FNA'!I45 -> CUMPLE | N17: El proponente cumple con lo establecido en el numeral 4.3.3. OFERTA ECONÓMICA de las reglas de partipación. | O17: ='[2]2. ACTIVOS SAS'!$I$45 -> CUMPLE
B18: 9 | C18: {=+'9 INGEBYP'!D5:K5} -> INGEBYP SAS | D18: 0 | E18: 0 | F18: 0 | G18: 0 | H18: 0 | I18: 0 | J18: 0 | L18: =+'9 INGEBYP'!L31 -> El proponente cumple con los indicadores establecidos en las reglas de participación de conformidad con lo estabecido en el numeral 4.3 REQUISITOS MÍNIMOS HABILITANTES FINANCIEROS Y CAPACIDAD ORGANIZACIONAL de las reglas de participación | M18: =+'9 INGEBYP'!I45 -> CUMPLE | N18: El proponente cumple con lo establecido en el numeral 4.3.3. OFERTA ECONÓMICA de las reglas de partipación. | O18: ='[2]2. ACTIVOS SAS'!$I$45 -> CUMPLE
B19: 10 | C19: {=+'10 CONS OMNIA'!C8:K8} -> CONSORCIO OMNIA | D19: 0 | E19: 0 | F19: 0 | G19: 0 | H19: 0 | I19: 0 | J19: 0 | K19: 0 | L19: =+'10 CONS OMNIA'!L32 -> El proponente cumple con los indicadores establecidos en las reglas de participación de conformidad con lo estabecido en el numeral 4.3 4.3. REQUISITOS MÍNIMOS HABILITANTES FINANCIEROS Y CAPACIDAD ORGANIZACIONAL de las reglas de participación | M19: =+'10 CONS OMNIA'!I46 -> CUMPLE | N19: El proponente NO cumple con lo establecido en el numeral 4.3.3. OFERTA ECONÓMICA de las reglas de partipación y esta inmerso en la causal de rechazo No. 16 con los items refrencia en la evaluacion preliminar financiera. | O19: RECHAZADO
C21: Diana Ximena Diaz Ramirez Comité Evaluador Financiero Gerencia De Contratacion | M21: Elaboró:Lina Andrea Bastidas Profesional 02 Gerencia Contratación Fondo Nacional del Ahorro SA

Sheet 1 LIMACOR
A1: 1 | C1: FONDO NACIONAL DEL AHORRO
C3: OBJETO PROCESO | D3: =+'CONSOLIDADO FINANCIERO'!L5 -> REALIZAR LAS REPARACIONES LOCATIVAS DE LA INFRAESTRUCTURA FÍSICA DE LA SEDE PRINCIPAL - CNA DEL FONDO NACIONAL DEL AHORRO S.A.
C4: NUMERO DE PROCESO | D4: =+'CONSOLIDADO FINANCIERO'!D6 -> FNA-VGHA-CP-015-2024
C5: PROPONENTE | D5: =+'CONSOLIDADO FINANCIERO'!L7 -> 5282931966
C7: VERIFICACION EXPEDICIÓN REGISTRO UNICO DE PROPONENTES
C8: LIMACOR MY S.A.S. 900126632 1
C9: FECHA CIERRE PROCESO | D9: 45643
C10: FECHA EXPEDICION RUP | D10: 45617 | J10: =IF(D10>=O10,"CUMPLE","NO CUMPLE") -> CUMPLE | L10: mm / dd / aa | M10: =IF(J10="CUMPLE",0,1) -> 0 | N10: =+TODAY()-30 -> 45622 | O10: =+D9-30 -> 45613 | P10: 30 días anteriores
C11: FECHA ULTIMA RENOVACION | D11: 45377 | J11: =IF(D10>=O11,"CUMPLE","NO CUMPLE") -> CUMPLE | L11: mm / dd / aa | M11: =IF(J11="CUMPLE",0,1) -> 0 | O11: =+D11+15 -> 45392 | P11: 10 días hábiles
C12: FECHA DE LOS ESTADOS FINANCIEROS | D12: 45291 | J12: =IF(D10>=O12,"CUMPLE","NO CUMPLE") -> CUMPLE | L12: mm / dd / aa | M12: =IF(J12="CUMPLE",0,1) -> 0 | O12: =+D12+15 -> 45306
C15: FECHA CIERRE PROCESO | D15: 45638
C16: FECHA EXPEDICION RUP | D16: 45616 | J16: =IF(D16>=O16,"CUMPLE","NO CUMPLE") -> CUMPLE | L16: mm / dd / aa | M16: =IF(J16="CUMPLE",0,1) -> 0 | O16: =+D15-30 -> 45608 | P16: 30 días anteriores
C17: FECHA ULTIMA RENOVACION | D17: 45416 | J17: =IF(D16>=O17,"CUMPLE","NO CUMPLE") -> CUMPLE | L17: mm / dd / aa | M17: =IF(J17="CUMPLE",0,1) -> 0 | O17: =+D17+15 -> 45431 | P17: 10 días hábiles
C18: FECHA DE LOS ESTADOS FINANCIEROS | D18: 45291 | J18: =IF(D16>=O18,"CUMPLE","NO CUMPLE") -> CUMPLE | L18: mm / dd / aa | M18: =IF(J18="CUMPLE",0,1) -> 0 | O18: =+D18+15 -> 45306
C22: FECHA CIERRE PROCESO
C23: FECHA EXPEDICION RUP | L23: mm / dd / aa | M23: =IF(J23="CUMPLE",0,1) -> 1 | O23: =+D22-30 -> -30 | P23: 30 días anteriores
C24: FECHA ULTIMA RENOVACION | L24: mm / dd / aa | M24: =IF(J24="CUMPLE",0,1) -> 1 | O24: =+D24+15 -> 15 | P24: 10 días hábiles
C25: FECHA DE LOS ESTADOS FINANCIEROS | L25: mm / dd / aa | M25: =IF(J25="CUMPLE",0,1) -> 1 | O25: =+D25+15 -> 15
C27: VERIFICACIÓN REQUISITOS HABILITANTES FINANCIEROS
A29: NUMERAL | B29: VERIFICACIÓN DE LA CAPACIDAD FINANCIERA | C29: DESCRIPCION | D29: CRITERIO | E29: ITEM | F29: =+C8 -> LIMACOR MY S.A.S. 900126632 1 | G29: =+C14 -> 0 | I29: INDICADOR | J29: RESULTADO VERIFICACION | K29: DOCUMENTO ELECTRONICO | L29: OBSERVACIONES
F30: 1
A31: 4.3.1 | B31: 4.3.1 CAPACIDAD FINANCIERA | C31: Capital de Trabajo >= 25% POE | D31: ='CONSOLIDADO FINANCIERO'!L7*25% -> 1.320733e+09 | E31: Activo Corriente | F31: 5348324277 | I31: =(F31-F32)+(G31-G32) -> 2648479771 | J31: =IF(I31>=D31,"CUMPLE","NO CUMPLE") -> CUMPLE | K31: Registro Único de Proponentes | L31: El proponente cumple con los indicadores establecidos en las reglas de participación de conformidad con lo estabecido en el numeral 4.3 4.3. REQUISITOS MÍNIMOS HABILITANTES FINANCIEROS Y CAPACIDAD ORGANIZACIONAL de las reglas de participación | M31: =IF(J31="CUMPLE",0,1) -> 0
E32: Pasivo Corriente | F32: 2699844506
A33: 4.3.1 | B33: =B31 -> 4.3.1 CAPACIDAD FINANCIERA | C33: Índice de Liquidez | D33: 1.9 | E33: Activo Corriente | F33: =+F31 -> 5348324277 | I33: =+((F33*F30)+(G33*G30)+(H33*H30))/((F34*F30)+(G34*G30)+(H34*H30)) -> 1.9809749 | J33: =IF(I33>=D33,"CUMPLE","NO CUMPLE") -> CUMPLE | K33: Registro Único de Proponentes | M33: =IF(J33="CUMPLE",0,1) -> 0
E34: Pasivo Corriente | F34: =+F32 -> 2699844506
A35: 4.3.1 | B35: =B33 -> 4.3.1 CAPACIDAD FINANCIERA | C35: Nivel de Endeudamiento | D35: 0.6 | E35: Pasivo Total | F35: 3404978761 | I35: =((F35*F30)+(G35*G30)+(H35*H30))/((F36*F30)+(G36*G30)+(H36*H30)) -> 0.43012784 | J35: =IF(I35<=D35,"CUMPLE","NO CUMPLE") -> CUMPLE | K35: Registro Único de Proponentes | M35: =IF(J35="CUMPLE",0,1) -> 0
E36: Activo Total | F36: 7916201809
A37: 4.3.1 | B37: =B35 -> 4.3.1 CAPACIDAD FINANCIERA | C37: Razón de Cobertura de Intereses | D37: 1.49 | E37: Utilidad Operacional | F37: 3251179053 | I37: =((F37*F30)+(G37*G30)+(H37*H30))/((F38*F30)+(G38*G30)+(H38*H30)) -> 11.913363 | J37: =IF(I37>=D37,"CUMPLE","NO CUMPLE") -> CUMPLE | K37: Registro Único de Proponentes | M37: =IF(J37="CUMPLE",0,1) -> 0
E38: Gastos de Intereses | F38: 272901880
A39: 4.3.2 | B39: 4.3.2 capacidad Organizacional | C39: Rentabilidad sobre Patrimonio | D39: 0.11 | E39: Utilidad Operacional | F39: =+F37 -> 3251179053 | I39: =((F39*F30)+(G39*G30)+(H39*H30))/((F40*F30)+(G40*G30)+(H40*H30)) -> 0.72068683 | J39: =IF(I39>=D39,"CUMPLE","NO CUMPLE") -> CUMPLE | K39: Registro Único de Proponentes | M39: =IF(J39="CUMPLE",0,1) -> 0
E40: Patrimonio | F40: 4511223048
A41: 4.3.2 | B41: =+B39 -> 4.3.2 capacidad Organizacional | C41: Rentabilidad sobre Activo | D41: 0.05 | E41: Utilidad Operacional | F41: =+F37 -> 3251179053 | I41: =((F41*F30)+(G41*G30)+(H41*H30))/((F42*F30)+(G42*G30)+(H42*H30)) -> 0.41069936 | J41: =IF(I41>=D41,"CUMPLE","NO CUMPLE") -> CUMPLE | K41: Registro Único de Proponentes | M41: =IF(J41="CUMPLE",0,1) -> 0
E42: Activo total | F42: =+F36 -> 7916201809
A43: 4.3.1 | B43: =B31 -> 4.3.1 CAPACIDAD FINANCIERA | C43: Patrimonio ≥ 30% POE | D43: ='CONSOLIDADO FINANCIERO'!L7*30% -> 1.5848796e+09 | E43: Activo total | F43: =+F36 -> 7916201809 | I43: =(F43-F44)+(G43-G44) -> 4511223048 | J43: =IF(I43>=D43,"CUMPLE","NO CUMPLE") -> CUMPLE | K43: Registro Único de Proponentes | M43: =IF(J43="CUMPLE",0,1) -> 0
E44: Pasivo total | F44: =+F35 -> 3404978761
E45: RESULTADO | I45: =IF(M45>0,"NO CUMPLE","CUMPLE") -> CUMPLE | M45: =SUM(M31:M44) -> 0

Sheet OFERTA LIMACOR
E1: FONDO NACIONAL DEL AHORRO S.A.
A5: FORMATO No. 9 - PROPUESTA ECONOMICA
A6: Número del Proceso | E6: FNA-VGHA-CP-015-2024
A7: Descripción del Proceso: | E7: REALIZAR LAS REPARACIONES LOCATIVAS DE LA INFRAESTRUCTURA FÍSICA DE LA SEDE PRINCIPAL – CNA DEL FONDO NACIONAL DEL AHORRO S.A.
A8: Nombre del Oferente | E8: LIMACOR MY S.A.S.
A9: NIT | E9: 900126632-1
A10: Representante Legal | E10: MÓNICA MARCELA CORONADO RODRÍGUEZ
A11: C.C | E11: 53006409
A12: 1. El valor de la oferta económica deber ser expresado en PESOS COLOMBIANOS. 2. Asignar valor en las casillas "VALOR UNITARIO SIN IVA" y el porcentaje en "Administración", "Imprevistos" y "Utilidad". El valor del IVA se aplica sobre la Utilidad corresponde con la regulación tributaria vigente. 3. El oferente deberá tener en cuenta todos los gravámenes, impuestos tasas y demás contribuciones para la estimación del presupuesto. 4. No modificar, agregar o quitar ningún ítem o sub-ítem, so pena de encontrarse inmerso en causal de rechazo. 5. Todos los valores deberán estar ajustados al peso, es decir, sin decimales. Para el efecto, se aplicará la formula redondeo de Excel. 6. No podrá superar los VALORES UNITARIO SIN IVA REFERENCIA establecidos por la entidad ni tampoco podra ser cero (0) so pena de rechazo por encontrarse inmerso en causal de rechazo. 7. No podrá superar el Presupuesto Oficial Estimado so pena de encontrarse inmerso en causal de rechazo. 8.El oferente no podrá cambiar, eliminar la formulación. NOTA • El contratista deberá prever la proyección del presupuesto para el plazo de ejecución del contrato. El FNA no asumirán los costos adicionales generados por el IPC de los años subsiguientes o cualquier otro sistema de actualización de precios; en el caso que exista reglamentación gubernamental de incrementos salariales durante la ejecución del contrato, éstos deben ser contemplados por el contratista dentro del valor de la ofertado. • Tiempo estimado de ejecución: 12 meses • Los precios ofertados se deberán mantener durante la ejecución del contrato independientemente de la fecha de inicio de ejecución del contrato.
A14: ÍTEM | C14: ACTIVIDAD | F14: UNIDAD DE MEDIDA | G14: CANTIDAD | H14: VALOR UNITARIO SIN IVA (NO MODIFICAR) | I14: VALORES OFERTADOS
I15: VALOR UNITARIO SIN IVA | J15: VALOR TOTAL | K15: VERIFICACION PRECIOS TECHO | L15: VERIFICACION PRCIOS ARTIFIALMENTE BAJOS
A16: 1.1. | C16: Retiro, reparación y reposicion puntual de junta entre laminas (junta con factor forma 2cmx1cm), mediante el uso de fondo de junta tipo sika rod y sello elastomérico de poliuretano en color negro, con alta resistencia a la intemperie incluye andamio colgante o toda instalación provisional que permita el cumplimiento de la actividad. | F16: ml | G16: 2000 | H16: 16341 | I16: 13890 | J16: =+ROUND(I16*G16,0) -> 27780000 | K16: =+I16-H16 -> -2451 | L16: =+I16/H16 -> 0.85000918 | N16: =+IF(I16<H16,"OK",IF(I16=0," ")) -> OK
A17: 1.2. | C17: Pintura exterior tipo coraza para muros sobre pañete incluye toda instalación provisional que permita el cumplimiento de la actividad. | F17: m2 | G17: 300 | H17: 43227 | I17: 36743 | J17: =+ROUND(I17*G17,0) -> 11022900 | K17: =+I17-H17 -> -6484 | L17: =+I17/H17 -> 0.85000116 | N17: =+IF(I17<H17,"OK",IF(I17=0," ")) -> OK
A18: 2.1. | C18: Retiro de impermeabilización existente y mortero de nivelación. Incluye el retiro y disposición final de escombros (Edificio Convenciones y Edificio CNA zona "L"). | F18: m2 | G18: 2332.42 | H18: 30375 | I18: 25819 | J18: =+ROUND(I18*G18,0) -> 60220752 | K18: =+I18-H18 -> -4556 | L18: =+I18/H18 -> 0.85000823 | N18: =+IF(I18<H18,"OK",IF(I18=0," ")) -> OK
A19: 2.2. | C19: Instalación de mortero de nivelación con materiales de SIKA o similares características, previo a la instalación de la impermeabilización (Edificio Convenciones y Edificio CNA zona "L"). | F19: m2 | G19: 2332.42 | H19: 64685 | I19: 54982 | J19: =+ROUND(I19*G19,0) -> 128241116 | K19: =+I19-H19 -> -9703 | L19: =+I19/H19 -> 0.84999614 | N19: =+IF(I19<H19,"OK",IF(I19=0," ")) -> OK
A20: 2.3. | C20: Impermeabilización de placa de cubierta plana transitable, no ventilada, con piso fijo, tipo convencional, para tráfico peatonal privado. Tipo Sika o de similares características con uso de mantos asfálticos, tipo bicapa (Edificio Convenciones y Edificio CNA zona "L"). | F20: m2 | G20: 2332.42 | H20: 129968 | I20: 110473 | J20: =+ROUND(I20*G20,0) -> 257669435 | K20: =+I20-H20 -> -19495 | L20: =+I20/H20 -> 0.85000154 | N20: =+IF(I20<H20,"OK",IF(I20=0," ")) -> OK
A21: 2.4. | C21: Desmonte de ventaneria con vidrios en celosía ubicados en culata de cubierta en el edificio CNA. | F21: m2 | G21: 150 | H21: 53922 | I21: 45834 | J21: =+ROUND(I21*G21,0) -> 6875100 | K21: =+I21-H21 -> -8088 | L21: =+I21/H21 -> 0.85000556 | N21: =+IF(I21<H21,"OK",IF(I21=0," ")) -> OK
A22: 2.5. | C22: Suministro e instalación de sistema de ventanas en vidrio fijas (sin básculante) en reemplazo de las ventanas en vidrio retiradas, ubicados en culata de cubierta en el edificio CNA. | F22: m2 | G22: 150 | H22: 305942 | I22: 260051 | J22: =+ROUND(I22*G22,0) -> 39007650 | K22: =+I22-H22 -> -45891 | L22: =+I22/H22 -> 0.85000098 | N22: =+IF(I22<H22,"OK",IF(I22=0," ")) -> OK
A23: 2.6. | C23: Retiro de canaletas existentes y suministro e instalación de canaletas metálicas de sección trapezoidal elaboradas en acero galvanizado calibre 16 de acuerdo con las necesidades técnicas de la cubierta de aguas lluvia, incluye la instalación de la soportería para el anclaje de la canaleta en el edificio CNA. | F23: ml | G23: 231 | H23: 125271 | I23: 106480 | J23: =+ROUND(I23*G23,0) -> 24596880 | K23: =+I23-H23 -> -18791 | L23: =+I23/H23 -> 0.84999721 | N23: =+IF(I23<H23,"OK",IF(I23=0," ")) -> OK
A24: 2.7. | C24: Retiro de instalación existente y suministro e instalación de soscos para la bajante de agua lluvia ø 4" en PVC con su respectivo sifón para evitar malos olores, incluye la instalación de la soportería para el anclaje en el edificio CNA. | F24: und | G24: 50 | H24: 88909 | I24: 75573 | J24: =+ROUND(I24*G24,0) -> 3778650 | K24: =+I24-H24 -> -13336 | L24: =+I24/H24 -> 0.85000394 | N24: =+IF(I24<H24,"OK",IF(I24=0," ")) -> OK
A25: 2.8. | C25: Limpieza y mantenimientos de tubería bajante de agua lluvia ø 4" en PVC, en el edificio CNA. | F25: und | G25: 50 | H25: 97000 | I25: 82450 | J25: =+ROUND(I25*G25,0) -> 4122500 | K25: =+I25-H25 -> -14550 | L25: =+I25/H25 -> 0.85 | N25: =+IF(I25<H25,"OK",IF(I25=0," ")) -> OK
A26: 3.1. | C26: Desmonte de cielo raso en fibra mineral o en drywall incluye desmonte luminarias, retiro y disposición final de escombros. | F26: m2 | G26: 80 | H26: 38338 | I26: 32587 | J26: =+ROUND(I26*G26,0) -> 2606960 | K26: =+I26-H26 -> -5751 | L26: =+I26/H26 -> 0.84999217 | N26: =+IF(I26<H26,"OK",IF(I26=0," ")) -> OK
A27: 3.2. | C27: Mantenimiento de cielo raso en fibra mineral. Incluye cambio, pintura y/o reutilización de láminas en fibra mineral, instalación de anclajes y arreglo de perfilería descolgada y colocación de soportes. | F27: m2 | G27: 1800 | H27: 35000 | I27: 29750 | J27: =+ROUND(I27*G27,0) -> 53550000 | K27: =+I27-H27 -> -5250 | L27: =+I27/H27 -> 0.85 | N27: =+IF(I27<H27,"OK",IF(I27=0," ")) -> OK
... A38: 6.1. | C38: Resanes y pintura vinilo primera calidad tipo 1 a tres manos, aplica para muros interiores color blanco sobre pañete o repello liso. A todo costo. | F38: m2 | G38: 4500 | H38: 34663 | I38: 29464 | J38: =+ROUND(I38*G38,0) -> 132588000 | K38: =+I38-H38 -> -5199 | L38: =+I38/H38 -> 0.85001298 | N38: =+IF(I38<H38,"OK",IF(I38=0," ")) -> OK
A39: TOTAL REPARACIONES LOCATIVAS GENERALES SEDE PRINCIPAL | J39: =SUM(J16:J38) -> 1016097082 | K39: =+I39-H39 -> 0 | L39: =+I39/H39 -> #DIV/0! | N39: =+IF(I39<H39,"OK",IF(I39=0," "))
A40: 1.1. | C40: Demolición muros Drywall incluye la disposición final de los escombros. | F40: m2 | G40: 250 | H40: 49033 | I40: 41678 | J40: =+ROUND(I40*G40,0) -> 10419500 | K40: =+I40-H40 -> -7355 | L40: =+I40/H40 -> 0.84999898 | N40: =+IF(I40<H40,"OK",IF(I40=0," ")) -> OK
A41: 1.2. | C41: Desmonte de divisiones y puertas en vidrio incluye la disposición final o la disposición que el fondo Nacional del Ahorro indique. | F41: m2 | G41: 61 | H41: 50667 | I41: 43067 | J41: =+ROUND(I41*G41,0) -> 2627087 | K41: =+I41-H41 -> -7600 | L41: =+I41/H41 -> 0.85000099 | N41: =+IF(I41<H41,"OK",IF(I41=0," ")) -> OK
A42: 1.3. | C42: Desmonte de cielo raso en fibra mineral o en drywall incluye desmonte luminarias, retiro y disposición final de escombros. | F42: m2 | G42: 1070 | H42: 36183 | I42: 30756 | J42: =+ROUND(I42*G42,0) -> 32908920 | K42: =+I42-H42 -> -5427 | L42: =+I42/H42 -> 0.85001244 | N42: =+IF(I42<H42,"OK",IF(I42=0," ")) -> OK
A43: 1.4. | C43: Desmonte de redes eléctricas existentes. Incluye la disposición final de los escombros o la disposición que el fondo Nacional del Ahorro indique. | F43: glb | G43: 1 | H43: 13063210 | I43: 11103729 | J43: =+ROUND(I43*G43,0) -> 11103729 | K43: =+I43-H43 -> -1959481 | L43: =+I43/H43 -> 0.85000004 | N43: =+IF(I43<H43,"OK",IF(I43=0," ")) -> OK
A44: 1.5. | C44: Desmonte de puestos de trabajo tales como divisiones metálicas, superficies, cajoneras etc. Adicionalmente, incluye la disposición final de los escombros o la disposición que el fondo Nacional del Ahorro indique. | F44: und | G44: 135 | H44: 96339 | I44: 81888 | J44: =+ROUND(I44*G44,0) -> 11054880 | K44: =+I44-H44 -> -14451 | L44: =+I44/H44 -> 0.84999844 | N44: =+IF(I44<H44,"OK",IF(I44=0," ")) -> OK
A45: 1.6. | C45: Suministro e instalación de muro provisional en Drywall de 1/2" a una sola cara, incluye estructura, cinta, estuco. A todo costo. | F45: m2 | G45: 78 | H45: 95199 | I45: 80919 | J45: =+ROUND(I45*G45,0) -> 6311682 | K45: =+I45-H45 -> -14280 | L45: =+I45/H45 -> 0.84999842 | N45: =+IF(I45<H45,"OK",IF(I45=0," ")) -> OK
A46: 2.1. | C46: Suministro e instalación de columnetas metálicas en tubería cuadrada estructural de 100mmx100mm, calibre 12 acabado en pintura color negro semi-mate. Incluye platina soldada a la base y anclajes a placa de piso y retiro de escombros. | F46: ml | G46: 100 | H46: 203925 | I46: 173336 | J46: =+ROUND(I46*G46,0) -> 17333600 | K46: =+I46-H46 -> -30589 | L46: =+I46/H46 -> 0.84999877 | N46: =+IF(I46<H46,"OK",IF(I46=0," ")) -> OK
A47: 2.2. | C47: Suministro e instalación de viguetas metálicas en tubería cuadrada estructural de 100mmx100mm, calibre12 acabado en pintura color negro semi-mate. Incluye soldadura a columnetas y retiro de escombros. | F47: ml | G47: 130 | H47: 186288 | I47: 158345 | J47: =+ROUND(I47*G47,0) -> 20584850 | K47: =+I47-H47 -> -27943 | L47: =+I47/H47 -> 0.85000107 | N47: =+IF(I47<H47,"OK",IF(I47=0," ")) -> OK
A48: 3.1. | C48: Suministro e instalación de muro en Superboard de 8 mm, altura 2.40 m a dos caras. Incluye estructura metálica, anclaje, cinta, estuco y fondeo de acabado en pintura en vinilo tipo 1. | F48: m2 | G48: 30 | H48: 205133 | I48: 174363 | J48: =+ROUND(I48*G48,0) -> 5230890 | K48: =+I48-H48 -> -30770 | L48: =+I48/H48 -> 0.84999976 | N48: =+IF(I48<H48,"OK",IF(I48=0," ")) -> OK
A49: 4.1. | C49: Suministro e instalación de cielorraso en Drywall de 1/2" a una sola cara, incluye estructura, cinta, estuco, capa fondeo y pintura. A todo costo. | F49: m2 | G49: 1301 | H49: 131613 | I49: 111871 | J49: =+ROUND(I49*G49,0) -> 145544171 | K49: =+I49-H49 -> -19742 | L49: =+I49/H49 -> 0.84999962 | N49: =+IF(I49<H49,"OK",IF(I49=0," ")) -> OK
A50: 4.2. | C50: Suministro e instalación de Frescasa Eco Sin Papel 3 1/2″ para cielorraso en Drywall. A todo costo. | F50: m2 | G50: 1301 | H50: 33384 | I50: 28376 | J50: =+ROUND(I50*G50,0) -> 36917176 | K50: =+I50-H50 -> -5008 | L50: =+I50/H50 -> 0.84998802 | N50: =+IF(I50<H50,"OK",IF(I50=0," ")) -> OK
A51: 5.1. | C51: Suministro e instalación de piso laminado de alto tráfico de alta densidad (HDF) de 890 a 900 Kgms x cm3 y resistencia a la humedad. Incluye plástico aislante y yumbolon de acuerdo a las características técnicas y el guardaescobas. | F51: m2 | G51: 1070 | H51: 194913 | I51: 165676 | J51: =+ROUND(I51*G51,0) -> 177273320 | K51: =+I51-H51 -> -29237 | L51: =+I51/H51 -> 0.84999974 | N51: =+IF(I51<H51,"OK",IF(I51=0," ")) -> OK
... A72: 9.2. | C72: Pintura vinilo primera calidad tipo uno tres manos cielo falsos blanco. A todo costo, incluye lineales. | F72: m2 | G72: 230.61 | H72: 41123 | I72: 34955 | J72: =+ROUND(I72*G72,0) -> 8060973 | K72: =+I72-H72 -> -6168 | L72: =+I72/H72 -> 0.85001094 | N72: =+IF(I72<H72,"OK",IF(I72=0," ")) -> OK
A73: TOTAL REPARACIONES LOCATIVAS - EDIFICIO CNA - PISO 2 | J73: =SUM(J40:J72) -> 1059061029 | K73: =+I73-H73 -> 0 | L73: =+I73/H73 -> #DIV/0! | N73: =+IF(I73<H73,"OK",IF(I73=0," "))
A74: 5.5. | C74: Suministro e instalación de piso laminado de alto tráfico de alta densidad (HDF) de 890 a 900 Kgms x cm3 y resistencia a la humedad, para la zona de mesas del restaurante Incluye nivelación en zonas puntuales, plástico aislante, yumbolon de acuerdo con las características técnicas y el guardaescobas. | F74: m2 | G74: 450 | H74: 194913 | I74: 165676 | J74: =+ROUND(I74*G74,0) -> 74554200 | K74: =+I74-H74 -> -29237 | L74: =+I74/H74 -> 0.84999974 | N74: =+IF(I74<H74,"OK",IF(I74=0," ")) -> OK
...

Sheet 2 UT AMF-ELATIN
A1: 2 | C1: FONDO NACIONAL DEL AHORRO
C3: OBJETO PROCESO | D3: =+'CONSOLIDADO FINANCIERO'!L5 -> REALIZAR LAS REPARACIONES LOCATIVAS DE LA INFRAESTRUCTURA FÍSICA DE LA SEDE PRINCIPAL - CNA DEL FONDO NACIONAL DEL AHORRO S.A.
C4: NUMERO DE PROCESO | D4: =+'CONSOLIDADO FINANCIERO'!D6 -> FNA-VGHA-CP-015-2024
C5: PROPONENTE | D5: =+'CONSOLIDADO FINANCIERO'!L7 -> 5282931966
C7: VERIFICACION EXPEDICIÓN REGISTRO UNICO DE PROPONENTES
C8: UNIÓN TEMPORAL AMF-ELATIN
C9: MARULANDA FERNANDEZ ARMANDO NIT:14565656-7
C10: FECHA CIERRE PROCESO | D10: 45643
C11: FECHA EXPEDICION RUP | D11: 45642 | J11: =IF(D11>=O11,"CUMPLE","NO CUMPLE") -> CUMPLE | L11: mm / dd / aa | M11: =IF(J11="CUMPLE",0,1) -> 0 | N11: =+TODAY()-30 -> 45622 | O11: =+D10-30 -> 45613 | P11: 30 días anteriores
C12: FECHA ULTIMA RENOVACION | D12: 45397 | J12: =IF(D11>=O12,"CUMPLE","NO CUMPLE") -> CUMPLE | L12: mm / dd / aa | M12: =IF(J12="CUMPLE",0,1) -> 0 | O12: =+D12+15 -> 45412 | P12: 10 días hábiles
C13: FECHA DE LOS ESTADOS FINANCIEROS | D13: 45291 | J13: =IF(D11>=O13,"CUMPLE","NO CUMPLE") -> CUMPLE | L13: mm / dd / aa | M13: =IF(J13="CUMPLE",0,1) -> 0 | O13: =+D13+15 -> 45306
C15: ELATIN S.A.S NIT:900424944-2
C16: FECHA CIERRE PROCESO | D16: 45643
C17: FECHA EXPEDICION RUP | D17: 45620 | J17: =IF(D17>=O17,"CUMPLE","NO CUMPLE") -> CUMPLE | L17: mm / dd / aa | M17: =IF(J17="CUMPLE",0,1) -> 0 | O17: =+D16-30 -> 45613 | P17: 30 días anteriores
C18: FECHA ULTIMA RENOVACION | D18: 45448 | J18: =IF(D17>=O18,"CUMPLE","NO CUMPLE") -> CUMPLE | L18: mm / dd / aa | M18: =IF(J18="CUMPLE",0,1) -> 0 | O18: =+D18+15 -> 45463 | P18: 10 días hábiles
C19: FECHA DE LOS ESTADOS FINANCIEROS | D19: 45291 | J19: =IF(D17>=O19,"CUMPLE","NO CUMPLE") -> CUMPLE | L19: mm / dd / aa | M19: =IF(J19="CUMPLE",0,1) -> 0 | O19: =+D19+15 -> 45306
C23: FECHA CIERRE PROCESO
C24: FECHA EXPEDICION RUP | L24: mm / dd / aa | M24: =IF(J24="CUMPLE",0,1) -> 1 | O24: =+D23-30 -> -30 | P24: 30 días anteriores
C25: FECHA ULTIMA RENOVACION | L25: mm / dd / aa | M25: =IF(J25="CUMPLE",0,1) -> 1 | O25: =+D25+15 -> 15 | P25: 10 días hábiles
C26: FECHA DE LOS ESTADOS FINANCIEROS | L26: mm / dd / aa | M26: =IF(J26="CUMPLE",0,1) -> 1 | O26: =+D26+15 -> 15
C28: VERIFICACIÓN REQUISITOS HABILITANTES FINANCIEROS
A30: NUMERAL | B30: VERIFICACIÓN DE LA CAPACIDAD FINANCIERA | C30: DESCRIPCION | D30: CRITERIO | E30: ITEM | F30: =+C9 -> MARULANDA FERNANDEZ ARMANDO NIT:14565656-7 | G30: =+C15 -> ELATIN S.A.S NIT:900424944-2 | I30: INDICADOR | J30: RESULTADO VERIFICACION | K30: DOCUMENTO ELECTRONICO | L30: OBSERVACIONES
F31: 0.01 | G31: 0.99
A32: 4.3.1 | B32: 4.3.1 CAPACIDAD FINANCIERA | C32: Capital de Trabajo >= 25% POE | D32: ='CONSOLIDADO FINANCIERO'!L7*25% -> 1.320733e+09 | E32: Activo Corriente | F32: 3077980730 | G32: 3397509015 | I32: =(F32-F33)+(G32-G33) -> 5064501301 | J32: =IF(I32>=D32,"CUMPLE","NO CUMPLE") -> CUMPLE | K32: Registro Único de Proponentes | L32: El proponente cumple con los indicadores establecidos en las reglas de participación de conformidad con lo estabecido en el numeral 4.3 4.3. REQUISITOS MÍNIMOS HABILITANTES FINANCIEROS Y CAPACIDAD ORGANIZACIONAL de las reglas de participación | M32: =IF(J32="CUMPLE",0,1) -> 0
E33: Pasivo Corriente | F33: 726909128 | G33: 684079316
A34: 4.3.1 | B34: =B32 -> 4.3.1 CAPACIDAD FINANCIERA | C34: Índice de Liquidez | D34: 1.9 | E34: Activo Corriente | F34: =+F32 -> 3077980730 | G34: =+G32 -> 3397509015 | I34: =+((F34*F31)+(G34*G31)+(H34*H31))/((F35*F31)+(G35*G31)+(H35*H31)) -> 4.9587669 | J34: =IF(I34>=D34,"CUMPLE","NO CUMPLE") -> CUMPLE | K34: Registro Único de Proponentes | M34: =IF(J34="CUMPLE",0,1) -> 0
E35: Pasivo Corriente | F35: =+F33 -> 726909128 | G35: =+G33 -> 684079316
A36: 4.3.1 | B36: =B34 -> 4.3.1 CAPACIDAD FINANCIERA | C36: Nivel de Endeudamiento | D36: 0.6 | E36: Pasivo Total | F36: 3254478062 | G36: 3426515229 | I36: =((F36*F31)+(G36*G31)+(H36*H31))/((F37*F31)+(G37*G31)+(H37*H31)) -> 0.46822101 | J36: =IF(I36<=D36,"CUMPLE","NO CUMPLE") -> CUMPLE | K36: Registro Único de Proponentes | M36: =IF(J36="CUMPLE",0,1) -> 0
E37: Activo Total | F37: 6534051721 | G37: 7322366695
A38: 4.3.1 | B38: =B36 -> 4.3.1 CAPACIDAD FINANCIERA | C38: Razón de Cobertura de Intereses | D38: 1.49 | E38: Utilidad Operacional | F38: 707805492 | G38: 1512548689 | I38: =((F38*F31)+(G38*G31)+(H38*H31))/((F39*F31)+(G39*G31)+(H39*H31)) -> 16.06884 | J38: =IF(I38>=D38,"CUMPLE","NO CUMPLE") -> CUMPLE | K38: Registro Único de Proponentes | M38: =IF(J38="CUMPLE",0,1) -> 0
E39: Gastos de Intereses | F39: 124101842 | G39: 93320678
A40: 4.3.2 | B40: 4.3.2 capacidad Organizacional | C40: Rentabilidad sobre Patrimonio | D40: 0.11 | E40: Utilidad Operacional | F40: =+F38 -> 707805492 | G40: =+G38 -> 1512548689 | I40: =((F40*F31)+(G40*G31)+(H40*H31))/((F41*F31)+(G41*G31)+(H41*H31)) -> 0.3867922 | J40: =IF(I40>=D40,"CUMPLE","NO CUMPLE") -> CUMPLE | K40: Registro Único de Proponentes | M40: =IF(J40="CUMPLE",0,1) -> 0
E41: Patrimonio | F41: 3279573659 | G41: 3895851466
A42: 4.3.2 | B42: =+B40 -> 4.3.2 capacidad Organizacional | C42: Rentabilidad sobre Activo | D42: 0.05 | E42: Utilidad Operacional | F42: =+F38 -> 707805492 | G42: =+G38 -> 1512548689 | I42: =((F42*F31)+(G42*G31)+(H42*H31))/((F43*F31)+(G43*G31)+(H43*H31)) -> 0.20568797 | J42: =IF(I42>=D42,"CUMPLE","NO CUMPLE") -> CUMPLE | K42: Registro Único de Proponentes | M42: =IF(J42="CUMPLE",0,1) -> 0
E43: Activo total | F43: =+F37 -> 6534051721 | G43: =+G37 -> 7322366695
A44: 4.3.1 | B44: =B32 -> 4.3.1 CAPACIDAD FINANCIERA | C44: Patrimonio ≥ 30% POE | D44: ='CONSOLIDADO FINANCIERO'!L7*30% -> 1.5848796e+09 | E44: Activo total | F44: =+F37 -> 6534051721 | G44: =+G37 -> 7322366695 | I44: =(F44-F45)+(G44-G45) -> 7175425125 | J44: =IF(I44>=D44,"CUMPLE","NO CUMPLE") -> CUMPLE | K44: Registro Único de Proponentes | M44: =IF(J44="CUMPLE",0,1) -> 0
E45: Pasivo total | F45: =+F36 -> 3254478062 | G45: =+G36 -> 3426515229
E46: RESULTADO | I46: =IF(M46>0,"NO CUMPLE","CUMPLE") -> CUMPLE | M46: =SUM(M32:M45) -> 0

Sheet OFERTA AMF-ELATIN
E1: FONDO NACIONAL DEL AHORRO S.A.
A5: FORMATO No. 9 - PROPUESTA ECONOMICA
A6: Número del Proceso | E6: FNA-VGHA-CP-015-2024
A7: Descripción del Proceso: | E7: REALIZAR LAS REPARACIONES LOCATIVAS DE LA INFRAESTRUCTURA FÍSICA DE LA SEDE PRINCIPAL – CNA DEL FONDO NACIONAL DEL AHORRO S.A.
A8: Nombre del Oferente | E8: UNIÓN TEMPORAL AMF-ELATIN
A9: NIT | E9: N/A
A10: Representante Legal | E10: JUAN DAVID TRUJILLO POTES
A11: C.C | E11: 18511653
A12: 1. El valor de la oferta económica deber ser expresado en PESOS COLOMBIANOS. 2. Asignar valor en las casillas "VALOR UNITARIO SIN IVA" y el porcentaje en "Administración", "Imprevistos" y "Utilidad". El valor del IVA se aplica sobre la Utilidad corresponde con la regulación tributaria vigente. 3. El oferente deberá tener en cuenta todos los gravámenes, impuestos tasas y demás contribuciones para la estimación del presupuesto. 4. No modificar, agregar o quitar ningún ítem o sub-ítem, so pena de encontrarse inmerso en causal de rechazo. 5. Todos los valores deberán estar ajustados al peso, es decir, sin decimales. Para el efecto, se aplicará la formula redondeo de Excel. 6. No podrá superar los VALORES UNITARIO SIN IVA REFERENCIA establecidos por la entidad ni tampoco podra ser cero (0) so pena de rechazo por encontrarse inmerso en causal de rechazo. 7. No podrá superar el Presupuesto Oficial Estimado so pena de encontrarse inmerso en causal de rechazo. 8.El oferente no podrá cambiar, eliminar la formulación. NOTA • El contratista deberá prever la proyección del presupuesto para el plazo de ejecución del contrato. El FNA no asumirán los costos adicionales generados por el IPC de los años subsiguientes o cualquier otro sistema de actualización de precios; en el caso que exista reglamentación gubernamental de incrementos salariales durante la ejecución del contrato, éstos deben ser contemplados por el contratista dentro del valor de la ofertado. • Tiempo estimado de ejecución: 12 meses • Los precios ofertados se deberán mantener durante la ejecución del contrato independientemente de la fecha de inicio de ejecución del contrato.
A14: ÍTEM | C14: ACTIVIDAD | F14: UNIDAD DE MEDIDA | G14: CANTIDAD | H14: VALOR UNITARIO SIN IVA (NO MODIFICAR) | I14: VALORES OFERTADOS
I15: VALOR UNITARIO SIN IVA | J15: VALOR TOTAL | K15: VERIFICACION PRECIOS TECHO | L15: VERIFICACION PRCIOS ARTIFIALMENTE BAJOS
A16: 1.1. | C16: Retiro, reparación y reposicion puntual de junta entre laminas (junta con factor forma 2cmx1cm), mediante el uso de fondo de junta tipo sika rod y sello elastomérico de poliuretano en color negro, con alta resistencia a la intemperie incluye andamio colgante o toda instalación provisional que permita el cumplimiento de la actividad. | F16: ml | G16: 2000 | H16: 16341 | I16: 14200 | J16: =+ROUND(I16*G16,0) -> 28400000 | K16: =+I16-H16 -> -2141 | L16: =+I16/H16 -> 0.86897987
A17: 1.2. | C17: Pintura exterior tipo coraza para muros sobre pañete incluye toda instalación provisional que permita el cumplimiento de la actividad. | F17: m2 | G17: 300 | H17: 43227 | I17: 37600 | J17: =+ROUND(I17*G17,0) -> 11280000 | K17: =+I17-H17 -> -5627 | L17: =+I17/H17 -> 0.86982673
A18: 2.1. | C18: Retiro de impermeabilización existente y mortero de nivelación. Incluye el retiro y disposición final de escombros (Edificio Convenciones y Edificio CNA zona "L"). | F18: m2 | G18: 2332.42 | H18: 30375 | I18: 26400 | J18: =+ROUND(I18*G18,0) -> 61575888 | K18: =+I18-H18 -> -3975 | L18: =+I18/H18 -> 0.8691358
A19: 2.2. | C19: Instalación de mortero de nivelación con materiales de SIKA o similares características, previo a la instalación de la impermeabilización (Edificio Convenciones y Edificio CNA zona "L"). | F19: m2 | G19: 2332.42 | H19: 64685 | I19: 56300 | J19: =+ROUND(I19*G19,0) -> 131315246 | K19: =+I19-H19 -> -8385 | L19: =+I19/H19 -> 0.8703718
A20: 2.3. | C20: Impermeabilización de placa de cubierta plana transitable, no ventilada, con piso fijo, tipo convencional, para tráfico peatonal privado. Tipo Sika o de similares características con uso de mantos asfálticos, tipo bicapa (Edificio Convenciones y Edificio CNA zona "L"). | F20: m2 | G20: 2332.42 | H20: 129968 | I20: 113100 | J20: =+ROUND(I20*G20,0) -> 263796702 | K20: =+I20-H20 -> -16868 | L20: =+I20/H20 -> 0.87021421
A21: 2.4. | C21: Desmonte de ventaneria con vidrios en celosía ubicados en culata de cubierta en el edificio CNA. | F21: m2 | G21: 150 | H21: 53922 | I21: 46900 | J21: =+ROUND(I21*G21,0) -> 7035000 | K21: =+I21-H21 -> -7022 | L21: =+I21/H21 -> 0.86977486
A22: 2.5. | C22: Suministro e instalación de sistema de ventanas en vidrio fijas (sin básculante) en reemplazo de las ventanas en vidrio retiradas, ubicados en culata de cubierta en el edificio CNA. | F22: m2 | G22: 150 | H22: 305942 | I22: 266200 | J22: =+ROUND(I22*G22,0) -> 39930000 | K22: =+I22-H22 -> -39742 | L22: =+I22/H22 -> 0.87009956
A23: 2.6. | C23: Retiro de canaletas existentes y suministro e instalación de canaletas metálicas de sección trapezoidal elaboradas en acero galvanizado calibre 16 de acuerdo con las necesidades técnicas de la cubierta de aguas lluvia, incluye la instalación de la soportería para el anclaje de la canaleta en el edificio CNA. | F23: ml | G23: 231 | H23: 125271 | I23: 109000 | J23: =+ROUND(I23*G23,0) -> 25179000 | K23: =+I23-H23 -> -16271 | L23: =+I23/H23 -> 0.87011359
A24: 2.7. | C24: Retiro de instalación existente y suministro e instalación de soscos para la bajante de agua lluvia ø 4" en PVC con su respectivo sifón para evitar malos olores, incluye la instalación de la soportería para el anclaje en el edificio CNA. | F24: und | G24: 50 | H24: 88909 | I24: 77400 | J24: =+ROUND(I24*G24,0) -> 3870000 | K24: =+I24-H24 -> -11509 | L24: =+I24/H24 -> 0.87055304
A25: 2.8. | C25: Limpieza y mantenimientos de tubería bajante de agua lluvia ø 4" en PVC, en el edificio CNA. | F25: und | G25: 50 | H25: 97000 | I25: 84400 | J25: =+ROUND(I25*G25,0) -> 4220000 | K25: =+I25-H25 -> -12600 | L25: =+I25/H25 -> 0.87010309
A26: 3.1. | C26: Desmonte de cielo raso en fibra mineral o en drywall incluye desmonte luminarias, retiro y disposición final de escombros. | F26: m2 | G26: 80 | H26: 38338 | I26: 33400 | J26: =+ROUND(I26*G26,0) -> 2672000 | K26: =+I26-H26 -> -4938 | L26: =+I26/H26 -> 0.87119829
A27: 3.2. | C27: Mantenimiento de cielo raso en fibra mineral. Incluye cambio, pintura y/o reutilización de láminas en fibra mineral, instalación de anclajes y arreglo de perfilería descolgada y colocación de soportes. | F27: m2 | G27: 1800 | H27: 35000 | I27: 30500 | J27: =+ROUND(I27*G27,0) -> 54900000 | K27: =+I27-H27 -> -4500 | L27: =+I27/H27 -> 0.87142857
... A38: 6.1. | C38: Resanes y pintura vinilo primera calidad tipo 1 a tres manos, aplica para muros interiores color blanco sobre pañete o repello liso. A todo costo. | F38: m2 | G38: 4500 | H38: 34663 | I38: 30200 | J38: =+ROUND(I38*G38,0) -> 135900000 | K38: =+I38-H38 -> -4463 | L38: =+I38/H38 -> 0.871246
A39: TOTAL REPARACIONES LOCATIVAS GENERALES SEDE PRINCIPAL | J39: =SUM(J16:J38) -> 1040328436 | K39: =+I39-H39 -> 0 | L39: =+I39/H39 -> #DIV/0!
A40: 1.1. | C40: Demolición muros Drywall incluye la disposición final de los escombros. | F40: m2 | G40: 250 | H40: 49033 | I40: 42700 | J40: =+ROUND(I40*G40,0) -> 10675000 | K40: =+I40-H40 -> -6333 | L40: =+I40/H40 -> 0.87084209
A41: 1.2. | C41: Desmonte de divisiones y puertas en vidrio incluye la disposición final o la disposición que el fondo Nacional del Ahorro indique. | F41: m2 | G41: 61 | H41: 50667 | I41: 44100 | J41: =+ROUND(I41*G41,0) -> 2690100 | K41: =+I41-H41 -> -6567 | L41: =+I41/H41 -> 0.87038901
A42: 1.3. | C42: Desmonte de cielo raso en fibra mineral o en drywall incluye desmonte luminarias, retiro y disposición final de escombros. | F42: m2 | G42: 1070 | H42: 36183 | I42: 31500 | J42: =+ROUND(I42*G42,0) -> 33705000 | K42: =+I42-H42 -> -4683 | L42: =+I42/H42 -> 0.87057458
A43: 1.4. | C43: Desmonte de redes eléctricas existentes. Incluye la disposición final de los escombros o la disposición que el fondo Nacional del Ahorro indique. | F43: glb | G43: 1 | H43: 13063210 | I43: 11365000 | J43: =+ROUND(I43*G43,0) -> 11365000 | K43: =+I43-H43 -> -1698210 | L43: =+I43/H43 -> 0.87000056
A44: 1.5. | C44: Desmonte de puestos de trabajo tales como divisiones metálicas, superficies, cajoneras etc. Adicionalmente, incluye la disposición final de los escombros o la disposición que el fondo Nacional del Ahorro indique. | F44: und | G44: 135 | H44: 96339 | I44: 83800 | J44: =+ROUND(I44*G44,0) -> 11313000 | K44: =+I44-H44 -> -12539 | L44: =+I44/H44 -> 0.86984503
A45: 1.6. | C45: Suministro e instalación de muro provisional en Drywall de 1/2" a una sola cara, incluye estructura, cinta, estuco. A todo costo. | F45: m2 | G45: 78 | H45: 95199 | I45: 82800 | J45: =+ROUND(I45*G45,0) -> 6458400 | K45: =+I45-H45 -> -12399 | L45: =+I45/H45 -> 0.86975704
A46: 2.1. | C46: Suministro e instalación de columnetas metálicas en tubería cuadrada estructural de 100mmx100mm, calibre 12 acabado en pintura color negro semi-mate. Incluye platina soldada a la base y anclajes a placa de piso y retiro de escombros. | F46: ml | G46: 100 | H46: 203925 | I46: 177400 | J46: =+ROUND(I46*G46,0) -> 17740000 | K46: =+I46-H46 -> -26525 | L46: =+I46/H46 -> 0.86992767
A47: 2.2. | C47: Suministro e instalación de viguetas metálicas en tubería cuadrada estructural de 100mmx100mm, calibre12 acabado en pintura color negro semi-mate. Incluye soldadura a columnetas y retiro de escombros. | F47: ml | G47: 130 | H47: 186288 | I47: 162100 | J47: =+ROUND(I47*G47,0) -> 21073000 | K47: =+I47-H47 -> -24188 | L47: =+I47/H47 -> 0.87015803
A48: 3.1. | C48: Suministro e instalación de muro en Superboard de 8 mm, altura 2.40 m a dos caras. Incluye estructura metálica, anclaje, cinta, estuco y fondeo de acabado en pintura en vinilo tipo 1. | F48: m2 | G48: 30 | H48: 205133 | I48: 178500 | J48: =+ROUND(I48*G48,0) -> 5355000 | K48: =+I48-H48 -> -26633 | L48: =+I48/H48 -> 0.87016716
A49: 4.1. | C49: Suministro e instalación de cielorraso en Drywall de 1/2" a una sola cara, incluye estructura, cinta, estuco, capa fondeo y pintura. A todo costo. | F49: m2 | G49: 1301 | H49: 131613 | I49: 114500 | J49: =+ROUND(I49*G49,0) -> 148964500 | K49: =+I49-H49 -> -17113 | L49: =+I49/H49 -> 0.86997485
A50: 4.2. | C50: Suministro e instalación de Frescasa Eco Sin Papel 3 1/2″ para cielorraso en Drywall. A todo costo. | F50: m2 | G50: 1301 | H50: 33384 | I50: 29000 | J50: =+ROUND(I50*G50,0) -> 37729000 | K50: =+I50-H50 -> -4384 | L50: =+I50/H50 -> 0.86867961
A51: 5.1. | C51: Suministro e instalación de piso laminado de alto tráfico de alta densidad (HDF) de 890 a 900 Kgms x cm3 y resistencia a la humedad. Incluye plástico aislante y yumbolon de acuerdo a las características técnicas y el guardaescobas. | F51: m2 | G51: 1070 | H51: 194913 | I51: 169600 | J51: =+ROUND(I51*G51,0) -> 181472000 | K51: =+I51-H51 -> -25313 | L51: =+I51/H51 -> 0.8701318
... A72: 9.2. | C72: Pintura vinilo primera calidad tipo uno tres manos cielo falsos blanco. A todo costo, incluye lineales. | F72: m2 | G72: 230.61 | H72: 41123 | I72: 35800 | J72: =+ROUND(I72*G72,0) -> 8255838 | K72: =+I72-H72 -> -5323 | L72: =+I72/H72 -> 0.87055905
A73: TOTAL REPARACIONES LOCATIVAS - EDIFICIO CNA - PISO 2 | J73: =SUM(J40:J72) -> 1083891338 | K73: =+I73-H73 -> 0 | L73: =+I73/H73 -> #DIV/0!
A74: 5.5. | C74: Suministro e instalación de piso laminado de alto tráfico de alta densidad (HDF) de 890 a 900 Kgms x cm3 y resistencia a la humedad, para la zona de mesas del restaurante Incluye nivelación en zonas puntuales, plástico aislante, yumbolon de acuerdo con las características técnicas y el guardaescobas. | F74: m2 | G74: 450 | H74: 194913 | I74: 169600 | J74: =+ROUND(I74*G74,0) -> 76320000 | K74: =+I74-H74 -> -25313 | L74: =+I74/H74 -> 0.8701318
...

Sheet 3 DIARQCO
A1: 3 | C1: FONDO NACIONAL DEL AHORRO
C3: OBJETO PROCESO | D3: =+'CONSOLIDADO FINANCIERO'!L5 -> REALIZAR LAS REPARACIONES LOCATIVAS DE LA INFRAESTRUCTURA FÍSICA DE LA SEDE PRINCIPAL - CNA DEL FONDO NACIONAL DEL AHORRO S.A.
C4: NUMERO DE PROCESO | D4: =+'CONSOLIDADO FINANCIERO'!D6 -> FNA-VGHA-CP-015-2024
C5: PROPONENTE | D5: =+'CONSOLIDADO FINANCIERO'!L7 -> 5282931966
C7: VERIFICACION EXPEDICIÓN REGISTRO UNICO DE PROPONENTES
C8: DIARQCO CONSTRUCTORES SAS NIT: 900185357 2
C9: FECHA CIERRE PROCESO | D9: 45643
C10: FECHA EXPEDICION RUP | D10: 45621 | J10: =IF(D10>=O10,"CUMPLE","NO CUMPLE") -> CUMPLE | L10: mm / dd / aa | M10: =IF(J10="CUMPLE",0,1) -> 0 | N10: =+TODAY()-30 -> 45622 | O10: =+D9-30 -> 45613 | P10: 30 días anteriores
C11: FECHA ULTIMA RENOVACION | D11: 45383 | J11: =IF(D10>=O11,"CUMPLE","NO CUMPLE") -> CUMPLE | L11: mm / dd / aa | M11: =IF(J11="CUMPLE",0,1) -> 0 | O11: =+D11+15 -> 45398 | P11: 10 días hábiles
C12: FECHA DE LOS ESTADOS FINANCIEROS | D12: 45291 | J12: =IF(D10>=O12,"CUMPLE","NO CUMPLE") -> CUMPLE | L12: mm / dd / aa | M12: =IF(J12="CUMPLE",0,1) -> 0 | O12: =+D12+15 -> 45306
C15: FECHA CIERRE PROCESO | D15: 45638
C16: FECHA EXPEDICION RUP | D16: 45616 | J16: =IF(D16>=O16,"CUMPLE","NO CUMPLE") -> CUMPLE | L16: mm / dd / aa | M16: =IF(J16="CUMPLE",0,1) -> 0 | O16: =+D15-30 -> 45608 | P16: 30 días anteriores
C17: FECHA ULTIMA RENOVACION | D17: 45416 | J17: =IF(D16>=O17,"CUMPLE","NO CUMPLE") -> CUMPLE | L17: mm / dd / aa | M17: =IF(J17="CUMPLE",0,1) -> 0 | O17: =+D17+15 -> 45431 | P17: 10 días hábiles
C18: FECHA DE LOS ESTADOS FINANCIEROS | D18: 45291 | J18: =IF(D16>=O18,"CUMPLE","NO CUMPLE") -> CUMPLE | L18: mm / dd / aa | M18: =IF(J18="CUMPLE",0,1) -> 0 | O18: =+D18+15 -> 45306
C22: FECHA CIERRE PROCESO
C23: FECHA EXPEDICION RUP | L23: mm / dd / aa | M23: =IF(J23="CUMPLE",0,1) -> 1 | O23: =+D22-30 -> -30 | P23: 30 días anteriores
C24: FECHA ULTIMA RENOVACION | L24: mm / dd / aa | M24: =IF(J24="CUMPLE",0,1) -> 1 | O24: =+D24+15 -> 15 | P24: 10 días hábiles
C25: FECHA DE LOS ESTADOS FINANCIEROS | L25: mm / dd / aa | M25: =IF(J25="CUMPLE",0,1) -> 1 | O25: =+D25+15 -> 15
C27: VERIFICACIÓN REQUISITOS HABILITANTES FINANCIEROS
A29: NUMERAL | B29: VERIFICACIÓN DE LA CAPACIDAD FINANCIERA | C29: DESCRIPCION | D29: CRITERIO | E29: ITEM | F29: =+C8 -> DIARQCO CONSTRUCTORES SAS NIT: 900185357 2 | I29: INDICADOR | J29: RESULTADO VERIFICACION | K29: DOCUMENTO ELECTRONICO | L29: OBSERVACIONES
F30: 1
A31: 4.3.1 | B31: 4.3.1 CAPACIDAD FINANCIERA | C31: Capital de Trabajo >= 25% POE | D31: ='CONSOLIDADO FINANCIERO'!L7*25% -> 1.320733e+09 | E31: Activo Corriente | F31: 14423697000 | I31: =(F31-F32)+(G31-G32) -> 13748950000 | J31: =IF(I31>=D31,"CUMPLE","NO CUMPLE") -> CUMPLE | K31: Registro Único de Proponentes | L31: El proponente cumple con los indicadores establecidos en las reglas de participación de conformidad con lo estabecido en el numeral 4.3 4.3. REQUISITOS MÍNIMOS HABILITANTES FINANCIEROS Y CAPACIDAD ORGANIZACIONAL de las reglas de participación | M31: =IF(J31="CUMPLE",0,1) -> 0
E32: Pasivo Corriente | F32: 674747000
A33: 4.3.1 | B33: =B31 -> 4.3.1 CAPACIDAD FINANCIERA | C33: Índice de Liquidez | D33: 1.9 | E33: Activo Corriente | F33: =+F31 -> 14423697000 | I33: =+((F33*F30)+(G33*G30)+(H33*H30))/((F34*F30)+(G34*G30)+(H34*H30)) -> 21.376452 | J33: =IF(I33>=D33,"CUMPLE","NO CUMPLE") -> CUMPLE | K33: Registro Único de Proponentes | M33: =IF(J33="CUMPLE",0,1) -> 0
E34: Pasivo Corriente | F34: =+F32 -> 674747000
A35: 4.3.1 | B35: =B33 -> 4.3.1 CAPACIDAD FINANCIERA | C35: Nivel de Endeudamiento | D35: 0.6 | E35: Pasivo Total | F35: 7736060000 | I35: =((F35*F30)+(G35*G30)+(H35*H30))/((F36*F30)+(G36*G30)+(H36*H30)) -> 0.48399382 | J35: =IF(I35<=D35,"CUMPLE","NO CUMPLE") -> CUMPLE | K35: Registro Único de Proponentes | M35: =IF(J35="CUMPLE",0,1) -> 0
E36: Activo Total | F36: 15983799000
A37: 4.3.1 | B37: =B35 -> 4.3.1 CAPACIDAD FINANCIERA | C37: Razón de Cobertura de Intereses | D37: 1.49 | E37: Utilidad Operacional | F37: 1843373000 | I37: =((F37*F30)+(G37*G30)+(H37*H30))/((F38*F30)+(G38*G30)+(H38*H30)) -> 5.2766549 | J37: =IF(I37>=D37,"CUMPLE","NO CUMPLE") -> CUMPLE | K37: Registro Único de Proponentes | M37: =IF(J37="CUMPLE",0,1) -> 0
E38: Gastos de Intereses | F38: 349345000
A39: 4.3.2 | B39: 4.3.2 capacidad Organizacional | C39: Rentabilidad sobre Patrimonio | D39: 0.11 | E39: Utilidad Operacional | F39: =+F37 -> 1843373000 | I39: =((F39*F30)+(G39*G30)+(H39*H30))/((F40*F30)+(G40*G30)+(H40*H30)) -> 0.2235004 | J39: =IF(I39>=D39,"CUMPLE","NO CUMPLE") -> CUMPLE | K39: Registro Único de Proponentes | M39: =IF(J39="CUMPLE",0,1) -> 0
E40: Patrimonio | F40: 8247739000
A41: 4.3.2 | B41: =+B39 -> 4.3.2 capacidad Organizacional | C41: Rentabilidad sobre Activo | D41: 0.05 | E41: Utilidad Operacional | F41: =+F37 -> 1843373000 | I41: =((F41*F30)+(G41*G30)+(H41*H30))/((F42*F30)+(G42*G30)+(H42*H30)) -> 0.11532759 | J41: =IF(I41>=D41,"CUMPLE","NO CUMPLE") -> CUMPLE | K41: Registro Único de Proponentes | M41: =IF(J41="CUMPLE",0,1) -> 0
E42: Activo total | F42: =+F36 -> 15983799000
A43: 4.3.1 | B43: =B31 -> 4.3.1 CAPACIDAD FINANCIERA | C43: Patrimonio ≥ 30% POE | D43: ='CONSOLIDADO FINANCIERO'!L7*30% -> 1.5848796e+09 | E43: Activo total | F43: =+F36 -> 15983799000 | I43: =(F43-F44)+(G43-G44) -> 8247739000 | J43: =IF(I43>=D43,"CUMPLE","NO CUMPLE") -> CUMPLE | K43: Registro Único de Proponentes | M43: =IF(J43="CUMPLE",0,1) -> 0
E44: Pasivo total | F44: =+F35 -> 7736060000
E45: RESULTADO | I45: =IF(M45>0,"NO CUMPLE","CUMPLE") -> CUMPLE | M45: =SUM(M31:M44) -> 0

Sheet OFERTA DIARQCO
E1: FONDO NACIONAL DEL AHORRO S.A.
A5: FORMATO No. 9 - PROPUESTA ECONOMICA
A6: Número del Proceso | E6: FNA-VGHA-CP-015-2024
A7: Descripción del Proceso: | E7: REALIZAR LAS REPARACIONES LOCATIVAS DE LA INFRAESTRUCTURA FÍSICA DE LA SEDE PRINCIPAL – CNA DEL FONDO NACIONAL DEL AHORRO S.A.
A8: Nombre del Oferente | E8: DIARQCO CONSTRUCTORES S.A.S
A9: NIT | E9: 900.185.357-2
A10: Representante Legal | E10: Carmen Elisa Rodriguez Gonzalez
A11: C.C | E11: 39.620.686 de Fusagasugá
A12: 1. El valor de la oferta económica deber ser expresado en PESOS COLOMBIANOS. 2. Asignar valor en las casillas "VALOR UNITARIO SIN IVA" y el porcentaje en "Administración", "Imprevistos" y "Utilidad". El valor del IVA se aplica sobre la Utilidad corresponde con la regulación tributaria vigente. 3. El oferente deberá tener en cuenta todos los gravámenes, impuestos tasas y demás contribuciones para la estimación del presupuesto. 4. No modificar, agregar o quitar ningún ítem o sub-ítem, so pena de encontrarse inmerso en causal de rechazo. 5. Todos los valores deberán estar ajustados al peso, es decir, sin decimales. Para el efecto, se aplicará la formula redondeo de Excel. 6. No podrá superar los VALORES UNITARIO SIN IVA REFERENCIA establecidos por la entidad ni tampoco podra ser cero (0) so pena de rechazo por encontrarse inmerso en causal de rechazo. 7. No podrá superar el Presupuesto Oficial Estimado so pena de encontrarse inmerso en causal de rechazo. 8.El oferente no podrá cambiar, eliminar la formulación. NOTA • El contratista deberá prever la proyección del presupuesto para el plazo de ejecución del contrato. El FNA no asumirán los costos adicionales generados por el IPC de los años subsiguientes o cualquier otro sistema de actualización de precios; en el caso que exista reglamentación gubernamental de incrementos salariales durante la ejecución del contrato, éstos deben ser contemplados por el contratista dentro del valor de la ofertado. • Tiempo estimado de ejecución: 12 meses • Los precios ofertados se deberán mantener durante la ejecución del contrato independientemente de la fecha de inicio de ejecución del contrato.
A14: ÍTEM | C14: ACTIVIDAD | F14: UNIDAD DE MEDIDA | G14: CANTIDAD | H14: VALOR UNITARIO SIN IVA (NO MODIFICAR) | I14: VALORES OFERTADOS
I15: VALOR UNITARIO SIN IVA | J15: VALOR TOTAL | K15: VERIFICACION PRECIOS TECHO | L15: VERIFICACION PRCIOS ARTIFIALMENTE BAJOS
A16: 1.1. | C16: Retiro, reparación y reposicion puntual de junta entre laminas (junta con factor forma 2cmx1cm), mediante el uso de fondo de junta tipo sika rod y sello elastomérico de poliuretano en color negro, con alta resistencia a la intemperie incluye andamio colgante o toda instalación provisional que permita el cumplimiento de la actividad. | F16: ml | G16: 2000 | H16: 16341 | I16: 15747 | J16: =+ROUND(I16*G16,0) -> 31494000 | K16: =+I16-H16 -> -594 | L16: =+I16/H16 -> 0.96364972
A17: 1.2. | C17: Pintura exterior tipo coraza para muros sobre pañete incluye toda instalación provisional que permita el cumplimiento de la actividad. | F17: m2 | G17: 300 | H17: 43227 | I17: 41656 | J17: =+ROUND(I17*G17,0) -> 12496800 | K17: =+I17-H17 -> -1571 | L17: =+I17/H17 -> 0.96365697
A18: 2.1. | C18: Retiro de impermeabilización existente y mortero de nivelación. Incluye el retiro y disposición final de escombros (Edificio Convenciones y Edificio CNA zona "L"). | F18: m2 | G18: 2332.42 | H18: 30375 | I18: 29271 | J18: =+ROUND(I18*G18,0) -> 68272266 | K18: =+I18-H18 -> -1104 | L18: =+I18/H18 -> 0.96365432
A19: 2.2. | C19: Instalación de mortero de nivelación con materiales de SIKA o similares características, previo a la instalación de la impermeabilización (Edificio Convenciones y Edificio CNA zona "L"). | F19: m2 | G19: 2332.42 | H19: 64685 | I19: 62334 | J19: =+ROUND(I19*G19,0) -> 145389068 | K19: =+I19-H19 -> -2351 | L19: =+I19/H19 -> 0.96365463
A20: 2.3. | C20: Impermeabilización de placa de cubierta plana transitable, no ventilada, con piso fijo, tipo convencional, para tráfico peatonal privado. Tipo Sika o de similares características con uso de mantos asfálticos, tipo bicapa (Edificio Convenciones y Edificio CNA zona "L"). | F20: m2 | G20: 2332.42 | H20: 129968 | I20: 125244 | J20: =+ROUND(I20*G20,0) -> 292121610 | K20: =+I20-H20 -> -4724 | L20: =+I20/H20 -> 0.96365259
A21: 2.4. | C21: Desmonte de ventaneria con vidrios en celosía ubicados en culata de cubierta en el edificio CNA. | F21: m2 | G21: 150 | H21: 53922 | I21: 51962 | J21: =+ROUND(I21*G21,0) -> 7794300 | K21: =+I21-H21 -> -1960 | L21: =+I21/H21 -> 0.9636512
A22: 2.5. | C22: Suministro e instalación de sistema de ventanas en vidrio fijas (sin básculante) en reemplazo de las ventanas en vidrio retiradas, ubicados en culata de cubierta en el edificio CNA. | F22: m2 | G22: 150 | H22: 305942 | I22: 294821 | J22: =+ROUND(I22*G22,0) -> 44223150 | K22: =+I22-H22 -> -11121 | L22: =+I22/H22 -> 0.96364997
A23: 2.6. | C23: Retiro de canaletas existentes y suministro e instalación de canaletas metálicas de sección trapezoidal elaboradas en acero galvanizado calibre 16 de acuerdo con las necesidades técnicas de la cubierta de aguas lluvia, incluye la instalación de la soportería para el anclaje de la canaleta en el edificio CNA. | F23: ml | G23: 231 | H23: 125271 | I23: 120717 | J23: =+ROUND(I23*G23,0) -> 27885627 | K23: =+I23-H23 -> -4554 | L23: =+I23/H23 -> 0.96364681
A24: 2.7. | C24: Retiro de instalación existente y suministro e instalación de soscos para la bajante de agua lluvia ø 4" en PVC con su respectivo sifón para evitar malos olores, incluye la instalación de la soportería para el anclaje en el edificio CNA. | F24: und | G24: 50 | H24: 88909 | I24: 85677 | J24: =+ROUND(I24*G24,0) -> 4283850 | K24: =+I24-H24 -> -3232 | L24: =+I24/H24 -> 0.96364822
A25: 2.8. | C25: Limpieza y mantenimientos de tubería bajante de agua lluvia ø 4" en PVC, en el edificio CNA. | F25: und | G25: 50 | H25: 97000 | I25: 93474 | J25: =+ROUND(I25*G25,0) -> 4673700 | K25: =+I25-H25 -> -3526 | L25: =+I25/H25 -> 0.96364948
A26: 3.1. | C26: Desmonte de cielo raso en fibra mineral o en drywall incluye desmonte luminarias, retiro y disposición final de escombros. | F26: m2 | G26: 80 | H26: 38338 | I26: 36944 | J26: =+ROUND(I26*G26,0) -> 2955520 | K26: =+I26-H26 -> -1394 | L26: =+I26/H26 -> 0.96363921
A27: 3.2. | C27: Mantenimiento de cielo raso en fibra mineral. Incluye cambio, pintura y/o reutilización de láminas en fibra mineral, instalación de anclajes y arreglo de perfilería descolgada y colocación de soportes. | F27: m2 | G27: 1800 | H27: 35000 | I27: 33728 | J27: =+ROUND(I27*G27,0) -> 60710400 | K27: =+I27-H27 -> -1272 | L27: =+I27/H27 -> 0.96365714
... A38: 6.1. | C38: Resanes y pintura vinilo primera calidad tipo 1 a tres manos, aplica para muros interiores color blanco sobre pañete o repello liso. A todo costo. | F38: m2 | G38: 4500 | H38: 34663 | I38: 33403 | J38: =+ROUND(I38*G38,0) -> 150313500 | K38: =+I38-H38 -> -1260 | L38: =+I38/H38 -> 0.96365
A39: TOTAL REPARACIONES LOCATIVAS GENERALES SEDE PRINCIPAL | J39: =SUM(J16:J38) -> 1151954128 | K39: =+I39-H39 -> 0 | L39: =+I39/H39 -> #DIV/0!
A40: 1.1. | C40: Demolición muros Drywall incluye la disposición final de los escombros. | F40: m2 | G40: 250 | H40: 49033 | I40: 47251 | J40: =+ROUND(I40*G40,0) -> 11812750 | K40: =+I40-H40 -> -1782 | L40: =+I40/H40 -> 0.96365713
