Workbook
Name ___________________________rc: #REF!
Name ___________________________rc: #REF!
Name __________________________APU221: #REF!
Name __________________________APU221: #REF!
Name __________________________PJ50: #REF!
Name __________________________PJ50: #REF!
Name __________________________pj51: #REF!
Name __________________________pj51: #REF!
Name __________________________rc: #REF!
Name __________________________rc: #REF!
Name _________________________APU221: #REF!
Name _________________________APU221: #REF!
Name _________________________PJ50: #REF!
Name _________________________PJ50: #REF!
Name _________________________pj51: #REF!
Name _________________________pj51: #REF!
Name _________________________rc: #REF!
Name _________________________rc: #REF!
Name ________________________rc: #REF!
Name ________________________rc: #REF!
Name _______________________APU221: #REF!
Name _______________________APU221: #REF!
Name _______________________PJ50: #REF!
Name _______________________PJ50: #REF!
Name _______________________pj51: #REF!
Name _______________________pj51: #REF!
Name _______________________rc: #REF!
Name _______________________rc: #REF!
Name ______________________APU221: #REF!
Name ______________________APU221: #REF!
Name ______________________PJ50: #REF!
Name ______________________PJ50: #REF!
Name ______________________pj51: #REF!
Name ______________________pj51: #REF!
Name ______________________rc: #REF!
Name ______________________rc: #REF!
Name _____________________APU221: #REF!
Name _____________________APU221: #REF!
Name _____________________PJ50: #REF!
Name _____________________PJ50: #REF!
Name _____________________pj51: #REF!
Name _____________________pj51: #REF!
Name _____________________rc: #REF!
Name _____________________rc: #REF!
Name ____________________APU221: #REF!
Name ____________________APU221: #REF!
Name ____________________PJ50: #REF!
Name ____________________PJ50: #REF!
Name ____________________pj51: #REF!
Name ____________________pj51: #REF!
Name ____________________rc: #REF!
Name ____________________rc: #REF!
Name ___________________rc: #REF!
Name ___________________rc: #REF!
Name __________________APU221: #REF!
Name __________________APU221: #REF!
Name __________________PJ50: #REF!
Name __________________PJ50: #REF!
Name __________________pj51: #REF!
Name __________________pj51: #REF!

Sheet PPTO HOJA
A3: REPUBLICA DE COLOMBIA
A4: DEPARTAMENTO DE ANTIOQUIA
A5: MUNICIPIO DE ARBOLETES
A7: CONSTRUCCION DE OBRAS CIVILES COMPLEMENTARIAS PARA EL CORRECTO FUNCIONAMIENTO DEL PROYECTO DENOMINADO “PARQUE GEOLÓGICO, NATURAL, AMBIENTAL, CULTURAL Y TURÍSTICO, VOLCÁN DE LODO DE ARBOLETES”, QUE SE LLEVARÁ A CABO EN EL MUNICIPIO DE ARBOLETES-ANTIOQUIA | G7: CONCEPTO INVERVENTORÍA
A8: PRESUPUESTO | E8: CONSORCIO VOLCÁN | G8: INTERVENTORÍA
A9: Nº | B9: DESCRIPCIÓN | C9: UNID. | D9: CANT. | E9: VALOR UNITARIO | F9: VALOR TOTAL | G9: VALOR UNITARIO | H9: VALOR TOTAL
A11: 1 | B11: MOVIMIENTOS DE TIERRA | F11: =+SUM(F12:F15) -> 19112108 | H11: =+SUM(H12:H15) -> 15213132
A12: 1.01 | B12: Excavación manual en material común bajo cualquier grado de humedad | C12: m3 | D12: 115.14 | E12: =+'1.01'!J43 -> 41268 | F12: =ROUND(D12*E12,0) -> 4751598 | G12: =+'1.01'!U43 -> 41268 | H12: =ROUND(D12*G12,0) -> 4751598
A13: =A12+0.01 -> 1.02 | B13: Relleno con material mixto para cimentación de tubería | C13: m3 | D13: 9.9500097 | E13: =+'1.02'!J43 -> 249302 | F13: =ROUND(D13*E13,0) -> 2480557 | G13: =+'1.02'!$U$43 -> 177063 | H13: =ROUND(D13*G13,0) -> 1761779
A14: =A13+0.01 -> 1.03 | B14: Relleno con material seleccionado tipo afirmado | C14: m3 | D14: 34.923981 | E14: =+'1.03'!J43 -> 295704 | F14: =ROUND(D14*E14,0) -> 10327161 | G14: =+'1.03'!U43 -> 210982 | H14: =ROUND(D14*G14,0) -> 7368331
A15: =A14+0.01 -> 1.04 | B15: Relleno con material seleccionado de excavación | C15: m3 | D15: 51.03 | E15: =+'1.04'!J43 -> 30429 | F15: =ROUND(D15*E15,0) -> 1552792 | G15: ='1.04'!U43 -> 26091 | H15: =ROUND(D15*G15,0) -> 1331424
A16: 2 | B16: SISTEMA SANITARIO | F16: =+SUM(F17:F24) -> 10843805 | H16: =+SUM(H17:H24) -> 10624974
A17: =A16+0.01 -> 2.01 | B17: S/I Tubería Sanitaria Ø 2" PVC-S | C17: m | D17: 1.6 | E17: =+'2.01'!J43 -> 28287 | F17: =ROUND(D17*E17,0) -> 45259 | G17: =+'2.01'!U43 -> 28123 | H17: =ROUND(D17*G17,0) -> 44997
A18: =A17+0.01 -> 2.02 | B18: S/I Tubería Sanitaria Ø 3" PVC-S | C18: m | D18: 1 | E18: =+'2.02'!J43 -> 38736 | F18: =ROUND(D18*E18,0) -> 38736 | G18: =+'2.02'!U43 -> 37448 | H18: =ROUND(D18*G18,0) -> 37448
A19: =+A18+0.01 -> 2.03 | B19: S/I Tubería Sanitaria Ø 4" PVC-S | C19: m | D19: 29.85 | E19: =+'2.03'!J43 -> 50478 | F19: =ROUND(D19*E19,0) -> 1506768 | G19: =+'2.03'!U43 -> 49581 | H19: =ROUND(D19*G19,0) -> 1479993
A20: 2.04 | B20: S/I Codo 90° PVC-S Ø2" | C20: und | D20: 4 | E20: =+'2.04'!J43 -> 6684 | F20: =ROUND(D20*E20,0) -> 26736 | G20: =+'2.04'!U43 -> 6473 | H20: =ROUND(D20*G20,0) -> 25892
A21: 2.05 | B21: S/I Codo 90° PVC-S Ø3" | C21: und | D21: 2 | E21: =+'2.05'!J43 -> 12520 | F21: =ROUND(D21*E21,0) -> 25040 | G21: =+'2.05'!U43 -> 12381 | H21: =ROUND(D21*G21,0) -> 24762
A22: 2.06 | B22: S/I Codo 90° PVC-S Ø4" | C22: und | D22: 6 | E22: =+'2.06'!J43 -> 20791 | F22: =ROUND(D22*E22,0) -> 124746 | G22: =+'2.06'!U43 -> 20493 | H22: =ROUND(D22*G22,0) -> 122958
A23: 2.07 | B23: Caja de registro en concreto reforzado de resistencia 28 Mpa de seción hidráulica interna de 0.30m x 0.30m x 0.80m, incluye tapa, refuerzo, mortero impermeabilizante, excavacion y relleno | C23: und | D23: 4 | E23: =+'2.07'!J45 -> 946521 | F23: =ROUND(D23*E23,0) -> 3786084 | G23: =+'2.07'!U45 -> 901356 | H23: =ROUND(D23*G23,0) -> 3605424
A24: =+A23+0.01 -> 2.08 | B24: Caja de registro en concreto reforzado de resistencia 28 Mpa de seción hidráulica interna de 0.50m x 0.50m x 0.90m, incluye tapa, refuerzo, mortero impermeabilizante, excavacion y relleno | C24: und | D24: 4 | E24: =+'2.08'!J44 -> 1322609 | F24: =ROUND(D24*E24,0) -> 5290436 | G24: =+'2.08'!U44 -> 1320875 | H24: =ROUND(D24*G24,0) -> 5283500
A25: =A16+1 -> 3 | B25: SISTEMA HIDRÁULICO | F25: =SUM(F26:F31) -> 792434 | H25: =SUM(H26:H31) -> 782047
A26: 3.01 | B26: S/I Tubería Presión PVC-P Ø 1 1/2" RDE 21 | C26: m | D26: 11 | E26: =+'3.01'!J43 -> 22164 | F26: =ROUND(D26*E26,0) -> 243804 | G26: =+'3.01'!U43 -> 22087 | H26: =ROUND(D26*G26,0) -> 242957
A27: =A26+0.01 -> 3.02 | B27: S/I Tubería Presión PVC-P Ø 1 1/4" RDE 21 | C27: m | D27: 13.5 | E27: =+'3.02'!J43 -> 18352 | F27: =ROUND(D27*E27,0) -> 247752 | G27: =+'3.02'!U43 -> 18284 | H27: =ROUND(D27*G27,0) -> 246834
A28: =A27+0.01 -> 3.03 | B28: S/I Tubería Presión PVC-P Ø 3/4" RDE 21 | C28: m | D28: 14 | E28: =+'3.03'!J43 -> 9224 | F28: =ROUND(D28*E28,0) -> 129136 | G28: =+'3.03'!U43 -> 9170 | H28: =ROUND(D28*G28,0) -> 128380
A29: =A28+0.01 -> 3.04 | B29: S/I Codo 90° PVC-P Ø 1 1/2" | C29: und | D29: 6 | E29: =+'3.04'!J43 -> 12829 | F29: =ROUND(D29*E29,0) -> 76974 | G29: =+'3.04'!U43 -> 12558 | H29: =ROUND(D29*G29,0) -> 75348
A30: =A29+0.01 -> 3.05 | B30: S/I Codo 90° PVC-P Ø 1 1/4" | C30: und | D30: 8 | E30: =+'3.05'!J43 -> 7966 | F30: =ROUND(D30*E30,0) -> 63728 | G30: =+'3.05'!U43 -> 7610 | H30: =ROUND(D30*G30,0) -> 60880
A31: =A30+0.01 -> 3.06 | B31: S/I Codo 90° PVC-P Ø 3/4" | C31: und | D31: 8 | E31: =+'3.06'!J43 -> 3880 | F31: =ROUND(D31*E31,0) -> 31040 | G31: =+'3.06'!U43 -> 3456 | H31: =ROUND(D31*G31,0) -> 27648
A32: 4 | B32: SISTEMA DE DRENAJE | F32: =SUM(F33:F41) -> 22148502 | H32: =SUM(H33:H41) -> 18141617
A33: 4.01 | B33: S/I Tubería Sanitaria Ø 4" PVC-S | C33: m | D33: 117.5 | E33: =+'4.01'!J43 -> 50478 | F33: =ROUND(D33*E33,0) -> 5931165 | G33: =+'4.01'!U43 -> 49581 | H33: =ROUND(D33*G33,0) -> 5825768
A34: =A33+0.01 -> 4.02 | B34: S/I Tubería Sanitaria Corrugada Ø 160mm PVC-S8 | C34: m | D34: 17.75 | E34: =+'4.02'!J43 -> 70037 | F34: =ROUND(D34*E34,0) -> 1243157 | G34: =+'4.02'!U43 -> 67669 | H34: =ROUND(D34*G34,0) -> 1201125
A35: =A34+0.01 -> 4.03 | B35: S/I Yee Sanitaria CC 4" x 4" PVC - S | C35: und | D35: 16 | E35: =+'4.03'!J43 -> 42264 | F35: =ROUND(D35*E35,0) -> 676224 | G35: =+'4.03'!U43 -> 41966 | H35: =ROUND(D35*G35,0) -> 671456
A36: =A35+0.01 -> 4.04 | B36: S/I Codo 45° Ø 6" PVC - S | C36: und | D36: 1 | E36: =+'4.04'!J43 -> 83814 | F36: =ROUND(D36*E36,0) -> 83814 | G36: =+'4.04'!U43 -> 83470 | H36: =ROUND(D36*G36,0) -> 83470
A37: =A36+0.01 -> 4.05 | B37: S/I Codo 90° Ø 4" PVC - S | C37: und | D37: 1 | E37: =+'4.05'!J43 -> 20660 | F37: =ROUND(D37*E37,0) -> 20660 | G37: =+'4.05'!U43 -> 20055 | H37: =ROUND(D37*G37,0) -> 20055
A38: =A37+0.01 -> 4.06 | B38: S/I Codo 45° Ø 4" PVC - S | C38: und | D38: 4 | E38: =+'4.06'!J43 -> 24536 | F38: =ROUND(D38*E38,0) -> 98144 | G38: =+'4.06'!U43 -> 23931 | H38: =ROUND(D38*G38,0) -> 95724
A39: =A38+0.01 -> 4.07 | B39: Relleno con material tipo filtrante para drenaje francés | C39: m3 | D39: 6.8984071 | E39: =+'4.07'!J43 -> 303181 | F39: =ROUND(D39*E39,0) -> 2091466 | G39: =+'4.07'!U43 -> 213339 | H39: =ROUND(D39*G39,0) -> 1471699
A40: =A39+0.01 -> 4.08 | B40: Geotextil no tejido para drenaje francés (NT-2500) | C40: m2 | D40: 48 | E40: =+'4.08'!$J$45 -> 27657 | F40: =ROUND(D40*E40,0) -> 1327536 | G40: =+'4.08'!U45 -> 22670 | H40: =ROUND(D40*G40,0) -> 1088160
A41: =A40+0.01 -> 4.09 | B41: S/I Tubería Sanitaria descolgada Ø 4" PVC-S (Incluye codos 90° PVC-S 4", pintura color verde olivo semimate y abrazaderas metálicas 4") | C41: m | D41: 88 | E41: =+'4.09'!J47 -> 121322 | F41: =ROUND(D41*E41,0) -> 10676336 | G41: =+'4.09'!U47 -> 87320 | H41: =ROUND(D41*G41,0) -> 7684160
A42: 5 | B42: OBRAS CIVILES DE ESTRUCTURAS EN MADERA | F42: =SUM(F43:F52) -> 191221445 | H42: =SUM(H43:H52) -> 168026228
A43: 5.01 | B43: Suministro e Instalación de piedra Coralina en retal con especificaciones según planos arquitectónicos | C43: m2 | D43: 82.4 | E43: =+'5.01'!J43 -> 59504 | F43: =ROUND(D43*E43,0) -> 4903130 | G43: =+'5.01'!U43 -> 116259 | H43: =ROUND(D43*G43,0) -> 9579742
A44: 5.02 | B44: Mortero 1:4 para adherencia de Piedra Coralina | C44: m3 | D44: =D43*0.12 -> 9.888 | E44: =+'5.02'!J43 -> 894048 | F44: =+ROUND(D44*E44,0) -> 8840347
...

Sheet AU + PGIO
A2: EMPRESA DE DESARROLLO URBANO DE LA CEJA
A3: =+'PPTO HOJA'!A7 -> CONSTRUCCION DE OBRAS CIVILES COMPLEMENTARIAS PARA EL CORRECTO FUNCIONAMIENTO DEL PROYECTO DENOMINADO “PARQUE GEOLÓGICO, NATURAL, AMBIENTAL, CULTURAL Y TURÍSTICO, VOLCÁN DE LODO DE ARBOLETES”, QUE SE LLEVARÁ A CABO EN EL MUNICIPIO DE ARBOLETES-ANTIOQUIA
A5: AU - PGIO
O6: 1.2
C7: COSTO DIRECTO DE OBRA (CD) | D7: =+'PPTO HOJA'!F88 -> 698346626 | N7: 4973212298 | O7: 0.26 | P7: 979572119
C8: TERMINO DE EJECUCIÓN DE OBRA ( MESES ) | D8: 2 | N8: 2.770611e+08 | O8: 0.01 | P8: 37675851
A9: A. ADMINISTRACIÓN | N9: 69265275 | O9: 0.05 | P9: 188379254
P10: 4973212298
A11: CANTIDAD | C11: DESCRIPCION DEL CARGO | D11: DEDICACIÓN MES | E11: SALARIO MENSUAL | F11: FACTOR PRESTACIONAL | G11: PLAZO CONSTRUCCION | H11: CANTIDAD DE PERSONAL / DEDICACION/SALARIO / PLAZO/FACTOR PRESTACIONAL | J11: 1 | P11: 0
A12: A | D12: C | E12: D | F12: E | G12: D | H12: F = A * B * C * D * E | P12: 51126445
A13: 1.1 PERSONAL PROFESIONAL Y ESPECIALISTAS | I13: 1.16 | P13: 0.010280367
A14: 1 | C14: Director de Obra | D14: 0.25 | E14: =4000000*1.19 -> 4760000 | F14: 1.8 | G14: =+D8 -> 2 | H14: =A14*D14*E14*F14*G14 -> 4284000 | J14: 3550000
A15: Funciones: | C15: (Dirigir, coordinar, verificar la ejecución de todas las actividades de obras en los plazos requeridos por el contratante. Esto incluye la coordinación de todas las áreas técnicas, así como las solicitudes provenientes de la parte administrativa, jurídica, legal y social en los que hubiere necesidad de su participación. Producción de informes de acuerdo a las solicitudes de la entidad contratante. Participación en comités. Entrega de productos, y seguimiento del plan de calidad de la empresa). Debe ser un Profesional de la Ingeniería (o Arquitectura), con los conocimientos técnicos mínimos necesarios para velar por la adecuada ejecución de la obra en concordancia con los Planos de Proyecto, con las normas Técnicas de Construcción vigentes, con la Planificación estipulada para la ejecución y, en general, con las condiciones acordadas legalmente con el Contratante de la obra.)
A16: 1 | C16: Residente de Obra | D16: 1 | E16: =1300000*1.16 -> 1508000 | F16: 1.8 | G16: =+G14 -> 2 | H16: =A16*D16*E16*F16*G16 -> 5428800 | J16: 3500000
A17: Funciones: | C17: (Planear, coordinar, verificar la correcta ejecución de todas las actividades de obras en los plazos requeridos por el contratante, de acuerdo con lo establecido en los terminos de referencia, dejar constancia de la correcta ejecución de las obras mediante registro fotográfico. Estará bajo la supervisión del Director de Obra. Debe ser un Profesional de la Ingeniería (o Arquitectura), con los conocimientos técnicos mínimos necesarios para velar por la adecuada ejecución de la obra en concordancia con los Planos de Proyecto, con las normas Técnicas de Construcción vigentes, con la Planificación estipulada para la ejecución y, en general, con las condiciones acordadas legalmente con el Contratante de la obra.)
A18: 0 | C18: Residente de Obra - Saneamiento Básico | D18: 0.5 | E18: =+E16 -> 1508000 | F18: 1.8 | G18: =+G16 -> 2 | H18: =A18*D18*E18*F18*G18 -> 0 | J18: 3500000
A19: Funciones: | C19: (Planear, coordinar, verificar la correcta ejecución de todas las actividades de obras en los plazos requeridos por el contratante, de acuerdo con lo establecido en los terminos de referencia, dejar constancia de la correcta ejecución de las obras mediante registro fotográfico. Estará bajo la supervisión del Director de Obra. Debe ser un Profesional de la Ingeniería (o Arquitectura), con los conocimientos técnicos mínimos necesarios para velar por la adecuada ejecución de la obra en concordancia con los Planos de Proyecto, con las normas Técnicas de Construcción vigentes, con la Planificación estipulada para la ejecución y, en general, con las condiciones acordadas legalmente con el Contratante de la obra.)
A20: 0 | C20: Profesional Ambiental | D20: 1 | E20: =+E16 -> 1508000 | F20: 1.8 | G20: =+G16 -> 2 | H20: =A20*D20*E20*F20*G20 -> 0 | J20: 3500000
A21: Funciones: | C21: (Profesional con capacidad de identificar, comprender, proponer, planificar e implementar medidas para prevenir, controlar o mitigar los peligros y/o impactos ambientales que se generen durante el desarrollo de la obra. Debe ser un profesional ambiental y/o sanitario, con los conocimientos técnico mínimos para velar por la adecuada ejecución de la obra en concordancia con los planos del proyecto, con las normas técnicas ambientales y de construcción vigente , con la planificación estipulada para la ejecución, y en general, con las condiciones acordadas legalmente con el contratante de la obra.
A22: 0 | C22: Inspector de Obra | D22: 1 | E22: =1160000*1.16 -> 1345600 | F22: 1.8 | G22: =+G16 -> 2 | H22: =A22*D22*E22*F22*G22 -> 0 | J22: 3500000
A23: Funciones: | C23: Apoyo al Residente de Obra en todas las funciones que este y/o el Director Designe (verificar la correcta ejecución de todas las actividades de obras en los plazos requeridos por el contratante, de acuerdo con lo establecido en los terminos de referencia, dejar constancia de la correcta ejecución de las obras mediante registro fotográfico. Debe ser un Tecnico en Construccion con experiencia acreditada, Profesional de la Ingeniería (o Arquitectura) con los conocimientos técnicos mínimos necesarios para velar por la adecuada ejecución de la obra en concordancia con los Planos de Proyecto, con las normas Técnicas de Construcción vigentes, con la Planificación estipulada para la ejecución y, en general, con las condiciones acordadas legalmente con el Contratante de la obra.)
A24: 0 | C24: Especialista en estructuras | D24: 0 | E24: 3290603.5 | F24: 1.69 | G24: 11 | H24: 0 | J24: 3500000
A25: Funciones: | C25: (Verificar la correcta ejecución de actividades correspondientes a las obras relacionadas con estructuras, esto incluye asesorar y tomar decisiones en cuanto a procesos constructivos, modificaciones a planos, planeación de actividades, formulación de ensayos. Estará bajo la supervisión del Director de Obra. Debe ser un Profesional de la Ingeniería especializado en el área de estructuras, con los conocimientos técnicos mínimos necesarios para velar por la adecuada ejecución de la obra en concordancia con los Planos de Proyecto, con las normas Técnicas de Construcción vigentes, en general, con las condiciones acordadas legalmente con el Contratante de la obra.)
A26: 1 | C26: Ingeniero Residente electrico | D26: 1 | E26: =+E20 -> 1508000 | F26: =+F22 -> 1.8 | G26: =+G22 -> 2 | H26: =A26*D26*E26*F26*G26 -> 5428800 | M26: Obras civiles
A27: Funciones: | C27: (Planear, coordinar, verificar la correcta ejecución de todas las actividades de obras en los plazos requeridos por el contratante, de acuerdo con lo establecido en los terminos de referencia, dejar constancia de la correcta ejecución de las obras mediante registro fotográfico. Estará bajo la supervisión del Ingeniero electrico. Debe ser un Profesional de la Ingeniería electrica, con los conocimientos técnicos mínimos necesarios para velar por la adecuada ejecución de la obra en concordancia con los Planos de Proyecto, con las normas Técnicas de Construcción vigentes, con la Planificación estipulada para la ejecución y, en general, con las condiciones acordadas legalmente con el Contratante de la obra.) | M27: Redes Electricas
A28: 0 | C28: Ingeniero esp. Hidraulico | D28: 0 | E28: 3290603.5 | F28: 1.69 | G28: 11 | H28: 0 | J28: 3500000 | M28: Saneamiento Ambiental
A29: Funciones: | C29: (Verificar la correcta ejecución de actividades correspondientes a las obras relacionadas con las instalaciones hidraulicas, esto incluye asesorar y tomar decisiones en cuanto a procesos constructivos, modificaciones a planos, planeación de actividades, formulación de ensayos. Estará bajo la supervisión del Director de Obra. Debe ser un Profesional de la Ingeniería hidraulica, con los conocimientos técnicos mínimos necesarios para velar por la adecuada ejecución de la obra en concordancia con los Planos de Proyecto, con las normas Técnicas de Construcción vigentes, en general, con las condiciones acordadas legalmente con el Contratante de la obra.)
A30: 0 | C30: Ingeniero Geotecnico | D30: 0 | E30: 3104340 | G30: 11 | H30: 0 | J30: 3500000
A31: Funciones: | C31: (Verificar la correcta ejecución de actividades correspondientes a las obras relacionadas a las cimentaciones o cualquier modificacion en el proyecto que afecte a las bases y suelos donde se realizará la obra, esto incluye asesorar y tomar decisiones en cuanto a procesos constructivos, modificaciones a planos, planeación de actividades, formulación de ensayos. Estará bajo la supervisión del Director de Obra. Debe ser un Profesional de la Ingeniería civil con especializacion, maestria o doctorado en Geotecnia, con los conocimientos técnicos mínimos necesarios para velar por la adecuada ejecución de la obra en concordancia con los Planos de Proyecto, con las normas Técnicas de Construcción vigentes, en general, con las condiciones acordadas legalmente con el Contratante de la obra.)
A32: 0 | C32: Ingeniero Ambiental | D32: 1 | E32: 2500000 | F32: 1.69 | G32: 11 | H32: 0
A33: Funciones: | C33: (Verificar la correcta ejecución de actividades correspondientes a las obras relacionadas con el tratamiento de agua potable y residuales, esto incluye asesorar y tomar decisiones en cuanto a procesos constructivos, modificaciones a planos, planeación de actividades, formulación de ensayos. Estará bajo la supervisión del Director de Obra. Debe ser un Profesional de la Ingeniería especializado en el área ambiental, con los conocimientos técnicos mínimos necesarios para velar por la adecuada ejecución de la obra en concordancia con los Planos de Proyecto, con las normas Técnicas de Construcción vigentes, en general, con las condiciones acordadas legalmente con el Contratante de la obra.)
A34: 0 | C34: Ingeniero Forestal | D34: 0.25 | E34: 2443722 | F34: 1.69 | G34: 11 | H34: 0
A35: Funciones: | C35: (Verificar la correcta ejecución de actividades correspondientes a las obras relacionadas con el componente forestal, esto incluye asesorar y tomar decisiones en cuanto a procesos constructivos, modificaciones a planos, planeación de actividades, formulación de ensayos. Estará bajo la supervisión del Director de Obra. Debe ser un Profesional de la Ingeniería Forestal, con los conocimientos técnicos mínimos necesarios para velar por la adecuada ejecución de la obra en concordancia con los Planos de Proyecto, con las normas Técnicas de Construcción vigentes, en general, con las condiciones acordadas legalmente con el Contratante de la obra.)
A36: 0 | C36: Trabajador(a) Social | D36: 1 | E36: =1800000*1.16 -> 2088000 | F36: 1.8 | G36: =+G22 -> 2 | H36: =A36*D36*E36*F36*G36 -> 0 | J36: 2000000
A37: Funciones: | C37: (Interactuar, comunicar, dirigir, mediar, y todas las demás funciones requeridas para servir de canal de comunicación entre las personas y la entidad contratante. Se encargará de formular, diseñar e implementar el plan de gestión social de acuerdo a los lineamientos establecidos por la entidad contratante. Estará bajo la supervisión del Director de Obra. Debe ser un Profesional de la Sicología o Trabajo Social, con las condiciones acordadas legalmente con el Contratante de la obra.)
A38: 1 | C38: COORDINADOR SST (Profesional SST) | D38: 0.2 | E38: =+E26 -> 1508000 | F38: 1.8 | G38: =+G36 -> 2 | H38: =A38*D38*E38*F38*G38 -> 1085760 | J38: 1500000
A39: Funciones: | C39: (Velar por el cumplimiento de los protoclos y normatividad SST y Ambiental de la entidad contratante y de la firma constratista, esto incluye asesorar y tomar decisiones en cuanto a procesos constructivos, modificaciones a planos, planeación de actividades, formulación de ensayos, capacitaciones, control de materiales, residuos, y todo lo relacionado con la seguridad industrial y el impacto ambiental que genere la obra. Estará bajo la supervisión del Director de Obra. Debe ser un Profesional de la Ingeniería ambiental o forestal o especilista en gestion HSEQ, con los conocimientos técnicos mínimos necesarios para velar por la adecuada ejecución de la obra en concordancia con los Planos de Proyecto, con las normas Técnicas de Construcción vigentes, en general, con las condiciones acordadas legalmente con el Contratante de la obra. Adicionalmente, deberá formular e implementar dentro de obra los protocolos de bioseguridad que contenga las medidas necesarias para prevención de la propagación del virus COVID-19 en los trabajadores.)
A41: 1.2 PERSONAL TÉCNICO Y PERSONAL AUXILIAR TÉCNICO
A42: 1 | C42: TOPOGRAFO | D42: 0.25 | E42: =1800000*1.16 -> 2088000 | F42: 1.8 | G42: =+G38 -> 2 | H42: =A42*D42*E42*F42*G42 -> 1879200
A43: 1 | C43: CADENEROS | D43: =+D42 -> 0.25 | E43: 1200000 | F43: 1.8 | G43: =+G42 -> 2 | H43: =A43*D43*E43*F43*G43 -> 1080000
...

Sheet 1.01
D1: ='PPTO HOJA'!A4 -> DEPARTAMENTO DE ANTIOQUIA | O1: 0
D2: ='PPTO HOJA'!A5 -> MUNICIPIO DE ARBOLETES | O2: 0
D3: ='PPTO HOJA'!A7 -> CONSTRUCCION DE OBRAS CIVILES COMPLEMENTARIAS PARA EL CORRECTO FUNCIONAMIENTO DEL PROYECTO DENOMINADO “PARQUE GEOLÓGICO, NATURAL, AMBIENTAL, CULTURAL Y TURÍSTICO, VOLCÁN DE LODO DE ARBOLETES”, QUE SE LLEVARÁ A CABO EN EL MUNICIPIO DE ARBOLETES-ANTIOQUIA | O3: 0
D4: ANALISIS DE PRECIOS UNITARIOS | O4: ANALISIS DE PRECIOS UNITARIOS
A6: I | B6: ÍTEM | C6: ='PPTO HOJA'!A12 -> 1.01 | E6: ='PPTO HOJA'!B12 -> Excavación manual en material común bajo cualquier grado de humedad | I6: Unidad | J6: ='PPTO HOJA'!C12 -> m3 | L6: I | M6: ÍTEM | N6: ='PPTO HOJA'!I12 -> 0 | P6: =E6 -> Excavación manual en material común bajo cualquier grado de humedad | T6: Unidad | U6: =J6 -> m3
B7: Equipo | M7: Equipo
B8: DESCRIPCIÓN EQUIPO | G8: TIPO | H8: TARIFA/DIA | I8: RENDIMIENTO | J8: VALOR PARCIAL | M8: DESCRIPCIÓN EQUIPO | R8: TIPO | S8: TARIFA/DIA | T8: RENDIMIENTO | U8: VALOR PARCIAL
B9: HERRAMIENTAS MENORES | I9: 0.05 | J9: =ROUND(I9*J41,0) -> 1965 | M9: HERRAMIENTAS MENORES | T9: 0.05 | U9: =ROUND(T9*U41,0) -> 1965
G10: =IF(B10="","",VLOOKUP(B10,EQUIPOS!$B$7:$F$46,3,FALSE)) | H10: =IF(B10="","",VLOOKUP(B10,EQUIPOS!$B$7:$F$46,5,FALSE)) | J10: =IF(B10="",0,ROUND(H10/I10,0)) -> 0 | R10: =IF(M10="","",VLOOKUP(M10,EQUIPOS!$B$7:$F$46,3,FALSE)) | S10: =IF(M10="","",VLOOKUP(M10,EQUIPOS!$B$7:$F$46,5,FALSE)) | U10: =IF(M10="",0,ROUND(S10/T10,0)) -> 0
G11: =IF(B11="","",VLOOKUP(B11,EQUIPOS!$B$7:$F$46,3,FALSE)) | H11: =IF(B11="","",VLOOKUP(B11,EQUIPOS!$B$7:$F$46,5,FALSE)) | J11: =IF(B11="",0,ROUND(H11/I11,0)) -> 0 | R11: =IF(M11="","",VLOOKUP(M11,EQUIPOS!$B$7:$F$46,3,FALSE)) | S11: =IF(M11="","",VLOOKUP(M11,EQUIPOS!$B$7:$F$46,5,FALSE)) | U11: =IF(M11="",0,ROUND(S11/T11,0)) -> 0
G12: =IF(B12="","",VLOOKUP(B12,EQUIPOS!$B$7:$F$46,3,FALSE)) | H12: =IF(B12="","",VLOOKUP(B12,EQUIPOS!$B$7:$F$46,5,FALSE)) | J12: =IF(B12="",0,ROUND(H12/I12,0)) -> 0 | R12: =IF(M12="","",VLOOKUP(M12,EQUIPOS!$B$7:$F$46,3,FALSE)) | S12: =IF(M12="","",VLOOKUP(M12,EQUIPOS!$B$7:$F$46,5,FALSE)) | U12: =IF(M12="",0,ROUND(S12/T12,0)) -> 0
G13: =IF(B13="","",VLOOKUP(B13,EQUIPOS!$B$7:$F$46,3,FALSE)) | H13: =IF(B13="","",VLOOKUP(B13,EQUIPOS!$B$7:$F$46,5,FALSE)) | J13: =IF(B13="",0,ROUND(H13/I13,0)) -> 0 | R13: =IF(M13="","",VLOOKUP(M13,EQUIPOS!$B$7:$F$46,3,FALSE)) | S13: =IF(M13="","",VLOOKUP(M13,EQUIPOS!$B$7:$F$46,5,FALSE)) | U13: =IF(M13="",0,ROUND(S13/T13,0)) -> 0
G14: =IF(B14="","",VLOOKUP(B14,EQUIPOS!$B$7:$F$46,3,FALSE)) | H14: =IF(B14="","",VLOOKUP(B14,EQUIPOS!$B$7:$F$46,5,FALSE)) | R14: =IF(M14="","",VLOOKUP(M14,EQUIPOS!$B$7:$F$46,3,FALSE)) | S14: =IF(M14="","",VLOOKUP(M14,EQUIPOS!$B$7:$F$46,5,FALSE))
B15: Subtotal Equipo : | J15: =SUM(J9:J14) -> 1965 | M15: Subtotal Equipo : | U15: =SUM(U9:U14) -> 1965
B17: Materiales | M17: Materiales
B18: DESCRIPCIÓN MATERIAL | F18: CANTIDAD | G18: UNIDAD | H18: DESPERDICIO (%) | I18: VALOR UNITARIO | J18: VALOR PARCIAL | M18: DESCRIPCIÓN MATERIAL | Q18: CANTIDAD | R18: UNIDAD | S18: DESPERDICIO (%) | T18: VALOR UNITARIO | U18: VALOR PARCIAL
G19: =IF(F19=0,"",VLOOKUP(B19,'LISTADO DE MATERIALES'!$B$6:$D$311,2,FALSE)) | I19: =IF(F19=0,"",VLOOKUP(B19,'LISTADO DE MATERIALES'!$B$6:$D$311,3,FALSE)) | J19: =IF(I19="",0,ROUND((+F19*I19*(1+H19)),0)) -> 0 | R19: =IF(Q19=0,"",VLOOKUP(M19,'LISTADO DE MATERIALES'!$B$6:$D$311,2,FALSE)) | T19: =IF(Q19=0,"",VLOOKUP(M19,'LISTADO DE MATERIALES'!$B$6:$D$311,3,FALSE)) | U19: =IF(T19="",0,ROUND((+Q19*T19*(1+S19)),0)) -> 0
G20: =IF(F20=0,"",VLOOKUP(B20,'LISTADO DE MATERIALES'!$B$6:$D$311,2,FALSE)) | I20: =IF(F20=0,"",VLOOKUP(B20,'LISTADO DE MATERIALES'!$B$6:$D$311,3,FALSE)) | J20: =IF(I20="",0,ROUND((+F20*I20*(1+H20)),0)) -> 0 | R20: =IF(Q20=0,"",VLOOKUP(M20,'LISTADO DE MATERIALES'!$B$6:$D$311,2,FALSE)) | T20: =IF(Q20=0,"",VLOOKUP(M20,'LISTADO DE MATERIALES'!$B$6:$D$311,3,FALSE)) | U20: =IF(T20="",0,ROUND((+Q20*T20*(1+S20)),0)) -> 0
G21: =IF(F21=0,"",VLOOKUP(B21,'LISTADO DE MATERIALES'!$B$6:$D$311,2,FALSE)) | I21: =IF(F21=0,"",VLOOKUP(B21,'LISTADO DE MATERIALES'!$B$6:$D$311,3,FALSE)) | J21: =IF(I21="",0,ROUND((+F21*I21*(1+H21)),0)) -> 0 | R21: =IF(Q21=0,"",VLOOKUP(M21,'LISTADO DE MATERIALES'!$B$6:$D$311,2,FALSE)) | T21: =IF(Q21=0,"",VLOOKUP(M21,'LISTADO DE MATERIALES'!$B$6:$D$311,3,FALSE)) | U21: =IF(T21="",0,ROUND((+Q21*T21*(1+S21)),0)) -> 0
G22: =IF(F22=0,"",VLOOKUP(B22,'LISTADO DE MATERIALES'!$B$6:$D$311,2,FALSE)) | I22: =IF(F22=0,"",VLOOKUP(B22,'LISTADO DE MATERIALES'!$B$6:$D$311,3,FALSE)) | J22: =IF(I22="",0,ROUND((+F22*I22*(1+H22)),0)) -> 0 | R22: =IF(Q22=0,"",VLOOKUP(M22,'LISTADO DE MATERIALES'!$B$6:$D$311,2,FALSE)) | T22: =IF(Q22=0,"",VLOOKUP(M22,'LISTADO DE MATERIALES'!$B$6:$D$311,3,FALSE)) | U22: =IF(T22="",0,ROUND((+Q22*T22*(1+S22)),0)) -> 0
G23: =IF(F23=0,"",VLOOKUP(B23,'LISTADO DE MATERIALES'!$B$6:$D$311,2,FALSE)) | I23: =IF(F23=0,"",VLOOKUP(B23,'LISTADO DE MATERIALES'!$B$6:$D$311,3,FALSE)) | J23: =IF(I23="",0,ROUND((+F23*I23*(1+H23)),0)) -> 0 | R23: =IF(Q23=0,"",VLOOKUP(M23,'LISTADO DE MATERIALES'!$B$6:$D$311,2,FALSE)) | T23: =IF(Q23=0,"",VLOOKUP(M23,'LISTADO DE MATERIALES'!$B$6:$D$311,3,FALSE)) | U23: =IF(T23="",0,ROUND((+Q23*T23*(1+S23)),0)) -> 0
G24: =IF(F24=0,"",VLOOKUP(B24,'LISTADO DE MATERIALES'!$B$6:$D$311,2,FALSE)) | I24: =IF(F24=0,"",VLOOKUP(B24,'LISTADO DE MATERIALES'!$B$6:$D$311,3,FALSE)) | J24: =IF(I24="",0,ROUND((+F24*I24*(1+H24)),0)) -> 0 | R24: =IF(Q24=0,"",VLOOKUP(M24,'LISTADO DE MATERIALES'!$B$6:$D$311,2,FALSE)) | T24: =IF(Q24=0,"",VLOOKUP(M24,'LISTADO DE MATERIALES'!$B$6:$D$311,3,FALSE)) | U24: =IF(T24="",0,ROUND((+Q24*T24*(1+S24)),0)) -> 0
B25: Subtotal Materiales : | J25: =SUM(J19:J24) -> 0 | M25: Subtotal Materiales : | U25: =SUM(U19:U24) -> 0
B27: Transporte | M27: Transporte
B28: DESCRIPCIÓN MATERIAL | G28: M3-Ton | H28: Km | I28: TARIFA | J28: VALOR PARCIAL | M28: DESCRIPCIÓN MATERIAL | R28: M3-Ton | S28: Km | T28: TARIFA | U28: VALOR PARCIAL
J29: =ROUND((I29*H29*G29),0) -> 0 | U29: =ROUND((T29*S29*R29),0) -> 0
J30: 0 | U30: 0
J31: 0 | U31: 0
J32: 0 | U32: 0
B33: Subtotal Transporte : | J33: =SUM(J29:J32) -> 0 | M33: Subtotal Transporte : | U33: =SUM(U29:U32) -> 0
B35: Mano de Obra | M35: Mano de Obra
B36: DESCRIPCIÓN | G36: VALOR INTEGRAL / DIA | H36: CANTIDAD | I36: RENDIMIENTO | J36: VALOR PARCIAL | M36: DESCRIPCIÓN | R36: VALOR INTEGRAL / DIA | S36: CANTIDAD | T36: RENDIMIENTO | U36: VALOR PARCIAL
B37: OFICIAL | G37: =IF(B37="","",VLOOKUP(B37,CUADRILLAS!$B$87:$C$101,2,FALSE)) -> 157213.73 | H37: 1 | I37: 10 | J37: =ROUND(+IF(I37=0,0,G37*H37/I37),0) -> 15721 | M37: OFICIAL | R37: =IF(M37="","",VLOOKUP(M37,CUADRILLAS!$B$87:$C$101,2,FALSE)) -> 157213.73 | S37: 1 | T37: 10 | U37: =ROUND(+IF(T37=0,0,R37*S37/T37),0) -> 15721
B38: AYUDANTE | G38: =IF(B38="","",VLOOKUP(B38,CUADRILLAS!$B$87:$C$101,2,FALSE)) -> 78606.867 | H38: 3 | I38: =I37 -> 10 | J38: =ROUND(+IF(I38=0,0,G38*H38/I38),0) -> 23582 | M38: AYUDANTE | R38: =IF(M38="","",VLOOKUP(M38,CUADRILLAS!$B$87:$C$101,2,FALSE)) -> 78606.867 | S38: 3 | T38: =T37 -> 10 | U38: =ROUND(+IF(T38=0,0,R38*S38/T38),0) -> 23582
G39: =IF(B39="","",VLOOKUP(B39,CUADRILLAS!$B$87:$C$101,2,FALSE)) | J39: =+IF(I39=0,0,G39*H39/I39) -> 0 | U39: =+IF(T39=0,0,R39*S39/T39) -> 0
G40: =IF(B40="","",VLOOKUP(B40,CUADRILLAS!$B$87:$C$101,2,FALSE)) | J40: =+IF(I40=0,0,G40*H40/I40) -> 0 | U40: =+IF(T40=0,0,R40*S40/T40) -> 0
B41: Subtotal Mano de Obra : | J41: =SUM(J37:J40) -> 39303 | M41: Subtotal Mano de Obra : | U41: =SUM(U37:U40) -> 39303
B43: Total Costo Directo Item : | J43: =+J41+J33+J15+J25 -> 41268 | M43: Total Costo Directo Item : | U43: =+U41+U33+U15+U25 -> 41268

Sheet 1.02
D1: ='PPTO HOJA'!A4 -> DEPARTAMENTO DE ANTIOQUIA | O1: DEPARTAMENTO DE ANTIOQUIA
D2: ='PPTO HOJA'!A5 -> MUNICIPIO DE ARBOLETES | O2: MUNICIPIO DE ARBOLETES
D3: ='PPTO HOJA'!A7 -> CONSTRUCCION DE OBRAS CIVILES COMPLEMENTARIAS PARA EL CORRECTO FUNCIONAMIENTO DEL PROYECTO DENOMINADO “PARQUE GEOLÓGICO, NATURAL, AMBIENTAL, CULTURAL Y TURÍSTICO, VOLCÁN DE LODO DE ARBOLETES”, QUE SE LLEVARÁ A CABO EN EL MUNICIPIO DE ARBOLETES-ANTIOQUIA | O3: CONSTRUCCION DE OBRAS CIVILES COMPLEMENTARIAS PARA EL CORRECTO FUNCIONAMIENTO DEL PROYECTO DENOMINADO “PARQUE GEOLÓGICO, NATURAL, AMBIENTAL, CULTURAL Y TURÍSTICO, VOLCÁN DE LODO DE ARBOLETES”, QUE SE LLEVARÁ A CABO EN EL MUNICIPIO DE ARBOLETES-ANTIOQUIA
D4: ANALISIS DE PRECIOS UNITARIOS | O4: ANALISIS DE PRECIOS UNITARIOS
A6: I | B6: ÍTEM | C6: ='PPTO HOJA'!A13 -> 1.02 | E6: ='PPTO HOJA'!B13 -> Relleno con material mixto para cimentación de tubería | I6: Unidad | J6: ='PPTO HOJA'!C13 -> m3 | L6: I | M6: ÍTEM | N6: 1.02 | P6: Relleno con material mixto para cimentación de tubería | T6: Unidad | U6: =J6 -> m3
B7: Equipo | M7: Equipo
B8: DESCRIPCIÓN EQUIPO | G8: TIPO | H8: TARIFA/DIA | I8: RENDIMIENTO | J8: VALOR PARCIAL | M8: DESCRIPCIÓN EQUIPO | R8: TIPO | S8: TARIFA/DIA | T8: RENDIMIENTO | U8: VALOR PARCIAL
B9: HERRAMIENTAS MENORES | I9: 0.05 | J9: =ROUND(I9*J41,0) -> 393 | M9: HERRAMIENTAS MENORES | T9: 0.05 | U9: =ROUND(T9*U41,0) -> 393
B10: COMPACTADOR MANUAL TIPO CANGURO (SALTARÍN) con motor de 6 HP | G10: =IF(B10="","",VLOOKUP(B10,EQUIPOS!$B$7:$F$46,3,FALSE)) -> GASOLINA | H10: =IF(B10="","",VLOOKUP(B10,EQUIPOS!$B$7:$F$46,5,FALSE)) -> 95840 | I10: =+I37 -> 20 | J10: =IF(B10="",0,ROUND(H10/I10,0)) -> 4792 | M10: COMPACTADOR MANUAL TIPO CANGURO (SALTARÍN) con motor de 6 HP | R10: =IF(M10="","",VLOOKUP(M10,EQUIPOS!$B$7:$F$46,3,FALSE)) -> GASOLINA | S10: =IF(M10="","",VLOOKUP(M10,EQUIPOS!$B$7:$F$46,5,FALSE)) -> 95840 | T10: =+T37 -> 20 | U10: =IF(M10="",0,ROUND(S10/T10,0)) -> 4792
G11: =IF(B11="","",VLOOKUP(B11,EQUIPOS!$B$7:$F$46,3,FALSE)) | H11: =IF(B11="","",VLOOKUP(B11,EQUIPOS!$B$7:$F$46,5,FALSE)) | J11: =IF(B11="",0,ROUND(H11/I11,0)) -> 0 | R11: =IF(M11="","",VLOOKUP(M11,EQUIPOS!$B$7:$F$46,3,FALSE)) | S11: =IF(M11="","",VLOOKUP(M11,EQUIPOS!$B$7:$F$46,5,FALSE)) | U11: =IF(M11="",0,ROUND(S11/T11,0)) -> 0
G12: =IF(B12="","",VLOOKUP(B12,EQUIPOS!$B$7:$F$46,3,FALSE)) | H12: =IF(B12="","",VLOOKUP(B12,EQUIPOS!$B$7:$F$46,5,FALSE)) | J12: =IF(B12="",0,ROUND(H12/I12,0)) -> 0 | R12: =IF(M12="","",VLOOKUP(M12,EQUIPOS!$B$7:$F$46,3,FALSE)) | S12: =IF(M12="","",VLOOKUP(M12,EQUIPOS!$B$7:$F$46,5,FALSE)) | U12: =IF(M12="",0,ROUND(S12/T12,0)) -> 0
G13: =IF(B13="","",VLOOKUP(B13,EQUIPOS!$B$7:$F$46,3,FALSE)) | H13: =IF(B13="","",VLOOKUP(B13,EQUIPOS!$B$7:$F$46,5,FALSE)) | J13: =IF(B13="",0,ROUND(H13/I13,0)) -> 0 | R13: =IF(M13="","",VLOOKUP(M13,EQUIPOS!$B$7:$F$46,3,FALSE)) | S13: =IF(M13="","",VLOOKUP(M13,EQUIPOS!$B$7:$F$46,5,FALSE)) | U13: =IF(M13="",0,ROUND(S13/T13,0)) -> 0
G14: =IF(B14="","",VLOOKUP(B14,EQUIPOS!$B$7:$F$46,3,FALSE)) | H14: =IF(B14="","",VLOOKUP(B14,EQUIPOS!$B$7:$F$46,5,FALSE)) | R14: =IF(M14="","",VLOOKUP(M14,EQUIPOS!$B$7:$F$46,3,FALSE)) | S14: =IF(M14="","",VLOOKUP(M14,EQUIPOS!$B$7:$F$46,5,FALSE))
B15: Subtotal Equipo : | J15: =SUM(J9:J14) -> 5185 | M15: Subtotal Equipo : | U15: =SUM(U9:U14) -> 5185
B17: Materiales | M17: Materiales
B18: DESCRIPCIÓN MATERIAL | F18: CANTIDAD | G18: UNIDAD | H18: DESPERDICIO (%) | I18: VALOR UNITARIO | J18: VALOR PARCIAL | M18: DESCRIPCIÓN MATERIAL | Q18: CANTIDAD | R18: UNIDAD | S18: DESPERDICIO (%) | T18: VALOR UNITARIO | U18: VALOR PARCIAL
B19: Arena mixta | F19: 1.3 | G19: =IF(F19=0,"",VLOOKUP(B19,'LISTADO DE MATERIALES'!$B$6:$D$311,2,FALSE)) -> m3 | H19: 0.1 | I19: =IF(F19=0,"",VLOOKUP(B19,'LISTADO DE MATERIALES'!$B$6:$D$311,3,FALSE)) -> 89250 | J19: =IF(I19="",0,ROUND((+F19*I19*(1+H19)),0)) -> 127628 | M19: Arena mixta | Q19: 1.3 | R19: =IF(Q19=0,"",VLOOKUP(M19,'LISTADO DE MATERIALES'!$B$6:$D$311,2,FALSE)) -> m3 | S19: 0 | T19: =IF(Q19=0,"",VLOOKUP(M19,'LISTADO DE MATERIALES'!$B$6:$D$311,3,FALSE)) -> 89250 | U19: =IF(T19="",0,ROUND((+Q19*T19*(1+S19)),0)) -> 116025
J20: =IF(I20="",0,ROUND((+F20*I20*(1+H20)),0)) -> 0
G21: =IF(F21=0,"",VLOOKUP(B21,'LISTADO DE MATERIALES'!$B$6:$D$311,2,FALSE)) | I21: =IF(F21=0,"",VLOOKUP(B21,'LISTADO DE MATERIALES'!$B$6:$D$311,3,FALSE)) | J21: =IF(I21="",0,ROUND((+F21*I21*(1+H21)),0)) -> 0 | R21: =IF(Q21=0,"",VLOOKUP(M21,'LISTADO DE MATERIALES'!$B$6:$D$311,2,FALSE)) | T21: =IF(Q21=0,"",VLOOKUP(M21,'LISTADO DE MATERIALES'!$B$6:$D$311,3,FALSE)) | U21: =IF(T21="",0,ROUND((+Q21*T21*(1+S21)),0)) -> 0
G22: =IF(F22=0,"",VLOOKUP(B22,'LISTADO DE MATERIALES'!$B$6:$D$311,2,FALSE)) | I22: =IF(F22=0,"",VLOOKUP(B22,'LISTADO DE MATERIALES'!$B$6:$D$311,3,FALSE)) | J22: =IF(I22="",0,ROUND((+F22*I22*(1+H22)),0)) -> 0 | R22: =IF(Q22=0,"",VLOOKUP(M22,'LISTADO DE MATERIALES'!$B$6:$D$311,2,FALSE)) | T22: =IF(Q22=0,"",VLOOKUP(M22,'LISTADO DE MATERIALES'!$B$6:$D$311,3,FALSE)) | U22: =IF(T22="",0,ROUND((+Q22*T22*(1+S22)),0)) -> 0
G23: =IF(F23=0,"",VLOOKUP(B23,'LISTADO DE MATERIALES'!$B$6:$D$311,2,FALSE)) | I23: =IF(F23=0,"",VLOOKUP(B23,'LISTADO DE MATERIALES'!$B$6:$D$311,3,FALSE)) | J23: =IF(I23="",0,ROUND((+F23*I23*(1+H23)),0)) -> 0 | R23: =IF(Q23=0,"",VLOOKUP(M23,'LISTADO DE MATERIALES'!$B$6:$D$311,2,FALSE)) | T23: =IF(Q23=0,"",VLOOKUP(M23,'LISTADO DE MATERIALES'!$B$6:$D$311,3,FALSE)) | U23: =IF(T23="",0,ROUND((+Q23*T23*(1+S23)),0)) -> 0
G24: =IF(F24=0,"",VLOOKUP(B24,'LISTADO DE MATERIALES'!$B$6:$D$311,2,FALSE)) | I24: =IF(F24=0,"",VLOOKUP(B24,'LISTADO DE MATERIALES'!$B$6:$D$311,3,FALSE)) | J24: =IF(I24="",0,ROUND((+F24*I24*(1+H24)),0)) -> 0 | R24: =IF(Q24=0,"",VLOOKUP(M24,'LISTADO DE MATERIALES'!$B$6:$D$311,2,FALSE)) | T24: =IF(Q24=0,"",VLOOKUP(M24,'LISTADO DE MATERIALES'!$B$6:$D$311,3,FALSE)) | U24: =IF(T24="",0,ROUND((+Q24*T24*(1+S24)),0)) -> 0
B25: Subtotal Materiales : | J25: =SUM(J19:J24) -> 127628 | M25: Subtotal Materiales : | U25: =SUM(U19:U24) -> 116025
B27: Transporte | M27: Transporte
B28: DESCRIPCIÓN MATERIAL | G28: M3-Ton | H28: Km | I28: TARIFA | J28: VALOR PARCIAL | M28: DESCRIPCIÓN MATERIAL | R28: M3-Ton | S28: Km | T28: TARIFA | U28: VALOR PARCIAL
B29: Transporte de material de arena mixta | G29: 1.25 | H29: =+TRANSPORTE!B6 -> 70 | I29: =+TRANSPORTE!C6 -> 1241.46 | J29: =ROUND((I29*H29*G29),0) -> 108628 | M29: Transporte de material de arena mixta | R29: =+Q19 -> 1.3 | S29: 32 | T29: 1153.66 | U29: =ROUND((T29*S29*R29),0) -> 47992
J30: 0 | U30: 0
J31: 0 | U31: 0
J32: 0 | U32: 0
B33: Subtotal Transporte : | J33: =SUM(J29:J32) -> 108628 | M33: Subtotal Transporte : | U33: =SUM(U29:U32) -> 47992
B35: Mano de Obra | M35: Mano de Obra
B36: DESCRIPCIÓN | G36: VALOR INTEGRAL / DIA | H36: CANTIDAD | I36: RENDIMIENTO | J36: VALOR PARCIAL | M36: DESCRIPCIÓN | R36: VALOR INTEGRAL / DIA | S36: CANTIDAD | T36: RENDIMIENTO | U36: VALOR PARCIAL
B37: AYUDANTE | G37: =IF(B37="","",VLOOKUP(B37,CUADRILLAS!$B$87:$C$101,2,FALSE)) -> 78606.867 | H37: 2 | I37: 20 | J37: =ROUND(+IF(I37=0,0,G37*H37/I37),0) -> 7861 | M37: AYUDANTE | R37: =IF(M37="","",VLOOKUP(M37,CUADRILLAS!$B$87:$C$101,2,FALSE)) -> 78606.867 | S37: 2 | T37: 20 | U37: =ROUND(+IF(T37=0,0,R37*S37/T37),0) -> 7861
G38: =IF(B38="","",VLOOKUP(B38,CUADRILLAS!$B$87:$C$101,2,FALSE)) | J38: =ROUND(+IF(I38=0,0,G38*H38/I38),0) -> 0 | R38: =IF(M38="","",VLOOKUP(M38,CUADRILLAS!$B$87:$C$101,2,FALSE)) | U38: =ROUND(+IF(T38=0,0,R38*S38/T38),0) -> 0
G39: =IF(B39="","",VLOOKUP(B39,CUADRILLAS!$B$87:$C$101,2,FALSE)) | J39: =+IF(I39=0,0,G39*H39/I39) -> 0 | R39: =IF(M39="","",VLOOKUP(M39,CUADRILLAS!$B$87:$C$101,2,FALSE)) | U39: =+IF(T39=0,0,R39*S39/T39) -> 0
G40: =IF(B40="","",VLOOKUP(B40,CUADRILLAS!$B$87:$C$101,2,FALSE)) | J40: =+IF(I40=0,0,G40*H40/I40) -> 0 | R40: =IF(M40="","",VLOOKUP(M40,CUADRILLAS!$B$87:$C$101,2,FALSE)) | U40: =+IF(T40=0,0,R40*S40/T40) -> 0
B41: Subtotal Mano de Obra : | J41: =SUM(J37:J40) -> 7861 | M41: Subtotal Mano de Obra : | U41: =SUM(U37:U40) -> 7861
B43: Total Costo Directo Item : | J43: =+J41+J33+J15+J25 -> 249302 | M43: Total Costo Directo Item : | U43: =+U41+U33+U15+U25 -> 177063

Sheet 1.03
D1: ='PPTO HOJA'!A4 -> DEPARTAMENTO DE ANTIOQUIA | O1: DEPARTAMENTO DE ANTIOQUIA
D2: ='PPTO HOJA'!A5 -> MUNICIPIO DE ARBOLETES | O2: MUNICIPIO DE ARBOLETES
D3: ='PPTO HOJA'!A7 -> CONSTRUCCION DE OBRAS CIVILES COMPLEMENTARIAS PARA EL CORRECTO FUNCIONAMIENTO DEL PROYECTO DENOMINADO “PARQUE GEOLÓGICO, NATURAL, AMBIENTAL, CULTURAL Y TURÍSTICO, VOLCÁN DE LODO DE ARBOLETES”, QUE SE LLEVARÁ A CABO EN EL MUNICIPIO DE ARBOLETES-ANTIOQUIA | O3: CONSTRUCCION DE OBRAS CIVILES COMPLEMENTARIAS PARA EL CORRECTO FUNCIONAMIENTO DEL PROYECTO DENOMINADO “PARQUE GEOLÓGICO, NATURAL, AMBIENTAL, CULTURAL Y TURÍSTICO, VOLCÁN DE LODO DE ARBOLETES”, QUE SE LLEVARÁ A CABO EN EL MUNICIPIO DE ARBOLETES-ANTIOQUIA
D4: ANALISIS DE PRECIOS UNITARIOS | O4: ANALISIS DE PRECIOS UNITARIOS
A6: I | B6: ÍTEM | C6: ='PPTO HOJA'!A14 -> 1.03 | E6: ='PPTO HOJA'!B14 -> Relleno con material seleccionado tipo afirmado | I6: Unidad | J6: ='PPTO HOJA'!C14 -> m3 | L6: I | M6: ÍTEM | N6: 1.03 | P6: Relleno con material seleccionado tipo afirmado | T6: Unidad | U6: m3
B7: Equipo | M7: Equipo
B8: DESCRIPCIÓN EQUIPO | G8: TIPO | H8: TARIFA/DIA | I8: RENDIMIENTO | J8: VALOR PARCIAL | M8: DESCRIPCIÓN EQUIPO | R8: TIPO | S8: TARIFA/DIA | T8: RENDIMIENTO | U8: VALOR PARCIAL
B9: HERRAMIENTAS MENORES | I9: 0.05 | J9: =ROUND(I9*J41,0) -> 1123 | M9: HERRAMIENTAS MENORES | T9: 0.05 | U9: =ROUND(T9*U41,0) -> 842
B10: COMPACTADOR MANUAL TIPO CANGURO (SALTARÍN) con motor de 6 HP | G10: =IF(B10="","",VLOOKUP(B10,EQUIPOS!$B$7:$F$46,3,FALSE)) -> GASOLINA | H10: =IF(B10="","",VLOOKUP(B10,EQUIPOS!$B$7:$F$46,5,FALSE)) -> 95840 | I10: =+I37 -> 14 | J10: =IF(B10="",0,ROUND(H10/I10,0)) -> 6846 | M10: COMPACTADOR MANUAL TIPO CANGURO (SALTARÍN) con motor de 6 HP | R10: =IF(M10="","",VLOOKUP(M10,EQUIPOS!$B$7:$F$46,3,FALSE)) -> GASOLINA | S10: =IF(M10="","",VLOOKUP(M10,EQUIPOS!$B$7:$F$46,5,FALSE)) -> 95840 | T10: =+T37 -> 14 | U10: =IF(M10="",0,ROUND(S10/T10,0)) -> 6846
G11: =IF(B11="","",VLOOKUP(B11,EQUIPOS!$B$7:$F$46,3,FALSE)) | H11: =IF(B11="","",VLOOKUP(B11,EQUIPOS!$B$7:$F$46,5,FALSE)) | J11: =IF(B11="",0,ROUND(H11/I11,0)) -> 0 | R11: =IF(M11="","",VLOOKUP(M11,EQUIPOS!$B$7:$F$46,3,FALSE)) | S11: =IF(M11="","",VLOOKUP(M11,EQUIPOS!$B$7:$F$46,5,FALSE)) | U11: =IF(M11="",0,ROUND(S11/T11,0)) -> 0
G12: =IF(B12="","",VLOOKUP(B12,EQUIPOS!$B$7:$F$46,3,FALSE)) | H12: =IF(B12="","",VLOOKUP(B12,EQUIPOS!$B$7:$F$46,5,FALSE)) | J12: =IF(B12="",0,ROUND(H12/I12,0)) -> 0 | R12: =IF(M12="","",VLOOKUP(M12,EQUIPOS!$B$7:$F$46,3,FALSE)) | S12: =IF(M12="","",VLOOKUP(M12,EQUIPOS!$B$7:$F$46,5,FALSE)) | U12: =IF(M12="",0,ROUND(S12/T12,0)) -> 0
G13: =IF(B13="","",VLOOKUP(B13,EQUIPOS!$B$7:$F$46,3,FALSE)) | H13: =IF(B13="","",VLOOKUP(B13,EQUIPOS!$B$7:$F$46,5,FALSE)) | J13: =IF(B13="",0,ROUND(H13/I13,0)) -> 0 | R13: =IF(M13="","",VLOOKUP(M13,EQUIPOS!$B$7:$F$46,3,FALSE)) | S13: =IF(M13="","",VLOOKUP(M13,EQUIPOS!$B$7:$F$46,5,FALSE)) | U13: =IF(M13="",0,ROUND(S13/T13,0)) -> 0
G14: =IF(B14="","",VLOOKUP(B14,EQUIPOS!$B$7:$F$46,3,FALSE)) | H14: =IF(B14="","",VLOOKUP(B14,EQUIPOS!$B$7:$F$46,5,FALSE)) | R14: =IF(M14="","",VLOOKUP(M14,EQUIPOS!$B$7:$F$46,3,FALSE)) | S14: =IF(M14="","",VLOOKUP(M14,EQUIPOS!$B$7:$F$46,5,FALSE))
B15: Subtotal Equipo : | J15: =SUM(J9:J14) -> 7969 | M15: Subtotal Equipo : | U15: =SUM(U9:U14) -> 7688
B17: Materiales | M17: Materiales
B18: DESCRIPCIÓN MATERIAL | F18: CANTIDAD | G18: UNIDAD | H18: DESPERDICIO (%) | I18: VALOR UNITARIO | J18: VALOR PARCIAL | M18: DESCRIPCIÓN MATERIAL | Q18: CANTIDAD | R18: UNIDAD | S18: DESPERDICIO (%) | T18: VALOR UNITARIO | U18: VALOR PARCIAL
B19: Material de afirmado CBR ≥ 15% | F19: 1.3 | G19: =IF(F19=0,"",VLOOKUP(B19,'LISTADO DE MATERIALES'!$B$6:$D$311,2,FALSE)) -> m3 | H19: 0.1 | I19: =IF(F19=0,"",VLOOKUP(B19,'LISTADO DE MATERIALES'!$B$6:$D$311,3,FALSE)) -> 106505 | J19: =IF(I19="",0,ROUND((+F19*I19*(1+H19)),0)) -> 152302
G20: =IF(F20=0,"",VLOOKUP(B20,'LISTADO DE MATERIALES'!$B$6:$D$311,2,FALSE)) | I20: =IF(F20=0,"",VLOOKUP(B20,'LISTADO DE MATERIALES'!$B$6:$D$311,3,FALSE)) | J20: =IF(I20="",0,ROUND((+F20*I20*(1+H20)),0)) -> 0 | M20: Material de afirmado CBR ≥ 15% | Q20: 1.3 | R20: =IF(Q20=0,"",VLOOKUP(M20,'LISTADO DE MATERIALES'!$B$6:$D$311,2,FALSE)) -> m3 | S20: 0 | T20: =IF(Q20=0,"",VLOOKUP(M20,'LISTADO DE MATERIALES'!$B$6:$D$311,3,FALSE)) -> 106505 | U20: =IF(T20="",0,ROUND((+Q20*T20*(1+S20)),0)) -> 138457 | V20: Para que es la actividad ?
G21: =IF(F21=0,"",VLOOKUP(B21,'LISTADO DE MATERIALES'!$B$6:$D$311,2,FALSE)) | I21: =IF(F21=0,"",VLOOKUP(B21,'LISTADO DE MATERIALES'!$B$6:$D$311,3,FALSE)) | J21: =IF(I21="",0,ROUND((+F21*I21*(1+H21)),0)) -> 0 | R21: =IF(Q21=0,"",VLOOKUP(M21,'LISTADO DE MATERIALES'!$B$6:$D$311,2,FALSE)) | T21: =IF(Q21=0,"",VLOOKUP(M21,'LISTADO DE MATERIALES'!$B$6:$D$311,3,FALSE)) | U21: =IF(T21="",0,ROUND((+Q21*T21*(1+S21)),0)) -> 0
G22: =IF(F22=0,"",VLOOKUP(B22,'LISTADO DE MATERIALES'!$B$6:$D$311,2,FALSE)) | I22: =IF(F22=0,"",VLOOKUP(B22,'LISTADO DE MATERIALES'!$B$6:$D$311,3,FALSE)) | J22: =IF(I22="",0,ROUND((+F22*I22*(1+H22)),0)) -> 0 | R22: =IF(Q22=0,"",VLOOKUP(M22,'LISTADO DE MATERIALES'!$B$6:$D$311,2,FALSE)) | T22: =IF(Q22=0,"",VLOOKUP(M22,'LISTADO DE MATERIALES'!$B$6:$D$311,3,FALSE)) | U22: =IF(T22="",0,ROUND((+Q22*T22*(1+S22)),0)) -> 0
G23: =IF(F23=0,"",VLOOKUP(B23,'LISTADO DE MATERIALES'!$B$6:$D$311,2,FALSE)) | I23: =IF(F23=0,"",VLOOKUP(B23,'LISTADO DE MATERIALES'!$B$6:$D$311,3,FALSE)) | J23: =IF(I23="",0,ROUND((+F23*I23*(1+H23)),0)) -> 0 | R23: =IF(Q23=0,"",VLOOKUP(M23,'LISTADO DE MATERIALES'!$B$6:$D$311,2,FALSE)) | T23: =IF(Q23=0,"",VLOOKUP(M23,'LISTADO DE MATERIALES'!$B$6:$D$311,3,FALSE)) | U23: =IF(T23="",0,ROUND((+Q23*T23*(1+S23)),0)) -> 0
G24: =IF(F24=0,"",VLOOKUP(B24,'LISTADO DE MATERIALES'!$B$6:$D$311,2,FALSE)) | I24: =IF(F24=0,"",VLOOKUP(B24,'LISTADO DE MATERIALES'!$B$6:$D$311,3,FALSE)) | J24: =IF(I24="",0,ROUND((+F24*I24*(1+H24)),0)) -> 0 | R24: =IF(Q24=0,"",VLOOKUP(M24,'LISTADO DE MATERIALES'!$B$6:$D$311,2,FALSE)) | T24: =IF(Q24=0,"",VLOOKUP(M24,'LISTADO DE MATERIALES'!$B$6:$D$311,3,FALSE)) | U24: =IF(T24="",0,ROUND((+Q24*T24*(1+S24)),0)) -> 0
B25: Subtotal Materiales : | J25: =SUM(J19:J24) -> 152302 | M25: Subtotal Materiales : | U25: =SUM(U19:U24) -> 138457
B27: Transporte | M27: Transporte
B28: DESCRIPCIÓN MATERIAL | G28: M3-Ton | H28: Km | I28: TARIFA | J28: VALOR PARCIAL | M28: DESCRIPCIÓN MATERIAL | R28: M3-Ton | S28: Km | T28: TARIFA | U28: VALOR PARCIAL
B29: Transporte de material afirmado | G29: =+F19 -> 1.3 | H29: =+TRANSPORTE!B6 -> 70 | I29: =+TRANSPORTE!C6 -> 1241.46 | J29: =ROUND(I29*H29*G29,0) -> 112973 | M29: Transporte de material afirmado | R29: =+Q20 -> 1.3 | S29: 32 | T29: 1153.66 | U29: =ROUND(T29*S29*R29,0) -> 47992
J30: 0 | U30: 0
J31: 0 | U31: 0
J32: 0 | U32: 0
B33: Subtotal Transporte : | J33: =SUM(J29:J32) -> 112973 | M33: Subtotal Transporte : | U33: =SUM(U29:U32) -> 47992
B35: Mano de Obra | M35: Mano de Obra
B36: DESCRIPCIÓN | G36: VALOR INTEGRAL / DIA | H36: CANTIDAD | I36: RENDIMIENTO | J36: VALOR PARCIAL | M36: DESCRIPCIÓN | R36: VALOR INTEGRAL / DIA | S36: CANTIDAD | T36: RENDIMIENTO | U36: VALOR PARCIAL
B37: OFICIAL | G37: =IF(B37="","",VLOOKUP(B37,CUADRILLAS!$B$87:$C$101,2,FALSE)) -> 157213.73 | H37: 1 | I37: 14 | J37: =ROUND(+IF(I37=0,0,G37*H37/I37),0) -> 11230 | M37: OFICIAL | R37: =IF(M37="","",VLOOKUP(M37,CUADRILLAS!$B$87:$C$101,2,FALSE)) -> 157213.73 | S37: 1 | T37: 14 | U37: =ROUND(+IF(T37=0,0,R37*S37/T37),0) -> 11230
B38: AYUDANTE | G38: =IF(B38="","",VLOOKUP(B38,CUADRILLAS!$B$87:$C$101,2,FALSE)) -> 78606.867 | H38: 2 | I38: =+I37 -> 14 | J38: =ROUND(+IF(I38=0,0,G38*H38/I38),0) -> 11230 | M38: AYUDANTE | R38: =IF(M38="","",VLOOKUP(M38,CUADRILLAS!$B$87:$C$101,2,FALSE)) -> 78606.867 | S38: 1 | T38: =+T37 -> 14 | U38: =ROUND(+IF(T38=0,0,R38*S38/T38),0) -> 5615
G39: =IF(B39="","",VLOOKUP(B39,CUADRILLAS!$B$87:$C$101,2,FALSE)) | J39: =+IF(I39=0,0,G39*H39/I39) -> 0 | R39: =IF(M39="","",VLOOKUP(M39,CUADRILLAS!$B$87:$C$101,2,FALSE)) | U39: =+IF(T39=0,0,R39*S39/T39) -> 0
G40: =IF(B40="","",VLOOKUP(B40,CUADRILLAS!$B$87:$C$101,2,FALSE)) | J40: =+IF(I40=0,0,G40*H40/I40) -> 0 | R40: =IF(M40="","",VLOOKUP(M40,CUADRILLAS!$B$87:$C$101,2,FALSE)) | U40: =+IF(T40=0,0,R40*S40/T40) -> 0
B41: Subtotal Mano de Obra : | J41: =SUM(J37:J40) -> 22460 | M41: Subtotal Mano de Obra : | U41: =SUM(U37:U40) -> 16845
B43: Total Costo Directo Item : | J43: =+J41+J33+J15+J25 -> 295704 | M43: Total Costo Directo Item : | U43: =+U41+U33+U15+U25 -> 210982

Sheet 1.04
D1: ='PPTO HOJA'!A4 -> DEPARTAMENTO DE ANTIOQUIA | O1: DEPARTAMENTO DE ANTIOQUIA
D2: ='PPTO HOJA'!A5 -> MUNICIPIO DE ARBOLETES | O2: MUNICIPIO DE ARBOLETES
D3: ='PPTO HOJA'!A7 -> CONSTRUCCION DE OBRAS CIVILES COMPLEMENTARIAS PARA EL CORRECTO FUNCIONAMIENTO DEL PROYECTO DENOMINADO “PARQUE GEOLÓGICO, NATURAL, AMBIENTAL, CULTURAL Y TURÍSTICO, VOLCÁN DE LODO DE ARBOLETES”, QUE SE LLEVARÁ A CABO EN EL MUNICIPIO DE ARBOLETES-ANTIOQUIA | O3: CONSTRUCCION DE OBRAS CIVILES COMPLEMENTARIAS PARA EL CORRECTO FUNCIONAMIENTO DEL PROYECTO DENOMINADO “PARQUE GEOLÓGICO, NATURAL, AMBIENTAL, CULTURAL Y TURÍSTICO, VOLCÁN DE LODO DE ARBOLETES”, QUE SE LLEVARÁ A CABO EN EL MUNICIPIO DE ARBOLETES-ANTIOQUIA
D4: ANALISIS DE PRECIOS UNITARIOS | O4: ANALISIS DE PRECIOS UNITARIOS
A6: I | B6: ÍTEM | C6: ='PPTO HOJA'!A15 -> 1.04 | E6: ='PPTO HOJA'!B15 -> Relleno con material seleccionado de excavación | I6: Unidad | J6: ='PPTO HOJA'!C15 -> m3 | L6: I | M6: ÍTEM | N6: 1.04 | P6: Relleno con material seleccionado de excavación | T6: Unidad | U6: m3
B7: Equipo | M7: Equipo
B8: DESCRIPCIÓN EQUIPO | G8: TIPO | H8: TARIFA/DIA | I8: RENDIMIENTO | J8: VALOR PARCIAL | M8: DESCRIPCIÓN EQUIPO | R8: TIPO | S8: TARIFA/DIA | T8: RENDIMIENTO | U8: VALOR PARCIAL
B9: HERRAMIENTAS MENORES | I9: 0.05 | J9: =ROUND(I9*J41,0) -> 1123 | M9: HERRAMIENTAS MENORES | T9: 0.05 | U9: =ROUND(T9*U41,0) -> 786
B10: COMPACTADOR MANUAL TIPO CANGURO (SALTARÍN) con motor de 6 HP | G10: =IF(B10="","",VLOOKUP(B10,EQUIPOS!$B$7:$F$46,3,FALSE)) -> GASOLINA | H10: =IF(B10="","",VLOOKUP(B10,EQUIPOS!$B$7:$F$46,5,FALSE)) -> 95840 | I10: =+I38 -> 14 | J10: =IF(B10="",0,ROUND(H10/I10,0)) -> 6846 | M10: COMPACTADOR MANUAL TIPO CANGURO (SALTARÍN) con motor de 6 HP | R10: GASOLINA | S10: 95840 | T10: 10 | U10: =IF(M10="",0,ROUND(S10/T10,0)) -> 9584
G11: =IF(B11="","",VLOOKUP(B11,EQUIPOS!$B$7:$F$46,3,FALSE)) | H11: =IF(B11="","",VLOOKUP(B11,EQUIPOS!$B$7:$F$46,5,FALSE)) | J11: =IF(B11="",0,ROUND(H11/I11,0)) -> 0 | U11: =IF(M11="",0,ROUND(S11/T11,0)) -> 0
G12: =IF(B12="","",VLOOKUP(B12,EQUIPOS!$B$7:$F$46,3,FALSE)) | H12: =IF(B12="","",VLOOKUP(B12,EQUIPOS!$B$7:$F$46,5,FALSE)) | J12: =IF(B12="",0,ROUND(H12/I12,0)) -> 0 | U12: =IF(M12="",0,ROUND(S12/T12,0)) -> 0
G13: =IF(B13="","",VLOOKUP(B13,EQUIPOS!$B$7:$F$46,3,FALSE)) | H13: =IF(B13="","",VLOOKUP(B13,EQUIPOS!$B$7:$F$46,5,FALSE)) | J13: =IF(B13="",0,ROUND(H13/I13,0)) -> 0 | U13: =IF(M13="",0,ROUND(S13/T13,0)) -> 0
G14: =IF(B14="","",VLOOKUP(B14,EQUIPOS!$B$7:$F$46,3,FALSE)) | H14: =IF(B14="","",VLOOKUP(B14,EQUIPOS!$B$7:$F$46,5,FALSE))
B15: Subtotal Equipo : | J15: =SUM(J9:J14) -> 7969 | M15: Subtotal Equipo : | U15: =SUM(U9:U14) -> 10370
B17: Materiales | M17: Materiales
B18: DESCRIPCIÓN MATERIAL | F18: CANTIDAD | G18: UNIDAD | H18: DESPERDICIO (%) | I18: VALOR UNITARIO | J18: VALOR PARCIAL | M18: DESCRIPCIÓN MATERIAL | Q18: CANTIDAD | R18: UNIDAD | S18: DESPERDICIO (%) | T18: VALOR UNITARIO | U18: VALOR PARCIAL
G19: =IF(F19=0,"",VLOOKUP(B19,'LISTADO DE MATERIALES'!$B$6:$D$311,2,FALSE)) | I19: =IF(F19=0,"",VLOOKUP(B19,'LISTADO DE MATERIALES'!$B$6:$D$311,3,FALSE)) | J19: =IF(I19="",0,ROUND((+F19*I19*(1+H19)),0)) -> 0
G20: =IF(F20=0,"",VLOOKUP(B20,'LISTADO DE MATERIALES'!$B$6:$D$311,2,FALSE)) | I20: =IF(F20=0,"",VLOOKUP(B20,'LISTADO DE MATERIALES'!$B$6:$D$311,3,FALSE)) | J20: =IF(I20="",0,ROUND((+F20*I20*(1+H20)),0)) -> 0 | U20: =IF(T20="",0,ROUND((+Q20*T20*(1+S20)),0)) -> 0
G21: =IF(F21=0,"",VLOOKUP(B21,'LISTADO DE MATERIALES'!$B$6:$D$311,2,FALSE)) | I21: =IF(F21=0,"",VLOOKUP(B21,'LISTADO DE MATERIALES'!$B$6:$D$311,3,FALSE)) | J21: =IF(I21="",0,ROUND((+F21*I21*(1+H21)),0)) -> 0 | U21: =IF(T21="",0,ROUND((+Q21*T21*(1+S21)),0)) -> 0
G22: =IF(F22=0,"",VLOOKUP(B22,'LISTADO DE MATERIALES'!$B$6:$D$311,2,FALSE)) | I22: =IF(F22=0,"",VLOOKUP(B22,'LISTADO DE MATERIALES'!$B$6:$D$311,3,FALSE)) | J22: =IF(I22="",0,ROUND((+F22*I22*(1+H22)),0)) -> 0 | U22: =IF(T22="",0,ROUND((+Q22*T22*(1+S22)),0)) -> 0
G23: =IF(F23=0,"",VLOOKUP(B23,'LISTADO DE MATERIALES'!$B$6:$D$311,2,FALSE)) | I23: =IF(F23=0,"",VLOOKUP(B23,'LISTADO DE MATERIALES'!$B$6:$D$311,3,FALSE)) | J23: =IF(I23="",0,ROUND((+F23*I23*(1+H23)),0)) -> 0 | U23: =IF(T23="",0,ROUND((+Q23*T23*(1+S23)),0)) -> 0
G24: =IF(F24=0,"",VLOOKUP(B24,'LISTADO DE MATERIALES'!$B$6:$D$311,2,FALSE)) | I24: =IF(F24=0,"",VLOOKUP(B24,'LISTADO DE MATERIALES'!$B$6:$D$311,3,FALSE)) | J24: =IF(I24="",0,ROUND((+F24*I24*(1+H24)),0)) -> 0 | U24: =IF(T24="",0,ROUND((+Q24*T24*(1+S24)),0)) -> 0
B25: Subtotal Materiales : | J25: =SUM(J19:J24) -> 0 | M25: Subtotal Materiales : | U25: =SUM(U19:U24) -> 0
B27: Transporte | M27: Transporte
B28: DESCRIPCIÓN MATERIAL | G28: M3-Ton | H28: Km | I28: TARIFA | J28: VALOR PARCIAL | M28: DESCRIPCIÓN MATERIAL | R28: M3-Ton | S28: Km | T28: TARIFA | U28: VALOR PARCIAL
J29: =ROUND(I29*H29*G29,0) -> 0 | U29: =ROUND(T29*S29*R29,0) -> 0
J30: 0 | U30: 0
J31: 0 | U31: 0
J32: 0 | U32: 0
B33: Subtotal Transporte : | J33: =SUM(J29:J32) -> 0 | M33: Subtotal Transporte : | U33: =SUM(U29:U32) -> 0
B35: Mano de Obra | M35: Mano de Obra
B36: DESCRIPCIÓN | G36: VALOR INTEGRAL / DIA | H36: CANTIDAD | I36: RENDIMIENTO | J36: VALOR PARCIAL | M36: DESCRIPCIÓN | R36: VALOR INTEGRAL / DIA | S36: CANTIDAD | T36: RENDIMIENTO | U36: VALOR PARCIAL
B37: OFICIAL | G37: =IF(B37="","",VLOOKUP(B37,CUADRILLAS!$B$87:$C$101,2,FALSE)) -> 157213.73 | H37: 1 | I37: 14 | J37: =ROUND(+IF(I37=0,0,G37*H37/I37),0) -> 11230
B38: AYUDANTE | G38: =IF(B38="","",VLOOKUP(B38,CUADRILLAS!$B$87:$C$101,2,FALSE)) -> 78606.867 | H38: 2 | I38: 14 | J38: =ROUND(+IF(I38=0,0,G38*H38/I38),0) -> 11230 | M38: AYUDANTE | R38: 78606.867 | S38: 2 | T38: 10 | U38: =ROUND(+IF(T38=0,0,R38*S38/T38),0) -> 15721
G39: =IF(B39="","",VLOOKUP(B39,CUADRILLAS!$B$87:$C$101,2,FALSE)) | J39: =+IF(I39=0,0,G39*H39/I39) -> 0 | U39: =+IF(T39=0,0,R39*S39/T39) -> 0
G40: =IF(B40="","",VLOOKUP(B40,CUADRILLAS!$B$87:$C$101,2,FALSE)) | J40: =+IF(I40=0,0,G40*H40/I40) -> 0 | U40: =+IF(T40=0,0,R40*S40/T40) -> 0
B41: Subtotal Mano de Obra : | J41: =SUM(J37:J40) -> 22460 | M41: Subtotal Mano de Obra : | U41: =SUM(U37:U40) -> 15721
B43: Total Costo Directo Item : | J43: =+J41+J33+J15+J25 -> 30429 | M43: Total Costo Directo Item : | U43: =+U41+U33+U15+U25 -> 26091

Sheet 2.01
D1: ='PPTO HOJA'!A4 -> DEPARTAMENTO DE ANTIOQUIA | O1: DEPARTAMENTO DE ANTIOQUIA
D2: ='PPTO HOJA'!A5 -> MUNICIPIO DE ARBOLETES | O2: MUNICIPIO DE ARBOLETES
D3: ='PPTO HOJA'!A7 -> CONSTRUCCION DE OBRAS CIVILES COMPLEMENTARIAS PARA EL CORRECTO FUNCIONAMIENTO DEL PROYECTO DENOMINADO “PARQUE GEOLÓGICO, NATURAL, AMBIENTAL, CULTURAL Y TURÍSTICO, VOLCÁN DE LODO DE ARBOLETES”, QUE SE LLEVARÁ A CABO EN EL MUNICIPIO DE ARBOLETES-ANTIOQUIA | O3: CONSTRUCCION DE OBRAS CIVILES COMPLEMENTARIAS PARA EL CORRECTO FUNCIONAMIENTO DEL PROYECTO DENOMINADO “PARQUE GEOLÓGICO, NATURAL, AMBIENTAL, CULTURAL Y TURÍSTICO, VOLCÁN DE LODO DE ARBOLETES”, QUE SE LLEVARÁ A CABO EN EL MUNICIPIO DE ARBOLETES-ANTIOQUIA
D4: ANALISIS DE PRECIOS UNITARIOS | O4: ANALISIS DE PRECIOS UNITARIOS
A6: II | B6: ÍTEM | C6: =+'PPTO HOJA'!A17 -> 2.01 | E6: ='PPTO HOJA'!B17 -> S/I Tubería Sanitaria Ø 2" PVC-S | I6: Unidad | J6: ='PPTO HOJA'!C17 -> m | L6: =A6 -> II | M6: ÍTEM | N6: =C6 -> 2.01 | P6: =E6 -> S/I Tubería Sanitaria Ø 2" PVC-S | T6: Unidad | U6: =J6 -> m
B7: Equipo | M7: Equipo
B8: DESCRIPCIÓN EQUIPO | G8: TIPO | H8: TARIFA/DIA | I8: RENDIMIENTO | J8: VALOR PARCIAL | M8: DESCRIPCIÓN EQUIPO | R8: TIPO | S8: TARIFA/DIA | T8: RENDIMIENTO | U8: VALOR PARCIAL
B9: HERRAMIENTAS MENORES | I9: 0.05 | J9: =ROUND(I9*J41,0) -> 233 | M9: HERRAMIENTAS MENORES | T9: 0.05 | U9: =ROUND(T9*U41,0) -> 233
G10: =IF(B10="","",VLOOKUP(B10,EQUIPOS!$B$7:$F$46,3,FALSE)) | H10: =IF(B10="","",VLOOKUP(B10,EQUIPOS!$B$7:$F$46,5,FALSE)) | J10: =IF(B10="",0,ROUND(H10/I10,0)) -> 0 | U10: =IF(M10="",0,ROUND(S10/T10,0)) -> 0
G11: =IF(B11="","",VLOOKUP(B11,EQUIPOS!$B$7:$F$46,3,FALSE)) | H11: =IF(B11="","",VLOOKUP(B11,EQUIPOS!$B$7:$F$46,5,FALSE)) | J11: =IF(B11="",0,ROUND(H11/I11,0)) -> 0 | U11: =IF(M11="",0,ROUND(S11/T11,0)) -> 0
G12: =IF(B12="","",VLOOKUP(B12,EQUIPOS!$B$7:$F$46,3,FALSE)) | H12: =IF(B12="","",VLOOKUP(B12,EQUIPOS!$B$7:$F$46,5,FALSE)) | J12: =IF(B12="",0,ROUND(H12/I12,0)) -> 0 | U12: =IF(M12="",0,ROUND(S12/T12,0)) -> 0
G13: =IF(B13="","",VLOOKUP(B13,EQUIPOS!$B$7:$F$46,3,FALSE)) | H13: =IF(B13="","",VLOOKUP(B13,EQUIPOS!$B$7:$F$46,5,FALSE)) | J13: =IF(B13="",0,ROUND(H13/I13,0)) -> 0 | U13: =IF(M13="",0,ROUND(S13/T13,0)) -> 0
G14: =IF(B14="","",VLOOKUP(B14,EQUIPOS!$B$7:$F$46,3,FALSE)) | H14: =IF(B14="","",VLOOKUP(B14,EQUIPOS!$B$7:$F$46,5,FALSE))
B15: Subtotal Equipo : | J15: =SUM(J9:J14) -> 233 | M15: Subtotal Equipo : | U15: =SUM(U9:U14) -> 233
B17: Materiales | M17: Materiales
B18: DESCRIPCIÓN MATERIAL | F18: CANTIDAD | G18: UNIDAD | H18: DESPERDICIO (%) | I18: VALOR UNITARIO | J18: VALOR PARCIAL | M18: DESCRIPCIÓN MATERIAL | Q18: CANTIDAD | R18: UNIDAD | S18: DESPERDICIO (%) | T18: VALOR UNITARIO | U18: VALOR PARCIAL
B19: Tubería Sanitaria Ø 2" PVC-S | F19: 1 | G19: =IF(F19=0,"",VLOOKUP(B19,'LISTADO DE MATERIALES'!$B$6:$D$311,2,FALSE)) -> m | H19: 0.05 | I19: =IF(F19=0,"",VLOOKUP(B19,'LISTADO DE MATERIALES'!$B$6:$D$311,3,FALSE)) -> 18994.585 | J19: =IF(I19="",0,ROUND((+F19*I19*(1+H19)),0)) -> 19944 | M19: Tubería Sanitaria Ø 2" PVC-S | Q19: 1 | R19: m | S19: 0.05 | T19: 18994.585 | U19: =IF(T19="",0,ROUND((+Q19*T19*(1+S19)),0)) -> 19944 | W19: =99802/6 -> 16633.667
B20: Soldadura PVC x 1/4 GL | F20: 0.015 | G20: =IF(F20=0,"",VLOOKUP(B20,'LISTADO DE MATERIALES'!$B$6:$D$311,2,FALSE)) -> und | H20: 0.05 | I20: =IF(F20=0,"",VLOOKUP(B20,'LISTADO DE MATERIALES'!$B$6:$D$311,3,FALSE)) -> 147850 | J20: =IF(I20="",0,ROUND((+F20*I20*(1+H20)),0)) -> 2329 | M20: Soldadura PVC x 1/4 GL | Q20: 0.015 | R20: und | T20: 147850 | U20: =IF(T20="",0,ROUND((+Q20*T20*(1+S20)),0)) -> 2218 | W20: 136699
B21: Limpiador PVC x 1/4 GL | F21: =F20 -> 0.015 | G21: =IF(F21=0,"",VLOOKUP(B21,'LISTADO DE MATERIALES'!$B$6:$D$311,2,FALSE)) -> und | H21: 0.05 | I21: =IF(F21=0,"",VLOOKUP(B21,'LISTADO DE MATERIALES'!$B$6:$D$311,3,FALSE)) -> 71305 | J21: =IF(I21="",0,ROUND((+F21*I21*(1+H21)),0)) -> 1123 | M21: Limpiador PVC x 1/4 GL | Q21: =Q20 -> 0.015 | R21: und | T21: 71305 | U21: =IF(T21="",0,ROUND((+Q21*T21*(1+S21)),0)) -> 1070 | W21: 65913
G22: =IF(F22=0,"",VLOOKUP(B22,'LISTADO DE MATERIALES'!$B$6:$D$311,2,FALSE)) | I22: =IF(F22=0,"",VLOOKUP(B22,'LISTADO DE MATERIALES'!$B$6:$D$311,3,FALSE)) | J22: =IF(I22="",0,ROUND((+F22*I22*(1+H22)),0)) -> 0 | U22: =IF(T22="",0,ROUND((+Q22*T22*(1+S22)),0)) -> 0
G23: =IF(F23=0,"",VLOOKUP(B23,'LISTADO DE MATERIALES'!$B$6:$D$311,2,FALSE)) | I23: =IF(F23=0,"",VLOOKUP(B23,'LISTADO DE MATERIALES'!$B$6:$D$311,3,FALSE)) | J23: =IF(I23="",0,ROUND((+F23*I23*(1+H23)),0)) -> 0 | U23: =IF(T23="",0,ROUND((+Q23*T23*(1+S23)),0)) -> 0
G24: =IF(F24=0,"",VLOOKUP(B24,'LISTADO DE MATERIALES'!$B$6:$D$311,2,FALSE)) | I24: =IF(F24=0,"",VLOOKUP(B24,'LISTADO DE MATERIALES'!$B$6:$D$311,3,FALSE)) | J24: =IF(I24="",0,ROUND((+F24*I24*(1+H24)),0)) -> 0 | U24: =IF(T24="",0,ROUND((+Q24*T24*(1+S24)),0)) -> 0
B25: Subtotal Materiales : | J25: =SUM(J19:J24) -> 23396 | M25: Subtotal Materiales : | U25: =SUM(U19:U24) -> 23232
B27: Transporte | M27: Transporte
B28: DESCRIPCIÓN MATERIAL | G28: M3-Ton | H28: Km | I28: TARIFA | J28: VALOR PARCIAL | M28: DESCRIPCIÓN MATERIAL | R28: M3-Ton | S28: Km | T28: TARIFA | U28: VALOR PARCIAL
J29: =ROUND((I29*H29*G29),0) -> 0 | U29: =ROUND((T29*S29*R29),0) -> 0
J30: 0 | U30: 0
J31: 0 | U31: 0
J32: 0 | U32: 0
B33: Subtotal Transporte : | J33: =SUM(J29:J32) -> 0 | M33: Subtotal Transporte : | U33: =SUM(U29:U32) -> 0
B35: Mano de Obra | M35: Mano de Obra
B36: DESCRIPCIÓN | G36: VALOR INTEGRAL / DIA | H36: CANTIDAD | I36: RENDIMIENTO | J36: VALOR PARCIAL | M36: DESCRIPCIÓN | R36: VALOR INTEGRAL / DIA | S36: CANTIDAD | T36: RENDIMIENTO | U36: VALOR PARCIAL
B37: CUADRILLA INSTALACIONES SANITARIAS | G37: =IF(B37="","",VLOOKUP(B37,CUADRILLAS!$B$87:$C$101,2,FALSE)) -> 628854.93 | H37: 1 | I37: 135 | J37: =ROUND(+IF(I37=0,0,G37*H37/I37),0) -> 4658 | M37: CUADRILLA INSTALACIONES SANITARIAS | R37: 628854.93 | S37: 1 | T37: 135 | U37: =ROUND(+IF(T37=0,0,R37*S37/T37),0) -> 4658
G38: =IF(B38="","",VLOOKUP(B38,CUADRILLAS!$B$87:$C$101,2,FALSE)) | J38: =ROUND(+IF(I38=0,0,G38*H38/I38),0) -> 0 | U38: =ROUND(+IF(T38=0,0,R38*S38/T38),0) -> 0
G39: =IF(B39="","",VLOOKUP(B39,CUADRILLAS!$B$87:$C$101,2,FALSE)) | J39: =+IF(I39=0,0,G39*H39/I39) -> 0 | U39: =+IF(T39=0,0,R39*S39/T39) -> 0
G40: =IF(B40="","",VLOOKUP(B40,CUADRILLAS!$B$87:$C$101,2,FALSE)) | J40: =+IF(I40=0,0,G40*H40/I40) -> 0 | U40: =+IF(T40=0,0,R40*S40/T40) -> 0
B41: Subtotal Mano de Obra : | J41: =SUM(J37:J40) -> 4658 | M41: Subtotal Mano de Obra : | U41: =SUM(U37:U40) -> 4658
B43: Total Costo Directo Item : | J43: =+J41+J33+J15+J25 -> 28287 | M43: Total Costo Directo Item : | U43: =+U41+U33+U15+U25 -> 28123

Sheet 2.02
