Workbook

Sheet CONSOLIDADO PERS ADMON
A1: ESTUDIO DE COSTOS PARA PAE 2025
A2: CONSOLIDADO PERSONAL ADMINISTRATIVO Y TÉCNICO X GRUPOS
B4: CARGO | D4: SALARIO PRESTACIONAL
B5: COORDINADOR OPERATIVO | D5: ='BASE DE SALARIOS'!H14 -> 5176603.1
B6: INGENIERO DE ALIMENTOS | D6: ='BASE DE SALARIOS'!T14 -> 4529527.7
B7: CONTADOR | D7: ='BASE DE SALARIOS'!L14 -> 4473148.9
B8: ADMINISTRATIVOS | D8: ='BASE DE SALARIOS'!P14 -> 3384064.3
B9: SUPERVISORES DE PUNTO | D9: ='BASE DE SALARIOS'!D14 -> 3424376.9
B10: SUPERVISORES DE PS | D10: ='BASE DE SALARIOS'!D14 -> 3424376.9
A12: GRUPO I
A13: PERSONAL | B13: CANTIDAD RI | C13: CANTIDAD CCT | D13: TOTAL | E13: SALARIO PRESTACIONAL | F13: TOTAL
A14: COORDINADOR OPERATIVO | B14: ='GI-PersAdmon'!C4 -> 0.5 | C14: ='GI-PersAdmon'!C19 -> 0.5 | D14: =B14+C14 -> 1 | E14: =+D5 -> 5176603.1 | F14: =D14*E14 -> 5176603.1
A15: INGENIERO DE ALIMENTOS | B15: ='GI-PersAdmon'!C5 -> 1 | C15: ='GI-PersAdmon'!C20 -> 1 | D15: =B15+C15 -> 2 | E15: =+D6 -> 4529527.7 | F15: =D15*E15 -> 9059055.3
A16: CONTADOR | B16: ='GI-PersAdmon'!C6 -> 0.5 | C16: ='GI-PersAdmon'!C21 -> 0.5 | D16: =B16+C16 -> 1 | E16: =+D7 -> 4473148.9 | F16: =D16*E16 -> 4473148.9
A17: ADMINISTRATIVOS | B17: ='GI-PersAdmon'!C7 -> 2 | C17: ='GI-PersAdmon'!C22 -> 2 | D17: =B17+C17 -> 4 | E17: =+D8 -> 3384064.3 | F17: =D17*E17 -> 13536257
A18: SUPERVISORES DE PUNTO | B18: ='GI-PersAdmon'!C8 -> 1 | C18: ='GI-PersAdmon'!C23 -> 1 | D18: =B18+C18 -> 2 | E18: =+D9 -> 3424376.9 | F18: =D18*E18 -> 6848753.8
A19: SUPERVISORES DE PS | B19: ='GI-PersAdmon'!C9 -> 0 | C19: ='GI-PersAdmon'!C24 -> 2 | D19: =B19+C19 -> 2 | E19: =+D10 -> 3424376.9 | F19: =D19*E19 -> 6848753.8
A20: TOTAL MENSUAL | E20: =SUM(F14:F19) -> 45942572
C22: COSTO UNITARIO RI | E22: ='GI-PersAdmon'!C12 -> 109.59675
C23: COSTO UNITARIO CCT | E23: ='GI-PersAdmon'!C27 -> 315.57528
A26: GRUPO 2
A27: PERSONAL | B27: CANTIDAD RI | C27: CANTIDAD CCT | D27: TOTAL | E27: SALARIO PRESTACIONAL | F27: TOTAL
A28: COORDINADOR OPERATIVO | B28: ='GII-PersAdmon'!C17 -> 0.5 | C28: ='GII-PersAdmon'!C4 -> 0.5 | D28: =B28+C28 -> 1 | E28: =+D5 -> 5176603.1 | F28: =C28*E28 -> 2588301.5
A29: INGENIERO DE ALIMENTOS | B29: ='GII-PersAdmon'!C18 -> 0 | C29: ='GII-PersAdmon'!C5 -> 1 | D29: =B29+C29 -> 1 | E29: =+D6 -> 4529527.7 | F29: =C29*E29 -> 4529527.7
A30: CONTADOR | B30: ='GII-PersAdmon'!C19 -> 0.5 | C30: ='GII-PersAdmon'!C6 -> 0.5 | D30: =B30+C30 -> 1 | E30: =+D7 -> 4473148.9 | F30: =C30*E30 -> 2236574.4
A31: ADMINISTRATIVOS | B31: ='GII-PersAdmon'!C20 -> 1 | C31: ='GII-PersAdmon'!C7 -> 2 | D31: =B31+C31 -> 3 | E31: =+D8 -> 3384064.3 | F31: =C31*E31 -> 6768128.5
A32: SUPERVISORES DE PUNTO | B32: ='GII-PersAdmon'!C21 -> 1 | C32: ='GII-PersAdmon'!C8 -> 2 | D32: =B32+C32 -> 3 | E32: =+D9 -> 3424376.9 | F32: =C32*E32 -> 6848753.8
A33: SUPERVISORES DE PS | B33: ='GII-PersAdmon'!C22 -> 0 | C33: ='GII-PersAdmon'!C9 -> 2 | D33: =B33+C33 -> 2 | E33: =+D10 -> 3424376.9 | F33: =C33*E33 -> 6848753.8
A34: TOTAL MENSUAL | F34: =SUM(F28:F33) -> 29820040
C36: COSTO UNITARIO RI | E36: ='GII-PersAdmon'!C25 -> 369.31166
C37: COSTO UNITARIO CCT | E37: ='GII-PersAdmon'!C12 -> 274.23752
A39: GRUPO 3
A40: PERSONAL | B40: CANTIDAD RI | C40: CANTIDAD CCT | D40: TOTAL | E40: SALARIO PRESTACIONAL | F40: TOTAL
A41: COORDINADOR OPERATIVO | B41: ='GIII-PersAdmon'!C17 -> 0.5 | C41: ='GIII-PersAdmon'!C4 -> 0.5 | D41: =B41+C41 -> 1 | E41: =+D5 -> 5176603.1 | F41: =C41*E41 -> 2588301.5
A42: INGENIERO DE ALIMENTOS | B42: ='GIII-PersAdmon'!C18 -> 0 | C42: ='GIII-PersAdmon'!C5 -> 1 | D42: =B42+C42 -> 1 | E42: =+D6 -> 4529527.7 | F42: =C42*E42 -> 4529527.7
A43: CONTADOR | B43: ='GIII-PersAdmon'!C19 -> 0.5 | C43: ='GIII-PersAdmon'!C6 -> 0.5 | D43: =B43+C43 -> 1 | E43: =+D7 -> 4473148.9 | F43: =C43*E43 -> 2236574.4
A44: ADMINISTRATIVOS | B44: ='GIII-PersAdmon'!C20 -> 1 | C44: ='GIII-PersAdmon'!C7 -> 3 | D44: =B44+C44 -> 4 | E44: =+D8 -> 3384064.3 | F44: =C44*E44 -> 10152193
A45: SUPERVISORES DE PUNTO | B45: ='GIII-PersAdmon'!C21 -> 1 | C45: ='GIII-PersAdmon'!C8 -> 3 | D45: =B45+C45 -> 4 | E45: =+D9 -> 3424376.9 | F45: =C45*E45 -> 10273131
A46: SUPERVISORES DE PS | B46: ='GIII-PersAdmon'!C22 -> 0 | C46: ='GIII-PersAdmon'!C9 -> 1 | D46: =B46+C46 -> 1 | E46: =+D10 -> 3424376.9 | F46: =C46*E46 -> 3424376.9
A47: TOTAL MENSUAL | F47: =SUM(F41:F46) -> 33204104
C49: COSTO UNITARIO RI | E49: ='GIII-PersAdmon'!C25 -> 369.31166
C50: COSTO UNITARIO CCT | E50: ='GIII-PersAdmon'!C12 -> 232.07806
A52: GRUPO 4
A53: PERSONAL | B53: CANTIDAD RI | C53: CANTIDAD CCT | D53: TOTAL | E53: SALARIO PRESTACIONAL | F53: TOTAL
A54: COORDINADOR OPERATIVO | B54: ='GIV-PersAdmon'!C17 -> 0.5 | C54: ='GIV-PersAdmon'!C4 -> 0.5 | D54: =B54+C54 -> 1 | E54: =D5 -> 5176603.1 | F54: =C54*E54 -> 2588301.5
A55: INGENIERO DE ALIMENTOS | B55: ='GIV-PersAdmon'!C18 -> 0 | C55: ='GIV-PersAdmon'!C5 -> 1 | D55: =B55+C55 -> 1 | E55: =D6 -> 4529527.7 | F55: =C55*E55 -> 4529527.7
A56: CONTADOR | B56: ='GIV-PersAdmon'!C19 -> 0.5 | C56: ='GIV-PersAdmon'!C6 -> 0.5 | D56: =B56+C56 -> 1 | E56: =D7 -> 4473148.9 | F56: =C56*E56 -> 2236574.4
A57: ADMINISTRATIVOS | B57: ='GIV-PersAdmon'!C20 -> 1 | C57: ='GIV-PersAdmon'!C7 -> 2 | D57: =B57+C57 -> 3 | E57: =D8 -> 3384064.3 | F57: =C57*E57 -> 6768128.5
A58: SUPERVISORES DE PUNTO | B58: ='GIV-PersAdmon'!C21 -> 1 | C58: ='GIV-PersAdmon'!C8 -> 2 | D58: =B58+C58 -> 3 | E58: =D9 -> 3424376.9 | F58: =C58*E58 -> 6848753.8
A59: SUPERVISORES DE PS | B59: ='GIV-PersAdmon'!C22 -> 0 | C59: ='GIV-PersAdmon'!C9 -> 1 | D59: =B59+C59 -> 1 | E59: =D10 -> 3424376.9 | F59: =C59*E59 -> 3424376.9
A60: TOTAL MENSUAL | F60: =SUM(F54:F59) -> 26395663
C62: COSTO UNITARIO RI | E62: ='GIV-PersAdmon'!C25 -> 369.31166
C63: COSTO UNITARIO CCT | E63: ='GIV-PersAdmon'!C12 -> 289.41661

Sheet CONSOLIDADO MANIPULADORAS
A1: ESTUDIO DE COSTOS PARA PAE 2025
A2: CONSOLIDADO PERSONAL MANIPULADOR X GRUPOS
B4: CARGO | D4: SALARIO PRESTACIONAL
B5: MANIPULADOR PLANTA | D5: ='BASE DE SALARIOS'!X14 -> 2377953.9
B6: MANIPULADOR PUNTO DE SERVIDO | D6: ='BASE DE SALARIOS'!AB14 -> 1283477
B7: PERSONAL ASISTENCIA CAE | D7: ='BASE DE SALARIOS'!AF14 -> 72965.13
A9: GRUPO I
A10: PERSONAL | B10: CANTIDAD RI | C10: CANTIDAD CCT | D10: TOTAL | E10: SALARIO PRESTACIONAL | F10: TOTAL
A11: MANIPULADOR PLANTA | B11: ='GI- Manipul'!C15 -> 20 | C11: ='GI- Manipul'!C5 -> 22 | D11: =B11+C11 -> 42 | E11: =+D5 -> 2377953.9 | F11: =D11*E11 -> 99874064
A12: MANIPULADOR PUNTO DE SERVIDO | B12: ='GI- Manipul'!H15 -> 66 | C12: =+'GI- Manipul'!H5 -> 40 | D12: =B12+C12 -> 106 | E12: =+D6 -> 1283477 | F12: =D12*E12 -> 1.3604856e+08
A13: PERSONAL ASISTENCIA CAE | B13: ='GI- Manipul'!H16 -> 41 | C13: =+'GI- Manipul'!H6 -> 29 | D13: =B13+C13 -> 70 | E13: =+D7 -> 72965.13 | F13: =D13*E13 -> 5107559.1
A14: TOTAL MENSUAL | F14: =SUM(F11:F13) -> 2.4103018e+08
C16: COSTO UNITARIO RI | E16: ='GI- Manipul'!D19+'GI- Manipul'!I19 -> 758.38437
C17: COSTO UNITARIO CCT | E17: ='GI- Manipul'!D9+'GI- Manipul'!I9 -> 1264.5416
A20: GRUPO 2
A21: PERSONAL | B21: CANTIDAD RI | C21: CANTIDAD CCT | D21: TOTAL | E21: SALARIO PRESTACIONAL | F21: TOTAL
A22: MANIPULADOR PLANTA | B22: ='GII- Manipul'!C15 -> 3 | C22: ='GII- Manipul'!C5 -> 31 | D22: =B22+C22 -> 34 | E22: =+D5 -> 2377953.9 | F22: =C22*E22 -> 73716571
A23: MANIPULADOR PUNTO DE SERVIDO | B23: ='GII- Manipul'!H15 -> 13 | C23: ='GII- Manipul'!H5 -> 36 | D23: =B23+C23 -> 49 | E23: =+D6 -> 1283477 | F23: =C23*E23 -> 46205170
A24: PERSONAL ASISTENCIA CAE | B24: ='GII- Manipul'!H16 -> 14 | C24: ='GII- Manipul'!H6 -> 23 | D24: =B24+C24 -> 37 | E24: =+D7 -> 72965.13 | F24: =C24*E24 -> 1678198
A25: TOTAL MENSUAL | F25: =SUM(F22:F24) -> 1.2159994e+08
C27: COSTO UNITARIO RI | E27: ='GII- Manipul'!D19+'GII- Manipul'!I19 -> 788.58965
C28: COSTO UNITARIO CCT | E28: ='GII- Manipul'!D9+'GII- Manipul'!I9 -> 1118.2838
A30: GRUPO 3
A31: PERSONAL | B31: CANTIDAD RI | C31: CANTIDAD CCT | D31: TOTAL | E31: SALARIO PRESTACIONAL | F31: TOTAL
A32: MANIPULADOR PLANTA | B32: ='GIII- Manipul'!C15 -> 3 | C32: ='GIII- Manipul'!C5 -> 38 | D32: =B32+C32 -> 41 | E32: =+D5 -> 2377953.9 | F32: =C32*E32 -> 90362249
A33: MANIPULADOR PUNTO DE SERVIDO | B33: ='GIII- Manipul'!H15 -> 18 | C33: ='GIII- Manipul'!H5 -> 77 | D33: =B33+C33 -> 95 | E33: =+D6 -> 1283477 | F33: =C33*E33 -> 98827726
A34: PERSONAL ASISTENCIA CAE | B34: ='GIII- Manipul'!H16 -> 20 | C34: ='GIII- Manipul'!H6 -> 54 | D34: =B34+C34 -> 74 | E34: =+D7 -> 72965.13 | F34: =C34*E34 -> 3940117
A35: TOTAL MENSUAL | F35: =SUM(F32:F34) -> 1.9313009e+08
C37: COSTO UNITARIO RI | E37: ='GIII- Manipul'!D19+'GIII- Manipul'!I19 -> 1006.2143
C38: COSTO UNITARIO CCT | E38: ='GIII- Manipul'!D9+'GIII- Manipul'!I9 -> 1349.871
A40: GRUPO 4
A41: PERSONAL | B41: CANTIDAD RI | C41: CANTIDAD CCT | D41: TOTAL | E41: SALARIO PRESTACIONAL | F41: TOTAL
A42: MANIPULADOR PLANTA | B42: ='GIV- Manipul'!C15 -> 3 | C42: ='GIV- Manipul'!C5 -> 25 | D42: =B42+C42 -> 28 | E42: =+D5 -> 2377953.9 | F42: =C42*E42 -> 59448848
A43: MANIPULADOR PUNTO DE SERVIDO | B43: ='GIV- Manipul'!H15 -> 14 | C43: ='GIV- Manipul'!H5 -> 38 | D43: =B43+C43 -> 52 | E43: =+D6 -> 1283477 | F43: =C43*E43 -> 48772124
A44: PERSONAL ASISTENCIA CAE | B44: ='GIV- Manipul'!H16 -> 13 | C44: ='GIV- Manipul'!H6 -> 22 | D44: =B44+C44 -> 35 | E44: =+D7 -> 72965.13 | F44: =C44*E44 -> 1605232.9
A45: TOTAL MENSUAL | F45: =SUM(F42:F44) -> 1.098262e+08
C47: COSTO UNITARIO RI | E47: ='GIV- Manipul'!D19+'GIV- Manipul'!I19 -> 827.0186
C48: COSTO UNITARIO CCT | E48: ='GIV- Manipul'!D9+'GIV- Manipul'!I9 -> 1204.1951

Sheet BASE DE SALARIOS
B1: SUPERVISOR | D1: TIEMPO COMPLETO | F1: COORDINADORES | H1: TIEMPO COMPLETO | J1: CONTADOR | L1: TIEMPO COMPLETO | N1: ADMINISTRATIVOS | P1: TIEMPO COMPLETO | R1: INGENIERO DE ALIMENTOS | T1: TIEMPO COMPLETO | V1: MANIPULADOR PLANTA/PS | X1: TIEMPO COMPLETO | Z1: MANIPULADOR PUNTO | AB1: MEDIO TIEMPO | AD1: ASISTENCIA CAE | AF1: DIA
B2: SALARIO | C2: 2024 | D2: 2000000 | F2: SALARIO | G2: 2024 | H2: 3200000 | J2: SALARIO | K2: 2024 | L2: 2800000 | N2: SALARIO | O2: 2024 | P2: 2000000 | R2: SALARIO | S2: 2024 | T2: 2800000 | V2: SALARIO | W2: 2024 | X2: 1300000 | Z2: SALARIO | AA2: 2024 | AB2: =1300000/2 -> 650000 | AD2: SALARIO | AE2: 2024 | AF2: =1300000/30 -> 43333.333
B3: SALARIO | C3: 2025 | D3: =D2*(1+([1]DATOS!$C$24)) -> 2104000 | F3: SALARIO | G3: 2025 | H3: =H2*(1+([1]DATOS!$C$24)) -> 3366400 | J3: SALARIO | K3: 2025 | L3: =L2*(1+([1]DATOS!$C$24)) -> 2945600 | N3: SALARIO | O3: 2025 | P3: =P2*(1+([1]DATOS!$C$24)) -> 2104000 | R3: SALARIO | S3: 2025 | T3: =T2*(1+([1]DATOS!$C$24)) -> 2945600 | V3: SALARIO | W3: 2025 | X3: =X2*(1+[1]DATOS!$E$23) -> 1423500 | Z3: SALARIO | AA3: 2025 | AB3: =AB2*(1+[1]DATOS!$E$23) -> 711750 | AD3: SALARIO | AE3: 2025 | AF3: =AF2*(1+[1]DATOS!$E$23) -> 47450
B4: Subsidio de Transporte | D4: 162000 | F4: Subsidio de Transporte | H4: 0 | J4: Subsidio de Transporte | L4: 0 | N4: Subsidio de Transporte | P4: 162000 | R4: Subsidio de Transporte | T4: 0 | V4: Subsidio de Transporte | X4: 162000 | Z4: Subsidio de Transporte | AB4: 162000 | AD4: Subsidio de Transporte
B5: SALUD | C5: 0.085 | D5: =+D3*C5 -> 178840 | F5: SALUD | G5: 0.085 | H5: =+H3*G5 -> 286144 | J5: SALUD | K5: 0.085 | L5: =+L3*K5 -> 250376 | N5: SALUD | O5: 0.085 | P5: =+P3*O5 -> 178840 | R5: SALUD | S5: 0.085 | T5: =+T3*S5 -> 250376 | V5: SALUD | W5: 0.085 | X5: =+X3*W5 -> 120997.5 | Z5: SALUD | AA5: 0.085 | AB5: =+AB3*AA5 -> 60498.75 | AD5: SALUD | AE5: 0.085 | AF5: =+AF3*AE5 -> 4033.25
B6: PENSION | C6: 0.12 | D6: =+D3*C6 -> 252480 | F6: PENSION | G6: 0.12 | H6: =+H3*G6 -> 403968 | J6: PENSION | K6: 0.12 | L6: =+L3*K6 -> 353472 | N6: PENSION | O6: 0.12 | P6: =+P3*O6 -> 252480 | R6: PENSION | S6: 0.12 | T6: =+T3*S6 -> 353472 | V6: PENSION | W6: 0.12 | X6: =+X3*W6 -> 170820 | Z6: PENSION | AA6: 0.12 | AB6: =+AB3*AA6 -> 85410 | AD6: PENSION | AE6: 0.12 | AF6: =+AF3*AE6 -> 5694
B7: ARL | C7: =C24 -> 0.02436 | D7: =+D3*C7 -> 51253.44 | F7: ARL | G7: =C24 -> 0.02436 | H7: =+H3*G7 -> 82005.504 | J7: ARL | K7: 0.00522 | L7: =+L3*K7 -> 15376.032 | N7: ARL | O7: 0.0052 | P7: =+P3*O7 -> 10940.8 | R7: ARL | S7: =C24 -> 0.02436 | T7: =+T3*S7 -> 71754.816 | V7: ARL | W7: =C24 -> 0.02436 | X7: =+X3*W7 -> 34676.46 | Z7: ARL | AA7: =C24 -> 0.02436 | AB7: =+AB3*AA7 -> 17338.23 | AD7: ARL | AE7: =C24 -> 0.02436 | AF7: =+AF3*AE7 -> 1155.882
B8: CESANTIAS | C8: 0.083333333 | D8: =(+D3+D4)*C8 -> 188833.33 | F8: CESANTIAS | G8: 0.083333333 | H8: =(+H3+H4)*G8 -> 280533.33 | J8: CESANTIAS | K8: 0.083333333 | L8: =(+L3+L4)*K8 -> 245466.67 | N8: CESANTIAS | O8: 0.083333333 | P8: =(+P3+P4)*O8 -> 188833.33 | R8: CESANTIAS | S8: 0.083333333 | T8: =(+T3+T4)*S8 -> 245466.67 | V8: CESANTIAS | W8: 0.083333333 | X8: =(+X3+X4)*W8 -> 132125 | Z8: CESANTIAS | AA8: 0.083333333 | AB8: =(+AB3+AB4)*AA8 -> 72812.5 | AD8: CESANTIAS | AE8: 0.083333333 | AF8: =(+AF3+AF4)*AE8 -> 3954.1667
B9: INTERESES CESANTIAS | C9: 0.01 | D9: =+D3*C9 -> 21040 | F9: INTERESES CESANTIAS | G9: 0.01 | H9: =+H3*G9 -> 33664 | J9: INTERESES CESANTIAS | K9: 0.01 | L9: =+L3*K9 -> 29456 | N9: INTERESES CESANTIAS | O9: 0.01 | P9: =+P3*O9 -> 21040 | R9: INTERESES CESANTIAS | S9: 0.01 | T9: =+T3*S9 -> 29456 | V9: INTERESES CESANTIAS | W9: 0.01 | X9: =+X3*W9 -> 14235 | Z9: INTERESES CESANTIAS | AA9: 0.01 | AB9: =+AB3*AA9 -> 7117.5 | AD9: INTERESES CESANTIAS | AE9: 0.01 | AF9: =+AF3*AE9 -> 474.5
B10: PRIMA | C10: 0.083333333 | D10: =+(D3+D4)*C10 -> 188833.33 | F10: PRIMA | G10: 0.083333333 | H10: =+(H3+H4)*G10 -> 280533.33 | J10: PRIMA | K10: 0.083333333 | L10: =+(L3+L4)*K10 -> 245466.67 | N10: PRIMA | O10: 0.083333333 | P10: =+(P3+P4)*O10 -> 188833.33 | R10: PRIMA | S10: 0.083333333 | T10: =+(T3+T4)*S10 -> 245466.67 | V10: PRIMA | W10: 0.083333333 | X10: =+(X3+X4)*W10 -> 132125 | Z10: PRIMA | AA10: 0.083333333 | AB10: =+(AB3+AB4)*AA10 -> 72812.5 | AD10: PRIMA | AE10: 0.083333333 | AF10: =+(AF3+AF4)*AE10 -> 3954.1667
B11: VACACIONES | C11: 0.0417 | D11: =+D3*C11 -> 87736.8 | F11: VACACIONES | G11: 0.0417 | H11: =+H3*G11 -> 140378.88 | J11: VACACIONES | K11: 0.0417 | L11: =+L3*K11 -> 122831.52 | N11: VACACIONES | O11: 0.0417 | P11: =+P3*O11 -> 87736.8 | R11: VACACIONES | S11: 0.0417 | T11: =+T3*S11 -> 122831.52 | V11: VACACIONES | W11: 0.0417 | X11: =+X3*W11 -> 59359.95 | Z11: VACACIONES | AA11: 0.0417 | AB11: =+AB3*AA11 -> 29679.975 | AD11: VACACIONES | AE11: 0.0417 | AF11: =+AF3*AE11 -> 1978.665
B12: PARAFISCALES | C12: 0.09 | D12: =+D3*C12 -> 189360 | F12: PARAFISCALES | G12: 0.09 | H12: =+H3*G12 -> 302976 | J12: PARAFISCALES | K12: 0.09 | L12: =+L3*K12 -> 265104 | N12: PARAFISCALES | O12: 0.09 | P12: =+P3*O12 -> 189360 | R12: PARAFISCALES | S12: 0.09 | T12: =+T3*S12 -> 265104 | V12: PARAFISCALES | W12: 0.09 | X12: =+X3*W12 -> 128115 | Z12: PARAFISCALES | AA12: 0.09 | AB12: =+AB3*AA12 -> 64057.5 | AD12: PARAFISCALES | AE12: 0.09 | AF12: =+AF3*AE12 -> 4270.5
B13: Dotación /3 al año | F13: Dotación /3 al año | J13: Dotación /3 al año | N13: Dotación /3 al año | R13: Dotación /3 al año | V13: Dotación /3 al año | Z13: Dotación /3 al año | AD13: Dotación /3 al año
B14: Subtotal | D14: =SUM(D3:D12) -> 3424376.9 | F14: Subtotal | H14: =SUM(H3:H12) -> 5176603.1 | J14: Subtotal | L14: =SUM(L3:L12) -> 4473148.9 | N14: Subtotal | P14: =SUM(P3:P12) -> 3384064.3 | R14: Subtotal | T14: =SUM(T3:T12) -> 4529527.7 | V14: Subtotal | X14: =SUM(X3:X12) -> 2377953.9 | Z14: Subtotal | AB14: =SUM(AB3:AB12) -> 1283477 | AD14: Subtotal | AF14: =SUM(AF3:AF12) -> 72965.13
B17: SMMLV 2024 | C17: =[1]DATOS!C22 -> 1300000
B18: SMMLV 2025 | C18: =[1]DATOS!C23 -> 1423500 | D18: Incremento Proyectado | E18: =[1]DATOS!E23 -> 0.095
B20: Taza de Cotización ARL
B21: Clase de riesgo | C21: Valor inicial
B22: I | C22: 0.00522
B23: II | C23: 0.01044
B24: III | C24: 0.02436
B25: IV | C25: 0.0435
B26: V | C26: 0.0696

Sheet GI-RI Cupos
C2: CUPOS | F2: DÍAS DE OPERACIÓN | I2: MANIPULADORAS | J2: CUPOS | K2: TOTAL
C3: DIARIO | D3: =+D52 -> 8493 | F3: MES | G3: ='[1]CONSOLIDADO FINAL'!$B$26 -> 21 | I3: PUNTO RI | J3: =+D3 -> 8493 | K3: =SUM(E9:E50) -> 66
C4: MES | D4: =+D3*G3 -> 178353 | F4: EJECUCIÓN TOTAL | G4: ='[1]CONSOLIDADO FINAL'!$B$27 -> 118 | I4: PLANTA | J4: =+J3 -> 8493 | K4: =ROUNDUP((1/440)*J4,0) -> 20
C5: EJECUCIÓN TOTAL | D5: =+D3*G4 -> 1002174 | I5: TOTAL MANIPU | J5: =SUM(K3:K4) -> 86
I7: Cantidad de IE | J7: =COUNTA(A10:A50) -> 41
A9: INSTITUCION EDUCATIVA | B9: TIPO DE SERVICIO | C9: JORNADA ÚNICA | D9: ASIGNACIÓN | E9: MANIPULADORAS DE PUNTO
A10: I.E CENTENARIO | B10: INDUSTRIALIZADO | C10: NO | D10: 450 | E10: =IF(D10=0,0,IF(D10<=50,0,IF(D10<=150,1,IF(D10<=300,2,IF(D10<=501,3))))) -> 3
A11: I.E MATECAÑA | B11: INDUSTRIALIZADO | C11: NO | D11: 350 | E11: =IF(D11=0,0,IF(D11<=50,0,IF(D11<=150,1,IF(D11<=300,2,IF(D11<=501,3))))) -> 3
A12: I.E LA BOYACA | B12: INDUSTRIALIZADO | C12: NO | D12: 140 | E12: =IF(D12=0,0,IF(D12<=50,0,IF(D12<=150,1,IF(D12<=300,2,IF(D12<=501,3))))) -> 1
A13: I.E RAFAEL URIBE URIBE | B13: INDUSTRIALIZADO | C13: NO | D13: 350 | E13: =IF(D13=0,0,IF(D13<=50,0,IF(D13<=150,1,IF(D13<=300,2,IF(D13<=501,3))))) -> 3
A14: I.E LA INMACULADA | B14: INDUSTRIALIZADO | C14: NO | D14: 200 | E14: =IF(D14=0,0,IF(D14<=50,0,IF(D14<=150,1,IF(D14<=300,2,IF(D14<=501,3))))) -> 2
A15: I.E HECTOR ANGEL ARCILA sede FRANCISCO MIRANDA | B15: INDUSTRIALIZADO | C15: NO | D15: 27 | E15: =IF(D15=0,0,IF(D15<=50,0,IF(D15<=150,1,IF(D15<=300,2,IF(D15<=501,3))))) -> 0
A16: I.E HECTOR ANGEL ARCILA sede VILLA ALVAREZ | B16: INDUSTRIALIZADO | C16: NO | D16: 77 | E16: =IF(D16=0,0,IF(D16<=50,0,IF(D16<=150,1,IF(D16<=300,2,IF(D16<=501,3))))) -> 1
A17: I.E HECTOR ANGEL ARCILA sede C.E SAN JOSE DE OTUN | B17: INDUSTRIALIZADO | C17: NO | D17: 9 | E17: =IF(D17=0,0,IF(D17<=50,0,IF(D17<=150,1,IF(D17<=300,2,IF(D17<=501,3))))) -> 0
A18: I.E HECTOR ANGEL ARCILA sede C.E CLUB LEONES 30 AGOSTO | B18: INDUSTRIALIZADO | C18: NO | D18: 15 | E18: =IF(D18=0,0,IF(D18<=50,0,IF(D18<=150,1,IF(D18<=300,2,IF(D18<=501,3))))) -> 0
A19: I.E HECTOR ANGEL ARCILA sede C.E EL PORVENIR | B19: INDUSTRIALIZADO | C19: NO | D19: 27 | E19: =IF(D19=0,0,IF(D19<=50,0,IF(D19<=150,1,IF(D19<=300,2,IF(D19<=501,3))))) -> 0
A20: I.E HECTOR ANGEL ARCILA sede C.E PLAN EL MANZANO | B20: INDUSTRIALIZADO | C20: NO | D20: 11 | E20: =IF(D20=0,0,IF(D20<=50,0,IF(D20<=150,1,IF(D20<=300,2,IF(D20<=501,3))))) -> 0
A21: I.E HECTOR ANGEL ARCILA sede LA SUIZA | B21: INDUSTRIALIZADO | C21: NO | D21: 7 | E21: =IF(D21=0,0,IF(D21<=50,0,IF(D21<=150,1,IF(D21<=300,2,IF(D21<=501,3))))) -> 0
... A41: I.E REMIGIO ANTONIO CAÑARTE | B41: INDUSTRIALIZADO | C41: NO | D41: 250 | E41: =IF(D41=0,0,IF(D41<=50,0,IF(D41<=150,1,IF(D41<=300,2,IF(D41<=501,3))))) -> 2
A42: I.E REMIGIO ANTONIO CAÑARTE sede EL POBLADO | B42: INDUSTRIALIZADO | C42: NO | D42: =135+25 -> 160 | E42: =IF(D42=0,0,IF(D42<=50,0,IF(D42<=150,1,IF(D42<=300,2,IF(D42<=501,3))))) -> 2
A43: I.E REMIGIO ANTONIO CAÑARTE sede SAMARIA | B43: INDUSTRIALIZADO | C43: NO | D43: 150 | E43: =IF(D43=0,0,IF(D43<=50,0,IF(D43<=150,1,IF(D43<=300,2,IF(D43<=501,3))))) -> 1
A44: I.E HERNANDO VELEZ MARULANDA | B44: INDUSTRIALIZADO | C44: NO | D44: 200 | E44: =IF(D44=0,0,IF(D44<=50,0,IF(D44<=150,1,IF(D44<=300,2,IF(D44<=501,3))))) -> 2
A45: I.E HERNANDO VELEZ MARULANDA sede GENERAL MOSQUERA | B45: INDUSTRIALIZADO | C45: NO | D45: 200 | E45: =IF(D45=0,0,IF(D45<=50,0,IF(D45<=150,1,IF(D45<=300,2,IF(D45<=501,3))))) -> 2
A46: I.E INSTITUTO LESTONNAC | B46: INDUSTRIALIZADO | C46: NO | D46: 300 | E46: =IF(D46=0,0,IF(D46<=50,0,IF(D46<=150,1,IF(D46<=300,2,IF(D46<=501,3))))) -> 2
A47: I.E RODRIGO ARENAS BETANCURT | B47: INDUSTRIALIZADO | C47: SI | D47: 500 | E47: =IF(D47=0,0,IF(D47<=50,0,IF(D47<=150,1,IF(D47<=300,2,IF(D47<=501,3))))) -> 3
A48: I.E SAN VICENTE HOGAR | B48: INDUSTRIALIZADO | C48: NO | D48: 320 | E48: =IF(D48=0,0,IF(D48<=50,0,IF(D48<=150,1,IF(D48<=300,2,IF(D48<=501,3))))) -> 3
A49: I.E HANS DREWS ARANGO | B49: INDUSTRIALIZADO | C49: SI | D49: 409 | E49: =IF(D49=0,0,IF(D49<=50,0,IF(D49<=150,1,IF(D49<=300,2,IF(D49<=501,3))))) -> 3
A50: I.E HANS DREWS ARANGO sede C.E SANTA TERESITA | B50: INDUSTRIALIZADO | C50: SI | D50: 7 | E50: =IF(D50=0,0,IF(D50<=50,0,IF(D50<=150,1,IF(D50<=300,2,IF(D50<=501,3))))) -> 0
A51: CUPOS DISTRIBUCIÓN EMERGENCIA O AUMENTO COBERTURA | D51: 30 | E51: =IF(D51=0,0,IF(D51<=50,0,IF(D51<=150,1,IF(D51<=300,2,IF(D51<=501,3))))) -> 0
A52: SUBTOTAL | D52: =SUM(D10:D51) -> 8493 | E52: =SUM(E10:E51) -> 66

Sheet GI-CCT Cupos
C2: CUPOS | F2: DÍAS DE OPERACIÓN | I2: MANIPULADORAS | J2: CUPOS | K2: TOTAL
C3: DIARIO | D3: =+D38 -> 3983 | F3: MES | G3: ='GI-RI Cupos'!G3 -> 21 | I3: PUNTO CCT | J3: =D38-J4 -> 2288 | K3: =F38-K4 -> 40
C4: MES | D4: =+D3*G3 -> 83643 | F4: EJECUCIÓN TOTAL | G4: ='GI-RI Cupos'!G4 -> 118 | I4: PUNTO PS | J4: =D9+D24+D29+D35-D24 -> 1695 | K4: =+F9+F29+F35 -> 13
C5: EJECUCIÓN TOTAL | D5: =+D3*G4 -> 469994 | I5: PLANTA | J5: =J3 -> 2288 | K5: =ROUND((6/1500)*J5,0) -> 9
I6: TOTAL MANIPU | J6: =+K5+K3+K4 -> 62
A8: INSTITUCION EDUCATIVA | B8: TIPO DE SERVICIO | C8: JORNADA ÚNICA | D8: ASIGNACIÓN ALMUERZO | E8: FIAMBRERA | F8: MANIPULADORAS DE PUNTO | I8: Cantidad de IE | J8: =COUNTA(A9:A37) -> 29
A9: I.E INEM FELIPE PEREZ | B9: PREPARADO EN SITIIO | C9: SI | D9: 650 | F9: =IF(D9=0,0,IF(D9<=75,1,IF(D9<=150,2,IF(D9<=300,3,IF(D9<=500,4,IF(D9<=750,5,IF(D9<=1000,6,IF(D9>=1001,7)))))))) -> 5
A10: I.E COMBIA | B10: CATERING | C10: NO | D10: 240 | F10: =IF(D10=0,0,IF(D10<=75,1,IF(D10<=150,2,IF(D10<=300,3,IF(D10<=500,4,IF(D10<=750,5,IF(D10<=1000,6,IF(D10>=1001,7)))))))) -> 3
A11: I.E COMBIA sede C.E CLARET - LA BODEGA | B11: CATERING | C11: SI | D11: 13 | E11: X | F11: 0
A12: I.E COMBIA sede C.E EL POMO | B12: CATERING | C12: SI | D12: 10 | E12: X | F12: 0
A13: I.E COMBIA sede C.E LA HONDA | B13: CATERING | C13: SI | D13: 45 | F13: =IF(D13=0,0,IF(D13<=75,1,IF(D13<=150,2,IF(D13<=300,3,IF(D13<=500,4,IF(D13<=750,5,IF(D13<=1000,6,IF(D13>=1001,7)))))))) -> 1
A14: I.E COMBIA sede C.E LA RENTA | B14: CATERING | C14: SI | D14: 24 | F14: =IF(D14=0,0,IF(D14<=75,1,IF(D14<=150,2,IF(D14<=300,3,IF(D14<=500,4,IF(D14<=750,5,IF(D14<=1000,6,IF(D14>=1001,7)))))))) -> 1
A15: I.E COMBIA sede C.E LA SIRIA | B15: CATERING | C15: SI | D15: 16 | F15: =IF(D15=0,0,IF(D15<=75,1,IF(D15<=150,2,IF(D15<=300,3,IF(D15<=500,4,IF(D15<=750,5,IF(D15<=1000,6,IF(D15>=1001,7)))))))) -> 1
A16: I.E COMBIA sede C.E LA SUECIA | B16: CATERING | C16: SI | D16: 16 | F16: =IF(D16=0,0,IF(D16<=75,1,IF(D16<=150,2,IF(D16<=300,3,IF(D16<=500,4,IF(D16<=750,5,IF(D16<=1000,6,IF(D16>=1001,7)))))))) -> 1
A17: I.E COMBIA sede C.E SAN MARINO | B17: CATERING | C17: SI | D17: 14 | F17: =IF(D17=0,0,IF(D17<=75,1,IF(D17<=150,2,IF(D17<=300,3,IF(D17<=500,4,IF(D17<=750,5,IF(D17<=1000,6,IF(D17>=1001,7)))))))) -> 1
A18: I.E COMBIA sede C.E SANTANDER | B18: CATERING | C18: NO | D18: 16 | F18: =IF(D18=0,0,IF(D18<=75,1,IF(D18<=150,2,IF(D18<=300,3,IF(D18<=500,4,IF(D18<=750,5,IF(D18<=1000,6,IF(D18>=1001,7)))))))) -> 1
A19: I.E COMBIA sede EL PLACER | B19: CATERING | C19: NO | D19: 150 | F19: =IF(D19=0,0,IF(D19<=75,1,IF(D19<=150,2,IF(D19<=300,3,IF(D19<=500,4,IF(D19<=750,5,IF(D19<=1000,6,IF(D19>=1001,7)))))))) -> 2
A20: I.E EL PITAL | B20: CATERING | C20: SI | D20: 180 | F20: =IF(D20=0,0,IF(D20<=75,1,IF(D20<=150,2,IF(D20<=300,3,IF(D20<=500,4,IF(D20<=750,5,IF(D20<=1000,6,IF(D20>=1001,7)))))))) -> 3
A21: I.E EL PITAL sede C.E AMOLADORA BAJA | B21: CATERING | C21: SI | D21: 27 | F21: =IF(D21=0,0,IF(D21<=75,1,IF(D21<=150,2,IF(D21<=300,3,IF(D21<=500,4,IF(D21<=750,5,IF(D21<=1000,6,IF(D21>=1001,7)))))))) -> 1
A22: I.E EL PITAL sede C.E EL JORDAN | B22: CATERING | C22: SI | D22: 16 | F22: =IF(D22=0,0,IF(D22<=75,1,IF(D22<=150,2,IF(D22<=300,3,IF(D22<=500,4,IF(D22<=750,5,IF(D22<=1000,6,IF(D22>=1001,7)))))))) -> 1
A23: I.E EL PITAL sede C.E LA ESPERANZA | B23: CATERING | C23: SI | D23: 15 | F23: =IF(D23=0,0,IF(D23<=75,1,IF(D23<=150,2,IF(D23<=300,3,IF(D23<=500,4,IF(D23<=750,5,IF(D23<=1000,6,IF(D23>=1001,7)))))))) -> 1
A24: I.E EL PITAL sede C.E MINA DEL SOCORRO | B24: PREPARADO EN SITIIO | C24: SI | D24: 4 | F24: =IF(D24=0,0,IF(D24<=75,1,IF(D24<=150,2,IF(D24<=300,3,IF(D24<=500,4,IF(D24<=750,5,IF(D24<=1000,6,IF(D24>=1001,7)))))))) -> 1
... A31: I.E GUILLERMO HOYOS SALAZAR sede La Convención | B31: CATERING | C31: NO | D31: 17 | F31: =IF(D31=0,0,IF(D31<=75,1,IF(D31<=150,2,IF(D31<=300,3,IF(D31<=500,4,IF(D31<=750,5,IF(D31<=1000,6,IF(D31>=1001,7)))))))) -> 1
A32: I.E GUILLERMO HOYOS SALAZAR sede SAN LUIS | B32: CATERING | C32: NO | D32: 13 | E32: X | F32: 0
A33: I.E SAN FERNANDO | B33: CATERING | C33: SI | D33: 190 | F33: =IF(D33=0,0,IF(D33<=75,1,IF(D33<=150,2,IF(D33<=300,3,IF(D33<=500,4,IF(D33<=750,5,IF(D33<=1000,6,IF(D33>=1001,7)))))))) -> 3
A34: I.E JORGE ELIECER GAITAN | B34: CATERING | C34: SI | D34: 307 | F34: =IF(D34=0,0,IF(D34<=75,1,IF(D34<=150,2,IF(D34<=300,3,IF(D34<=500,4,IF(D34<=750,5,IF(D34<=1000,6,IF(D34>=1001,7)))))))) -> 4
A35: I.E CIUDAD BOQUIA sede 2 | B35: PREPARADO EN SITIO | C35: SI | D35: 1040 | F35: =IF(D35=0,0,IF(D35<=75,1,IF(D35<=150,2,IF(D35<=300,3,IF(D35<=500,4,IF(D35<=750,5,IF(D35<=1000,6,IF(D35>=1001,7)))))))) -> 7
A36: I.E PABLO EMILIO CARDONA | B36: CATERING | C36: SI | D36: 280 | F36: =IF(D36=0,0,IF(D36<=75,1,IF(D36<=150,2,IF(D36<=300,3,IF(D36<=500,4,IF(D36<=750,5,IF(D36<=1000,6,IF(D36>=1001,7)))))))) -> 3
A37: I.E LENINGRADO | B37: CATERING | C37: NO | D37: 320 | F37: =IF(D37=0,0,IF(D37<=75,1,IF(D37<=150,2,IF(D37<=300,3,IF(D37<=500,4,IF(D37<=750,5,IF(D37<=1000,6,IF(D37>=1001,7)))))))) -> 4
C38: TOTAL | D38: =SUM(D9:D37) -> 3983 | F38: =SUM(F9:F37) -> 53

Sheet GII-RI Cupos
C2: CUPOS | F2: DÍAS DE OPERACIÓN | I2: MANIPULADORAS | J2: CUPOS | K2: TOTAL
C3: DIARIO | D3: =+D23 -> 1500 | F3: MES | G3: ='GI-RI Cupos'!G3 -> 21 | I3: PUNTO RI | J3: =+D3 -> 1500 | K3: =E23 -> 13
C4: MES | D4: =+D3*G3 -> 31500 | F4: EJECUCIÓN TOTAL | G4: ='GI-RI Cupos'!G4 -> 118 | I4: PLANTA | J4: =D3 -> 1500 | K4: =ROUND((1/440)*J4,0) -> 3
C5: EJECUCIÓN TOTAL | D5: =+D3*G4 -> 177000 | I5: TOTAL MANIPU | J5: =K3+K4 -> 16
A8: INSTITUCION EDUCATIVA | B8: TIPO DE SERVICIO | C8: JORNADA ÚNICA | D8: ASIGNACIÓN | E8: MANIPULADORAS DE PUNTO | I8: Cantidad de IE | J8: =COUNTA(A9:A22) -> 14
A9: I.E MANOS UNIDAS sede El Remanso | B9: INDUSTRIALIZADO | C9: SI | D9: 287 | E9: =IF(D9=0,0,IF(D9<=50,0,IF(D9<=150,1,IF(D9<=300,2,IF(D9<=501,3))))) -> 2
A10: I.E AQUILINO BEDOYA | B10: INDUSTRIALIZADO | C10: SI | D10: 267 | E10: =IF(D10=0,0,IF(D10<=50,0,IF(D10<=150,1,IF(D10<=300,2,IF(D10<=501,3))))) -> 2
A11: I.E JAIME SALAZAR ROBLEDO | B11: INDUSTRIALIZADO | C11: NO | D11: 180 | E11: =IF(D11=0,0,IF(D11<=50,0,IF(D11<=150,1,IF(D11<=300,2,IF(D11<=501,3))))) -> 2
A12: I.E VILLA SANTANA | B12: INDUSTRIALIZADO | C12: SI | D12: 136 | E12: =IF(D12=0,0,IF(D12<=50,0,IF(D12<=150,1,IF(D12<=300,2,IF(D12<=501,3))))) -> 1
A13: I.E SUR ORIENTAL | B13: INDUSTRIALIZADO | C13: SI | D13: 107 | E13: =IF(D13=0,0,IF(D13<=50,0,IF(D13<=150,1,IF(D13<=300,2,IF(D13<=501,3))))) -> 1
A14: I.E COMPARTIR LAS BRISAS | B14: INDUSTRIALIZADO | C14: SI | D14: 99 | E14: =IF(D14=0,0,IF(D14<=50,0,IF(D14<=150,1,IF(D14<=300,2,IF(D14<=501,3))))) -> 1
A15: I.E MANOS UNIDAS | B15: INDUSTRIALIZADO | C15: SI | D15: 78 | E15: =IF(D15=0,0,IF(D15<=50,0,IF(D15<=150,1,IF(D15<=300,2,IF(D15<=501,3))))) -> 1
A16: I.E LA BELLA sede LA CACHUCHA | B16: INDUSTRIALIZADO | C16: SI | D16: 64 | E16: =IF(D16=0,0,IF(D16<=50,0,IF(D16<=150,1,IF(D16<=300,2,IF(D16<=501,3))))) -> 1
A17: I.E KENNEDY | B17: INDUSTRIALIZADO | C17: SI | D17: 58 | E17: =IF(D17=0,0,IF(D17<=50,0,IF(D17<=150,1,IF(D17<=300,2,IF(D17<=501,3))))) -> 1
A18: I.E MUNDO NUEVO | B18: INDUSTRIALIZADO | C18: SI | D18: 52 | E18: =IF(D18=0,0,IF(D18<=50,0,IF(D18<=150,1,IF(D18<=300,2,IF(D18<=501,3))))) -> 1
A19: I.E SUR ORIENTAL sede GUSTAVO A. GARRIDO | B19: INDUSTRIALIZADO | C19: SI | D19: 47 | E19: =IF(D19=0,0,IF(D19<=50,0,IF(D19<=150,1,IF(D19<=300,2,IF(D19<=501,3))))) -> 0
A20: I.E DEOGRACIAS CARDONA | B20: INDUSTRIALIZADO | C20: SI | D20: 44 | E20: =IF(D20=0,0,IF(D20<=50,0,IF(D20<=150,1,IF(D20<=300,2,IF(D20<=501,3))))) -> 0
... A22: I.E LA BELLA | B22: INDUSTRIALIZADO | C22: SI | D22: 37 | E22: =IF(D22=0,0,IF(D22<=50,0,IF(D22<=150,1,IF(D22<=300,2,IF(D22<=501,3))))) -> 0
A23: TOTAL | D23: =SUM(D9:D22) -> 1500 | E23: =SUM(E9:E22) -> 13

Sheet GII-CCT Cupos
C2: CUPOS | F2: DÍAS DE OPERACIÓN | I2: MANIPULADORAS | J2: CUPOS | K2: TOTAL
C3: DIARIO | D3: =+D32 -> 5178 | F3: MES | G3: ='GI-RI Cupos'!G3 -> 21 | I3: PUNTO CCT | J3: =+D32-J4 -> 2617 | K3: =F32-K4 -> 36
C4: MES | D4: =+D3*G3 -> 108738 | F4: EJECUCIÓN TOTAL | G4: ='GI-RI Cupos'!G4 -> 118 | I4: PUNTO PS | J4: =+D17+D18+D23+D30+D31 -> 2561 | K4: =+F17+F18+F23+F30+F31 -> 21
C5: EJECUCIÓN TOTAL | D5: =+D3*G4 -> 611004 | I5: PLANTA | J5: =J3 -> 2617 | K5: =ROUND((6/1500)*J5,0) -> 10
I6: TOTAL MANIPU | J6: =SUM(K3:K5) -> 67
A8: INSTITUCION EDUCATIVA | B8: TIPO DE SERVICIO | C8: JORNADA ÚNICA | D8: ASIGNACIÓN ALMUERZO | E8: FIAMBRERA | F8: MANIPULADORAS DE PUNTO | I8: Cantidad de IE | J8: =COUNTA(A9:A31) -> 23
A9: I.E COMPARTIR LAS BRISAS | B9: CATERING | C9: SI | D9: 320 | F9: =IF(D9=0,0,IF(D9<=75,1,IF(D9<=150,2,IF(D9<=300,3,IF(D9<=500,4,IF(D9<=750,5,IF(D9<=1000,6,IF(D9>=1001,7)))))))) -> 4
A10: I.E DEOGRACIAS CARDONA | B10: CATERING | C10: SI | D10: 120 | F10: =IF(D10=0,0,IF(D10<=75,1,IF(D10<=150,2,IF(D10<=300,3,IF(D10<=500,4,IF(D10<=750,5,IF(D10<=1000,6,IF(D10>=1001,7)))))))) -> 2
A11: I.E DEOGRACIAS CARDONA sede CAMILO TORRES | B11: CATERING | C11: NO | D11: 45 | F11: =IF(D11=0,0,IF(D11<=75,1,IF(D11<=150,2,IF(D11<=300,3,IF(D11<=500,4,IF(D11<=750,5,IF(D11<=1000,6,IF(D11>=1001,7)))))))) -> 1
A12: I.E DEOGRACIAS CARDONA sede LA DULCERA | B12: CATERING | C12: SI | D12: 51 | F12: =IF(D12=0,0,IF(D12<=75,1,IF(D12<=150,2,IF(D12<=300,3,IF(D12<=500,4,IF(D12<=750,5,IF(D12<=1000,6,IF(D12>=1001,7)))))))) -> 1
A13: I.E COMPARTIR LAS BRISAS SEDE ANA ARANGO DE URIBE | B13: CATERING | C13: SI | D13: 21 | F13: =IF(D13=0,0,IF(D13<=75,1,IF(D13<=150,2,IF(D13<=300,3,IF(D13<=500,4,IF(D13<=750,5,IF(D13<=1000,6,IF(D13>=1001,7)))))))) -> 1
A14: I.E JAIME SALAZAR ROBLEDO | B14: CATERING | C14: SI | D14: 600 | F14: =IF(D14=0,0,IF(D14<=75,1,IF(D14<=150,2,IF(D14<=300,3,IF(D14<=500,4,IF(D14<=750,5,IF(D14<=1000,6,IF(D14>=1001,7)))))))) -> 5
A15: I.E MANOS UNIDAS | B15: CATERING | C15: SI | D15: 250 | F15: =IF(D15=0,0,IF(D15<=75,1,IF(D15<=150,2,IF(D15<=300,3,IF(D15<=500,4,IF(D15<=750,5,IF(D15<=1000,6,IF(D15>=1001,7)))))))) -> 3
A16: I.E MANOS UNIDAS sede C.E EL CHOCHO | B16: CATERING | C16: SI | D16: 20 | F16: =IF(D16=0,0,IF(D16<=75,1,IF(D16<=150,2,IF(D16<=300,3,IF(D16<=500,4,IF(D16<=750,5,IF(D16<=1000,6,IF(D16>=1001,7)))))))) -> 1
A17: I.E SUR ORIENTAL | B17: PREPARADO EN SITIO | C17: SI | D17: 350 | F17: =IF(D17=0,0,IF(D17<=75,1,IF(D17<=150,2,IF(D17<=300,3,IF(D17<=500,4,IF(D17<=750,5,IF(D17<=1000,6,IF(D17>=1001,7)))))))) -> 4
A18: I.E SUR ORIENTAL sede GUSTAVO A. GARRIDO | B18: PREPARADO EN SITIO | C18: SI | D18: 140 | F18: =IF(D18=0,0,IF(D18<=75,1,IF(D18<=150,2,IF(D18<=300,3,IF(D18<=500,4,IF(D18<=750,5,IF(D18<=1000,6,IF(D18>=1001,7)))))))) -> 2
A19: I.E VILLA SANTANA | B19: CATERING | C19: SI | D19: 450 | F19: =IF(D19=0,0,IF(D19<=75,1,IF(D19<=150,2,IF(D19<=300,3,IF(D19<=500,4,IF(D19<=750,5,IF(D19<=1000,6,IF(D19>=1001,7)))))))) -> 4
A20: I.E LA BELLA | B20: CATERING | C20: SI | D20: 108 | F20: =IF(D20=0,0,IF(D20<=75,1,IF(D20<=150,2,IF(D20<=300,3,IF(D20<=500,4,IF(D20<=750,5,IF(D20<=1000,6,IF(D20>=1001,7)))))))) -> 2
... A24: I.E LA BELLA sede LA COLONIA | B24: CATERING | C24: SI | D24: 52 | F24: =IF(D24=0,0,IF(D24<=75,1,IF(D24<=150,2,IF(D24<=300,3,IF(D24<=500,4,IF(D24<=750,5,IF(D24<=1000,6,IF(D24>=1001,7)))))))) -> 1
A25: I.E LA BELLA sede LAS DELICIAS | B25: CATERING | C25: SI | D25: 4 | E25: X | F25: 0
A26: I.E MUNDO NUEVO | B26: CATERING | C26: NO | D26: 160 | F26: =IF(D26=0,0,IF(D26<=75,1,IF(D26<=150,2,IF(D26<=300,3,IF(D26<=500,4,IF(D26<=750,5,IF(D26<=1000,6,IF(D26>=1001,7)))))))) -> 3
A27: I.E HECTOR ANGEL ARCILA | B27: CATERING | C27: SI | D27: 120 | F27: =IF(D27=0,0,IF(D27<=75,1,IF(D27<=150,2,IF(D27<=300,3,IF(D27<=500,4,IF(D27<=750,5,IF(D27<=1000,6,IF(D27>=1001,7)))))))) -> 2
A28: I.E KENNEDY | B28: CATERING | C28: SI | D28: 180 | F28: =IF(D28=0,0,IF(D28<=75,1,IF(D28<=150,2,IF(D28<=300,3,IF(D28<=500,4,IF(D28<=750,5,IF(D28<=1000,6,IF(D28>=1001,7)))))))) -> 3
A29: I.E KENNEDY sede MANUELITA SAENZ | B29: CATERING | C29: SI | D29: 50 | F29: =IF(D29=0,0,IF(D29<=75,1,IF(D29<=150,2,IF(D29<=300,3,IF(D29<=500,4,IF(D29<=750,5,IF(D29<=1000,6,IF(D29>=1001,7)))))))) -> 1
A30: I.E AQUILINO BEDOYA | B30: PREPARADO EN SITIO | C30: SI | D30: 900 | F30: =IF(D30=0,0,IF(D30<=75,1,IF(D30<=150,2,IF(D30<=300,3,IF(D30<=500,4,IF(D30<=750,5,IF(D30<=1000,6,IF(D30>=1001,7)))))))) -> 6
A31: I.E MANOS UNIDAS sede El Remanso | B31: PREPARADO EN SITIO | C31: SI | D31: 971 | F31: =IF(D31=0,0,IF(D31<=75,1,IF(D31<=150,2,IF(D31<=300,3,IF(D31<=500,4,IF(D31<=750,5,IF(D31<=1000,6,IF(D31>=1001,7)))))))) -> 6
A32: TOTAL | D32: =SUM(D9:D31) -> 5178 | F32: =SUM(F9:F31) -> 57

Sheet GIII-RI Cupos
C2: CUPOS | F2: DÍAS DE OPERACIÓN | I2: MANIPULADORAS | J2: CUPOS | K2: TOTAL
C3: DIARIO | D3: =+D29 -> 1500 | F3: MES | G3: ='GI-RI Cupos'!G3 -> 21 | I3: PUNTO RI | J3: =D3 -> 1500 | K3: =E29 -> 18
C4: MES | D4: =+D3*G3 -> 31500 | F4: EJECUCIÓN TOTAL | G4: ='GI-RI Cupos'!G4 -> 118 | I4: PLANTA | J4: =D3 -> 1500 | K4: =ROUND((1/440)*J4,0) -> 3
C5: EJECUCIÓN TOTAL | D5: =+D3*G4 -> 177000 | I5: TOTAL MANIPU | J5: =K3+K4 -> 21
I7: Cantidad de IE | J7: =COUNTA(A9:A28) -> 20
A8: INSTITUCION EDUCATIVA | B8: TIPO DE SERVICIO | C8: JORNADA ÚNICA | D8: ASIGNACIÓN | E8: MANIPULADORAS DE PUNTO
A9: I.E SALAMANCA | B9: INDUSTRIALIZADO | C9: SI | D9: 147 | E9: =IF(D9=0,0,IF(D9<=50,0,IF(D9<=150,1,IF(D9<=300,2,IF(D9<=501,3))))) -> 1
A10: I.E GABRIEL TRUJILLO | B10: INDUSTRIALIZADO | C10: NO | D10: 114 | E10: =IF(D10=0,0,IF(D10<=50,0,IF(D10<=150,1,IF(D10<=300,2,IF(D10<=501,3))))) -> 1
A11: I.E JOSE ANTONIO GALAN | B11: INDUSTRIALIZADO | C11: SI | D11: 103 | E11: =IF(D11=0,0,IF(D11<=50,0,IF(D11<=150,1,IF(D11<=300,2,IF(D11<=501,3))))) -> 1
A12: I.E CARLOS CASTRO SAAVEDRA | B12: INDUSTRIALIZADO | C12: NO | D12: 103 | E12: =IF(D12=0,0,IF(D12<=50,0,IF(D12<=150,1,IF(D12<=300,2,IF(D12<=501,3))))) -> 1
A13: I.E MATECAÑA sede LA LIBERTAD | B13: INDUSTRIALIZADO | C13: SI | D13: 103 | E13: =IF(D13=0,0,IF(D13<=50,0,IF(D13<=150,1,IF(D13<=300,2,IF(D13<=501,3))))) -> 1
A14: I.E GONZALO MEJIA ECHEVERRY | B14: INDUSTRIALIZADO | C14: SI | D14: 92 | E14: =IF(D14=0,0,IF(D14<=50,0,IF(D14<=150,1,IF(D14<=300,2,IF(D14<=501,3))))) -> 1
A15: C.E 30 DE AGOSTO | B15: INDUSTRIALIZADO | C15: SI | D15: 80 | E15: =IF(D15=0,0,IF(D15<=50,0,IF(D15<=150,1,IF(D15<=300,2,IF(D15<=501,3))))) -> 1
A16: I.E MARIA DOLOROSA | B16: INDUSTRIALIZADO | C16: SI | D16: 76 | E16: =IF(D16=0,0,IF(D16<=50,0,IF(D16<=150,1,IF(D16<=300,2,IF(D16<=501,3))))) -> 1
A17: C.E ENRIQUE MILLAN RUBIO | B17: INDUSTRIALIZADO | C17: NO | D17: 72 | E17: =IF(D17=0,0,IF(D17<=50,0,IF(D17<=150,1,IF(D17<=300,2,IF(D17<=501,3))))) -> 1
A18: I.E ALFONSO JARAMILLO GUTIERREZ | B18: INDUSTRIALIZADO | C18: SI | D18: 72 | E18: =IF(D18=0,0,IF(D18<=50,0,IF(D18<=150,1,IF(D18<=300,2,IF(D18<=501,3))))) -> 1
A19: C.E LA CARBONERA | B19: INDUSTRIALIZADO | C19: SI | D19: 68 | E19: =IF(D19=0,0,IF(D19<=50,0,IF(D19<=150,1,IF(D19<=300,2,IF(D19<=501,3))))) -> 1
A20: I.E LA JULITA sede PROVIDENCIA | B20: INDUSTRIALIZADO | C20: SI | D20: 67 | E20: =IF(D20=0,0,IF(D20<=50,0,IF(D20<=150,1,IF(D20<=300,2,IF(D20<=501,3))))) -> 1
... A28: I.E GABRIEL TRUJILLO sede AZUFRAL | B28: INDUSTRIALIZADO | C28: NO | D28: 10 | E28: =IF(D28=0,0,IF(D28<=50,0,IF(D28<=150,1,IF(D28<=300,2,IF(D28<=501,3))))) -> 0
A29: TOTAL | D29: =SUM(D9:D28) -> 1500 | E29: =SUM(E9:E28) -> 18

Sheet GIII-CCT Cupos
C2: CUPOS | F2: DÍAS DE OPERACIÓN | I2: MANIPULADORAS | J2: CUPOS | K2: TOTAL
C3: DIARIO | D3: =+D63 -> 6813 | F3: MES | G3: ='GI-RI Cupos'!G3 -> 21 | I3: PUNTO CCT | J3: =+D63-J4 -> 5193 | K3: =F63-K4 -> 77
C4: MES | D4: =+D3*G3 -> 143073 | F4: EJECUCIÓN TOTAL | G4: ='GI-RI Cupos'!G4 -> 118 | I4: PUNTO PS | J4: =+D48+D49+D50+D51+D54 -> 1620 | K4: =+F48+F49+F50+F51+F54 -> 17
C5: EJECUCIÓN TOTAL | D5: =+D3*G4 -> 803934 | I5: PLANTA | J5: =+J3 -> 5193 | K5: =ROUND((6/1500)*J5,0) -> 21
I6: TOTAL MANIPU | J6: =+K5+K3+K4 -> 115
A8: INSTITUCION EDUCATIVA | B8: TIPO DE SERVICIO | C8: JORNADA ÚNICA | D8: ASIGNACIÓN ALMUERZO | E8: FIAMBRERA | F8: MANIPULADORAS DE PUNTO | I8: Cantidad de IE | J8: =COUNTA(A9:A62) -> 54
A9: I.E SAN FRANCISCO DE ASIS | B9: CATERING | C9: SI | D9: 200 | F9: =IF(D9=0,0,IF(D9<=75,1,IF(D9<=150,2,IF(D9<=300,3,IF(D9<=500,4,IF(D9<=750,5,IF(D9<=1000,6,IF(D9>=1001,7)))))))) -> 3
A10: I.E SAN FRANCISCO DE ASIS sede ARABIA | B10: CATERING | C10: SI | D10: 70 | F10: =IF(D10=0,0,IF(D10<=75,1,IF(D10<=150,2,IF(D10<=300,3,IF(D10<=500,4,IF(D10<=750,5,IF(D10<=1000,6,IF(D10>=1001,7)))))))) -> 1
A11: I.E SAN FRANCISCO DE ASIS sede C.E BETULIA ALTA | B11: CATERING | C11: SI | D11: 10 | E11: X | F11: 0
A12: I.E SAN FRANCISCO DE ASIS sede C.E MIRALINDO | B12: CATERING | C12: SI | D12: 10 | E12: X | F12: 0
A13: I.E SAN FRANCISCO DE ASIS sede C.E PEREZ | B13: CATERING | C13: SI | D13: 25 | F13: =IF(D13=0,0,IF(D13<=75,1,IF(D13<=150,2,IF(D13<=300,3,IF(D13<=500,4,IF(D13<=750,5,IF(D13<=1000,6,IF(D13>=1001,7)))))))) -> 1
A14: I.E SAN FRANCISCO DE ASIS sede C.E SAN CARLOS | B14: CATERING | C14: SI | D14: 23 | F14: =IF(D14=0,0,IF(D14<=75,1,IF(D14<=150,2,IF(D14<=300,3,IF(D14<=500,4,IF(D14<=750,5,IF(D14<=1000,6,IF(D14>=1001,7)))))))) -> 1
A15: I.E SAN FRANCISCO DE ASIS sede C.E TRES ESQUINAS | B15: CATERING | C15: SI | D15: 9 | E15: X | F15: 0
A16: I.E SAN FRANCISCO DE ASIS sede C.E YARUMAL | B16: CATERING | C16: SI | D16: 40 | F16: =IF(D16=0,0,IF(D16<=75,1,IF(D16<=150,2,IF(D16<=300,3,IF(D16<=500,4,IF(D16<=750,5,IF(D16<=1000,6,IF(D16>=1001,7)))))))) -> 1
A17: I.E SAN FRANCISCO DE ASIS sede JOSE DOMINGO ESCOBAR | B17: CATERING | C17: SI | D17: 96 | F17: =IF(D17=0,0,IF(D17<=75,1,IF(D17<=150,2,IF(D17<=300,3,IF(D17<=500,4,IF(D17<=750,5,IF(D17<=1000,6,IF(D17>=1001,7)))))))) -> 2
A18: I.E JOSE ANTONIO GALAN | B18: CATERING | C18: SI | D18: =370+30 -> 400 | F18: =IF(D18=0,0,IF(D18<=75,1,IF(D18<=150,2,IF(D18<=300,3,IF(D18<=500,4,IF(D18<=750,5,IF(D18<=1000,6,IF(D18>=1001,7)))))))) -> 4
A19: I.E JOSE ANTONIO GALAN Sede C.E TRIBUNAS | B19: CATERING | C19: SI | D19: 88 | F19: =IF(D19=0,0,IF(D19<=75,1,IF(D19<=150,2,IF(D19<=300,3,IF(D19<=500,4,IF(D19<=750,5,IF(D19<=1000,6,IF(D19>=1001,7)))))))) -> 2
A20: I.E JOSE ANTONIO GALAN Sede C.E ALTO ALEGRIAS | B20: CATERING | C20: SI | D20: 20 | F20: =IF(D20=0,0,IF(D20<=75,1,IF(D20<=150,2,IF(D20<=300,3,IF(D20<=500,4,IF(D20<=750,5,IF(D20<=1000,6,IF(D20>=1001,7)))))))) -> 1
A21: I.E JOSE ANTONIO GALAN Sede C.E MONTELARGO | B21: CATERING | C21: SI | D21: 37 | F21: =IF(D21=0,0,IF(D21<=75,1,IF(D21<=150,2,IF(D21<=300,3,IF(D21<=500,4,IF(D21<=750,5,IF(D21<=1000,6,IF(D21>=1001,7)))))))) -> 1
A22: I.E JOSE ANTONIO GALAN Sede C.E CONDINA | B22: CATERING | C22: SI | D22: 37 | F22: =IF(D22=0,0,IF(D22<=75,1,IF(D22<=150,2,IF(D22<=300,3,IF(D22<=500,4,IF(D22<=750,5,IF(D22<=1000,6,IF(D22>=1001,7)))))))) -> 1
A23: I.E JOSE ANTONIO GALAN Sede C.E EL MANZANO | B23: CATERING | C23: SI | D23: 14 | F23: =IF(D23=0,0,IF(D23<=75,1,IF(D23<=150,2,IF(D23<=300,3,IF(D23<=500,4,IF(D23<=750,5,IF(D23<=1000,6,IF(D23>=1001,7)))))))) -> 1
A24: I.E JOSE ANTONIO GALAN Sede C.E GABRIELA ZULETA | B24: CATERING | C24: SI | D24: 5 | E24: X | F24: 0
A25: I.E JOSE ANTONIO GALAN Sede C.E HUERTAS | B25: CATERING | C25: SI | D25: 63 | F25: =IF(D25=0,0,IF(D25<=75,1,IF(D25<=150,2,IF(D25<=300,3,IF(D25<=500,4,IF(D25<=750,5,IF(D25<=1000,6,IF(D25>=1001,7)))))))) -> 1
A26: I.E JOSE ANTONIO GALAN Sede C.E LA GRAMINEA | B26: CATERING | C26: SI | D26: 15 | F26: =IF(D26=0,0,IF(D26<=75,1,IF(D26<=150,2,IF(D26<=300,3,IF(D26<=500,4,IF(D26<=750,5,IF(D26<=1000,6,IF(D26>=1001,7)))))))) -> 1
A27: I.E JOSE ANTONIO GALAN Sede C.E YARUMITO | B27: CATERING | C27: SI | D27: 27 | F27: =IF(D27=0,0,IF(D27<=75,1,IF(D27<=150,2,IF(D27<=300,3,IF(D27<=500,4,IF(D27<=750,5,IF(D27<=1000,6,IF(D27>=1001,7)))))))) -> 1
A28: I.E JOSE ANTONIO GALAN Sede C.E CANTAMONOS | B28: CATERING | C28: SI | D28: 15 | F28: =IF(D28=0,0,IF(D28<=75,1,IF(D28<=150,2,IF(D28<=300,3,IF(D28<=500,4,IF(D28<=750,5,IF(D28<=1000,6,IF(D28>=1001,7)))))))) -> 1
A29: I.E JOSE ANTONIO GALAN sede EL JORDAN | B29: CATERING | C29: SI | D29: 5 | E29: X | F29: 0
A30: I.E JOSE ANTONIO GALAN Sede GUAYABAL | B30: CATERING | C30: SI | D30: 13 | E30: X | F30: 0
A31: I.E JOSE ANTONIO GALAN sede LAGUNETA | B31: CATERING | C31: SI | D31: 15 | F31: =IF(D31=0,0,IF(D31<=75,1,IF(D31<=150,2,IF(D31<=300,3,IF(D31<=500,4,IF(D31<=750,5,IF(D31<=1000,6,IF(D31>=1001,7)))))))) -> 1
A32: I.E JOSE ANTONIO GALAN sede MARCO TULIO OSPINA | B32: CATERING | C32: SI | D32: 10 | E32: X | F32: 0
A33: I.E JOSE ANTONIO GALAN sedeGUAYABO - GUADALAGARA | B33: CATERING | C33: SI | D33: 11 | E33: X | F33: 0
A34: I.E GONZALO MEJIA ECHEVERRY | B34: CATERING | C34: SI | D34: =301+50 -> 351 | F34: =IF(D34=0,0,IF(D34<=75,1,IF(D34<=150,2,IF(D34<=300,3,IF(D34<=500,4,IF(D34<=750,5,IF(D34<=1000,6,IF(D34>=1001,7)))))))) -> 4
A35: I.E GONZALO MEJIA ECHEVERRY Sede C.E CAÑAVERAL | B35: CATERING | C35: SI | D35: 17 | F35: =IF(D35=0,0,IF(D35<=75,1,IF(D35<=150,2,IF(D35<=300,3,IF(D35<=500,4,IF(D35<=750,5,IF(D35<=1000,6,IF(D35>=1001,7)))))))) -> 1
A36: I.E GONZALO MEJIA ECHEVERRY Sede C.E EL AGRADO | B36: CATERING | C36: SI | D36: 40 | F36: =IF(D36=0,0,IF(D36<=75,1,IF(D36<=150,2,IF(D36<=300,3,IF(D36<=500,4,IF(D36<=750,5,IF(D36<=1000,6,IF(D36>=1001,7)))))))) -> 1
A37: I.E GONZALO MEJIA ECHEVERRY Sede C.E EL JAZMIN | B37: CATERING | C37: SI | D37: 11 | E37: X | F37: 0
A38: I.E GONZALO MEJIA ECHEVERRY Sede C.E FILO BONITO | B38: CATERING | C38: SI | D38: 19 | F38: =IF(D38=0,0,IF(D38<=75,1,IF(D38<=150,2,IF(D38<=300,3,IF(D38<=500,4,IF(D38<=750,5,IF(D38<=1000,6,IF(D38>=1001,7)))))))) -> 1
A39: I.E GONZALO MEJIA ECHEVERRY Sede C.E GUADUALITO | B39: CATERING | C39: SI | D39: 6 | E39: X | F39: 0
A40: I.E GONZALO MEJIA ECHEVERRY Sede NUCLEO ESCOLAR ALTAGRACIA | B40: CATERING | C40: SI | D40: 208 | F40: =IF(D40=0,0,IF(D40<=75,1,IF(D40<=150,2,IF(D40<=300,3,IF(D40<=500,4,IF(D40<=750,5,IF(D40<=1000,6,IF(D40>=1001,7)))))))) -> 3
A41: C.E MARIA CRISTINA GOMEZ | B41: CATERING | C41: NO | D41: 78 | F41: =IF(D41=0,0,IF(D41<=75,1,IF(D41<=150,2,IF(D41<=300,3,IF(D41<=500,4,IF(D41<=750,5,IF(D41<=1000,6,IF(D41>=1001,7)))))))) -> 2
A42: I.E COMUNITARIO CERRITOS sede C.E EL CAUQUILLO | B42: CATERING | C42: SI | D42: 21 | F42: =IF(D42=0,0,IF(D42<=75,1,IF(D42<=150,2,IF(D42<=300,3,IF(D42<=500,4,IF(D42<=750,5,IF(D42<=1000,6,IF(D42>=1001,7)))))))) -> 1
A43: I.E COMUNITARIO CERRITOS sede C.E EL TIGRE | B43: CATERING | C43: SI | D43: 18 | E43: X | F43: 0
A44: I.E COMUNITARIO CERRITOS sede CORAZON DE JESUS | B44: CATERING | C44: NO | D44: 102 | F44: =IF(D44=0,0,IF(D44<=75,1,IF(D44<=150,2,IF(D44<=300,3,IF(D44<=500,4,IF(D44<=750,5,IF(D44<=1000,6,IF(D44>=1001,7)))))))) -> 2
A45: I.E COMUNITARIO CERRITOS | B45: CATERING | C45: NO | D45: 150 | F45: =IF(D45=0,0,IF(D45<=75,1,IF(D45<=150,2,IF(D45<=300,3,IF(D45<=500,4,IF(D45<=750,5,IF(D45<=1000,6,IF(D45>=1001,7)))))))) -> 2
A46: C.E 30 DE AGOSTO | B46: CATERING | C46: SI | D46: 295 | F46: =IF(D46=0,0,IF(D46<=75,1,IF(D46<=150,2,IF(D46<=300,3,IF(D46<=500,4,IF(D46<=750,5,IF(D46<=1000,6,IF(D46>=1001,7)))))))) -> 3
A47: C.E ESPERANZA GALICIA | B47: CATERING | C47: NO | D47: 177 | F47: =IF(D47=0,0,IF(D47<=75,1,IF(D47<=150,2,IF(D47<=300,3,IF(D47<=500,4,IF(D47<=750,5,IF(D47<=1000,6,IF(D47>=1001,7)))))))) -> 3
A48: C.E ENRIQUE MILLAN RUBIO | B48: PREPARADO EN SITIO | C48: NO | D48: 260 | F48: =IF(D48=0,0,IF(D48<=75,1,IF(D48<=150,2,IF(D48<=300,3,IF(D48<=500,4,IF(D48<=750,5,IF(D48<=1000,6,IF(D48>=1001,7)))))))) -> 3
A49: I.E CARLOS CASTRO SAAVEDRA | B49: PREPARADO EN SITIO | C49: NO | D49: 400 | F49: =IF(D49=0,0,IF(D49<=75,1,IF(D49<=150,2,IF(D49<=300,3,IF(D49<=500,4,IF(D49<=750,5,IF(D49<=1000,6,IF(D49>=1001,7)))))))) -> 4
A50: C.E PUERTO CALDAS | B50: PREPARADO EN SITIO | C50: SI | D50: 120 | F50: =IF(D50=0,0,IF(D50<=75,1,IF(D50<=150,2,IF(D50<=300,3,IF(D50<=500,4,IF(D50<=750,5,IF(D50<=1000,6,IF(D50>=1001,7)))))))) -> 2
A51: C.E LA CARBONERA | B51: PREPARADO EN SITIO | C51: SI | D51: 240 | F51: =IF(D51=0,0,IF(D51<=75,1,IF(D51<=150,2,IF(D51<=300,3,IF(D51<=500,4,IF(D51<=750,5,IF(D51<=1000,6,IF(D51>=1001,7)))))))) -> 3
A52: I.E GABRIEL TRUJILLO | B52: CATERING | C52: NO | D52: 450 | F52: =IF(D52=0,0,IF(D52<=75,1,IF(D52<=150,2,IF(D52<=300,3,IF(D52<=500,4,IF(D52<=750,5,IF(D52<=1000,6,IF(D52>=1001,7)))))))) -> 4
A53: I.E GABRIEL TRUJILLO sede AZUFRAL | B53: CATERING | C53: NO | D53: 132 | F53: =IF(D53=0,0,IF(D53<=75,1,IF(D53<=150,2,IF(D53<=300,3,IF(D53<=500,4,IF(D53<=750,5,IF(D53<=1000,6,IF(D53>=1001,7)))))))) -> 2
A54: I.E SALAMANCA | B54: PREPARADO EN SITIO | C54: SI | D54: 600 | F54: =IF(D54=0,0,IF(D54<=75,1,IF(D54<=150,2,IF(D54<=300,3,IF(D54<=500,4,IF(D54<=750,5,IF(D54<=1000,6,IF(D54>=1001,7)))))))) -> 5
A55: I.E ALFONSO JARAMILLO GUTIERREZ | B55: CATERING | C55: SI | D55: 259 | F55: =IF(D55=0,0,IF(D55<=75,1,IF(D55<=150,2,IF(D55<=300,3,IF(D55<=500,4,IF(D55<=750,5,IF(D55<=1000,6,IF(D55>=1001,7)))))))) -> 3
... A62: I.E MATECAÑA sede LA LIBERTAD | B62: CATERING | C62: SI | D62: 400 | F62: =IF(D62=0,0,IF(D62<=75,1,IF(D62<=150,2,IF(D62<=300,3,IF(D62<=500,4,IF(D62<=750,5,IF(D62<=1000,6,IF(D62>=1001,7)))))))) -> 4
A63: TOTAL | D63: =SUM(D9:D62) -> 6813 | F63: =SUM(F9:F62) -> 94

Sheet GIV-RI Cupos
C2: CUPOS | F2: DÍAS DE OPERACIÓN | I2: MANIPULADORAS | J2: CUPOS | K2: TOTAL
C3: DIARIO | D3: =+D21 -> 1500 | F3: MES | G3: ='GI-RI Cupos'!G3 -> 21 | I3: PUNTO RI | J3: =+D3 -> 1500 | K3: =E21 -> 14
C4: MES | D4: =+D3*G3 -> 31500 | F4: EJECUCIÓN TOTAL | G4: ='GI-RI Cupos'!G4 -> 118 | I4: PLANTA | J4: =D3 -> 1500 | K4: =ROUND((1/440)*J4,0) -> 3
C5: EJECUCIÓN TOTAL | D5: =+D3*G4 -> 177000 | I5: TOTAL MANIPU | J5: =K3+K4 -> 17
A7: INSTITUCION EDUCATIVA | B7: TIPO DE SERVICIO | C7: JORNADA ÚNICA | D7: ASIGNACIÓN | E7: MANIPULADORAS DE PUNTO | I7: Cantidad de IE | J7: =COUNTA(A8:A20) -> 13
A8: I.E DIEGO MAYA SALAZAR | B8: INDUSTRIALIZADO | C8: SI | D8: 234 | E8: =IF(D8=0,0,IF(D8<=50,0,IF(D8<=150,1,IF(D8<=300,2,IF(D8<=501,3))))) -> 2
A9: I.E HUGO ÁNGEL JARAMILLO | B9: INDUSTRIALIZADO | C9: NO | D9: 196 | E9: =IF(D9=0,0,IF(D9<=50,0,IF(D9<=150,1,IF(D9<=300,2,IF(D9<=501,3))))) -> 2
A10: I.E ALFREDO GARCIA | B10: INDUSTRIALIZADO | C10: SI | D10: 144 | E10: =IF(D10=0,0,IF(D10<=50,0,IF(D10<=150,1,IF(D10<=300,2,IF(D10<=501,3))))) -> 1
A11: I.E JESUS MARIA ORMAZA | B11: INDUSTRIALIZADO | C11: SI | D11: 143 | E11: =IF(D11=0,0,IF(D11<=50,0,IF(D11<=150,1,IF(D11<=300,2,IF(D11<=501,3))))) -> 1
A12: I.E FRANCISCO DE PAULA SANTANDER | B12: INDUSTRIALIZADO | C12: SI | D12: 127 | E12: =IF(D12=0,0,IF(D12<=50,0,IF(D12<=150,1,IF(D12<=300,2,IF(D12<=501,3))))) -> 1
A13: I.E JUAN XXIII | B13: INDUSTRIALIZADO | C13: SI | D13: 127 | E13: =IF(D13=0,0,IF(D13<=50,0,IF(D13<=150,1,IF(D13<=300,2,IF(D13<=501,3))))) -> 1
A14: I.E CARLOTA SANCHEZ | B14: INDUSTRIALIZADO | C14: SI | D14: 110 | E14: =IF(D14=0,0,IF(D14<=50,0,IF(D14<=150,1,IF(D14<=300,2,IF(D14<=501,3))))) -> 1
A15: I.E NORMAL SUPERIOR - EL JARDIN | B15: INDUSTRIALIZADO | C15: SI | D15: 103 | E15: =IF(D15=0,0,IF(D15<=50,0,IF(D15<=150,1,IF(D15<=300,2,IF(D15<=501,3))))) -> 1
A16: I.E ESCUELA DE LA PALABRA | B16: INDUSTRIALIZADO | C16: SI | D16: 96 | E16: =IF(D16=0,0,IF(D16<=50,0,IF(D16<=150,1,IF(D16<=300,2,IF(D16<=501,3))))) -> 1
A17: I.E JESUS BUENA ESPERANZA | B17: INDUSTRIALIZADO | C17: SI | D17: 58 | E17: =IF(D17=0,0,IF(D17<=50,0,IF(D17<=150,1,IF(D17<=300,2,IF(D17<=501,3))))) -> 1
A18: I.E LA PALMILLA | B18: INDUSTRIALIZADO | C18: SI | D18: 58 | E18: =IF(D18=0,0,IF(D18<=50,0,IF(D18<=150,1,IF(D18<=300,2,IF(D18<=501,3))))) -> 1
A19: I.E EL RETIRO | B19: INDUSTRIALIZADO | C19: NO | D19: 56 | E19: =IF(D19=0,0,IF(D19<=50,0,IF(D19<=150,1,IF(D19<=300,2,IF(D19<=501,3))))) -> 1
A20: C.E SAN ANTONIO DE PADUA | B20: INDUSTRIALIZADO | C20: SI | D20: 48 | E20: =IF(D20=0,0,IF(D20<=50,0,IF(D20<=150,1,IF(D20<=300,2,IF(D20<=501,3))))) -> 0
A21: SUBTOTAL | D21: =SUM(D8:D20) -> 1500 | E21: =SUM(E8:E20) -> 14

Sheet GIV-CCT Cupos
C2: CUPOS | F2: DÍAS DE OPERACIÓN | I2: MANIPULADORAS | J2: CUPOS | K2: TOTAL
C3: DIARIO | D3: =+D30 -> 4343 | F3: MES | G3: ='GI-RI Cupos'!G3 -> 21 | I3: PUNTO CCT | J3: 3383 | K3: =F30-K4 -> 38
C4: MES | D4: =+D3*G3 -> 91203 | F4: EJECUCIÓN TOTAL | G4: ='GI-RI Cupos'!G4 -> 118 | I4: PUNTO PS | J4: =+D8+D26+D29 -> 960 | K4: =+F8+F26+F29 -> 11
C5: EJECUCIÓN TOTAL | D5: =+D3*G4 -> 512474 | I5: PLANTA | J5: =J3 -> 3383 | K5: =ROUND((6/1500)*J5,0) -> 14
I6: TOTAL MANIPU | J6: =+K5+K3+K4 -> 63
A7: INSTITUCION EDUCATIVA | B7: TIPO DE SERVICIO | C7: JORNADA ÚNICA | D7: ASIGNACIÓN ALMUERZO | E7: FIAMBRERA | F7: MANIPULADORAS DE PUNTO
A8: I.E FRANCISCO DE PAULA SANTANDER | B8: PREPARADO EN SITIO | C8: SI | D8: 350 | F8: =IF(D8=0,0,IF(D8<=75,1,IF(D8<=150,2,IF(D8<=300,3,IF(D8<=500,4,IF(D8<=750,5,IF(D8<=1000,6,IF(D8>=1001,7)))))))) -> 4 | I8: Cantidad de IE | J8: =COUNTA(A8:A29) -> 22
A9: I.E ALFREDO GARCIA | B9: CATERING | C9: SI | D9: 400 | F9: =IF(D9=0,0,IF(D9<=75,1,IF(D9<=150,2,IF(D9<=300,3,IF(D9<=500,4,IF(D9<=750,5,IF(D9<=1000,6,IF(D9>=1001,7)))))))) -> 4
A10: I.E CARLOTA SANCHEZ | B10: CATERING | C10: SI | D10: 300 | F10: =IF(D10=0,0,IF(D10<=75,1,IF(D10<=150,2,IF(D10<=300,3,IF(D10<=500,4,IF(D10<=750,5,IF(D10<=1000,6,IF(D10>=1001,7)))))))) -> 3
A11: I.E HUGO ÁNGEL JARAMILLO | B11: CATERING | C11: NO | D11: 550 | F11: =IF(D11=0,0,IF(D11<=75,1,IF(D11<=150,2,IF(D11<=300,3,IF(D11<=500,4,IF(D11<=750,5,IF(D11<=1000,6,IF(D11>=1001,7)))))))) -> 5
A12: I.E JESUS BUENA ESPERANZA | B12: CATERING | C12: SI | D12: 150 | F12: =IF(D12=0,0,IF(D12<=75,1,IF(D12<=150,2,IF(D12<=300,3,IF(D12<=500,4,IF(D12<=750,5,IF(D12<=1000,6,IF(D12>=1001,7)))))))) -> 2
A13: I.E LA PALMILLA | B13: CATERING | C13: SI | D13: 150 | F13: =IF(D13=0,0,IF(D13<=75,1,IF(D13<=150,2,IF(D13<=300,3,IF(D13<=500,4,IF(D13<=750,5,IF(D13<=1000,6,IF(D13>=1001,7)))))))) -> 2
A14: I.E LA PALMILLA sede C.E BUENOS AIRES | B14: CATERING | C14: SI | D14: 33 | F14: =IF(D14=0,0,IF(D14<=75,1,IF(D14<=150,2,IF(D14<=300,3,IF(D14<=500,4,IF(D14<=750,5,IF(D14<=1000,6,IF(D14>=1001,7)))))))) -> 1
A15: I.E LA PALMILLA sede C.E EL GURRIO | B15: CATERING | C15: SI | D15: 26 | F15: =IF(D15=0,0,IF(D15<=75,1,IF(D15<=150,2,IF(D15<=300,3,IF(D15<=500,4,IF(D15<=750,5,IF(D15<=1000,6,IF(D15>=1001,7)))))))) -> 1
A16: I.E LA PALMILLA sede C.E LA MERCED | B16: CATERING | C16: SI | D16: 53 | F16: =IF(D16=0,0,IF(D16<=75,1,IF(D16<=150,2,IF(D16<=300,3,IF(D16<=500,4,IF(D16<=750,5,IF(D16<=1000,6,IF(D16>=1001,7)))))))) -> 1
A17: I.E LA PALMILLA sede BETULIA BAJA | B17: CATERING | C17: NO | D17: 45 | F17: =IF(D17=0,0,IF(D17<=75,1,IF(D17<=150,2,IF(D17<=300,3,IF(D17<=500,4,IF(D17<=750,5,IF(D17<=1000,6,IF(D17>=1001,7)))))))) -> 1
A18: I.E EL RETIRO | B18: CATERING | C18: NO | D18: 145 | F18: =IF(D18=0,0,IF(D18<=75,1,IF(D18<=150,2,IF(D18<=300,3,IF(D18<=500,4,IF(D18<=750,5,IF(D18<=1000,6,IF(D18>=1001,7)))))))) -> 2
A19: I.E EL RETIRO Sede C.E ERNESTO GUTIERREZ | B19: CATERING | C19: NO | D19: 7 | E19: X | F19: 0
A20: I.E EL RETIRO Sede C.E LA SELVA | B20: CATERING | C20: NO | D20: 13 | E20: X | F20: 0
A21: I.E EL RETIRO Sede C.E NUBIOLA ESTRADA DE VINASCO | B21: CATERING | C21: NO | D21: 30 | F21: =IF(D21=0,0,IF(D21<=75,1,IF(D21<=150,2,IF(D21<=300,3,IF(D21<=500,4,IF(D21<=750,5,IF(D21<=1000,6,IF(D21>=1001,7)))))))) -> 1
A22: I.E EL RETIRO Sede LA BAMBA | B22: CATERING | C22: NO | D22: 8 | E22: X | F22: 0
A23: I.E HANS DREWS ARANGO Sede EL CONGOLO | B23: CATERING | C23: SI | D23: 16 | F23: =IF(D23=0,0,IF(D23<=75,1,IF(D23<=150,2,IF(D23<=300,3,IF(D23<=500,4,IF(D23<=750,5,IF(D23<=1000,6,IF(D23>=1001,7)))))))) -> 1
A24: C.E SAN ANTONIO DE PADUA | B24: CATERING | C24: SI | D24: 120 | F24: =IF(D24=0,0,IF(D24<=75,1,IF(D24<=150,2,IF(D24<=300,3,IF(D24<=500,4,IF(D24<=750,5,IF(D24<=1000,6,IF(D24>=1001,7)))))))) -> 2
A25: I.E JESUS MARIA ORMAZA | B25: CATERING | C25: SI | D25: 397 | F25: =IF(D25=0,0,IF(D25<=75,1,IF(D25<=150,2,IF(D25<=300,3,IF(D25<=500,4,IF(D25<=750,5,IF(D25<=1000,6,IF(D25>=1001,7)))))))) -> 4
A26: I.E JUAN XXIII | B26: PREPARADO EN SITIO | C26: SI | D26: 350 | F26: =IF(D26=0,0,IF(D26<=75,1,IF(D26<=150,2,IF(D26<=300,3,IF(D26<=500,4,IF(D26<=750,5,IF(D26<=1000,6,IF(D26>=1001,7)))))))) -> 4
A27: I.E NORMAL SUPERIOR - EL JARDIN | B27: CATERING | C27: SI | D27: 280 | F27: =IF(D27=0,0,IF(D27<=75,1,IF(D27<=150,2,IF(D27<=300,3,IF(D27<=500,4,IF(D27<=750,5,IF(D27<=1000,6,IF(D27>=1001,7)))))))) -> 3
A28: I.E DIEGO MAYA SALAZAR | B28: CATERING | C28: SI | D28: 660 | F28: =IF(D28=0,0,IF(D28<=75,1,IF(D28<=150,2,IF(D28<=300,3,IF(D28<=500,4,IF(D28<=750,5,IF(D28<=1000,6,IF(D28>=1001,7)))))))) -> 5
A29: I.E ESCUELA DE LA PALABRA | B29: REPARADO EN SITIO | C29: SI | D29: 260 | F29: =IF(D29=0,0,IF(D29<=75,1,IF(D29<=150,2,IF(D29<=300,3,IF(D29<=500,4,IF(D29<=750,5,IF(D29<=1000,6,IF(D29>=1001,7)))))))) -> 3
A30: SUBTOTAL | D30: =SUM(D8:D29) -> 4343 | F30: =SUM(F8:F29) -> 49

Sheet GI- Manipul
B1: CCT
B2: PERSONAL MANIPULADOR - PLANTA - PS | G2: PERSONAL MANIPULADOR - DISTRIBUCIÓN
B4: PERSONAL | C4: CANTIDAD | D4: SALARIO MENSUAL | E4: TOTAL | G4: PERSONAL | H4: CANTIDAD | I4: SALARIO MENSUAL / MEDIO TIEMPO | J4: TOTAL
B5: PLANTA | C5: ='GI-CCT Cupos'!K5+'GI-CCT Cupos'!K4 -> 22 | D5: =+'CONSOLIDADO MANIPULADORAS'!D5 -> 2377953.9 | E5: =+D5*C5 -> 52314986 | G5: PUNTO DE SERVIDO | H5: ='GI-CCT Cupos'!K3 -> 40 | I5: =+'CONSOLIDADO MANIPULADORAS'!D6 -> 1283477 | J5: =+I5*H5 -> 51339078
B6: TOTAL | E6: =+E5 -> 52314986 | G6: PARTICIPACIÓN CAE | H6: ='GI-CCT Cupos'!J8 -> 29 | I6: =+'CONSOLIDADO MANIPULADORAS'!D7 -> 72965.13 | J6: =+I6*H6 -> 2115988.8
G7: TOTAL | J7: =+J5+J6 -> 53455067
B9: COSTO UNITARIO | D9: =+E6/'GI-CCT Cupos'!D4 -> 625.45564 | G9: COSTO UNITARIO | I9: =+J7/'GI-CCT Cupos'!D4 -> 639.08596
B11: RI
B12: PERSONAL MANIPULADOR - PLANTA | G12: PERSONAL MANIPULADOR - DISTRIBUCIÓN
B14: PERSONAL | C14: CANTIDAD | D14: SALARIO MENSUAL | E14: TOTAL | G14: PERSONAL | H14: CANTIDAD | I14: SALARIO MENSUAL / MEDIO TIEMPO | J14: TOTAL
B15: PLANTA | C15: ='GI-RI Cupos'!K4 -> 20 | D15: =+'CONSOLIDADO MANIPULADORAS'!D5 -> 2377953.9 | E15: =+D15*C15 -> 47559078 | G15: PUNTO DE SERVIDO | H15: ='GI-RI Cupos'!K3 -> 66 | I15: =+'CONSOLIDADO MANIPULADORAS'!D6 -> 1283477 | J15: =+I15*H15 -> 84709479
B16: TOTAL | E16: =+E15 -> 47559078 | G16: ASISTENCIA CAE | H16: ='GI-RI Cupos'!J7 -> 41 | I16: =+'CONSOLIDADO MANIPULADORAS'!D7 -> 72965.13 | J16: =+I16*H16 -> 2991570.3
G17: TOTAL | J17: =+J15+J16 -> 87701049
B19: COSTO UNITARIO | D19: =+E16/'GI-RI Cupos'!D4 -> 266.65701 | G19: COSTO UNITARIO | I19: =+J17/'GI-RI Cupos'!D4 -> 491.72736

Sheet GII- Manipul
B1: CCT
B2: PERSONAL MANIPULADOR - PLANTA | G2: PERSONAL MANIPULADOR - DISTRIBUCIÓN
B4: PERSONAL | C4: CANTIDAD | D4: SALARIO MENSUAL | E4: TOTAL | G4: PERSONAL | H4: CANTIDAD | I4: SALARIO MENSUAL / MEDIO TIEMPO | J4: TOTAL
B5: PLANTA | C5: ='GII-CCT Cupos'!K5+'GII-CCT Cupos'!K4 -> 31 | D5: =+'CONSOLIDADO MANIPULADORAS'!D5 -> 2377953.9 | E5: =+D5*C5 -> 73716571 | G5: PUNTO DE SERVIDO | H5: ='GII-CCT Cupos'!K3 -> 36 | I5: =+'CONSOLIDADO MANIPULADORAS'!D6 -> 1283477 | J5: =+I5*H5 -> 46205170
B6: TOTAL | E6: =+E5 -> 73716571 | G6: PARTICIPACIÓN CAE | H6: ='GII-CCT Cupos'!J8 -> 23 | I6: =+'CONSOLIDADO MANIPULADORAS'!D7 -> 72965.13 | J6: =+I6*H6 -> 1678198
G7: TOTAL | J7: =+J5+J6 -> 47883368
B9: COSTO UNITARIO | D9: =+E6/'GII-CCT Cupos'!D4 -> 677.92833 | G9: COSTO UNITARIO | I9: =+J7/'GII-CCT Cupos'!D4 -> 440.35543
B11: RI
B12: PERSONAL MANIPULADOR - PLANTA | G12: PERSONAL MANIPULADOR - DISTRIBUCIÓN
B14: PERSONAL | C14: CANTIDAD | D14: SALARIO MENSUAL | E14: TOTAL | G14: PERSONAL | H14: CANTIDAD | I14: SALARIO MENSUAL / MEDIO TIEMPO | J14: TOTAL
B15: PLANTA | C15: ='GII-RI Cupos'!K4 -> 3 | D15: =+'CONSOLIDADO MANIPULADORAS'!D5 -> 2377953.9 | E15: =+D15*C15 -> 7133861.7 | G15: PUNTO DE SERVIDO | H15: ='GII-RI Cupos'!K3 -> 13 | I15: =+'CONSOLIDADO MANIPULADORAS'!D6 -> 1283477 | J15: =+I15*H15 -> 16685200
B16: TOTAL | E16: =+E15 -> 7133861.7 | G16: ASISTENCIA CAE | H16: ='GII-RI Cupos'!J8 -> 14 | I16: =+'CONSOLIDADO MANIPULADORAS'!D7 -> 72965.13 | J16: =+I16*H16 -> 1021511.8
G17: TOTAL | J17: =+J15+J16 -> 17706712
B19: COSTO UNITARIO | D19: =+E16/'GII-RI Cupos'!D4 -> 226.4718 | G19: COSTO UNITARIO | I19: =+J17/'GII-RI Cupos'!D4 -> 562.11785

Sheet GIII- Manipul
B1: CCT
B2: PERSONAL MANIPULADOR - PLANTA | G2: PERSONAL MANIPULADOR - DISTRIBUCIÓN
B4: PERSONAL | C4: CANTIDAD | D4: SALARIO MENSUAL | E4: TOTAL | G4: PERSONAL | H4: CANTIDAD | I4: SALARIO MENSUAL / MEDIO TIEMPO | J4: TOTAL
B5: PLANTA | C5: ='GIII-CCT Cupos'!K5+'GIII-CCT Cupos'!K4 -> 38 | D5: =+'CONSOLIDADO MANIPULADORAS'!D5 -> 2377953.9 | E5: =+D5*C5 -> 90362249 | G5: PUNTO DE SERVIDO | H5: ='GIII-CCT Cupos'!K3 -> 77 | I5: =+'CONSOLIDADO MANIPULADORAS'!D6 -> 1283477 | J5: =+I5*H5 -> 98827726
B6: TOTAL | E6: =+E5 -> 90362249 | G6: PARTICIPACIÓN CAE | H6: ='GIII-CCT Cupos'!J8 -> 54 | I6: =+'CONSOLIDADO MANIPULADORAS'!D7 -> 72965.13 | J6: =+I6*H6 -> 3940117
G7: TOTAL | J7: =+J5+J6 -> 1.0276784e+08
B9: COSTO UNITARIO | D9: =+E6/'GIII-CCT Cupos'!D4 -> 631.58142 | G9: COSTO UNITARIO | I9: =+J7/'GIII-CCT Cupos'!D4 -> 718.28956
B11: RI
B12: PERSONAL MANIPULADOR - PLANTA | G12: PERSONAL MANIPULADOR - DISTRIBUCIÓN
B14: PERSONAL | C14: CANTIDAD | D14: SALARIO MENSUAL | E14: TOTAL | G14: PERSONAL | H14: CANTIDAD | I14: SALARIO MENSUAL / MEDIO TIEMPO | J14: TOTAL
B15: PLANTA | C15: ='GIII-RI Cupos'!K4 -> 3 | D15: =+'CONSOLIDADO MANIPULADORAS'!D5 -> 2377953.9 | E15: =+D15*C15 -> 7133861.7 | G15: PUNTO DE SERVIDO | H15: ='GIII-RI Cupos'!K3 -> 18 | I15: =+'CONSOLIDADO MANIPULADORAS'!D6 -> 1283477 | J15: =+I15*H15 -> 23102585
B16: TOTAL | E16: =+E15 -> 7133861.7 | G16: ASISTENCIA CAE | H16: ='GIII-RI Cupos'!J7 -> 20 | I16: =+'CONSOLIDADO MANIPULADORAS'!D7 -> 72965.13 | J16: =+I16*H16 -> 1459302.6
G17: TOTAL | J17: =+J15+J16 -> 24561888
B19: COSTO UNITARIO | D19: =+E16/'GIII-RI Cupos'!D4 -> 226.4718 | G19: COSTO UNITARIO | I19: =+J17/'GIII-RI Cupos'!D4 -> 779.74247

Sheet GIV- Manipul
B1: CCT
B2: PERSONAL MANIPULADOR - PLANTA | G2: PERSONAL MANIPULADOR - DISTRIBUCIÓN
B4: PERSONAL | C4: CANTIDAD | D4: SALARIO MENSUAL | E4: TOTAL | G4: PERSONAL | H4: CANTIDAD | I4: SALARIO MENSUAL / MEDIO TIEMPO | J4: TOTAL
B5: PLANTA | C5: ='GIV-CCT Cupos'!K5+'GIV-CCT Cupos'!K4 -> 25 | D5: =+'CONSOLIDADO MANIPULADORAS'!D5 -> 2377953.9 | E5: =+D5*C5 -> 59448848 | G5: PUNTO DE SERVIDO | H5: ='GIV-CCT Cupos'!K3 -> 38 | I5: =+'CONSOLIDADO MANIPULADORAS'!D6 -> 1283477 | J5: =+I5*H5 -> 48772124
B6: TOTAL | E6: =+E5 -> 59448848 | G6: PARTICIPACIÓN CAE | H6: ='GIV-CCT Cupos'!J8 -> 22 | I6: =+'CONSOLIDADO MANIPULADORAS'!D7 -> 72965.13 | J6: =+I6*H6 -> 1605232.9
G7: TOTAL | J7: =+J5+J6 -> 50377357
B9: COSTO UNITARIO | D9: =+E6/'GIV-CCT Cupos'!D4 -> 651.82996 | G9: COSTO UNITARIO | I9: =+J7/'GIV-CCT Cupos'!D4 -> 552.36513
B11: RI
B12: PERSONAL MANIPULADOR - PLANTA | G12: PERSONAL MANIPULADOR - DISTRIBUCIÓN
B14: PERSONAL | C14: CANTIDAD | D14: SALARIO MENSUAL | E14: TOTAL | G14: PERSONAL | H14: CANTIDAD | I14: SALARIO MENSUAL / MEDIO TIEMPO | J14: TOTAL
B15: PLANTA | C15: ='GIV-RI Cupos'!K4 -> 3 | D15: =+'CONSOLIDADO MANIPULADORAS'!D5 -> 2377953.9 | E15: =+D15*C15 -> 7133861.7 | G15: PUNTO DE SERVIDO | H15: ='GIV-RI Cupos'!K3 -> 14 | I15: =+'CONSOLIDADO MANIPULADORAS'!D6 -> 1283477 | J15: =+I15*H15 -> 17968677
B16: TOTAL | E16: =+E15 -> 7133861.7 | G16: ASISTENCIA CAE | H16: ='GIV-RI Cupos'!J7 -> 13 | I16: =+'CONSOLIDADO MANIPULADORAS'!D7 -> 72965.13 | J16: =+I16*H16 -> 948546.69
G17: TOTAL | J17: =+J15+J16 -> 18917224
B19: COSTO UNITARIO | D19: =+E16/'GIV-RI Cupos'!D4 -> 226.4718 | G19: COSTO UNITARIO | I19: =+J17/'GIV-RI Cupos'!D4 -> 600.5468

Sheet GI-PersAdmon
B1: PERSONAL ADMINISTRATIVO R.I.
B3: PERSONAL | C3: CANTIDAD | D3: SALARIO MENSUAL | E3: TOTAL
B4: COORDINADOR OPERATIVO | C4: 0.5 | D4: =+'CONSOLIDADO PERS ADMON'!D5 -> 5176603.1 | E4: =+C4*D4 -> 2588301.5
B5: INGENIERO DE ALIMENTOS | C5: 1 | D5: =+'CONSOLIDADO PERS ADMON'!D6 -> 4529527.7 | E5: =+C5*D5 -> 4529527.7
B6: CONTADOR | C6: 0.5 | D6: =+'CONSOLIDADO PERS ADMON'!D7 -> 4473148.9 | E6: =+C6*D6 -> 2236574.4
B7: ADMINISTRATIVOS | C7: 2 | D7: =+'CONSOLIDADO PERS ADMON'!D8 -> 3384064.3 | E7: =+C7*D7 -> 6768128.5
B8: SUPERVISORES DE PUNTO | C8: 1 | D8: =+'CONSOLIDADO PERS ADMON'!D9 -> 3424376.9 | E8: =+C8*D8 -> 3424376.9
B9: SUPERVISORES PREPARADO EN SITIO | C9: 0 | D9: =+'CONSOLIDADO PERS ADMON'!D10 -> 3424376.9 | E9: =+C9*D9 -> 0
B10: TOTAL SALARIOS MES | E10: =SUM(E4:E9) -> 19546909
B12: COSTO UNITARIO | C12: =+E10/'GI-RI Cupos'!D4 -> 109.59675
B16: PERSONAL ADMINISTRATIVO C.C.T.
B18: PERSONAL | C18: CANTIDAD | D18: SALARIO MENSUAL | E18: TOTAL
B19: COORDINADOR OPERATIVO | C19: 0.5 | D19: ='CONSOLIDADO PERS ADMON'!D5 -> 5176603.1 | E19: =+C19*D19 -> 2588301.5
B20: INGENIERO DE ALIMENTOS | C20: 1 | D20: ='CONSOLIDADO PERS ADMON'!D6 -> 4529527.7 | E20: =+C20*D20 -> 4529527.7
B21: CONTADOR | C21: 0.5 | D21: ='CONSOLIDADO PERS ADMON'!D7 -> 4473148.9 | E21: =+C21*D21 -> 2236574.4
B22: ADMINISTRATIVOS | C22: 2 | D22: ='CONSOLIDADO PERS ADMON'!D8 -> 3384064.3 | E22: =+C22*D22 -> 6768128.5
B23: SUPERVISORES DE PUNTO | C23: 1 | D23: ='CONSOLIDADO PERS ADMON'!D9 -> 3424376.9 | E23: =+C23*D23 -> 3424376.9
B24: SUPERVISORES PREPARADO EN SITIO | C24: 2 | D24: ='CONSOLIDADO PERS ADMON'!D10 -> 3424376.9 | E24: =+C24*D24 -> 6848753.8
B25: TOTAL SALARIOS MES | E25: =SUM(E19:E24) -> 26395663
B27: COSTO UNITARIO | C27: =+E25/'GI-CCT Cupos'!D4 -> 315.57528

Sheet GII-PersAdmon
B1: PERSONAL ADMINISTRATIVO C.C.T.
B3: PERSONAL | C3: CANTIDAD | D3: SALARIO MENSUAL | E3: TOTAL
B4: COORDINADOR OPERATIVO | C4: 0.5 | D4: =+'CONSOLIDADO PERS ADMON'!D5 -> 5176603.1 | E4: =C4*D4 -> 2588301.5
B5: INGENIERO DE ALIMENTOS | C5: 1 | D5: =+'CONSOLIDADO PERS ADMON'!D6 -> 4529527.7 | E5: =C5*D5 -> 4529527.7
B6: CONTADOR | C6: 0.5 | D6: =+'CONSOLIDADO PERS ADMON'!D7 -> 4473148.9 | E6: =C6*D6 -> 2236574.4
B7: ADMINISTRATIVOS | C7: 2 | D7: =+'CONSOLIDADO PERS ADMON'!D8 -> 3384064.3 | E7: =C7*D7 -> 6768128.5
B8: SUPERVISORES DE PUNTO | C8: 2 | D8: =+'CONSOLIDADO PERS ADMON'!D9 -> 3424376.9 | E8: =C8*D8 -> 6848753.8
B9: SUPERVISORES DE PS | C9: 2 | D9: =+'CONSOLIDADO PERS ADMON'!D10 -> 3424376.9 | E9: =C9*D9 -> 6848753.8
B10: TOTAL SALARIOS MES | E10: =SUM(E4:E9) -> 29820040
B12: COSTO UNITARIO | C12: =+E10/'GII-CCT Cupos'!D4 -> 274.23752
B14: PERSONAL ADMINISTRATIVO R.I.
B16: PERSONAL | C16: CANTIDAD | D16: SALARIO MENSUAL | E16: TOTAL
B17: COORDINADOR OPERATIVO | C17: 0.5 | D17: ='CONSOLIDADO PERS ADMON'!D5 -> 5176603.1 | E17: =+C17*D17 -> 2588301.5
B18: INGENIERO DE ALIMENTOS | C18: 0 | D18: ='CONSOLIDADO PERS ADMON'!D6 -> 4529527.7 | E18: =+C18*D18 -> 0
B19: CONTADOR | C19: 0.5 | D19: ='CONSOLIDADO PERS ADMON'!D7 -> 4473148.9 | E19: =+C19*D19 -> 2236574.4
B20: ADMINISTRATIVOS | C20: 1 | D20: ='CONSOLIDADO PERS ADMON'!D8 -> 3384064.3 | E20: =+C20*D20 -> 3384064.3
B21: SUPERVISORES DE PUNTO | C21: 1 | D21: ='CONSOLIDADO PERS ADMON'!D9 -> 3424376.9 | E21: =+C21*D21 -> 3424376.9
B22: SUPERVISORES PREPARADO EN SITIO | C22: 0 | D22: ='CONSOLIDADO PERS ADMON'!D10 -> 3424376.9 | E22: =+C22*D22 -> 0
B23: TOTAL SALARIOS MES | E23: =SUM(E17:E22) -> 11633317
B25: COSTO UNITARIO | C25: =+E23/'GII-RI Cupos'!D4 -> 369.31166

Sheet GIII-PersAdmon
B1: PERSONAL ADMINISTRATIVO C.C.T.
B3: PERSONAL | C3: CANTIDAD | D3: SALARIO MENSUAL | E3: TOTAL
B4: COORDINADOR OPERATIVO | C4: 0.5 | D4: =+'CONSOLIDADO PERS ADMON'!D5 -> 5176603.1 | E4: =C4*D4 -> 2588301.5
B5: INGENIERO DE ALIMENTOS | C5: 1 | D5: =+'CONSOLIDADO PERS ADMON'!D6 -> 4529527.7 | E5: =C5*D5 -> 4529527.7
B6: CONTADOR | C6: 0.5 | D6: =+'CONSOLIDADO PERS ADMON'!D7 -> 4473148.9 | E6: =C6*D6 -> 2236574.4
B7: ADMINISTRATIVOS | C7: 3 | D7: =+'CONSOLIDADO PERS ADMON'!D8 -> 3384064.3 | E7: =C7*D7 -> 10152193
B8: SUPERVISORES DE PUNTO | C8: 3 | D8: =+'CONSOLIDADO PERS ADMON'!D9 -> 3424376.9 | E8: =C8*D8 -> 10273131
B9: SUPERVISORES DE PS | C9: 1 | D9: =+'CONSOLIDADO PERS ADMON'!D10 -> 3424376.9 | E9: =C9*D9 -> 3424376.9
B10: TOTAL SALARIOS MES | E10: =SUM(E4:E9) -> 33204104
B12: COSTO UNITARIO | C12: =+E10/'GIII-CCT Cupos'!D4 -> 232.07806
B14: PERSONAL ADMINISTRATIVO R.I.
B16: PERSONAL | C16: CANTIDAD | D16: SALARIO MENSUAL | E16: TOTAL
B17: COORDINADOR OPERATIVO | C17: 0.5 | D17: ='CONSOLIDADO PERS ADMON'!D5 -> 5176603.1 | E17: =+C17*D17 -> 2588301.5
B18: INGENIERO DE ALIMENTOS | C18: 0 | D18: ='CONSOLIDADO PERS ADMON'!D6 -> 4529527.7 | E18: =+C18*D18 -> 0
B19: CONTADOR | C19: 0.5 | D19: ='CONSOLIDADO PERS ADMON'!D7 -> 4473148.9 | E19: =+C19*D19 -> 2236574.4
B20: ADMINISTRATIVOS | C20: 1 | D20: ='CONSOLIDADO PERS ADMON'!D8 -> 3384064.3 | E20: =+C20*D20 -> 3384064.3
B21: SUPERVISORES DE PUNTO | C21: 1 | D21: ='CONSOLIDADO PERS ADMON'!D9 -> 3424376.9 | E21: =+C21*D21 -> 3424376.9
B22: SUPERVISORES PREPARADO EN SITIO | C22: 0 | D22: ='CONSOLIDADO PERS ADMON'!D10 -> 3424376.9 | E22: =+C22*D22 -> 0
B23: TOTAL SALARIOS MES | E23: =SUM(E17:E22) -> 11633317
B25: COSTO UNITARIO | C25: =+E23/'GIII-RI Cupos'!D4 -> 369.31166

Sheet GIV-PersAdmon
B1: PERSONAL ADMINISTRATIVO C.C.T.
B3: PERSONAL | C3: CANTIDAD | D3: SALARIO MENSUAL | E3: TOTAL
B4: COORDINADOR OPERATIVO | C4: 0.5 | D4: =+'CONSOLIDADO PERS ADMON'!D5 -> 5176603.1 | E4: =C4*D4 -> 2588301.5
B5: INGENIERO DE ALIMENTOS | C5: 1 | D5: =+'CONSOLIDADO PERS ADMON'!D6 -> 4529527.7 | E5: =C5*D5 -> 4529527.7
B6: CONTADOR | C6: 0.5 | D6: =+'CONSOLIDADO PERS ADMON'!D7 -> 4473148.9 | E6: =C6*D6 -> 2236574.4
B7: ADMINISTRATIVOS | C7: 2 | D7: =+'CONSOLIDADO PERS ADMON'!D8 -> 3384064.3 | E7: =C7*D7 -> 6768128.5
B8: SUPERVISORES DE PUNTO | C8: 2 | D8: =+'CONSOLIDADO PERS ADMON'!D9 -> 3424376.9 | E8: =C8*D8 -> 6848753.8
B9: SUPERVISORES DE PS | C9: 1 | D9: =+'CONSOLIDADO PERS ADMON'!D10 -> 3424376.9 | E9: =C9*D9 -> 3424376.9
B10: TOTAL SALARIOS MES | E10: =SUM(E4:E9) -> 26395663
B12: COSTO UNITARIO | C12: =+E10/'GIV-CCT Cupos'!D4 -> 289.41661
B14: PERSONAL ADMINISTRATIVO R.I.
B16: PERSONAL | C16: CANTIDAD | D16: SALARIO MENSUAL | E16: TOTAL
B17: COORDINADOR OPERATIVO | C17: 0.5 | D17: ='CONSOLIDADO PERS ADMON'!D5 -> 5176603.1 | E17: =+C17*D17 -> 2588301.5
B18: INGENIERO DE ALIMENTOS | C18: 0 | D18: ='CONSOLIDADO PERS ADMON'!D6 -> 4529527.7 | E18: =+C18*D18 -> 0
B19: CONTADOR | C19: 0.5 | D19: ='CONSOLIDADO PERS ADMON'!D7 -> 4473148.9 | E19: =+C19*D19 -> 2236574.4
B20: ADMINISTRATIVOS | C20: 1 | D20: ='CONSOLIDADO PERS ADMON'!D8 -> 3384064.3 | E20: =+C20*D20 -> 3384064.3
B21: SUPERVISORES DE PUNTO | C21: 1 | D21: ='CONSOLIDADO PERS ADMON'!D9 -> 3424376.9 | E21: =+C21*D21 -> 3424376.9
B22: SUPERVISORES PREPARADO EN SITIO | C22: 0 | D22: ='CONSOLIDADO PERS ADMON'!D10 -> 3424376.9 | E22: =+C22*D22 -> 0
B23: TOTAL SALARIOS MES | E23: =SUM(E17:E22) -> 11633317
B25: COSTO UNITARIO | C25: =+E23/'GIV-RI Cupos'!D4 -> 369.31166
