Workbook
Name _1_b_1: #REF!
Name _1Excel_BuiltIn_Print_Area_1_1: #REF!
Name _2_m_1: #REF!
Name _3Excel_BuiltIn_Print_Area_2_1: #REF!
Name _b: #REF!
Name _DAT1: #REF!
Name _DIA1: #REF!
Name _DIA2: #REF!
Name _EE1: #REF!
Name _GT1: #REF!
Name _GTO1: #REF!
Name _INC1: #REF!
Name _INI1: #REF!
Name _m: #REF!
Name _MA1: #REF!
Name _MES1: #REF!
Name _RC: #REF!
Name _Toc124048707_1: '[1]Todo Riesgo Daños Materiales'!#REF!
Name _Toc124048707_1: 'Todo Riesgo Daños Materiales'!#REF!
Name A: #REF!
Name A_impresión_IM: #REF!
Name A_impresión_IM: #REF!
Name anos: #REF!
Name AÑO: #REF!
Name AÑO1: #REF!
Name AÑO2: #REF!
Name APC: #REF!
Name APCOLECTIVO: #REF!
Name APESCOLAR: #REF!
Name ASEG: #REF!
Name AU: #REF!
Name B: #REF!
Name BASE: #REF!
Name BBB: #REF!
Name BuiltIn_AutoFilter___10: #REF!
Name BuiltIn_AutoFilter___10: #REF!
Name BuiltIn_AutoFilter___10_1: #REF!
Name BuiltIn_AutoFilter___11: #REF!
Name BuiltIn_AutoFilter___12: #REF!
Name BuiltIn_AutoFilter___4: #REF!
Name BuiltIn_AutoFilter___5: #REF!
Name BuiltIn_AutoFilter___5_1: #REF!
Name BuiltIn_AutoFilter___6: #REF!
Name BuiltIn_AutoFilter___7: #REF!
Name BuiltIn_AutoFilter___9: #REF!
Name BuiltIn_AutoFilter___9_1: #REF!
Name BuiltIn_AutoFilter___9_2: #REF!
Name CASCO1: #REF!
Name COLECTIVO: #REF!
Name COLECTIVOS: #REF!
Name COM: #REF!
Name CONS: #REF!
Name CONS1: #REF!
Name CRITE: #REF!
Name CU: #REF!
Name DATOS: #REF!
Name DATOS1: #REF!
Name DATOS11: #REF!
Name DIA: #REF!
Name DIRECTORES: #REF!

Sheet Todo Riesgo Daños Materiales
A1: ANEXO Nº 1 (ESPECIFICACIONES TECNICAS POLIZA TODO RIESGO DANO MATERIAL)
A2: TOMADOR: | B2: RED SALUD ARMENIA E.S.E
A3: ASEGURADO: | B3: =B2 -> RED SALUD ARMENIA E.S.E
A4: BENEFICIARIO: | B4: =B3 -> RED SALUD ARMENIA E.S.E
A5: NIT: | B5: 801.001.440-8
A6: PROCESO | B6: PROCESO DE CONTRATACION SIMPLIFICADA O INVITACION
A7: POLIZA: | B7: TODO RIESGO DAÑOS MATERIALES
A8: VIGENCIA: | B8: =C24 -> 20000000
A9: CONDICIONES MINIMAS REQUERIDAS OBLIGATORIAS
A10: BIENES ASEGURADOS | B10: VALOR ASEGURABLE | C10: VALOR ASEGURADO | D10: PROPUESTA DE LA COMPAÑÍA
D11: TASA | E11: PRIMA SIN IVA
A12: EDIFICIOS | B12: ='RELACION DE BIENES '!E4 -> 3.9739671e+10 | C12: =B12 -> 3.9739671e+10
A13: CONTENIDOS | B13: ='RELACION DE BIENES '!E5 -> 1.4376252e+09 | C13: =B13 -> 1.4376252e+09
A14: EQUIPOS ELECTRICOS Y ELECTRONICO | B14: ='RELACION DE BIENES '!E6 -> 2772757892 | C14: =B14 -> 2772757892
A15: EQUIPOS MOVILES Y PORTATILES | B15: ='RELACION DE BIENES '!E7 -> 357170000 | C15: =B15 -> 357170000
A16: LICENCIAS Y SOFTWARE | B16: ='RELACION DE BIENES '!E8 -> 499437230 | C16: =B16 -> 499437230
A17: MAQUINARIA Y EQUIPO Consistente principalmente pero no limitado a: Maquinaria, equipo, maquinaria y equipo subestaciones electricas, plantas de emergencia, calderas, ascensores, motores electricos, montacargas, aire acondicionado central, aire acondiconado de cada oficina, motobombas, transformadores y equipos similares, propios y/o bajo la responsabilidad del asegurado aunque no se especifiquen y demás bienes aunque no se hayan determinado específicamente. Incluye muebles y enseres Hospitalarios) | B17: ='RELACION DE BIENES '!E9 -> 1228971383 | C17: =B17 -> 1228971383
A18: EQUIPO BIOMEDICO | B18: ='RELACION DE BIENES '!E10 -> 2770603120 | C18: =B18 -> 2770603120
A19: INSTRUENTOS MEDICOS QUIRURGICOS Y DE LABORATORIO | B19: ='RELACION DE BIENES '!E11 -> 224150191 | C19: =B19 -> 224150191
A20: MERCANCIAS (FRIGORIFICOS O BIENES REFRIGERADOS) | B20: ='RELACION DE BIENES '!E12 -> 450000000 | C20: =B20 -> 450000000
A21: HABITACULOS AMBULANCIAS | B21: ='RELACION DE BIENES '!E13 -> 615689252 | C21: =B21 -> 615689252
A22: BIENES RECIBIDOS EN COMODATO | B22: ='RELACION DE BIENES '!E14 -> 1586372460 | C22: =B22 -> 1586372460
A23: VEHICULOS INMOVILIZADOS | B23: ='RELACION DE BIENES '!E15 -> 187202000 | C23: =B23 -> 187202000
... A26: ADECUACION DE TERRENOS (10% VALOR DE EDIFICIOS) | B26: ='RELACION DE BIENES '!E18 -> 3.9739671e+09 | C26: =B26 -> 3.9739671e+09
A27: Totales | B27: =SUM(B12:B26) -> 6.1824567e+10 | C27: =B27 -> 6.1824567e+10
A28: Total Indice Variable 5% | B28: =SUM(B12+B13+B14+B15+B17+B18+B19+B21+B22)*5% -> 2.5366505e+09 | C28: =B28 -> 2.5366505e+09
A29: TOTAL | B29: =B27+B28 -> 6.4361218e+10 | C29: =C27+C28 -> 6.4361218e+10
A30: PRIMA NETA
A31: IVA
A32: TOTAL
A33: OBJETO DEL SEGURO | B33: Amparar las pérdidas y/o daños materiales que sufran los bienes de propiedad del ASEGURADO, o que esten bajo su responsabilidad, tenencia o control y en general dados y recibidos a cualquier título y/o por los que tenga algún interés asegurable.
A34: COBERTURA OBLIGATORIA
A35: MODALIDAD DE LA POLIZA: TODO RIESGO PERDIDA Y/O DAÑO MATERIAL CON EXCLUSIONES La aseguradora se obliga a indemnizar al asegurado los daños y/o pérdidas que sufran los intereses asegurados, así como los costos y/o gastos en que incurra, o todos combinados, como consecuencia de los riesgos que a continuación se enuncian y sujeto a los riesgos excluidos: Todo riesgo para las pérdidas y/o daños materiales que sufran los intereses asegurados por cualquier riesgo y/o causas, incluidos, pero no limitados a: Incendio, explosión, anegación, daños por agua; extended coverage; daños a calderas o aparatos generadores de vapor, huelga, asonada, motín, conmoción civil o popular, actos malintencionados de terceros, incluidos sabotaje y los actos terroristas, cometidos o no por movimientos subversivos (tomas a poblaciones, municipios y ciudades y los actos de la autoridad para repelerlos; también se amparan las pérdidas materiales que sufran los bienes asegurados causados directa o indirectamente por cohetes, misiles o similares); terremoto, temblor y/o erupción volcánica, maremoto, tsunami, y/o eventos de la naturaleza tales como ciclón, huracán, tempestad, vientos, inundación, desbordamiento, alza en el nivel de aguas y enfangamiento, hundimiento, deslizamiento del terreno, derrumbes, ludes, desprendimiento de tierra y rocas, y las pérdidas y/o daños consecuenciales originados por tales fenómenos los cuales sean consecuencia de un hecho súbito, accidental e imprevisto cubiertos en la póliza ; daño interno de equipos eléctricos y electrónicos: coberturas de todo riesgo daño material por rotura de maquinaria y equipos eléctricos y electrónicos (explosión física o química interna, caída directa de rayo, rotura debido a fuerza centrifuga, cuerpo extraños, acción directa de la energía eléctrica y/o rayo, impericia, descuido, negligencia; sabotaje individual; error de diseño, defecto de mano de obra, falta de agua en aparatos generadores de vapor, otros accidentes ocurridos a los equipos por causas no expresamente excluidas en la póliza); rotura de vidrios, sustracción con violencia y sustracción sin violencia, y demás amparos y/o cobertura que no se encuentren expresamente excluidas. La cobertura de Hurto simple y calificado se extiende a amparar los equipos moviles y portatiles , kit de emergencias, herramientas, equipos y similares dentro y/o fuera de los predios del asegurado y en aquellos donde ejerza su actividad y cuando estan siendo transportados en vehiculos del asegurado, de sus empleados y/o de terceros contratistas y/o subcontratistas del mismo.
A36: BIENES ASEGURADOS( INTERES ASEGURABLE) OBLIGATORIA
A37: Todos los bienes de propiedad real o personal del ASEGURADO, o en los que tuviere interés asegurable , o los recibidos a cualquier titulo, los tomados en arriendo, los recibidos en dación de pagos o los recibidos a cualquier titulo, comodato, los de terceros o aquellos por los cuales sea o pueda llegar a ser responsable, que se encuentren bajo su cuidado, control y custodia, utilizados en el desarrollo del objeto social del asegurado, consistentes principalmente en, pero no limitados a : edificios, estructuras, cimientos, muros de contención, cercas, escaleras externas, vidrios planos, patios, estacionamientos, vías de acceso, otras construcciones separadas de las edificaciones, instalaciones subterráneas, instalaciones eléctricas, de cableado estructural, de aires acondicionados, electrónicas, de comunicación, para conducción de gas sean o no subterráneas, tuberías. conductos, desagües, y en general todo tipo de instalación y equipos que se encuentren por debajo del nivel del suelo, instalaciones fijas de protección contra incendio, instalaciones eléctricas, alarmas, cámaras y circuitos cerrados de televisión, maquinaria, equipos, herramientas, ascensores, subestaciones y /o plantas eléctricas, motores, transformadores, discos duros, muebles e inmuebles de todo tipo y descripción. enseres, equipos de construcción, aviso, , equipos de oficina, de procesamiento de datos, equipos de comunicación, de audiovisuales, de sistemas, de laboratorios, equipos de hospitalización, equipos de apoyo, equipos de diagnostico, equipos de apoyo terapéutico, equipos médicos y científicos, instrumental médico mejoras locativas (acabados y obras realizadas en el edificio, mercancías, repuestos, insumos, armas de fuego, equipos móviles y portátiles, vehículos inmovilizados ( en reposo), dinero en efectivo, medallas, plata labrada, obras de arte, estatuas, frescos, colecciones, y muebles que tengan valor artístico, científico e histórico, manuscritos, planos, croquis, patrones, sellos, monedas, libros de comercio, títulos valores y billetes de bancos, instrumentos musicales, equipos de sonidos, bienes que por su naturaleza deben permanecer a la intemperie televisores, equipos de video, cámaras fotográficas, electrodomésticos, equipos para el manejo y movilización de materiales, camillas, papelería, y demás bienes que aunque no hayan sido mencionados específicamente se encuentren localizados dentro o fuera de los predios asegurados y/o donde el asegurado desarrolle su actividad dentro del territorio de la republica de Colombia..
A38: DIRECCION UBICACIÓN RIESGOS | B38: Avenida Montecarlo Urb. Guaduales de la Villa,Armenia - Quindio y demas riesgos donde el asegurado ejerce su actividad, aunque no esten determinados especificamente ubicados en el territorio Colombiano.
A39: COBERTURAS SUBLIMITADAS
A40: Terremoto, temblor, erupcion volcanica | B40: 1
A41: Actos Mal intencionados de terceros ,sabotaje , Terrorismo, Huelga, Motín, Asonada, conmoción o popular. | B41: 1
A42: SUSTRACCION CON Y SIN VIOLENCIA
...

Sheet RELACION DE BIENES 
A1: REDSALUD ARMENIA E.S.E
A2: ANEXO No. 1 - RELACION BIENES Y VALORES ASEGURADOS - TODO RIESGO DAÑOS MATERIALES
A3: Articulo | E3: Valor Asegurado | F3: Índice Variable
A4: EDIFICIOS | E4: =D38 -> 3.9739671e+10 | F4: SI
A5: CONTENIDOS | E5: =1283593888*1.12 -> 1.4376252e+09 | F5: SI
A6: EQUIPOS ELECTRICOS Y ELECTRONICO | E6: 2772757892 | F6: SI
A7: EQUIPOS MOVILES Y PORTATILES | E7: 357170000 | F7: SI
A8: LICENCIAS Y SOFTWARE | E8: 499437230 | F8: NO
A9: MAQUINARIA Y EQUIPO | E9: 1228971383 | F9: SI
A10: EQUIPO BIOMEDICO | E10: 2770603120 | F10: SI
A11: INSTRUENTOS MEDICOS QUIRURGICOS Y DE LABORATORIO | E11: 224150191 | F11: SI
A12: MERCANCIAS (FRIGORIFICOS O BIENES REFRIGERADOS) | E12: 450000000 | F12: NO
A13: HABITACULOS AMBULANCIAS | E13: 615689252 | F13: SI
A14: BIENES RECIBIDOS EN COMODATO | E14: =300791565+354370100+146018948+292869360+492322487 -> 1586372460 | F14: SI
A15: VEHICULOS INMOVILIZADOS | E15: 187202000 | F15: NO
A16: DINEROS DENTRO Y FUERA DE CAJAS FUERTES | E16: 20000000 | F16: NO
A17: ADECUACIONES NORMA SISMORESISTENCIA (15% VALOR DE EDIFICIOS) | E17: =E4*15% -> 5.9609507e+09 | F17: NO
A18: ADECUACION DE TERRENOS (10% VALOR DE EDIFICIOS) | E18: =E4*10% -> 3.9739671e+09 | F18: NO
A19: TOTAL | E19: =SUM(E4:E18) -> 6.1824567e+10
A20: INDICE VARIABLE | E20: =SUM(E4+E5+E6+E7+E9+E10++E11+E13+E14)*5% -> 2.5366505e+09
A21: TOTAL VALOR ASEGURADO | E21: =SUM(E19:E20) -> 6.4361218e+10
A25: RELACION DE INMUEBLES
A26: EDIFICIO | B26: DIRECCION | C26: AREA CONS m2 | D26: VALOR ASEGURADO
A27: UIS - HOSPITAL DEL SUR | B27: Avenida Montecarlo Urb. Guaduales de la Villa, Armenia, Quindio | C27: 6826 | D27: 2.3535941e+10
A28: Centro de Salud La Milagrosa, Armenia, Quindio | B28: Carrera 19 Calle 2 | C28: 823 | D28: 1448480000
A29: Centro de Salud Nueva Libertad, Armenia, Quindio | B29: Carrera 40 Calle 43A - 44 | C29: 566 | D29: 1.4916414e+09
A30: Centro de Salud El Caimo, Armenia, Quindio | B30: Carrera 2 1 - 28 Corregimiento El Caimo | C30: 150 | D30: 3.9531134e+08
A31: Centro de Salud El Paraiso, Armenia, Quindio | B31: Barrio El Paraiso Mz M C | C31: 701 | D31: 1.8474216e+09
A32: Puesto de Salud correa Grillo, Armenia, Quindio | B32: Km 1 Via Montenegro | C32: 530 | D32: 1.3263789e+09
A33: Centro de Salud La Clarita, Armenia, Quindio | B33: Calle 24 33 - 14 | C33: 963 | D33: 2.5378988e+09
A34: Centro de Salud Piloto Uribe, Armenia, Quindio | B34: Cl. 25 #10-11 10-73 Barrio Rincon Santo | C34: 618 | D34: 1.6286827e+09
A35: Centro de Salud CAA SUR, Armenia, Quindio | B35: Carrera 19 Calle 44 Esquina | C35: 1686 | D35: 4.331343e+09
A36: Centro de Salud Fundadores, Armenia, Quindio | B36: Calle 4 Norte 13 - 61 | C36: 411 | D36: 1.0831531e+09
A37: Centro de Salud Santa Rita, Armenia; Quindío. | B37: Barrio Santa Rita Mz 14, esquina. | C37: 448 | D37: 113418750
A38: TOTALES | D38: =SUM(D27:D37) -> 3.9739671e+10
A40: VEHICULOS INMOVILIZADOS
A41: DESCRIPCION | B41: PLACAS | C41: VALOR ASEGURADO
A42: AMBULANCIA TOYOTA | B42: OJG405 | C42: 78300000
A43: MAZDA B2200 | B43: ONJ-005 | C43: 31408000
A44: MAZDA B2600 | B44: ONJ-006 | C44: 37994000
...

Sheet Manejo
A1: ANEXO Nº 2 ( ESPECIFICACIONES TECNICAS MANEJO SERVIDORES PUBLICOS)
A2: TOMADOR: | B2: ='Todo Riesgo Daños Materiales'!B2:E2 -> RED SALUD ARMENIA E.S.E
A3: ASEGURADO: | B3: =B2 -> RED SALUD ARMENIA E.S.E
A4: BENEFICIARIO: | B4: =B3 -> RED SALUD ARMENIA E.S.E
A5: NIT: | B5: ='Todo Riesgo Daños Materiales'!B5:E5 -> 801.001.440-8
A6: PROCESO | B6: ='Todo Riesgo Daños Materiales'!B6 -> PROCESO DE CONTRATACION SIMPLIFICADA O INVITACION
A7: POLIZA: | B7: MANEJO GLOBAL SERVIDORES PUBLICOS
A8: VIGENCIA: | B8: ='Todo Riesgo Daños Materiales'!B8:E8 -> 20000000
A9: CONDICIONES MINIMAS REQUERIDAS OBLIGATORIAS
A10: INTERES ASEGURADO | B10: COBERTURAS | C10: VALOR ASEGURADO | E10: TASA | F10: PRIMA
C11: MINIMO REQUERIDO | D11: PROPUESTA CIA
A12: Se amparan a las entidades estatales aseguradas contra los riesgos que impliquen menoscabode fondos y bienes, causados por sus empleados en el ejercicio de los cargos amparados, por actos que se tipifiquen como delitos contra la administración pública o fallos con responsabilidad fiscal, siempre y cuando el hecho sea cometido dentro de la vigencia de la póliza. | B12: Abuso de confianza, Estafa, Peculado | C12: 500000000
B13: Falsificación, Delitos contra la
B14: Administración Pública, Delitos contra
B15: el patrimonio economico, alcances fiscales
B16: Gastos de Rendiciòn y reconstrucciòn de cuentas, costo en juicio y honorarios
B17: Cajas menores | C17: 20000000
B18: Empleados no identificados | C18: 50.000.000 evento/ 150.000.000 vigencia
B19: Protecciòn de Depósitos bancarios | C19: =C18 -> 50.000.000 evento/ 150.000.000 vigencia
B20: Empleados de firma especializada y temporales, cooperativas, agremiaciones sindicales y empresas asociativas | C20: =C18 -> 50.000.000 evento/ 150.000.000 vigencia
C21: PRIMA NETA | F21: =F14 -> 0
C22: IVA | F22: =F21*16% -> 0
C23: PRIMA TOTAL | F23: =SUM(F21:F22) -> 0
A24: CONDICIONES ESPECIALES OBLIGATORIAS
A25: AMPARO POR PECULADO: Mediante la presente Cláusula se conviene en amparar al Asegurado las pérdidas o detrimentos patrimoniales que sufra por causa de peculado cometido por sus empleados de acuerdo con las denominaciones que para delitos cometidos por empleados oficiales o públicos contempla la ley
A26: CONVENIO PARA EL PLAZO DEL PAGO DE LA PRIMA: No obstante cualquier estipulación en contrario, por la presente cláusula se deja establecido que, de acuerdo con lo estipulado en el artículo 81 de la Ley 45/90 y la Resolución numero 03750 de Diciembre 31/74 de la Superintendencia Financiera, las partes contratantes convienen que las primas causadas por el presente Contrato de seguros y los Certificados o Anexos que se emitan en aplicación al mismo serán pagadas por EL ASEGURADO en NOVENTA (90) días a partir de la fecha en que el respectivo documento sea recibido en sus oficinas, directamente por la Aseguradora y/o por el intermediario de seguros, quien deberá certificar haber recibido a satisfacción las respectivas pólizas en las condiciones contratadas; Si las pólizas no han sido correctamente elaboradas, el término para el pago solo empezará a contarse desde la fecha en que se presenten en debida forma. La demora en el pago originada por la presentación incorrecta de los documentos requeridos será responsabilidad del contratista y no tendrán por ello derecho al pago de intereses o compensación de ninguna naturaleza o a la aplicación de la terminación del contrato por mora en el pago de la prima.
A27: AMPARO POR DELITOS CONTRA LA ADMINISTRACION PÚBLICA: Mediante la presente Cláusula se conviene en amparar AL ASEGURADO, las pérdidas o detrimentos patrimoniales que sufra por causa de los delitos cometidos por sus servidores públicos, empleados oficiales ó públicos, contemplados en la Ley
A28: EXTENSION DE COBERTURAS A EMPLEADOS TEMPORALES Y FIRMAS ESPECIALIZADAS: Se consideran cubiertas todas las perdidas y/o daños que ocasionen los empleados de firmas especializadas, temporales y provisionales, que pertenezcan o no a la firma especializada, estos últimos asesores, estudiantes en práctica, contratistas y subcontratistas, la cobertura opera siempre y cuando se encuentra bajo la inspeccion, vigilacia y control del asegurado
A29: PERDIDAS CAUSADAS POR EMPLEADOS NO IDENTIFICADOS: Con sujecion a las condiciones genereales de la poliza y no obstante lo que en contratio se diga en la misma o en sus anexos, si una perdida cubierta se presume haber sido causada por uno o mas de los empleados y el asegurado no pudiere senalar especdificamente el empelado o empleados causantes, dicha perdia se considera debidamene amparada, siempre y cuando las pruebas que se presentern sean concluyente quedando entendido ademas la responsabilidad de la aseguradora no excedera en ningun caso el valor asegurado por cada evento.
A30: PROTECCION DE DEPOSITOS BANCARIOS: Por medio del presente anexo, se cubren las pérdidas que el Asegurado sufra en cuanto a los dineros depositados en su cuenta corriente o de ahorros que mantenga con una entidad bancaria o financiera, siempre y cuando dicha pérdida se deba a falsificación de un cheque, letra de cambio, pagaré, carta de crédito o cualquier otra clase de titulo valor que el banco o la entidad financiera presuma que ha sido firmado, endosado o avalado por el Asegurado o por una persona que obre en su nombre o representación y que el banco o entidad financiera compruebe que no es responsable por dicho pago. El amparo se hace extensivo a cualquiera de los siguientes eventos: A. Cuando el cheque girado presuntamente por el Asegurado o su representante sea pagado a una persona ficticia. B. Cuando un cheque girado por el Asegurado o su representante a favor de un tercero y entregado a dicho tercero o a un representante de este, resulte endosado y cobrado por una persona distinta a dicho tercero o a aquella otra a quien ha debido hacerse el pago en virtud de una transferencia posterior que hubiese podido efectuarse respecto a dicho cheque. C. Cualquier cheque con destino al pago de salarios que habiendo sido girado u ordenado por el Asegurado, resultase endosado y cobrado por un tercero obrando supuestamente a nombre del girador, o de aquel a quien se debía hacer el pago. Es requisito indispensable para que sea procedente una indemnización bajo los literales a, b, y c, que exista falsificación o adulteración de conformidad con las disposiciones legales vigentes al momento del siniestro. Las firmas estampadas por medios mecánicos, serán consideradas como firmas autógrafas.
A31: =+'Todo Riesgo Daños Materiales'!A50:E50 -> DOCUMENTO PARA SUSTENTAR RECLAMO: Para la demostración de la propiedad de los bienes del asegurados, La Entidad. aportará la factura de compra o en su defecto la certificación expedida y firmada por el jefe del departamento de Gestión de Servicio Administrativo o quien haga sus veces donde conste que el bien materia del siniestro se encontraba incluido en su sistema de inventarios. En los casos de hurto el asegurado aportará copia al carbón del denuncio o fotocopia SIMPLE de este o en su defecto una constancia de la fiscalía de que conoce el caso.
A32: FORMATO : ACEPTACION CLAUSULAS Y CONDICIONES OBLIGATORIAS
A33: AMPARO AUTOMÁTICO PARA NUEVOS CARGOS : No obstante cualquier estipulación en contrario en las condiciones generales de la póliza y sus anexos, este seguro se extiende a cubrir todo nuevo cargo creado por el Asegurado sin limite de plazo para reportar a la aseguradora.
A34: PERÍODO ADICIONAL DE COBERTURAS: Por medio de la presente cláusula se deja establecido y convenido que las personas al servicio del asegurado, continuarán amparadas los treinta (30) días inmediatamente siguientes a la fecha de retiro, con sujeción a las Cláusulas relativas a vigencia, terminación y revocación de la Póliza
A35: REVOCACIÓN , NO RENOVACIÓN O MODIFICACIONES DE LA PÓLIZA Y SUS ANEXOS : La Aseguradora deberá dar aviso por escrito aL ASEGURADO, con una anticipación de noventa (90) días, en caso que decida modificar, revocar o no renovar esta póliza y/o alguno de sus amparos adicionales o modificar cualquiera de sus condiciones. En caso de revocación la aseguradora devolverá al asegurado, la proporción de prima correspondiente al tiempo que falte para el vencimiento de la Póliza, liquidada a prorrata. Si la revocación es solicitada por EL ASEGURADO , la Aseguradora devolverá el valor de la prima no corrida del riesgo, liquidada a Prorrata.
A36: RESTABLECIMIENTO AUTOMÁTICO DE VALOR ASEGURADO POR PAGO DE SINIESTRO: En caso de siniestro el límite asegurado se rebajará en la suma indemnizada a partir de la fecha en que se efectúe el pago y se restablecerá automáticamente a su límite inicial y el Asegurado pagará la prima adicional correspondiente a prorrata. Está cláusula tiene aplicación en cualquier época, aún en aquellos casos en que la indemnización se efectúe posteriormente a la terminación de la vigencia afectada por la reclamación. el restablecimiento opera hasta una vez la suma incial
A37: MODIFICACIÓN DEL ESTADO DEL RIESGO: No obstante lo estipulado en las condiciones generales de la póliza y sus anexos, por la presente cláusula se establece una limitación a la obligación que el Asegurado notifique los hechos o circunstancias que agraven el riesgo durante la vigencia del contrato, en el sentido, que la aseguradora solo puede invocarla cuando exista relación de causalidad entre la agravación y el siniestro. Se ampararán automáticamente los riesgos cuya agravación se informe, hasta el pronunciamiento del asegurador en contrario.
A38: CLAUSULA DE ANTICIPO DE LA INDEMNIZACION HASTA 50%: la Aseguradora anticipara la indemnización, hasta por el 50%, con la demostración de la ocurrencia del siniestro por parte del asegurado, el valor de los daños y la comprobación de que existe cobertura y mientras se formaliza a cabalidad la indemnización Correspondiente
A39: CONOCIMIENTO DEL RIESGO: Por medio de la presente cláusula, la (s) Compañía(s) Aseguradora(s) declara (n) que conocen los riesgos y por consiguiente dejan constancia del conocimiento y aceptación de las circunstancias y condiciones de los mismos. En consecuencia de lo anterior, los proponentes no podrán en ningún caso, oponer excepciones, ni formular objeciones fundamentadas en la circunstancia de no haber llevado a cabo la visita de inspección de los bienes o en el desconocimiento de los mismos.
A40: ACUERDO PARA AJUSTE EN CASO DE SINIESTRO: Por medio de la presente Cláusula se conviene que todos los siniestros serán ajustados conforme al procedimiento especial de ajuste que se acuerde entre el Asegurador y Asegurado, y que bajo estas condiciones, operará el Ajustador que se designe cuando sea necesario
...

Sheet RCE
A1: ANEXO Nº 3 (ESPECIFICACIONES TECNICAS RESPONSABILIDAD CIVIL EXTRACONTRACTUAL)
A2: TOMADOR: | B2: ='Todo Riesgo Daños Materiales'!B2:E2 -> RED SALUD ARMENIA E.S.E
A3: ASEGURADO: | B3: =B2 -> RED SALUD ARMENIA E.S.E
A4: BENEFICIARIO: | B4: TERCEROS FECTADOS
A5: NIT: | B5: ='Todo Riesgo Daños Materiales'!B5:E5 -> 801.001.440-8
A6: PROCESO | B6: ='Todo Riesgo Daños Materiales'!B6:E6 -> PROCESO DE CONTRATACION SIMPLIFICADA O INVITACION
A7: POLIZA: | B7: RESPONSABILIDAD CIVIL EXTRACONTRACTUAL
A8: VIGENCIA: | B8: ='Todo Riesgo Daños Materiales'!B8:E8 -> 20000000
A9: COBERTURAS Y CONDICIONES MINIMAS REQUERIDAS OBLIGATORIAS
A10: OBJETO | B10: AMPAROS | C10: LIMITE ASEGURADO | E10: TASA | F10: PRIMA NETA
C11: EVENTO | D11: VIGENCIA
A12: Se amparan los perjuicios patrimoniales y extrapatrimoniales, incluyendo los perjuicios morales, que el asegurado cause a terceros, con motivo de la responsabilidad civil en que incurra de acuerdo con la Ley, durante el giro normal de sus actividades, incluyendo las complementarias. Los perjuicios cubiertos son los derivados de: Lesiones ó muerte a personas, Daños a bienes de propiedad de terceros, Perjuicios morales,, perjuicios de dano en la vida relacion y fisiológicos. lucro cesante que se derive de un daño material y/o de un daño corporal. | B12: Predios, labores y operaciones. | C12: 1100000000
B13: La posesion, el uso el mantenimiento de los predios en los cuales se desarrolla la actividad propia del asegurado.
B14: Las operaciones que lleve a Cabo el asegurado en los predios asegurados y donde desarrolle su actividad.
B15: Las actividades que razonablemente forman parte del riesgo asegurado y que son inherentes al desarrollo del giro normal de su actividad.
B16: Incendio y explosión
B17: Uso de maquina y equipos de trabajo de carque, descarque y transporte dentro y/o fuera de los predios del asegurado.
B18: Actividades sociales, deportivas y culturales, asi como las instalaciones sociales y deportivas dentro y/o fuera de los predios del asegurado
B19: Participacion del asegurado en ferias y exposiciones nacionales.
B20: Viajes al exterior realizados por los representantes, directores y empleados al servicio del asegurado, en funciones inherentes al desarrollo de las actividades propias del asegurado. Excluye RC Profesional y RC Servidores Publicos
B21: viajes dentro del territorio nacional de los representantes, directores y empleados al servicio del asegurado, en funciones inherentes al desarrollo de las actividades propias del asegurado. Excluye RC Profesional y RC Servidores Publicos
B22: Posesion y uso de depositos, tanques, y tuberias dentro de los predios asegurados;
B23: Cafeteria, restaurantes, casinos, bares
B24: Transporte de materias primas y productos azarosos, Manejo de combustible según decreto No. 1521 de 1996, en desarrollo de las activiades del asegurado
... B33: Contratistas y/o subcontratistas independientes
B34: COBERTURAS SUBLIMITADAS | C34: POR EVENTO | D34: VIGENCIA
B35: labores y operaciones de su empleados | C35: 550000000 | D35: =C35*2 -> 1100000000
B36: Patronal | C36: 550000000 | D36: =C36*2 -> 1100000000
B37: Bienes bajo cuidado tenencia y control | C37: 550000000 | D37: =C37*2 -> 1100000000
B38: Productos | C38: 550000000 | D38: =C38*2 -> 1100000000
B39: Vehículos propios y no propios | C39: 100000000 | D39: 200000000
B40: Gastos medicos | C40: 50000000 | D40: 100000000
B41: Responsabilidad Civil Cruzada | C41: 100000000 | D41: 500000000
B42: Parqueaderos incluyendo daños y hurto vehiculos | C42: 100000000 | D42: 200000000
B43: PRIMA NETA
B44: IVA
B45: TOTAL
A47: UBICACIÓN Todos los predios propios y/o tomados en arrendamiento y/o comodato, utilizados por la entidad, para el desarrollo de sus actividades en el territorio colombiano
A48: CONVENIO PARA EL PLAZO DEL PAGO DE LA PRIMA: No obstante cualquier estipulación en contrario, por la presente cláusula se deja establecido que, de acuerdo con lo estipulado en el artículo 81 de la Ley 45/90 y la Resolución numero 03750 de Diciembre 31/74 de la Superintendencia Financiera, las partes contratantes convienen que las primas causadas por el presente Contrato de seguros y los Certificados o Anexos que se emitan en aplicación al mismo serán pagadas por EL ASEGURADO en NOVENTA (90) días a partir de la fecha en que el respectivo documento sea recibido en sus oficinas, directamente por la Aseguradora y/o por el intermediario de seguros, quien deberá certificar haber recibido a satisfacción las respectivas pólizas en las condiciones contratadas; Si las pólizas no han sido correctamente elaboradas, el término para el pago solo empezará a contarse desde la fecha en que se presenten en debida forma. La demora en el pago originada por la presentación incorrecta de los documentos requeridos será responsabilidad del contratista y no tendrán por ello derecho al pago de intereses o compensación de ninguna naturaleza o a la aplicación de la terminación del contrato por mora en el pago de la prima.
A49: ACTIVIDADES SOCIALES, CULTURALES Y DEPORTIVAS: Por la presente cláusula y no obstante lo que en contrario se diga en las condiciones generales de la Póliza o en sus anexos, la Aseguradora cubre la responsabilidad civil imputable al Asegurado, derivada del ejercicio, dirección o supervisión de actividades deportivas, sociales y culturales, que se desarrollen en cualquier parte del territorio de la República de Colombia.
...

Sheet FORMA DE PAGO
A1: ALTERNATIVAS DE PAGO
A2: =#REF! -> #REF!
B7: FORMA PARTE INTEGRAL DE LA COTIZACION DE LA POLIZA DE DAÑO MATERIAL
A9: CONTADO
B10: EFECTIVO
B11: CHEQUE
B12: TARJETA DE CREDITO
A14: CONVENDIO DE PAGO A 60 DIAS
B15: 1. CONVENIO ESCRITO CON COMPROMISO DE PAGO EL LAS FECHAS INDICADAS A CONTINUACION.
B16: 2.GIRO DE 3 CHEQUES ASI:
B17: - EL PRIMERO AL DIA DE LA EXPEDICION DE LA POLIZA
B18: - EL SEGUNDO A 30 DIAS
B19: - EL TERCERO A 60 DIAS, EL CUAL NO DEBEN EXCEDER LOS 60 DIAS A PARTIR DE LA VIGENCIA DE LA POLIZA
A21: FINANCIACION CON LA COMPAÑÍA DE SEGUROS
B22: TERMINOS
B23: - 20% DE CUOTA INICIAL (APLICADO SOBRE LA PRIMA TOTAL)
B24: - EL SALDO A 10 CUOTAS MAXIMO
B26: PERSONA NATURAL
B27: - VALOR MINIMO A FINANCIAR $400.000
B28: - SOLICITUD DE CREDITO
B29: - CARTA DE DESEMBOLSO
B30: - FOTOCOPIA DE LA CEDULA DE CIUDADANIA
B31: - FOTOCOPIA DE LA POLIZA
B33: PERSONAL JURIDICA
B34: - VALOR MINIMO A FINANCIAR $2.000.000
B35: - SOLICITUD DE CREDITO
... B39: - CERTIFICADO DE CAMARA DE COMERCIO NO MAYOR A 45 DIAS DE EXPEDIDO

Sheet RC Servidores Públicos
A1: ANEXO Nº 4 (ESPECIFICACIONES TECNICAS SEGURO DE RESPONSABILIDAD CIVIL SERVIDORES PUBLICOS)
A2: TOMADOR: | B2: ='Todo Riesgo Daños Materiales'!B2:E2 -> RED SALUD ARMENIA E.S.E
A3: ASEGURADO: | B3: VER RELACION DE CARGOS ASEGURADOS
A4: BENEFICIARIO: | B4: =B2 -> RED SALUD ARMENIA E.S.E
A5: NIT: | B5: ='Todo Riesgo Daños Materiales'!B5:E5 -> 801.001.440-8
A6: PROCESO | B6: ='Todo Riesgo Daños Materiales'!B6:E6 -> PROCESO DE CONTRATACION SIMPLIFICADA O INVITACION
A7: POLIZA: | B7: RESPONSABILIDAD CIVIL SERVIDORES PUBLICOS
A8: VIGENCIA: | B8: ='Todo Riesgo Daños Materiales'!B8:E8 -> 20000000
A9: CONDICIONES MINIMAS REQUERIDAS OBLIGATORIAS
B10: AMPAROS | C10: VALOR ASEGURADO | D10: TASA
A11: Territorio Mundial | B11: Cobertura R.C. SERVIDORES PUBLICOS | C11: 600000000
B12: Actos Incorrectos
A13: Perjuicios ocasionados a terceros y/o la entidad asegurada, consecuencia de acciones, fallas en la gestión o actos imputables a uno o varios funcionarios adminstradores y/o directivos que desempeñen los cargos asegurados en el ejercicio de sus funciones, asi como los perjuicios por responsabilidad fiscal y gastos de defensa en que incurran los directivos para su defensa. | B13: Actos que generen juicio de Responsabilidad
B14: Cauciones Judiciales | C14: =C15 -> 120000000
B15: Sublimite Gastos y Costos Judiciales | C15: =C11*20% -> 120000000
B17: PRIMA NETA
A18: CARGOS A ASEGURAR : Ver anexo | B18: IVA
B19: TOTAL
A20: Responsabilidad civil por detrimentos patrimoniales sufridos por el Estado o por terceros siempre que sean consecuencia de los actos incorrectos cometidos por los funcionarios asegurados en el desempeño de las funciones propias a su cargo, cuando fueren declarados civil o administrativamente responsables del detrimento patrimonial.
A21: Cauciones Judiciales: Gastos y costos en que incurran los funcionarios asegurados para la constitución de cauciones exigidas por las autoridades o necesarias para ejercitar derechos, dentro de procedimientos civiles, penales, administrativos o disciplinarios iniciados como consecuencia de actos incorrectos de los que se pudiera deriva una responsabilidad fiscal. $20.000.000 por evento y $120.000.000 vigencia
A22: MODALIDAD DE COBERTURA: Claims Made, La presente póliza opera bajo la modalidad de cobertura por reclamación o "claims made" de conformidad con la Ley 389 de 1997. La cobertura de la póliza aplica a: (i) reclamaciones o investigaciones notificadas a los funcionarios asegurado por primera vez durante la vigencia de la póliza; y/o (ii) circunstancias por las que los funcionarios asegurados tengan conocimiento por primera vez durante la vigencia de la póliza, de investigaciones iniciadas o que estarán siendo iniciadas en su contra. La cobertura se circunscribe a hechos que hayan ocurrido dentro del período de retroactividad de la póliza. Todas las reclamaciones o investigaciones subsiguientes relacionadas con la primera notificación e informada a la Aseguradora, se considerarán cubiertas por la póliza vigente en el momento de la primera notificación. Por esto mismo, las reclamaciones, investigaciones o circunstancias ya notificadas quedan excluidas de todas las vigencias posteriores.” Los hallazgos o circunstancias en averiguación que no individualicen ningún funcionario o cargo asegurado no se considerarán, para efectos de la póliza, como hechos conocidos que puedan dar lugar a una reclamación aplicable bajo el presente seguro sino hasta el momento que sea vinculado el funcionario(s) formalmente a alguna investigación o indagación preliminar. En consecuencia, en caso de que estos hechos se materialicen posteriormente en una reclamación, no se consideraran hechos excluidos aun cuando no hubiesen sido reportados a la aseguradora. Así mismo queda expresamente acordado y convenido que la aseguradora acepta bajo los mismos términos, las condiciones del sistema de cobertura aquí definidas y en caso de existencia de textos, cláusulas o condiciones contenidas en la propuesta o indicadas en el ejemplar de las condiciones generales de la póliza u otro documento, en contradicción con lo dispuesto en esta cláusula, se entenderán por no escritas
A23: Definición de Evento: Se entiende por evento toda circunstancia que pueda derivar en una o varias reclamaciones o procesos, aun cuando sean adelantados por autoridades distintas, siempre que provengan de una misma causa y aun cuando estén involucrados varios funcionarios asegurados. Para efectos de determinar la cobertura bajo la póliza, de acuerdo con la Modalidad de Cobertura aquí definida, queda entendido y acordado que todas las investigaciones y procesos que surjan con posterioridad a dicha notificación efectuada por primera vez, deberán ser atendidas por la misma póliza que conoció de aquella primera reclamación debidamente notificada durante la vigencia de la póliza.
A24: CONDICIONES ESPECIALES OBLIGATORIAS
A25: LA POLIZA DEBE CONTENER LAS CONDICIONES PROPIAS PARA ENTIDADES ESTATALES
A26: AMPARO DE GASTOS DE DEFENSA EN INVESTIGACION PRELIMINAR, Siempre y cuando se identifique el cargo y el el mismo haga parte de los cargos asegurados
A27: AMPARO DE DEFENSA PENAL ADMINISTRATIVA Ampara los costos procesales y gastos de defensa en que incurra el Asegurado como consecuencia de procesos penales y de investigaciones adelantadas por organismos oficiales, así como los que surjan de la defensa de las sanciones impuestas por dichos organismos, Los costos y gastos derivados de los procesos penales se pagarán por reembolso una vez se determine que el funcionario no obró dolosamente. (hacen parte del sublimite de gastos y costos judiciales)
A28: GASTOS DE DEFENSA: Subimite por Vigencia para todos los procesos $120.000.000 Sublimite $30.000.000 por persona/proceso.
A29: DEFINICION DE ASEGURADO: Se considera asegurado: Los administradores de la entidad, cuyos cargos se detallan en el formulario de solicitud adjunto a estos Pliegos de Condiciones. Cuando se de un cambio de funcionario éste se cubre automáticamente, siempre y cuando el cargo que se ocupe se encuentre en la relación de los cargos asegurados.
A30: CLAUSULA CLAIMS MADE - FECHA DE RETROACTIVIDAD: .(01 de enero de 2015)
A31: CONVENIO PARA EL PLAZO DEL PAGO DE LA PRIMA: No obstante cualquier estipulación en contrario, por la presente cláusula se deja establecido que, de acuerdo con lo estipulado en el artículo 81 de la Ley 45/90 y la Resolución numero 03750 de Diciembre 31/74 de la Superintendencia Financiera, las partes contratantes convienen que las primas causadas por el presente Contrato de seguros y los Certificados o Anexos que se emitan en aplicación al mismo serán pagadas por EL ASEGURADO en NOVENTA (90) días a partir de la fecha en que el respectivo documento sea recibido en sus oficinas, directamente por la Aseguradora y/o por el intermediario de seguros, quien deberá certificar haber recibido a satisfacción las respectivas pólizas en las condiciones contratadas; Si las pólizas no han sido correctamente elaboradas, el término para el pago solo empezará a contarse desde la fecha en que se presenten en debida forma. La demora en el pago originada por la presentación incorrecta de los documentos requeridos será responsabilidad del contratista y no tendrán por ello derecho al pago de intereses o compensación de ninguna naturaleza o a la aplicación de la terminación del contrato por mora en el pago de la prima.
... A47: GASTOS Y COSTOS DE DEFENSA EN INSTANCIAS PREVIAS : La presente póliza se extiende a cubrir los gastos y costos de defensa que se ocasionen durante las instancias previas que se presenten una vez se dicte la Resolución o Auto que ordena la apertura de la respectiva instancia preliminar. hasta $20.000.000 (hacen parte del sublimite de gastos y costos judiciales)
A48: CLAUSULAS PARTICULARES OPCIONALES REQUERIDAS | C48: S / N / D | E48: puntos
A49: SE AMPARA FALTA GRAVISIMAS CONTEMPLADAS EN LA LEY 734 de 2002 CUANDO SEAN COMETIDOS SIN DOLO
A50: SILENCIO ADMINISTRATIVO POSITIVO: Por la presente cláusula queda establecido y convenido que la Aseguradora se compromete a indemnizar los perjuicios causados a terceros, a los socios y a la entidad estatal, provenientes de la responsabilidad civil de los administradores originada en cualquier reclamación iniciada por primera vez contra los asegurados durante la vigencia de la póliza, por la declaratoria del silencio administrativo positivo en contra de la empresa de la entidad , derivada de todo acto culposo o culpa grave real o presunta cometida por los administradores, de acuerdo con la resolución 365 del 4 de Julio de 1995, expedida por la Superintendencia de Servicios Públicos y demás disposiciones legales que la modifiquen o complementen.
A51: LOS COSTOS Y GASTOS DERIVADOS DE LOS PROCESOS PENALES SE PAGAN SIN CONDICIONAMIENTO ALGUNO REFERENTE A LA INOCENCIA DEL ASEGURADO Y LA COBERTURA NO SE LIMITA HASTA EL FALLO EN PRIMERA INSTANCIA.
A52: ACCION SOCIAL DE RESPONSABILIDAD CIVIL: Queda establecido y convenido por la presente cláusula que la aseguradora indemnizará a la empresa de servicios públicos cuando se produzca una condena contra el ó los administradores como consecuencia de la acción instaurada con base en el artículo 25 de la Ley 222 de 1995.
A53: RESTABLECIMIENTO AUTOMÁTICO DE VALOR ASEGURADO POR PAGO DE SINIESTRO : En caso de siniestro el límite asegurado se rebajará en la suma indemnizada a partir de la fecha en que se efectúe el pago y se restablecerá automáticamente a su límite inicial y el Asegurado pagará la prima adicional correspondiente a prorrata. Está cláusula tiene aplicación en cualquier época, aún en aquellos casos en que la indemnización se efectúe posteriormente a la terminación de la vigencia afectada por la reclamación.
A54: SOCIEDAD TOMADORA : Por la presente cláusula queda establecido y convenido que la presente póliza ampara la totalidad de los gastos procesales y de defensa en los casos en los que la reclamación se haga también contra EL ASEGURADO sin exceder del límite asegurado pactado en la póliza.
A55: RECLAMACIONES: Este seguro se extiende a cubrir el reembolso de cualquier suma que se vea precisado a pagar el asegurado como consecuencia de los actos y omisiones a que se refiere este contrato , en el evento de que la victima, dejando de lado la eventual responsabilidad civil extracontractual que ello podria generar, opte por reclamar o iniciar en contra del asegurado una responsabiliad de tipo contractual.
A56: RECLAMACION DIRECTA: Indemnizacion si fallo de Responabilidad Fiscal. Se debe presentar acta de inicio de la investigacion e instarurar denuncia penal en contra del empleado
...

Sheet RC Clínicas y Hospitales
A1: ANEXO Nº 5 (ESPECIFICACIONES TECNICAS SEGURO DE RESPONSABILIDAD CIVIL PROFESIONAL CLINICAS Y HOSPITALES)
A2: TOMADOR: | B2: ='Todo Riesgo Daños Materiales'!B2:E2 -> RED SALUD ARMENIA E.S.E
A3: ASEGURADO: | B3: =B2 -> RED SALUD ARMENIA E.S.E
A4: BENEFICIARIO: | B4: TERCEROS AFECTADOS
A5: NIT: | B5: ='Todo Riesgo Daños Materiales'!B5 -> 801.001.440-8
A6: PROCESO | B6: ='Todo Riesgo Daños Materiales'!B6:E6 -> PROCESO DE CONTRATACION SIMPLIFICADA O INVITACION
A7: POLIZA: | B7: RESPONSABILIDAD CIVIL PROFESIONAL CLINICAS Y HOSPITALES
A8: VIGENCIA: | B8: ='Todo Riesgo Daños Materiales'!B8:E8 -> 20000000
A9: CONDICIONES MINIMAS REQUERIDAS OBLIGATORIAS
A10: INTERES ASEGURADO | B10: COBERTURAS | C10: LIMITE ASEGURADO | E10: TASA | F10: PRIMA NETA
C11: EVENTO | D11: VIGENCIA | G11: VALOR ASEGURABLE
C12: 1643051834
A13: Amparar la responsabilidad civil propia de la clínica, hospital y/u otro establecimiento o instituciones médicas bajo las limitaciones y exclusiones descritas en el clausulado general, por la responsabilidad civil en que incurra la entidad asegurada exclusivamente como consecuencia de cualquier "acto médico" derivado de la prestación de servicios profesionales de atención en la salud de las pesonas, de eventos ocurridos y reclamados durante la vigecia de la presente póliza. | B13: Responsabilidad civil medica
B14: Uso de Equipos de Diagnostico y Terapia
B15: Errores u omisiones Profesionales
B16: Gastos judiciales | C16: Sublimite por evento de $20.000.000 | D16: 100000000
B17: Perjuicios extrapatrimoniales al 100% | C17: 821525917 | D17: =C12 -> 1643051834
A18: TOTALES | B18: PRIMA
B19: IVA
B20: TOTAL
A21: COBERTURA: | B21: SECCION PRIMERA - COBERTURA BASICA RESPONSABILIDAD CIVIL PROFESIONAL Amparo 1. La responsabilidad civil profesional del ASEGURADO por los perjuicios causados a terceros a consecuencia de un servicio médico, quirúrgico, dental, de enfermería, laboratorio, o asimilados, prestados durante la misma vigencia dentro de los predios asegurados. Esta cobertura incluye la responsabilidad civil imputable al ASEGURADO como consecuencia de las acciones y omisiones profesionales, cometidos por personal médico, paramédico, médico auxiliar, farmaceuta, laboratorista, de enfermería o asimilados, bajo relación laboral con el ASEGURADO o autorizados por este para trabajar en sus instalaciones mediante convenio especial, en el ejercicio de sus actividades al servicio del mismo. 2. La responsabilidad civil derivada de la posesión y el uso de aparatos y tratamientos médicos con fines de diagnóstico o de terapéutica, en cuanto dichos aparatos y tratamientos estén reconocidos por la ciencia médica. 3. La responsabilidad civil profesional del ASEGURADO como consecuencia de los daños causados por el suministro de bebidas y/o alimentos, materiales médicos, quirúrgicos, dentales, drogas o medicamentos, que hayan sido elaborados por el asegurado bajo su supervisión directa o por otras personas naturales o jurídicas a quienes el asegurado haya delgado su elaboración mediante convenio especial que sean necesarios para el tratamiento y estén directamente registrados mediante autoridad competente. La presente extensión aplica exclusivamente cuando dichos errores provengan de fallas del ASEGURADO en la elaboración y utilización de fórmulas, especificaciones o instrucciones incluyendo el suministro de alimentos y bebidas a los pacientes en conexión con los servicios profesionales descritos en el formulario o carátula de la póliza. Lo anterior sin perjuicio del derecho de subrogación consignado en el capítulo V, cuestiones fundamentales de carácter general. 4. La responsabilidad civil profesional del ASEGURADO por los perjuicios causados a terceros con ocasión de las cirugías reconstructivas requeridas posterior a un accidente, enfermedad o agresión, así como las cirugías correctivas de anomalías congénitas y todas aquellas ordenadas por mandato legal siempre y cuando sean destinadas a preservar la salud de la persona. En cualquiera de estos casos quedan excluidas expresamente las reclamaciones relacionadas con el resultado de la intervención. 5. La responsabilidad civil extracontractual del asegurado (PREDIOS, LABORES Y OPERACIONES), por los daños causados como consecuencia de la propiedad, posesión, uso de los predios en donde desarrolla su actividad y que aparecen en la carátula de la póliza como predios asegurados.
A22: AMPARO RETROACTIVO: CLAIMS MADE Bajo la presente póliza se amparan las indemnizaciones por las reclamaciones escritas presentadas por los terceros afectados y por primera vez al asegurado o a la aseguradora durante la vigencia de la póliza, siempre y cuando se trate de hechos ocurridos durante la misma vigencia o dentro de las vigencias anteriores contadas a partir de AGOSTO 08 DE 2008 y por los cuales el asegurado sea civilmente responsable.Siempre y cuando la póliza haya estado vigente y sin interrupciones desde la mencionada fecha. Modalidad CLAIMS MADE
A23: CONVENIO PARA EL PLAZO DEL PAGO DE LA PRIMA: No obstante cualquier estipulación en contrario, por la presente cláusula se deja establecido que, de acuerdo con lo estipulado en el artículo 81 de la Ley 45/90 y la Resolución numero 03750 de Diciembre 31/74 de la Superintendencia Financiera, las partes contratantes convienen que las primas causadas por el presente Contrato de seguros y los Certificados o Anexos que se emitan en aplicación al mismo serán pagadas por EL ASEGURADO en NOVENTA (90) días a partir de la fecha en que el respectivo documento sea recibido en sus oficinas, directamente por la Aseguradora y/o por el intermediario de seguros, quien deberá certificar haber recibido a satisfacción las respectivas pólizas en las condiciones contratadas; Si las pólizas no han sido correctamente elaboradas, el término para el pago solo empezará a contarse desde la fecha en que se presenten en debida forma. La demora en el pago originada por la presentación incorrecta de los documentos requeridos será responsabilidad del contratista y no tendrán por ello derecho al pago de intereses o compensación de ninguna naturaleza o a la aplicación de la terminación del contrato por mora en el pago de la prima.
A24: FORMATO 2 : ACEPTACION CLAUSULAS Y CONDICIONES OBLIGATORIAS
A25: MODIFICACIONES A FAVOR DEL ASEGURADO : Se amparan automaticamente los nuevos predios y oficinas durante el periodo de la poliza sin cobro de prima, siempre que estos se encuentren dentro del limite territorial establecido y mientras se mantengan como minimo las mismas protecciones de seguridad informadas a los reasegiuradores bajo los terminos acordados.
A26: AVISO DE PÉRDIDA 60 DÍAS: No obstante lo dispuesto en las condiciones la Póliza o en sus anexos, por la presente cláusula se conviene entre las partes, un término SESENTA ( 60) días HABILES para que el Asegurado de aviso al Asegurador de cualquier evento que afecte a la presente Póliza, contados a partir de la fecha en que haya tenido conocimiento de dicho evento, sin perjuicio de lo establecido en el artículo 1081 del Código de Comercio.
A27: REVOCACIÓN , NO RENOVACIÓN O MODIFICACIONES DE LA PÓLIZA Y SUS ANEXOS: La Aseguradora deberá dar aviso por escrito aL ASEGURADO, con una anticipación de noventa (90) días, en caso que decida modificar, revocar o no renovar esta póliza y/o alguno de sus amparos adicionales o modificar cualquiera de sus condiciones. En caso de revocación la aseguradora devolverá al asegurado, la proporción de prima correspondiente al tiempo que falte para el vencimiento de la Póliza, liquidada a prorrata. Si la revocación es solicitada por EL ASEGURADO , la Aseguradora devolverá el valor de la prima no corrida del riesgo, liquidada a Prorrata.
A28: CONOCIMIENTO DEL RIESGO: Por medio de la presente cláusula, la (s) Compañía(s) Aseguradora(s) declara (n) que conocen los riesgos y por consiguiente dejan constancia del conocimiento y aceptación de las circunstancias y condiciones de los mismos. En consecuencia de lo anterior, los proponentes no podrán en ningún caso, oponer excepciones, ni formular objeciones fundamentadas en la circunstancia de no haber llevado a cabo la visita de inspección de los bienes o en el desconocimiento de los mismos.
A29: GASTOS Y COSTOS DE DEFENSA: La presente cobertura ampara las COSTAS, GASTOS, INTERESES, CAUCIONES O FIANZAS Y HONORARIOS por cualquier demanda infundada o no, que se proponga en contra del asegurado o el asegurador por razón de errores y/u omisiones del asegurado, e independientemente de la Responsabilidad o Indemnización que se reclame, se encuentre amparado; PERO siempre y cuando la defensa se derive de un ACTO MEDICO U OMISION MEDICA (entiéndase del personal autorizado por el asegurado)
A30: NOMBRAMIENTO DE AJUSTADOR: En caso de siniestro que afecte las pólizas contratadas y en los que a juicio de la aseguradora se deba asignar Ajustador, dichos Ajustadores no podrán ser asignados unilateralmente por la aseguradora, sino bajo los siguientes parámetros: • Se escogerá al inicio de la vigencia de las pólizas una terna de firmas Ajustadores nominada por EL ASEGURADO y la ASEGURADORA. La asignación del Ajustador proveniente de la terna inicialmente escogida, deberá realizarse dentro de los 3 días hábiles siguientes a la fecha del reporte del siniestro y el Ajustador deberá contactar al asegurado y efectuar las visitas correspondientes dentro de los 2 días hábiles siguientes a la fecha de designación. En caso contrario, se designará otro integrante de la terna preseleccionada.
A31: AMPARO POR CULPA GRAVE: No obstante lo establecido en las condiciones particulares y generales de la póliza y sus anexos, por la presente cláusula queda establecido y convenido que la presente póliza se extiende a amparar la culpa grave de los asegurados, siempre y cuando no se asemeje al dolo.
A32: Responsabilidad Civil derivada del Transporte de pacientes dentro y fuera de los predios
A33: AVISO DE PÉRDIDA 60 DÍAS: No obstante lo dispuesto en las condiciones la Póliza o en sus anexos, por la presente cláusula se conviene entre las partes, un término sesenta ( 30) días HABILES para que el Asegurado de aviso al Asegurador de cualquier evento que afecte a la presente Póliza, contados a partir de la fecha en que haya tenido conocimiento de dicho evento, sin perjuicio de lo establecido en el artículo 1081 del Código de Comercio.
... A35: ERRORES Y OMISIONES NO INTENCIONALES : El tomador esta obligado a declarar sinceramente los hechos o circunstancias que determinen el estado del riesgo, la inexactitud sobre hechos o circunstancias que conocidas por la compañía, la hubiere retraído de celebrar el contrato, o inducido a estipular condiciones más onerosas, produce la nulidad relativa del seguro. Sin embargo, si el tomador incurriere en errores, omisiones o inexactitudes inculpables a él o al asegurado, el contrato de seguro al cual se adhiere este documento no será nulo, ni habrá lugar a la aplicación del inciso tercero del Art. 1058 del Código de Comercio sobre reducción porcentual de la prestación asegurada. En ese caso, se deberá pagar la prima adecuada al verdadero estado del riesgo: la cual será calculada a la (s) tasa (s) establecida (s) en la (s) póliza (s) a prorrata y en las mismas condiciones en que viene suscrito el riesgo.
A36: CLAUSULAS Y CONDICIONES PARTICULARES OPCIONALES REQUERIDAS | E36: S / N / D | F36: PUNTOS
A37: EXTENSIÓN DE COBERTURA, CON TÉRMINO DE 24 MESES, con cobro adicional máximo del 50% de la prima anual ofrecida para este proceso. Bajo esta cláusula, queda expresamente acordado que la cobertura del seguro se extiende por el período de 24 meses, bajo las mismas condiciones pactadas dentro del presente proceso de contratación, para amparar las reclamaciones que se formulen con posterioridad al vencimiento de la vigencia de la póliza, exclusivamente respecto de actos incorrectos y eventos cubiertos bajo la misma y ocurridos durante la referida vigencia.
A38: RESTABLECIMIENTO AUTOMÁTICO DE VALOR ASEGURADO POR PAGO DE SINIESTRO : Una vez vigencia de la póliza, en caso de siniestro el límite asegurado se rebajará en la suma indemnizada a partir de la fecha en que se efectúe el pago y se restablecerá automáticamente a su límite inicial y el Asegurado pagará la prima adicional correspondiente a prorrata. | G38: =+IF(E38="S",F38,IF(E38="N",0,F38/2)) -> 0 | H38: =+IF(F38="S",G38,IF(F38="N",0,G38/2)) -> 0
A39: Período extendido de reclamación, hasta 24 meses con previo aviso de 15 días y cobro de prima del 100% de la vigencia anual.
A40: Responsabilidad civil profesional de las actividades netamente administrativas. | G40: =+IF(E40="S",F40,IF(E40="N",0,F40/2)) -> 0 | H40: =+IF(F40="S",G40,IF(F40="N",0,G40/2)) -> 0
A41: RECLAMACIONES: Este seguro se extiende a cubrir el reembolso de cualquier suma que se vea precisado a pagar el asegurado como consecuencia de los actos y omisiones a que se refiere este contrato , en el evento de que la victima, dejando de lado la eventual responsabilidad civil extracontractual que ello podria generar, opte por reclamar o iniciar en contra del asegurado una responsabiliad de tipo contractual. | G41: =+IF(E41="S",F41,IF(E41="N",0,F41/2)) -> 0 | H41: =+IF(F41="S",G41,IF(F41="N",0,G41/2)) -> 0
...

Sheet Automoviles
A1: ANEXO Nº 7 (ESPECIFICACIONES TECNICAS SEGURO DE AUTOMOVILES)
A2: TOMADOR: | B2: ='Todo Riesgo Daños Materiales'!B2:E2 -> RED SALUD ARMENIA E.S.E
A3: ASEGURADO: | B3: =B2 -> RED SALUD ARMENIA E.S.E
A4: BENEFICIARIO: | B4: =B3 -> RED SALUD ARMENIA E.S.E
A5: NIT: | B5: ='Todo Riesgo Daños Materiales'!B5:E5 -> 801.001.440-8
A6: PROCESO | B6: ='Todo Riesgo Daños Materiales'!B6:E6 -> PROCESO DE CONTRATACION SIMPLIFICADA O INVITACION
A7: POLIZA: | B7: AUTOMOVILES
A8: VIGENCIA: | B8: ='Todo Riesgo Daños Materiales'!B8:E8 -> 20000000
A9: COBERTURAS OBLIGATORIAS
A10: AUTOMOVILES
A11: INTERES Y BIENES ASEGURADOS | B11: AMPAROS | C11: VALOR ASEGURADO MINIMO REQUERIDO | D11: PROPUESTA ASEGURADORA PARA RCE | E11: TASA | F11: PRIMA NETA
A12: Vehículos propiedad del asegurado | B12: Responsabilidad Civil Extracontractual : (Cubre lucro cesante y perjuicios extrapatrimoniales )
B13: Daños a bienes de terceros | C13: 1000000000
B14: Lesiones o muerte a una persona | C14: 1000000000
B15: Lesiones o muerte a dos o más personas | C15: 2000000000
B16: Perdida Total para Daños | C16: V/r Comercial guia fasecolda + accesorios no originales
B17: Perdida Parcial para Daños
B18: Perdida Total para Hurto
B19: Perdida Parcial para Hurto
A20: Ver Relacion Anexo No. 6A | B20: Terremoto
B21: Proteccion Patrimonial | C21: SI
B22: Gastos de Transporte por perdida totale Daños solo livianos | C22: SI
B23: Gastos de Transporte por perdidas total Hurto solo livianos | C23: SI
B24: Asistencia Juridica Penal | C24: SI
B25: Asistencia Juridica Civil | C25: SI
B26: Asistencia en Viaje | C26: SI
B27: Accidentes personales(Solo para el conductor | C27: $30.000 por 30 días
B28: hmccop, amit y terrorismo | C28: SI
C29: PRIMA NETA
C30: IVA
C31: TOTAL
A32: CONDICIONES ESPECIALES OBLIGATORIAS
A33: CONVENIO PARA EL PLAZO DEL PAGO DE LA PRIMA: No obstante cualquier estipulación en contrario, por la presente cláusula se deja establecido que, de acuerdo con lo estipulado en el artículo 81 de la Ley 45/90 y la Resolución numero 03750 de Diciembre 31/74 de la Superintendencia Financiera, las partes contratantes convienen que las primas causadas por el presente Contrato de seguros y los Certificados o Anexos que se emitan en aplicación al mismo serán pagadas por EL ASEGURADO en NOVENTA (90) días a partir de la fecha en que el respectivo documento sea recibido en sus oficinas, directamente por la Aseguradora y/o por el intermediario de seguros, quien deberá certificar haber recibido a satisfacción las respectivas pólizas en las condiciones contratadas; Si las pólizas no han sido correctamente elaboradas, el término para el pago solo empezará a contarse desde la fecha en que se presenten en debida forma. La demora en el pago originada por la presentación incorrecta de los documentos requeridos será responsabilidad del contratista y no tendrán por ello derecho al pago de intereses o compensación de ninguna naturaleza o a la aplicación de la terminación del contrato por mora en el pago de la prima.
A34: CONTINUIDAD DE COBERTURA: Se otorga continuidad de seguros a los vehículos que vienen amparados y por lo tanto la propuesta no debe contener ningún tipo de restricciones en cuanto al estado, modelo y características de los vehículos, ni exigencias de inspecciones.
A35: NO APLICACIÓN DE DEDUCIBLES PARA ENTIDADES ESTATALES: La Aseguradora no aplicará ningún tipo de deducible en las coberturas del ramo de automóviles.
A36: FORMATO 2 : ACEPTACION CLAUSULAS Y CONDICIONES OBLIGATORIAS
A37: REVOCACIÓN , NO RENOVACIÓN O MODIFICACIONES DE LA PÓLIZA Y SUS ANEXOS: La Aseguradora deberá dar aviso por escrito aL ASEGURADO, con una anticipación de noventa (90) días, en caso que decida modificar, revocar o no renovar esta póliza y/o alguno de sus amparos adicionales o modificar cualquiera de sus condiciones. En caso de revocación la aseguradora devolverá al asegurado, la proporción de prima correspondiente al tiempo que falte para el vencimiento de la Póliza, liquidada a prorrata. Si la revocación es solicitada por EL ASEGURADO , la Aseguradora devolverá el valor de la prima no corrida del riesgo, liquidada a Prorrata.
A38: CONOCIMIENTO DEL RIESGO: Por medio de la presente cláusula, la (s) Compañía(s) Aseguradora(s) declara (n) que conocen los riesgos y por consiguiente dejan constancia del conocimiento y aceptación de las circunstancias y condiciones de los mismos. En consecuencia de lo anterior, los proponentes no podrán en ningún caso, oponer excepciones, ni formular objeciones fundamentadas en la circunstancia de no haber llevado a cabo la visita de inspección de los bienes o en el desconocimiento de los mismos.
A39: ACUERDO PARA AJUSTE EN CASO DE SINIESTRO: Por medio de la presente Cláusula se conviene que todos los siniestros serán ajustados conforme al procedimiento especial de ajuste que se acuerde entre el Asegurador y Asegurado, y que bajo estas condiciones, operará el Ajustador que se designe cuando sea necesario
