Workbook

Sheet Acta de cierre y listado
B6: ACTA DE CIERRE
B7: PROCESO | C7: LICITACIÓN PÚBLICA SIC | E7: 9 DE 2020
B9: OBJETO: | C9: PRESTACIÓN DE SERVICIOS PARA VIRTUALIZAR CONTENIDOS ACADÉMICOS DE LOS TEMAS MISIONALES DE LA ENTIDAD A TRAVÉS DEL CAMPUS VIRTUAL
B10: PRESUPUESTO OFICIAL: | F10: 1237778663
B12: FECHA DE CIERRE | D12: 43980 | E12: HORA | F12: 0.41666667
C14: Proponentes | D14: Nombres de los Proponentes
C15: 1 | D15: UNION TEMPORAL GUAYACANES - CES
C16: 2 | D16: UNIVERSIDAD SERGIO ARBOLEDA
C17: 3
C18: 4
C19: 5
C20: 2 | D20: UNIVERSIDAD SERGIO ARBOLEDA
C21: 3 | D21: UNIVERSIDAD NACIONAL DE COLOMBIA
C22: 4 | D22: FUNDACION INTERNACIONAL DE PEDAGOGIA CONCEPTUAL ALBERTO MERANI
C23: 5 | D23: E DISTRIBUTION S.A.S
C24: 6 | D24: ASESORIA Y GESTION CIA S.A.S
C25: 7 | D25: UNION TEMPORAL VIRTUALIZACION HAPPY - EDUMEDIA
C26: 8 | D26: UNION TEMPORAL POLI T&T
C27: 9 | D27: COGNOSONLINE SOLUTIONS COLOMBIA S.A
C28: 10 | D28: CONSORCIO AOC - PILOTO
C29: 11 | D29: MULTIMEDIA SERVICE S.A.S
C30: 12 | D30: GMEDIA S.A.S
C31: 13 | D31: GEXTION: GRUPO DE EXPERTOS EN GESTION E INNOVACION S.A.S
... C39: 21 | D39: UNIVERSIDAD EAN
IQ4505: GERMAN GIOVANNI GONGORA
IQ4506: NORMA CONSTANZA GOMEZ
IQ4507: ANDRES FELIPE RAMIREZ
IQ4508: ANGIE CARDENAS
IQ4509: JOSE WILSON ROJAS
IQ4510: YOLIMA ACERO
IN4511: LICITACIÓN PÚBLICA SIC | IQ4511: JORGE MARIO HERNANDEZ
IN4512: CONCURSO DE MERITOS SIC | IQ4512: JUAN DAVID LOZANO | IS4512: =+C7 -> LICITACIÓN PÚBLICA SIC | IT4512: =+E7 -> 9 DE 2020
IN4513: SELECCIÓN ABREVIADA SUBASTA INVERSA SIC | IQ4513: NICKY LAURA ECHEVERRY
IN4514: SELECCIÓN ABREVIADA MENOR CUANTÍA SIC | IQ4514: NELLY ESPERANZA CONTRERAS
IN4515: MINIMA CUANTÍA SIC | IQ4515: CAROLINA DEL PILAR TORRES
IQ4516: EDWIN ROMERO ROMERO
IQ4517: JORGE ARIEL HERRERA
IQ4518: MARCELO BARRETO DAZA

Sheet 1.UNION TEMPORAL GUAYACANES - C
L3: PERSONA NATURAL
L4: PERSONA JURIDICA
J6: SI | K6: PRESENTA | L6: CUMPLE | M6: REQUIERE | N6: NO REQUIERE | O6: APLICA | P6: HABILITADO
J7: NO | K7: NO PRESENTA | L7: NO CUMPLE | M7: NO REQUIERE | N7: CUMPLE | O7: NO APLICA | P7: NO HABILITADO
A8: ='Acta de cierre y listado'!IS4512 -> LICITACIÓN PÚBLICA SIC | C8: ='Acta de cierre y listado'!IT4512 -> 9 DE 2020 | K8: NO APLICA | L8: NO APLICA | N8: NO CUMPLE
A9: ANÁLISIS JURÍDICO
A10: PRESUPUESTO OFICIAL: | D10: 1237778663
A11: FECHA DE CIERRE | F11: ='Acta de cierre y listado'!D12 -> 43980
A12: NOMBRE DEL PROPONENTE | I12: Valor Asegurado | J12: =ROUNDDOWN(F10*10%,0) -> 0
A13: PERSONA JURIDICA
A14: UNION TEMPORAL GUAYACANES - CES | I14: 30 | J14: =DAYS360(F11,B22) -> -23
A15: INTEGRANTE: FUNDACION LOS GUAYACANES COLOMBIA
A16: REQUISITOS JURÍDICOS - CONTENIDO SOBRE 1 | B16: REQUERIMIENTO | D16: OBSERVACIÓN
A17: 1.- PRESENTACIÓN DE LA PROPUESTA (ANEXO 1 ) | B17: SI | C17: CUMPLE | G17: =IF(C17=$L$7,$L$17,$L$18) -> 0 | I17: 91 | J17: =DAYS360(F11,B33)+3 -> 99 | L17: 1
A18: 1.1. Firma el Representante Legal, suplente, apoderado o avalista | B18: SI | C18: =IF(B18=$J$6,$L$6,IF(B18=$J$7,$L$7,IF(B18=$I$7,$I$20))) -> CUMPLE | G18: =IF(C18=$L$7,$L$17,$L$18) -> 0 | L18: 0
A19: 1.2 Cedula de ciudadania | B19: SI | C19: =IF(B19=$J$6,$L$6,IF(B19=$J$7,$L$7,IF(B19=$I$7,$I$20))) -> CUMPLE | G19: =IF(C19=$L$7,$L$17,$L$18) -> 0 | I19: 0
A20: 1.3. Certificado de vigencia de matricula profesional. (En procesos de obra) | B20: NO APLICA | G20: =IF(B20=$L$7,$L$17,$L$18) -> 0 | I20: FALSE
A21: 2.- CERTIFICADO DE EXISTENCIA Y REPRESENTACIÓN LEGAL O MATRICULA MERCANTIL PERSONA NATURAL (30 DÍAS DE EXPEDICIÓN) | B21: FECHA DE EXPEDICIÓN | C21: CUMPLE | G21: =IF(C21=$L$7,$L$17,$L$18) -> 0
B22: 43957
A23: 2.1. Objeto Social de la Firma (RELACIONADO CON EL OBJETO A CONTRATAR) | B23: CUMPLE | G23: =IF(B23=$L$7,$L$17,$L$18) -> 0
A24: 2.2- Autorización del organo Competente | B24: NO CUMPLE | D24: El proponente no cumple con el literal iii de las Limitaciones, prohibiciones, autorizaciones establecidas según los estatutos del certificado de existencia de representación legal | G24: =IF(B24=$L$7,$L$17,$L$18) -> 1
A25: 2.3 Agrega poder para presentar la propuesta | B25: NO REQUIERE | G25: =IF(B25=$L$7,$L$17,$L$18) -> 0
A26: 3.- CERTIFICACIÓN DE PAGOS DE SEGURIDAD SOCIAL Y PARAFISCALES PERSONA JURÍDICA O PERSONA NATURAL. | B26: CUMPLE | G26: =IF(B26=$L$7,$L$17,$L$18) -> 0
A27: 4. ANTECEDENTES DE LA PROCURADURÍA | B27: PRESENTA | C27: CUMPLE | G27: =IF(C27=$L$7,$L$17,$L$18) -> 0
A28: 5.- BOLETÍN DE RESPONSABLES FISCALES - CGR | B28: PRESENTA | C28: CUMPLE | G28: =IF(C28=$L$7,$L$17,$L$18) -> 0
A29: 6.ANTECEDENTES JUDICIALES | B29: PRESENTA | C29: CUMPLE | G29: =IF(C29=$L$7,$L$17,$L$18) -> 0
A30: 7. REGISTRO ÚNICO DE PROPONENTES. Inscrito, Renovado y en Firme. | B30: FECHA DE EXPEDICIÓN | C30: CUMPLE | G30: =IF(C30=$L$7,$L$17,$L$18) -> 0
A31: 7.1.Fecha de Expedición | B31: 43969
A32: 8. GARANTIA DE SERIEDAD DE LA OFERTA | B32: PRESENTA
A33: 8.1. Vigencia Hasta | B33: 44079 | C33: =IF(B32=O7,L8,IF($J$17<$I$17,$L$7,$L$6)) -> CUMPLE | G33: =IF(C33=$L$7,$L$17,$L$18) -> 0
A34: 8.2. Valor Asegurado | B34: $ 123.777.866.30 | C34: =IF(B32=O7,L8,IF(B34<$J$12,$L$7,$L$6)) -> CUMPLE | G34: =IF(C34=$L$7,$L$17,$L$18) -> 0
A35: 9. COMPROMISO ANTICORRUPCIÓN | B35: CUMPLE | G35: =IF(B35=$L$7,$L$17,$L$18) -> 0
A36: 10.CERTIFICADO DE PARTICIPACIÓN INDEPENDIENTE DEL PROPONENTE | B36: CUMPLE | G36: =IF(B36=$L$7,$L$17,$L$18) -> 0
A37: 11. DOCUMENTO DE CONSTITUCIÓN UNION TEMPORAL O CONSORCIO | B37: NO CUMPLE | D37: Documento de constitucion de la Union Temporal no cumple con lo establecido en el numeral 2 literal C subnumeral 3, de los Requisitos Habilitantes Jurídicos, Factores de Desempate y Causales de Rechazo | G37: =IF(B37=$L$7,$L$17,$L$18) -> 1
A38: 11.1. Duración de la Unión Temporal o Consorcio | B38: NO CUMPLE | G38: =IF(B38=$L$7,$L$17,$L$18) -> 1
A39: 12. MANIFESTACION DE INTERES | B39: NO REQUIERE
A40: 13. RUT | B40: PRESENTA | C40: CUMPLE | G40: =IF(C40=$L$7,$L$17,$L$18) -> 0
A41: 14. ACREDITACION MIPYME | B41: NO REQUIERE | D41: Clasificada como Micro Empresa | G41: =IF(B41=$L$7,$L$17,$L$18) -> 0
A42: 15. CERTIFICACION BANCARIA (No mayor a 60 días) | B42: NO PRESENTA | C42: CUMPLE | G42: =IF(C42=$L$7,$L$17,$L$18) -> 0
A43: RESULTADO DE LA EVALUACIÓN | B43: =IF($G$43=L18,$P$6,$P$7) -> NO HABILITADO | G43: =SUM(G17:G42) -> 3
A45: NOMBRE DEL PROPONENTE
A46: PERSONA JURIDICA
A47: UNION TEMPORAL GUAYACANES - CES
A48: INTEGRANTE: UNIVERSIDAD CES
A49: REQUISITOS JURÍDICOS - CONTENIDO SOBRE 1 | B49: REQUERIMIENTO | D49: OBSERVACIÓN
A50: 1.- PRESENTACIÓN DE LA PROPUESTA (ANEXO 1 ) | B50: SI | C50: CUMPLE
A51: 1.1. Firma el Representante Legal, suplente, apoderado o avalista | B51: SI | C51: =IF(B51=$J$6,$L$6,IF(B51=$J$7,$L$7,IF(B51=$I$7,$I$20))) -> CUMPLE
A52: 1.2 Cedula de ciudadania | B52: SI | C52: =IF(B52=$J$6,$L$6,IF(B52=$J$7,$L$7,IF(B52=$I$7,$I$20))) -> CUMPLE
A53: 1.3. Certificado de vigencia de matricula profesional. (En procesos de obra) | B53: NO APLICA
A54: 2.- CERTIFICADO DE EXISTENCIA Y REPRESENTACIÓN LEGAL O MATRICULA MERCANTIL PERSONA NATURAL (30 DÍAS DE EXPEDICIÓN) | B54: FECHA DE EXPEDICIÓN | C54: CUMPLE
B55: 43957
A56: 2.1. Objeto Social de la Firma (RELACIONADO CON EL OBJETO A CONTRATAR) | B56: CUMPLE
A57: 2.2- Autorización del organo Competente | B57: NO CUMPLE | D57: El proponente no cumple con el Literal e de las Facultades y limitaciones establecidas en el RUP
A58: 2.3 Agrega poder para presentar la propuesta | B58: NO REQUIERE
A59: 3.- CERTIFICACIÓN DE PAGOS DE SEGURIDAD SOCIAL Y PARAFISCALES PERSONA JURÍDICA O PERSONA NATURAL. | B59: CUMPLE
A60: 4. ANTECEDENTES DE LA PROCURADURÍA | B60: PRESENTA | C60: CUMPLE
A61: 5.- BOLETÍN DE RESPONSABLES FISCALES - CGR | B61: PRESENTA | C61: CUMPLE
A62: 6.ANTECEDENTES JUDICIALES | B62: PRESENTA | C62: CUMPLE
A63: 7. REGISTRO ÚNICO DE PROPONENTES. Inscrito, Renovado y en Firme. | B63: FECHA DE EXPEDICIÓN | C63: CUMPLE
A64: 7.1.Fecha de Expedición | B64: 43963
A65: 8. GARANTIA DE SERIEDAD DE LA OFERTA | B65: PRESENTA
A66: 8.1. Vigencia Hasta | B66: 44079 | C66: =IF(B65=O40,L41,IF($J$17<$I$17,$L$7,$L$6)) -> CUMPLE
A67: 8.2. Valor Asegurado | B67: $ 123.777.866.30 | C67: =IF(B65=O40,L41,IF(B67<$J$12,$L$7,$L$6)) -> CUMPLE
A68: 9. COMPROMISO ANTICORRUPCIÓN | B68: CUMPLE
A69: 10.CERTIFICADO DE PARTICIPACIÓN INDEPENDIENTE DEL PROPONENTE | B69: CUMPLE
A70: 11. DOCUMENTO DE CONSTITUCIÓN UNION TEMPORAL O CONSORCIO | B70: NO CUMPLE | D70: Documento de constitucion de la Union Temporal no cumple con lo establecido en el numeral 2 literal C subnumeral 3, de los Requisitos Habilitantes Juridicos, Factores de Desempate y Causales de Rechazo
A71: 11.1. Duración de la Unión Temporal o Consorcio | B71: NO CUMPLE
A72: 12. MANIFESTACION DE INTERES | B72: NO REQUIERE
A73: 13. RUT | B73: PRESENTA | C73: CUMPLE
A74: 14. ACREDITACION MIPYME | B74: NO REQUIERE | D74: Clasificada como Gran Empresa
A75: 15. CERTIFICACION BANCARIA (No mayor a 60 días) | B75: NO PRESENTA | C75: CUMPLE
A76: RESULTADO DE LA EVALUACIÓN | B76: =IF($G$43=L51,$P$6,$P$7) -> NO HABILITADO

Sheet 2. UNIVERSIDAD SERGIO ARBOLEDA
L3: PERSONA NATURAL
L4: PERSONA JURIDICA
J6: SI | K6: PRESENTA | L6: CUMPLE | M6: REQUIERE | N6: NO REQUIERE | O6: APLICA | P6: HABILITADO
J7: NO | K7: NO PRESENTA | L7: NO CUMPLE | M7: NO REQUIERE | N7: CUMPLE | O7: NO APLICA | P7: NO HABILITADO
A8: ='[1]Acta de cierre y listado'!IS4512 -> LICITACIÓN PÚBLICA SIC | C8: ='[1]Acta de cierre y listado'!IT4512 -> 9 DE 2020 | K8: NO APLICA | L8: NO APLICA | N8: NO CUMPLE
A9: ANÁLISIS JURÍDICO
A10: PRESUPUESTO OFICIAL: | D10: 1237778663
A11: FECHA DE CIERRE | F11: ='[1]Acta de cierre y listado'!D12 -> 43980
A12: NOMBRE DEL PROPONENTE | I12: Valor Asegurado | J12: =ROUNDDOWN(F10*10%,0) -> 0
A13: PERSONA JURIDICA
A14: ='[1]Acta de cierre y listado'!D20 -> UNIVERSIDAD SERGIO ARBOLEDA | I14: 30 | J14: =DAYS360(F11,B21) -> -7
A15: REQUISITOS JURÍDICOS - CONTENIDO SOBRE 1 | B15: REQUERIMIENTO | D15: OBSERVACIÓN
A16: 1.- PRESENTACIÓN DE LA PROPUESTA (ANEXO 1 ) | B16: SI | C16: =IF(B16=$J$6,$L$6,IF(B16=$J$7,$L$7,IF(B16=$I$7,#REF!))) -> CUMPLE
A17: 1.1. Firma el Representante Legal, suplente, apoderado o avalista | B17: SI | C17: =IF(B17=$J$6,$L$6,IF(B17=$J$7,$L$7,IF(B17=$I$7,#REF!))) -> CUMPLE | G17: =IF(C16=$L$7,$L$17,$L$18) -> 0 | I17: 91 | J17: =DAYS360(F11,B32)+3 -> 93 | L17: 1
A18: 1.2 Cedula de ciudadania | B18: SI | C18: =IF(B18=$J$6,$L$6,IF(B18=$J$7,$L$7,IF(B18=$I$7,#REF!))) -> CUMPLE | G18: =IF(C17=$L$7,$L$17,$L$18) -> 0 | L18: 0
A19: 1.3. Certificado de vigencia de matricula profesional. (En procesos de obra) | B19: NO APLICA | G19: =IF(C18=$L$7,$L$17,$L$18) -> 0 | I19: 0
A20: 2.- CERTIFICADO DE EXISTENCIA Y REPRESENTACIÓN LEGAL O MATRICULA MERCANTIL PERSONA NATURAL (30 DÍAS DE EXPEDICIÓN) | B20: FECHA DE EXPEDICIÓN | C20: CUMPLE | G20: =IF(#REF!=$L$7,$L$17,$L$18) -> #REF!
B21: 43973 | G21: =IF(C20=$L$7,$L$17,$L$18) -> 0
A22: 2.1. Objeto Social de la Firma (RELACIONADO CON EL OBJETO A CONTRATAR) | B22: CUMPLE
A23: 2.2- Autorización del organo Competente | B23: NO REQUIERE | G23: =IF(B22=$L$7,$L$17,$L$18) -> 0
A24: 2.3 Agrega poder para presentar la propuesta | B24: NO REQUIERE | D24: El oferente adjunta certificación denominada "poder de contratación" en la que certifica que el Representante Legal cuenta con facultades para contratar sin límitación de cuantía. | G24: =IF(B23=$L$7,$L$17,$L$18) -> 0
A25: 3.- CERTIFICACIÓN DE PAGOS DE SEGURIDAD SOCIAL Y PARAFISCALES PERSONA JURÍDICA O PERSONA NATURAL. | B25: CUMPLE | G25: =IF(B24=$L$7,$L$17,$L$18) -> 0
A26: 4. ANTECEDENTES DE LA PROCURADURÍA | B26: NO PRESENTA | C26: CUMPLE | D26: Verificado por la Entidad | G26: =IF(B25=$L$7,$L$17,$L$18) -> 0
A27: 5.- BOLETÍN DE RESPONSABLES FISCALES - CGR | B27: NO PRESENTA | C27: CUMPLE | D27: Verificado por la Entidad | G27: =IF(C26=$L$7,$L$17,$L$18) -> 0
A28: 6.ANTECEDENTES JUDICIALES | B28: NO PRESENTA | C28: CUMPLE | D28: Verificado por la Entidad | G28: =IF(C27=$L$7,$L$17,$L$18) -> 0
A29: 7. REGISTRO ÚNICO DE PROPONENTES. Inscrito, Renovado y en Firme. | B29: FECHA DE EXPEDICIÓN | C29: CUMPLE | G29: =IF(C28=$L$7,$L$17,$L$18) -> 0
A30: 7.1.Fecha de Expedición | B30: 43978 | G30: =IF(C29=$L$7,$L$17,$L$18) -> 0
A31: 8. GARANTIA DE SERIEDAD DE LA OFERTA | B31: PRESENTA
A32: 8.1. Vigencia Hasta | B32: 44072 | C32: =IF(B31=O7,L8,IF($J$17<$I$17,$L$7,$L$6)) -> CUMPLE
A33: 8.2. Valor Asegurado | B33: 123777866 | C33: =IF(B31=O7,L8,IF(B33<$J$12,$L$7,$L$6)) -> CUMPLE | G33: =IF(C32=$L$7,$L$17,$L$18) -> 0
A34: 9. COMPROMISO ANTICORRUPCIÓN | B34: CUMPLE | G34: =IF(C33=$L$7,$L$17,$L$18) -> 0
A35: 10.CERTIFICADO DE PARTICIPACIÓN INDEPENDIENTE DEL PROPONENTE | B35: CUMPLE | G35: =IF(B34=$L$7,$L$17,$L$18) -> 0
A36: 11. DOCUMENTO DE CONSTITUCIÓN UNION TEMPORAL O CONSORCIO | B36: NO REQUIERE | G36: =IF(B35=$L$7,$L$17,$L$18) -> 0
A37: 11.1. Duración de la Unión Temporal o Consorcio | B37: NO REQUIERE | G37: =IF(B36=$L$7,$L$17,$L$18) -> 0
A38: 12. MANIFESTACION DE INTERES | B38: NO REQUIERE | G38: =IF(B37=$L$7,$L$17,$L$18) -> 0
A39: 13. RUT | B39: PRESENTA | C39: CUMPLE
A40: 14. ACREDITACION MIPYME | B40: NO REQUIERE | D40: Clasificado como Gran Empresa | G40: =IF(C39=$L$7,$L$17,$L$18) -> 0
A41: 15. CERTIFICACION BANCARIA (No mayor a 60 días) | B41: PRESENTA | C41: NO CUMPLE | D41: Presenta certificación del 19 de noviembre de 2019, siendo mayor a 60 días de la fecha de cierre del proceso. | G41: =IF(B40=$L$7,$L$17,$L$18) -> 0
A42: RESULTADO DE LA EVALUACIÓN | B42: NO HABILITADO | G42: =IF(C41=$L$7,$L$17,$L$18) -> 1
G43: =SUM(G17:G42) -> #REF!

Sheet 3. UNIVERSIDAD NACIONAL
L3: PERSONA NATURAL
L4: PERSONA JURIDICA
J6: SI | K6: PRESENTA | L6: CUMPLE | M6: REQUIERE | N6: NO REQUIERE | O6: APLICA | P6: HABILITADO
J7: NO | K7: NO PRESENTA | L7: NO CUMPLE | M7: NO REQUIERE | N7: CUMPLE | O7: NO APLICA | P7: NO HABILITADO
A8: ='[1]Acta de cierre y listado'!IS4512 -> LICITACIÓN PÚBLICA SIC | C8: ='[1]Acta de cierre y listado'!IT4512 -> 9 DE 2020 | K8: NO APLICA | L8: NO APLICA | N8: NO CUMPLE
A9: ANÁLISIS JURÍDICO
A10: PRESUPUESTO OFICIAL: | D10: 1237778663
A11: FECHA DE CIERRE | F11: ='[1]Acta de cierre y listado'!D12 -> 43980
A12: NOMBRE DEL PROPONENTE | I12: Valor Asegurado | J12: =ROUNDDOWN(F10*10%,0) -> 0
A13: PERSONA JURIDICA
A14: ='[1]Acta de cierre y listado'!D21 -> UNIVERSIDAD NACIONAL DE COLOMBIA | I14: 30 | J14: =DAYS360(F11,B21) -> -35
A15: REQUISITOS JURÍDICOS - CONTENIDO SOBRE 1 | B15: REQUERIMIENTO | D15: OBSERVACIÓN
A16: 1.- PRESENTACIÓN DE LA PROPUESTA (ANEXO 1 ) | B16: SI | C16: NO CUMPLE | D16: Se debe adjuntar el respectivo anexo diligenciado en los espacios correspondientes, sin modificaciones adicionales al formato inicial.
A17: 1.1. Firma el Representante Legal, suplente, apoderado o avalista | B17: SI | C17: =IF(B17=$J$6,$L$6,IF(B17=$J$7,$L$7,IF(B17=$I$7,#REF!))) -> CUMPLE | G17: =IF(C16=$L$7,$L$17,$L$18) -> 1 | I17: 91 | J17: =DAYS360(F11,B32)+3 -> 99 | L17: 1
A18: 1.2 Cedula de ciudadania | B18: SI | C18: =IF(B18=$J$6,$L$6,IF(B18=$J$7,$L$7,IF(B18=$I$7,#REF!))) -> CUMPLE | G18: =IF(C17=$L$7,$L$17,$L$18) -> 0 | L18: 0
A19: 1.3. Certificado de vigencia de matricula profesional. (En procesos de obra) | B19: NO APLICA | G19: =IF(C18=$L$7,$L$17,$L$18) -> 0 | I19: 0
A20: 2.- CERTIFICADO DE EXISTENCIA Y REPRESENTACIÓN LEGAL O MATRICULA MERCANTIL PERSONA NATURAL (30 DÍAS DE EXPEDICIÓN) | B20: FECHA DE EXPEDICIÓN | C20: CUMPLE | G20: =IF(#REF!=$L$7,$L$17,$L$18) -> #REF!
B21: 43945 | G21: =IF(C20=$L$7,$L$17,$L$18) -> 0
A22: 2.1. Objeto Social de la Firma (RELACIONADO CON EL OBJETO A CONTRATAR) | B22: CUMPLE
A23: 2.2- Autorización del organo Competente | B23: NO REQUIERE | G23: =IF(B22=$L$7,$L$17,$L$18) -> 0
A24: 2.3 Agrega poder para presentar la propuesta | B24: NO REQUIERE | G24: =IF(B23=$L$7,$L$17,$L$18) -> 0
A25: 3.- CERTIFICACIÓN DE PAGOS DE SEGURIDAD SOCIAL Y PARAFISCALES PERSONA JURÍDICA O PERSONA NATURAL. | B25: CUMPLE | G25: =IF(B24=$L$7,$L$17,$L$18) -> 0
A26: 4. ANTECEDENTES DE LA PROCURADURÍA | B26: PRESENTA | C26: CUMPLE | D26: Verificado por la Entidad | G26: =IF(B25=$L$7,$L$17,$L$18) -> 0
A27: 5.- BOLETÍN DE RESPONSABLES FISCALES - CGR | B27: PRESENTA | C27: CUMPLE | G27: =IF(C26=$L$7,$L$17,$L$18) -> 0
A28: 6.ANTECEDENTES JUDICIALES | B28: PRESENTA | C28: CUMPLE | G28: =IF(C27=$L$7,$L$17,$L$18) -> 0
A29: 7. REGISTRO ÚNICO DE PROPONENTES. Inscrito, Renovado y en Firme. | B29: FECHA DE EXPEDICIÓN | C29: CUMPLE | G29: =IF(C28=$L$7,$L$17,$L$18) -> 0
A30: 7.1.Fecha de Expedición | B30: 43944 | G30: =IF(C29=$L$7,$L$17,$L$18) -> 0
A31: 8. GARANTIA DE SERIEDAD DE LA OFERTA | B31: PRESENTA
A32: 8.1. Vigencia Hasta | B32: 44079 | C32: =IF(B31=O7,L8,IF($J$17<$I$17,$L$7,$L$6)) -> CUMPLE
A33: 8.2. Valor Asegurado | B33: 1.2377787e+08 | C33: =IF(B31=O7,L8,IF(B33<$J$12,$L$7,$L$6)) -> CUMPLE | G33: =IF(C32=$L$7,$L$17,$L$18) -> 0
A34: 9. COMPROMISO ANTICORRUPCIÓN | B34: CUMPLE | G34: =IF(C33=$L$7,$L$17,$L$18) -> 0
A35: 10.CERTIFICADO DE PARTICIPACIÓN INDEPENDIENTE DEL PROPONENTE | B35: CUMPLE | G35: =IF(B34=$L$7,$L$17,$L$18) -> 0
A36: 11. DOCUMENTO DE CONSTITUCIÓN UNION TEMPORAL O CONSORCIO | B36: NO REQUIERE | G36: =IF(B35=$L$7,$L$17,$L$18) -> 0
A37: 11.1. Duración de la Unión Temporal o Consorcio | B37: NO REQUIERE | G37: =IF(B36=$L$7,$L$17,$L$18) -> 0
A38: 12. MANIFESTACION DE INTERES | B38: NO REQUIERE | G38: =IF(B37=$L$7,$L$17,$L$18) -> 0
A39: 13. RUT | B39: PRESENTA | C39: CUMPLE
A40: 14. ACREDITACION MIPYME | B40: NO REQUIERE | D40: Clasificado como Gran Empresa | G40: =IF(C39=$L$7,$L$17,$L$18) -> 0
A41: 15. CERTIFICACION BANCARIA (No mayor a 60 días) | B41: PRESENTA | C41: CUMPLE | G41: =IF(B40=$L$7,$L$17,$L$18) -> 0
A42: RESULTADO DE LA EVALUACIÓN | B42: NO HABILITADO | G42: =IF(C41=$L$7,$L$17,$L$18) -> 0
G43: =SUM(G17:G42) -> #REF!

Sheet 4. FUNDACION ALBERTO MERANI
L3: PERSONA NATURAL
L4: PERSONA JURIDICA
J6: SI | K6: PRESENTA | L6: CUMPLE | M6: REQUIERE | N6: NO REQUIERE | O6: APLICA | P6: HABILITADO
J7: NO | K7: NO PRESENTA | L7: NO CUMPLE | M7: NO REQUIERE | N7: CUMPLE | O7: NO APLICA | P7: NO HABILITADO
A8: ='[1]Acta de cierre y listado'!IS4512 -> LICITACIÓN PÚBLICA SIC | C8: ='[1]Acta de cierre y listado'!IT4512 -> 9 DE 2020 | K8: NO APLICA | L8: NO APLICA | N8: NO CUMPLE
A9: ANÁLISIS JURÍDICO
A10: PRESUPUESTO OFICIAL: | D10: 1237778663
A11: FECHA DE CIERRE | F11: ='[1]Acta de cierre y listado'!D12 -> 43980
A12: NOMBRE DEL PROPONENTE | I12: Valor Asegurado | J12: =ROUNDDOWN(F10*10%,0) -> 0
A13: PERSONA JURIDICA
A14: ='[1]Acta de cierre y listado'!D22 -> FUNDACION INTERNACIONAL DE PEDAGOGIA CONCEPTUAL ALBERTO MERANI | I14: 30 | J14: =DAYS360(F11,B21) -> -3
A15: REQUISITOS JURÍDICOS - CONTENIDO SOBRE 1 | B15: REQUERIMIENTO | D15: OBSERVACIÓN
A16: 1.- PRESENTACIÓN DE LA PROPUESTA (ANEXO 1 ) | B16: SI | C16: =IF(B16=$J$6,$L$6,IF(B16=$J$7,$L$7,IF(B16=$I$7,#REF!))) -> CUMPLE
A17: 1.1. Firma el Representante Legal, suplente, apoderado o avalista | B17: SI | C17: =IF(B17=$J$6,$L$6,IF(B17=$J$7,$L$7,IF(B17=$I$7,#REF!))) -> CUMPLE | G17: =IF(C16=$L$7,$L$17,$L$18) -> 0 | I17: 91 | J17: =DAYS360(F11,B32)+3 -> 109 | L17: 1
A18: 1.2 Cedula de ciudadania | B18: SI | C18: =IF(B18=$J$6,$L$6,IF(B18=$J$7,$L$7,IF(B18=$I$7,#REF!))) -> CUMPLE | G18: =IF(C17=$L$7,$L$17,$L$18) -> 0 | L18: 0
A19: 1.3. Certificado de vigencia de matricula profesional. (En procesos de obra) | B19: NO APLICA | G19: =IF(C18=$L$7,$L$17,$L$18) -> 0 | I19: 0
A20: 2.- CERTIFICADO DE EXISTENCIA Y REPRESENTACIÓN LEGAL O MATRICULA MERCANTIL PERSONA NATURAL (30 DÍAS DE EXPEDICIÓN) | B20: FECHA DE EXPEDICIÓN | C20: CUMPLE | G20: =IF(#REF!=$L$7,$L$17,$L$18) -> #REF!
B21: 43977 | G21: =IF(C20=$L$7,$L$17,$L$18) -> 0
A22: 2.1. Objeto Social de la Firma (RELACIONADO CON EL OBJETO A CONTRATAR) | B22: CUMPLE
A23: 2.2- Autorización del organo Competente | B23: NO REQUIERE | G23: =IF(B22=$L$7,$L$17,$L$18) -> 0
A24: 2.3 Agrega poder para presentar la propuesta | B24: NO REQUIERE | G24: =IF(B23=$L$7,$L$17,$L$18) -> 0
A25: 3.- CERTIFICACIÓN DE PAGOS DE SEGURIDAD SOCIAL Y PARAFISCALES PERSONA JURÍDICA O PERSONA NATURAL. | B25: CUMPLE | G25: =IF(B24=$L$7,$L$17,$L$18) -> 0
A26: 4. ANTECEDENTES DE LA PROCURADURÍA | B26: PRESENTA | C26: CUMPLE | G26: =IF(B25=$L$7,$L$17,$L$18) -> 0
A27: 5.- BOLETÍN DE RESPONSABLES FISCALES - CGR | B27: PRESENTA | C27: CUMPLE | G27: =IF(C26=$L$7,$L$17,$L$18) -> 0
A28: 6.ANTECEDENTES JUDICIALES | B28: PRESENTA | C28: CUMPLE | G28: =IF(C27=$L$7,$L$17,$L$18) -> 0
A29: 7. REGISTRO ÚNICO DE PROPONENTES. Inscrito, Renovado y en Firme. | B29: FECHA DE EXPEDICIÓN | C29: CUMPLE | G29: =IF(C28=$L$7,$L$17,$L$18) -> 0
A30: 7.1.Fecha de Expedición | B30: 43977 | G30: =IF(C29=$L$7,$L$17,$L$18) -> 0
A31: 8. GARANTIA DE SERIEDAD DE LA OFERTA | B31: PRESENTA
A32: 8.1. Vigencia Hasta | B32: 44089 | C32: =IF(B31=O7,L8,IF($J$17<$I$17,$L$7,$L$6)) -> CUMPLE
A33: 8.2. Valor Asegurado | B33: 1.2377787e+08 | C33: =IF(B31=O7,L8,IF(B33<$J$12,$L$7,$L$6)) -> CUMPLE | G33: =IF(C32=$L$7,$L$17,$L$18) -> 0
A34: 9. COMPROMISO ANTICORRUPCIÓN | B34: CUMPLE | G34: =IF(C33=$L$7,$L$17,$L$18) -> 0
A35: 10.CERTIFICADO DE PARTICIPACIÓN INDEPENDIENTE DEL PROPONENTE | B35: CUMPLE | G35: =IF(B34=$L$7,$L$17,$L$18) -> 0
A36: 11. DOCUMENTO DE CONSTITUCIÓN UNION TEMPORAL O CONSORCIO | B36: NO REQUIERE | G36: =IF(B35=$L$7,$L$17,$L$18) -> 0
A37: 11.1. Duración de la Unión Temporal o Consorcio | B37: NO REQUIERE | G37: =IF(B36=$L$7,$L$17,$L$18) -> 0
A38: 12. MANIFESTACION DE INTERES | B38: NO REQUIERE | G38: =IF(B37=$L$7,$L$17,$L$18) -> 0
A39: 13. RUT | B39: PRESENTA | C39: CUMPLE
A40: 14. ACREDITACION MIPYME | B40: CUMPLE | D40: Acredita su calidad de Mediana Empresa (clasificación RUP) | G40: =IF(C39=$L$7,$L$17,$L$18) -> 0
A41: 15. CERTIFICACION BANCARIA (No mayor a 60 días) | B41: PRESENTA | C41: CUMPLE | G41: =IF(B40=$L$7,$L$17,$L$18) -> 0
A42: RESULTADO DE LA EVALUACIÓN | B42: HABILITADO | G42: =IF(C41=$L$7,$L$17,$L$18) -> 0
G43: =SUM(G17:G42) -> #REF!

Sheet 5. EDISTRIBUTION SAS
L3: PERSONA NATURAL
L4: PERSONA JURIDICA
J6: SI | K6: PRESENTA | L6: CUMPLE | M6: REQUIERE | N6: NO REQUIERE | O6: APLICA | P6: HABILITADO
J7: NO | K7: NO PRESENTA | L7: NO CUMPLE | M7: NO REQUIERE | N7: CUMPLE | O7: NO APLICA | P7: NO HABILITADO
A8: ='Acta de cierre y listado'!IS4512 -> LICITACIÓN PÚBLICA SIC | C8: ='Acta de cierre y listado'!IT4512 -> 9 DE 2020 | K8: NO APLICA | L8: NO APLICA | N8: NO CUMPLE
A9: ANÁLISIS JURÍDICO
A10: PRESUPUESTO OFICIAL: | D10: 1237778663
A11: FECHA DE CIERRE | F11: ='Acta de cierre y listado'!D12 -> 43980
A12: NOMBRE DEL PROPONENTE | I12: Valor Asegurado | J12: =ROUNDDOWN(F10*10%,0) -> 0
A13: PERSONA JURIDICA
A14: ='Acta de cierre y listado'!D23 -> E DISTRIBUTION S.A.S | I14: 30 | J14: =DAYS360(F11,B21) -> -15
A15: REQUISITOS JURÍDICOS - CONTENIDO SOBRE 1 | B15: REQUERIMIENTO | D15: OBSERVACIÓN
A16: 1.- PRESENTACIÓN DE LA PROPUESTA (ANEXO 1 ) | B16: SI | C16: =IF(B16=$J$6,$L$6,IF(B16=$J$7,$L$7,IF(B16=$I$7,#REF!))) -> CUMPLE
A17: 1.1. Firma el Representante Legal, suplente, apoderado o avalista | B17: SI | C17: =IF(B17=$J$6,$L$6,IF(B17=$J$7,$L$7,IF(B17=$I$7,#REF!))) -> CUMPLE | G17: =IF(C16=$L$7,$L$17,$L$18) -> 0 | I17: 91 | J17: =DAYS360(F11,B32)+3 -> 95 | L17: 1
A18: 1.2 Cedula de ciudadania | B18: SI | C18: =IF(B18=$J$6,$L$6,IF(B18=$J$7,$L$7,IF(B18=$I$7,#REF!))) -> CUMPLE | G18: =IF(C17=$L$7,$L$17,$L$18) -> 0 | L18: 0
A19: 1.3. Certificado de vigencia de matricula profesional. (En procesos de obra) | B19: NO APLICA | G19: =IF(C18=$L$7,$L$17,$L$18) -> 0 | I19: 0
A20: 2.- CERTIFICADO DE EXISTENCIA Y REPRESENTACIÓN LEGAL O MATRICULA MERCANTIL PERSONA NATURAL (30 DÍAS DE EXPEDICIÓN) | B20: FECHA DE EXPEDICIÓN | C20: CUMPLE | G20: =IF(#REF!=$L$7,$L$17,$L$18) -> #REF!
B21: 43965 | G21: =IF(C20=$L$7,$L$17,$L$18) -> 0
A22: 2.1. Objeto Social de la Firma (RELACIONADO CON EL OBJETO A CONTRATAR) | B22: CUMPLE
A23: 2.2- Autorización del organo Competente | B23: NO REQUIERE | G23: =IF(B22=$L$7,$L$17,$L$18) -> 0
A24: 2.3 Agrega poder para presentar la propuesta | B24: NO REQUIERE | G24: =IF(B23=$L$7,$L$17,$L$18) -> 0
A25: 3.- CERTIFICACIÓN DE PAGOS DE SEGURIDAD SOCIAL Y PARAFISCALES PERSONA JURÍDICA O PERSONA NATURAL. | B25: CUMPLE | G25: =IF(B24=$L$7,$L$17,$L$18) -> 0
A26: 4. ANTECEDENTES DE LA PROCURADURÍA | B26: PRESENTA | C26: CUMPLE | G26: =IF(B25=$L$7,$L$17,$L$18) -> 0
A27: 5.- BOLETÍN DE RESPONSABLES FISCALES - CGR | B27: PRESENTA | C27: CUMPLE | G27: =IF(C26=$L$7,$L$17,$L$18) -> 0
A28: 6.ANTECEDENTES JUDICIALES | B28: PRESENTA | C28: CUMPLE | G28: =IF(C27=$L$7,$L$17,$L$18) -> 0
A29: 7. REGISTRO ÚNICO DE PROPONENTES. Inscrito, Renovado y en Firme. | B29: FECHA DE EXPEDICIÓN | C29: CUMPLE | G29: =IF(C28=$L$7,$L$17,$L$18) -> 0
A30: 7.1.Fecha de Expedición | B30: 43965 | G30: =IF(C29=$L$7,$L$17,$L$18) -> 0
A31: 8. GARANTIA DE SERIEDAD DE LA OFERTA | B31: PRESENTA
A32: 8.1. Vigencia Hasta | B32: 44074 | C32: =IF(B31=O7,L8,IF($J$17<$I$17,$L$7,$L$6)) -> CUMPLE
A33: 8.2. Valor Asegurado | B33: $ 123.777,866.30 | C33: =IF(B31=O7,L8,IF(B33<$J$12,$L$7,$L$6)) -> CUMPLE | G33: =IF(C32=$L$7,$L$17,$L$18) -> 0
A34: 9. COMPROMISO ANTICORRUPCIÓN | B34: CUMPLE | G34: =IF(C33=$L$7,$L$17,$L$18) -> 0
A35: 10.CERTIFICADO DE PARTICIPACIÓN INDEPENDIENTE DEL PROPONENTE | B35: CUMPLE | G35: =IF(B34=$L$7,$L$17,$L$18) -> 0
A36: 11. DOCUMENTO DE CONSTITUCIÓN UNION TEMPORAL O CONSORCIO | B36: NO REQUIERE | G36: =IF(B35=$L$7,$L$17,$L$18) -> 0
A37: 11.1. Duración de la Unión Temporal o Consorcio | B37: NO REQUIERE | G37: =IF(B36=$L$7,$L$17,$L$18) -> 0
A38: 12. MANIFESTACION DE INTERES | B38: NO REQUIERE | G38: =IF(B37=$L$7,$L$17,$L$18) -> 0
A39: 13. RUT | B39: PRESENTA | C39: CUMPLE
A40: 14. ACREDITACION MIPYME | B40: NO REQUIERE | D40: Clasificada como Mediana Empresa | G40: =IF(C39=$L$7,$L$17,$L$18) -> 0
A41: 15. CERTIFICACION BANCARIA (No mayor a 60 días) | B41: PRESENTA | C41: NO CUMPLE | D41: La certificación no cumple con el término requerido de expedicion, plasmado en el numeral 1.15 de los Requisitos Juridicos Habilitantes | G41: =IF(B40=$L$7,$L$17,$L$18) -> 0
A42: RESULTADO DE LA EVALUACIÓN | B42: NO HABILITADO | G42: =IF(C41=$L$7,$L$17,$L$18) -> 1
G43: =SUM(G17:G42) -> #REF!

Sheet 6. ASESORIA Y GESTION CIA SAS
L3: PERSONA NATURAL
L4: PERSONA JURIDICA
J6: SI | K6: PRESENTA | L6: CUMPLE | M6: REQUIERE | N6: NO REQUIERE | O6: APLICA | P6: HABILITADO
J7: NO | K7: NO PRESENTA | L7: NO CUMPLE | M7: NO REQUIERE | N7: CUMPLE | O7: NO APLICA | P7: NO HABILITADO
A8: ='Acta de cierre y listado'!IS4512 -> LICITACIÓN PÚBLICA SIC | C8: ='Acta de cierre y listado'!IT4512 -> 9 DE 2020 | K8: NO APLICA | L8: NO APLICA | N8: NO CUMPLE
A9: ANÁLISIS JURÍDICO
A10: PRESUPUESTO OFICIAL: | D10: 1237778663
A11: FECHA DE CIERRE | F11: ='Acta de cierre y listado'!D12 -> 43980
A12: NOMBRE DEL PROPONENTE | I12: Valor Asegurado | J12: =ROUNDDOWN(F10*10%,0) -> 0
A13: PERSONA JURIDICA
A14: ='Acta de cierre y listado'!D24 -> ASESORIA Y GESTION CIA S.A.S | I14: 30 | J14: =DAYS360(F11,B21) -> -8
A15: REQUISITOS JURÍDICOS - CONTENIDO SOBRE 1 | B15: REQUERIMIENTO | D15: OBSERVACIÓN
A16: 1.- PRESENTACIÓN DE LA PROPUESTA (ANEXO 1 ) | B16: SI | C16: =IF(B16=$J$6,$L$6,IF(B16=$J$7,$L$7,IF(B16=$I$7,#REF!))) -> CUMPLE
A17: 1.1. Firma el Representante Legal, suplente, apoderado o avalista | B17: SI | C17: =IF(B17=$J$6,$L$6,IF(B17=$J$7,$L$7,IF(B17=$I$7,#REF!))) -> CUMPLE | G17: =IF(C16=$L$7,$L$17,$L$18) -> 0 | I17: 91 | J17: =DAYS360(F11,B32)+3 -> 94 | L17: 1
A18: 1.2 Cedula de ciudadania | B18: SI | C18: =IF(B18=$J$6,$L$6,IF(B18=$J$7,$L$7,IF(B18=$I$7,#REF!))) -> CUMPLE | G18: =IF(C17=$L$7,$L$17,$L$18) -> 0 | L18: 0
A19: 1.3. Certificado de vigencia de matricula profesional. (En procesos de obra) | B19: NO APLICA | G19: =IF(C18=$L$7,$L$17,$L$18) -> 0 | I19: 0
A20: 2.- CERTIFICADO DE EXISTENCIA Y REPRESENTACIÓN LEGAL O MATRICULA MERCANTIL PERSONA NATURAL (30 DÍAS DE EXPEDICIÓN) | B20: FECHA DE EXPEDICIÓN | C20: CUMPLE | G20: =IF(#REF!=$L$7,$L$17,$L$18) -> #REF!
B21: 43972 | G21: =IF(C20=$L$7,$L$17,$L$18) -> 0
A22: 2.1. Objeto Social de la Firma (RELACIONADO CON EL OBJETO A CONTRATAR) | B22: CUMPLE
A23: 2.2- Autorización del organo Competente | B23: NO REQUIERE | G23: =IF(B22=$L$7,$L$17,$L$18) -> 0
A24: 2.3 Agrega poder para presentar la propuesta | B24: NO REQUIERE | G24: =IF(B23=$L$7,$L$17,$L$18) -> 0
A25: 3.- CERTIFICACIÓN DE PAGOS DE SEGURIDAD SOCIAL Y PARAFISCALES PERSONA JURÍDICA O PERSONA NATURAL. | B25: CUMPLE | G25: =IF(B24=$L$7,$L$17,$L$18) -> 0
A26: 4. ANTECEDENTES DE LA PROCURADURÍA | B26: PRESENTA | C26: CUMPLE | G26: =IF(B25=$L$7,$L$17,$L$18) -> 0
A27: 5.- BOLETÍN DE RESPONSABLES FISCALES - CGR | B27: PRESENTA | C27: CUMPLE | G27: =IF(C26=$L$7,$L$17,$L$18) -> 0
A28: 6.ANTECEDENTES JUDICIALES | B28: NO PRESENTA | C28: CUMPLE | D28: Verificado por la Entidad | G28: =IF(C27=$L$7,$L$17,$L$18) -> 0
A29: 7. REGISTRO ÚNICO DE PROPONENTES. Inscrito, Renovado y en Firme. | B29: FECHA DE EXPEDICIÓN | C29: CUMPLE | G29: =IF(C28=$L$7,$L$17,$L$18) -> 0
A30: 7.1.Fecha de Expedición | B30: 43972 | G30: =IF(C29=$L$7,$L$17,$L$18) -> 0
A31: 8. GARANTIA DE SERIEDAD DE LA OFERTA | B31: PRESENTA
A32: 8.1. Vigencia Hasta | B32: 44073 | C32: =IF(B31=O7,L8,IF($J$17<$I$17,$L$7,$L$6)) -> CUMPLE
A33: 8.2. Valor Asegurado | B33: $ 123.777.866.30 | C33: =IF(B31=O7,L8,IF(B33<$J$12,$L$7,$L$6)) -> CUMPLE | G33: =IF(C32=$L$7,$L$17,$L$18) -> 0
A34: 9. COMPROMISO ANTICORRUPCIÓN | B34: CUMPLE | G34: =IF(C33=$L$7,$L$17,$L$18) -> 0
A35: 10.CERTIFICADO DE PARTICIPACIÓN INDEPENDIENTE DEL PROPONENTE | B35: CUMPLE | G35: =IF(B34=$L$7,$L$17,$L$18) -> 0
A36: 11. DOCUMENTO DE CONSTITUCIÓN UNION TEMPORAL O CONSORCIO | B36: NO REQUIERE | G36: =IF(B35=$L$7,$L$17,$L$18) -> 0
A37: 11.1. Duración de la Unión Temporal o Consorcio | B37: NO REQUIERE | G37: =IF(B36=$L$7,$L$17,$L$18) -> 0
A38: 12. MANIFESTACION DE INTERES | B38: NO REQUIERE | G38: =IF(B37=$L$7,$L$17,$L$18) -> 0
A39: 13. RUT | B39: PRESENTA | C39: CUMPLE
A40: 14. ACREDITACION MIPYME | B40: NO REQUIERE | D40: Clasificada como Mediana Empresa | G40: =IF(C39=$L$7,$L$17,$L$18) -> 0
A41: 15. CERTIFICACION BANCARIA (No mayor a 60 días) | B41: PRESENTA | C41: CUMPLE | G41: =IF(B40=$L$7,$L$17,$L$18) -> 0
A42: RESULTADO DE LA EVALUACIÓN | B42: HABILITADO | G42: =IF(C41=$L$7,$L$17,$L$18) -> 0
G43: =SUM(G17:G42) -> #REF!

Sheet 7. UT HAPPY - EDUMEDIA
L3: PERSONA NATURAL
L4: PERSONA JURÍDICA
J6: SI | K6: PRESENTA | L6: CUMPLE | M6: REQUIERE | N6: NO REQUIERE | O6: APLICA | P6: HABILITADO
J7: NO | K7: NO PRESENTA | L7: NO CUMPLE | M7: NO REQUIERE | N7: CUMPLE | O7: NO APLICA | P7: NO HABILITADO
A8: ='Acta de cierre y listado'!IS4512 -> LICITACIÓN PÚBLICA SIC | C8: ='Acta de cierre y listado'!IT4512 -> 9 DE 2020 | K8: NO APLICA | L8: NO APLICA | N8: NO CUMPLE
A9: ANÁLISIS JURÍDICO
A10: PRESUPUESTO OFICIAL: | D10: 1237778663
A11: FECHA DE CIERRE | F11: ='Acta de cierre y listado'!D12 -> 43980
A12: NOMBRE DEL PROPONENTE | I12: Valor Asegurado | J12: =ROUNDDOWN(F10*10%,0) -> 0
A13: PERSONA JURÍDICA
A14: ='Acta de cierre y listado'!D25 -> UNION TEMPORAL VIRTUALIZACION HAPPY - EDUMEDIA | I14: 30 | J14: =DAYS360(F11,B22) -> -3
A15: INTEGRANTE: HAPPY SOLUTION S.A.S
A16: REQUISITOS JURÍDICOS - CONTENIDO SOBRE 1 | B16: REQUERIMIENTO | D16: OBSERVACIÓN
A17: 1.- PRESENTACIÓN DE LA PROPUESTA (ANEXO 1 ) | B17: SI | C17: =IF(B17=$J$6,$L$6,IF(B17=$J$7,$L$7,IF(B17=$I$7,#REF!))) -> CUMPLE
A18: 1.1. Firma el Representante Legal, suplente, apoderado o avalista | B18: SI | C18: =IF(B18=$J$6,$L$6,IF(B18=$J$7,$L$7,IF(B18=$I$7,#REF!))) -> CUMPLE | G18: =IF(C17=$L$7,$L$18,$L$19) -> 0 | I18: 91 | J18: =DAYS360(F11,B33)+3 -> 102 | L18: 1
A19: 1.2 Cedula de ciudadanía | B19: SI | C19: =IF(B19=$J$6,$L$6,IF(B19=$J$7,$L$7,IF(B19=$I$7,#REF!))) -> CUMPLE | G19: =IF(C18=$L$7,$L$18,$L$19) -> 0 | L19: 0
A20: 1.3. Certificado de vigencia de matricula profesional. (En procesos de obra) | B20: NO APLICA | G20: =IF(C19=$L$7,$L$18,$L$19) -> 0 | I20: 0
A21: 2.- CERTIFICADO DE EXISTENCIA Y REPRESENTACIÓN LEGAL O MATRICULA MERCANTIL PERSONA NATURAL (30 DÍAS DE EXPEDICIÓN) | B21: FECHA DE EXPEDICIÓN | C21: CUMPLE | G21: =IF(#REF!=$L$7,$L$18,$L$19) -> #REF!
B22: 43977 | G22: =IF(C21=$L$7,$L$18,$L$19) -> 0
A23: 2.1. Objeto Social de la Firma (RELACIONADO CON EL OBJETO A CONTRATAR) | B23: CUMPLE
A24: 2.2- Autorización del órgano Competente | B24: NO REQUIERE | G24: =IF(B23=$L$7,$L$18,$L$19) -> 0
A25: 2.3 Agrega poder para presentar la propuesta | B25: NO REQUIERE | G25: =IF(B24=$L$7,$L$18,$L$19) -> 0
A26: 3.- CERTIFICACIÓN DE PAGOS DE SEGURIDAD SOCIAL Y PARAFISCALES PERSONA JURÍDICA O PERSONA NATURAL. | B26: NO CUMPLE | D26: La certificación no cumple con lo señalado en el numeral 6 de los Requisitos Habilitantes Jurídicos, ya que quien la suscribe no se encuentra inscrita en el certificado de existencia y representación legal aportado | G26: =IF(B25=$L$7,$L$18,$L$19) -> 0
A27: 4. ANTECEDENTES DE LA PROCURADURÍA | B27: PRESENTA | C27: CUMPLE | G27: =IF(B26=$L$7,$L$18,$L$19) -> 1
A28: 5.- BOLETÍN DE RESPONSABLES FISCALES - CGR | B28: PRESENTA | C28: CUMPLE | G28: =IF(C27=$L$7,$L$18,$L$19) -> 0
A29: 6.ANTECEDENTES JUDICIALES | B29: PRESENTA | C29: CUMPLE | G29: =IF(C28=$L$7,$L$18,$L$19) -> 0
A30: 7. REGISTRO ÚNICO DE PROPONENTES. Inscrito, Renovado y en Firme. | B30: FECHA DE EXPEDICIÓN | C30: CUMPLE | G30: =IF(C29=$L$7,$L$18,$L$19) -> 0
A31: 7.1.Fecha de Expedición | B31: 43977 | G31: =IF(C30=$L$7,$L$18,$L$19) -> 0
A32: 8. GARANTÍA DE SERIEDAD DE LA OFERTA | B32: PRESENTA
A33: 8.1. Vigencia Hasta | B33: 44082 | C33: =IF(B32=O7,L8,IF($J$18<$I$18,$L$7,$L$6)) -> CUMPLE
A34: 8.2. Valor Asegurado | B34: $ 123.777.866.30 | C34: =IF(B32=O7,L8,IF(B34<$J$12,$L$7,$L$6)) -> CUMPLE | G34: =IF(C33=$L$7,$L$18,$L$19) -> 0
A35: 9. COMPROMISO ANTICORRUPCIÓN | B35: NO CUMPLE | D35: De acuerdo con lo señalado en el numeral 11 de los Requisitos Jurídicos Habilitantes, se debe allegar la certificación firmada por todos y cada uno de los integrantes de la Unión Temporal | G35: =IF(C34=$L$7,$L$18,$L$19) -> 0
A36: 10.CERTIFICADO DE PARTICIPACIÓN INDEPENDIENTE DEL PROPONENTE | B36: NO CUMPLE | D36: De acuerdo con lo señalado en el numeral 12 de los Requisitos Jurídicos Habilitantes, se debe allegar la certificación firmada por todos y cada uno de los integrantes de la Unión Temporal | G36: =IF(B35=$L$7,$L$18,$L$19) -> 1
A37: 11. DOCUMENTO DE CONSTITUCIÓN UNIÓN TEMPORAL O CONSORCIO | B37: CUMPLE | G37: =IF(B36=$L$7,$L$18,$L$19) -> 1
A38: 11.1. Duración de la Unión Temporal o Consorcio | B38: CUMPLE | G38: =IF(B37=$L$7,$L$18,$L$19) -> 0
A39: 12. MANIFESTACIÓN DE INTERÉS | B39: NO REQUIERE | G39: =IF(B38=$L$7,$L$18,$L$19) -> 0
A40: 13. RUT | B40: PRESENTA | C40: CUMPLE
A41: 14. ACREDITACIÓN MIPYME | B41: NO REQUIERE | D41: Clasificada como Pequeña Empresa | G41: =IF(C40=$L$7,$L$18,$L$19) -> 0
A42: 15. CERTIFICACIÓN BANCARIA (No mayor a 60 días) | B42: PRESENTA | C42: CUMPLE | G42: =IF(B41=$L$7,$L$18,$L$19) -> 0
A43: RESULTADO DE LA EVALUACIÓN | B43: NO HABILITADO | G43: =IF(C42=$L$7,$L$18,$L$19) -> 0
G44: =SUM(G18:G43) -> #REF!
A45: NOMBRE DEL PROPONENTE
A46: PERSONA JURÍDICA | G46: NOMBRE DEL PROPONENTE
A47: UNION TEMPORAL VIRTUALIZACION HAPPY - EDUMEDIA | G47: PERSONA JURÍDICA
A48: INTEGRANTE: EDUMEDIA S.A.S | G48: ='Acta de cierre y listado'!D25 -> UNION TEMPORAL VIRTUALIZACION HAPPY - EDUMEDIA
A49: REQUISITOS JURÍDICOS - CONTENIDO SOBRE 1 | B49: REQUERIMIENTO | D49: OBSERVACIÓN | G49: INTEGRANTE: SERVIMEDIOS S.A.S.
A50: 1.- PRESENTACIÓN DE LA PROPUESTA (ANEXO 1 ) | B50: SI | C50: =IF(B50=$J$6,$L$6,IF(B50=$J$7,$L$7,IF(B50=$I$7,#REF!))) -> CUMPLE | G50: REQUISITOS JURÍDICOS - CONTENIDO SOBRE 1 | H50: REQUERIMIENTO | J50: OBSERVACIÓN
A51: 1.1. Firma el Representante Legal, suplente, apoderado o avalista | B51: SI | C51: =IF(B51=$J$6,$L$6,IF(B51=$J$7,$L$7,IF(B51=$I$7,#REF!))) -> CUMPLE | G51: 1.- PRESENTACIÓN DE LA PROPUESTA (ANEXO 1 ) | H51: SI | I51: =IF(H51=$J$6,$L$6,IF(H51=$J$7,$L$7,IF(H51=$I$7,#REF!))) -> CUMPLE
A52: 1.2 Cedula de ciudadanía | B52: SI | C52: =IF(B52=$J$6,$L$6,IF(B52=$J$7,$L$7,IF(B52=$I$7,#REF!))) -> CUMPLE | G52: 1.1. Firma el Representante Legal, suplente, apoderado o avalista | H52: SI | I52: =IF(H52=$J$6,$L$6,IF(H52=$J$7,$L$7,IF(H52=$I$7,#REF!))) -> CUMPLE
A53: 1.3. Certificado de vigencia de matricula profesional. (En procesos de obra) | B53: NO APLICA | G53: 1.2 Cedula de ciudadanía | H53: SI | I53: =IF(H53=$J$6,$L$6,IF(H53=$J$7,$L$7,IF(H53=$I$7,#REF!))) -> CUMPLE
A54: 2.- CERTIFICADO DE EXISTENCIA Y REPRESENTACIÓN LEGAL O MATRICULA MERCANTIL PERSONA NATURAL (30 DÍAS DE EXPEDICIÓN) | B54: FECHA DE EXPEDICIÓN | C54: CUMPLE | G54: 1.3. Certificado de vigencia de matricula profesional. (En procesos de obra) | H54: NO APLICA
B55: 43977 | G55: 1.4 Agrega poder para presentar la propuesta | H55: NO REQUIERE
A56: 2.1. Objeto Social de la Firma (RELACIONADO CON EL OBJETO A CONTRATAR) | B56: CUMPLE | G56: 2.- CERTIFICADO DE EXISTENCIA Y REPRESENTACIÓN LEGAL O MATRICULA MERCANTIL PERSONA NATURAL (30 DÍAS DE EXPEDICIÓN) | H56: FECHA DE EXPEDICIÓN | I56: CUMPLE
A57: 2.2- Autorización del órgano Competente | B57: NO REQUIERE | H57: 43927
A58: 2.3 Agrega poder para presentar la propuesta | B58: NO REQUIERE | G58: 2.1. Objeto Social de la Firma (RELACIONADO CON EL OBJETO A CONTRATAR) | H58: CUMPLE
A59: 3.- CERTIFICACIÓN DE PAGOS DE SEGURIDAD SOCIAL Y PARAFISCALES PERSONA JURÍDICA O PERSONA NATURAL. | B59: CUMPLE | G59: 2.2- Autorización del órgano Competente | H59: NO REQUIERE
A60: 4. ANTECEDENTES DE LA PROCURADURÍA | B60: PRESENTA | C60: CUMPLE | G60: 2.3 Agrega poder para presentar la propuesta | H60: NO REQUIERE
A61: 5.- BOLETÍN DE RESPONSABLES FISCALES - CGR | B61: PRESENTA | C61: CUMPLE | G61: 3.- CERTIFICACIÓN DE PAGOS DE SEGURIDAD SOCIAL Y PARAFISCALES PERSONA JURÍDICA O PERSONA NATURAL. | H61: NO CUMPLE | J61: SE DEBE DILIGENCIAR EL ANEXO No. 7 CONFORME EL ANEXO QUE SE ENCUENTRA PUBLICADO.
A62: 6.ANTECEDENTES JUDICIALES | B62: PRESENTA | C62: CUMPLE | G62: 4. ANTECEDENTES DE LA PROCURADURÍA | H62: PRESENTA | I62: CUMPLE | J62: VERIFICADO POR LA ENTIDAD
A63: 7. REGISTRO ÚNICO DE PROPONENTES. Inscrito, Renovado y en Firme. | B63: FECHA DE EXPEDICIÓN | C63: CUMPLE | G63: 5.- BOLETÍN DE RESPONSABLES FISCALES - CGR | H63: PRESENTA | I63: CUMPLE | J63: VERIFICADO POR LA ENTIDAD
A64: 7.1.Fecha de Expedición | B64: 43977 | G64: 6.ANTECEDENTES JUDICIALES | H64: PRESENTA | I64: CUMPLE | J64: VERIFICADO POR LA ENTIDAD
A65: 8. GARANTÍA DE SERIEDAD DE LA OFERTA | B65: PRESENTA | G65: 7. REGISTRO ÚNICO DE PROPONENTES. Inscrito, Renovado y en Firme. | H65: FECHA DE EXPEDICIÓN | I65: CUMPLE
A66: 8.1. Vigencia Hasta | B66: 44082 | C66: =IF(B65=O40,L41,IF($J$18<$I$18,$L$7,$L$6)) -> CUMPLE | G66: 7.1.Fecha de Expedición | H66: 43941
A67: 8.2. Valor Asegurado | B67: $ 123.777.866.30 | C67: =IF(B65=O40,L41,IF(B67<$J$12,$L$7,$L$6)) -> CUMPLE | G67: 8. GARANTÍA DE SERIEDAD DE LA OFERTA | H67: PRESENTA
A68: 9. COMPROMISO ANTICORRUPCIÓN | B68: NO CUMPLE | D68: De acuerdo con lo señalado en el numeral 11 de los Requisitos Jurídicos Habilitantes, se debe allegar la certificación firmada por todos y cada uno de los integrantes de la Unión Temporal | G68: 8.1. Vigencia Hasta | H68: 44065 | I68: =IF(H67=O41,L42,IF($J$18<$I$18,$L$7,$L$6)) -> CUMPLE
A69: 10.CERTIFICADO DE PARTICIPACIÓN INDEPENDIENTE DEL PROPONENTE | B69: NO CUMPLE | D69: De acuerdo con lo señalado en el numeral 12 de los Requisitos Jurídicos Habilitantes, se debe allegar la certificación firmada por todos y cada uno de los integrantes de la Unión Temporal | G69: 8.2. Valor Asegurado | H69: 175690000 | I69: =IF(H67=O41,L42,IF(H69<$J$12,$L$7,$L$6)) -> CUMPLE
A70: 11. DOCUMENTO DE CONSTITUCIÓN UNIÓN TEMPORAL O CONSORCIO | B70: CUMPLE | G70: 9. COMPROMISO ANTICORRUPCIÓN | H70: CUMPLE
A71: 11.1. Duración de la Unión Temporal o Consorcio | B71: CUMPLE | G71: 10.CERTIFICADO DE PARTICIPACIÓN INDEPENDIENTE DEL PROPONENTE | H71: CUMPLE
A72: 12. MANIFESTACIÓN DE INTERÉS | B72: NO REQUIERE | G72: 11. DOCUMENTO DE CONSTITUCIÓN UNIÓN TEMPORAL O CONSORCIO | H72: CUMPLE
A73: 13. RUT | B73: PRESENTA | C73: CUMPLE | G73: 11.1. Duración de la Unión Temporal o Consorcio | H73: CUMPLE
A74: 14. ACREDITACIÓN MIPYME | B74: NO REQUIERE | D74: Clasificada como Pequeña Empresa | G74: 12. MANIFESTACIÓN DE INTERÉS | H74: NO REQUIERE
A75: 15. CERTIFICACIÓN BANCARIA (No mayor a 60 días) | B75: NO PRESENTA | C75: CUMPLE | G75: 13. RUT | H75: PRESENTA | I75: CUMPLE
A76: RESULTADO DE LA EVALUACIÓN | B76: NO HABILITADO | G76: 14. ACREDITACIÓN MIPYME | H76: CUMPLE | J76: ACREDITA COMO MEDIANA EMPRESA
G77: 15. CERTIFICACIÓN BANCARIA (No mayor a 60 días) | H77: PRESENTA | I77: CUMPLE
G78: RESULTADO DE LA EVALUACIÓN | H78: =IF($G$44=R52,$P$6,$P$7) -> #REF!

Sheet 8. UNION TEMPORAL POLI T&T (2)
L3: PERSONA NATURAL
L4: PERSONA JURIDICA
J6: SI | K6: PRESENTA | L6: CUMPLE | M6: REQUIERE | N6: NO REQUIERE | O6: APLICA | P6: HABILITADO
J7: NO | K7: NO PRESENTA | L7: NO CUMPLE | M7: NO REQUIERE | N7: CUMPLE | O7: NO APLICA | P7: NO HABILITADO
A8: ='Acta de cierre y listado'!IS4512 -> LICITACIÓN PÚBLICA SIC | C8: ='Acta de cierre y listado'!IT4512 -> 9 DE 2020 | K8: NO APLICA | L8: NO APLICA | N8: NO CUMPLE
A9: ANÁLISIS JURÍDICO
A10: PRESUPUESTO OFICIAL: | D10: 1237778663
A11: FECHA DE CIERRE | F11: ='Acta de cierre y listado'!D12 -> 43980
A12: NOMBRE DEL PROPONENTE | I12: Valor Asegurado | J12: =ROUNDDOWN(F10*10%,0) -> 0
A13: PERSONA JURIDICA
A14: ='Acta de cierre y listado'!D26 -> UNION TEMPORAL POLI T&T | I14: 30 | J14: =DAYS360(F11,B22) -> -10
A15: INTEGRANTE: TEACHING AND TUTORING T&T COLLEGE DE COLOMBIA S.A.S
A16: REQUISITOS JURÍDICOS - CONTENIDO SOBRE 1 | B16: REQUERIMIENTO | D16: OBSERVACIÓN
A17: 1.- PRESENTACIÓN DE LA PROPUESTA (ANEXO 1 ) | B17: SI | C17: =IF(B17=$J$6,$L$6,IF(B17=$J$7,$L$7,IF(B17=$I$7,$I$20))) -> CUMPLE | G17: =IF(C17=$L$7,$L$17,$L$18) -> 0 | I17: 91 | J17: =DAYS360(F11,B33)+3 -> 100 | L17: 1
A18: 1.1. Firma el Representante Legal, suplente, apoderado o avalista | B18: SI | C18: =IF(B18=$J$6,$L$6,IF(B18=$J$7,$L$7,IF(B18=$I$7,$I$20))) -> CUMPLE | G18: =IF(C18=$L$7,$L$17,$L$18) -> 0 | L18: 0
A19: 1.2 Cedula de ciudadania | B19: SI | C19: =IF(B19=$J$6,$L$6,IF(B19=$J$7,$L$7,IF(B19=$I$7,$I$20))) -> CUMPLE | G19: =IF(C19=$L$7,$L$17,$L$18) -> 0 | I19: 0
A20: 1.3. Certificado de vigencia de matricula profesional. (En procesos de obra) | B20: NO APLICA | G20: =IF(B20=$L$7,$L$17,$L$18) -> 0 | I20: FALSE
A21: 2.- CERTIFICADO DE EXISTENCIA Y REPRESENTACIÓN LEGAL O MATRICULA MERCANTIL PERSONA NATURAL (30 DÍAS DE EXPEDICIÓN) | B21: FECHA DE EXPEDICIÓN | C21: CUMPLE | G21: =IF(C21=$L$7,$L$17,$L$18) -> 0
B22: 43970
A23: 2.1. Objeto Social de la Firma (RELACIONADO CON EL OBJETO A CONTRATAR) | B23: CUMPLE | G23: =IF(B23=$L$7,$L$17,$L$18) -> 0
A24: 2.2- Autorización del organo Competente | B24: NO REQUIERE | G24: =IF(B24=$L$7,$L$17,$L$18) -> 0
A25: 2.3 Agrega poder para presentar la propuesta | B25: NO REQUIERE | G25: =IF(B25=$L$7,$L$17,$L$18) -> 0
A26: 3.- CERTIFICACIÓN DE PAGOS DE SEGURIDAD SOCIAL Y PARAFISCALES PERSONA JURÍDICA O PERSONA NATURAL. | B26: CUMPLE | G26: =IF(B26=$L$7,$L$17,$L$18) -> 0
A27: 4. ANTECEDENTES DE LA PROCURADURÍA | B27: PRESENTA | C27: CUMPLE | G27: =IF(C27=$L$7,$L$17,$L$18) -> 0
A28: 5.- BOLETÍN DE RESPONSABLES FISCALES - CGR | B28: PRESENTA | C28: CUMPLE | G28: =IF(C28=$L$7,$L$17,$L$18) -> 0
A29: 6.ANTECEDENTES JUDICIALES | B29: PRESENTA | C29: CUMPLE | G29: =IF(C29=$L$7,$L$17,$L$18) -> 0
A30: 7. REGISTRO ÚNICO DE PROPONENTES. Inscrito, Renovado y en Firme. | B30: FECHA DE EXPEDICIÓN | C30: CUMPLE | G30: =IF(C30=$L$7,$L$17,$L$18) -> 0
A31: 7.1.Fecha de Expedición | B31: 43978
A32: 8. GARANTIA DE SERIEDAD DE LA OFERTA | B32: PRESENTA
A33: 8.1. Vigencia Hasta | B33: 44080 | C33: =IF(B32=O7,L8,IF($J$17<$I$17,$L$7,$L$6)) -> CUMPLE | G33: =IF(C33=$L$7,$L$17,$L$18) -> 0
A34: 8.2. Valor Asegurado | B34: $ 123.777.866.30 | C34: =IF(B32=O7,L8,IF(B34<$J$12,$L$7,$L$6)) -> CUMPLE | G34: =IF(C34=$L$7,$L$17,$L$18) -> 0
A35: 9. COMPROMISO ANTICORRUPCIÓN | B35: CUMPLE | G35: =IF(B35=$L$7,$L$17,$L$18) -> 0
A36: 10.CERTIFICADO DE PARTICIPACIÓN INDEPENDIENTE DEL PROPONENTE | B36: CUMPLE | G36: =IF(B36=$L$7,$L$17,$L$18) -> 0
A37: 11. DOCUMENTO DE CONSTITUCIÓN UNION TEMPORAL O CONSORCIO | B37: CUMPLE | G37: =IF(B37=$L$7,$L$17,$L$18) -> 0
A38: 11.1. Duración de la Unión Temporal o Consorcio | B38: CUMPLE | G38: =IF(B38=$L$7,$L$17,$L$18) -> 0
A39: 12. MANIFESTACION DE INTERES | B39: NO REQUIERE
A40: 13. RUT | B40: PRESENTA | C40: CUMPLE | G40: =IF(C40=$L$7,$L$17,$L$18) -> 0
A41: 14. ACREDITACION MIPYME | B41: NO REQUIERE | D41: Clasificada como Pequeña Empresa | G41: =IF(B41=$L$7,$L$17,$L$18) -> 0
A42: 15. CERTIFICACION BANCARIA (No mayor a 60 días) | B42: NO PRESENTA | C42: CUMPLE | G42: =IF(C42=$L$7,$L$17,$L$18) -> 0
A43: RESULTADO DE LA EVALUACIÓN | B43: =IF($G$43=L18,$P$6,$P$7) -> HABILITADO | G43: =SUM(G17:G42) -> 0
A45: NOMBRE DEL PROPONENTE
A46: PERSONA JURIDICA
A47: UNION TEMPORAL POLI T&T
A48: INTEGRANTE: POLITECNICO GRANCOLOMBIANO
A49: REQUISITOS JURÍDICOS - CONTENIDO SOBRE 1 | B49: REQUERIMIENTO | D49: OBSERVACIÓN
A50: 1.- PRESENTACIÓN DE LA PROPUESTA (ANEXO 1 ) | B50: SI | C50: =IF(B50=$J$6,$L$6,IF(B50=$J$7,$L$7,IF(B50=$I$7,$I$20))) -> CUMPLE
A51: 1.1. Firma el Representante Legal, suplente, apoderado o avalista | B51: SI | C51: =IF(B51=$J$6,$L$6,IF(B51=$J$7,$L$7,IF(B51=$I$7,$I$20))) -> CUMPLE
A52: 1.2 Cedula de ciudadania | B52: SI | C52: =IF(B52=$J$6,$L$6,IF(B52=$J$7,$L$7,IF(B52=$I$7,$I$20))) -> CUMPLE
A53: 1.3. Certificado de vigencia de matricula profesional. (En procesos de obra) | B53: NO APLICA
A54: 2.- CERTIFICADO DE EXISTENCIA Y REPRESENTACIÓN LEGAL O MATRICULA MERCANTIL PERSONA NATURAL (30 DÍAS DE EXPEDICIÓN) | B54: FECHA DE EXPEDICIÓN | C54: CUMPLE
B55: 43965
A56: 2.1. Objeto Social de la Firma (RELACIONADO CON EL OBJETO A CONTRATAR) | B56: CUMPLE
A57: 2.2- Autorización del organo Competente | B57: CUMPLE
A58: 2.3 Agrega poder para presentar la propuesta | B58: NO REQUIERE
A59: 3.- CERTIFICACIÓN DE PAGOS DE SEGURIDAD SOCIAL Y PARAFISCALES PERSONA JURÍDICA O PERSONA NATURAL. | B59: CUMPLE
A60: 4. ANTECEDENTES DE LA PROCURADURÍA | B60: PRESENTA | C60: CUMPLE
A61: 5.- BOLETÍN DE RESPONSABLES FISCALES - CGR | B61: PRESENTA | C61: CUMPLE
A62: 6.ANTECEDENTES JUDICIALES | B62: PRESENTA | C62: CUMPLE
A63: 7. REGISTRO ÚNICO DE PROPONENTES. Inscrito, Renovado y en Firme. | B63: FECHA DE EXPEDICIÓN | C63: CUMPLE
A64: 7.1.Fecha de Expedición | B64: 43972
A65: 8. GARANTIA DE SERIEDAD DE LA OFERTA | B65: PRESENTA
A66: 8.1. Vigencia Hasta | B66: 44080 | C66: =IF(B65=O40,L41,IF($J$17<$I$17,$L$7,$L$6)) -> CUMPLE
A67: 8.2. Valor Asegurado | B67: $ 123.777.866.30 | C67: =IF(B65=O40,L41,IF(B67<$J$12,$L$7,$L$6)) -> CUMPLE
A68: 9. COMPROMISO ANTICORRUPCIÓN | B68: CUMPLE
A69: 10.CERTIFICADO DE PARTICIPACIÓN INDEPENDIENTE DEL PROPONENTE | B69: CUMPLE
A70: 11. DOCUMENTO DE CONSTITUCIÓN UNION TEMPORAL O CONSORCIO | B70: CUMPLE
A71: 11.1. Duración de la Unión Temporal o Consorcio | B71: CUMPLE
A72: 12. MANIFESTACION DE INTERES | B72: NO REQUIERE
A73: 13. RUT | B73: PRESENTA | C73: CUMPLE
A74: 14. ACREDITACION MIPYME | B74: NO REQUIERE | D74: Clasificada como Gran Empresa
A75: 15. CERTIFICACION BANCARIA (No mayor a 60 días) | B75: NO PRESENTA | C75: CUMPLE
A76: RESULTADO DE LA EVALUACIÓN | B76: =IF($G$43=L51,$P$6,$P$7) -> HABILITADO

Sheet 9. COGNOSONLINE SOLUTIONS COLOM
L3: PERSONA NATURAL
L4: PERSONA JURIDICA
J6: SI | K6: PRESENTA | L6: CUMPLE | M6: REQUIERE | N6: NO REQUIERE | O6: APLICA | P6: HABILITADO
J7: NO | K7: NO PRESENTA | L7: NO CUMPLE | M7: NO REQUIERE | N7: CUMPLE | O7: NO APLICA | P7: NO HABILITADO
A8: ='Acta de cierre y listado'!IS4512 -> LICITACIÓN PÚBLICA SIC | C8: ='Acta de cierre y listado'!IT4512 -> 9 DE 2020 | K8: NO APLICA | L8: NO APLICA | N8: NO CUMPLE
A9: ANÁLISIS JURÍDICO
A10: PRESUPUESTO OFICIAL: | D10: 1237778663
A11: FECHA DE CIERRE | F11: ='Acta de cierre y listado'!D12 -> 43980
A12: NOMBRE DEL PROPONENTE | I12: Valor Asegurado | J12: =ROUNDDOWN(F10*10%,0) -> 0
A13: PERSONA JURIDICA
A14: COGNOSONLINE SOLUTIONS COLOMBIA S.A | I14: 30 | J14: =DAYS360(F11,B21) -> -18
A15: REQUISITOS JURÍDICOS - CONTENIDO SOBRE 1 | B15: REQUERIMIENTO | D15: OBSERVACIÓN
A16: 1.- PRESENTACIÓN DE LA PROPUESTA (ANEXO 1 ) | B16: SI | C16: =IF(B16=$J$6,$L$6,IF(B16=$J$7,$L$7,IF(B16=$I$7,$I$19))) -> CUMPLE | G16: =IF(C16=$L$7,$L$16,$L$17) -> 0 | I16: 91 | J16: =DAYS360(F11,B32)+3 -> 124 | L16: 1
A17: 1.1. Firma el Representante Legal, suplente, apoderado o avalista | B17: SI | C17: =IF(B17=$J$6,$L$6,IF(B17=$J$7,$L$7,IF(B17=$I$7,$I$19))) -> CUMPLE | G17: =IF(C17=$L$7,$L$16,$L$17) -> 0 | L17: 0
A18: 1.2 Cedula de ciudadania | B18: SI | C18: =IF(B18=$J$6,$L$6,IF(B18=$J$7,$L$7,IF(B18=$I$7,$I$19))) -> CUMPLE | G18: =IF(C18=$L$7,$L$16,$L$17) -> 0 | I18: 0
A19: 1.3. Certificado de vigencia de matricula profesional. (En procesos de obra) | B19: NO APLICA | G19: =IF(B19=$L$7,$L$16,$L$17) -> 0 | I19: FALSE
A20: 2.- CERTIFICADO DE EXISTENCIA Y REPRESENTACIÓN LEGAL O MATRICULA MERCANTIL PERSONA NATURAL (30 DÍAS DE EXPEDICIÓN) | B20: FECHA DE EXPEDICIÓN | C20: CUMPLE | G20: =IF(C20=$L$7,$L$16,$L$17) -> 0
B21: 43962
A22: 2.1. Objeto Social de la Firma (RELACIONADO CON EL OBJETO A CONTRATAR) | B22: CUMPLE | G22: =IF(B22=$L$7,$L$16,$L$17) -> 0
A23: 2.2- Autorización del organo Competente | B23: NO REQUIERE | G23: =IF(B23=$L$7,$L$16,$L$17) -> 0
A24: 2.3 Agrega poder para presentar la propuesta | B24: NO REQUIERE | G24: =IF(B24=$L$7,$L$16,$L$17) -> 0
A25: 3.- CERTIFICACIÓN DE PAGOS DE SEGURIDAD SOCIAL Y PARAFISCALES PERSONA JURÍDICA O PERSONA NATURAL. | B25: CUMPLE | G25: =IF(B25=$L$7,$L$16,$L$17) -> 0
A26: 4. ANTECEDENTES DE LA PROCURADURÍA | B26: PRESENTA | C26: CUMPLE | G26: =IF(C26=$L$7,$L$16,$L$17) -> 0
A27: 5.- BOLETÍN DE RESPONSABLES FISCALES - CGR | B27: PRESENTA | C27: CUMPLE | G27: =IF(C27=$L$7,$L$16,$L$17) -> 0
A28: 6.ANTECEDENTES JUDICIALES | B28: PRESENTA | C28: CUMPLE | G28: =IF(C28=$L$7,$L$16,$L$17) -> 0
A29: 7. REGISTRO ÚNICO DE PROPONENTES. Inscrito, Renovado y en Firme. | B29: FECHA DE EXPEDICIÓN | C29: CUMPLE | G29: =IF(C29=$L$7,$L$16,$L$17) -> 0
A30: 7.1.Fecha de Expedición | B30: 43962
A31: 8. GARANTIA DE SERIEDAD DE LA OFERTA | B31: PRESENTA
A32: 8.1. Vigencia Hasta | B32: 44104 | C32: =IF(B31=O7,L8,IF($J$16<$I$16,$L$7,$L$6)) -> CUMPLE | G32: =IF(C32=$L$7,$L$16,$L$17) -> 0
A33: 8.2. Valor Asegurado | B33: $ 123.777.866.30 | C33: =IF(B31=O7,L8,IF(B33<$J$12,$L$7,$L$6)) -> CUMPLE | G33: =IF(C33=$L$7,$L$16,$L$17) -> 0
A34: 9. COMPROMISO ANTICORRUPCIÓN | B34: CUMPLE | G34: =IF(B34=$L$7,$L$16,$L$17) -> 0
A35: 10.CERTIFICADO DE PARTICIPACIÓN INDEPENDIENTE DEL PROPONENTE | B35: CUMPLE | G35: =IF(B35=$L$7,$L$16,$L$17) -> 0
A36: 11. DOCUMENTO DE CONSTITUCIÓN UNION TEMPORAL O CONSORCIO | B36: NO REQUIERE | G36: =IF(B36=$L$7,$L$16,$L$17) -> 0
A37: 11.1. Duración de la Unión Temporal o Consorcio | B37: NO REQUIERE | G37: =IF(B37=$L$7,$L$16,$L$17) -> 0
A38: 12. MANIFESTACION DE INTERES | B38: NO REQUIERE
A39: 13. RUT | B39: PRESENTA | C39: CUMPLE | G39: =IF(C39=$L$7,$L$16,$L$17) -> 0
A40: 14. ACREDITACION MIPYME | B40: CUMPLE | D40: Clasificada como Gran Empresa | G40: =IF(B40=$L$7,$L$16,$L$17) -> 0
A41: 15. CERTIFICACION BANCARIA (No mayor a 60 días) | B41: PRESENTA | C41: CUMPLE | G41: =IF(C41=$L$7,$L$16,$L$17) -> 0
A42: RESULTADO DE LA EVALUACIÓN | B42: =IF($G$42=L17,$P$6,$P$7) -> HABILITADO | G42: =SUM(G16:G41) -> 0

Sheet 10. CONSORCIO AOC - PILOTO
L3: PERSONA NATURAL
L4: PERSONA JURIDICA
J6: SI | K6: PRESENTA | L6: CUMPLE | M6: REQUIERE | N6: NO REQUIERE | O6: APLICA | P6: HABILITADO
J7: NO | K7: NO PRESENTA | L7: NO CUMPLE | M7: NO REQUIERE | N7: CUMPLE | O7: NO APLICA | P7: NO HABILITADO
A8: ='Acta de cierre y listado'!IS4512 -> LICITACIÓN PÚBLICA SIC | C8: ='Acta de cierre y listado'!IT4512 -> 9 DE 2020 | K8: NO APLICA | L8: NO APLICA | N8: NO CUMPLE
A9: ANÁLISIS JURÍDICO
A10: PRESUPUESTO OFICIAL: | D10: 1237778663
A11: FECHA DE CIERRE | F11: ='Acta de cierre y listado'!D12 -> 43980
A12: NOMBRE DEL PROPONENTE | I12: Valor Asegurado | J12: =ROUNDDOWN(F10*10%,0) -> 0
A13: PERSONA JURIDICA
A14: CONSORCIO AOC - PILOTO | I14: 30 | J14: =DAYS360(F11,B22) -> -2
A15: INTEGRANTE: AVANCE ORGANIZACIONAL CONSULTORES S.A.S
A16: REQUISITOS JURÍDICOS - CONTENIDO SOBRE 1 | B16: REQUERIMIENTO | D16: OBSERVACIÓN
A17: 1.- PRESENTACIÓN DE LA PROPUESTA (ANEXO 1 ) | B17: SI | C17: =IF(B17=$J$6,$L$6,IF(B17=$J$7,$L$7,IF(B17=$I$7,$I$20))) -> CUMPLE | G17: =IF(C17=$L$7,$L$17,$L$18) -> 0 | I17: 91 | J17: =DAYS360(F11,B33)+3 -> 124 | L17: 1
A18: 1.1. Firma el Representante Legal, suplente, apoderado o avalista | B18: SI | C18: =IF(B18=$J$6,$L$6,IF(B18=$J$7,$L$7,IF(B18=$I$7,$I$20))) -> CUMPLE | G18: =IF(C18=$L$7,$L$17,$L$18) -> 0 | L18: 0
A19: 1.2 Cedula de ciudadania | B19: SI | C19: =IF(B19=$J$6,$L$6,IF(B19=$J$7,$L$7,IF(B19=$I$7,$I$20))) -> CUMPLE | G19: =IF(C19=$L$7,$L$17,$L$18) -> 0 | I19: 0
A20: 1.3. Certificado de vigencia de matricula profesional. (En procesos de obra) | B20: NO APLICA | G20: =IF(B20=$L$7,$L$17,$L$18) -> 0 | I20: FALSE
A21: 2.- CERTIFICADO DE EXISTENCIA Y REPRESENTACIÓN LEGAL O MATRICULA MERCANTIL PERSONA NATURAL (30 DÍAS DE EXPEDICIÓN) | B21: FECHA DE EXPEDICIÓN | C21: CUMPLE | G21: =IF(C21=$L$7,$L$17,$L$18) -> 0
B22: 43978
A23: 2.1. Objeto Social de la Firma (RELACIONADO CON EL OBJETO A CONTRATAR) | B23: CUMPLE | G23: =IF(B23=$L$7,$L$17,$L$18) -> 0
A24: 2.2- Autorización del organo Competente | B24: NO REQUIERE | G24: =IF(B24=$L$7,$L$17,$L$18) -> 0
A25: 2.3 Agrega poder para presentar la propuesta | B25: NO REQUIERE | G25: =IF(B25=$L$7,$L$17,$L$18) -> 0
A26: 3.- CERTIFICACIÓN DE PAGOS DE SEGURIDAD SOCIAL Y PARAFISCALES PERSONA JURÍDICA O PERSONA NATURAL. | B26: CUMPLE | G26: =IF(B26=$L$7,$L$17,$L$18) -> 0
A27: 4. ANTECEDENTES DE LA PROCURADURÍA | B27: PRESENTA | C27: CUMPLE | D27: Verificado por la Entidad | G27: =IF(C27=$L$7,$L$17,$L$18) -> 0
A28: 5.- BOLETÍN DE RESPONSABLES FISCALES - CGR | B28: PRESENTA | C28: CUMPLE | D28: Verificado por la Entidad | G28: =IF(C28=$L$7,$L$17,$L$18) -> 0
A29: 6.ANTECEDENTES JUDICIALES | B29: PRESENTA | C29: CUMPLE | D29: Verificado por la Entidad | G29: =IF(C29=$L$7,$L$17,$L$18) -> 0
A30: 7. REGISTRO ÚNICO DE PROPONENTES. Inscrito, Renovado y en Firme. | B30: FECHA DE EXPEDICIÓN | C30: CUMPLE | G30: =IF(C30=$L$7,$L$17,$L$18) -> 0
A31: 7.1.Fecha de Expedición | B31: 43978
A32: 8. GARANTIA DE SERIEDAD DE LA OFERTA | B32: PRESENTA
A33: 8.1. Vigencia Hasta | B33: 44104 | C33: =IF(B32=O7,L8,IF($J$17<$I$17,$L$7,$L$6)) -> CUMPLE | G33: =IF(C33=$L$7,$L$17,$L$18) -> 0
A34: 8.2. Valor Asegurado | B34: 123777870 | C34: =IF(B32=O7,L8,IF(B34<$J$12,$L$7,$L$6)) -> CUMPLE | G34: =IF(C34=$L$7,$L$17,$L$18) -> 0
A35: 9. COMPROMISO ANTICORRUPCIÓN | B35: CUMPLE | G35: =IF(B35=$L$7,$L$17,$L$18) -> 0
A36: 10.CERTIFICADO DE PARTICIPACIÓN INDEPENDIENTE DEL PROPONENTE | B36: CUMPLE | G36: =IF(B36=$L$7,$L$17,$L$18) -> 0
A37: 11. DOCUMENTO DE CONSTITUCIÓN UNION TEMPORAL O CONSORCIO | B37: NO CUMPLE | D37: Ver requerimientos jurídicos | G37: =IF(B37=$L$7,$L$17,$L$18) -> 1
A38: 11.1. Duración de la Unión Temporal o Consorcio | B38: CUMPLE | G38: =IF(B38=$L$7,$L$17,$L$18) -> 0
A39: 12. MANIFESTACION DE INTERES | B39: NO REQUIERE
A40: 13. RUT | B40: PRESENTA | C40: CUMPLE | G40: =IF(C40=$L$7,$L$17,$L$18) -> 0
A41: 14. ACREDITACION MIPYME | B41: CUMPLE | D41: Acredita como Pequeña Empresa | G41: =IF(B41=$L$7,$L$17,$L$18) -> 0
A42: 15. CERTIFICACION BANCARIA (No mayor a 60 días) | B42: PRESENTA | C42: CUMPLE | G42: =IF(C42=$L$7,$L$17,$L$18) -> 0
A43: RESULTADO DE LA EVALUACIÓN | B43: =IF($G$43=L18,$P$6,$P$7) -> NO HABILITADO | G43: =SUM(G17:G42) -> 1
A45: NOMBRE DEL PROPONENTE
A46: PERSONA JURIDICA
A47: CONSORCIO AOC - PILOTO
A48: INTEGRANTE: CONSULTORIA UNIVERSIDAD PILOTO DE COLOMBIA S.A.S
A49: REQUISITOS JURÍDICOS - CONTENIDO SOBRE 1 | B49: REQUERIMIENTO | D49: OBSERVACIÓN
A50: 1.- PRESENTACIÓN DE LA PROPUESTA (ANEXO 1 ) | B50: SI | C50: =IF(B50=$J$6,$L$6,IF(B50=$J$7,$L$7,IF(B50=$I$7,$I$20))) -> CUMPLE
A51: 1.1. Firma el Representante Legal, suplente, apoderado o avalista | B51: SI | C51: =IF(B51=$J$6,$L$6,IF(B51=$J$7,$L$7,IF(B51=$I$7,$I$20))) -> CUMPLE
A52: 1.2 Cedula de ciudadania | B52: SI | C52: =IF(B52=$J$6,$L$6,IF(B52=$J$7,$L$7,IF(B52=$I$7,$I$20))) -> CUMPLE
A53: 1.3. Certificado de vigencia de matricula profesional. (En procesos de obra) | B53: NO APLICA
A54: 2.- CERTIFICADO DE EXISTENCIA Y REPRESENTACIÓN LEGAL O MATRICULA MERCANTIL PERSONA NATURAL (30 DÍAS DE EXPEDICIÓN) | B54: FECHA DE EXPEDICIÓN | C54: CUMPLE
B55: 43958
A56: 2.1. Objeto Social de la Firma (RELACIONADO CON EL OBJETO A CONTRATAR) | B56: CUMPLE
A57: 2.2- Autorización del organo Competente | B57: NO REQUIERE
A58: 2.3 Agrega poder para presentar la propuesta | B58: NO REQUIERE
A59: 3.- CERTIFICACIÓN DE PAGOS DE SEGURIDAD SOCIAL Y PARAFISCALES PERSONA JURÍDICA O PERSONA NATURAL. | B59: CUMPLE
A60: 4. ANTECEDENTES DE LA PROCURADURÍA | B60: PRESENTA | C60: CUMPLE
A61: 5.- BOLETÍN DE RESPONSABLES FISCALES - CGR | B61: PRESENTA | C61: CUMPLE
A62: 6.ANTECEDENTES JUDICIALES | B62: PRESENTA | C62: CUMPLE
A63: 7. REGISTRO ÚNICO DE PROPONENTES. Inscrito, Renovado y en Firme. | B63: FECHA DE EXPEDICIÓN | C63: NO CUMPLE | D63: Ver requerimientos jurídicos
A64: 7.1.Fecha de Expedición
A65: 8. GARANTIA DE SERIEDAD DE LA OFERTA | B65: PRESENTA
A66: 8.1. Vigencia Hasta | B66: 44104 | C66: =IF(B65=O40,L41,IF($J$17<$I$17,$L$7,$L$6)) -> CUMPLE
A67: 8.2. Valor Asegurado | B67: 123777870 | C67: =IF(B65=O40,L41,IF(B67<$J$12,$L$7,$L$6)) -> CUMPLE
A68: 9. COMPROMISO ANTICORRUPCIÓN | B68: CUMPLE
A69: 10.CERTIFICADO DE PARTICIPACIÓN INDEPENDIENTE DEL PROPONENTE | B69: CUMPLE
A70: 11. DOCUMENTO DE CONSTITUCIÓN UNION TEMPORAL O CONSORCIO | B70: NO CUMPLE | D70: Ver requerimientos jurídicos
A71: 11.1. Duración de la Unión Temporal o Consorcio | B71: CUMPLE
A72: 12. MANIFESTACION DE INTERES | B72: NO REQUIERE
A73: 13. RUT | B73: PRESENTA | C73: CUMPLE
A74: 14. ACREDITACION MIPYME | B74: NO REQUIERE | D74: Acredita como Gran Empresa
A75: 15. CERTIFICACION BANCARIA (No mayor a 60 días) | B75: PRESENTA | C75: CUMPLE
A76: RESULTADO DE LA EVALUACIÓN | B76: =IF($G$43=L51,$P$6,$P$7) -> NO HABILITADO

Sheet 11. MULTIMEDIA SERVICE SAS
L3: PERSONA NATURAL
L4: PERSONA JURIDICA
J6: SI | K6: PRESENTA | L6: CUMPLE | M6: REQUIERE | N6: NO REQUIERE | O6: APLICA | P6: HABILITADO
J7: NO | K7: NO PRESENTA | L7: NO CUMPLE | M7: NO REQUIERE | N7: CUMPLE | O7: NO APLICA | P7: NO HABILITADO
A8: ='Acta de cierre y listado'!IS4512 -> LICITACIÓN PÚBLICA SIC | C8: ='Acta de cierre y listado'!IT4512 -> 9 DE 2020 | K8: NO APLICA | L8: NO APLICA | N8: NO CUMPLE
A9: ANÁLISIS JURÍDICO
A10: PRESUPUESTO OFICIAL: | D10: 1237778663
A11: FECHA DE CIERRE | F11: ='Acta de cierre y listado'!D12 -> 43980
A12: NOMBRE DEL PROPONENTE | I12: Valor Asegurado | J12: =ROUNDDOWN(F10*10%,0) -> 0
A13: PERSONA JURIDICA
A14: MULTIMEDIA SERVICE SAS | I14: 30 | J14: =DAYS360(F11,B21) -> -11
A15: REQUISITOS JURÍDICOS - CONTENIDO SOBRE 1 | B15: REQUERIMIENTO | D15: OBSERVACIÓN
A16: 1.- PRESENTACIÓN DE LA PROPUESTA (ANEXO 1 ) | B16: SI | C16: =IF(B16=$J$6,$L$6,IF(B16=$J$7,$L$7,IF(B16=$I$7,$I$19))) -> CUMPLE | G16: =IF(C16=$L$7,$L$16,$L$17) -> 0 | I16: 91 | J16: =DAYS360(F11,B32)+3 -> 123 | L16: 1
A17: 1.1. Firma el Representante Legal, suplente, apoderado o avalista | B17: SI | C17: =IF(B17=$J$6,$L$6,IF(B17=$J$7,$L$7,IF(B17=$I$7,$I$19))) -> CUMPLE | G17: =IF(C17=$L$7,$L$16,$L$17) -> 0 | L17: 0
A18: 1.2 Cedula de ciudadania | B18: SI | C18: =IF(B18=$J$6,$L$6,IF(B18=$J$7,$L$7,IF(B18=$I$7,$I$19))) -> CUMPLE | G18: =IF(C18=$L$7,$L$16,$L$17) -> 0 | I18: 0
A19: 1.3. Certificado de vigencia de matricula profesional. (En procesos de obra) | B19: NO APLICA | G19: =IF(B19=$L$7,$L$16,$L$17) -> 0 | I19: FALSE
A20: 2.- CERTIFICADO DE EXISTENCIA Y REPRESENTACIÓN LEGAL O MATRICULA MERCANTIL PERSONA NATURAL (30 DÍAS DE EXPEDICIÓN) | B20: FECHA DE EXPEDICIÓN | C20: CUMPLE | G20: =IF(C20=$L$7,$L$16,$L$17) -> 0
B21: 43969
A22: 2.1. Objeto Social de la Firma (RELACIONADO CON EL OBJETO A CONTRATAR) | B22: CUMPLE | G22: =IF(B22=$L$7,$L$16,$L$17) -> 0
A23: 2.2- Autorización del organo Competente | B23: NO REQUIERE | G23: =IF(B23=$L$7,$L$16,$L$17) -> 0
A24: 2.3 Agrega poder para presentar la propuesta | B24: NO REQUIERE | G24: =IF(B24=$L$7,$L$16,$L$17) -> 0
A25: 3.- CERTIFICACIÓN DE PAGOS DE SEGURIDAD SOCIAL Y PARAFISCALES PERSONA JURÍDICA O PERSONA NATURAL. | B25: CUMPLE | G25: =IF(B25=$L$7,$L$16,$L$17) -> 0
A26: 4. ANTECEDENTES DE LA PROCURADURÍA | B26: PRESENTA | C26: CUMPLE | G26: =IF(C26=$L$7,$L$16,$L$17) -> 0
A27: 5.- BOLETÍN DE RESPONSABLES FISCALES - CGR | B27: PRESENTA | C27: CUMPLE | G27: =IF(C27=$L$7,$L$16,$L$17) -> 0
A28: 6.ANTECEDENTES JUDICIALES | B28: PRESENTA | C28: CUMPLE | G28: =IF(C28=$L$7,$L$16,$L$17) -> 0
A29: 7. REGISTRO ÚNICO DE PROPONENTES. Inscrito, Renovado y en Firme. | B29: FECHA DE EXPEDICIÓN | C29: CUMPLE | G29: =IF(C29=$L$7,$L$16,$L$17) -> 0
A30: 7.1.Fecha de Expedición | B30: 43970
A31: 8. GARANTIA DE SERIEDAD DE LA OFERTA | B31: PRESENTA
A32: 8.1. Vigencia Hasta | B32: 44103 | C32: =IF(B31=O7,L8,IF($J$16<$I$16,$L$7,$L$6)) -> CUMPLE | G32: =IF(C32=$L$7,$L$16,$L$17) -> 0
A33: 8.2. Valor Asegurado | B33: $ 123.777.866.30 | C33: =IF(B31=O7,L8,IF(B33<$J$12,$L$7,$L$6)) -> CUMPLE | G33: =IF(C33=$L$7,$L$16,$L$17) -> 0
A34: 9. COMPROMISO ANTICORRUPCIÓN | B34: CUMPLE | G34: =IF(B34=$L$7,$L$16,$L$17) -> 0
A35: 10.CERTIFICADO DE PARTICIPACIÓN INDEPENDIENTE DEL PROPONENTE | B35: CUMPLE | G35: =IF(B35=$L$7,$L$16,$L$17) -> 0
A36: 11. DOCUMENTO DE CONSTITUCIÓN UNION TEMPORAL O CONSORCIO | B36: NO REQUIERE | G36: =IF(B36=$L$7,$L$16,$L$17) -> 0
A37: 11.1. Duración de la Unión Temporal o Consorcio | B37: NO REQUIERE | G37: =IF(B37=$L$7,$L$16,$L$17) -> 0
A38: 12. MANIFESTACION DE INTERES | B38: NO REQUIERE
A39: 13. RUT | B39: PRESENTA | C39: CUMPLE | G39: =IF(C39=$L$7,$L$16,$L$17) -> 0
A40: 14. ACREDITACION MIPYME | B40: NO REQUIERE | D40: Clasificada como Pequeña | G40: =IF(B40=$L$7,$L$16,$L$17) -> 0
A41: 15. CERTIFICACION BANCARIA (No mayor a 60 días) | B41: PRESENTA | C41: CUMPLE | G41: =IF(C41=$L$7,$L$16,$L$17) -> 0
A42: RESULTADO DE LA EVALUACIÓN | B42: =IF($G$42=L17,$P$6,$P$7) -> HABILITADO | G42: =SUM(G16:G41) -> 0

Sheet 12. GMEDIA S.A.S
L3: PERSONA NATURAL
L4: PERSONA JURIDICA
J6: SI | K6: PRESENTA | L6: CUMPLE | M6: REQUIERE | N6: NO REQUIERE | O6: APLICA | P6: HABILITADO
J7: NO | K7: NO PRESENTA | L7: NO CUMPLE | M7: NO REQUIERE | N7: CUMPLE | O7: NO APLICA | P7: NO HABILITADO
A8: ='Acta de cierre y listado'!IS4512 -> LICITACIÓN PÚBLICA SIC | C8: ='Acta de cierre y listado'!IT4512 -> 9 DE 2020 | K8: NO APLICA | L8: NO APLICA | N8: NO CUMPLE
A9: ANÁLISIS JURÍDICO
A10: PRESUPUESTO OFICIAL: | D10: 1237778663
A11: FECHA DE CIERRE | F11: ='Acta de cierre y listado'!D12 -> 43980
A12: NOMBRE DEL PROPONENTE | I12: Valor Asegurado | J12: =ROUNDDOWN(F10*10%,0) -> 0
A13: PERSONA JURIDICA
A14: GMEDIA S.A.S | I14: 30 | J14: =DAYS360(F11,B21) -> -2
A15: REQUISITOS JURÍDICOS - CONTENIDO SOBRE 1 | B15: REQUERIMIENTO | D15: OBSERVACIÓN
A16: 1.- PRESENTACIÓN DE LA PROPUESTA (ANEXO 1 ) | B16: SI | C16: =IF(B16=$J$6,$L$6,IF(B16=$J$7,$L$7,IF(B16=$I$7,$I$19))) -> CUMPLE | G16: =IF(C16=$L$7,$L$16,$L$17) -> 0 | I16: 91 | J16: =DAYS360(F11,B32)+3 -> 99 | L16: 1
A17: 1.1. Firma el Representante Legal, suplente, apoderado o avalista | B17: SI | C17: =IF(B17=$J$6,$L$6,IF(B17=$J$7,$L$7,IF(B17=$I$7,$I$19))) -> CUMPLE | G17: =IF(C17=$L$7,$L$16,$L$17) -> 0 | L17: 0
A18: 1.2 Cedula de ciudadania | B18: SI | C18: =IF(B18=$J$6,$L$6,IF(B18=$J$7,$L$7,IF(B18=$I$7,$I$19))) -> CUMPLE | G18: =IF(C18=$L$7,$L$16,$L$17) -> 0 | I18: 0
A19: 1.3. Certificado de vigencia de matricula profesional. (En procesos de obra) | B19: NO APLICA | G19: =IF(B19=$L$7,$L$16,$L$17) -> 0 | I19: FALSE
A20: 2.- CERTIFICADO DE EXISTENCIA Y REPRESENTACIÓN LEGAL O MATRICULA MERCANTIL PERSONA NATURAL (30 DÍAS DE EXPEDICIÓN) | B20: FECHA DE EXPEDICIÓN | C20: CUMPLE | G20: =IF(C20=$L$7,$L$16,$L$17) -> 0
B21: 43978
A22: 2.1. Objeto Social de la Firma (RELACIONADO CON EL OBJETO A CONTRATAR) | B22: CUMPLE | G22: =IF(B22=$L$7,$L$16,$L$17) -> 0
A23: 2.2- Autorización del organo Competente | B23: NO REQUIERE | G23: =IF(B23=$L$7,$L$16,$L$17) -> 0
A24: 2.3 Agrega poder para presentar la propuesta | B24: NO REQUIERE | G24: =IF(B24=$L$7,$L$16,$L$17) -> 0
A25: 3.- CERTIFICACIÓN DE PAGOS DE SEGURIDAD SOCIAL Y PARAFISCALES PERSONA JURÍDICA O PERSONA NATURAL. | B25: CUMPLE | G25: =IF(B25=$L$7,$L$16,$L$17) -> 0
A26: 4. ANTECEDENTES DE LA PROCURADURÍA | B26: PRESENTA | C26: CUMPLE | G26: =IF(C26=$L$7,$L$16,$L$17) -> 0
A27: 5.- BOLETÍN DE RESPONSABLES FISCALES - CGR | B27: PRESENTA | C27: CUMPLE | G27: =IF(C27=$L$7,$L$16,$L$17) -> 0
A28: 6.ANTECEDENTES JUDICIALES | B28: PRESENTA | C28: CUMPLE | G28: =IF(C28=$L$7,$L$16,$L$17) -> 0
A29: 7. REGISTRO ÚNICO DE PROPONENTES. Inscrito, Renovado y en Firme. | B29: FECHA DE EXPEDICIÓN | C29: CUMPLE | G29: =IF(C29=$L$7,$L$16,$L$17) -> 0
A30: 7.1.Fecha de Expedición | B30: 43978
A31: 8. GARANTIA DE SERIEDAD DE LA OFERTA | B31: PRESENTA
A32: 8.1. Vigencia Hasta | B32: 44079 | C32: =IF(B31=O7,L8,IF($J$16<$I$16,$L$7,$L$6)) -> CUMPLE | G32: =IF(C32=$L$7,$L$16,$L$17) -> 0
A33: 8.2. Valor Asegurado | B33: $ 123.777.866.30 | C33: =IF(B31=O7,L8,IF(B33<$J$12,$L$7,$L$6)) -> CUMPLE | G33: =IF(C33=$L$7,$L$16,$L$17) -> 0
A34: 9. COMPROMISO ANTICORRUPCIÓN | B34: CUMPLE | G34: =IF(B34=$L$7,$L$16,$L$17) -> 0
A35: 10.CERTIFICADO DE PARTICIPACIÓN INDEPENDIENTE DEL PROPONENTE | B35: CUMPLE | G35: =IF(B35=$L$7,$L$16,$L$17) -> 0
A36: 11. DOCUMENTO DE CONSTITUCIÓN UNION TEMPORAL O CONSORCIO | B36: NO REQUIERE | G36: =IF(B36=$L$7,$L$16,$L$17) -> 0
A37: 11.1. Duración de la Unión Temporal o Consorcio | B37: NO REQUIERE | G37: =IF(B37=$L$7,$L$16,$L$17) -> 0
A38: 12. MANIFESTACION DE INTERES | B38: NO REQUIERE
A39: 13. RUT | B39: PRESENTA | C39: CUMPLE | G39: =IF(C39=$L$7,$L$16,$L$17) -> 0
A40: 14. ACREDITACION MIPYME | B40: CUMPLE | D40: Acredita como Pequeña Empresa | G40: =IF(B40=$L$7,$L$16,$L$17) -> 0
A41: 15. CERTIFICACION BANCARIA (No mayor a 60 días) | B41: PRESENTA | C41: CUMPLE | G41: =IF(C41=$L$7,$L$16,$L$17) -> 0
A42: RESULTADO DE LA EVALUACIÓN | B42: =IF($G$42=L17,$P$6,$P$7) -> HABILITADO | G42: =SUM(G16:G41) -> 0

Sheet 13. GRUPO DE EXPERTOS E
L3: PERSONA NATURAL
L4: PERSONA JURIDICA
J6: SI | K6: PRESENTA | L6: CUMPLE | M6: REQUIERE | N6: NO REQUIERE | O6: APLICA | P6: HABILITADO
J7: NO | K7: NO PRESENTA | L7: NO CUMPLE | M7: NO REQUIERE | N7: CUMPLE | O7: NO APLICA | P7: NO HABILITADO
A8: ='[1]Acta de cierre y listado'!IS4512 -> LICITACIÓN PÚBLICA SIC | C8: ='[1]Acta de cierre y listado'!IT4512 -> 9 DE 2020 | K8: NO APLICA | L8: NO APLICA | N8: NO CUMPLE
A9: ANÁLISIS JURÍDICO
A10: PRESUPUESTO OFICIAL: | D10: 1237778663
A11: FECHA DE CIERRE | F11: ='[1]Acta de cierre y listado'!D12 -> 43980
A12: NOMBRE DEL PROPONENTE | I12: Valor Asegurado | J12: =ROUNDDOWN(F10*10%,0) -> 0
A13: PERSONA JURIDICA
A14: GEXTION: GRUPO DE EXPERTOS EN GESTION E INNOVACION S.A.S | I14: 30 | J14: =DAYS360(F11,B21) -> -16
A15: REQUISITOS JURÍDICOS - CONTENIDO SOBRE 1 | B15: REQUERIMIENTO | D15: OBSERVACIÓN
A16: 1.- PRESENTACIÓN DE LA PROPUESTA (ANEXO 1 ) | B16: SI | C16: =IF(B16=$J$6,$L$6,IF(B16=$J$7,$L$7,IF(B16=$I$7,$I$19))) -> CUMPLE | G16: =IF(C16=$L$7,$L$16,$L$17) -> 0 | I16: 91 | J16: =DAYS360(F11,B32)+3 -> 123 | L16: 1
A17: 1.1. Firma el Representante Legal, suplente, apoderado o avalista | B17: SI | C17: =IF(B17=$J$6,$L$6,IF(B17=$J$7,$L$7,IF(B17=$I$7,$I$19))) -> CUMPLE | G17: =IF(C17=$L$7,$L$16,$L$17) -> 0 | L17: 0
A18: 1.2 Cedula de ciudadania | B18: SI | C18: =IF(B18=$J$6,$L$6,IF(B18=$J$7,$L$7,IF(B18=$I$7,$I$19))) -> CUMPLE | G18: =IF(C18=$L$7,$L$16,$L$17) -> 0 | I18: 0
A19: 1.3. Certificado de vigencia de matricula profesional. (En procesos de obra) | B19: NO APLICA | G19: =IF(B19=$L$7,$L$16,$L$17) -> 0 | I19: FALSE
A20: 2.- CERTIFICADO DE EXISTENCIA Y REPRESENTACIÓN LEGAL O MATRICULA MERCANTIL PERSONA NATURAL (30 DÍAS DE EXPEDICIÓN) | B20: FECHA DE EXPEDICIÓN | C20: CUMPLE | G20: =IF(C20=$L$7,$L$16,$L$17) -> 0
B21: 43964
A22: 2.1. Objeto Social de la Firma (RELACIONADO CON EL OBJETO A CONTRATAR) | B22: CUMPLE | G22: =IF(B22=$L$7,$L$16,$L$17) -> 0
A23: 2.2- Autorización del organo Competente | B23: NO REQUIERE | G23: =IF(B23=$L$7,$L$16,$L$17) -> 0
A24: 2.3 Agrega poder para presentar la propuesta | B24: NO REQUIERE | G24: =IF(B24=$L$7,$L$16,$L$17) -> 0
A25: 3.- CERTIFICACIÓN DE PAGOS DE SEGURIDAD SOCIAL Y PARAFISCALES PERSONA JURÍDICA O PERSONA NATURAL. | B25: CUMPLE | G25: =IF(B25=$L$7,$L$16,$L$17) -> 0
A26: 4. ANTECEDENTES DE LA PROCURADURÍA | B26: PRESENTA | C26: CUMPLE | G26: =IF(C26=$L$7,$L$16,$L$17) -> 0
A27: 5.- BOLETÍN DE RESPONSABLES FISCALES - CGR | B27: PRESENTA | C27: CUMPLE | G27: =IF(C27=$L$7,$L$16,$L$17) -> 0
A28: 6.ANTECEDENTES JUDICIALES | B28: PRESENTA | C28: CUMPLE | G28: =IF(C28=$L$7,$L$16,$L$17) -> 0
A29: 7. REGISTRO ÚNICO DE PROPONENTES. Inscrito, Renovado y en Firme. | B29: FECHA DE EXPEDICIÓN | C29: CUMPLE | G29: =IF(C29=$L$7,$L$16,$L$17) -> 0
A30: 7.1.Fecha de Expedición | B30: 43964
A31: 8. GARANTIA DE SERIEDAD DE LA OFERTA | B31: PRESENTA
A32: 8.1. Vigencia Hasta | B32: 44103 | C32: =IF(B31=O7,L8,IF($J$16<$I$16,$L$7,$L$6)) -> CUMPLE | G32: =IF(C32=$L$7,$L$16,$L$17) -> 0
A33: 8.2. Valor Asegurado | B33: 1.2377787e+08 | C33: =IF(B31=O7,L8,IF(B33<$J$12,$L$7,$L$6)) -> CUMPLE | G33: =IF(C33=$L$7,$L$16,$L$17) -> 0
A34: 9. COMPROMISO ANTICORRUPCIÓN | B34: CUMPLE | G34: =IF(B34=$L$7,$L$16,$L$17) -> 0
A35: 10.CERTIFICADO DE PARTICIPACIÓN INDEPENDIENTE DEL PROPONENTE | B35: CUMPLE | G35: =IF(B35=$L$7,$L$16,$L$17) -> 0
A36: 11. DOCUMENTO DE CONSTITUCIÓN UNION TEMPORAL O CONSORCIO | B36: NO REQUIERE | G36: =IF(B36=$L$7,$L$16,$L$17) -> 0
A37: 11.1. Duración de la Unión Temporal o Consorcio | B37: NO REQUIERE | G37: =IF(B37=$L$7,$L$16,$L$17) -> 0
A38: 12. MANIFESTACION DE INTERES | B38: NO REQUIERE
A39: 13. RUT | B39: PRESENTA | C39: CUMPLE | G39: =IF(C39=$L$7,$L$16,$L$17) -> 0
A40: 14. ACREDITACION MIPYME | B40: CUMPLE | D40: Clasificada como Mediana Empresa. | G40: =IF(B40=$L$7,$L$16,$L$17) -> 0
A41: 15. CERTIFICACION BANCARIA (No mayor a 60 días) | B41: PRESENTA | C41: NO CUMPLE | D41: Presenta certificación del 23 de enero de 2020, siendo mayor a 60 días | G41: =IF(C41=$L$7,$L$16,$L$17) -> 1
A42: RESULTADO DE LA EVALUACIÓN | B42: =IF($G$42=L17,$P$6,$P$7) -> NO HABILITADO | G42: =SUM(G16:G41) -> 1

Sheet 14. UT VIRTUALIZACION CONTENIDO
L3: PERSONA NATURAL
L4: PERSONA JURIDICA
J6: SI | K6: PRESENTA | L6: CUMPLE | M6: REQUIERE | N6: NO REQUIERE | O6: APLICA | P6: HABILITADO
J7: NO | K7: NO PRESENTA | L7: NO CUMPLE | M7: NO REQUIERE | N7: CUMPLE | O7: NO APLICA | P7: NO HABILITADO
A8: ='Acta de cierre y listado'!IS4512 -> LICITACIÓN PÚBLICA SIC | C8: ='Acta de cierre y listado'!IT4512 -> 9 DE 2020 | K8: NO APLICA | L8: NO APLICA | N8: NO CUMPLE
A9: ANÁLISIS JURÍDICO
A10: PRESUPUESTO OFICIAL: | D10: 1237778663
A11: FECHA DE CIERRE | F11: ='Acta de cierre y listado'!D12 -> 43980
A12: NOMBRE DEL PROPONENTE | I12: Valor Asegurado | J12: =ROUNDDOWN(F10*10%,0) -> 0
A13: PERSONA JURIDICA
A14: UNION TEMPORAL VIRTUALIZACION CONTENIDOS SIC 2020 | I14: 30 | J14: =DAYS360(F11,B22) -> -11
A15: INTEGRANTE: E TRAINING S.A.S - EN REORGANIZACION
A16: REQUISITOS JURÍDICOS - CONTENIDO SOBRE 1 | B16: REQUERIMIENTO | D16: OBSERVACIÓN
A17: 1.- PRESENTACIÓN DE LA PROPUESTA (ANEXO 1 ) | B17: SI | C17: =IF(B17=$J$6,$L$6,IF(B17=$J$7,$L$7,IF(B17=$I$7,$I$20))) -> CUMPLE | G17: =IF(C17=$L$7,$L$17,$L$18) -> 0 | I17: 91 | J17: =DAYS360(F11,B33)+3 -> 155 | L17: 1
A18: 1.1. Firma el Representante Legal, suplente, apoderado o avalista | B18: SI | C18: =IF(B18=$J$6,$L$6,IF(B18=$J$7,$L$7,IF(B18=$I$7,$I$20))) -> CUMPLE | G18: =IF(C18=$L$7,$L$17,$L$18) -> 0 | L18: 0
A19: 1.2 Cedula de ciudadania | B19: SI | C19: =IF(B19=$J$6,$L$6,IF(B19=$J$7,$L$7,IF(B19=$I$7,$I$20))) -> CUMPLE | G19: =IF(C19=$L$7,$L$17,$L$18) -> 0 | I19: 0
A20: 1.3. Certificado de vigencia de matricula profesional. (En procesos de obra) | B20: NO APLICA | G20: =IF(B20=$L$7,$L$17,$L$18) -> 0 | I20: FALSE
A21: 2.- CERTIFICADO DE EXISTENCIA Y REPRESENTACIÓN LEGAL O MATRICULA MERCANTIL PERSONA NATURAL (30 DÍAS DE EXPEDICIÓN) | B21: FECHA DE EXPEDICIÓN | C21: CUMPLE | G21: =IF(C21=$L$7,$L$17,$L$18) -> 0
B22: 43969
A23: 2.1. Objeto Social de la Firma (RELACIONADO CON EL OBJETO A CONTRATAR) | B23: CUMPLE | G23: =IF(B23=$L$7,$L$17,$L$18) -> 0
A24: 2.2- Autorización del organo Competente | B24: NO REQUIERE | G24: =IF(B24=$L$7,$L$17,$L$18) -> 0
A25: 2.3 Agrega poder para presentar la propuesta | B25: NO REQUIERE | G25: =IF(B25=$L$7,$L$17,$L$18) -> 0
A26: 3.- CERTIFICACIÓN DE PAGOS DE SEGURIDAD SOCIAL Y PARAFISCALES PERSONA JURÍDICA O PERSONA NATURAL. | B26: CUMPLE | G26: =IF(B26=$L$7,$L$17,$L$18) -> 0
A27: 4. ANTECEDENTES DE LA PROCURADURÍA | B27: NO PRESENTA | C27: CUMPLE | D27: Verificado por la Entidad | G27: =IF(C27=$L$7,$L$17,$L$18) -> 0
A28: 5.- BOLETÍN DE RESPONSABLES FISCALES - CGR | B28: NO PRESENTA | C28: CUMPLE | D28: verificado por la Entidad | G28: =IF(C28=$L$7,$L$17,$L$18) -> 0
A29: 6.ANTECEDENTES JUDICIALES | B29: NO PRESENTA | C29: CUMPLE | D29: Verificado por la Entidad | G29: =IF(C29=$L$7,$L$17,$L$18) -> 0
A30: 7. REGISTRO ÚNICO DE PROPONENTES. Inscrito, Renovado y en Firme. | B30: FECHA DE EXPEDICIÓN | C30: CUMPLE | G30: =IF(C30=$L$7,$L$17,$L$18) -> 0
A31: 7.1.Fecha de Expedición | B31: 43969
A32: 8. GARANTIA DE SERIEDAD DE LA OFERTA | B32: PRESENTA
A33: 8.1. Vigencia Hasta | B33: 44135 | C33: =IF(B32=O7,L8,IF($J$17<$I$17,$L$7,$L$6)) -> CUMPLE | G33: =IF(C33=$L$7,$L$17,$L$18) -> 0
A34: 8.2. Valor Asegurado | B34: 123777867 | C34: =IF(B32=O7,L8,IF(B34<$J$12,$L$7,$L$6)) -> CUMPLE | G34: =IF(C34=$L$7,$L$17,$L$18) -> 0
A35: 9. COMPROMISO ANTICORRUPCIÓN | B35: CUMPLE | G35: =IF(B35=$L$7,$L$17,$L$18) -> 0
A36: 10.CERTIFICADO DE PARTICIPACIÓN INDEPENDIENTE DEL PROPONENTE | B36: CUMPLE | G36: =IF(B36=$L$7,$L$17,$L$18) -> 0
A37: 11. DOCUMENTO DE CONSTITUCIÓN UNION TEMPORAL O CONSORCIO | B37: CUMPLE | G37: =IF(B37=$L$7,$L$17,$L$18) -> 0
A38: 11.1. Duración de la Unión Temporal o Consorcio | B38: CUMPLE | G38: =IF(B38=$L$7,$L$17,$L$18) -> 0
A39: 12. MANIFESTACION DE INTERES | B39: NO REQUIERE
A40: 13. RUT | B40: PRESENTA | C40: CUMPLE | G40: =IF(C40=$L$7,$L$17,$L$18) -> 0
A41: 14. ACREDITACION MIPYME | B41: NO REQUIERE | D41: Acredita como Mediana Empresa | G41: =IF(B41=$L$7,$L$17,$L$18) -> 0
A42: 15. CERTIFICACION BANCARIA (No mayor a 60 días) | B42: PRESENTA | C42: CUMPLE | G42: =IF(C42=$L$7,$L$17,$L$18) -> 0
A43: RESULTADO DE LA EVALUACIÓN | B43: =IF($G$43=L18,$P$6,$P$7) -> HABILITADO | G43: =SUM(G17:G42) -> 0
A45: NOMBRE DEL PROPONENTE
A46: PERSONA JURIDICA
A47: UNION TEMPORAL VIRTUALIZACION CONTENIDOS SIC 2020
A48: INTEGRANTE: SUNCOLOMBIA S.A.S
A49: REQUISITOS JURÍDICOS - CONTENIDO SOBRE 1 | B49: REQUERIMIENTO | D49: OBSERVACIÓN
A50: 1.- PRESENTACIÓN DE LA PROPUESTA (ANEXO 1 ) | B50: SI | C50: =IF(B50=$J$6,$L$6,IF(B50=$J$7,$L$7,IF(B50=$I$7,$I$20))) -> CUMPLE
A51: 1.1. Firma el Representante Legal, suplente, apoderado o avalista | B51: SI | C51: =IF(B51=$J$6,$L$6,IF(B51=$J$7,$L$7,IF(B51=$I$7,$I$20))) -> CUMPLE
A52: 1.2 Cedula de ciudadania | B52: SI | C52: =IF(B52=$J$6,$L$6,IF(B52=$J$7,$L$7,IF(B52=$I$7,$I$20))) -> CUMPLE
A53: 1.3. Certificado de vigencia de matricula profesional. (En procesos de obra) | B53: NO APLICA
A54: 2.- CERTIFICADO DE EXISTENCIA Y REPRESENTACIÓN LEGAL O MATRICULA MERCANTIL PERSONA NATURAL (30 DÍAS DE EXPEDICIÓN) | B54: FECHA DE EXPEDICIÓN | C54: CUMPLE
B55: 43955
A56: 2.1. Objeto Social de la Firma (RELACIONADO CON EL OBJETO A CONTRATAR) | B56: CUMPLE
A57: 2.2- Autorización del organo Competente | B57: NO CUMPLE | D57: El proponente no cumple con las facultades y limitaciones del representante legal plasmadas dentro del certificado de existencia y representacion legal
A58: 2.3 Agrega poder para presentar la propuesta | B58: NO REQUIERE
A59: 3.- CERTIFICACIÓN DE PAGOS DE SEGURIDAD SOCIAL Y PARAFISCALES PERSONA JURÍDICA O PERSONA NATURAL. | B59: CUMPLE
A60: 4. ANTECEDENTES DE LA PROCURADURÍA | B60: PRESENTA | C60: CUMPLE
A61: 5.- BOLETÍN DE RESPONSABLES FISCALES - CGR | B61: PRESENTA | C61: CUMPLE
A62: 6.ANTECEDENTES JUDICIALES | B62: PRESENTA | C62: CUMPLE
A63: 7. REGISTRO ÚNICO DE PROPONENTES. Inscrito, Renovado y en Firme. | B63: FECHA DE EXPEDICIÓN | C63: CUMPLE
A64: 7.1.Fecha de Expedición | B64: 43957
A65: 8. GARANTIA DE SERIEDAD DE LA OFERTA | B65: PRESENTA
A66: 8.1. Vigencia Hasta | B66: 44135 | C66: =IF(B65=O40,L41,IF($J$17<$I$17,$L$7,$L$6)) -> CUMPLE
A67: 8.2. Valor Asegurado | B67: 123777867 | C67: =IF(B65=O40,L41,IF(B67<$J$12,$L$7,$L$6)) -> CUMPLE
A68: 9. COMPROMISO ANTICORRUPCIÓN | B68: CUMPLE
A69: 10.CERTIFICADO DE PARTICIPACIÓN INDEPENDIENTE DEL PROPONENTE | B69: CUMPLE
A70: 11. DOCUMENTO DE CONSTITUCIÓN UNION TEMPORAL O CONSORCIO | B70: CUMPLE
A71: 11.1. Duración de la Unión Temporal o Consorcio | B71: CUMPLE
A72: 12. MANIFESTACION DE INTERES | B72: NO REQUIERE
A73: 13. RUT | B73: PRESENTA | C73: CUMPLE
A74: 14. ACREDITACION MIPYME | B74: NO REQUIERE | D74: Acredita como Mediana Empresa
A75: 15. CERTIFICACION BANCARIA (No mayor a 60 días) | B75: NO PRESENTA | C75: CUMPLE
A76: RESULTADO DE LA EVALUACIÓN | B76: NO HABILITADO
A78: NOMBRE DEL PROPONENTE
A79: PERSONA JURIDICA
A80: UNION TEMPORAL VIRTUALIZACION CONTENIDOS SIC 2020
A81: INTEGRANTE: SINTONIZAR MEDIOS S.A.S
A82: REQUISITOS JURÍDICOS - CONTENIDO SOBRE 1 | B82: REQUERIMIENTO | D82: OBSERVACIÓN
A83: 1.- PRESENTACIÓN DE LA PROPUESTA (ANEXO 1 ) | B83: SI | C83: =IF(B83=$J$6,$L$6,IF(B83=$J$7,$L$7,IF(B83=$I$7,$I$20))) -> CUMPLE
A84: 1.1. Firma el Representante Legal, suplente, apoderado o avalista | B84: SI | C84: =IF(B84=$J$6,$L$6,IF(B84=$J$7,$L$7,IF(B84=$I$7,$I$20))) -> CUMPLE
A85: 1.2 Cedula de ciudadania | B85: SI | C85: =IF(B85=$J$6,$L$6,IF(B85=$J$7,$L$7,IF(B85=$I$7,$I$20))) -> CUMPLE
A86: 1.3. Certificado de vigencia de matricula profesional. (En procesos de obra) | B86: NO APLICA
A87: 2.- CERTIFICADO DE EXISTENCIA Y REPRESENTACIÓN LEGAL O MATRICULA MERCANTIL PERSONA NATURAL (30 DÍAS DE EXPEDICIÓN) | B87: FECHA DE EXPEDICIÓN | C87: CUMPLE
B88: 43973
A89: 2.1. Objeto Social de la Firma (RELACIONADO CON EL OBJETO A CONTRATAR) | B89: CUMPLE
A90: 2.2- Autorización del organo Competente | B90: NO REQUIERE
A91: 2.3 Agrega poder para presentar la propuesta | B91: NO REQUIERE
A92: 3.- CERTIFICACIÓN DE PAGOS DE SEGURIDAD SOCIAL Y PARAFISCALES PERSONA JURÍDICA O PERSONA NATURAL. | B92: NO CUMPLE | D92: Proponente no aporta certificacion de acuerdo a lo establecido en el numeral 6 de los Requisitos Habilitantes Juridicos, Factores de Desempate y Causales de Rechazo
A93: 4. ANTECEDENTES DE LA PROCURADURÍA | B93: NO PRESENTA | C93: CUMPLE | D93: Verificado por la Entidad
A94: 5.- BOLETÍN DE RESPONSABLES FISCALES - CGR | B94: NO PRESENTA | C94: CUMPLE | D94: Verificado por la Entidad
A95: 6.ANTECEDENTES JUDICIALES | B95: NO PRESENTA | C95: CUMPLE | D95: Verificado por la Entidad
A96: 7. REGISTRO ÚNICO DE PROPONENTES. Inscrito, Renovado y en Firme. | B96: FECHA DE EXPEDICIÓN | C96: CUMPLE
A97: 7.1.Fecha de Expedición | B97: 43973
A98: 8. GARANTIA DE SERIEDAD DE LA OFERTA | B98: PRESENTA
A99: 8.1. Vigencia Hasta | B99: 44135 | C99: =IF(B98=O73,L74,IF($J$17<$I$17,$L$7,$L$6)) -> CUMPLE
A100: 8.2. Valor Asegurado | B100: 123777867 | C100: =IF(B98=O73,L74,IF(B100<$J$12,$L$7,$L$6)) -> CUMPLE
A101: 9. COMPROMISO ANTICORRUPCIÓN | B101: CUMPLE
A102: 10.CERTIFICADO DE PARTICIPACIÓN INDEPENDIENTE DEL PROPONENTE | B102: CUMPLE
A103: 11. DOCUMENTO DE CONSTITUCIÓN UNION TEMPORAL O CONSORCIO | B103: CUMPLE
A104: 11.1. Duración de la Unión Temporal o Consorcio | B104: CUMPLE
A105: 12. MANIFESTACION DE INTERES | B105: NO REQUIERE
...

Sheet 15. UNIVERSIDAD DEL ROSARIO
L3: PERSONA NATURAL
L4: PERSONA JURIDICA
J6: SI | K6: PRESENTA | L6: CUMPLE | M6: REQUIERE | N6: NO REQUIERE | O6: APLICA | P6: HABILITADO
J7: NO | K7: NO PRESENTA | L7: NO CUMPLE | M7: NO REQUIERE | N7: CUMPLE | O7: NO APLICA | P7: NO HABILITADO
A8: ='[1]Acta de cierre y listado'!IS4512 -> LICITACIÓN PÚBLICA SIC | C8: ='[1]Acta de cierre y listado'!IT4512 -> 9 DE 2020 | K8: NO APLICA | L8: NO APLICA | N8: NO CUMPLE
A9: ANÁLISIS JURÍDICO
A10: PRESUPUESTO OFICIAL: | D10: 1237778663
A11: FECHA DE CIERRE | F11: ='[1]Acta de cierre y listado'!D12 -> 43980
A12: NOMBRE DEL PROPONENTE | I12: Valor Asegurado | J12: =ROUNDDOWN(F10*10%,0) -> 0
A13: PERSONA JURIDICA
A14: COLEGIO MAYOR DE NUESTRA SEÑORA DEL ROSARIO | I14: 30 | J14: =DAYS360(F11,B21) -> -9
A15: REQUISITOS JURÍDICOS - CONTENIDO SOBRE 1 | B15: REQUERIMIENTO | D15: OBSERVACIÓN
A16: 1.- PRESENTACIÓN DE LA PROPUESTA (ANEXO 1 ) | B16: SI | C16: NO CUMPLE | D16: Se debe adjuntar el respectivo anexo diligenciado en los espacios correspondientes, sin modificaciones adicionales al formato inicial. | G16: =IF(C16=$L$7,$L$16,$L$17) -> 1 | I16: 91 | J16: =DAYS360(F11,B32)+3 -> 109 | L16: 1
A17: 1.1. Firma el Representante Legal, suplente, apoderado o avalista | B17: SI | C17: =IF(B17=$J$6,$L$6,IF(B17=$J$7,$L$7,IF(B17=$I$7,$I$19))) -> CUMPLE | G17: =IF(C17=$L$7,$L$16,$L$17) -> 0 | L17: 0
A18: 1.2 Cedula de ciudadania | B18: SI | C18: =IF(B18=$J$6,$L$6,IF(B18=$J$7,$L$7,IF(B18=$I$7,$I$19))) -> CUMPLE | G18: =IF(C18=$L$7,$L$16,$L$17) -> 0 | I18: 0
A19: 1.3. Certificado de vigencia de matricula profesional. (En procesos de obra) | B19: NO APLICA | G19: =IF(B19=$L$7,$L$16,$L$17) -> 0 | I19: FALSE
A20: 2.- CERTIFICADO DE EXISTENCIA Y REPRESENTACIÓN LEGAL O MATRICULA MERCANTIL PERSONA NATURAL (30 DÍAS DE EXPEDICIÓN) | B20: FECHA DE EXPEDICIÓN | C20: CUMPLE | G20: =IF(C20=$L$7,$L$16,$L$17) -> 0
B21: 43971
A22: 2.1. Objeto Social de la Firma (RELACIONADO CON EL OBJETO A CONTRATAR) | B22: CUMPLE | G22: =IF(B22=$L$7,$L$16,$L$17) -> 0
A23: 2.2- Autorización del organo Competente | B23: NO REQUIERE | G23: =IF(B23=$L$7,$L$16,$L$17) -> 0
A24: 2.3 Agrega poder para presentar la propuesta | B24: NO REQUIERE | G24: =IF(B24=$L$7,$L$16,$L$17) -> 0
A25: 3.- CERTIFICACIÓN DE PAGOS DE SEGURIDAD SOCIAL Y PARAFISCALES PERSONA JURÍDICA O PERSONA NATURAL. | B25: CUMPLE | G25: =IF(B25=$L$7,$L$16,$L$17) -> 0
A26: 4. ANTECEDENTES DE LA PROCURADURÍA | B26: PRESENTA | C26: CUMPLE | G26: =IF(C26=$L$7,$L$16,$L$17) -> 0
A27: 5.- BOLETÍN DE RESPONSABLES FISCALES - CGR | B27: PRESENTA | C27: CUMPLE | G27: =IF(C27=$L$7,$L$16,$L$17) -> 0
A28: 6.ANTECEDENTES JUDICIALES | B28: PRESENTA | C28: CUMPLE | G28: =IF(C28=$L$7,$L$16,$L$17) -> 0
A29: 7. REGISTRO ÚNICO DE PROPONENTES. Inscrito, Renovado y en Firme. | B29: FECHA DE EXPEDICIÓN | C29: CUMPLE | G29: =IF(C29=$L$7,$L$16,$L$17) -> 0
A30: 7.1.Fecha de Expedición | B30: 43972
A31: 8. GARANTIA DE SERIEDAD DE LA OFERTA | B31: PRESENTA
A32: 8.1. Vigencia Hasta | B32: 44089 | C32: =IF(B31=O7,L8,IF($J$16<$I$16,$L$7,$L$6)) -> CUMPLE | G32: =IF(C32=$L$7,$L$16,$L$17) -> 0
A33: 8.2. Valor Asegurado | B33: 1.2377787e+08 | C33: =IF(B31=O7,L8,IF(B33<$J$12,$L$7,$L$6)) -> CUMPLE | G33: =IF(C33=$L$7,$L$16,$L$17) -> 0
A34: 9. COMPROMISO ANTICORRUPCIÓN | B34: CUMPLE | G34: =IF(B34=$L$7,$L$16,$L$17) -> 0
A35: 10.CERTIFICADO DE PARTICIPACIÓN INDEPENDIENTE DEL PROPONENTE | B35: CUMPLE | G35: =IF(B35=$L$7,$L$16,$L$17) -> 0
A36: 11. DOCUMENTO DE CONSTITUCIÓN UNION TEMPORAL O CONSORCIO | B36: NO REQUIERE | G36: =IF(B36=$L$7,$L$16,$L$17) -> 0
A37: 11.1. Duración de la Unión Temporal o Consorcio | B37: NO REQUIERE | G37: =IF(B37=$L$7,$L$16,$L$17) -> 0
A38: 12. MANIFESTACION DE INTERES | B38: NO REQUIERE
A39: 13. RUT | B39: PRESENTA | C39: CUMPLE | G39: =IF(C39=$L$7,$L$16,$L$17) -> 0
A40: 14. ACREDITACION MIPYME | B40: NO REQUIERE | D40: Clasificada como Gran Empresa | G40: =IF(B40=$L$7,$L$16,$L$17) -> 0
A41: 15. CERTIFICACION BANCARIA (No mayor a 60 días) | B41: PRESENTA | C41: CUMPLE | G41: =IF(C41=$L$7,$L$16,$L$17) -> 0
A42: RESULTADO DE LA EVALUACIÓN | B42: =IF($G$42=L17,$P$6,$P$7) -> NO HABILITADO | G42: =SUM(G16:G41) -> 1

Sheet 16.SINCOTEL SOLUTIONS LTDA
L3: PERSONA NATURAL
L4: PERSONA JURIDICA
J6: SI | K6: PRESENTA | L6: CUMPLE | M6: REQUIERE | N6: NO REQUIERE | O6: APLICA | P6: HABILITADO
J7: NO | K7: NO PRESENTA | L7: NO CUMPLE | M7: NO REQUIERE | N7: CUMPLE | O7: NO APLICA | P7: NO HABILITADO
A8: ='[1]Acta de cierre y listado'!IS4512 -> LICITACIÓN PÚBLICA SIC | C8: ='[1]Acta de cierre y listado'!IT4512 -> 9 DE 2020 | K8: NO APLICA | L8: NO APLICA | N8: NO CUMPLE
A9: ANÁLISIS JURÍDICO
A10: PRESUPUESTO OFICIAL: | D10: 1237778663
A11: FECHA DE CIERRE | F11: ='[1]Acta de cierre y listado'!D12 -> 43980
A12: NOMBRE DEL PROPONENTE | I12: Valor Asegurado | J12: =ROUNDDOWN(F10*10%,0) -> 0
A13: PERSONA JURIDICA
A14: SINCOTEL SOLUTIONS LTDA | I14: 30 | J14: =DAYS360(F11,B21) -> -7
A15: REQUISITOS JURÍDICOS - CONTENIDO SOBRE 1 | B15: REQUERIMIENTO | D15: OBSERVACIÓN
A16: 1.- PRESENTACIÓN DE LA PROPUESTA (ANEXO 1 ) | B16: SI | C16: =IF(B16=$J$6,$L$6,IF(B16=$J$7,$L$7,IF(B16=$I$7,$I$19))) -> CUMPLE | G16: =IF(C16=$L$7,$L$16,$L$17) -> 0 | I16: 91 | J16: =DAYS360(F11,B32)+3 -> 123 | L16: 1
A17: 1.1. Firma el Representante Legal, suplente, apoderado o avalista | B17: SI | C17: =IF(B17=$J$6,$L$6,IF(B17=$J$7,$L$7,IF(B17=$I$7,$I$19))) -> CUMPLE | G17: =IF(C17=$L$7,$L$16,$L$17) -> 0 | L17: 0
A18: 1.2 Cedula de ciudadania | B18: SI | C18: =IF(B18=$J$6,$L$6,IF(B18=$J$7,$L$7,IF(B18=$I$7,$I$19))) -> CUMPLE | G18: =IF(C18=$L$7,$L$16,$L$17) -> 0 | I18: 0
A19: 1.3. Certificado de vigencia de matricula profesional. (En procesos de obra) | B19: NO APLICA | G19: =IF(B19=$L$7,$L$16,$L$17) -> 0 | I19: FALSE
A20: 2.- CERTIFICADO DE EXISTENCIA Y REPRESENTACIÓN LEGAL O MATRICULA MERCANTIL PERSONA NATURAL (30 DÍAS DE EXPEDICIÓN) | B20: FECHA DE EXPEDICIÓN | C20: CUMPLE | G20: =IF(C20=$L$7,$L$16,$L$17) -> 0
B21: 43973
A22: 2.1. Objeto Social de la Firma (RELACIONADO CON EL OBJETO A CONTRATAR) | B22: CUMPLE | G22: =IF(B22=$L$7,$L$16,$L$17) -> 0
A23: 2.2- Autorización del organo Competente | B23: NO REQUIERE | G23: =IF(B23=$L$7,$L$16,$L$17) -> 0
A24: 2.3 Agrega poder para presentar la propuesta | B24: NO REQUIERE | G24: =IF(B24=$L$7,$L$16,$L$17) -> 0
A25: 3.- CERTIFICACIÓN DE PAGOS DE SEGURIDAD SOCIAL Y PARAFISCALES PERSONA JURÍDICA O PERSONA NATURAL. | B25: CUMPLE | G25: =IF(B25=$L$7,$L$16,$L$17) -> 0
A26: 4. ANTECEDENTES DE LA PROCURADURÍA | B26: PRESENTA | C26: CUMPLE | G26: =IF(C26=$L$7,$L$16,$L$17) -> 0
A27: 5.- BOLETÍN DE RESPONSABLES FISCALES - CGR | B27: PRESENTA | C27: CUMPLE | G27: =IF(C27=$L$7,$L$16,$L$17) -> 0
A28: 6.ANTECEDENTES JUDICIALES | B28: PRESENTA | C28: CUMPLE | G28: =IF(C28=$L$7,$L$16,$L$17) -> 0
A29: 7. REGISTRO ÚNICO DE PROPONENTES. Inscrito, Renovado y en Firme. | B29: FECHA DE EXPEDICIÓN | C29: CUMPLE | G29: =IF(C29=$L$7,$L$16,$L$17) -> 0
A30: 7.1.Fecha de Expedición | B30: 43977
A31: 8. GARANTIA DE SERIEDAD DE LA OFERTA | B31: PRESENTA
A32: 8.1. Vigencia Hasta | B32: 44103 | C32: =IF(B31=O7,L8,IF($J$16<$I$16,$L$7,$L$6)) -> CUMPLE | G32: =IF(C32=$L$7,$L$16,$L$17) -> 0
A33: 8.2. Valor Asegurado | B33: 1.2377787e+08 | C33: =IF(B31=O7,L8,IF(B33<$J$12,$L$7,$L$6)) -> CUMPLE | G33: =IF(C33=$L$7,$L$16,$L$17) -> 0
A34: 9. COMPROMISO ANTICORRUPCIÓN | B34: CUMPLE | G34: =IF(B34=$L$7,$L$16,$L$17) -> 0
A35: 10.CERTIFICADO DE PARTICIPACIÓN INDEPENDIENTE DEL PROPONENTE | B35: CUMPLE | G35: =IF(B35=$L$7,$L$16,$L$17) -> 0
A36: 11. DOCUMENTO DE CONSTITUCIÓN UNION TEMPORAL O CONSORCIO | B36: NO REQUIERE | G36: =IF(B36=$L$7,$L$16,$L$17) -> 0
A37: 11.1. Duración de la Unión Temporal o Consorcio | B37: NO REQUIERE | G37: =IF(B37=$L$7,$L$16,$L$17) -> 0
A38: 12. MANIFESTACION DE INTERES | B38: NO REQUIERE
A39: 13. RUT | B39: PRESENTA | C39: CUMPLE | G39: =IF(C39=$L$7,$L$16,$L$17) -> 0
A40: 14. ACREDITACION MIPYME | B40: NO REQUIERE | D40: Clasificada como Pequeña Empresa. El oferente certifica dicha calidad. | G40: =IF(B40=$L$7,$L$16,$L$17) -> 0
A41: 15. CERTIFICACION BANCARIA (No mayor a 60 días) | B41: PRESENTA | C41: CUMPLE | G41: =IF(C41=$L$7,$L$16,$L$17) -> 0
A42: RESULTADO DE LA EVALUACIÓN | B42: =IF($G$42=L17,$P$6,$P$7) -> HABILITADO | G42: =SUM(G16:G41) -> 0

Sheet 17. UNIVERSIDAD EAFIT
L3: PERSONA NATURAL
L4: PERSONA JURIDICA
J6: SI | K6: PRESENTA | L6: CUMPLE | M6: REQUIERE | N6: NO REQUIERE | O6: APLICA | P6: HABILITADO
J7: NO | K7: NO PRESENTA | L7: NO CUMPLE | M7: NO REQUIERE | N7: CUMPLE | O7: NO APLICA | P7: NO HABILITADO
A8: ='[1]Acta de cierre y listado'!IS4512 -> LICITACIÓN PÚBLICA SIC | C8: ='[1]Acta de cierre y listado'!IT4512 -> 9 DE 2020 | K8: NO APLICA | L8: NO APLICA | N8: NO CUMPLE
A9: ANÁLISIS JURÍDICO
A10: PRESUPUESTO OFICIAL: | D10: 1237778663
A11: FECHA DE CIERRE | F11: ='[1]Acta de cierre y listado'!D12 -> 43980
A12: NOMBRE DEL PROPONENTE | I12: Valor Asegurado | J12: =ROUNDDOWN(F10*10%,0) -> 0
A13: PERSONA JURIDICA
A14: UNIVERSIDAD EAFIT | I14: 30 | J14: =DAYS360(F11,B21) -> -25
A15: REQUISITOS JURÍDICOS - CONTENIDO SOBRE 1 | B15: REQUERIMIENTO | D15: OBSERVACIÓN
A16: 1.- PRESENTACIÓN DE LA PROPUESTA (ANEXO 1 ) | B16: SI | C16: NO CUMPLE | D16: Se debe adjuntar el respectivo anexo diligenciado en todos los espacios correspondientes, sin modificaciones adicionales al formato inicial. | G16: =IF(C16=$L$7,$L$16,$L$17) -> 1 | I16: 91 | J16: =DAYS360(F11,B32)+3 -> 116 | L16: 1
A17: 1.1. Firma el Representante Legal, suplente, apoderado o avalista | B17: SI | C17: =IF(B17=$J$6,$L$6,IF(B17=$J$7,$L$7,IF(B17=$I$7,$I$19))) -> CUMPLE | G17: =IF(C17=$L$7,$L$16,$L$17) -> 0 | L17: 0
A18: 1.2 Cedula de ciudadania | B18: SI | C18: =IF(B18=$J$6,$L$6,IF(B18=$J$7,$L$7,IF(B18=$I$7,$I$19))) -> CUMPLE | G18: =IF(C18=$L$7,$L$16,$L$17) -> 0 | I18: 0
A19: 1.3. Certificado de vigencia de matricula profesional. (En procesos de obra) | B19: NO APLICA | G19: =IF(B19=$L$7,$L$16,$L$17) -> 0 | I19: FALSE
A20: 2.- CERTIFICADO DE EXISTENCIA Y REPRESENTACIÓN LEGAL O MATRICULA MERCANTIL PERSONA NATURAL (30 DÍAS DE EXPEDICIÓN) | B20: FECHA DE EXPEDICIÓN | C20: CUMPLE | G20: =IF(C20=$L$7,$L$16,$L$17) -> 0
B21: 43955
A22: 2.1. Objeto Social de la Firma (RELACIONADO CON EL OBJETO A CONTRATAR) | B22: CUMPLE | G22: =IF(B22=$L$7,$L$16,$L$17) -> 0
A23: 2.2- Autorización del organo Competente | B23: NO REQUIERE | D23: El oferente adjunta certificación suscrita por el Secretario General indicando que no existe limitación de contratación, de acuerdo con la cuantía para este proceso. | G23: =IF(B23=$L$7,$L$16,$L$17) -> 0
A24: 2.3 Agrega poder para presentar la propuesta | B24: NO REQUIERE | G24: =IF(B24=$L$7,$L$16,$L$17) -> 0
A25: 3.- CERTIFICACIÓN DE PAGOS DE SEGURIDAD SOCIAL Y PARAFISCALES PERSONA JURÍDICA O PERSONA NATURAL. | B25: CUMPLE | G25: =IF(B25=$L$7,$L$16,$L$17) -> 0
A26: 4. ANTECEDENTES DE LA PROCURADURÍA | B26: PRESENTA | C26: CUMPLE | G26: =IF(C26=$L$7,$L$16,$L$17) -> 0
A27: 5.- BOLETÍN DE RESPONSABLES FISCALES - CGR | B27: PRESENTA | C27: CUMPLE | G27: =IF(C27=$L$7,$L$16,$L$17) -> 0
A28: 6.ANTECEDENTES JUDICIALES | B28: PRESENTA | C28: CUMPLE | G28: =IF(C28=$L$7,$L$16,$L$17) -> 0
A29: 7. REGISTRO ÚNICO DE PROPONENTES. Inscrito, Renovado y en Firme. | B29: FECHA DE EXPEDICIÓN | C29: CUMPLE | G29: =IF(C29=$L$7,$L$16,$L$17) -> 0
A30: 7.1.Fecha de Expedición | B30: 43963
A31: 8. GARANTIA DE SERIEDAD DE LA OFERTA | B31: PRESENTA
A32: 8.1. Vigencia Hasta | B32: 44096 | C32: =IF(B31=O7,L8,IF($J$16<$I$16,$L$7,$L$6)) -> CUMPLE | G32: =IF(C32=$L$7,$L$16,$L$17) -> 0
A33: 8.2. Valor Asegurado | B33: 1.2377787e+08 | C33: =IF(B31=O7,L8,IF(B33<$J$12,$L$7,$L$6)) -> CUMPLE | G33: =IF(C33=$L$7,$L$16,$L$17) -> 0
A34: 9. COMPROMISO ANTICORRUPCIÓN | B34: CUMPLE | G34: =IF(B34=$L$7,$L$16,$L$17) -> 0
A35: 10.CERTIFICADO DE PARTICIPACIÓN INDEPENDIENTE DEL PROPONENTE | B35: CUMPLE | G35: =IF(B35=$L$7,$L$16,$L$17) -> 0
A36: 11. DOCUMENTO DE CONSTITUCIÓN UNION TEMPORAL O CONSORCIO | B36: NO REQUIERE | G36: =IF(B36=$L$7,$L$16,$L$17) -> 0
A37: 11.1. Duración de la Unión Temporal o Consorcio | B37: NO REQUIERE | G37: =IF(B37=$L$7,$L$16,$L$17) -> 0
A38: 12. MANIFESTACION DE INTERES | B38: NO REQUIERE
A39: 13. RUT | B39: PRESENTA | C39: CUMPLE | G39: =IF(C39=$L$7,$L$16,$L$17) -> 0
A40: 14. ACREDITACION MIPYME | B40: NO REQUIERE | D40: Clasificada como Gran Empresa. Además el oferente certifica no ostentar la calidad de MIPYME | G40: =IF(B40=$L$7,$L$16,$L$17) -> 0
A41: 15. CERTIFICACION BANCARIA (No mayor a 60 días) | B41: PRESENTA | C41: CUMPLE | G41: =IF(C41=$L$7,$L$16,$L$17) -> 0
A42: RESULTADO DE LA EVALUACIÓN | B42: =IF($G$42=L17,$P$6,$P$7) -> NO HABILITADO | G42: =SUM(G16:G41) -> 1

Sheet 18. ASOCIACION ASECUM
L3: PERSONA NATURAL
L4: PERSONA JURIDICA
J6: SI | K6: PRESENTA | L6: CUMPLE | M6: REQUIERE | N6: NO REQUIERE | O6: APLICA | P6: HABILITADO
J7: NO | K7: NO PRESENTA | L7: NO CUMPLE | M7: NO REQUIERE | N7: CUMPLE | O7: NO APLICA | P7: NO HABILITADO
A8: ='[1]Acta de cierre y listado'!IS4512 -> LICITACIÓN PÚBLICA SIC | C8: ='[1]Acta de cierre y listado'!IT4512 -> 9 DE 2020 | K8: NO APLICA | L8: NO APLICA | N8: NO CUMPLE
A9: ANÁLISIS JURÍDICO
A10: PRESUPUESTO OFICIAL: | D10: 1237778663
A11: FECHA DE CIERRE | F11: ='[1]Acta de cierre y listado'!D12 -> 43980
A12: NOMBRE DEL PROPONENTE | I12: Valor Asegurado | J12: =ROUNDDOWN(F10*10%,0) -> 0
A13: PERSONA JURIDICA
A14: ASOCIACION ASECUM | I14: 30 | J14: =DAYS360(F11,B21) -> -2
A15: REQUISITOS JURÍDICOS - CONTENIDO SOBRE 1 | B15: REQUERIMIENTO | D15: OBSERVACIÓN
A16: 1.- PRESENTACIÓN DE LA PROPUESTA (ANEXO 1 ) | B16: SI | C16: =IF(B16=$J$6,$L$6,IF(B16=$J$7,$L$7,IF(B16=$I$7,$I$19))) -> CUMPLE | G16: =IF(C16=$L$7,$L$16,$L$17) -> 0 | I16: 91 | J16: =DAYS360(F11,B32)+3 -> 93 | L16: 1
A17: 1.1. Firma el Representante Legal, suplente, apoderado o avalista | B17: SI | C17: =IF(B17=$J$6,$L$6,IF(B17=$J$7,$L$7,IF(B17=$I$7,$I$19))) -> CUMPLE | G17: =IF(C17=$L$7,$L$16,$L$17) -> 0 | L17: 0
A18: 1.2 Cedula de ciudadania | B18: SI | C18: =IF(B18=$J$6,$L$6,IF(B18=$J$7,$L$7,IF(B18=$I$7,$I$19))) -> CUMPLE | G18: =IF(C18=$L$7,$L$16,$L$17) -> 0 | I18: 0
A19: 1.3. Certificado de vigencia de matricula profesional. (En procesos de obra) | B19: NO APLICA | G19: =IF(B19=$L$7,$L$16,$L$17) -> 0 | I19: FALSE
A20: 2.- CERTIFICADO DE EXISTENCIA Y REPRESENTACIÓN LEGAL O MATRICULA MERCANTIL PERSONA NATURAL (30 DÍAS DE EXPEDICIÓN) | B20: FECHA DE EXPEDICIÓN | C20: CUMPLE | G20: =IF(C20=$L$7,$L$16,$L$17) -> 0
B21: 43978
A22: 2.1. Objeto Social de la Firma (RELACIONADO CON EL OBJETO A CONTRATAR) | B22: CUMPLE | G22: =IF(B22=$L$7,$L$16,$L$17) -> 0
A23: 2.2- Autorización del organo Competente | B23: NO REQUIERE | G23: =IF(B23=$L$7,$L$16,$L$17) -> 0
A24: 2.3 Agrega poder para presentar la propuesta | B24: NO REQUIERE | G24: =IF(B24=$L$7,$L$16,$L$17) -> 0
A25: 3.- CERTIFICACIÓN DE PAGOS DE SEGURIDAD SOCIAL Y PARAFISCALES PERSONA JURÍDICA O PERSONA NATURAL. | B25: CUMPLE | G25: =IF(B25=$L$7,$L$16,$L$17) -> 0
A26: 4. ANTECEDENTES DE LA PROCURADURÍA | B26: PRESENTA | C26: CUMPLE | G26: =IF(C26=$L$7,$L$16,$L$17) -> 0
A27: 5.- BOLETÍN DE RESPONSABLES FISCALES - CGR | B27: PRESENTA | C27: CUMPLE | G27: =IF(C27=$L$7,$L$16,$L$17) -> 0
A28: 6.ANTECEDENTES JUDICIALES | B28: PRESENTA | C28: CUMPLE | G28: =IF(C28=$L$7,$L$16,$L$17) -> 0
A29: 7. REGISTRO ÚNICO DE PROPONENTES. Inscrito, Renovado y en Firme. | B29: FECHA DE EXPEDICIÓN | C29: CUMPLE | G29: =IF(C29=$L$7,$L$16,$L$17) -> 0
A30: 7.1.Fecha de Expedición | B30: 43970
A31: 8. GARANTIA DE SERIEDAD DE LA OFERTA | B31: PRESENTA
A32: 8.1. Vigencia Hasta | B32: 44072 | C32: =IF(B31=O7,L8,IF($J$16<$I$16,$L$7,$L$6)) -> CUMPLE | G32: =IF(C32=$L$7,$L$16,$L$17) -> 0
A33: 8.2. Valor Asegurado | B33: 1.2377787e+08 | C33: =IF(B31=O7,L8,IF(B33<$J$12,$L$7,$L$6)) -> CUMPLE | G33: =IF(C33=$L$7,$L$16,$L$17) -> 0
A34: 9. COMPROMISO ANTICORRUPCIÓN | B34: CUMPLE | G34: =IF(B34=$L$7,$L$16,$L$17) -> 0
A35: 10.CERTIFICADO DE PARTICIPACIÓN INDEPENDIENTE DEL PROPONENTE | B35: CUMPLE | G35: =IF(B35=$L$7,$L$16,$L$17) -> 0
A36: 11. DOCUMENTO DE CONSTITUCIÓN UNION TEMPORAL O CONSORCIO | B36: NO REQUIERE | G36: =IF(B36=$L$7,$L$16,$L$17) -> 0
A37: 11.1. Duración de la Unión Temporal o Consorcio | B37: NO REQUIERE | G37: =IF(B37=$L$7,$L$16,$L$17) -> 0
A38: 12. MANIFESTACION DE INTERES | B38: NO REQUIERE
A39: 13. RUT | B39: PRESENTA | C39: CUMPLE | G39: =IF(C39=$L$7,$L$16,$L$17) -> 0
A40: 14. ACREDITACION MIPYME | B40: CUMPLE | D40: Clasificada como Pequeña Empresa. El oferente certifica dicha calidad. | G40: =IF(B40=$L$7,$L$16,$L$17) -> 0
A41: 15. CERTIFICACION BANCARIA (No mayor a 60 días) | B41: PRESENTA | C41: CUMPLE | G41: =IF(C41=$L$7,$L$16,$L$17) -> 0
A42: RESULTADO DE LA EVALUACIÓN | B42: =IF($G$42=L17,$P$6,$P$7) -> HABILITADO | G42: =SUM(G16:G41) -> 0

Sheet 19. ITO SOFTWARE S.A.S
L3: PERSONA NATURAL
L4: PERSONA JURIDICA
J6: SI | K6: PRESENTA | L6: CUMPLE | M6: REQUIERE | N6: NO REQUIERE | O6: APLICA | P6: HABILITADO
J7: NO | K7: NO PRESENTA | L7: NO CUMPLE | M7: NO REQUIERE | N7: CUMPLE | O7: NO APLICA | P7: NO HABILITADO
A8: ='[1]Acta de cierre y listado'!IS4512 -> LICITACIÓN PÚBLICA SIC | C8: ='[1]Acta de cierre y listado'!IT4512 -> 9 DE 2020 | K8: NO APLICA | L8: NO APLICA | N8: NO CUMPLE
A9: ANÁLISIS JURÍDICO
A10: PRESUPUESTO OFICIAL: | D10: 1237778663
A11: FECHA DE CIERRE | F11: ='[1]Acta de cierre y listado'!D12 -> 43980
A12: NOMBRE DEL PROPONENTE | I12: Valor Asegurado | J12: =ROUNDDOWN(F10*10%,0) -> 0
A13: PERSONA JURIDICA
A14: ITO SOFTWARE S.A.S | I14: 30 | J14: =DAYS360(F11,B21) -> -11
A15: REQUISITOS JURÍDICOS - CONTENIDO SOBRE 1 | B15: REQUERIMIENTO | D15: OBSERVACIÓN
A16: 1.- PRESENTACIÓN DE LA PROPUESTA (ANEXO 1 ) | B16: SI | C16: =IF(B16=$J$6,$L$6,IF(B16=$J$7,$L$7,IF(B16=$I$7,$I$19))) -> CUMPLE | G16: =IF(C16=$L$7,$L$16,$L$17) -> 0 | I16: 91 | J16: =DAYS360(F11,B32)+3 -> 103 | L16: 1
A17: 1.1. Firma el Representante Legal, suplente, apoderado o avalista | B17: SI | C17: =IF(B17=$J$6,$L$6,IF(B17=$J$7,$L$7,IF(B17=$I$7,$I$19))) -> CUMPLE | G17: =IF(C17=$L$7,$L$16,$L$17) -> 0 | L17: 0
A18: 1.2 Cedula de ciudadania | B18: SI | C18: =IF(B18=$J$6,$L$6,IF(B18=$J$7,$L$7,IF(B18=$I$7,$I$19))) -> CUMPLE | G18: =IF(C18=$L$7,$L$16,$L$17) -> 0 | I18: 0
A19: 1.3. Certificado de vigencia de matricula profesional. (En procesos de obra) | B19: NO APLICA | G19: =IF(B19=$L$7,$L$16,$L$17) -> 0 | I19: FALSE
A20: 2.- CERTIFICADO DE EXISTENCIA Y REPRESENTACIÓN LEGAL O MATRICULA MERCANTIL PERSONA NATURAL (30 DÍAS DE EXPEDICIÓN) | B20: FECHA DE EXPEDICIÓN | C20: CUMPLE | G20: =IF(C20=$L$7,$L$16,$L$17) -> 0
B21: 43969
A22: 2.1. Objeto Social de la Firma (RELACIONADO CON EL OBJETO A CONTRATAR) | B22: CUMPLE | G22: =IF(B22=$L$7,$L$16,$L$17) -> 0
A23: 2.2- Autorización del organo Competente | B23: NO REQUIERE | G23: =IF(B23=$L$7,$L$16,$L$17) -> 0
A24: 2.3 Agrega poder para presentar la propuesta | B24: NO REQUIERE | G24: =IF(B24=$L$7,$L$16,$L$17) -> 0
A25: 3.- CERTIFICACIÓN DE PAGOS DE SEGURIDAD SOCIAL Y PARAFISCALES PERSONA JURÍDICA O PERSONA NATURAL. | B25: CUMPLE | G25: =IF(B25=$L$7,$L$16,$L$17) -> 0
A26: 4. ANTECEDENTES DE LA PROCURADURÍA | B26: PRESENTA | C26: CUMPLE | G26: =IF(C26=$L$7,$L$16,$L$17) -> 0
A27: 5.- BOLETÍN DE RESPONSABLES FISCALES - CGR | B27: PRESENTA | C27: CUMPLE | G27: =IF(C27=$L$7,$L$16,$L$17) -> 0
A28: 6.ANTECEDENTES JUDICIALES | B28: PRESENTA | C28: CUMPLE | G28: =IF(C28=$L$7,$L$16,$L$17) -> 0
A29: 7. REGISTRO ÚNICO DE PROPONENTES. Inscrito, Renovado y en Firme. | B29: FECHA DE EXPEDICIÓN | C29: CUMPLE | G29: =IF(C29=$L$7,$L$16,$L$17) -> 0
A30: 7.1.Fecha de Expedición | B30: 43972
A31: 8. GARANTIA DE SERIEDAD DE LA OFERTA | B31: PRESENTA
A32: 8.1. Vigencia Hasta | B32: 44083 | C32: =IF(B31=O7,L8,IF($J$16<$I$16,$L$7,$L$6)) -> CUMPLE | G32: =IF(C32=$L$7,$L$16,$L$17) -> 0
A33: 8.2. Valor Asegurado | B33: 1.2377787e+08 | C33: =IF(B31=O7,L8,IF(B33<$J$12,$L$7,$L$6)) -> CUMPLE | G33: =IF(C33=$L$7,$L$16,$L$17) -> 0
A34: 9. COMPROMISO ANTICORRUPCIÓN | B34: CUMPLE | G34: =IF(B34=$L$7,$L$16,$L$17) -> 0
A35: 10.CERTIFICADO DE PARTICIPACIÓN INDEPENDIENTE DEL PROPONENTE | B35: CUMPLE | G35: =IF(B35=$L$7,$L$16,$L$17) -> 0
A36: 11. DOCUMENTO DE CONSTITUCIÓN UNION TEMPORAL O CONSORCIO | B36: NO REQUIERE | G36: =IF(B36=$L$7,$L$16,$L$17) -> 0
A37: 11.1. Duración de la Unión Temporal o Consorcio | B37: NO REQUIERE | G37: =IF(B37=$L$7,$L$16,$L$17) -> 0
A38: 12. MANIFESTACION DE INTERES | B38: NO REQUIERE
A39: 13. RUT | B39: PRESENTA | C39: CUMPLE | G39: =IF(C39=$L$7,$L$16,$L$17) -> 0
A40: 14. ACREDITACION MIPYME | B40: CUMPLE | D40: Clasificada como Mediana Empresa. El oferente certifica dicha calidad. | G40: =IF(B40=$L$7,$L$16,$L$17) -> 0
A41: 15. CERTIFICACION BANCARIA (No mayor a 60 días) | B41: PRESENTA | C41: CUMPLE | G41: =IF(C41=$L$7,$L$16,$L$17) -> 0
A42: RESULTADO DE LA EVALUACIÓN | B42: =IF($G$42=L17,$P$6,$P$7) -> HABILITADO | G42: =SUM(G16:G41) -> 0

Sheet 20. CENTRO SISTEMAS ANTIOQUIA
L3: PERSONA NATURAL
L4: PERSONA JURIDICA
J6: SI | K6: PRESENTA | L6: CUMPLE | M6: REQUIERE | N6: NO REQUIERE | O6: APLICA | P6: HABILITADO
J7: NO | K7: NO PRESENTA | L7: NO CUMPLE | M7: NO REQUIERE | N7: CUMPLE | O7: NO APLICA | P7: NO HABILITADO
A8: ='[1]Acta de cierre y listado'!IS4512 -> LICITACIÓN PÚBLICA SIC | C8: ='[1]Acta de cierre y listado'!IT4512 -> 9 DE 2020 | K8: NO APLICA | L8: NO APLICA | N8: NO CUMPLE
A9: ANÁLISIS JURÍDICO
A10: PRESUPUESTO OFICIAL: | D10: 1237778663
A11: FECHA DE CIERRE | F11: ='[1]Acta de cierre y listado'!D12 -> 43980
A12: NOMBRE DEL PROPONENTE | I12: Valor Asegurado | J12: =ROUNDDOWN(F10*10%,0) -> 0
A13: PERSONA JURIDICA
A14: CENTRO DE SISTEMAS DE ANTIOQUIA S.A.S | I14: 30 | J14: =DAYS360(F11,B21) -> -7
A15: REQUISITOS JURÍDICOS - CONTENIDO SOBRE 1 | B15: REQUERIMIENTO | D15: OBSERVACIÓN
A16: 1.- PRESENTACIÓN DE LA PROPUESTA (ANEXO 1 ) | B16: SI | C16: =IF(B16=$J$6,$L$6,IF(B16=$J$7,$L$7,IF(B16=$I$7,$I$19))) -> CUMPLE | G16: =IF(C16=$L$7,$L$16,$L$17) -> 0 | I16: 91 | J16: =DAYS360(F11,B32)+3 -> 109 | L16: 1
A17: 1.1. Firma el Representante Legal, suplente, apoderado o avalista | B17: SI | C17: =IF(B17=$J$6,$L$6,IF(B17=$J$7,$L$7,IF(B17=$I$7,$I$19))) -> CUMPLE | G17: =IF(C17=$L$7,$L$16,$L$17) -> 0 | L17: 0
A18: 1.2 Cedula de ciudadania | B18: SI | C18: =IF(B18=$J$6,$L$6,IF(B18=$J$7,$L$7,IF(B18=$I$7,$I$19))) -> CUMPLE | G18: =IF(C18=$L$7,$L$16,$L$17) -> 0 | I18: 0
A19: 1.3. Certificado de vigencia de matricula profesional. (En procesos de obra) | B19: NO APLICA | G19: =IF(B19=$L$7,$L$16,$L$17) -> 0 | I19: FALSE
A20: 2.- CERTIFICADO DE EXISTENCIA Y REPRESENTACIÓN LEGAL O MATRICULA MERCANTIL PERSONA NATURAL (30 DÍAS DE EXPEDICIÓN) | B20: FECHA DE EXPEDICIÓN | C20: CUMPLE | G20: =IF(C20=$L$7,$L$16,$L$17) -> 0
B21: 43973
A22: 2.1. Objeto Social de la Firma (RELACIONADO CON EL OBJETO A CONTRATAR) | B22: CUMPLE | G22: =IF(B22=$L$7,$L$16,$L$17) -> 0
A23: 2.2- Autorización del organo Competente | B23: NO CUMPLE | D23: Según lo establecido en el Certificado de Existencia y Representación Legal, el representante legal requiere autorización de la Asamblea General de Accionistas para la celebración de actos o contratos que sean igual o superen los mil (1000) SMMLV | G23: =IF(B23=$L$7,$L$16,$L$17) -> 1
A24: 2.3 Agrega poder para presentar la propuesta | B24: NO REQUIERE | G24: =IF(B24=$L$7,$L$16,$L$17) -> 0
A25: 3.- CERTIFICACIÓN DE PAGOS DE SEGURIDAD SOCIAL Y PARAFISCALES PERSONA JURÍDICA O PERSONA NATURAL. | B25: CUMPLE | G25: =IF(B25=$L$7,$L$16,$L$17) -> 0
A26: 4. ANTECEDENTES DE LA PROCURADURÍA | B26: PRESENTA | C26: CUMPLE | G26: =IF(C26=$L$7,$L$16,$L$17) -> 0
A27: 5.- BOLETÍN DE RESPONSABLES FISCALES - CGR | B27: PRESENTA | C27: CUMPLE | G27: =IF(C27=$L$7,$L$16,$L$17) -> 0
A28: 6.ANTECEDENTES JUDICIALES | B28: PRESENTA | C28: CUMPLE | G28: =IF(C28=$L$7,$L$16,$L$17) -> 0
A29: 7. REGISTRO ÚNICO DE PROPONENTES. Inscrito, Renovado y en Firme. | B29: FECHA DE EXPEDICIÓN | C29: CUMPLE | G29: =IF(C29=$L$7,$L$16,$L$17) -> 0
A30: 7.1.Fecha de Expedición | B30: 43950
A31: 8. GARANTIA DE SERIEDAD DE LA OFERTA | B31: PRESENTA
A32: 8.1. Vigencia Hasta | B32: 44089 | C32: =IF(B31=O7,L8,IF($J$16<$I$16,$L$7,$L$6)) -> CUMPLE | G32: =IF(C32=$L$7,$L$16,$L$17) -> 0
A33: 8.2. Valor Asegurado | B33: 1.2377787e+08 | C33: =IF(B31=O7,L8,IF(B33<$J$12,$L$7,$L$6)) -> CUMPLE | G33: =IF(C33=$L$7,$L$16,$L$17) -> 0
A34: 9. COMPROMISO ANTICORRUPCIÓN | B34: CUMPLE | G34: =IF(B34=$L$7,$L$16,$L$17) -> 0
A35: 10.CERTIFICADO DE PARTICIPACIÓN INDEPENDIENTE DEL PROPONENTE | B35: CUMPLE | G35: =IF(B35=$L$7,$L$16,$L$17) -> 0
A36: 11. DOCUMENTO DE CONSTITUCIÓN UNION TEMPORAL O CONSORCIO | B36: NO REQUIERE | G36: =IF(B36=$L$7,$L$16,$L$17) -> 0
A37: 11.1. Duración de la Unión Temporal o Consorcio | B37: NO REQUIERE | G37: =IF(B37=$L$7,$L$16,$L$17) -> 0
A38: 12. MANIFESTACION DE INTERES | B38: NO REQUIERE
A39: 13. RUT | B39: PRESENTA | C39: CUMPLE | G39: =IF(C39=$L$7,$L$16,$L$17) -> 0
A40: 14. ACREDITACION MIPYME | B40: NO REQUIERE | D40: Clasificada como Gran Empresa | G40: =IF(B40=$L$7,$L$16,$L$17) -> 0
A41: 15. CERTIFICACION BANCARIA (No mayor a 60 días) | B41: PRESENTA | C41: NO CUMPLE | D41: Presenta certificación del 10 de marzo de 2020, siendo mayor a 60 días | G41: =IF(C41=$L$7,$L$16,$L$17) -> 1
A42: RESULTADO DE LA EVALUACIÓN | B42: =IF($G$42=L17,$P$6,$P$7) -> NO HABILITADO | G42: =SUM(G16:G41) -> 2

Sheet 21. UNIVERSIDAD EAN
L3: PERSONA NATURAL
L4: PERSONA JURIDICA
J6: SI | K6: PRESENTA | L6: CUMPLE | M6: REQUIERE | N6: NO REQUIERE | O6: APLICA | P6: HABILITADO
J7: NO | K7: NO PRESENTA | L7: NO CUMPLE | M7: NO REQUIERE | N7: CUMPLE | O7: NO APLICA | P7: NO HABILITADO
A8: ='[1]Acta de cierre y listado'!IS4512 -> LICITACIÓN PÚBLICA SIC | C8: ='[1]Acta de cierre y listado'!IT4512 -> 9 DE 2020 | K8: NO APLICA | L8: NO APLICA | N8: NO CUMPLE
A9: ANÁLISIS JURÍDICO
A10: PRESUPUESTO OFICIAL: | D10: 1237778663
A11: FECHA DE CIERRE | F11: ='[1]Acta de cierre y listado'!D12 -> 43980
A12: NOMBRE DEL PROPONENTE | I12: Valor Asegurado | J12: =ROUNDDOWN(F10*10%,0) -> 0
A13: PERSONA JURIDICA
A14: UNIVERSIDAD EAN | I14: 30 | J14: =DAYS360(F11,B21) -> -29
A15: REQUISITOS JURÍDICOS - CONTENIDO SOBRE 1 | B15: REQUERIMIENTO | D15: OBSERVACIÓN
A16: 1.- PRESENTACIÓN DE LA PROPUESTA (ANEXO 1 ) | B16: SI | C16: =IF(B16=$J$6,$L$6,IF(B16=$J$7,$L$7,IF(B16=$I$7,$I$19))) -> CUMPLE | G16: =IF(C16=$L$7,$L$16,$L$17) -> 0 | I16: 91 | J16: =DAYS360(F11,B32)+3 -> 94 | L16: 1
A17: 1.1. Firma el Representante Legal, suplente, apoderado o avalista | B17: SI | C17: =IF(B17=$J$6,$L$6,IF(B17=$J$7,$L$7,IF(B17=$I$7,$I$19))) -> CUMPLE | G17: =IF(C17=$L$7,$L$16,$L$17) -> 0 | L17: 0
A18: 1.2 Cedula de ciudadania | B18: SI | C18: =IF(B18=$J$6,$L$6,IF(B18=$J$7,$L$7,IF(B18=$I$7,$I$19))) -> CUMPLE | G18: =IF(C18=$L$7,$L$16,$L$17) -> 0 | I18: 0
A19: 1.3. Certificado de vigencia de matricula profesional. (En procesos de obra) | B19: NO APLICA | G19: =IF(B19=$L$7,$L$16,$L$17) -> 0 | I19: FALSE
A20: 2.- CERTIFICADO DE EXISTENCIA Y REPRESENTACIÓN LEGAL O MATRICULA MERCANTIL PERSONA NATURAL (30 DÍAS DE EXPEDICIÓN) | B20: FECHA DE EXPEDICIÓN | C20: CUMPLE | G20: =IF(C20=$L$7,$L$16,$L$17) -> 0
B21: 43951
A22: 2.1. Objeto Social de la Firma (RELACIONADO CON EL OBJETO A CONTRATAR) | B22: CUMPLE | G22: =IF(B22=$L$7,$L$16,$L$17) -> 0
A23: 2.2- Autorización del organo Competente | B23: NO REQUIERE | G23: =IF(B23=$L$7,$L$16,$L$17) -> 0
A24: 2.3 Agrega poder para presentar la propuesta | B24: NO REQUIERE | G24: =IF(B24=$L$7,$L$16,$L$17) -> 0
A25: 3.- CERTIFICACIÓN DE PAGOS DE SEGURIDAD SOCIAL Y PARAFISCALES PERSONA JURÍDICA O PERSONA NATURAL. | B25: NO CUMPLE | D25: No se acredita la calidad de revisor fiscal dentro de la Universidad | G25: =IF(B25=$L$7,$L$16,$L$17) -> 1
A26: 4. ANTECEDENTES DE LA PROCURADURÍA | B26: PRESENTA | C26: CUMPLE | G26: =IF(C26=$L$7,$L$16,$L$17) -> 0
A27: 5.- BOLETÍN DE RESPONSABLES FISCALES - CGR | B27: PRESENTA | C27: CUMPLE | G27: =IF(C27=$L$7,$L$16,$L$17) -> 0
A28: 6.ANTECEDENTES JUDICIALES | B28: PRESENTA | C28: CUMPLE | G28: =IF(C28=$L$7,$L$16,$L$17) -> 0
A29: 7. REGISTRO ÚNICO DE PROPONENTES. Inscrito, Renovado y en Firme. | B29: FECHA DE EXPEDICIÓN | C29: CUMPLE | G29: =IF(C29=$L$7,$L$16,$L$17) -> 0
A30: 7.1.Fecha de Expedición | B30: 43973
A31: 8. GARANTIA DE SERIEDAD DE LA OFERTA | B31: PRESENTA
A32: 8.1. Vigencia Hasta | B32: 44073 | C32: =IF(B31=O7,L8,IF($J$16<$I$16,$L$7,$L$6)) -> CUMPLE | G32: =IF(C32=$L$7,$L$16,$L$17) -> 0
A33: 8.2. Valor Asegurado | B33: 1.2377787e+08 | C33: =IF(B31=O7,L8,IF(B33<$J$12,$L$7,$L$6)) -> CUMPLE | G33: =IF(C33=$L$7,$L$16,$L$17) -> 0
A34: 9. COMPROMISO ANTICORRUPCIÓN | B34: CUMPLE | G34: =IF(B34=$L$7,$L$16,$L$17) -> 0
A35: 10.CERTIFICADO DE PARTICIPACIÓN INDEPENDIENTE DEL PROPONENTE | B35: CUMPLE | G35: =IF(B35=$L$7,$L$16,$L$17) -> 0
A36: 11. DOCUMENTO DE CONSTITUCIÓN UNION TEMPORAL O CONSORCIO | B36: NO REQUIERE | G36: =IF(B36=$L$7,$L$16,$L$17) -> 0
A37: 11.1. Duración de la Unión Temporal o Consorcio | B37: NO REQUIERE | G37: =IF(B37=$L$7,$L$16,$L$17) -> 0
A38: 12. MANIFESTACION DE INTERES | B38: NO REQUIERE
A39: 13. RUT | B39: PRESENTA | C39: CUMPLE | G39: =IF(C39=$L$7,$L$16,$L$17) -> 0
A40: 14. ACREDITACION MIPYME | B40: NO REQUIERE | D40: Clasificado como Gran Empresa | G40: =IF(B40=$L$7,$L$16,$L$17) -> 0
A41: 15. CERTIFICACION BANCARIA (No mayor a 60 días) | B41: PRESENTA | C41: CUMPLE | G41: =IF(C41=$L$7,$L$16,$L$17) -> 0
A42: RESULTADO DE LA EVALUACIÓN | B42: =IF($G$42=L17,$P$6,$P$7) -> NO HABILITADO | G42: =SUM(G16:G41) -> 1

Sheet RESUMEN DE LA EVALUACIÓN
A6: CONSOLIDADO JURIDICO PRELIMINAR
A7: PROCESO | B7: LICITACION PÚBLICA SIC | D7: 9 DE 2020 | V7: =+B7 -> LICITACION PÚBLICA SIC | W7: =+D7 -> 9 DE 2020
A9: OBJETO: | B9: PRESTACIÓN DE SERVICIOS PARA VIRTUALIZAR CONTENIDOS ACADÉMICOS DE LOS TEMAS MISIONALES DE LA ENTIDAD A TRAVÉS DEL CAMPUS VIRTUAL
A11: Proponentes | B11: Nombres de los Proponentes | C11: RESULTADO PRELIMINAR
A12: 1 | B12: ='Acta de cierre y listado'!D15 -> UNION TEMPORAL GUAYACANES - CES | C12: NO HABILITADO
A13: 2 | B13: ='Acta de cierre y listado'!D20 -> UNIVERSIDAD SERGIO ARBOLEDA | C13: NO HABILITADO
A14: 3 | B14: ='Acta de cierre y listado'!D21 -> UNIVERSIDAD NACIONAL DE COLOMBIA | C14: NO HABILITADO
A15: 4 | B15: ='Acta de cierre y listado'!D22 -> FUNDACION INTERNACIONAL DE PEDAGOGIA CONCEPTUAL ALBERTO MERANI | C15: HABILITADO
A16: 5 | B16: ='Acta de cierre y listado'!D23 -> E DISTRIBUTION S.A.S | C16: NO HABILITADO
A17: 6 | B17: ='Acta de cierre y listado'!D24 -> ASESORIA Y GESTION CIA S.A.S | C17: HABILITADO
A18: 7 | B18: ='Acta de cierre y listado'!D25 -> UNION TEMPORAL VIRTUALIZACION HAPPY - EDUMEDIA | C18: NO HABILITADO
A19: 8 | B19: ='Acta de cierre y listado'!D26 -> UNION TEMPORAL POLI T&T | C19: HABILITADO
A20: 9 | B20: COGNOSONLINE SOLUTIONS COLOMBIA S.A | C20: HABILITADO
A21: 10 | B21: CONSORCIO AOC - PILOTO | C21: NO HABILITADO
A22: 11 | B22: MULTIMEDIA SERVICE S.A.S | C22: HABILITADO
A23: 12 | B23: GMEDIA S.A.S | C23: HABILITADO
A24: 13 | B24: GEXTION: GRUPO DE EXPERTOS EN GESTION E INNOVACION S.A.S | C24: NO HABILITADO
A25: 14 | B25: UNION TEMPORAL VIRTUALIZACION CONTENIDOS SIC 2020 | C25: NO HABILITADO
A26: 15 | B26: COLEGIO MAYOR DE NUESTRA SEÑORA DEL ROSARIO | C26: NO HABILITADO
A27: 16 | B27: SINCOTEL SOLUTIONS LTDA | C27: HABILITADO
A28: 17 | B28: UNIVERSIDAD EAFIT | C28: NO HABILITADO
A29: 18 | B29: ASOCIACION ASECUM | C29: HABILITADO
A30: 19 | B30: ITO SOFTWARE S.A.S | C30: HABILITADO
A31: 20 | B31: CENTRO DE SISTEMAS DE ANTIOQUIA S.A.S | C31: NO HABILITADO
A32: 21 | B32: UNIVERSIDAD EAN | C32: NO HABILITADO
A35: En constancia de lo anterior se firma en Bogotá D.C., | C35: 43994
A38: Proyectó: | B38: ALVARO JOSE RODRIGUEZ DANGOND
B39: Abogado Grupo de Trabajo de Contratación
AF41: ACE SEGUROS S.A.
AF42: ASEGURADORA COLSEGUROS S. A.
AF43: ASEGURADORA SOLIDARIA DE COLOMBIA LTDA. ENTIDAD COOPERATIVA SOLIDARIA
AF44: BBVA SEGUROS COLOMBIA S.A. / BBVA SEGUROS
AF45: CARDIF COLOMBIA SEGUROS GENERALES S.A.
AF46: CHARTIS SEGUROS COLOMBIA S.A. / CHARTIS COLOMBIA / CHARTIS SEGUROS / CHARTIS
AF47: CHUBB DE COLOMBIA COMPAÑÍA DE SEGUROS S.A.
AF48: COMPAÑÍA ASEGURADORA DE FIANZAS S.A., CONFIANZA / CONFIANZA S.A.
AF49: COMPAÑÍA DE SEGUROS BOLÍVAR S.A.
AF50: COMPAÑÍA MUNDIAL DE SEGUROS S.A.
AF51: CÓNDOR S.A. COMPAÑÍA DE SEGUROS GENERALES
AF52: ECO SEGUROS S.A.
... AF70: BERKLEY SEGUROS
IP4517: GERMAN GIOVANNI GONGORA
IP4518: NORMA CONSTANZA GOMEZ
IP4519: ANDRES FELIPE RAMIREZ
IP4520: ANGIE CARDENAS
IP4521: JOSE WILSON ROJAS
IP4522: YOLIMA ACERO
IM4523: LICITACIÓN PÚBLICA SIC | IP4523: JORGE MARIO HERNANDEZ
IM4524: CONCURSO DE MERITOS SIC | IP4524: JUAN DAVID LOZANO | IR4524: =+B7 -> LICITACION PÚBLICA SIC | IS4524: =+D7 -> 9 DE 2020
IM4525: SELECCIÓN ABREVIADA SUBASTA INVERSA SIC | IP4525: NICKY LAURA ECHEVERRY
IM4526: SELECCIÓN ABREVIADA MENOR CUANTÍA SIC | IP4526: NELLY ESPERANZA CONTRERAS
IM4527: MINIMA CUANTÍA SIC | IP4527: CAROLINA DEL PILAR TORRES
IP4528: EDWIN ROMERO ROMERO
IP4529: JORGE ARIEL HERRERA
IP4530: MARCELO BARRETO DAZA
