Workbook
Name _AFC1: [1]INV!$A$25:$D$28
Name _AFC3: [1]INV!$F$25:$I$28
Name _AFC5: [1]INV!$K$25:$N$28
Name _BGC1: [1]INV!$A$5:$D$8
Name _BGC3: [1]INV!$F$5:$I$8
Name _BGC5: [1]INV!$K$5:$N$8
Name _CAC1: [1]INV!$A$19:$D$22
Name _CAC3: [1]INV!$F$19:$I$22
Name _CAC5: [1]INV!$K$19:$N$22
Name _Cod1: #REF!
Name _Cod1: #REF!
Name _Cod1: #REF!
Name _Cod1: #REF!
Name _Cod1: #REF!
Name _Cod1: #REF!
Name _Cod1: #REF!
Name _Cod1: #REF!
Name _Cod1: #REF!
Name _Cod1: #REF!
Name _Cod1: #REF!
Name _Cod1: #REF!
Name _Cod1: #REF!
Name _Cod1: #REF!
Name _Cod1: #REF!
Name _Cod1: #REF!
Name _Cod1: #REF!
Name _Cod1: #REF!
Name _Cod1: #REF!
Name _Cod1: #REF!
Name _Cod1: #REF!
Name _Cod1: #REF!
Name _MA2: #REF!
Name _MA2: #REF!
Name _MA2: #REF!
Name _MA2: #REF!
Name _MA2: #REF!
Name _MA2: #REF!
Name _MA2: #REF!
Name _MA2: #REF!
Name _MA2: #REF!
Name _MA2: #REF!
Name _MA2: #REF!
Name _MA2: #REF!
Name _MA2: #REF!
Name _MA2: #REF!
Name _MA2: #REF!
Name _MA2: #REF!
Name _MA2: #REF!
Name _MA2: #REF!
Name _MA2: #REF!
Name _MA2: #REF!
Name _MA2: #REF!
Name _MA2: #REF!
Name _Pa1: '[2]Paral. 1'!$E$1:$E$65536
Name _Pa2: '[2]Paral. 2'!$E$1:$E$65536
Name _Pa3: '[2]Paral. 3'!$E$1:$E$65536
Name _Pa4: [2]Paral.4!$E$1:$E$65536
Name _SBC1: [1]INV!$A$12:$D$15
Name _SBC3: [1]INV!$F$12:$I$15
Name _SBC5: [1]INV!$K$12:$N$15

Sheet Instructivo
C1: SISTEMA DE GESTIÓN INTEGRAL - SGI
C2: INSTRUCTIVO - COMPONENTE FINANCIERO EP
C3: CÓDIGO: F-PGC-21 | G3: VERSIÓN: 02
A5: Color | B5: Hoja | D5: Color | E5: Celda
A6: Gris | B6: Informativa | D6: Azul | E6: Protegida
A7: Vinotinto | B7: Formatos
A8: Morado | B8: Variables
A10: Para un mejor diligenciamiento de los formatos y uso de las variables y hojas informativas que se encuentran en este libro, se recomienda, antes de empezar a diligenciar, leer el instructivo, que se encuentra consignado en la presente hoja, igualmente, cada hoja contiene un número significativo de comentarios, los cuales, pretenden ayudar al diligenciamiento, se recomienda leerlos y aplicarlos de manera atenta. En caso de requerir apoyo, favor comunicarse con el asesor(a) financiero(a) asignado para el proceso.
A12: HOJAS INFORMATIVAS
A13: Nombre | D13: Descripción
A14: Cuantías de contratación (por pluralidad de oferentes) | D14: En la hoja se encuentran los valores establecidos anualmente, para identificar dentro de la contratación por pluralidad de oferentes, de acuerdo al valor del presupuesto, si se clasifica dentro de una mínima cuantía, menor cuantía o licitación pública, en los casos que aplique.
A15: Documentos de apoyo | D15: En la hoja se encuentran listas enunciativas de documentos de apoyo, que pueden presentar interés, al igual, que guíar el accionar en el ámbito general de la contratación pública y específico de la asesoría financiera a la misma. Se deberá considerar que las listas no son exhaustivas, es decir, no contemplan todos los documentos de cada categoría, al igual, que depende de la actualización constante de la Subdirección Administrativa y Financiera.
A16: Impuestos y garantías | D16: En la hoja se encuentra una lista enunciativa de los impuestos y las garantías en los que puede incurrir el ejecutor, las cuales dependen de la especificidad del proceso. La lista es de carácter informativa en caso que se emitan consultas al respecto.
A17: Información anticipos y pagos anticipados | D17: En la hoja se encuentra una corta explicación sobre la consideración normativa de los anticipos y pagos anticipados, que tiene como objeto orientar respecto a este tema de frecuente consulta e inquietud; tema sobre el cual, se requiere tener claridad para la estipulación de la ejecución física y financiera de los procesos.
A18: Información procesos de obra pública y capacidad residual (K) | D18: En la hoja se encuentra una corta explicación sobre los procesos de obra, y el cálculo de la capacidad residual (K) en los casos que se requiera, que tiene como objeto suministrar información de interés general respecto a este tema de frecuente consulta e inquietud; tener en cuenta que este tema es de competencia tanto jurídica como técnica y financiera.
A19: Información IVA | D19: En la hoja se encuentra una corta explicación sobre las consideraciones respecto al IVA, que tiene como objeto orientar respecto a este tema de frecuente consulta e inquietud.
A20: Notas propuesta económica | D20: En la hoja se encuentra una lista enunciativa de notas, las cuales deberán ser elegidas de acuerdo a la especificidad del proceso contractual, con el fin de incluirlas en el formato de propuesta económica. Las notas tienen como objeto orientar a los oferentes en el diligenciamiento de dicho formato.
A21: Requisitos habilitantes capacidad financiera y organizacional | D21: En la hoja se encuentran los requisitos de capacidad financiera y organizacional vigentes
A23: FORMATOS (PARA DILIGENCIAR) | I23: DILIGENCIAR EN CASO DE:
A24: Nombre | D24: Descripción | I24: Contratos por contratación directa | J24: Contratos por pluralidad de oferentes | K24: Convenios
A25: DILIGENCIAR PARA EVALUACIÓN POR PARTE DEL COMITÉ DE CONTRATACIÓN (Asesor técnico)
A26: Se recomienda que el asesor técnico para la planeación financiera del proceso contractual, empiece con el diligenciamiento paralelo de la memoria de cálculo con su debido estudio de mercado, para seguir con la estipulación de los gastos de administración, si aplican. En un segundo momento, se recomienda diligenciar, el presupuesto de acuerdo a la modalidad del proceso, y el plan de ejecución física y de inversiones. El técnico podrá anexar al presente libro las hojas que considere necesarias con el fin de suportar la estimación de los valores. NOTA: Se recomienda iniciar escribiendo en el formato del Plan de ejecución los datos básicos de modalidad de contratación y objeto a contratar, ya que está información alimenta a las demás hojas.
A27: Plan de ejecución física y de inversiones | D27: Diligenciar la programación física y financiera del proceso, tanto en la étapa inicial, como en el caso de solicitud de Otrosí de adición de recursos o prórroga, o cuando el Otrosí de modificación implique cambios en el presupuesto. | I27: X | J27: X | K27: X
A28: Plan de ejecución física y de inversiones - Prestación de Servicios Personales | D28: Diligenciar exclusivamente para los contratos de Prestación de Servicios Personales que suscribe la Corporación con una persona natural. Este formato simplificado permite la programación física y financiera del proceso, tanto en la étapa inicial, como en el caso de solicitud de Otrosí de adición de recursos o prórroga, o cuando el Otrosí de modificación implique cambios en el presupuesto. | I28: X
A29: Presupuesto - Modalidad contrato | D29: Diligenciar en caso que el proceso se tipifique dentro de las modalidades de contratos. El presupuesto es un documento donde se plasman los recursos económicos requeridos para llevar a cabo de manera exitosa el proceso contractual. | I29: X | J29: X
A30: Presupuesto - Modalidad contrato - Prestación de Servicios Personales | D30: Diligenciar exclusivamente para los contratos de Prestación de Servicios Personales que suscribe la Corporación con una persona natural. En este formato simplificado se plasma el presupuesto, donde se relacionan los recursos económicos requeridos para llevar a cabo de manera exitosa el proceso contractual. | I30: X
A31: Presupuesto - Modalidad convenio | D31: Diligenciar en caso que el proceso se tipifique dentro de las modalidades de convenios. El presupuesto es un documento donde se plasman los recursos económicos requeridos para llevar a cabo de manera exitosa el proceso contractual. | K31: X
A32: Memoria de cálculo - Opción 1 | D32: Diligenciar de acuerdo a las características del proceso, alcance y/o actividad. La memoria de cálculo es un documento descriptivo donde se refleja de manera exhaustiva y detallada, todos y cada uno de los elementos que intervienen en el proceso, alcance y/o actividad que se está valorando. Esta memoria de cálculo es útil para la compra de productos terminados, bienes con características homogéneas, o bienes y servicios que se valoren a todo costo, entre otras opciones, por ejemplo: compra de equipos o insumos. Nota: Tener en cuenta que para valorar una variable o ítem se utiliza una sola memoria de cálculo y no las tres opciones, por ejemplo, si se quiere valorar la adquisición de 1 equipo de cómputo, dicha adquisición se deja consignada en solo una de las memorias de cálculo, no se tiene que utilizar las tres opciones para este mismo ítem. | I32: Se seleccionará el formato de memoria de cálculo que mejor se adapte a las características del proceso, alcance y/o actividad a valorar.
A33: Memoria de cálculo - Opción 2 | D33: Diligenciar de acuerdo a las características del proceso, alcance y/o actividad. La memoria de cálculo es un documento descriptivo donde se refleja de manera exhaustiva y detallada, todos y cada uno de los elementos que intervienen en el proceso, alcance y/o actividad que se está valorando. Esta memoria de cálculo es útil para los procesos de obra. Nota: Tener en cuenta que para valorar una variable o ítem se utiliza una sola memoria de cálculo y no las tres opciones, por ejemplo, si se quiere valorar la adquisición de 1 equipo de cómputo, dicha adquisición se deja consignada en solo una de las memorias de cálculo, no se tiene que utilizar las tres opciones para este mismo ítem.
A34: Memoria de cálculo - Opción 3 | D34: Diligenciar de acuerdo a las características del proceso, alcance y/o actividad. La memoria de cálculo es un documento descriptivo donde se refleja de manera exhaustiva y detallada, todos y cada uno de los elementos que intervienen en el proceso, alcance y/o actividad que se está valorando. Esta memoria de cálculo es útil para procesos que requieran detallar todos los elementos del costo, por ejemplo, realización de talleres, donde se debe considerar los materiales, los refrigerios, alquiler de equipos, entre otros. Nota: Tener en cuenta que para valorar una variable o ítem se utiliza una sola memoria de cálculo y no las tres opciones, por ejemplo, si se quiere valorar la adquisición de 1 equipo de cómputo, dicha adquisición se deja consignada en solo una de las memorias de cálculo, no se tiene que utilizar las tres opciones para este mismo ítem.
A35: Estudio de mercado | D35: Un estudio de mercado es el proceso mediante el cual, se recoge y análiza información que sirve para identificar las características, valores y condiciones del bien o servicio a adquirir, con el fin de obtenerlos acuerdo a las estipulaciones del mercado, bajo el principio de plena competencia. En la corporación el estudio de mercado se realiza mediante la identificación de valores por medio de cotizaciones debidamente radicadas, valores históricos de los bienes y servicios de interés, recolección de información de sitios de internet soportados con los debidos pantallazos, y demás información de diferentes fuentes con sus correspondientes medios de verificación. El estudio de mercado no se puede confundir con el estudio de sector, este último, requerido solo para algunos procesos contractuales. En el estudio de mercado, pueden hacer parte, debidamente soportados o en todo caso que permita realizar la trazabilidad, los valores establecidos en otros procesos contractuales para los mismos bienes y servicios, de la misma vigencia o de anteriores vigencias, en caso de utilizar valores de vigencias anteriores se deberá realizar la respectiva actualización con la inflación anual de la o las vigencias pasadas. | I35: X | J35: X | K35: X
A36: Determinación de gastos de administración | D36: Diligenciar para determinar el porcentaje de los gastos de administración o administración del proceso, de acuerdo a las características del mismo, considerando no tener duplicidad en ítems ya contemplados en el presupuesto general del proceso. | I36: X | J36: X | K36: X
A37: Identificación de bienes nacionales relevantes | D37: Diligenciar para identificar los bienes nacionales relevantes en los procesos que apliquen. | J37: X
A38: DILIGENCIAR COMO PARTE DE LOS DOCUMENTOS A SUBIR A LA PLATAFORMA SECOP (Asesor financiero)
A39: Propuesta económica - Opción 1 | D39: Diligenciar con el objeto de suministrarle a los oferentes la estructura y condiciones de la presentación de las respectivas propuestas económicas, se recomienda su uso para procesos que se hayan planeado en el formato memoria de cálculo - opción 1. | J39: X
A40: Propuesta económica - Opción 2 | D40: Diligenciar con el objeto de suministrarle a los oferentes la estructura y condiciones de la presentación de las respectivas propuestas económicas, se recomienda su uso para procesos que se hayan planeado en el formato memoria de cálculo - opción 2. | J40: X
A41: Propuesta económica - Opción 3 | D41: Diligenciar con el objeto de suministrarle a los oferentes la estructura y condiciones de la presentación de las respectivas propuestas económicas, se recomienda su uso para procesos que se hayan planeado en el formato memoria de cálculo - opción 3. | J41: X
A42: Estimación PAB comparación absoluta | D42: Diligenciar con el objeto realizar el acta del Precio Artificialmente Bajo (PAB). La cual, se elabora paralelamente con el formato de propuesta económica para el proceso. | J42: X
A43: DILIGENCIAR PARA EVALUACIÓN FINANCIERA DE OFERENTES (Asesor financiero)
A44: Verificación de requisitos habilitantes de los proponentes sobre capacidad financiera y organizacional | D44: Diligenciar con el fin de consignar la verificación de los requisitos habilitantes de los proponentes, sobre capacidad financiera y organizacional, en los casos que apliquen. | J44: X
...

Sheet Plan Ejecución
C1: SISTEMA DE GESTIÓN INTEGRAL - SGI | AE1: Instructivo
C2: COMPONENTE FINANCIERO EP - PLAN DE EJECUCIÓN FÍSICA Y DE INVERSIONES
C3: CÓDIGO: F-PGC-21 | H3: VERSIÓN: 03
A5: MODALIDAD DE CONTRATACIÓN: | C5: CONTRATACIÓN DIRECTA | AE5: =C5 -> CONTRATACIÓN DIRECTA
A6: OBJETO A CONTRATAR: | C6: "“SOPORTE, MANTENIMIENTO Y ACTUALIZACIÓN DEL VISOR GEOGRÁFICO – AÑO 2025" | AE6: =C6 -> "“SOPORTE, MANTENIMIENTO Y ACTUALIZACIÓN DEL VISOR GEOGRÁFICO – AÑO 2025"
A8: CONTRATISTA/CONVENIANTE: | C8: H Y G CONSULTORES SAS
A9: NOMBRE DEL TÉCNICO (A): | C9: Isabel Cristina Buritica Mira
A10: DURACIÓN Y/O PLAZO DEL CONTRATO (MESES): | C10: Doce (12) meses
A11: PERIODO DE PROGRAMACIÓN Y SEGUIMIENTO: | C11: Trimestral
A13: PROGRAMACIÓN FÍSICA
B14: Descripción | C14: % de importancia | D14: % de importancia subactividades | E14: Unidad de medida | F14: Cantidad Programada | G14: Distribución física
G15: Período 1 | H15: Período 2 | I15: Período 3 | J15: Período 4 | K15: Período 5 | L15: Período 6 | M15: Período 7 | N15: Período 8 | O15: Período 9 | P15: Período 10 | Q15: Período 11 | R15: Período 12 | S15: Período 13 | T15: Período 14 | U15: Período 15 | V15: Período 16 | W15: Período 17 | X15: Período 18 | Y15: Período 19 | Z15: Período 20 | AA15: Período 21 | AB15: Período 22 | AC15: Período 23 | AD15: Período 24
A16: META/ PRODUCTO A OBTENER: | B16: "SOPORTE, MANTENIMIENTO Y ACTUALIZACIÓN DEL VISOR GEOGRÁFICO – AÑO 2025" | C16: 1 | D16: =SUM(D17:D202) -> 1 | E16: Informe Consolidado
A17: Alcance 1 | B17: Licenciamiento y actualización del Geoportal. | C17: 0.1 | E17: Licencia
A18: Actividad 1.1 | C18: 1 | E18: Licencia | G18: 0.25 | H18: 0.25
A19: Subactividad 1.1.1 | C19: 1 | D19: =C19*$C$18*$C$17 -> 0.1 | E19: Licencia | F19: 1 | G19: 0.25 | H19: 0.25 | I19: 0.25 | J19: 0.25
A20: Subactividad 1.1.2 | D20: =C20*$C$18*$C$17 -> 0
A21: Subactividad 1.1.3 | D21: =C21*$C$18*$C$17 -> 0
A22: Subactividad 1.1.4 | D22: =C22*$C$18*$C$17 -> 0
A23: Subactividad 1.1.5 | D23: =C23*$C$18*$C$17 -> 0
A24: Actividad 1.2
A25: Subactividad 1.2.1 | D25: =C25*$C$24*$C$17 -> 0
A26: Subactividad 1.2.2 | D26: =C26*$C$24*$C$17 -> 0
A27: Subactividad 1.2.3 | D27: =C27*$C$24*$C$17 -> 0
A28: Subactividad 1.2.4 | D28: =C28*$C$24*$C$17 -> 0
A29: Subactividad 1.2.5 | D29: =C29*$C$24*$C$17 -> 0
A30: Actividad 1.3
A31: Subactividad 1.3.1 | D31: =C31*$C$30*$C$17 -> 0
A32: Subactividad 1.3.2 | D32: =C32*$C$30*$C$17 -> 0
A33: Subactividad 1.3.3 | D33: =C33*$C$30*$C$17 -> 0
A34: Subactividad 1.3.4 | D34: =C34*$C$30*$C$17 -> 0
A35: Subactividad 1.3.5 | D35: =C35*$C$30*$C$17 -> 0
A36: Actividad 1.4
A37: Subactividad 1.4.1 | D37: =C37*$C$36*$C$17 -> 0
A38: Subactividad 1.4.2 | D38: =C38*$C$36*$C$17 -> 0
A39: Subactividad 1.4.3 | D39: =C39*$C$36*$C$17 -> 0
A40: Subactividad 1.4.4 | D40: =C40*$C$36*$C$17 -> 0
A41: Subactividad 1.4.5 | D41: =C41*$C$36*$C$17 -> 0
A42: Actividad 1.5
A43: Subactividad 1.5.1 | D43: =C43*$C$42*$C$17 -> 0
...

Sheet PE PSP
C1: SISTEMA DE GESTIÓN INTEGRAL - SGI | R1: Instructivo
C2: COMPONENTE FINANCIERO EP - PRESTACIÓN DE SERVICIOS PERSONALES | R2: Presupuesto - modalidad contrato - prestación de servicios personales
C3: CÓDIGO: F-PGC-21 | J3: VERSIÓN: 02
A5: MODALIDAD DE CONTRATACIÓN: | R5: =C5 -> 0
A6: OBJETO A CONTRATAR: | R6: =C6 -> 0
A8: CONTRATISTA:
A9: NOMBRE SUPERVISOR O INTERVENTOR:
A10: DURACIÓN Y/O PLAZO DEL CONTRATO (MESES):
A11: PERIODO DE PROGRAMACIÓN Y SEGUIMIENTO:
A13: PROGRAMACIÓN FÍSICA
B14: Descripción | C14: % de importancia | D14: Unidad de medida | E14: Cantidad Programada | F14: Distribución física
F15: Período 1 | G15: Período 2 | H15: Período 3 | I15: Período 4 | J15: Período 5 | K15: Período 6 | L15: Período 7 | M15: Período 8 | N15: Período 9 | O15: Período 10 | P15: Período 11 | Q15: Período 12
A16: META/ PRODUCTO A OBTENER: | C16: 1 | D16: Meses | E16: =E17 -> 0 | R16: =E16-SUM(F16:Q16) -> 0
A17: Alcance 1 | C17: 1 | D17: Meses | R17: =E17-SUM(F17:Q17) -> 0
A18: TOTAL | F18: =IFERROR(F17/$E$17,0) -> 0 | G18: =IFERROR(G17/$E$17,0) -> 0 | H18: =IFERROR(H17/$E$17,0) -> 0 | I18: =IFERROR(I17/$E$17,0) -> 0 | J18: =IFERROR(J17/$E$17,0) -> 0 | K18: =IFERROR(K17/$E$17,0) -> 0 | L18: =IFERROR(L17/$E$17,0) -> 0 | M18: =IFERROR(M17/$E$17,0) -> 0 | ... Q18: =IFERROR(Q17/$E$17,0) -> 0
A19: ACUMULADO | F19: =F18 -> 0 | G19: =G18+F19 -> 0 | H19: =H18+G19 -> 0 | I19: =I18+H19 -> 0 | J19: =J18+I19 -> 0 | K19: =K18+J19 -> 0 | L19: =L18+K19 -> 0 | M19: =M18+L19 -> 0 | N19: =N18+M19 -> 0 | ... Q19: =Q18+P19 -> 0
E21: La programación financiera debe ser coherente con la programación física, todo pago que no sea soportado en la ejecución física efectiva y certificada es un anticipo o pago anticipado, de acuerdo al caso; para tener más información sobre anticipos y pagos anticipados remitirse a la hoja | Q21: Información anticipos
E22: PROGRAMACIÓN FINANCIERA INICIAL
F23: Distribución de recursos del valor aportado por Corantioquia
E24: Valor del contrato | F24: Período 1 | G24: Período 2 | H24: Período 3 | I24: Período 4 | J24: Período 5 | K24: Período 6 | L24: Período 7 | M24: Período 8 | N24: Período 9 | O24: Período 10 | P24: Período 11 | Q24: Período 12
F25: =$E$25*F26 -> 0 | G25: =$E$25*G26 -> 0 | H25: =$E$25*H26 -> 0 | I25: =$E$25*I26 -> 0 | J25: =$E$25*J26 -> 0 | K25: =$E$25*K26 -> 0 | L25: =$E$25*L26 -> 0 | M25: =$E$25*M26 -> 0 | ... Q25: =$E$25*Q26 -> 0
E26: Porcentaje (%) | F26: =F18 -> 0 | G26: =G18 -> 0 | H26: =H18 -> 0 | I26: =I18 -> 0 | J26: =J18 -> 0 | K26: =K18 -> 0 | L26: =L18 -> 0 | M26: =M18 -> 0 | ... Q26: =Q18 -> 0
E27: Porcentaje Acumulado (%) | F27: =+F26 -> 0 | G27: =+F27+G26 -> 0 | H27: =+G27+H26 -> 0 | I27: =+H27+I26 -> 0 | J27: =+I27+J26 -> 0 | K27: =+J27+K26 -> 0 | L27: =+K27+L26 -> 0 | M27: =+L27+M26 -> 0 | N27: =+M27+N26 -> 0 | ... Q27: =+P27+Q26 -> 0
C28: Diligenciar esta información solo en caso de solicitud de Otrosí de adición de recursos o prórroga, o cuando el Otrosí de modificación implique cambios en el presupuesto. | E28: Valores ya ejecutados | F28: 0 | G28: 0 | H28: 0 | I28: 0 | J28: 0 | K28: 0 | L28: 0 | M28: 0 | N28: 0 | O28: 0 | P28: 0 | Q28: 0
E29: Porcentaje (%) PGAR | F29: =IFERROR(F28/$E$25,0) -> 0 | G29: =IFERROR(G28/$E$25,0) -> 0 | H29: =IFERROR(H28/$E$25,0) -> 0 | I29: =IFERROR(I28/$E$25,0) -> 0 | J29: =IFERROR(J28/$E$25,0) -> 0 | K29: =IFERROR(K28/$E$25,0) -> 0 | L29: =IFERROR(L28/$E$25,0) -> 0 | M29: =IFERROR(M28/$E$25,0) -> 0 | ... Q29: =IFERROR(Q28/$E$25,0) -> 0
E30: Porcentaje Acumulado (%) PGAR | F30: =F29 -> 0 | G30: =F30+G29 -> 0 | H30: =G30+H29 -> 0 | I30: =H30+I29 -> 0 | J30: =I30+J29 -> 0 | K30: =J30+K29 -> 0 | L30: =K30+L29 -> 0 | M30: =L30+M29 -> 0 | N30: =M30+N29 -> 0 | ... Q30: =P30+Q29 -> 0
C32: PROGRAMACIÓN FINANCIERA EN CASO DE ADICIÓN DE RECURSOS O PRÓRROGA
C33: Valor de la adición | D33: Valor total del contrato (incluida la adición) | E33: Distribución de recursos del valor aportado por Corantioquia
F34: Período 1 | G34: Período 2 | H34: Período 3 | I34: Período 4 | J34: Período 5 | K34: Período 6 | L34: Período 7 | M34: Período 8 | N34: Período 9 | O34: Período 10 | P34: Período 11 | Q34: Período 12 | R34: Total Valores
C35: 0 | D35: =E25+C35 -> 0 | E35: Valores ya ejecutados | F35: =F28 -> 0 | G35: =G28 -> 0 | H35: =H28 -> 0 | I35: =I28 -> 0 | J35: =J28 -> 0 | K35: =K28 -> 0 | L35: =L28 -> 0 | M35: =M28 -> 0 | ... Q35: =Q28 -> 0 | R35: =SUM(F35:Q35) -> 0
E36: Porcentaje (%) | F36: =IFERROR(F35/$D$35,0) -> 0 | G36: =IFERROR(G35/$D$35,0) -> 0 | H36: =IFERROR(H35/$D$35,0) -> 0 | I36: =IFERROR(I35/$D$35,0) -> 0 | J36: =IFERROR(J35/$D$35,0) -> 0 | K36: =IFERROR(K35/$D$35,0) -> 0 | L36: =IFERROR(L35/$D$35,0) -> 0 | M36: =IFERROR(M35/$D$35,0) -> 0 | ... Q36: =IFERROR(Q35/$D$35,0) -> 0
E37: Porcentaje Acumulado (%) | F37: =+F36 -> 0 | G37: =+F37+G36 -> 0 | H37: =+G37+H36 -> 0 | I37: =+H37+I36 -> 0 | J37: =+I37+J36 -> 0 | K37: =+J37+K36 -> 0 | L37: =+K37+L36 -> 0 | M37: =+L37+M36 -> 0 | N37: =+M37+N36 -> 0 | ... Q37: =+P37+Q36 -> 0
E38: Valores por ejecutar | F38: 0 | G38: 0 | H38: 0 | I38: 0 | J38: 0 | K38: 0 | L38: 0 | M38: 0 | N38: 0 | O38: 0 | P38: 0 | Q38: 0 | R38: =SUM(F38:Q38) -> 0
E39: Porcentaje (%) | F39: =IFERROR(F38/$D$35,0) -> 0 | G39: =IFERROR(G38/$D$35,0) -> 0 | H39: =IFERROR(H38/$D$35,0) -> 0 | I39: =IFERROR(I38/$D$35,0) -> 0 | J39: =IFERROR(J38/$D$35,0) -> 0 | K39: =IFERROR(K38/$D$35,0) -> 0 | L39: =IFERROR(L38/$D$35,0) -> 0 | M39: =IFERROR(M38/$D$35,0) -> 0 | ... Q39: =IFERROR(Q38/$D$35,0) -> 0
E40: Porcentaje Acumulado (%) | F40: =+F39 -> 0 | G40: =+F40+G39 -> 0 | H40: =+G40+H39 -> 0 | I40: =+H40+I39 -> 0 | J40: =+I40+J39 -> 0 | K40: =+J40+K39 -> 0 | L40: =+K40+L39 -> 0 | M40: =+L40+M39 -> 0 | N40: =+M40+N39 -> 0 | ... Q40: =+P40+Q39 -> 0
C41: PORCENTAJE ACUMULADO (%) TOTAL | F41: =F37+F40 -> 0 | G41: =G37+G40 -> 0 | H41: =H37+H40 -> 0 | I41: =I37+I40 -> 0 | J41: =J37+J40 -> 0 | K41: =K37+K40 -> 0 | L41: =L37+L40 -> 0 | M41: =M37+M40 -> 0 | ... Q41: =Q37+Q40 -> 0 | R41: =IFERROR((R35+R38)/D35,0) -> 0
B49: GERENTE PROGRAMA | G49: COORDINADOR GIT

Sheet Otrosi_1
C1: SISTEMA DE GESTIÓN INTEGRAL - SGI | AE1: Instructivo
C2: COMPONENTE FINANCIERO EP - PLAN DE EJECUCIÓN FÍSICA Y DE INVERSIONES
C3: CÓDIGO: F-PGC-21 | H3: VERSIÓN: 03
A5: MODALIDAD DE CONTRATACIÓN: | C5: CONTRATACIÓN DIRECTA | AE5: =C5 -> CONTRATACIÓN DIRECTA
A6: OBJETO A CONTRATAR: | C6: "PRESTAR EL SERVICIO DE SOPORTE, MANTENIMIENTO Y ACTUALIZACIÓN DEL PORTAL GEOGRÁFICO" | AE6: =C6 -> "PRESTAR EL SERVICIO DE SOPORTE, MANTENIMIENTO Y ACTUALIZACIÓN DEL PORTAL GEOGRÁFICO"
A8: CONTRATISTA/CONVENIANTE: | C8: H Y G CONSULTORES S.A
A9: NOMBRE DEL TÉCNICO (A): | C9: Isabel Cristina Buritica Mira
A10: DURACIÓN Y/O PLAZO DEL CONTRATO (MESES): | C10: Once y medio (11.5) meses | J10: =16.7+16.7+33.4+33.4 -> 100.2
A11: PERIODO DE PROGRAMACIÓN Y SEGUIMIENTO: | C11: Trimestral
A13: PROGRAMACIÓN FÍSICA
B14: Descripción | C14: % de importancia | D14: % de importancia subactividades | E14: Unidad de medida | F14: Cantidad Programada | G14: Distribución física
G15: Período 1 | H15: Período 2 | I15: Período 3 | J15: Período 4 | K15: Período 5 | L15: Período 6 | M15: Período 7 | N15: Período 8 | O15: Período 9 | P15: Período 10 | Q15: Período 11 | R15: Período 12 | S15: Período 13 | T15: Período 14 | U15: Período 15 | V15: Período 16 | W15: Período 17 | X15: Período 18 | Y15: Período 19 | Z15: Período 20 | AA15: Período 21 | AB15: Período 22 | AC15: Período 23 | AD15: Período 24
A16: META/ PRODUCTO A OBTENER: | B16: PRESTAR EL SERVICIO DE SOPORTE, MANTENIMIENTO Y ACTUALIZACIÓN DEL PORTAL GEOGRÁFICO | C16: 1 | D16: =SUM(D17:D202) -> 1 | E16: Informe Consolidado
A17: Alcance 1 | B17: Actualización del licenciamiento y mejoras de portal geográfico | C17: =+'PRESUPUESTO OTRO SI '!G146 -> 0.1148226 | E17: Licencia
A18: Actividad 1.1 | B18: Actualización del licenciamiento y mejoras de portal geográfico | C18: 1 | E18: Licencia | G18: 0.25 | H18: 0.25
A19: Subactividad 1.1.1 | B19: Actualización del licenciamiento y mejoras de portal geográfico | C19: 1 | D19: =C19*$C$18*$C$17 -> 0.1148226 | E19: Licencia | F19: 1 | G19: 0.25 | H19: 0.25 | I19: 0.25 | J19: 0.25
A20: Subactividad 1.1.2 | D20: =C20*$C$18*$C$17 -> 0
A21: Subactividad 1.1.3 | D21: =C21*$C$18*$C$17 -> 0
A22: Subactividad 1.1.4 | D22: =C22*$C$18*$C$17 -> 0
A23: Subactividad 1.1.5 | D23: =C23*$C$18*$C$17 -> 0
A24: Actividad 1.2
A25: Subactividad 1.2.1 | D25: =C25*$C$24*$C$17 -> 0
A26: Subactividad 1.2.2 | D26: =C26*$C$24*$C$17 -> 0
A27: Subactividad 1.2.3 | D27: =C27*$C$24*$C$17 -> 0
A28: Subactividad 1.2.4 | D28: =C28*$C$24*$C$17 -> 0
A29: Subactividad 1.2.5 | D29: =C29*$C$24*$C$17 -> 0
A30: Actividad 1.3
A31: Subactividad 1.3.1 | D31: =C31*$C$30*$C$17 -> 0
A32: Subactividad 1.3.2 | D32: =C32*$C$30*$C$17 -> 0
A33: Subactividad 1.3.3 | D33: =C33*$C$30*$C$17 -> 0
A34: Subactividad 1.3.4 | D34: =C34*$C$30*$C$17 -> 0
A35: Subactividad 1.3.5 | D35: =C35*$C$30*$C$17 -> 0
A36: Actividad 1.4
A37: Subactividad 1.4.1 | D37: =C37*$C$36*$C$17 -> 0
A38: Subactividad 1.4.2 | D38: =C38*$C$36*$C$17 -> 0
A39: Subactividad 1.4.3 | D39: =C39*$C$36*$C$17 -> 0
A40: Subactividad 1.4.4 | D40: =C40*$C$36*$C$17 -> 0
A41: Subactividad 1.4.5 | D41: =C41*$C$36*$C$17 -> 0
A42: Actividad 1.5
A43: Subactividad 1.5.1 | D43: =C43*$C$42*$C$17 -> 0
...

Sheet Otrosi_2
C1: SISTEMA DE GESTIÓN INTEGRAL - SGI | AE1: Instructivo
C2: COMPONENTE FINANCIERO EP - PLAN DE EJECUCIÓN FÍSICA Y DE INVERSIONES
C3: CÓDIGO: F-PGC-21 | H3: VERSIÓN: 03
A5: MODALIDAD DE CONTRATACIÓN: | C5: CONTRATACIÓN DIRECTA | AE5: CONTRATACIÓN DIRECTA
A6: OBJETO A CONTRATAR: | C6: "PRESTAR EL SERVICIO DE SOPORTE, MANTENIMIENTO Y ACTUALIZACIÓN DEL PORTAL GEOGRÁFICO" | AE6: "PRESTAR EL SERVICIO DE SOPORTE, MANTENIMIENTO Y ACTUALIZACIÓN DEL PORTAL GEOGRÁFICO"
A8: CONTRATISTA/CONVENIANTE: | C8: H Y G CONSULTORES S.A
A9: NOMBRE DEL TÉCNICO (A): | C9: Isabel Cristina Buritica Mira
A10: DURACIÓN Y/O PLAZO DEL CONTRATO (MESES): | C10: Once y medio (11.5) meses | G10: 12 | J10: =16.7+16.7+33.4+33.4 -> 100.2
A11: PERIODO DE PROGRAMACIÓN Y SEGUIMIENTO: | C11: Trimestral | G11: mensual
A13: PROGRAMACIÓN FÍSICA
B14: Descripción | C14: % de importancia | D14: % de importancia subactividades | E14: Unidad de medida | F14: Cantidad Programada | G14: Distribución física
G15: Período 1 | H15: Período 2 | I15: Período 3 | J15: Período 4 | K15: Período 5 | L15: Período 6 | M15: Período 7 | N15: Período 8 | O15: Período 9 | P15: Período 10 | Q15: Período 11 | R15: Período 12 | S15: Período 13 | T15: Período 14 | U15: Período 15 | V15: Período 16 | W15: Período 17 | X15: Período 18 | Y15: Período 19 | Z15: Período 20 | AA15: Período 21 | AB15: Período 22 | AC15: Período 23 | AD15: Período 24
A16: META/ PRODUCTO A OBTENER: | B16: PRESTAR EL SERVICIO DE SOPORTE, MANTENIMIENTO Y ACTUALIZACIÓN DEL PORTAL GEOGRÁFICO | C16: 1 | D16: 1 | E16: Informe Consolidado
A17: Alcance 1 | B17: Actualización del licenciamiento y mejoras de portal geográfico | C17: =+'PRESUPUESTO OTRO SI '!G146 -> 0.1148226 | E17: Licencia
A18: Actividad 1.1 | B18: Actualización del licenciamiento y mejoras de portal geográfico | C18: 1 | E18: Licencia | G18: 0.25 | H18: 0.25
A19: Subactividad 1.1.1 | B19: Actualización del licenciamiento y mejoras de portal geográfico | C19: 1 | D19: 0.1148226 | E19: Licencia | F19: 1 | G19: 0.25 | H19: 0.25 | I19: 0.25 | J19: 0.25
A20: Subactividad 1.1.2 | D20: 0
A21: Subactividad 1.1.3 | D21: 0
A22: Subactividad 1.1.4 | D22: 0
A23: Subactividad 1.1.5 | D23: 0
A24: Actividad 1.2
A25: Subactividad 1.2.1 | D25: 0
A26: Subactividad 1.2.2 | D26: 0
A27: Subactividad 1.2.3 | D27: 0
A28: Subactividad 1.2.4 | D28: 0
A29: Subactividad 1.2.5 | D29: 0
A30: Actividad 1.3
A31: Subactividad 1.3.1 | D31: 0
A32: Subactividad 1.3.2 | D32: 0
A33: Subactividad 1.3.3 | D33: 0
A34: Subactividad 1.3.4 | D34: 0
A35: Subactividad 1.3.5 | D35: 0
A36: Actividad 1.4
A37: Subactividad 1.4.1 | D37: 0
A38: Subactividad 1.4.2 | D38: 0
A39: Subactividad 1.4.3 | D39: 0
A40: Subactividad 1.4.4 | D40: 0
A41: Subactividad 1.4.5 | D41: 0
A42: Actividad 1.5
A43: Subactividad 1.5.1 | D43: 0
...

Sheet Presupuesto Contrato
C1: SISTEMA DE GESTIÓN INTEGRAL - SGI | P1: Instructivo
C2: PRESUPUESTO - MODALIDAD CONTRATO
C3: CÓDIGO: F-PGC-21 | H3: VERSIÓN: 03
A5: MODALIDAD DE CONTRATACIÓN: | C5: ='Plan Ejecución'!C5:AD5 -> CONTRATACIÓN DIRECTA
A6: OBJETO A CONTRATAR: | C6: ='Plan Ejecución'!C6:AD6 -> "“SOPORTE, MANTENIMIENTO Y ACTUALIZACIÓN DEL VISOR GEOGRÁFICO – AÑO 2025"
A8: COSTOS DE PERSONAL | J8: Recursos por alcance, actividad o subactividad
A9: Ítem | B9: Cantidad personal | C9: (%) Dedicación | D9: Unidad de medida | E9: Cantidad | F9: Valor unitario base | G9: Factor prestacional | H9: Valor total | I9: (%) PP | J9: Alcance 1 | K9: Alcance 2 | L9: Alcance 3 | M9: Alcance 4 | N9: Alcance 5 | O9: Alcance 6
A10: Mano de Obra Calificada
F11: =IFERROR(VLOOKUP(A11,Honorarios!$A$9:$D$15,2,FALSE),"") | G11: =IFERROR(((VLOOKUP(A11,Honorarios!$A$9:$D$15,3,FALSE))),"") | H11: =IFERROR(B11*C11*E11*F11*G11,0) -> 0 | I11: =IFERROR(H11/$H$80,0) -> 0 | P11: =H11-SUM(J11:O11) -> 0
F12: =IFERROR(VLOOKUP(A12,Honorarios!$A$9:$D$15,2,FALSE),"") | G12: =IFERROR(((VLOOKUP(A12,Honorarios!$A$9:$D$15,3,FALSE))),"") | H12: =IFERROR(B12*C12*E12*F12*G12,0) -> 0 | I12: =IFERROR(H12/$H$80,0) -> 0 | P12: =H12-SUM(J12:O12) -> 0
F13: =IFERROR(VLOOKUP(A13,Honorarios!$A$9:$D$15,2,FALSE),"") | G13: =IFERROR(((VLOOKUP(A13,Honorarios!$A$9:$D$15,3,FALSE))),"") | H13: =IFERROR(B13*C13*E13*F13*G13,0) -> 0 | I13: =IFERROR(H13/$H$80,0) -> 0 | P13: =H13-SUM(J13:O13) -> 0
F14: =IFERROR(VLOOKUP(A14,Honorarios!$A$9:$D$15,2,FALSE),"") | G14: =IFERROR(((VLOOKUP(A14,Honorarios!$A$9:$D$15,3,FALSE))),"") | H14: =IFERROR(B14*C14*E14*F14*G14,0) -> 0 | I14: =IFERROR(H14/$H$80,0) -> 0 | P14: =H14-SUM(J14:O14) -> 0
F15: =IFERROR(VLOOKUP(A15,Honorarios!$A$9:$D$15,2,FALSE),"") | G15: =IFERROR(((VLOOKUP(A15,Honorarios!$A$9:$D$15,3,FALSE))),"") | H15: =IFERROR(B15*C15*E15*F15*G15,0) -> 0 | I15: =IFERROR(H15/$H$80,0) -> 0 | P15: =H15-SUM(J15:O15) -> 0
F16: =IFERROR(VLOOKUP(A16,Honorarios!$A$9:$D$15,2,FALSE),"") | G16: =IFERROR(((VLOOKUP(A16,Honorarios!$A$9:$D$15,3,FALSE))),"") | H16: =IFERROR(B16*C16*E16*F16*G16,0) -> 0 | I16: =IFERROR(H16/$H$80,0) -> 0 | P16: =H16-SUM(J16:O16) -> 0
F17: =IFERROR(VLOOKUP(A17,Honorarios!$A$9:$D$15,2,FALSE),"") | G17: =IFERROR(((VLOOKUP(A17,Honorarios!$A$9:$D$15,3,FALSE))),"") | H17: =IFERROR(B17*C17*E17*F17*G17,0) -> 0 | I17: =IFERROR(H17/$H$80,0) -> 0 | P17: =H17-SUM(J17:O17) -> 0
F18: =IFERROR(VLOOKUP(A18,Honorarios!$A$9:$D$15,2,FALSE),"") | G18: =IFERROR(((VLOOKUP(A18,Honorarios!$A$9:$D$15,3,FALSE))),"") | H18: =IFERROR(B18*C18*E18*F18*G18,0) -> 0 | I18: =IFERROR(H18/$H$80,0) -> 0 | P18: =H18-SUM(J18:O18) -> 0
F19: =IFERROR(VLOOKUP(A19,Honorarios!$A$9:$D$15,2,FALSE),"") | G19: =IFERROR(((VLOOKUP(A19,Honorarios!$A$9:$D$15,3,FALSE))),"") | H19: =IFERROR(B19*C19*E19*F19*G19,0) -> 0 | I19: =IFERROR(H19/$H$80,0) -> 0 | P19: =H19-SUM(J19:O19) -> 0
F20: =IFERROR(VLOOKUP(A20,Honorarios!$A$9:$D$15,2,FALSE),"") | G20: =IFERROR(((VLOOKUP(A20,Honorarios!$A$9:$D$15,3,FALSE))),"") | H20: =IFERROR(B20*C20*E20*F20*G20,0) -> 0 | I20: =IFERROR(H20/$H$80,0) -> 0 | P20: =H20-SUM(J20:O20) -> 0
F21: =IFERROR(VLOOKUP(A21,Honorarios!$A$9:$D$15,2,FALSE),"") | G21: =IFERROR(((VLOOKUP(A21,Honorarios!$A$9:$D$15,3,FALSE))),"") | H21: =IFERROR(B21*C21*E21*F21*G21,0) -> 0 | I21: =IFERROR(H21/$H$80,0) -> 0 | P21: =H21-SUM(J21:O21) -> 0
F22: =IFERROR(VLOOKUP(A22,Honorarios!$A$9:$D$15,2,FALSE),"") | G22: =IFERROR(((VLOOKUP(A22,Honorarios!$A$9:$D$15,3,FALSE))),"") | H22: =IFERROR(B22*C22*E22*F22*G22,0) -> 0 | I22: =IFERROR(H22/$H$80,0) -> 0 | P22: =H22-SUM(J22:O22) -> 0
... F51: =IFERROR(VLOOKUP(A51,Honorarios!$A$9:$D$15,2,FALSE),"") | G51: =IFERROR(((VLOOKUP(A51,Honorarios!$A$9:$D$15,3,FALSE))),"") | H51: =IFERROR(B51*C51*E51*F51*G51,0) -> 0 | I51: =IFERROR(H51/$H$80,0) -> 0 | P51: =H51-SUM(J51:O51) -> 0
A52: Subtotal Mano de Obra calificada | H52: =SUM(H11:H51) -> 0 | I52: =SUM(I11:I51) -> 0
A53: Mano de Obra No Calificada
H54: =B54*C54*E54*F54*G54 -> 0 | I54: =IFERROR(H54/$H$80,0) -> 0 | P54: =H54-SUM(J54:O54) -> 0
H55: =B55*C55*E55*F55*G55 -> 0 | I55: =IFERROR(H55/$H$80,0) -> 0 | P55: =H55-SUM(J55:O55) -> 0
H56: =B56*C56*E56*F56*G56 -> 0 | I56: =IFERROR(H56/$H$80,0) -> 0 | P56: =H56-SUM(J56:O56) -> 0
H57: =B57*C57*E57*F57*G57 -> 0 | I57: =IFERROR(H57/$H$80,0) -> 0 | P57: =H57-SUM(J57:O57) -> 0
H58: =B58*C58*E58*F58*G58 -> 0 | I58: =IFERROR(H58/$H$80,0) -> 0 | P58: =H58-SUM(J58:O58) -> 0
H59: =B59*C59*E59*F59*G59 -> 0 | I59: =IFERROR(H59/$H$80,0) -> 0 | P59: =H59-SUM(J59:O59) -> 0
H60: =B60*C60*E60*F60*G60 -> 0 | I60: =IFERROR(H60/$H$80,0) -> 0 | P60: =H60-SUM(J60:O60) -> 0
H61: =B61*C61*E61*F61*G61 -> 0 | I61: =IFERROR(H61/$H$80,0) -> 0 | P61: =H61-SUM(J61:O61) -> 0
H62: =B62*C62*E62*F62*G62 -> 0 | I62: =IFERROR(H62/$H$80,0) -> 0 | P62: =H62-SUM(J62:O62) -> 0
H63: =B63*C63*E63*F63*G63 -> 0 | I63: =IFERROR(H63/$H$80,0) -> 0 | P63: =H63-SUM(J63:O63) -> 0
H64: =B64*C64*E64*F64*G64 -> 0 | I64: =IFERROR(H64/$H$80,0) -> 0 | P64: =H64-SUM(J64:O64) -> 0
H65: =B65*C65*E65*F65*G65 -> 0 | I65: =IFERROR(H65/$H$80,0) -> 0 | P65: =H65-SUM(J65:O65) -> 0
... H78: =B78*C78*E78*F78*G78 -> 0 | I78: =IFERROR(H78/$H$80,0) -> 0 | P78: =H78-SUM(J78:O78) -> 0
A79: Subtotal Mano de Obra no Calificada | H79: =SUM(H54:H78) -> 0 | I79: =SUM(I54:I78) -> 0
A80: SUBTOTAL PERSONAL (Mano de Obra Calificada + Mano de Obra no Calificada) | H80: =H52+H79 -> 0 | I80: =I52+I79 -> 0
A82: COSTOS (Diferentes a los costos del personal)
A83: Ítem | D83: Unidad de medida | E83: Cantidad | F83: Valor unitario | H83: Valor total | I83: (%) PP
...

Sheet Ppto PSP
B1: SISTEMA DE GESTIÓN INTEGRAL - SGI | G1: Instructivo
B2: PRESUPUESTO - MODALIDAD CONTRATO - PRESTACIÓN DE SERVICIOS PERSONALES | G2: Plan de ejecución física y de inversiones - prestación de servicios personales
B3: CÓDIGO: F-PGC-21 | E3: VERSIÓN: 02
A5: MODALIDAD DE CONTRATACIÓN: | B5: ='PE PSP'!R5 -> 0
A6: OBJETO A CONTRATAR: | B6: ='PE PSP'!R6 -> 0
A8: Ítem | B8: Unidad de medida | C8: Cantidad | D8: Valor unitario base | E8: Factor prestacional | F8: Valor total
B9: Mes | D9: =IFERROR(VLOOKUP(A9,Honorarios!$A$9:$D$15,2,FALSE),"") | E9: =IFERROR(VLOOKUP(A9,Honorarios!$A$9:$D$15,3,FALSE),"") | F9: =IFERROR(C9*D9*E9,0) -> 0 | G9: Tabla de honorarios
A11: SUBTOTAL | F11: =F9+F10 -> 0
A12: IVA | F12: 0 | G12: Solo aplica en caso que la persona natural sea responsable de IVA
A13: TOTAL | F13: =F11+F12 -> 0

Sheet Presupuesto Convenio
E1: SISTEMA DE GESTIÓN INTEGRAL - SGI | U1: Instructivo
E2: PRESUPUESTO - MODALIDAD CONVENIO
E3: CÓDIGO: F-PGC-21 | M3: VERSIÓN: 02
A5: MODALIDAD DE CONTRATACIÓN: | C5: ='Plan Ejecución'!AE5 -> CONTRATACIÓN DIRECTA
A6: OBJETO A CONTRATAR: | C6: ='Plan Ejecución'!AE6 -> "“SOPORTE, MANTENIMIENTO Y ACTUALIZACIÓN DEL VISOR GEOGRÁFICO – AÑO 2025"
A8: COSTOS DE PERSONAL | J8: FUENTES DE COFINANCIACIÓN | O8: Recursos en dinero de CORANTIOQUIA por alcance, actividad o subactividad
A9: Ítem | B9: Cantidad personal | C9: (%) Dedicación | D9: Unidad de medida | E9: Cantidad | F9: Valor unitario base | G9: Factor prestacional | H9: Valor total | I9: (%) PP | J9: CORANTIOQUIA | L9: Entidad 1:
J10: DINERO | K10: ESPECIE | L10: DINERO | M10: ESPECIE | O10: Alcance 1 | P10: Alcance 2 | Q10: Alcance 3 | R10: Alcance 4 | S10: Alcance 5 | T10: Alcance 6
A11: Mano de Obra Calificada
F12: =IFERROR(VLOOKUP(A12,Honorarios!$A$9:$D$15,2,FALSE),"") | G12: =IFERROR(((VLOOKUP(A12,Honorarios!$A$9:$D$15,3,FALSE))),"") | H12: =IFERROR(B12*C12*E12*F12*G12,0) -> 0 | I12: =IFERROR(H12/$H$100,0) -> 0 | N12: =IFERROR(H12-SUM(J12:M12),"") -> 0 | U12: =J12-SUM(O12:T12) -> 0
F13: =IFERROR(VLOOKUP(A13,Honorarios!$A$9:$D$15,2,FALSE),"") | G13: =IFERROR(((VLOOKUP(A13,Honorarios!$A$9:$D$15,3,FALSE))),"") | H13: =IFERROR(B13*C13*E13*F13*G13,0) -> 0 | I13: =IFERROR(H13/$H$100,0) -> 0 | N13: =IFERROR(H13-SUM(J13:M13),"") -> 0 | U13: =J13-SUM(O13:T13) -> 0
F14: =IFERROR(VLOOKUP(A14,Honorarios!$A$9:$D$15,2,FALSE),"") | G14: =IFERROR(((VLOOKUP(A14,Honorarios!$A$9:$D$15,3,FALSE))),"") | H14: =IFERROR(B14*C14*E14*F14*G14,0) -> 0 | I14: =IFERROR(H14/$H$100,0) -> 0 | N14: =IFERROR(H14-SUM(J14:M14),"") -> 0 | U14: =J14-SUM(O14:T14) -> 0
F15: =IFERROR(VLOOKUP(A15,Honorarios!$A$9:$D$15,2,FALSE),"") | G15: =IFERROR(((VLOOKUP(A15,Honorarios!$A$9:$D$15,3,FALSE))),"") | H15: =IFERROR(B15*C15*E15*F15*G15,0) -> 0 | I15: =IFERROR(H15/$H$100,0) -> 0 | N15: =IFERROR(H15-SUM(J15:M15),"") -> 0 | U15: =J15-SUM(O15:T15) -> 0
F16: =IFERROR(VLOOKUP(A16,Honorarios!$A$9:$D$15,2,FALSE),"") | G16: =IFERROR(((VLOOKUP(A16,Honorarios!$A$9:$D$15,3,FALSE))),"") | H16: =IFERROR(B16*C16*E16*F16*G16,0) -> 0 | I16: =IFERROR(H16/$H$100,0) -> 0 | N16: =IFERROR(H16-SUM(J16:M16),"") -> 0 | U16: =J16-SUM(O16:T16) -> 0
F17: =IFERROR(VLOOKUP(A17,Honorarios!$A$9:$D$15,2,FALSE),"") | G17: =IFERROR(((VLOOKUP(A17,Honorarios!$A$9:$D$15,3,FALSE))),"") | H17: =IFERROR(B17*C17*E17*F17*G17,0) -> 0 | I17: =IFERROR(H17/$H$100,0) -> 0 | N17: =IFERROR(H17-SUM(J17:M17),"") -> 0 | U17: =J17-SUM(O17:T17) -> 0
F18: =IFERROR(VLOOKUP(A18,Honorarios!$A$9:$D$15,2,FALSE),"") | G18: =IFERROR(((VLOOKUP(A18,Honorarios!$A$9:$D$15,3,FALSE))),"") | H18: =IFERROR(B18*C18*E18*F18*G18,0) -> 0 | I18: =IFERROR(H18/$H$100,0) -> 0 | N18: =IFERROR(H18-SUM(J18:M18),"") -> 0 | U18: =J18-SUM(O18:T18) -> 0
F19: =IFERROR(VLOOKUP(A19,Honorarios!$A$9:$D$15,2,FALSE),"") | G19: =IFERROR(((VLOOKUP(A19,Honorarios!$A$9:$D$15,3,FALSE))),"") | H19: =IFERROR(B19*C19*E19*F19*G19,0) -> 0 | I19: =IFERROR(H19/$H$100,0) -> 0 | N19: =IFERROR(H19-SUM(J19:M19),"") -> 0 | U19: =J19-SUM(O19:T19) -> 0
F20: =IFERROR(VLOOKUP(A20,Honorarios!$A$9:$D$15,2,FALSE),"") | G20: =IFERROR(((VLOOKUP(A20,Honorarios!$A$9:$D$15,3,FALSE))),"") | H20: =IFERROR(B20*C20*E20*F20*G20,0) -> 0 | I20: =IFERROR(H20/$H$100,0) -> 0 | N20: =IFERROR(H20-SUM(J20:M20),"") -> 0 | U20: =J20-SUM(O20:T20) -> 0
F21: =IFERROR(VLOOKUP(A21,Honorarios!$A$9:$D$15,2,FALSE),"") | G21: =IFERROR(((VLOOKUP(A21,Honorarios!$A$9:$D$15,3,FALSE))),"") | H21: =IFERROR(B21*C21*E21*F21*G21,0) -> 0 | I21: =IFERROR(H21/$H$100,0) -> 0 | N21: =IFERROR(H21-SUM(J21:M21),"") -> 0 | U21: =J21-SUM(O21:T21) -> 0
F22: =IFERROR(VLOOKUP(A22,Honorarios!$A$9:$D$15,2,FALSE),"") | G22: =IFERROR(((VLOOKUP(A22,Honorarios!$A$9:$D$15,3,FALSE))),"") | H22: =IFERROR(B22*C22*E22*F22*G22,0) -> 0 | I22: =IFERROR(H22/$H$100,0) -> 0 | N22: =IFERROR(H22-SUM(J22:M22),"") -> 0 | U22: =J22-SUM(O22:T22) -> 0
F23: =IFERROR(VLOOKUP(A23,Honorarios!$A$9:$D$15,2,FALSE),"") | G23: =IFERROR(((VLOOKUP(A23,Honorarios!$A$9:$D$15,3,FALSE))),"") | H23: =IFERROR(B23*C23*E23*F23*G23,0) -> 0 | I23: =IFERROR(H23/$H$100,0) -> 0 | N23: =IFERROR(H23-SUM(J23:M23),"") -> 0 | U23: =J23-SUM(O23:T23) -> 0
... F60: =IFERROR(VLOOKUP(A60,Honorarios!$A$9:$D$15,2,FALSE),"") | G60: =IFERROR(((VLOOKUP(A60,Honorarios!$A$9:$D$15,3,FALSE))),"") | H60: =IFERROR(B60*C60*E60*F60*G60,0) -> 0 | I60: =IFERROR(H60/$H$100,0) -> 0 | N60: =IFERROR(H60-SUM(J60:M60),"") -> 0 | U60: =J60-SUM(O60:T60) -> 0
A61: Subtotal Mano de Obra calificada | H61: =SUM(H12:H60) -> 0 | I61: =SUM(I12:I60) -> 0 | J61: =SUM(J12:J60) -> 0 | K61: =SUM(K12:K60) -> 0 | L61: =SUM(L12:L60) -> 0 | M61: =SUM(M12:M60) -> 0 | N61: =H61-SUM(J61:M61) -> 0
A62: Mano de Obra No Calificada
H63: =IFERROR(B63*C63*E63*F63*G63,0) -> 0 | I63: =IFERROR(H63/$H$100,0) -> 0 | N63: =H63-SUM(J63:M63) -> 0 | U63: =J63-SUM(O63:T63) -> 0
H64: =IFERROR(B64*C64*E64*F64*G64,0) -> 0 | I64: =IFERROR(H64/$H$100,0) -> 0 | N64: =H64-SUM(J64:M64) -> 0 | U64: =J64-SUM(O64:T64) -> 0
H65: =IFERROR(B65*C65*E65*F65*G65,0) -> 0 | I65: =IFERROR(H65/$H$100,0) -> 0 | N65: =H65-SUM(J65:M65) -> 0 | U65: =J65-SUM(O65:T65) -> 0
H66: =IFERROR(B66*C66*E66*F66*G66,0) -> 0 | I66: =IFERROR(H66/$H$100,0) -> 0 | N66: =H66-SUM(J66:M66) -> 0 | U66: =J66-SUM(O66:T66) -> 0
H67: =IFERROR(B67*C67*E67*F67*G67,0) -> 0 | I67: =IFERROR(H67/$H$100,0) -> 0 | N67: =H67-SUM(J67:M67) -> 0 | U67: =J67-SUM(O67:T67) -> 0
H68: =IFERROR(B68*C68*E68*F68*G68,0) -> 0 | I68: =IFERROR(H68/$H$100,0) -> 0 | N68: =H68-SUM(J68:M68) -> 0 | U68: =J68-SUM(O68:T68) -> 0
H69: =IFERROR(B69*C69*E69*F69*G69,0) -> 0 | I69: =IFERROR(H69/$H$100,0) -> 0 | N69: =H69-SUM(J69:M69) -> 0 | U69: =J69-SUM(O69:T69) -> 0
H70: =IFERROR(B70*C70*E70*F70*G70,0) -> 0 | I70: =IFERROR(H70/$H$100,0) -> 0 | N70: =H70-SUM(J70:M70) -> 0 | U70: =J70-SUM(O70:T70) -> 0
H71: =IFERROR(B71*C71*E71*F71*G71,0) -> 0 | I71: =IFERROR(H71/$H$100,0) -> 0 | N71: =H71-SUM(J71:M71) -> 0 | U71: =J71-SUM(O71:T71) -> 0
H72: =IFERROR(B72*C72*E72*F72*G72,0) -> 0 | I72: =IFERROR(H72/$H$100,0) -> 0 | N72: =H72-SUM(J72:M72) -> 0 | U72: =J72-SUM(O72:T72) -> 0
H73: =IFERROR(B73*C73*E73*F73*G73,0) -> 0 | I73: =IFERROR(H73/$H$100,0) -> 0 | N73: =H73-SUM(J73:M73) -> 0 | U73: =J73-SUM(O73:T73) -> 0
H74: =IFERROR(B74*C74*E74*F74*G74,0) -> 0 | I74: =IFERROR(H74/$H$100,0) -> 0 | N74: =H74-SUM(J74:M74) -> 0 | U74: =J74-SUM(O74:T74) -> 0
... H98: =IFERROR(B98*C98*E98*F98*G98,0) -> 0 | I98: =IFERROR(H98/$H$100,0) -> 0 | N98: =H98-SUM(J98:M98) -> 0 | U98: =J98-SUM(O98:T98) -> 0
A99: Subtotal Mano de Obra no Calificada | H99: =SUM(H63:H98) -> 0 | I99: =SUM(I63:I98) -> 0 | J99: =SUM(J63:J98) -> 0 | K99: =SUM(K63:K98) -> 0 | L99: =SUM(L63:L98) -> 0 | M99: =SUM(M63:M98) -> 0 | N99: =H99-SUM(J99:M99) -> 0
A100: SUBTOTAL PERSONAL (Mano de Obra Calificada + Mano de Obra no Calificada) | H100: =H61+H99 -> 0 | I100: =I61+I99 -> 0 | J100: =J61+J99 -> 0 | K100: =K61+K99 -> 0 | L100: =L61+L99 -> 0 | M100: =M61+M99 -> 0 | N100: =H100-SUM(J100:M100) -> 0
A102: COSTOS (Diferentes a los costos del personal) | J102: FUENTES DE COFINANCIACIÓN
...

Sheet PRESUPUESTO OTRO SI 
C1: SISTEMA DE GESTIÓN INTEGRAL - SGI | P1: Instructivo
C2: PRESUPUESTO - MODALIDAD CONTRATO
C3: CÓDIGO: F-PGC-21 | H3: VERSIÓN: 03
A5: MODALIDAD DE CONTRATACIÓN: | C5: ='Plan Ejecución'!C5:AD5 -> CONTRATACIÓN DIRECTA
A6: OBJETO A CONTRATAR: | C6: ='Plan Ejecución'!C6:AD6 -> "“SOPORTE, MANTENIMIENTO Y ACTUALIZACIÓN DEL VISOR GEOGRÁFICO – AÑO 2025"
A8: COSTOS DE PERSONAL | J8: Recursos por alcance, actividad o subactividad
A9: Ítem | B9: Cantidad personal | C9: (%) Dedicación | D9: Unidad de medida | E9: Cantidad | F9: Valor unitario base | G9: Factor prestacional | H9: Valor total | I9: (%) PP | J9: Alcance 1 | K9: Alcance 2 | L9: Alcance 3 | M9: Alcance 4 | N9: Alcance 5 | O9: Alcance 6
A10: Mano de Obra Calificada
F11: =IFERROR(VLOOKUP(A11,Honorarios!$A$9:$D$15,2,FALSE),"") | G11: =IFERROR(((VLOOKUP(A11,Honorarios!$A$9:$D$15,3,FALSE))),"") | H11: =IFERROR(B11*C11*E11*F11*G11,0) -> 0 | I11: =IFERROR(H11/$H$80,0) -> 0 | P11: =H11-SUM(J11:O11) -> 0
F12: =IFERROR(VLOOKUP(A12,Honorarios!$A$9:$D$15,2,FALSE),"") | G12: =IFERROR(((VLOOKUP(A12,Honorarios!$A$9:$D$15,3,FALSE))),"") | H12: =IFERROR(B12*C12*E12*F12*G12,0) -> 0 | I12: =IFERROR(H12/$H$80,0) -> 0 | P12: =H12-SUM(J12:O12) -> 0
F13: =IFERROR(VLOOKUP(A13,Honorarios!$A$9:$D$15,2,FALSE),"") | G13: =IFERROR(((VLOOKUP(A13,Honorarios!$A$9:$D$15,3,FALSE))),"") | H13: =IFERROR(B13*C13*E13*F13*G13,0) -> 0 | I13: =IFERROR(H13/$H$80,0) -> 0 | P13: =H13-SUM(J13:O13) -> 0
F14: =IFERROR(VLOOKUP(A14,Honorarios!$A$9:$D$15,2,FALSE),"") | G14: =IFERROR(((VLOOKUP(A14,Honorarios!$A$9:$D$15,3,FALSE))),"") | H14: =IFERROR(B14*C14*E14*F14*G14,0) -> 0 | I14: =IFERROR(H14/$H$80,0) -> 0 | P14: =H14-SUM(J14:O14) -> 0
F15: =IFERROR(VLOOKUP(A15,Honorarios!$A$9:$D$15,2,FALSE),"") | G15: =IFERROR(((VLOOKUP(A15,Honorarios!$A$9:$D$15,3,FALSE))),"") | H15: =IFERROR(B15*C15*E15*F15*G15,0) -> 0 | I15: =IFERROR(H15/$H$80,0) -> 0 | P15: =H15-SUM(J15:O15) -> 0
F16: =IFERROR(VLOOKUP(A16,Honorarios!$A$9:$D$15,2,FALSE),"") | G16: =IFERROR(((VLOOKUP(A16,Honorarios!$A$9:$D$15,3,FALSE))),"") | H16: =IFERROR(B16*C16*E16*F16*G16,0) -> 0 | I16: =IFERROR(H16/$H$80,0) -> 0 | P16: =H16-SUM(J16:O16) -> 0
F17: =IFERROR(VLOOKUP(A17,Honorarios!$A$9:$D$15,2,FALSE),"") | G17: =IFERROR(((VLOOKUP(A17,Honorarios!$A$9:$D$15,3,FALSE))),"") | H17: =IFERROR(B17*C17*E17*F17*G17,0) -> 0 | I17: =IFERROR(H17/$H$80,0) -> 0 | P17: =H17-SUM(J17:O17) -> 0
F18: =IFERROR(VLOOKUP(A18,Honorarios!$A$9:$D$15,2,FALSE),"") | G18: =IFERROR(((VLOOKUP(A18,Honorarios!$A$9:$D$15,3,FALSE))),"") | H18: =IFERROR(B18*C18*E18*F18*G18,0) -> 0 | I18: =IFERROR(H18/$H$80,0) -> 0 | P18: =H18-SUM(J18:O18) -> 0
F19: =IFERROR(VLOOKUP(A19,Honorarios!$A$9:$D$15,2,FALSE),"") | G19: =IFERROR(((VLOOKUP(A19,Honorarios!$A$9:$D$15,3,FALSE))),"") | H19: =IFERROR(B19*C19*E19*F19*G19,0) -> 0 | I19: =IFERROR(H19/$H$80,0) -> 0 | P19: =H19-SUM(J19:O19) -> 0
F20: =IFERROR(VLOOKUP(A20,Honorarios!$A$9:$D$15,2,FALSE),"") | G20: =IFERROR(((VLOOKUP(A20,Honorarios!$A$9:$D$15,3,FALSE))),"") | H20: =IFERROR(B20*C20*E20*F20*G20,0) -> 0 | I20: =IFERROR(H20/$H$80,0) -> 0 | P20: =H20-SUM(J20:O20) -> 0
F21: =IFERROR(VLOOKUP(A21,Honorarios!$A$9:$D$15,2,FALSE),"") | G21: =IFERROR(((VLOOKUP(A21,Honorarios!$A$9:$D$15,3,FALSE))),"") | H21: =IFERROR(B21*C21*E21*F21*G21,0) -> 0 | I21: =IFERROR(H21/$H$80,0) -> 0 | P21: =H21-SUM(J21:O21) -> 0
F22: =IFERROR(VLOOKUP(A22,Honorarios!$A$9:$D$15,2,FALSE),"") | G22: =IFERROR(((VLOOKUP(A22,Honorarios!$A$9:$D$15,3,FALSE))),"") | H22: =IFERROR(B22*C22*E22*F22*G22,0) -> 0 | I22: =IFERROR(H22/$H$80,0) -> 0 | P22: =H22-SUM(J22:O22) -> 0
... F51: =IFERROR(VLOOKUP(A51,Honorarios!$A$9:$D$15,2,FALSE),"") | G51: =IFERROR(((VLOOKUP(A51,Honorarios!$A$9:$D$15,3,FALSE))),"") | H51: =IFERROR(B51*C51*E51*F51*G51,0) -> 0 | I51: =IFERROR(H51/$H$80,0) -> 0 | P51: =H51-SUM(J51:O51) -> 0
A52: Subtotal Mano de Obra calificada | H52: =SUM(H11:H51) -> 0 | I52: =SUM(I11:I51) -> 0
A53: Mano de Obra No Calificada
H54: =B54*C54*E54*F54*G54 -> 0 | I54: =IFERROR(H54/$H$80,0) -> 0 | P54: =H54-SUM(J54:O54) -> 0
H55: =B55*C55*E55*F55*G55 -> 0 | I55: =IFERROR(H55/$H$80,0) -> 0 | P55: =H55-SUM(J55:O55) -> 0
H56: =B56*C56*E56*F56*G56 -> 0 | I56: =IFERROR(H56/$H$80,0) -> 0 | P56: =H56-SUM(J56:O56) -> 0
H57: =B57*C57*E57*F57*G57 -> 0 | I57: =IFERROR(H57/$H$80,0) -> 0 | P57: =H57-SUM(J57:O57) -> 0
H58: =B58*C58*E58*F58*G58 -> 0 | I58: =IFERROR(H58/$H$80,0) -> 0 | P58: =H58-SUM(J58:O58) -> 0
H59: =B59*C59*E59*F59*G59 -> 0 | I59: =IFERROR(H59/$H$80,0) -> 0 | P59: =H59-SUM(J59:O59) -> 0
H60: =B60*C60*E60*F60*G60 -> 0 | I60: =IFERROR(H60/$H$80,0) -> 0 | P60: =H60-SUM(J60:O60) -> 0
H61: =B61*C61*E61*F61*G61 -> 0 | I61: =IFERROR(H61/$H$80,0) -> 0 | P61: =H61-SUM(J61:O61) -> 0
H62: =B62*C62*E62*F62*G62 -> 0 | I62: =IFERROR(H62/$H$80,0) -> 0 | P62: =H62-SUM(J62:O62) -> 0
H63: =B63*C63*E63*F63*G63 -> 0 | I63: =IFERROR(H63/$H$80,0) -> 0 | P63: =H63-SUM(J63:O63) -> 0
H64: =B64*C64*E64*F64*G64 -> 0 | I64: =IFERROR(H64/$H$80,0) -> 0 | P64: =H64-SUM(J64:O64) -> 0
H65: =B65*C65*E65*F65*G65 -> 0 | I65: =IFERROR(H65/$H$80,0) -> 0 | P65: =H65-SUM(J65:O65) -> 0
... H78: =B78*C78*E78*F78*G78 -> 0 | I78: =IFERROR(H78/$H$80,0) -> 0 | P78: =H78-SUM(J78:O78) -> 0
A79: Subtotal Mano de Obra no Calificada | H79: =SUM(H54:H78) -> 0 | I79: =SUM(I54:I78) -> 0
A80: SUBTOTAL PERSONAL (Mano de Obra Calificada + Mano de Obra no Calificada) | H80: =H52+H79 -> 0 | I80: =I52+I79 -> 0
A82: COSTOS (Diferentes a los costos del personal)
A83: Ítem | D83: Unidad de medida | E83: Cantidad | F83: Valor unitario | H83: Valor total | I83: (%) PP
...

Sheet Memoria de cálculo O1
B1: SISTEMA DE GESTIÓN INTEGRAL - SGI | F1: Instructivo
B2: MEMORIA DE CÁLCULO - OPCIÓN 1
B3: CÓDIGO: F-PGC-21 | D3: VERSIÓN: 03
A5: MODALIDAD DE CONTRATACIÓN: | B5: ='Plan Ejecución'!AE5 -> CONTRATACIÓN DIRECTA
A6: OBJETO A CONTRATAR: | B6: ='Plan Ejecución'!AE6 -> "“SOPORTE, MANTENIMIENTO Y ACTUALIZACIÓN DEL VISOR GEOGRÁFICO – AÑO 2025"
A8: PROCESO/ ALCANCE / ACTIVIDAD: | B8: "SOPORTE, MANTENIMIENTO Y ACTUALIZACIÓN DEL VISOR GEOGRÁFICO – AÑO 2025"
A9: UNIDAD DE MEDIDA PARA EL PRECIO UNITARIO: | B9: licencia y meses
A10: ESPECIFICACIÓN TÉCNICA PARA EL PRECIO UNITARIO:
A12: Ítem | B12: Unidad de medida | C12: Cantidad | D12: Valor unitario | E12: Valor total
A13: Licenciamiento y actualización del Geoportal Corantioquia | B13: Licencia | C13: 1 | D13: 10204400 | E13: =C13*D13 -> 10204400
A14: Soporte y mantenimiento del sistema con mesa de ayuda (lun-vie 6: am - 5:00 pm) | B14: Meses | C14: 12 | D14: 5676666.7 | E14: =C14*D14 -> 68120000
D15: 0 | E15: =C15*D15 -> 0
E16: =C16*D16 -> 0
E17: =C17*D17 -> 0
E18: =C18*D18 -> 0
E19: =C19*D19 -> 0
E20: =C20*D20 -> 0
E21: =C21*D21 -> 0
E22: =C22*D22 -> 0
E23: =C23*D23 -> 0
E24: =C24*D24 -> 0
E25: =C25*D25 -> 0
E26: =C26*D26 -> 0
E27: =C27*D27 -> 0
... E185: =C185*D185 -> 0
A186: SUBTOTAL (antes de IVA) | E186: =SUM(E13:E185) -> 78324400
A187: IVA | D187: 0.19 | E187: =E186*19% -> 14881636 | F187: Info IVA
A188: TOTAL (incluido IVA) | E188: =E186+E187 -> 93206036

Sheet Memoria de cálculo O2
D1: SISTEMA DE GESTIÓN INTEGRAL - SGI | M1: Instructivo
D2: MEMORIA DE CÁLCULO - OPCIÓN 2
D3: CÓDIGO: F-PGC-21 | H3: VERSIÓN: 02
A5: MODALIDAD DE CONTRATACIÓN: | F5: ='Plan Ejecución'!AE5 -> CONTRATACIÓN DIRECTA
A6: OBJETO A CONTRATAR: | F6: ='Plan Ejecución'!AE6 -> "“SOPORTE, MANTENIMIENTO Y ACTUALIZACIÓN DEL VISOR GEOGRÁFICO – AÑO 2025"
A8: PROCESO/ ALCANCE / ACTIVIDAD:
A9: UNIDAD DE MEDIDA PARA EL PRECIO UNITARIO:
A10: ESPECIFICACIÓN TÉCNICA PARA EL PRECIO UNITARIO:
A12: DISCRIMINACIÓN DE COSTOS | I12: FUENTES DE COFINANCIACIÓN
I13: CORANTIOQUIA | K13: Entidad 1:
A14: Ítem | B14: Cantidad personal | C14: (%) Dedicación | D14: Unidad de medida | E14: Cantidad | F14: Valor unitario base | G14: Factor prestacional | H14: Valor total | I14: DINERO | J14: ESPECIE | K14: DINERO | L14: ESPECIE
A15: COSTOS DE PERSONAL
H16: =B16*C16*E16*F16*G16 -> 0
H17: =B17*C17*E17*F17*G17 -> 0
H18: =B18*C18*E18*F18*G18 -> 0
H19: =B19*C19*E19*F19*G19 -> 0
H20: =B20*C20*E20*F20*G20 -> 0
H21: =B21*C21*E21*F21*G21 -> 0
H22: =B22*C22*E22*F22*G22 -> 0
H23: =B23*C23*E23*F23*G23 -> 0
H24: =B24*C24*E24*F24*G24 -> 0
H25: =B25*C25*E25*F25*G25 -> 0
H26: =B26*C26*E26*F26*G26 -> 0
H27: =B27*C27*E27*F27*G27 -> 0
... H40: =B40*C40*E40*F40*G40 -> 0
A41: SUBTOTAL COSTOS DE PERSONAL | H41: =SUM(H16:H40) -> 0 | I41: =SUM(I16:I40) -> 0 | J41: =SUM(J16:J40) -> 0 | K41: =SUM(K16:K40) -> 0 | L41: =SUM(L16:L40) -> 0
A42: Ítem | D42: Unidad de medida | E42: Cantidad | F42: Valor unitario | H42: Valor total oferente | I42: DINERO | J42: ESPECIE | K42: DINERO | L42: ESPECIE
A43: COSTOS DE MATERIALES Y SUMINISTROS
H44: =E44*F44 -> 0
H45: =E45*F45 -> 0
H46: =E46*F46 -> 0
H47: =E47*F47 -> 0
H48: =E48*F48 -> 0
H49: =E49*F49 -> 0
H50: =E50*F50 -> 0
H51: =E51*F51 -> 0
H52: =E52*F52 -> 0
H53: =E53*F53 -> 0
H54: =E54*F54 -> 0
H55: =E55*F55 -> 0
...

Sheet Memoria de cálculo O3
D1: SISTEMA DE GESTIÓN INTEGRAL - SGI | M1: Instructivo
D2: MEMORIA DE CÁLCULO - OPCIÓN 3
D3: CÓDIGO: F-PGC-21 | H3: VERSIÓN: 02
A5: MODALIDAD DE CONTRATACIÓN: | F5: ='Plan Ejecución'!AE5 -> CONTRATACIÓN DIRECTA
A6: OBJETO A CONTRATAR: | F6: ='Plan Ejecución'!AE6 -> "“SOPORTE, MANTENIMIENTO Y ACTUALIZACIÓN DEL VISOR GEOGRÁFICO – AÑO 2025"
A8: PROCESO/ ALCANCE / ACTIVIDAD:
A9: UNIDAD DE MEDIDA PARA EL PRECIO UNITARIO:
A10: ESPECIFICACIÓN TÉCNICA PARA EL PRECIO UNITARIO:
A12: DISCRIMINACIÓN DE COSTOS | I12: FUENTES DE COFINANCIACIÓN
I13: CORANTIOQUIA | K13: Entidad 1:
A14: ACTIVIDAD 1
A15: Ítem | B15: Cantidad personal | C15: (%) Dedicación | D15: Unidad de medida | E15: Cantidad | F15: Valor unitario base | G15: Factor prestacional | H15: Valor total | I15: DINERO | J15: ESPECIE | K15: DINERO | L15: ESPECIE
A16: COSTOS DE PERSONAL
H17: =B17*C17*E17*F17*G17 -> 0
H18: =B18*C18*E18*F18*G18 -> 0
H19: =B19*C19*E19*F19*G19 -> 0
H20: =B20*C20*E20*F20*G20 -> 0
H21: =B21*C21*E21*F21*G21 -> 0
H22: =B22*C22*E22*F22*G22 -> 0
H23: =B23*C23*E23*F23*G23 -> 0
H24: =B24*C24*E24*F24*G24 -> 0
H25: =B25*C25*E25*F25*G25 -> 0
H26: =B26*C26*E26*F26*G26 -> 0
H27: =B27*C27*E27*F27*G27 -> 0
A28: SUBTOTAL COSTOS DE PERSONAL | H28: =SUM(H17:H27) -> 0 | I28: =SUM(I17:I27) -> 0 | J28: =SUM(J17:J27) -> 0 | K28: =SUM(K17:K27) -> 0 | L28: =SUM(L17:L27) -> 0
A29: Ítem | D29: Unidad de medida | E29: Cantidad | F29: Valor unitario | H29: Valor total | I29: DINERO | J29: ESPECIE | K29: DINERO | L29: ESPECIE
A30: OTROS COSTOS (Diferentes a los costos de personal)
H31: =E31*F31 -> 0
H32: =E32*F32 -> 0
H33: =E33*F33 -> 0
H34: =E34*F34 -> 0
H35: =E35*F35 -> 0
H36: =E36*F36 -> 0
H37: =E37*F37 -> 0
H38: =E38*F38 -> 0
H39: =E39*F39 -> 0
H40: =E40*F40 -> 0
H41: =E41*F41 -> 0
H42: =E42*F42 -> 0
... H44: =E44*F44 -> 0
...

Sheet Estudio de mercado
B1: SISTEMA DE GESTIÓN INTEGRAL - SGI | L1: Instructivo
B2: ESTUDIO DE MERCADO
B3: CÓDIGO: F-PGC-21 | I3: VERSIÓN: 02
A5: MODALIDAD DE CONTRATACIÓN: | D5: ='Plan Ejecución'!AE5 -> CONTRATACIÓN DIRECTA
A6: OBJETO A CONTRATAR: | D6: ='Plan Ejecución'!AE6 -> "“SOPORTE, MANTENIMIENTO Y ACTUALIZACIÓN DEL VISOR GEOGRÁFICO – AÑO 2025"
D8: 1 | E8: 2 | F8: 3 | G8: 4 | H8: 5 | I8: 6 | J8: 7
A9: NÚMERO DE RADICADO: | D9: 090-COE2501-197
A10: PROVEEDOR: | D10: H Y G CONSULTORES SAS
A11: Ítem | B11: Unidad de medida | C11: Cantidad | D11: Valor unitario antes de IVA | E11: Valor unitario antes de IVA | F11: Valor unitario antes de IVA | G11: Valor unitario antes de IVA | H11: Valor unitario antes de IVA | I11: Valor unitario antes de IVA | J11: Valor unitario antes de IVA | K11: PROMEDIO Valor unitario antes de IVA | M11: MEDIANA Valor unitario antes de IVA
A12: Actualización del licenciamiento y mejoras de portal geográfico | B12: Licencia | C12: 1 | D12: 10204400 | K12: =IFERROR(AVERAGEIF(D12:J12,">0",D12:J12),"") -> 10204400 | M12: =IFERROR(MEDIAN(D12:J12),"") -> 10204400
A13: . Soporte y mantenimiento del sistema con mesa de ayuda. | B13: Meses | C13: 12 | D13: 68120000 | K13: =IFERROR(AVERAGEIF(D13:J13,">0",D13:J13),"") -> 68120000 | M13: =IFERROR(MEDIAN(D13:J13),"") -> 68120000
K14: =IFERROR(AVERAGEIF(D14:J14,">0",D14:J14),"") | M14: =IFERROR(MEDIAN(D14:J14),"")
K15: =IFERROR(AVERAGEIF(D15:J15,">0",D15:J15),"") | M15: =IFERROR(MEDIAN(D15:J15),"")
K16: =IFERROR(AVERAGEIF(D16:J16,">0",D16:J16),"") | M16: =IFERROR(MEDIAN(D16:J16),"")
K17: =IFERROR(AVERAGEIF(D17:J17,">0",D17:J17),"") | M17: =IFERROR(MEDIAN(D17:J17),"")
K18: =IFERROR(AVERAGEIF(D18:J18,">0",D18:J18),"") | M18: =IFERROR(MEDIAN(D18:J18),"")
K19: =IFERROR(AVERAGEIF(D19:J19,">0",D19:J19),"") | M19: =IFERROR(MEDIAN(D19:J19),"")
K20: =IFERROR(AVERAGEIF(D20:J20,">0",D20:J20),"") | M20: =IFERROR(MEDIAN(D20:J20),"")
K21: =IFERROR(AVERAGEIF(D21:J21,">0",D21:J21),"") | M21: =IFERROR(MEDIAN(D21:J21),"")
K22: =IFERROR(AVERAGEIF(D22:J22,">0",D22:J22),"") | M22: =IFERROR(MEDIAN(D22:J22),"")
K23: =IFERROR(AVERAGEIF(D23:J23,">0",D23:J23),"") | M23: =IFERROR(MEDIAN(D23:J23),"")
K24: =IFERROR(AVERAGEIF(D24:J24,">0",D24:J24),"") | M24: =IFERROR(MEDIAN(D24:J24),"")
K25: =IFERROR(AVERAGEIF(D25:J25,">0",D25:J25),"") | M25: =IFERROR(MEDIAN(D25:J25),"")
... K354: =IFERROR(AVERAGEIF(D354:J354,">0",D354:J354),"") | M354: =IFERROR(MEDIAN(D354:J354),"")
A356: NOTA: A la hora de solicitar la cotización se deberá considerar que la misma esté expresada en los términos y unidades del presupuesto, igualmente, que en la medida de lo posible se encuentre en pesos colombianos, en caso de usar otra moneda explicitar la tasa de cambio utilizada, y la fecha y fuente de consulta de la misma.

Sheet Gastos de adm
B1: SISTEMA DE GESTIÓN INTEGRAL - SGI | G1: Instructivo
B2: DETERMINACIÓN DE GASTOS DE ADMINISTRACIÓN | G2: Impuestos y garantías
B3: CÓDIGO: F-PGC-21 | D3: VERSIÓN: 02
A5: MODALIDAD DE CONTRATACIÓN: | B5: ='Plan Ejecución'!AE5 -> CONTRATACIÓN DIRECTA
A6: OBJETO A CONTRATAR: | B6: ='Plan Ejecución'!AE6 -> "“SOPORTE, MANTENIMIENTO Y ACTUALIZACIÓN DEL VISOR GEOGRÁFICO – AÑO 2025"
A8: COSTOS DIRECTOS EN DINERO NO EJECUTOR | D8: MESES
A10: GASTOS DE ADMINISTRACIÓN
A11: Ítem | B11: Unidad de medida | C11: Cantidad | D11: Valor unitario | E11: Valor total | F11: (%) PP
E12: =C12*D12 -> 0 | F12: =IFERROR(E12/$B$8,0) -> 0
E13: =C13*D13 -> 0 | F13: =IFERROR(E13/$B$8,0) -> 0
E14: =C14*D14 -> 0 | F14: =IFERROR(E14/$B$8,0) -> 0
E15: =C15*D15 -> 0 | F15: =IFERROR(E15/$B$8,0) -> 0
E16: =C16*D16 -> 0 | F16: =IFERROR(E16/$B$8,0) -> 0
E17: =C17*D17 -> 0 | F17: =IFERROR(E17/$B$8,0) -> 0
E18: =C18*D18 -> 0 | F18: =IFERROR(E18/$B$8,0) -> 0
E19: =C19*D19 -> 0 | F19: =IFERROR(E19/$B$8,0) -> 0
E20: =C20*D20 -> 0 | F20: =IFERROR(E20/$B$8,0) -> 0
E21: =C21*D21 -> 0 | F21: =IFERROR(E21/$B$8,0) -> 0
E22: =C22*D22 -> 0 | F22: =IFERROR(E22/$B$8,0) -> 0
E23: =C23*D23 -> 0 | F23: =IFERROR(E23/$B$8,0) -> 0
... E59: =C59*D59 -> 0 | F59: =IFERROR(E59/$B$8,0) -> 0
A60: TOTAL GASTOS DE ADMINISTRACIÓN | E60: =SUM(E12:E59) -> 0 | F60: =SUM(F12:F59) -> 0
A62: En caso de convenios, si el conveniante ejecutor va a realizar un contrato derivado, considerar para el análisis:
A63: TOTAL APORTES EN DINERO NO EJECUTOR (antes de AU e IVA) | E63: =B8 -> 0
A64: Administración | D64: =F60 -> 0 | E64: =D64*E63 -> 0
A65: Utilidad | D65: 0 | E65: =E63*D65 -> 0
A66: IVA | D66: 0 | E66: =(E63+E64+E65)*D66 -> 0 | F66: Info IVA
A67: TOTAL (incluido AU e IVA) | E67: =SUM(E63:E66) -> 0
A69: TOTAL Porcentaje de gastos de administración a reconocer por análisis de contrato derivado (Sobre los costos directos en dinero del no ejecutor) | E69: =E64+E65+E66 -> 0 | F69: =IFERROR(E69/E63,0) -> 0

Sheet Bienes relevantes
E1: SISTEMA DE GESTIÓN INTEGRAL - SGI | Q1: Instructivo
E2: IDENTIFICACIÓN DE BIENES NACIONALES RELEVANTES
E3: CÓDIGO: F-PGC-21 | K3: VERSIÓN: 02
C5: MODALIDAD DE CONTRATACIÓN: | E5: ='Plan Ejecución'!AE5 -> CONTRATACIÓN DIRECTA
C6: OBJETO A CONTRATAR: | E6: ='Plan Ejecución'!AE6 -> "“SOPORTE, MANTENIMIENTO Y ACTUALIZACIÓN DEL VISOR GEOGRÁFICO – AÑO 2025"
C8: El artículo 2 del Decreto 680 de 2021 adicionó el artículo 2.2.1.2.4.2.9 al Decreto 1082 de 2015, en cuanto a que, en la contratación de servicios, la entidad deberá otorgar el puntaje establecido en el artículo 2 de la Ley 816 de 2003 al proponente que oferte servicios nacionales o servicios extranjeros con trato nacional de acuerdo a la regla de origen aplicable y menciona que: “En los contratos que deban cumplirse en Colombia, la Entidad Estatal definirá de manera razonable y proporcionada los bienes colombianos relevantes teniendo en cuenta: 1. El análisis del sector económico y de los oferentes, y, toda aquella información adicional con la que cuente la Entidad Estatal en la etapa de planeación del Proceso de Contratación; 2. El porcentaje de participación de los bienes en el presupuesto del Proceso de Contratación; y 3. La existencia de los bienes en el Registro de Productores de Bienes Nacionales, en los términos del Decreto 2680 de 2009 o las normas que lo modifiquen, aclaren, adicionen o sustituyan. En aquellos casos en que, de acuerdo con el objeto contractual, no existan bienes colombianos relevantes o no exista oferta nacional de los mismos en el Registro de Productores de Bienes Nacionales, la Entidad Estatal otorgará el puntaje de que trata el inciso primero del artículo 2° de la Ley 816 de 2003 al proponente que vincule el porcentaje mínimo establecido por la Entidad Estatal de empleados o contratistas por prestación de servicios colombianos, que no podrá ser inferior al 40% del total de empleados y contratistas asociados al cumplimiento del contrato. La Entidad Estatal documentará este análisis y dejará constancia en los Documentos del Proceso”
