Workbook
Name \a: [1]PJ!#REF!
Name \b: [2]INSUMOS!#REF!
Name \i: [2]INSUMOS!#REF!
Name \L: #REF!
Name \m: [2]INSUMOS!#REF!
Name \P: #REF!
Name \r: [2]INSUMOS!#REF!
Name \t: [2]INSUMOS!#REF!
Name \x: [2]INSUMOS!#REF!
Name _______________________Cod1: #REF!
Name _______________________Pa2: '[3]Paral. 2'!$E:$E
Name _______________________Pa3: '[3]Paral. 3'!$E:$E
Name _______________________Pa4: [3]Paral.4!$E:$E
Name ______________________Cod1: #REF!
Name ______________________Pa1: '[3]Paral. 1'!$E$1:$E$65536
Name ______________________Pa2: '[3]Paral. 2'!$E$1:$E$65536
Name ______________________Pa3: '[3]Paral. 3'!$E$1:$E$65536
Name ______________________Pa4: [3]Paral.4!$E$1:$E$65536
Name ______________________Po2: [4]REAJUSTESACTA1PROVI!#REF!
Name _____________________Cod1: #REF!
Name _____________________Pa1: '[3]Paral. 1'!$E$1:$E$65536
Name _____________________Pa2: '[3]Paral. 2'!$E$1:$E$65536
Name _____________________Pa3: '[3]Paral. 3'!$E$1:$E$65536
Name _____________________Pa4: [3]Paral.4!$E$1:$E$65536
Name _____________________Po2: [4]REAJUSTESACTA1PROVI!#REF!
Name ____________________Pa2: '[3]Paral. 2'!$E$1:$E$65536
Name ____________________Pa3: '[3]Paral. 3'!$E$1:$E$65536
Name ____________________Pa4: [3]Paral.4!$E$1:$E$65536
Name ____________________Po2: [4]REAJUSTESACTA1PROVI!#REF!
Name ___________________Cod1: #REF!
Name ___________________Pa1: '[3]Paral. 1'!$E$1:$E$65536
Name ___________________Pa2: '[3]Paral. 2'!$E$1:$E$65536
Name ___________________Pa3: '[3]Paral. 3'!$E$1:$E$65536
Name ___________________Pa4: [3]Paral.4!$E$1:$E$65536
Name ___________________Po2: [4]REAJUSTESACTA1PROVI!#REF!
Name __________________Pa2: '[3]Paral. 2'!$E$1:$E$65536
Name __________________Pa3: '[3]Paral. 3'!$E$1:$E$65536
Name __________________Pa4: [3]Paral.4!$E$1:$E$65536
Name __________________Po2: [4]REAJUSTESACTA1PROVI!#REF!
Name _________________Cod1: #REF!
Name _________________Pa1: '[3]Paral. 1'!$E$1:$E$65536
Name _________________Pa2: '[3]Paral. 2'!$E$1:$E$65536
Name _________________Pa3: '[3]Paral. 3'!$E$1:$E$65536
Name _________________Pa4: [3]Paral.4!$E$1:$E$65536
Name _________________Po2: [4]REAJUSTESACTA1PROVI!#REF!
Name ________________Pa2: '[3]Paral. 2'!$E$1:$E$65536
Name ________________Pa3: '[3]Paral. 3'!$E$1:$E$65536
Name ________________Pa4: [3]Paral.4!$E$1:$E$65536
Name ________________Po2: [4]REAJUSTESACTA1PROVI!#REF!
Name _______________Cod1: #REF!
Name _______________Pa1: '[3]Paral. 1'!$E$1:$E$65536
Name _______________Pa2: '[3]Paral. 2'!$E$1:$E$65536
Name _______________Pa3: '[3]Paral. 3'!$E$1:$E$65536
Name _______________Pa4: [3]Paral.4!$E$1:$E$65536
Name _______________Po2: [4]REAJUSTESACTA1PROVI!#REF!
Name ______________Pa2: '[3]Paral. 2'!$E$1:$E$65536
Name ______________Pa3: '[3]Paral. 3'!$E$1:$E$65536
Name ______________Pa4: [3]Paral.4!$E$1:$E$65536
Name ______________Po2: [4]REAJUSTESACTA1PROVI!#REF!
Name _____________Cod1: #REF!

Sheet PPTO. GENERAL
A1: CONSTRUCCIÓN DE PAVIMENTO EN CONCRETO RÍGIDO EN DIFERENTES VIAS BARRIALES DEL DISTRITO DE SANTA MARTA, MAGDALENA
B3: Secretaria de Infraestructura | C3: GOBERNACION DEL MAGDALENA
A4: ITEM | B4: DESCRIPCION | C4: UNIDAD | D4: VALOR UNITARIO | E4: CANTIDAD LOTE 1 | F4: VALOR PARCIAL LOTE 1 | G4: CANTIDAD LOTE 2 | H4: VALOR PARCIAL LOTE 2 | I4: CANTIDAD LOTE 3 | J4: VALOR PARCIAL LOTE 3 | K4: CANTIDAD TOTAL | L4: VALOR TOTAL
A5: 1 | B5: PRELIMINARES | F5: =SUM(F6:F12) -> 8.2485267e+08 | H5: =SUM(H6:H12) -> 9.5239102e+08 | J5: =SUM(J6:J12) -> 9.0378167e+08 | L5: =+J5+H5+F5 -> 2.6810254e+09
A6: 1.1 | B6: Localización, trazado y replanteo con equipo | C6: m2 | D6: =+'LOTE 1'!E6 -> 5652 | E6: =+'LOTE 1'!D6 -> 16005.272 | F6: =+E6*+D6 -> 90461797 | G6: =+'LOTE 2'!D6 -> 18480 | H6: =+G6*D6 -> 1.0444896e+08 | I6: =+'LOTE 3'!D6 -> 17536.794 | J6: =+I6*D6 -> 99117960 | K6: =+I6+G6+E6 -> 52022.066 | L6: =+J6+H6+F6 -> 2.9402872e+08 | N6: =L6*(1+SUM($K$38:$K$40)) -> 3.8223733e+08
A7: 1.2 | B7: Excavación mecánica en material común, profundidad < 2M. Incluye retiro y disposición. | C7: m3 | D7: =+'LOTE 1'!E7 -> 51559 | E7: =+'LOTE 1'!D7 -> 6482.013 | F7: =+E7*+D7 -> 3.3420611e+08 | G7: =+'LOTE 2'!D7 -> 7484.259 | H7: =+G7*D7 -> 3.8588091e+08 | I7: =+'LOTE 3'!D7 -> 7102.2678 | J7: =+I7*D7 -> 3.6618583e+08 | K7: =+I7+G7+E7 -> 21068.54 | L7: =+J7+H7+F7 -> 1.0862728e+09 | N7: =L7*(1+SUM($K$38:$K$40)) -> 1.4121547e+09
A8: 1.3 | B8: Excavación manual para andenes. Incluye retiro y disposición. | C8: m3 | D8: =+'LOTE 1'!E8 -> 68900 | E8: =+'LOTE 1'!D8 -> 1496.5969 | F8: =+E8*+D8 -> 1.0311552e+08 | G8: =+'LOTE 2'!D8 -> 1728 | H8: =+G8*D8 -> 1.190592e+08 | I8: =+'LOTE 3'!D8 -> 1639.8041 | J8: =+I8*D8 -> 1.129825e+08 | K8: =+I8+G8+E8 -> 4864.401 | L8: =+J8+H8+F8 -> 3.3515723e+08 | N8: =L8*(1+SUM($K$38:$K$40)) -> 4.357044e+08
A9: 1.4 | B9: Relleno manual con material seleccionado | C9: m3 | D9: =+'LOTE 1'!E9 -> 197601 | E9: =+'LOTE 1'!D9 -> 997.73124 | F9: =+E9*+D9 -> 1.9715269e+08 | G9: =+'LOTE 2'!D9 -> 1152 | H9: =+G9*D9 -> 227636352 | I9: =+'LOTE 3'!D9 -> 1093.2027 | J9: =+I9*D9 -> 2.1601796e+08 | K9: =+I9+G9+E9 -> 3242.934 | L9: =+J9+H9+F9 -> 6.40807e+08 | N9: =L9*(1+SUM($K$38:$K$40)) -> 8.330491e+08
A10: 1.5 | B10: Suministro y colocación de triturado | C10: m3 | D10: =+'LOTE 1'!E10 -> 209540 | E10: =+'LOTE 1'!D10 -> 436.50742 | F10: =+E10*+D10 -> 91465764 | G10: =+'LOTE 2'!D10 -> 504 | H10: =+G10*D10 -> 1.0560816e+08 | I10: =+'LOTE 3'!D10 -> 478.2762 | J10: =+I10*D10 -> 1.00218e+08 | K10: =+I10+G10+E10 -> 1418.7836 | L10: =+J10+H10+F10 -> 2.9729192e+08 | N10: =L10*(1+SUM($K$38:$K$40)) -> 3.864795e+08
A11: 1.6 | B11: Demolición de bordillos | C11: ml | D11: =+'LOTE 1'!E11 -> 8427 | E11: =+'LOTE 1'!D11 -> 415.72135 | F11: =+E11*+D11 -> 3503283.8 | G11: =+'LOTE 2'!D11 -> 480 | H11: =+G11*D11 -> 4044960 | I11: =+'LOTE 3'!D11 -> 455.50115 | J11: =+I11*D11 -> 3838508.2 | K11: =+I11+G11+E11 -> 1351.2225 | L11: =+J11+H11+F11 -> 11386752
A12: 1.7 | B12: Demolición de Andenes | C12: m2 | D12: =+'LOTE 1'!E12 -> 11901 | E12: =+'LOTE 1'!D12 -> 415.72135 | F12: =+E12*+D12 -> 4947499.8 | G12: =+'LOTE 2'!D12 -> 480 | H12: =+G12*D12 -> 5712480 | I12: =+'LOTE 3'!D12 -> 455.50115 | J12: =+I12*D12 -> 5420919.1 | K12: =+I12+G12+E12 -> 1351.2225 | L12: =+J12+H12+F12 -> 16080899
A13: 2 | B13: ESTRUCTURA DE PAVIMENTO | F13: =SUM(F14:F18) -> 3.4449627e+09 | H13: =SUM(H14:H18) -> 3.9776212e+09 | J13: =SUM(J14:J18) -> 3.7746063e+09 | L13: =+J13+H13+F13 -> 1.119719e+10
A14: 2.1 | B14: Suministro e instalación de subase granular | C14: m3 | D14: =+'LOTE 1'!E14 -> 179320 | E14: =+'LOTE 1'!D14 -> 2203.3232 | F14: =+E14*+D14 -> 3.9509991e+08 | G14: =+'LOTE 2'!D14 -> 2544 | H14: =+G14*D14 -> 456190080 | I14: =+'LOTE 3'!D14 -> 2414.1561 | J14: =+I14*D14 -> 4.3290647e+08 | K14: =+I14+G14+E14 -> 7161.4792 | L14: =+J14+H14+F14 -> 1.2841965e+09 | N14: =L14*(1+SUM($K$38:$K$40)) -> 1.6694554e+09
A15: 2.2 | B15: Pavimento en concreto hidraulico MR 42 | C15: m3 | D15: =+'LOTE 1'!E15 -> 1204513 | E15: =+'LOTE 1'!D15 -> 2203.3232 | F15: =+E15*+D15 -> 2.6539314e+09 | G15: =+'LOTE 2'!D15 -> 2544 | H15: =+G15*D15 -> 3064281072 | I15: =+'LOTE 3'!D15 -> 2414.1561 | J15: =+I15*D15 -> 2.9078824e+09 | K15: =+I15+G15+E15 -> 7161.4792 | L15: =+J15+H15+F15 -> 8.6260948e+09 | N15: =L15*(1+SUM($K$38:$K$40)) -> 1.1213923e+10
A16: 2.3 | B16: Acero de refuerzo fy=420MPa | C16: kg | D16: =+'LOTE 1'!E16 -> 10203 | E16: =+'LOTE 1'!D16 -> 18817.627 | F16: =+E16*+D16 -> 1.9199625e+08 | G16: =+'LOTE 2'!D16 -> 21727.2 | H16: =+G16*D16 -> 2.2168262e+08 | I16: =+'LOTE 3'!D16 -> 20618.259 | J16: =+I16*D16 -> 2.103681e+08 | K16: =+I16+G16+E16 -> 61163.086 | L16: =+J16+H16+F16 -> 6.2404697e+08 | N16: =L16*(1+SUM($K$38:$K$40)) -> 8.1126106e+08
A17: 2.4 | B17: Corte y Sello de Juntas de Pavimento | C17: m | D17: =+'LOTE 1'!E17 -> 25751 | E17: =+'LOTE 1'!D17 -> 6928.6892 | F17: =+E17*+D17 -> 1.7842068e+08 | G17: =+'LOTE 2'!D17 -> 8000 | H17: =+G17*D17 -> 2.06008e+08 | I17: =+'LOTE 3'!D17 -> 7591.6858 | J17: =+I17*D17 -> 1.954935e+08 | K17: =+I17+G17+E17 -> 22520.375 | L17: =+J17+H17+F17 -> 5.7992218e+08
A18: 2.5 | B18: Adecuación de cámaras de inspección existentes. Incluye: Realce del nivel, tapa en HD y acero de refuerzo | C18: und | D18: =+'LOTE 1'!E18 -> 2551444 | E18: =+'LOTE 1'!D18 -> 10 | F18: =+E18*+D18 -> 25514440 | G18: =+'LOTE 2'!D18 -> 11.546196 | H18: =+G18*D18 -> 29459471 | I18: =+'LOTE 3'!D18 -> 10.956886 | J18: =+I18*D18 -> 27955881 | K18: =+I18+G18+E18 -> 32.503082 | L18: =+J18+H18+F18 -> 82929792 | N18: =L18*(1+SUM($K$38:$K$40)) -> 1.0780873e+08
A19: 3 | B19: BORDILLOS Y ANDENES | F19: =SUM(F20:F24) -> 1.1586926e+09 | H19: =SUM(H20:H24) -> 1.3378491e+09 | J19: =SUM(J20:J24) -> 1.2695662e+09 | L19: =+J19+H19+F19 -> 3.7661079e+09
A20: 3.1 | B20: Bordillos en concreto de 21 MPa seccion 0.15 x 0.20 m, NO incluye acero de refuerzo. | C20: m | D20: =+'LOTE 1'!E20 -> 69235 | E20: =+'LOTE 1'!D20 -> 4157.2135 | F20: =+E20*+D20 -> 2.8782468e+08 | G20: =+'LOTE 2'!D20 -> 4800 | H20: =+G20*D20 -> 3.32328e+08 | I20: =+'LOTE 3'!D20 -> 4555.0115 | J20: =+I20*D20 -> 3.1536622e+08 | K20: =+I20+G20+E20 -> 13512.225 | L20: =+J20+H20+F20 -> 9.355189e+08 | N20: =L20*(1+SUM($K$38:$K$40)) -> 1.2161746e+09
A21: 3.2 | B21: Andenes en concreto de 21 MPa espesor de 0.10 m | C21: m2 | D21: =+'LOTE 1'!E21 -> 136013 | E21: =+'LOTE 1'!D21 -> 4489.7906 | F21: =+E21*+D21 -> 6.1066989e+08 | G21: =+'LOTE 2'!D21 -> 5184 | H21: =+G21*D21 -> 705091392 | I21: =+'LOTE 3'!D21 -> 4919.4124 | J21: =+I21*D21 -> 6.6910403e+08 | K21: =+I21+G21+E21 -> 14593.203 | L21: =+J21+H21+F21 -> 1.9848653e+09 | N21: =L21*(1+SUM($K$38:$K$40)) -> 2.5803249e+09
A22: 3.3 | B22: Construcción rampas de acceso vehiculares en zona de anden, en concreto de 21MPa | C22: m2 | D22: =+'LOTE 1'!E22 -> 205654 | E22: =+'LOTE 1'!D22 -> 498.86562 | F22: =+E22*+D22 -> 1.0259371e+08 | G22: =+'LOTE 2'!D22 -> 576 | H22: =+G22*D22 -> 1.184567e+08 | I22: =+'LOTE 3'!D22 -> 546.60137 | J22: =+I22*D22 -> 1.1241076e+08 | K22: =+I22+G22+E22 -> 1621.467 | L22: =+J22+H22+F22 -> 3.3346117e+08 | N22: =L22*(1+SUM($K$38:$K$40)) -> 4.3349953e+08
A23: 3.4 | B23: Acero de refuerzo fy=420MPa | C23: kg | D23: =+'LOTE 1'!E23 -> 10203 | E23: =+'LOTE 1'!D23 -> 14528.63 | F23: =+E23*+D23 -> 1.4823561e+08 | G23: =+'LOTE 2'!D23 -> 16775.04 | H23: =+G23*D23 -> 1.7115573e+08 | I23: =+'LOTE 3'!D23 -> 15918.854 | J23: =+I23*D23 -> 1.6242007e+08 | K23: =+I23+G23+E23 -> 47222.524 | L23: =+J23+H23+F23 -> 4.8181141e+08 | N23: =L23*(1+SUM($K$38:$K$40)) -> 6.2635483e+08
A24: 3.5 | B24: Contenedor de raices en concreto de 21 MPa seccion 0.15 x 0.70 m, NO incluye acero de refuerzo. | C24: m | D24: =+'LOTE 1'!E24 -> 162259 | E24: =+'LOTE 1'!D24 -> 57.739077 | F24: =+E24*+D24 -> 9368684.8 | G24: =+'LOTE 2'!D24 -> 66.666667 | H24: =+G24*D24 -> 10817267 | I24: =+'LOTE 3'!D24 -> 63.264048 | J24: =+I24*D24 -> 10265161 | K24: =+I24+G24+E24 -> 187.66979 | L24: =+J24+H24+F24 -> 30451113 | N24: =L24*(1+SUM($K$38:$K$40)) -> 39586446
A25: 4 | B25: ACUEDUCTO Y ALCANTARILLADO | F25: =SUM(F26:F33) -> 1.0221643e+09 | H25: =SUM(H26:H33) -> 9.6924378e+08 | J25: =SUM(J26:J33) -> 9.7889626e+08 | L25: =+J25+H25+F25 -> 2.9703043e+09
A26: 4.1 | B26: Acometida domiciliaria sanitaria, Incluye: Excavación, relleno, registro, suministro e Instalación de tubería corrugada de 6" y Uniones. L < = 4 m. | C26: und | D26: =+'LOTE 1'!E26 -> 1163165 | E26: =+'LOTE 1'!D26 -> 437 | F26: =+E26*+D26 -> 508303105 | G26: =+'LOTE 2'!D26 -> 398 | H26: =+G26*D26 -> 462939670 | I26: =+'LOTE 3'!D26 -> 393 | J26: =+I26*D26 -> 457123845 | K26: =+I26+G26+E26 -> 1228 | L26: =+J26+H26+F26 -> 1428366620 | N26: =L26*(1+SUM($K$38:$K$40)) -> 1856876606
A27: 4.2 | B27: Acometida domiciliaria de acueducto. Incluye: Excavación, relleno, suministro e instalación de tubería PEAD 20mm, accesorios, cajilla para medidor y micromedidor R200. | C27: und | D27: =+'LOTE 1'!E27 -> 480790 | E27: =+'LOTE 1'!D27 -> 437 | F27: =+E27*+D27 -> 210105230 | G27: =+'LOTE 2'!D27 -> 398 | H27: =+G27*D27 -> 191354420 | I27: =+'LOTE 3'!D27 -> 393 | J27: =+I27*D27 -> 188950470 | K27: =+I27+G27+E27 -> 1228 | L27: =+J27+H27+F27 -> 590410120 | N27: =L27*(1+SUM($K$38:$K$40)) -> 767533156
A28: 4.3 | B28: Suministro e instalación de tuberia corrugada PVC 8" | C28: ml | D28: =+'LOTE 1'!E28 -> 97482 | E28: =+'LOTE 1'!D28 -> 414.02706 | F28: =+E28*+D28 -> 40360186 | G28: =+'LOTE 2'!D28 -> 478.04374 | H28: =+G28*D28 -> 46600660 | I28: =+'LOTE 3'!D28 -> 453.64473 | J28: =+I28*D28 -> 44222195 | K28: =+I28+G28+E28 -> 1345.7155 | L28: =+J28+H28+F28 -> 1.3118304e+08 | N28: =L28*(1+SUM($K$38:$K$40)) -> 1.7053795e+08
A29: 4.4 | B29: Suministro e instalación de tuberia PEAD 4" | C29: ml | D29: =+'LOTE 1'!E29 -> 100495 | E29: =+'LOTE 1'!D29 -> 414.02706 | F29: =+E29*+D29 -> 41607649 | G29: =+'LOTE 2'!D29 -> 478.04374 | H29: =+G29*D29 -> 48041005 | I29: =+'LOTE 3'!D29 -> 453.64473 | J29: =+I29*D29 -> 45589027 | K29: =+I29+G29+E29 -> 1345.7155 | L29: =+J29+H29+F29 -> 1.3523768e+08
A30: 4.5 | B30: Suministro e instalación de union universal 4" HD | C30: und | D30: =+'LOTE 1'!E30 -> 255374 | E30: =+'LOTE 1'!D30 -> 3 | F30: =+E30*+D30 -> 766122 | G30: =+'LOTE 2'!D30 -> 3 | H30: =+G30*D30 -> 766122 | I30: =+'LOTE 3'!D30 -> 3.2870658 | J30: =+I30*D30 -> 839431.14 | K30: =+I30+G30+E30 -> 9.2870658 | L30: =+J30+H30+F30 -> 2371675.1
A31: 4.6 | B31: Construcción pozo de inspección en concreto reforzado e impermeabilizado para tuberías de diámetro entre 8" y 27", con diámetro del cilindro de 1,20 m (H < 3,00 m) incluye losa de fondo, tapa de inspección en HD, cilindro, cañuela y pañete de impermeabilización | C31: und | D31: =+'LOTE 1'!E31 -> 6690204 | E31: =+'LOTE 1'!D31 -> 28 | F31: =+E31*+D31 -> 187325712 | G31: =+'LOTE 2'!D31 -> 27 | H31: =+G31*D31 -> 180635508 | I31: =+'LOTE 3'!D31 -> 30.679281 | J31: =+I31*D31 -> 2.0525065e+08 | K31: =+I31+G31+E31 -> 85.679281 | L31: =+J31+H31+F31 -> 5.7321187e+08 | N31: =L31*(1+SUM($K$38:$K$40)) -> 7.4517543e+08
A32: 4.7 | B32: Entibado Metálico continuo | C32: m2 | D32: =+'LOTE 1'!E32 -> 90366 | E32: =+'LOTE 1'!D32 -> 0 | F32: =+E32*+D32 -> 0 | G32: =+'LOTE 2'!D32 -> 0 | H32: =+G32*D32 -> 0 | I32: =+'LOTE 3'!D32 -> 0 | J32: =+I32*D32 -> 0 | K32: =+I32+G32+E32 -> 0 | L32: =+J32+H32+F32 -> 0 | N32: =L32*(1+SUM($K$38:$K$40)) -> 0
A33: 4.8 | B33: Manejo de nivel freático | C33: m | D33: =+'LOTE 1'!E33 -> 16211 | E33: =+'LOTE 1'!D33 -> 2078.6068 | F33: =+E33*+D33 -> 33696294 | G33: =+'LOTE 2'!D33 -> 2400 | H33: =+G33*D33 -> 38906400 | I33: =+'LOTE 3'!D33 -> 2277.5057 | J33: =+I33*D33 -> 36920645 | K33: =+I33+G33+E33 -> 6756.1125 | L33: =+J33+H33+F33 -> 1.0952334e+08 | N33: =L33*(1+SUM($K$38:$K$40)) -> 1.4238034e+08
A34: 5 | B34: SEÑALIZACON VIAL | F34: =SUM(F35) -> 32442010 | H34: =SUM(H35) -> 31323320 | J34: =SUM(J35) -> 35546341 | L34: =+J34+H34+F34 -> 99311671
A35: 5.1 | B35: Señal vertical de transito con lamina retrorreflectiva (60x60)cm | C35: und | D35: =+'LOTE 1'!E35 -> 559345 | E35: =+'LOTE 1'!D35 -> 58 | F35: =+E35*+D35 -> 32442010 | G35: =+'LOTE 2'!D35 -> 56 | H35: =+G35*D35 -> 31323320 | I35: =+'LOTE 3'!D35 -> 63.549939 | J35: =+I35*D35 -> 35546341 | K35: =+I35+G35+E35 -> 177.54994 | L35: =+J35+H35+F35 -> 99311671 | N35: =L35*(1+SUM($K$38:$K$40)) -> 1.2910517e+08
A36: COSTOS DIRECTOS | L36: =+L5+L13+L19+L25+L34 -> 2.071394e+10
A38: ADMINISTRACION | C38: A. I. U. (30%) | K38: =+'Desglose AIU'!$H$6 -> 0.25 | L38: =$L$36*K38 -> 5.1784849e+09
A39: IMPREVISTOS | K39: =+'Desglose AIU'!$H$7 -> 0.01 | L39: =$L$36*K39 -> 2.071394e+08
A40: UTILIDAD | K40: =+'Desglose AIU'!$H$8 -> 0.04 | L40: =$L$36*K40 -> 8.2855758e+08
A41: COSTOS INDIRECTOS | L41: =SUM(L38:L40) -> 6.2141819e+09
A42: PMT | F42: =+'LOTE 1'!F42 -> 1.942399e+08 | H42: =+'LOTE 2'!F42 -> 2.1776013e+08 | J42: =+'LOTE 3'!F42 -> 2.0275294e+08 | L42: =+J42+H42+F42 -> 6.1475297e+08
...

Sheet LOTE 1
A1: MI CALLE DISTRITO DE SANTA MARTA, DEPARTAMENTO DEL MAGDALENA
H2: 2078.6068 | I2: =+H2/3 -> 692.86892
I3: =+I2*7 -> 4850.0824
A4: ITEM | B4: DESCRIPCION | C4: UNIDAD | D4: CANTIDAD | E4: VALOR UNITARIO | F4: VALOR TOTAL | I4: =+I3+D17 -> 11778.772
A5: 1 | B5: PRELIMINARES | F5: 816401887
A6: 1.1 | B6: Localización, trazado y replanteo con equipo | C6: m2 | D6: 16005.272 | E6: 5652 | F6: 90461797 | H6: =F6*(1+SUM($E$38:$E$40)) -> 1.1760034e+08
A7: 1.2 | B7: Excavación mecánica en material común, profundidad < 2M. Incluye retiro y disposición. | C7: m3 | D7: 6482.013 | E7: 51559 | F7: 334206111 | H7: =F7*(1+SUM($E$38:$E$40)) -> 4.3446794e+08
A8: 1.3 | B8: Excavación manual para andenes. Incluye retiro y disposición. | C8: m3 | D8: 1496.5969 | E8: 68900 | F8: 103115524 | H8: =F8*(1+SUM($E$38:$E$40)) -> 1.3405018e+08
A9: 1.4 | B9: Relleno manual con material seleccionado | C9: m3 | D9: 997.73124 | E9: 197601 | F9: 197152691 | H9: =F9*(1+SUM($E$38:$E$40)) -> 2.562985e+08
A10: 1.5 | B10: Suministro y colocación de triturado | C10: m3 | D10: 436.50742 | E10: 209540 | F10: 91465764 | H10: =F10*(1+SUM($E$38:$E$40)) -> 1.1890549e+08
A11: 1.6 | B11: Demolición de bordillos | C11: ml | D11: 415.72135 | E11: 8427 | F11: 3503284
A12: 1.7 | B12: Demolición de Andenes | C12: m2 | D12: 415.72135 | E12: 11901 | F12: 4947500
A13: 2 | B13: ESTRUCTURA DE PAVIMENTO | F13: 3444962661
A14: 2.1 | B14: Suministro e instalación de subase granular | C14: m3 | D14: 2203.3232 | E14: 179320 | F14: 395099909 | H14: =F14*(1+SUM($E$38:$E$40)) -> 5.1362988e+08
A15: 2.2 | B15: Pavimento en concreto hidraulico MR 42 | C15: m3 | D15: 2203.3232 | E15: 1204513 | F15: 2653931389 | H15: =F15*(1+SUM($E$38:$E$40)) -> 3.4501108e+09
A16: 2.3 | B16: Acero de refuerzo fy=420MPa | C16: kg | D16: 18817.627 | E16: 10203 | F16: 191996248 | H16: =F16*(1+SUM($E$38:$E$40)) -> 2.4959512e+08
A17: 2.4 | B17: Corte y Sello de Juntas de Pavimento | C17: m | D17: 6928.6892 | E17: 25751 | F17: 178420675
A18: 2.5 | B18: Adecuación de cámaras de inspección existentes. Incluye: Realce del nivel, tapa en HD y acero de refuerzo | C18: und | D18: 10 | E18: 2551444 | F18: 25514440 | H18: =F18*(1+SUM($E$38:$E$40)) -> 33168772
A19: 3 | B19: BORDILLOS Y ANDENES | F19: 1158692570
A20: 3.1 | B20: Bordillos en concreto de 21 MPa seccion 0.15 x 0.20 m, NO incluye acero de refuerzo. | C20: m | D20: 4157.2135 | E20: 69235 | F20: 287824677 | H20: =F20*(1+SUM($E$38:$E$40)) -> 3.7417208e+08
A21: 3.2 | B21: Andenes en concreto de 21 MPa espesor de 0.10 m | C21: m2 | D21: 4489.7906 | E21: 136013 | F21: 610669888 | H21: =F21*(1+SUM($E$38:$E$40)) -> 7.9387085e+08
A22: 3.3 | B22: Construcción rampas de acceso vehiculares en zona de anden, en concreto de 21MPa | C22: m2 | D22: 498.86562 | E22: 205654 | F22: 102593710 | H22: =F22*(1+SUM($E$38:$E$40)) -> 133371823
A23: 3.4 | B23: Acero de refuerzo fy=420MPa | C23: kg | D23: 14528.63 | E23: 10203 | F23: 148235610 | H23: =F23*(1+SUM($E$38:$E$40)) -> 192706293
A24: 3.5 | B24: Contenedor de raices en concreto de 21 MPa seccion 0.15 x 0.70 m, NO incluye acero de refuerzo. | C24: m | D24: 57.739077 | E24: 162259 | F24: 9368685 | H24: =F24*(1+SUM($E$38:$E$40)) -> 12179290
A25: 4 | B25: ACUEDUCTO Y ALCANTARILLADO | F25: 1022164298
A26: 4.1 | B26: Acometida domiciliaria sanitaria, Incluye: Excavación, relleno, registro, suministro e Instalación de tubería corrugada de 6" y Uniones. L < = 4 m. | C26: und | D26: 437 | E26: 1163165 | F26: 508303105 | H26: =F26*(1+SUM($E$38:$E$40)) -> 6.6079404e+08
A27: 4.2 | B27: Acometida domiciliaria de acueducto. Incluye: Excavación, relleno, suministro e instalación de tubería PEAD 20mm, accesorios, cajilla para medidor y micromedidor R200. | C27: und | D27: 437 | E27: 480790 | F27: 210105230 | H27: =F27*(1+SUM($E$38:$E$40)) -> 273136799
A28: 4.3 | B28: Suministro e instalación de tuberia corrugada PVC 8" | C28: ml | D28: 414.02706 | E28: 97482 | F28: 40360186 | H28: =F28*(1+SUM($E$38:$E$40)) -> 52468242
A29: 4.4 | B29: Suministro e instalación de tuberia PEAD 4" | C29: ml | D29: 414.02706 | E29: 100495 | F29: 41607649
A30: 4.5 | B30: Suministro e instalación de union universal 4" HD | C30: und | D30: 3 | E30: 255374 | F30: 766122
A31: 4.6 | B31: Construcción pozo de inspección en concreto reforzado e impermeabilizado para tuberías de diámetro entre 8" y 27", con diámetro del cilindro de 1,20 m (H < 3,00 m) incluye losa de fondo, tapa de inspección en HD, cilindro, cañuela y pañete de impermeabilización | C31: und | D31: 28 | E31: 6690204 | F31: 187325712 | H31: =F31*(1+SUM($E$38:$E$40)) -> 2.4352343e+08
A32: 4.7 | B32: Entibado Metálico continuo | C32: m2 | D32: 0 | E32: 90366 | F32: 0 | H32: =F32*(1+SUM($E$38:$E$40)) -> 0
A33: 4.8 | B33: Manejo de nivel freático | C33: m | D33: 2078.6068 | E33: 16211 | F33: 33696294 | H33: =F33*(1+SUM($E$38:$E$40)) -> 43805182
A34: 5 | B34: SEÑALIZACON VIAL | F34: 32442010
A35: 5.1 | B35: Señal vertical de transito con lamina retrorreflectiva (60x60)cm | C35: und | D35: 58 | E35: 559345 | F35: 32442010 | H35: =F35*(1+SUM($E$38:$E$40)) -> 42174613
A36: COSTOS DIRECTOS OBRA CIVIL | F36: 6474663426
A38: ADMINISTRACION | D38: A. I. U. (30%) | E38: =+'Desglose AIU'!$H$6 -> 0.25 | F38: =$F$36*E38 -> 1.6186659e+09
A39: IMPREVISTOS | E39: =+'Desglose AIU'!$H$7 -> 0.01 | F39: =$F$36*E39 -> 64746634
A40: UTILIDAD | E40: =+'Desglose AIU'!$H$8 -> 0.04 | F40: =$F$36*E40 -> 2.5898654e+08
A41: COSTOS INDIRECTOS | F41: =SUM(F38:F40) -> 1.942399e+09
...

Sheet LOTE 2
A1: MI CALLE DISTRITO DE SANTA MARTA, DEPARTAMENTO DEL MAGDALENA
G2: 480 | H2: 2400
G3: 2 | H3: 10
A4: ITEM | B4: DESCRIPCION | C4: UNIDAD | D4: CANTIDAD | E4: VALOR UNITARIO | F4: VALOR TOTAL
A5: 1 | B5: PRELIMINARES | F5: 942633582 | H5: 7.7
A6: 1.1 | B6: Localización, trazado y replanteo con equipo | C6: m2 | D6: 18480 | E6: 5652 | F6: 104448960 | H6: 3.1184413
A7: 1.2 | B7: Excavación mecánica en material común, profundidad < 2M. Incluye retiro y disposición. | C7: m3 | D7: 7484.259 | E7: 51559 | F7: 385880910 | H7: 0.72
A8: 1.3 | B8: Excavación manual para andenes. Incluye retiro y disposición. | C8: m3 | D8: 1728 | E8: 68900 | F8: 119059200 | H8: 0.48
A9: 1.4 | B9: Relleno manual con material seleccionado | C9: m3 | D9: 1152 | E9: 197601 | F9: 227636352 | H9: 0.21
A10: 1.5 | B10: Suministro y colocación de triturado | C10: m3 | D10: 504 | E10: 209540 | F10: 105608160 | H10: 0.2
A11: 1.6 | B11: Demolición de bordillos | C11: ml | D11: 480 | E11: 8427 | F11: 4044960 | H11: 0.2
A12: 1.7 | B12: Demolición de Andenes | C12: m2 | D12: 480 | E12: 11901 | F12: 5712480 | H12: 0
A13: 2 | B13: ESTRUCTURA DE PAVIMENTO | F13: 3977621245 | H13: 1.06
A14: 2.1 | B14: Suministro e instalación de subase granular | C14: m3 | D14: 2544 | E14: 179320 | F14: 456190080 | H14: 1.06
A15: 2.2 | B15: Pavimento en concreto hidraulico MR 42 | C15: m3 | D15: 2544 | E15: 1204513 | F15: 3064281072 | H15: 9.053
A16: 2.3 | B16: Acero de refuerzo fy=420MPa | C16: kg | D16: 21727.2 | E16: 10203 | F16: 221682622 | H16: 3.3333333
A17: 2.4 | B17: Corte y Sello de Juntas de Pavimento | C17: m | D17: 8000 | E17: 25751 | F17: 206008000 | H17: 0.0048109148
A18: 2.5 | B18: Adecuación de cámaras de inspección existentes. Incluye: Realce del nivel, tapa en HD y acero de refuerzo | C18: und | D18: 11.546196 | E18: 2551444 | F18: 29459471 | H18: 0
A19: 3 | B19: BORDILLOS Y ANDENES | F19: 1337849096 | H19: 2
A20: 3.1 | B20: Bordillos en concreto de 21 MPa seccion 0.15 x 0.20 m, NO incluye acero de refuerzo. | C20: m | D20: 4800 | E20: 69235 | F20: 332328000 | H20: 2.16
A21: 3.2 | B21: Andenes en concreto de 21 MPa espesor de 0.10 m | C21: m2 | D21: 5184 | E21: 136013 | F21: 705091392 | H21: 0.24
A22: 3.3 | B22: Construcción rampas de acceso vehiculares en zona de anden, en concreto de 21MPa | C22: m2 | D22: 576 | E22: 205654 | F22: 118456704 | H22: 6.9896
A23: 3.4 | B23: Acero de refuerzo fy=420MPa | C23: kg | D23: 16775.04 | E23: 10203 | F23: 171155733 | H23: 0.027777778
A24: 3.5 | B24: Contenedor de raices en concreto de 21 MPa seccion 0.15 x 0.70 m, NO incluye acero de refuerzo. | C24: m | D24: 66.666667 | E24: 162259 | F24: 10817267 | H24: 0
A25: 4 | B25: ACUEDUCTO Y ALCANTARILLADO | F25: 969243785 | H25: 0.40267357
A26: 4.1 | B26: Acometida domiciliaria sanitaria, Incluye: Excavación, relleno, registro, suministro e Instalación de tubería corrugada de 6" y Uniones. L < = 4 m. | C26: und | D26: 398 | E26: 1163165 | F26: 462939670 | H26: 0.40267357
A27: 4.2 | B27: Acometida domiciliaria de acueducto. Incluye: Excavación, relleno, suministro e instalación de tubería PEAD 20mm, accesorios, cajilla para medidor y micromedidor R200. | C27: und | D27: 398 | E27: 480790 | F27: 191354420 | H27: 0.19918489
A28: 4.3 | B28: Suministro e instalación de tuberia corrugada PVC 8" | C28: ml | D28: 478.04374 | E28: 97482 | F28: 46600660 | H28: 0.19918489
A29: 4.4 | B29: Suministro e instalación de tuberia PEAD 4" | C29: ml | D29: 478.04374 | E29: 100495 | F29: 48041005 | H29: 0.0014432744
A30: 4.5 | B30: Suministro e instalación de union universal 4" HD | C30: und | D30: 3 | E30: 255374 | F30: 766122 | H30: 0.013470561
A31: 4.6 | B31: Construcción pozo de inspección en concreto reforzado e impermeabilizado para tuberías de diámetro entre 8" y 27", con diámetro del cilindro de 1,20 m (H < 3,00 m) incluye losa de fondo, tapa de inspección en HD, cilindro, cañuela y pañete de impermeabilización | C31: und | D31: 27 | E31: 6690204 | F31: 180635508 | H31: 0
A32: 4.7 | B32: Entibado Metálico continuo | C32: m2 | D32: 0 | E32: 90366 | F32: 0 | H32: 1
A33: 4.8 | B33: Manejo de nivel freático | C33: m | D33: 2400 | E33: 16211 | F33: 38906400 | H33: 0
A34: 5 | B34: SEÑALIZACON VIAL | F34: 31323320 | H34: 0.027903306
A35: 5.1 | B35: Señal vertical de transito con lamina retrorreflectiva (60x60)cm | C35: und | D35: 56 | E35: 559345 | F35: 31323320 | H35: 0
A36: COSTOS DIRECTOS OBRA CIVIL | F36: 7258671028
A38: ADMINISTRACION | D38: A. I. U. (30%) | E38: =+'Desglose AIU'!$H$6 -> 0.25 | F38: =$F$36*E38 -> 1814667757
A39: IMPREVISTOS | E39: =+'Desglose AIU'!$H$7 -> 0.01 | F39: =$F$36*E39 -> 72586710
A40: UTILIDAD | E40: =+'Desglose AIU'!$H$8 -> 0.04 | F40: =$F$36*E40 -> 2.9034684e+08
A41: COSTOS INDIRECTOS | F41: =SUM(F38:F40) -> 2.1776013e+09
...

Sheet LOTE 3
A1: MI CALLE DISTRITO DE SANTA MARTA, DEPARTAMENTO DEL MAGDALENA
A4: ITEM | B4: DESCRIPCION | C4: UNIDAD | D4: CANTIDAD | E4: VALOR UNITARIO | F4: VALOR TOTAL
A5: 1 | B5: PRELIMINARES | F5: 894522242
A6: 1.1 | B6: Localización, trazado y replanteo con equipo | C6: m2 | D6: 17536.794 | E6: 5652 | F6: 99117960
A7: 1.2 | B7: Excavación mecánica en material común, profundidad < 2M. Incluye retiro y disposición. | C7: m3 | D7: 7102.2678 | E7: 51559 | F7: 366185826
A8: 1.3 | B8: Excavación manual para andenes. Incluye retiro y disposición. | C8: m3 | D8: 1639.8041 | E8: 68900 | F8: 112982504
A9: 1.4 | B9: Relleno manual con material seleccionado | C9: m3 | D9: 1093.2027 | E9: 197601 | F9: 216017956
A10: 1.5 | B10: Suministro y colocación de triturado | C10: m3 | D10: 478.2762 | E10: 209540 | F10: 100217996
A11: 1.6 | B11: Demolición de bordillos | C11: ml | D11: 455.50115 | E11: 8427 | F11: 3838508
A12: 1.7 | B12: Demolición de Andenes | C12: m2 | D12: 455.50115 | E12: 11901 | F12: 5420919
A13: 2 | B13: ESTRUCTURA DE PAVIMENTO | F13: 3774606320
A14: 2.1 | B14: Suministro e instalación de subase granular | C14: m3 | D14: 2414.1561 | E14: 179320 | F14: 432906467
A15: 2.2 | B15: Pavimento en concreto hidraulico MR 42 | C15: m3 | D15: 2414.1561 | E15: 1204513 | F15: 2907882372
A16: 2.3 | B16: Acero de refuerzo fy=420MPa | C16: kg | D16: 20618.259 | E16: 10203 | F16: 210368100
A17: 2.4 | B17: Corte y Sello de Juntas de Pavimento | C17: m | D17: 7591.6858 | E17: 25751 | F17: 195493500
A18: 2.5 | B18: Adecuación de cámaras de inspección existentes. Incluye: Realce del nivel, tapa en HD y acero de refuerzo | C18: und | D18: 10.956886 | E18: 2551444 | F18: 27955881
A19: 3 | B19: BORDILLOS Y ANDENES | F19: 1269566241
A20: 3.1 | B20: Bordillos en concreto de 21 MPa seccion 0.15 x 0.20 m, NO incluye acero de refuerzo. | C20: m | D20: 4555.0115 | E20: 69235 | F20: 315366218
A21: 3.2 | B21: Andenes en concreto de 21 MPa espesor de 0.10 m | C21: m2 | D21: 4919.4124 | E21: 136013 | F21: 669104035
A22: 3.3 | B22: Construcción rampas de acceso vehiculares en zona de anden, en concreto de 21MPa | C22: m2 | D22: 546.60137 | E22: 205654 | F22: 112410759
A23: 3.4 | B23: Acero de refuerzo fy=420MPa | C23: kg | D23: 15918.854 | E23: 10203 | F23: 162420068
A24: 3.5 | B24: Contenedor de raices en concreto de 21 MPa seccion 0.15 x 0.70 m, NO incluye acero de refuerzo. | C24: m | D24: 63.264048 | E24: 162259 | F24: 10265161
A25: 4 | B25: ACUEDUCTO Y ALCANTARILLADO | F25: 978896260
A26: 4.1 | B26: Acometida domiciliaria sanitaria, Incluye: Excavación, relleno, registro, suministro e Instalación de tubería corrugada de 6" y Uniones. L < = 4 m. | C26: und | D26: 393 | E26: 1163165 | F26: 457123845
A27: 4.2 | B27: Acometida domiciliaria de acueducto. Incluye: Excavación, relleno, suministro e instalación de tubería PEAD 20mm, accesorios, cajilla para medidor y micromedidor R200. | C27: und | D27: 393 | E27: 480790 | F27: 188950470
A28: 4.3 | B28: Suministro e instalación de tuberia corrugada PVC 8" | C28: ml | D28: 453.64473 | E28: 97482 | F28: 44222195
A29: 4.4 | B29: Suministro e instalación de tuberia PEAD 4" | C29: ml | D29: 453.64473 | E29: 100495 | F29: 45589027
A30: 4.5 | B30: Suministro e instalación de union universal 4" HD | C30: und | D30: 3.2870658 | E30: 255374 | F30: 839431
A31: 4.6 | B31: Construcción pozo de inspección en concreto reforzado e impermeabilizado para tuberías de diámetro entre 8" y 27", con diámetro del cilindro de 1,20 m (H < 3,00 m) incluye losa de fondo, tapa de inspección en HD, cilindro, cañuela y pañete de impermeabilización | C31: und | D31: 30.679281 | E31: 6690204 | F31: 205250647
A32: 4.7 | B32: Entibado Metálico continuo | C32: m2 | D32: 0 | E32: 90366 | F32: 0
A33: 4.8 | B33: Manejo de nivel freático | C33: m | D33: 2277.5057 | E33: 16211 | F33: 36920645
A34: 5 | B34: SEÑALIZACON VIAL | F34: 35546341
A35: 5.1 | B35: Señal vertical de transito con lamina retrorreflectiva (60x60)cm | C35: und | D35: 63.549939 | E35: 559345 | F35: 35546341
A36: COSTOS DIRECTOS OBRA CIVIL | F36: 6953137404
A38: ADMINISTRACION | D38: A. I. U. (30%) | E38: =+'Desglose AIU'!$H$6 -> 0.25 | F38: =$F$36*E38 -> 1738284351
A39: IMPREVISTOS | E39: =+'Desglose AIU'!$H$7 -> 0.01 | F39: =$F$36*E39 -> 69531374
A40: UTILIDAD | E40: =+'Desglose AIU'!$H$8 -> 0.04 | F40: =$F$36*E40 -> 2.781255e+08
A41: COSTOS INDIRECTOS | F41: =SUM(F38:F40) -> 2.0859412e+09
E42: PMT | F42: 2.0275294e+08
E43: PMA | F43: =+F36*2% -> 1.3906275e+08
...

Sheet Desglose AIU
A1: ='PPTO. GENERAL'!A1 -> CONSTRUCCIÓN DE PAVIMENTO EN CONCRETO RÍGIDO EN DIFERENTES VIAS BARRIALES DEL DISTRITO DE SANTA MARTA, MAGDALENA
B3: COSTOS DIRECTOS DEL PROYECTO | I3: =+'PPTO. GENERAL'!L36 -> 2.071394e+10
B4: COSTOS TOTALES DEL PROYECTO (EJECUCION DE OBRAS) | I4: =+I3+I9 -> 2.6928121e+10
B5: COSTOS INDIRECTOS | H5: PORCENTAJE
B6: A. GASTOS DE ADMINISTRACION | H6: 0.25 | I6: =ROUND(I3*H6,0) -> 5178484878
B7: B. IMPREVISTOS | H7: 0.01 | I7: =ROUND(I3*H7,0) -> 207139395
B8: C. UTILIDAD | H8: 0.04 | I8: =ROUND(I3*H8,0) -> 828557580
B9: TOTAL AIU = (A + B + C) | H9: =SUM(H6:H8) -> 0.3 | I9: =SUM(I6:I8) -> 6214181853
B11: DURACIÓN DE ACTIVIDADES | C11: 12
A12: DESCRIPCION DE GASTOS
A13: ANALISIS DETALLADO DEL AIU
A14: A. | B14: ADMINISTRACION | C14: =+H6 -> 0.25
A15: ITEM | B15: DESCRIPCION | C15: UND | D15: CANT. | E15: % DE DEDICACION | F15: VALOR UNITARIO | G15: FACTOR PRESTACIONAL | H15: VALOR PARCIAL | I15: VALOR CAPITULO
A16: 1 | B16: COSTOS DE PERSONAL | I16: =ROUND(SUM(H17:H19)+SUM(H23:H33)+H36,0) -> #REF! | J16: =I16-I6 -> #REF!
A17: 1.1 | B17: =+#REF! -> #REF! | C17: Mes | D17: =+$C$11 -> 12 | E17: 0.5 | F17: =+#REF!*30 -> #REF! | G17: =+#REF! -> #REF! | H17: =D17*E17*F17*G17 -> #REF!
A18: 1.2 | B18: =+#REF! -> #REF! | C18: Mes | D18: =+$C$11 -> 12 | E18: 1 | F18: =+#REF!*30 -> #REF! | G18: =+#REF! -> #REF! | H18: =D18*E18*F18*G18 -> #REF!
A19: 1.3 | B19: =+#REF! -> #REF! | C19: Mes | D19: =+$C$11 -> 12 | E19: 1 | F19: =+#REF!*30 -> #REF! | G19: =+#REF! -> #REF! | H19: =D19*E19*F19*G19 -> #REF!
A21: 2 | B21: POLIZAS
B22: Descripcion | D22: Valor Base | E22: % Asegurado | F22: Vegencia (Meses) | G22: Tasa | H22: Total
A23: 2.1 | B23: Garantias | C23: Cumplimiento | D23: =+$I$4*0.2 -> 5.3856243e+09 | E23: 0.2 | F23: =C11+6 -> 18 | G23: 0.01 | H23: =+ROUND((((((D23*E23)*G23)/12)*F23))*1.19,0) -> 19226679
C24: Buen Manejo del Anticipo | D24: =+$I$4*0.2 -> 5.3856243e+09 | E24: 1 | F24: =C11+6 -> 18 | G24: 0.01 | H24: =+ROUND((((((D24*E24)*G24)/12)*F24)+0)*1.19,0) -> 96133393
C25: Salarios y Prestaciones | D25: =+$I$4*0.2 -> 5.3856243e+09 | E25: 0.2 | F25: =36+C11 -> 48 | G25: 0.01 | H25: =+ROUND((((((D25*E25)*G25)/12)*F25)+0)*1.19,0) -> 51271143
C26: Estabilidad y Calidad de la Obra | D26: =+$I$4*0.3 -> 8.0784364e+09 | E26: 0.3 | F26: 60 | G26: 0.01 | H26: =+ROUND((((((D26*E26)*G26)/12)*F26)+0)*1.19,0) -> 144200090
C27: RCE | D27: - | E27: - | F27: =+C11 -> 12 | G27: 2 SMMLV | H27: =1300000*2*1.19 -> 3094000
A29: 3 | B29: COSTOS DE ADMINISTRACION
A30: 3.1 | B30: Servicio de linea telefonica local ilimitada, celulares, equipos de comunicación e internet banda ancha ilimitada 10Mb | C30: Mes | D30: =+$C$11 -> 12 | E30: 1 | F30: 100000 | G30: - | H30: =ROUND(D30*E30*F30,0) -> 1200000
A31: 3.2 | B31: Alquiler de Oficina (Incl. Servicios Publicos) | C31: Mes | D31: =+$C$11 -> 12 | E31: 1 | F31: 1200000 | G31: - | H31: =ROUND(D31*E31*F31,0) -> 14400000
A32: 3.5 | B32: =+#REF! -> #REF! | C32: Mes | D32: =+$C$11 -> 12 | E32: 0.4 | F32: =+#REF! -> #REF! | G32: - | H32: =ROUND(D32*E32*F32,0) -> #REF!
A33: 3.6 | B33: Valla Informativa de Obra (6.00m x 3.00m) | C33: Und | D33: 1 | E33: 1 | F33: 5175854 | G33: - | H33: =ROUND(D33*E33*F33,0) -> 5175854
A35: ITEM | B35: DESCRIPCION | C35: UND | D35: - | E35: % SOBRE COSTO TOTAL | F35: COSTO TOTAL PROYECTO | H35: VALOR PARCIAL
A36: 4 | B36: Gastos de Legalizacion | C36: Und | E36: =SUM(E37:E43) -> 0.172 | F36: =+F37 -> 2.6928121e+10 | H36: =+F36*E36 -> 4.6316369e+09
A37: 4.1 | B37: ESTAMPILLA PRO-CULTURA | C37: Glb | D37: - | E37: 0.02 | F37: =+I4 -> 2.6928121e+10 | H37: =+F$37*E37 -> 5.3856243e+08
A38: 4.2 | B38: ESTAMPILLA PRO-UNIVERSIDAD | C38: Glb | D38: - | E38: 0.02 | H38: =+F$37*E38 -> 5.3856243e+08
A39: 4.3 | B39: ESTAMPILLA PRO-ADULTO MAYOR | C39: Glb | D39: - | E39: 0.04 | H39: =+F$37*E39 -> 1.0771249e+09
A40: 4.4 | B40: ESTAMPILLA PRO-HOSPITAL | C40: Glb | D40: - | E40: 0.02 | H40: =+F$37*E40 -> 5.3856243e+08
A41: 4.5 | B41: INDUSTRIA Y COMERCIO | C41: Glb | E41: 0.007 | H41: =+F$37*E41 -> 1.8849685e+08
A42: 4.6 | B42: ESTAMPILLA PRO-DEPORTE | C42: Glb | D42: - | E42: 0.015 | H42: =+F$37*E42 -> 4.0392182e+08
A43: 4.7 | B43: ESTAMPILLA FONDO DE SEGURIDAD | C43: Glb | E43: 0.05 | H43: =+F$37*E43 -> 1.3464061e+09
A45: B | B45: IMPREVISTOS | I45: =ROUND(H46,0) -> 207139395
A46: 5 | B46: Imprevistos estimados | C46: % | D46: - | E46: =+H7 -> 0.01 | F46: =+I3 -> 2.071394e+10 | H46: =+F46*E46 -> 2.071394e+08
...
