Workbook
Name _________PJ50: #REF!
Name _________PJ50: #REF!
Name ________PJ50: #REF!
Name ________PJ50: #REF!
Name _______PJ50: #REF!
Name _______PJ50: #REF!
Name ______PJ50: #REF!
Name ______PJ50: #REF!
Name _____A1: #REF!
Name _____A1: #REF!
Name _____CON123: #REF!
Name _____CON123: #REF!
Name _____EQP1: #REF!
Name _____EQP1: #REF!
Name _____EQP2: #REF!
Name _____EQP2: #REF!
Name _____eqp27: #REF!
Name _____eqp27: #REF!
Name _____EQP3: #REF!
Name _____EQP3: #REF!
Name _____EQP4: #REF!
Name _____EQP4: #REF!
Name _____M14: #REF!
Name _____M14: #REF!
Name _____MAT1111: #REF!
Name _____MAT1111: #REF!
Name _____MAT170: #REF!
Name _____MAT170: #REF!
Name _____MAT171: #REF!
Name _____MAT171: #REF!
Name _____MAT832: #REF!
Name _____MAT832: #REF!
Name _____MAY88: '[1]Base Datos'!$B$11
Name _____PJ50: #REF!
Name _____PJ50: #REF!
Name ____A1: #REF!
Name ____A1: #REF!
Name ____CON123: #REF!
Name ____CON123: #REF!
Name ____EQP1: #REF!
Name ____EQP1: #REF!
Name ____EQP2: #REF!
Name ____EQP2: #REF!
Name ____eqp27: #REF!
Name ____eqp27: #REF!
Name ____EQP3: #REF!
Name ____EQP3: #REF!
Name ____EQP4: #REF!
Name ____EQP4: #REF!
Name ____M14: #REF!
Name ____M14: #REF!
Name ____MAT1111: #REF!
Name ____MAT1111: #REF!
Name ____MAT170: #REF!
Name ____MAT170: #REF!
Name ____MAT171: #REF!
Name ____MAT171: #REF!
Name ____MAT832: #REF!
Name ____MAT832: #REF!
Name ____MAY88: '[1]Base Datos'!$B$11

Sheet PRESUPUESTO GRAL
B3: GOBERNACION DEL MAGDALENA
B4: PRESUPUESTO MEJORAMIENTO DE COLEGIOS ZONA NORTE
B7: N° | C7: DESCRIPCION | D7: UND | E7: CANT | F7: VR.UNITARIO | G7: VR PARCIAL | H7: VR CAPITULO
B9: 1 | C9: PRELIMINARES | H9: =+SUM(G10:G12) -> 259779618
B10: 1.1 | C10: Localizacion y replanteo edificaciones (medido como el area objeto de construccion) | D10: M2 | E10: 3570 | F10: ='A.P.U Preliminares'!G5 -> 6073 | G10: =+E10*F10 -> 21680610
B11: 1.2 | C11: Demolicion de construcciones existentes hasta nivel de piso. incluye acarreo interno, cargue, transporte y disposicion final de material sobrante en botaderos oficiales. | D11: M2 | E11: 765 | F11: ='A.P.U Preliminares'!G15 -> 160327 | G11: =+E11*F11 -> 122650155
B12: 1.3 | C12: Demolicion de concretos enterrados (provision). Incluye acarreo interno, cargue, transporte y disposicion final de material sobrante en botaderos oficiales. | D12: M3 | E12: 433.5 | F12: ='A.P.U Preliminares'!G27 -> 266318 | G12: =+E12*F12 -> 115448853
B13: 2 | C13: MOVIMIENTOS DE TIERRA | H13: =SUM(G14:G18) -> 7.7609146e+08
B14: 2.1 | C14: Descapote + excavacion masiva para nivelacion e implantacion del proyecto y para tanques de agua con bombeo de aguas freaticas donde aplique. Incluye cargue, transporte y disposicion final en sitios autorizados. Medido en planos | D14: M3 | E14: 244.8 | F14: ='Movimientos de tierra'!G5 -> 191217 | G14: =+E14*F14 -> 46809922
B15: 2.2 | C15: Excavacion manual para fundaciones y redes 0-2.00 m. con bombeo de aguas freaticas donde aplique. Incluye transporte interno, cargue y disposicion final en sitios autorizados. Medido en planos | D15: M3 | E15: 918 | F15: ='Movimientos de tierra'!G15 -> 210261 | G15: =+E15*F15 -> 193019598
B16: 2.3 | C16: Compactacion de subrasante | D16: M2 | E16: 1530 | F16: ='Movimientos de tierra'!G27 -> 6765 | G16: =+E16*F16 -> 10350450
B17: 2.4 | C17: Lleno compactado en material seleccionado para rellenos alrededor de estructuras y redes. Medido en planos | D17: M3 | E17: 918 | F17: ='Movimientos de tierra'!G38 -> 343733 | G17: =+E17*F17 -> 315546894
B18: 2.5 | C18: Lleno compactado para losas de contrapiso y circulaciones exteriores con recebo tipo Invias. Espesor según estudio de suelos. Medido en planos | D18: M3 | E18: 612 | F18: ='Movimientos de tierra'!G49 -> 343733 | G18: =+E18*F18 -> 210364596
B19: 3 | C19: CIMENTACIONES Y ESTRUCTURA | H19: =SUM(G20:G28) -> 5049555900
B20: 3.1 | C20: Armado y vaciado de zapatas y/o dados en concreto F'c 21 Mpa | D20: M3 | E20: 1836 | F20: ='Cimentaciones y estructuras'!G5 -> 1190000 | G20: =+E20*F20 -> 2184840000
B21: 3.2 | C21: Armado y vaciado de vigas de cimentacion en concreto F'c=21 Mpa. Formaleteadas. | D21: M3 | E21: 238.68 | F21: ='Cimentaciones y estructuras'!G17 -> 1250000 | G21: =+E21*F21 -> 298350000
B22: 3.3 | C22: Armado y vaciado de vigas de amarre sobre muro en concreto F'c=21 Mpa. Formaleteadas. | D22: M3 | E22: 238.68 | F22: ='Cimentaciones y estructuras'!G30 -> 1440000 | G22: =+E22*F22 -> 3.436992e+08
B23: 3.4 | C23: Solado en concreto f'c 14 mpa E: 0.05 m. | D23: M2 | E23: 3672 | F23: ='Cimentaciones y estructuras'!G43 -> 128900 | G23: =+E23*F23 -> 473320800
B24: 3.5 | C24: Losa de contrapiso en concreto F'c 21 Mpa. E: 0.10 m | D24: M2 | E24: 612 | F24: ='Cimentaciones y estructuras'!G53 -> 304000 | G24: =+E24*F24 -> 186048000
B25: 3.6 | C25: Armado + vaciado de columnetas de confinaiento en concreto visto F'c 21 Mpa. | D25: M3 | E25: 24.48 | F25: ='Cimentaciones y estructuras'!G65 -> 1480000 | G25: =+E25*F25 -> 36230400
B26: 3.7 | C26: Armado y vaciado de rampa en concreto visto F'c 21 Mpa. | D26: M3 | E26: 51 | F26: ='Cimentaciones y estructuras'!G78 -> 1530000 | G26: =+E26*F26 -> 78030000
B27: 3.8 | C27: Suministro e instalación de acero figurado fy 420 Mpa | D27: KG | E27: 73950 | F27: ='Cimentaciones y estructuras'!G91 -> 11650 | G27: =+E27*F27 -> 861517500
B28: 3.9 | C28: Suministro e instalación de mallas electrosoldadas fy 493 Mpa | D28: KG | E28: 40800 | F28: ='Cimentaciones y estructuras'!G104 -> 14400 | G28: =+E28*F28 -> 587520000
B29: 4 | C29: ESTRUCTURA METALICA | H29: =+G30 -> 1088850000
B30: 4.1 | C30: Suministro e instalación de estructuras metálicas para cubiertas. Incluye perfiles, platinas, pernos, anclajes, soldaduras y accesorios acorde con el diseño estructural. Incluye limpieza mecanica, pintura anticorrosiva y pintura de acabado de acabado final según planos estructurales. | D30: KG | E30: 25500 | F30: ='Estructura Metálica'!G5 -> 42700 | G30: =+F30*E30 -> 1088850000
B31: 5 | C31: CUBIERTAS | H31: =+SUM(G32:G34) -> 1674072960
B32: 5.1 | C32: Cubierta en teja termo acústica en UPVC (policroruro de vinilo no plastificado) con núcleo de polímero alto de fibra de carbono y recubrimiento en PMMA, color blanco. Incluye transporte y todos los accesorios requeridos para su correcta instalacion y funcionamiento. | D32: M2 | E32: 3264 | F32: =Cubiertas!G5 -> 211350 | G32: =+E32*F32 -> 689846400
B33: 5.2 | C33: Mortero pendientado cubiertas. Mortero impermeabilizado 1:4. Incluye medias cañas perimetrales para remates de impermeabilizacion. | D33: M2 | E33: 3264 | F33: =Cubiertas!G16 -> 192540 | G33: =+E33*F33 -> 628450560
B34: 5.3 | C34: Cielo raso plano en drywall, incluye estructura de soporte en aluminio instalado y pintado | D34: M2 | E34: 3264 | F34: =Cubiertas!G28 -> 109000 | G34: =+E34*F34 -> 355776000
B35: 6 | C35: MAMPOSTERIA, DIVISIONES Y ELEMENTOS NO ESTRUCTURALES | H35: =SUM(G36:G37) -> 1400207040
B36: 6.1 | C36: Muro en bloque Bloque cemento 10x19x39cm. Muros divisorios y machones. Incluye refuerzo horizontal y remates laterales en poron + sellador tipo Sikaflex de Sika o equivalente. | D36: M2 | E36: 4896 | F36: =Mamposteria!G5 -> 224540 | G36: =+E36*F36 -> 1099347840
B37: 6.2 | C37: Sobrecimiento en bloque de concreto formato 10x19x40 color gris f'm 12 Mpa. 1 hilada. Incluye pañete con mortero 1:4 con impermeabilizante integral Sika 1 de Sika o equivalente | D37: ML | E37: 4080 | F37: =Mamposteria!G20 -> 73740 | G37: =+E37*F37 -> 300859200
B38: 7 | C38: RECUBRIMIENTOS | H38: =SUM(G39:G44) -> 1175871300
B39: 7.1 | C39: Pañete de muros. Incluye lineales, fajas, filetes y ranuras. | D39: M2 | E39: 4284 | F39: =Recubrimientos!G5 -> 56400 | G39: =+E39*F39 -> 241617600
B40: 7.2 | C40: Estuco plastico muros. Incluye fajas, filetes y ranuras | D40: M2 | E40: 4284 | F40: =Recubrimientos!G17 -> 44300 | G40: =+E40*F40 -> 189781200
B41: 7.3 | C41: Pintura muros con pintura tipo 1 para interiores de alta durabilidad - tres manos. Colores según detalle de arquitectura. | D41: M2 | E41: 4284 | F41: =Recubrimientos!G29 -> 41200 | G41: =+E41*F41 -> 176500800
B42: 7.4 | C42: Pintura muros pintura acrilica base de agua para exteriores de alta durabilidad - tres manos. Colores según detalle de arquitectura. | D42: M2 | E42: 4284 | F42: =Recubrimientos!G41 -> 59800 | G42: =+E42*F42 -> 256183200
B43: 7.5 | C43: Nomenclatura de acceso a aulas y baños. Pictograma de 0.70x1.20 m. según detalle de arquitectura. Pintura acrilica base de agua para exteriores de alta durabilidad - tres manos. | D43: UND | E43: 765 | F43: =Recubrimientos!G51 -> 66500 | G43: =+E43*F43 -> 50872500
B44: 7.6 | C44: Enchape en baños y cocina. Cerámica color blanco formato 20.5x20.5 cm de Corona o equivalente segun detalle de arquitectura. Incluye adhesivo y boquilla de base cementosa tipo Pegacor Cerámico y Concolor Junta Universal de Corona o equivalente + remate superior en moldura PVC según detalle de arquitectura. | D44: M2 | E44: 2040 | F44: =Recubrimientos!G63 -> 127900 | G44: =+E44*F44 -> 260916000
B45: 8 | C45: PISOS Y ZOCALOS | H45: =SUM(G46) -> 381156150
...

Sheet A.P.U Preliminares
B2: ITEM | C2: DESCRIPCIÓN | D2: Unidad | E2: Cantidad | F2: Vlr Unitario | G2: Vlr total
B4: 1 | C4: PRELIMINARES
B5: 1.1 | C5: Localizacion y replanteo edificaciones (medido como el area objeto de construccion) | D5: M2 | G5: =SUM(G7:G14) -> 6073
C6: EQUIPO
C7: Herramienta menor | E7: 1 | F7: 1346 | G7: =+F7*E7 -> 1346
C9: MATERIALES
C11: TRANSPORTE
C12: Transporte | E12: 0.5 | F12: 1300 | G12: =+F12*E12 -> 650
C13: MANO DE OBRA
C14: Cuadrilla AA | D14: HH | E14: 1 | F14: 4077 | G14: =+F14*E14 -> 4077
B15: 1.2 | C15: Demolicion de construcciones existentes hasta nivel de piso. incluye acarreo interno, cargue, transporte y disposicion final de material sobrante en botaderos oficiales. | D15: M2 | G15: =SUM(G17:G26) -> 160327
C16: EQUIPO
C17: Buldozer fiat 14c ripper | D17: HO | E17: 1 | F17: 5000 | G17: =+F17*E17 -> 5000
C19: MATERIALES
C20: Retromartillo | E20: 1 | F20: 50000 | G20: =+F20*E20 -> 50000
C21: Certificación botadero | E21: 1 | F21: 6300 | G21: =+E21*F21 -> 6300
C22: TRANSPORTE
C23: Transporte | E23: 25 | F23: 1300 | G23: =+F23*E23 -> 32500
C24: MANO DE OBRA
C25: cuadrilla | E25: 1 | F25: 66527 | G25: =+F25*E25 -> 66527
D26: 0
B27: 1.3 | C27: Demolicion de concretos enterrados (provision). Incluye acarreo interno, cargue, transporte y disposicion final de material sobrante en botaderos oficiales. | D27: M3 | G27: =SUM(G29:G37) -> 266318
C28: EQUIPO
C29: Buldozer fiat 14c ripper | D29: HO | E29: 1 | F29: 7000 | G29: =+F29*E29 -> 7000
C31: MATERIALES
C32: Retromartillo | E32: 1 | F32: 50000 | G32: =+F32*E32 -> 50000
E33: 1 | F33: 21000 | G33: =+F33*E33 -> 21000
C34: TRANSPORTE
C35: Transporte | E35: 65 | F35: 1300 | G35: =+F35*E35 -> 84500
C36: MANO DE OBRA
C37: Cuadrilla AA | D37: HH | E37: 1 | F37: 103818 | G37: =+F37*E37 -> 103818

Sheet Movimientos de tierra
B2: ITEM | C2: DESCRIPCIÓN | D2: Unidad | E2: Cantidad | F2: Vlr Unitario | G2: Vlr total
B4: 2 | C4: ='PRESUPUESTO GRAL'!C13 -> MOVIMIENTOS DE TIERRA
B5: 2.1 | C5: ='PRESUPUESTO GRAL'!C14 -> Descapote + excavacion masiva para nivelacion e implantacion del proyecto y para tanques de agua con bombeo de aguas freaticas donde aplique. Incluye cargue, transporte y disposicion final en sitios autorizados. Medido en planos | D5: M3 | G5: =SUM(G7:G14) -> 191217
C6: EQUIPO
C7: Motoniveladora 12f | D7: HO | E7: 1 | F7: 47917 | G7: =+F7*E7 -> 47917
C9: MATERIALES
C10: certificacion | E10: 1 | F10: 25000 | G10: =+E10*F10 -> 25000
C11: TRANSPORTE
C12: Transporte | E12: 45 | F12: 1300 | G12: =+F12*E12 -> 58500
C13: MANO DE OBRA
C14: Cuadrilla ofic- ayud tipo aa | D14: HH | E14: 1 | F14: 59800 | G14: =+F14*E14 -> 59800
B15: 2.2 | C15: ='PRESUPUESTO GRAL'!C15 -> Excavacion manual para fundaciones y redes 0-2.00 m. con bombeo de aguas freaticas donde aplique. Incluye transporte interno, cargue y disposicion final en sitios autorizados. Medido en planos | D15: M3 | G15: =SUM(G17:G26) -> 210261
C16: EQUIPO
C17: Motoniveladora 12f | D17: HO | E17: 1 | F17: 62500 | G17: =+F17*E17 -> 62500
C18: Vibro ch 44 con tractor | D18: HO | E18: 1 | F18: 40000 | G18: =+F18*E18 -> 40000
C19: MATERIALES
C20: certificacion | E20: 1 | F20: 25000 | G20: =+E20*F20 -> 25000
C22: TRANSPORTE
C23: Transporte | E23: 47 | F23: 1300 | G23: =+F23*E23 -> 61100
C24: MANO DE OBRA
C25: Hora oficial albañilería | D25: HH | E25: 1 | F25: 21661 | G25: =+F25*E25 -> 21661
B27: 2.3 | C27: Compactacion de subrasante | D27: M2 | G27: =SUM(G29:G37) -> 6765
C28: EQUIPO
C29: Compactadora | E29: 1 | F29: 2350 | G29: =+F29*E29 -> 2350
C30: carrotanque agua | E30: 1 | F30: 400 | G30: =+F30*E30 -> 400
C31: MATERIALES
C34: TRANSPORTE
C35: Transporte | E35: 0.6 | F35: 1300 | G35: =+F35*E35 -> 780
C36: MANO DE OBRA
C37: Cuadrilla ofic- ayud tipo aa | D37: HH | E37: 1 | F37: 3235 | G37: =+F37*E37 -> 3235
B38: 2.4 | C38: ='PRESUPUESTO GRAL'!C17 -> Lleno compactado en material seleccionado para rellenos alrededor de estructuras y redes. Medido en planos | D38: M3 | G38: =SUM(G40:G48) -> 343733
C39: EQUIPO
C40: Motoniveladora 12f | D40: HO | E40: 1 | F40: 62500 | G40: =+F40*E40 -> 62500
C41: Carrotanque | D41: HO | E41: 1 | F41: 23333 | G41: =+F41*E41 -> 23333
C42: Vibro ch 44 con tractor | D42: HO | E42: 1 | F42: 37500 | G42: =+F42*E42 -> 37500
C43: MATERIALES
C44: Relleno seleccionado | E44: 1 | F44: 54000 | G44: =+E44*F44 -> 54000
C45: TRANSPORTE
C46: Transporte | E46: 128 | F46: 1300 | G46: =+F46*E46 -> 166400
C47: MANO DE OBRA
...

Sheet Cimentaciones y estructuras
B2: ITEM | C2: DESCRIPCIÓN | D2: Unidad | E2: Cantidad | F2: Vlr Unitario | G2: Vlr total
B4: 3 | C4: ='PRESUPUESTO GRAL'!C19 -> CIMENTACIONES Y ESTRUCTURA
B5: 3.1 | C5: ='PRESUPUESTO GRAL'!C20 -> Armado y vaciado de zapatas y/o dados en concreto F'c 21 Mpa | D5: M3 | G5: =SUM(G7:G16) -> 1190000
C6: EQUIPO
C7: HERRAMIENTA MENOR | E7: 1 | F7: 60000 | G7: =+F7*E7 -> 60000
C8: VIBRADOR DE CONCRETO | D8: HR | E8: 1 | F8: 210000 | G8: =+F8*E8 -> 210000
C9: EQUIPO FORMALETA | E9: 1 | F9: 90000 | G9: =+F9*E9 -> 90000
C10: MATERIALES
C11: concreto | E11: 1 | F11: 450000 | G11: =+F11*E11 -> 450000
C12: TRANSPORTE
C13: Transporte | E13: 1 | F13: 120000 | G13: =+E13*F13 -> 120000
C14: MANO DE OBRA
C15: Cuadrilla | D15: DIA | E15: 1 | F15: 260000 | G15: =+F15*E15 -> 260000
B17: 3.2 | C17: ='PRESUPUESTO GRAL'!C21 -> Armado y vaciado de vigas de cimentacion en concreto F'c=21 Mpa. Formaleteadas. | D17: M3 | G17: =SUM(G19:G29) -> 1250000
C18: EQUIPO
C19: Herramienta menor | E19: 1 | F19: 60000 | G19: =+F19*E19 -> 60000
C20: Equipo formaleta | E20: 1 | F20: 250000 | G20: =+F20*E20 -> 250000
C21: Vidrador concreto | E21: 1 | F21: 90000 | G21: =+F21*E21 -> 90000
C22: MATERIALES
C23: Concreto | E23: 1 | F23: 450000 | G23: =+E23*F23 -> 450000
C25: TRANSPORTE
C26: Transporte | E26: 1 | F26: 120000 | G26: =+E26*F26 -> 120000
C27: MANO DE OBRA
C28: Cuadrilla | D28: DIA | E28: 1 | F28: 280000 | G28: =+F28*E28 -> 280000
B30: 3.3 | C30: ='PRESUPUESTO GRAL'!C22 -> Armado y vaciado de vigas de amarre sobre muro en concreto F'c=21 Mpa. Formaleteadas. | D30: M3 | G30: =SUM(G32:G42) -> 1440000
C31: EQUIPO
C32: Herramienta menor | D32: HR | E32: 1 | F32: 80000 | G32: =+F32*E32 -> 80000
C33: Equipo formaleta + andamios | D33: HR | E33: 1 | F33: 350000 | G33: =+F33*E33 -> 350000
C34: Vidrador concreto | D34: HR | E34: 1 | F34: 90000 | G34: =+F34*E34 -> 90000
C35: MATERIALES
C36: Concreto | E36: 1 | F36: 450000 | G36: =+E36*F36 -> 450000
C38: TRANSPORTE
C39: Transporte | E39: 1 | F39: 120000 | G39: =+E39*F39 -> 120000
C40: MANO DE OBRA
C41: Cuadrilla | D41: DIA | E41: 1 | F41: 350000 | G41: =+F41*E41 -> 350000
B43: 3.4 | C43: ='PRESUPUESTO GRAL'!C23 -> Solado en concreto f'c 14 mpa E: 0.05 m. | D43: M2 | G43: =SUM(G45:G52) -> 128900
C44: EQUIPO | D44: |
C45: Herramienta menor | E45: 1 | F45: 64500 | G45: =+F45*E45 -> 64500
C47: MATERIALES
C48: Concreto | E48: 1 | F48: 31500 | G48: =+F48*E48 -> 31500
...

Sheet Estructura Metálica
B2: ITEM | C2: DESCRIPCIÓN | D2: Unidad | E2: Cantidad | F2: Vlr Unitario | G2: Vlr total
B4: 4 | C4: ='PRESUPUESTO GRAL'!C29 -> ESTRUCTURA METALICA
B5: 4.1 | C5: ='PRESUPUESTO GRAL'!C30 -> Suministro e instalación de estructuras metálicas para cubiertas. Incluye perfiles, platinas, pernos, anclajes, soldaduras y accesorios acorde con el diseño estructural. Incluye limpieza mecanica, pintura anticorrosiva y pintura de acabado de acabado final según planos estructurales. | D5: KG | G5: =SUM(G7:G16) -> 42700
C6: EQUIPO
C7: Andamios+lineas vida+anclajes | D7: HR | E7: 1 | F7: 4000 | G7: =+E7*F7 -> 4000
C8: Herramienta menor | D8: HR | E8: 1 | F8: 2000 | G8: =+E8*F8 -> 2000
C9: Equipo corte+soldador+planta+compresor | D9: HR | E9: 1 | F9: 3000 | G9: =+E9*F9 -> 3000
C10: MATERIALES
C11: PERFIL C 220x80x2.0mm | D11: und | E11: 1 | F11: 22000 | G11: =+F11*E11 -> 22000
C12: TRANSPORTE
C13: Transporte | E13: 4 | F13: 1300 | G13: =+E13*F13 -> 5200
C14: MANO DE OBRA
C15: CUADRILLA OFIC-AYUD TIPO AA | D15: HH | E15: 1 | F15: 6500 | G15: =+F15*E15 -> 6500

Sheet Cubiertas
B2: ITEM | C2: DESCRIPCIÓN | D2: Unidad | E2: Cantidad | F2: Vlr Unitario | G2: Vlr total
B4: 5 | C4: PRELIMINARES
B5: 5.1 | C5: ='PRESUPUESTO GRAL'!C32 -> Cubierta en teja termo acústica en UPVC (policroruro de vinilo no plastificado) con núcleo de polímero alto de fibra de carbono y recubrimiento en PMMA, color blanco. Incluye transporte y todos los accesorios requeridos para su correcta instalacion y funcionamiento. | D5: M2 | G5: =SUM(G7:G15) -> 211350
C6: EQUIPO
C7: Herramienta menor | E7: 1 | F7: 20000 | G7: =+F7*E7 -> 20000
C8: Andamios | E8: 1 | F8: 25000 | G8: =+F8*E8 -> 25000
C9: MATERIALES
C10: Cubierta | E10: 1 | F10: 75000 | G10: =+F10*E10 -> 75000
C11: Accesorios cubierta | E11: 1 | F11: 11250 | G11: =+F11*E11 -> 11250
C12: TRANSPORTE
C13: Transporte | E13: 27 | F13: 1300 | G13: =+E13*F13 -> 35100
C14: MANO DE OBRA | E14: ,
C15: CUADRILLA OFIC-AYUD TIPO AA | D15: HH | E15: 1 | F15: 45000 | G15: =+F15*E15 -> 45000
B16: 5.2 | C16: ='PRESUPUESTO GRAL'!C33 -> Mortero pendientado cubiertas. Mortero impermeabilizado 1:4. Incluye medias cañas perimetrales para remates de impermeabilizacion. | D16: M2 | G16: =SUM(G18:G27) -> 192540
C17: EQUIPO
C18: Vibrador eléctrico conc | D18: DI | E18: 1 | F18: 74340 | G18: =+F18*E18 -> 74340
C19: Mezcladroa 9" c/op | D19: DI | E19: 1 | F19: 65000 | G19: =+F19*E19 -> 65000
C20: MATERIALES
C23: TRANSPORTE
C24: Transporte | E24: 11 | F24: 1300 | G24: =+E24*F24 -> 14300
C25: MANO DE OBRA
C26: Cuadrilla AA | D26: HH | E26: 1 | F26: 38900 | G26: =+F26*E26 -> 38900
B28: 5.3 | C28: ='PRESUPUESTO GRAL'!C34 -> Cielo raso plano en drywall, incluye estructura de soporte en aluminio instalado y pintado | D28: M2 | G28: =SUM(G30:G38) -> 109000
C29: EQUIPO
C30: PERFIL C 220x80x2.0mm | D30: UND | E30: 1 | F30: 29000 | G30: =+F30*E30 -> 29000
C32: MATERIALES
C33: Lamina drywall | E33: 1 | F33: 25000 | G33: =+E33*F33 -> 25000
C34: Perfiles+angulos+omegas+tormillos | E34: 1 | F34: 20000 | G34: =+E34*F34 -> 20000
C35: TRANSPORTE
C36: Transporte | E36: 10 | F36: 1300 | G36: =+E36*F36 -> 13000
C37: MANO DE OBRA
C38: CUADRILLA OFIC-AYUD TIPO AA | D38: HH | E38: 1 | F38: 22000 | G38: =+F38*E38 -> 22000

Sheet Mamposteria
B2: ITEM | C2: DESCRIPCIÓN | D2: Unidad | E2: Cantidad | F2: Vlr Unitario | G2: Vlr total
B4: 6 | C4: ='PRESUPUESTO GRAL'!C35 -> MAMPOSTERIA, DIVISIONES Y ELEMENTOS NO ESTRUCTURALES
B5: 6.1 | C5: ='PRESUPUESTO GRAL'!C36 -> Muro en bloque Bloque cemento 10x19x39cm. Muros divisorios y machones. Incluye refuerzo horizontal y remates laterales en poron + sellador tipo Sikaflex de Sika o equivalente. | D5: M2 | G5: =SUM(G7:G19) -> 224540
C6: EQUIPO
C7: Herramienta menor | D7: HR | E7: 1 | F7: 15000 | G7: =+F7*E7 -> 15000
C8: Andamios | D8: HR | E8: 1 | F8: 25000 | G8: =+F8*E8 -> 25000
C9: Trozadora+planta | D9: HR | E9: 1 | F9: 15000 | G9: =+F9*E9 -> 15000
C10: MATERIALES
C11: Bloque cemento | E11: 1 | F11: 56000 | G11: =+F11*E11 -> 56000
C12: Mortero pega | E12: 1 | F12: 17640 | G12: =+F12*E12 -> 17640
C13: Sellador sika | E13: 1 | F13: 25000 | G13: =+F13*E13 -> 25000
C14: Acero | E14: 1 | F14: 4500 | G14: =+F14*E14 -> 4500
C15: TRANSPORTE
C16: Transporte | E16: 28 | F16: 1300 | G16: =+E16*F16 -> 36400
C17: MANO DE OBRA
C18: Oficial | D18: DIA | E18: 1 | F18: 20000 | G18: =+F18*E18 -> 20000
C19: Ayudante | D19: DIA | E19: 1 | F19: 10000 | G19: =+F19*E19 -> 10000
B20: 6.2 | C20: ='PRESUPUESTO GRAL'!C37 -> Sobrecimiento en bloque de concreto formato 10x19x40 color gris f'm 12 Mpa. 1 hilada. Incluye pañete con mortero 1:4 con impermeabilizante integral Sika 1 de Sika o equivalente | D20: ML | G20: =SUM(G22:G33) -> 73740
C21: EQUIPO
C22: Herramienta menor | E22: 1 | F22: 4000 | G22: =+F22*E22 -> 4000
C23: Andamios | E23: 1 | F23: 10000 | G23: =+F23*E23 -> 10000
C24: Trozadora+planta | E24: 1 | F24: 5000 | G24: =+F24*E24 -> 5000
C25: MATERIALES
C26: Bloque cemento | E26: 1 | F26: 16000 | G26: =+F26*E26 -> 16000
C27: Mortero pega | E27: 1 | F27: 5040 | G27: =+F27*E27 -> 5040
C28: Sellador sika | E28: 1 | F28: 12000 | G28: =+F28*E28 -> 12000
C29: TRANSPORTE
C30: Transporte | E30: 9 | F30: 1300 | G30: =+E30*F30 -> 11700
C31: MANO DE OBRA
C32: Oficial | D32: DIA | E32: 1 | F32: 5000 | G32: =+F32*E32 -> 5000
C33: Ayudante | D33: DIA | E33: 1 | F33: 5000 | G33: =+F33*E33 -> 5000

Sheet Recubrimientos
B2: ITEM | C2: DESCRIPCIÓN | D2: Unidad | E2: Cantidad | F2: Vlr Unitario | G2: Vlr total
B4: 7 | C4: ='PRESUPUESTO GRAL'!C38 -> RECUBRIMIENTOS
B5: 7.1 | C5: ='PRESUPUESTO GRAL'!C39 -> Pañete de muros. Incluye lineales, fajas, filetes y ranuras. | D5: M3 | G5: =SUM(G7:G16) -> 56400
C6: EQUIPO
C7: Andamios | D7: DIA | E7: 1 | F7: 8000 | G7: =+F7*E7 -> 8000
C8: Mezcladora | E8: 1 | F8: 6000 | G8: =+F8*E8 -> 6000
C9: Herramienta menor | E9: 1 | F9: 5000 | G9: =+F9*E9 -> 5000
C10: MATERIALES
C11: Cemento Portland tipo I. | D11: UND | E11: 1 | F11: 12000 | G11: =+F11*E11 -> 12000
C12: TRANSPORTE
C13: Transporte | E13: 8 | F13: 1300 | G13: =+F13*E13 -> 10400
C14: MANO DE OBRA
C15: Oficial de albañileria | D15: HH | E15: 1 | F15: 15000 | G15: =+F15*E15 -> 15000
B17: 7.2 | C17: ='PRESUPUESTO GRAL'!C40 -> Estuco plastico muros. Incluye fajas, filetes y ranuras | D17: M3 | G17: =SUM(G19:G28) -> 44300
C18: EQUIPO
C19: Andamios | E19: 1 | F19: 8000 | G19: =+F19*E19 -> 8000
C20: Herramienta menor | E20: 1 | F20: 4500 | G20: =+F20*E20 -> 4500
C21: MATERIALES
C22: Estuco | E22: 1 | F22: 9000 | G22: =+F22*E22 -> 9000
C24: TRANSPORTE
C25: Transporte | E25: 6 | F25: 1300 | G25: =+F25*E25 -> 7800
C26: MANO DE OBRA
C27: Oficial de albañileria | D27: HH | E27: 1 | F27: 15000 | G27: =+F27*E27 -> 15000
B29: 7.3 | C29: ='PRESUPUESTO GRAL'!C41 -> Pintura muros con pintura tipo 1 para interiores de alta durabilidad - tres manos. Colores según detalle de arquitectura. | D29: M3 | G29: =SUM(G31:G39) -> 41200
C30: EQUIPO
C31: Andamios | E31: 1 | F31: 5000 | G31: =+F31*E31 -> 5000
C32: Herramienta menor | E32: 1 | F32: 3000 | G32: =+F32*E32 -> 3000
C33: MATERIALES
C34: Pintura tipo 1 | E34: 1 | F34: 16000 | G34: =+F34*E34 -> 16000
C36: TRANSPORTE
C37: Transporte | E37: 4 | F37: 1300 | G37: =+F37*E37 -> 5200
C38: MANO DE OBRA
C39: Ayudante | D39: DIA | E39: 1 | F39: 12000 | G39: =+F39*E39 -> 12000
B41: 7.4 | C41: ='PRESUPUESTO GRAL'!C42 -> Pintura muros pintura acrilica base de agua para exteriores de alta durabilidad - tres manos. Colores según detalle de arquitectura. | D41: M2 | G41: =SUM(G43:G50) -> 59800
C42: EQUIPO | D42: |
C43: Andamios | E43: 1 | F43: 5000 | G43: =+F43*E43 -> 5000
C44: Herramienta menor | E44: 1 | F44: 3000 | G44: =+F44*E44 -> 3000
C45: MATERIALES
C46: Pintura acrilica | D46: UND | E46: 1 | F46: 24000 | G46: =+F46*E46 -> 24000
C47: TRANSPORTE
...

Sheet Pisos y zocalos 
B2: ITEM | C2: DESCRIPCIÓN | D2: Unidad | E2: Cantidad | F2: Vlr Unitario | G2: Vlr total
B4: 8 | C4: ='PRESUPUESTO GRAL'!C45 -> PISOS Y ZOCALOS
B5: 8.1 | C5: ='PRESUPUESTO GRAL'!C46 -> Piso en concreto pulido y enducrecido. Concreto F'c 28 Mpa - E: 0.10 m. con endurecedor de cuarzo tipo Sikafloor 3 Quartz top color gris claro. Pulido con allanadora de piso y dilataciones cortadas segun detalle de arquitectura | D5: M2 | G5: =SUM(G7:G19) -> 243500
C6: EQUIPO
C7: Herramienta menor | E7: 1 | F7: 10000 | G7: =+F7*E7 -> 10000
C8: Allanadora de piso | E8: 1 | F8: 15000 | G8: =+F8*E8 -> 15000
C9: Cortadora pavimento+disco | E9: 1 | F9: 20000 | G9: =+F9*E9 -> 20000
C10: Rieles | E10: 1 | F10: 10000 | G10: =+F10*E10 -> 10000
C11: MATERIALES
C12: Concreto 28mpa | E12: 1 | F12: 66000 | G12: =+F12*E12 -> 66000
C13: Antisol | E13: 1 | F13: 20000 | G13: =+F13*E13 -> 20000
C14: Sikafloor | D14: M3 | E14: 1 | F14: 25000 | G14: =+F14*E14 -> 25000
C15: TRANSPORTE
C16: Transporte | E16: 25 | F16: 1300 | G16: =+F16*E16 -> 32500
C17: MANO DE OBRA
C18: Oficial | D18: DIA | E18: 1 | F18: 25000 | G18: =+F18*E18 -> 25000
C19: Ayudante | D19: DIA | E19: 1 | F19: 20000 | G19: =+F19*E19 -> 20000

Sheet Baños y cocinas
B2: ITEM | C2: DESCRIPCIÓN | D2: Unidad | E2: Cantidad | F2: Vlr Unitario | G2: Vlr total
B4: 9 | C4: ='PRESUPUESTO GRAL'!C47 -> BAÑOS Y COCINAS
B5: 9.1 | C5: ='PRESUPUESTO GRAL'!C48 -> Orinal Ref. O43101001 Gotta Entrada posterior con válvula antivandálica de empotrar tipo push Ref.: 751290001 color blanco de Corona o equivalente. Incluye todos los accesorios requeridos para su correcta instalacion y funcionamiento. | D5: UND | G5: =SUM(G7:G15) -> 1467000
C6: EQUIPO
C7: Herramienta menor | E7: 1 | F7: 150000 | G7: =+F7*E7 -> 150000
C9: MATERIALES
C10: Orinal Ref. O43101001 | D10: UND | E10: 1 | F10: 700000 | G10: =+F10*E10 -> 700000
C11: TRANSPORTE
C12: Transporte | E12: 90 | F12: 1300 | G12: =+F12*E12 -> 117000
C13: MANO DE OBRA
C14: Ayudante | D14: DIA | E14: 1 | F14: 500000 | G14: =+F14*E14 -> 500000
B16: 9.2 | C16: ='PRESUPUESTO GRAL'!C49 -> Sanitario para baño PMR Ref.: 013191001 Taza Adriatica entrada posterior color blanco con válvula antivandálica de empotrar tipo push Ref. 751250001 de Corona o equivalente. Incluye todos los accesorios requeridos para su correcta instalacion y funcionamiento. | D16: UND | G16: =SUM(G19:G28) -> 1431300
C17: EQUIPO
C18: Herramienta menor | E18: 1 | F18: 150000 | G18: =+F18*E18 -> 150000
G19: =+F19*E19 -> 0
C20: MATERIALES
C21: Sanitario | D21: UND | E21: 1 | F21: 900000 | G21: =+F21*E21 -> 900000
C22: Cemento blanco | E22: 1 | F22: 30000 | G22: =+F22*E22 -> 30000
C24: TRANSPORTE
C25: Transporte | E25: 1 | F25: 1300 | G25: =+F25*E25 -> 1300
C26: MANO DE OBRA
C28: Ayudante | D28: DIA | E28: 1 | F28: 500000 | G28: =+F28*E28 -> 500000
B29: 9.3 | C29: ='PRESUPUESTO GRAL'!C50 -> Grifería para lavamanos institucional Ref. MX1020001 Push Mesa Max de Corona o equivalente con sistema push antivandálico. Incluye todos los accesorios para su instalacion y correcto funcionamiento. | D29: UND | G29: =SUM(G31:G40) -> 551300
C30: EQUIPO
C31: Herramienta menor | E31: 1 | F31: 100000 | G31: =+F31*E31 -> 100000
C33: MATERIALES
C34: Griferia para lavamanos Institucional | D34: UND | E34: 1 | F34: 250000 | G34: =+F34*E34 -> 250000
C36: TRANSPORTE
C37: Transporte | E37: 1 | F37: 1300 | G37: =+F37*E37 -> 1300
C38: MANO DE OBRA
C40: Cuadrilla | D40: DIA | E40: 1 | F40: 200000 | G40: =+F40*E40 -> 200000
B41: 9.4 | C41: ='PRESUPUESTO GRAL'!C51 -> Barras de seguridad recta de 18" en acero inoxidable para baño PMR Ref. 706550001 de Corona o equivalente. Incluye todos los accesorios requeridos para su correcta instalacion y funcionamiento. | D41: UND | G41: =SUM(G43:G50) -> 375100
C42: EQUIPO
C43: Herramienta menor | E43: 1 | F43: 40000 | G43: =+F43*E43 -> 40000
C45: MATERIALES
C46: Barras de seguridad recta de 18° | D46: UND | E46: 1 | F46: 200000 | G46: =+F46*E46 -> 200000
C47: TRANSPORTE
C48: Transporte | E48: 27 | F48: 1300 | G48: =+F48*E48 -> 35100
C49: MANO DE OBRA
C50: Ayudante | D50: DIA | E50: 1 | F50: 100000 | G50: =+F50*E50 -> 100000
...

Sheet Instalaciones Hidrosanitarias
B2: ITEM | C2: DESCRIPCIÓN | D2: Unidad | E2: Cantidad | F2: Vlr Unitario | G2: Vlr total
B4: 10 | C4: ='PRESUPUESTO GRAL'!C57 -> INSTALACIONES HIDROSANITARIAS
B5: 10.1 | C5: Suministro e instalacion tuberia PVC - Presion Ø1 -1/2" | D5: ML | G5: =SUM(G8:G15) -> 18298
C6: EQUIPO
C9: MATERIALES
C10: tuberia PVC - Presion Ø1 -1/2" | D10: UND | E10: 1 | F10: 11250 | G10: =+F10*E10 -> 11250
C11: TRANSPORTE
C12: Transporte | E12: 1 | F12: 1300 | G12: =+E12*F12 -> 1300
C13: MANO DE OBRA
C14: Ayudante | D14: DIA | E14: 1 | F14: 5748 | G14: =+F14*E14 -> 5748
B16: 10.2 | C16: Suministro e instalacion accesorio PVC-Presion Ø1 - 1/2" | D16: UND | G16: =SUM(G19:G27) -> 14525
C17: EQUIPO
G19: =+F19*E19 -> 0
C20: MATERIALES
C21: accesorio PVC-Presion Ø1 - 1/2" | D21: UND | E21: 1 | F21: 9400 | G21: =+F21*E21 -> 9400
C23: TRANSPORTE
C24: Transporte | E24: 1 | F24: 1300 | G24: =+E24*F24 -> 1300
C25: MANO DE OBRA
C27: Ayudante | D27: DIA | E27: 1 | F27: 3825 | G27: =+F27*E27 -> 3825
B28: 10.3 | C28: Suministro e instalacion tuberia PVC - Presion Ø1" | D28: ML | G28: =SUM(G30:G39) -> 10029
C29: EQUIPO
C32: MATERIALES
C33: Suministro e instalacion tuberia PVC - Presion Ø1" | D33: UND | E33: 1 | F33: 6729 | G33: =+F33*E33 -> 6729
C35: TRANSPORTE
C36: Transporte | E36: 1 | F36: 1300 | G36: =+E36*F36 -> 1300
C37: MANO DE OBRA
C39: Ayudante | D39: DIA | E39: 1 | F39: 2000 | G39: =+F39*E39 -> 2000
B40: 10.4 | C40: Suministro e instalacion accesorio PVC-Presion Ø1" | D40: UND | G40: =SUM(G42:G49) -> 7741
C41: EQUIPO
C44: MATERIALES
C45: accesorio PVC-Presion Ø1" | D45: UND | E45: 1 | F45: 4441 | G45: =+F45*E45 -> 4441
C46: TRANSPORTE
C47: Transporte | E47: 1 | F47: 1300 | G47: =+E47*F47 -> 1300
C48: MANO DE OBRA
C49: Ayudante | D49: DIA | E49: 1 | F49: 2000 | G49: =+F49*E49 -> 2000
B50: 10.5 | C50: Suministro e instalacion tuberia PVC - Presion Ø3/4" | D50: ML | G50: =SUM(G52:G61) -> 8320
C51: EQUIPO
C54: MATERIALES
C55: tuberia PVC - Presion Ø3/4" | D55: UND | E55: 1 | F55: 5020 | G55: =+F55*E55 -> 5020
C57: TRANSPORTE
...

Sheet Instalaciones eléctricas
B2: ITEM | C2: DESCRIPCIÓN | D2: Unidad | E2: Cantidad | F2: Vlr Unitario | G2: Vlr total
B4: 11 | C4: ='PRESUPUESTO GRAL'!C78 -> INSTALACIONES ELECTRICAS Y LUMINARIAS
B5: 11.1 | C5: TABLERO ML BAJA TENSION PROTECCION PRINCIPAL 240V, según diagrama unifilar | D5: UND | G5: =SUM(G8:G15) -> 10126394
C6: EQUIPO
C9: MATERIALES
C10: TABLERO ML BAJA TENSION | D10: UND | E10: 1 | F10: 9125094 | G10: =+F10*E10 -> 9125094
C11: TRANSPORTE
C12: Transporte | E12: 1 | F12: 1300 | G12: =+E12*F12 -> 1300
C13: MANO DE OBRA
C14: Cuadrilla tipo bb plo-elect | D14: HH | E14: 1 | F14: 1000000 | G14: =+F14*E14 -> 1000000
B16: 11.2 | C16: Tablero TMB 24 ctos (T-N) 2F, 4H, 208V de sobreponer, con barras de neutro y tierra independientes, con puerta y chapa, con espacio para totalizador. | D16: UND | G16: =SUM(G19:G27) -> 1443929
C17: EQUIPO
G19: =+F19*E19 -> 0
C20: MATERIALES
C21: Tablero TMB 24 ctos | D21: UND | E21: 1 | F21: 842629 | G21: =+F21*E21 -> 842629
C23: TRANSPORTE
C24: Transporte | E24: 1 | F24: 1300 | G24: =+E24*F24 -> 1300
C25: MANO DE OBRA
C27: Cuadrilla tipo bb plo-elect | D27: HH | E27: 1 | F27: 600000 | G27: =+F27*E27 -> 600000
B28: 11.3 | C28: Alimentador principal desde poste o tablero existente hata tablero principal en cuarto tecnico proyecto nuevo en cable de AWG Aluminio AA 8000 XHHW-280°C 750V PE HF LS TC por canalizacion subterranea 2No.4/0 Fase + 1No.1/0 Neutro +1No.2 Tierra. | D28: ML | G28: =SUM(G30:G39) -> 203038
C29: EQUIPO
C32: MATERIALES
C33: Alimentador principal desde poste | D33: UND | E33: 1 | F33: 181738 | G33: =+F33*E33 -> 181738
C35: TRANSPORTE
C36: Transporte | E36: 1 | F36: 1300 | G36: =+E36*F36 -> 1300
C37: MANO DE OBRA
C39: Cuadrilla tipo bb plo-elect | D39: HH | E39: 1 | F39: 20000 | G39: =+F39*E39 -> 20000
B40: 11.4 | C40: Alimentador Tablero (T-IL), en cable de Cu AWG Cu 80°C 750V PE HF LS TC por tubería y/o canaleta 2No.6 Fase + 1No.6 Neutro +1No.8 Tierra. | D40: ML | G40: =SUM(G42:G49) -> 79192
C41: EQUIPO
C44: MATERIALES
C45: Alimentador Tablero (T-IL), en cable de Cu AWG Cu 80°C 750V | D45: UND | E45: 1 | F45: 52400 | G45: =+F45*E45 -> 52400
C46: TRANSPORTE
C47: Transporte | E47: 1 | F47: 1300 | G47: =+E47*F47 -> 1300
C48: MANO DE OBRA
C49: Cuadrilla tipo bb plo-elect | D49: HH | E49: 1 | F49: 25492 | G49: =+F49*E49 -> 25492
B50: 11.5 | C50: Tubería conduit PVC de 3/4" | D50: ML | G50: =SUM(G52:G61) -> 8856
C51: EQUIPO
C54: MATERIALES
C55: Tubería conduit PVC de 3/4" | D55: UND | E55: 1 | F55: 3778 | G55: =+F55*E55 -> 3778
C57: TRANSPORTE
...

Sheet Puertas y ventanas
B2: ITEM | C2: DESCRIPCIÓN | D2: Unidad | E2: Cantidad | F2: Vlr Unitario | G2: Vlr total
B4: 12 | C4: ='PRESUPUESTO GRAL'!C108 -> PUERTAS Y VENTANAS
B5: 12.1 | C5: Puerta acceso 100x200 | D5: UND | G5: =SUM(G7:G17) -> 543888
C6: EQUIPO
C7: Puerta Machi 91-100 UN 1.000 | D7: UND | E7: 1 | F7: 256071 | G7: =+F7*E7 -> 256071
C9: MATERIALES
C10: Moldura jamba 3x3 | D10: UND | E10: 1 | F10: 89000 | G10: =+F10*E10 -> 89000
C11: Marco puerta cedro 15 | D11: UND | E11: 1 | F11: 75000 | G11: =+F11*E11 -> 75000
C12: Bisagras 3" pala ancha | D12: UND | E12: 1 | F12: 58400 | G12: =+F12*E12 -> 58400
C13: TRANSPORTE
C14: Transporte | E14: 1 | F14: 1300 | G14: =+E14*F14 -> 1300
C15: MANO DE OBRA
C16: Cuadrilla tipo DD Carpint | D16: HH | E16: 1 | F16: 64117 | G16: =+F16*E16 -> 64117
B18: 12.2 | C18: Puerta acceso triplex 100x200 | D18: UND | G18: =SUM(G20:G30) -> 477323
C19: EQUIPO
C20: Puerta eco 91-100 | D20: UND | E20: 1 | F20: 138495 | G20: =+F20*E20 -> 138495
C22: MATERIALES
C23: Moldura jamba 3x3 | D23: UND | E23: 1 | F23: 105000 | G23: =+F23*E23 -> 105000
C24: Marco puerta cedro 15 | D24: UND | E24: 1 | F24: 64200 | G24: =+F24*E24 -> 64200
C25: Bisagras 3" pala ancha | D25: UND | E25: 1 | F25: 79820 | G25: =+F25*E25 -> 79820
C26: TRANSPORTE
C27: Transporte | E27: 1 | F27: 1300 | G27: =+E27*F27 -> 1300
C28: MANO DE OBRA
C30: Cuadrilla tipo DD Carpint | D30: HH | E30: 1 | F30: 88508 | G30: =+F30*E30 -> 88508
B31: 12.3 | C31: Puerta madera 90x200 | D31: UND | G31: =SUM(G33:G42) -> 539856
C32: EQUIPO
C35: MATERIALES
C36: Puerta entab chingale | D36: UND | E36: 1 | F36: 252039 | G36: =+F36*E36 -> 252039
C37: Moldura jamba 3x3 | D37: UND | E37: 1 | F37: 186000 | G37: =+F37*E37 -> 186000
C38: TRANSPORTE
C39: Transporte | E39: 1 | F39: 1300 | G39: =+E39*F39 -> 1300
C40: MANO DE OBRA
C42: Cuadrilla tipo DD Carpint | D42: HH | E42: 1 | F42: 100517 | G42: =+F42*E42 -> 100517
B43: 12.4 | C43: Puerta fortec 80x200 | D43: ML | G43: =SUM(G45:G54) -> 330166
C44: EQUIPO
C47: MATERIALES
C48: Puerta fortec I.S. 81-90 | D48: UND | E48: 1 | F48: 42349 | G48: =+F48*E48 -> 42349
C49: Marco puerta cedro 15 | D49: UND | E49: 1 | F49: 70500 | G49: =+F49*E49 -> 70500
C50: Bisagras 3" pala ancha | D50: UND | E50: 1 | F50: 111000 | G50: =+F50*E50 -> 111000
C51: TRANSPORTE
...
