Workbook

Sheet TARIFAS 2025 
A2: TARIFA PUESTOS DE VIGILANCIA 2025 - I SEMESTRE
A3: Descripción del Servicio | B3: Valor Mensual Unitario sin IVA y sin A.I.U. | C3: A.Y.S | D3: IVA | E3: TOTAL MENSUAL
A4: PUESTO 24 HORAS TODOS LOS DÍAS CON ARMA | B4: =($C$21/30*30) -> 13015290 | C4: =+B4*0.1 -> 1301529 | D4: =+((B4+C4)*0.1)*0.19 -> 272019.56 | E4: =ROUND(B4+C4+D4,0) -> 14588839
A5: PUESTO 24 HORAS TODOS LOS DÍAS SIN ARMA | B5: =($C$21/30*30) -> 13015290 | C5: =+B5*0.08 -> 1041223.2 | D5: =+((B5+C5)*0.1)*0.19 -> 267073.75 | E5: =ROUND(B5+C5+D5,0) -> 14323587
A6: PUESTO 24 HORAS MONITOREO | B6: =($C$21/30*30) -> 13015290 | C6: =+B6*0.08 -> 1041223.2 | D6: =+((B6+C6)*0.1)*0.19 -> 267073.75 | E6: =ROUND(B6+C6+D6,0) -> 14323587
A7: PUESTO SUPERVISOR MOTORIZADO CON ARMA 24 HORAS TODOS LOS DIAS | B7: =($C$21/30*30) -> 13015290 | C7: =+B7*0.1 -> 1301529 | D7: =+((B7+C7)*0.1)*0.19 -> 272019.56 | E7: =ROUND(B7+C7+D7,0) -> 14588839
A8: PUESTO 9 HORAS DIURNAS LUNES A VIERNES NO INCLUYE FESTIVOS SIN ARMA | B8: =($C$21*C32/30*20) -> 2913863.1 | C8: =+B8*0.08 -> 233109.05 | D8: =+((B8+C8)*0.1)*0.19 -> 59792.471 | E8: =ROUND(B8+C8+D8,0) -> 3206765
A12: TARIFA PUESTOS DE VIGILANCIA 2025 - II SEMESTRE
A13: Descripción del Servicio | B13: Valor Mensual Unitario sin IVA y sin A.I.U. | C13: A.Y.S | D13: IVA | E13: TOTAL MENSUAL
A14: PUESTO 24 HORAS TODOS LOS DÍAS CON ARMA | B14: =($D$21/30*30) -> 13228815 | C14: =+B14*0.1 -> 1322881.5 | D14: =+((B14+C14)*0.1)*0.19 -> 276482.23 | E14: =ROUND(B14+C14+D14,0) -> 14828179
A15: PUESTO 24 HORAS TODOS LOS DÍAS SIN ARMA | B15: =($D$21/30*30) -> 13228815 | C15: =+B15*0.08 -> 1058305.2 | D15: =+((B15+C15)*0.1)*0.19 -> 271455.28 | E15: =ROUND(B15+C15+D15,0) -> 14558575
A16: PUESTO 24 HORAS MONITOREO | B16: =($D$21/30*30) -> 13228815 | C16: =+B16*0.08 -> 1058305.2 | D16: =+((B16+C16)*0.1)*0.19 -> 271455.28 | E16: =ROUND(B16+C16+D16,0) -> 14558575
A17: PUESTO SUPERVISOR MOTORIZADO CON ARMA 24 HORAS TODOS LOS DIAS | B17: =($D$21/30*30) -> 13228815 | C17: =+B17*0.1 -> 1322881.5 | D17: =+((B17+C17)*0.1)*0.19 -> 276482.23 | E17: =ROUND(B17+C17+D17,0) -> 14828179
A18: PUESTO 9 HORAS DIURNAS LUNES A VIERNES NO INCLUYE FESTIVOS SIN ARMA | B18: =($D$21*C32/30*20) -> 2961667.1 | C18: =+B18*0.08 -> 236933.37 | D18: =+((B18+C18)*0.1)*0.19 -> 60773.409 | E18: =ROUND(B18+C18+D18,0) -> 3259374
C20: I SEMESTRE | D20: II SEMESTRE
B21: TARIFA MINIMA | C21: =+(F27*F29)+F30 -> 13015290 | D21: =+(F27*F33)+F34 -> 13228815
B22: LUNES A VIERNES NO INCLUYE FESTIVOS | C22: 20 | D22: 20
B23: LUNES A SÀBADO NO INCLUYE FESTIVOS | C23: 24 | D23: 24
B24: LUNES A VIERNES INCLUYE FESTIVOS | C24: 22 | D24: 22
B25: LUNES A SÀBADO INCLUYE FESTIVOS | C25: 26 | D25: 26
B27: % 9 HORAS NOCTURNAS TODOS LOS DIAS | C27: 0.4403 | E27: SMMLV | F27: 1423500
B28: % 8 HORAS NOCTURNAS TODOS LOS DIAS | C28: =+($C$27/9)*8 -> 0.39137778 | E28: I SEMESTRE
B29: % 4 HORAS NOCTURNA TODOS LOS DIAS | C29: =+($C$27/9)*4 -> 0.19568889 | E29: Tarifa minima | F29: 9.14
B30: % 1 HORAS NOCTURNA TODOS LOS DIAS | C30: =+($C$27/9)*1 -> 0.048922222 | E30: poliza | F30: 4500
B31: % 15 HORAS DIURNAS TODOS LOS DIAS | C31: 0.5597
B32: % 9 HORAS DIURNAS TODOS LOS DIAS | C32: =+($C$31/15)*9 -> 0.33582 | E32: II SEMESTRE
B33: % 7 HORAS DIURNO TODOS LOS DIAS | C33: =+($C$31/15)*7 -> 0.26119333 | E33: Tarifa minima | F33: 9.29
B34: % 4 HORAS DIURNAS TODOS LOS DIAS | C34: =+($C$31/15)*4 -> 0.14925333 | E34: poliza | F34: 4500
B35: % 3 HORAS DIURNAS TODOS LOS DIAS | C35: =+($C$31/15)*3 -> 0.11194

Sheet Presupuesto
A1: COSTOS DE SERVICIO DEL 1 DE MARZO AL 14 DE JULIO 2025
A2: Item | B2: SEDE | C2: MUNICIPIO | D2: =+'TARIFAS 2025 '!A4 -> PUESTO 24 HORAS TODOS LOS DÍAS CON ARMA | E2: =+'TARIFAS 2025 '!A5 -> PUESTO 24 HORAS TODOS LOS DÍAS SIN ARMA | F2: =+'TARIFAS 2025 '!A6 -> PUESTO 24 HORAS MONITOREO | G2: =+'TARIFAS 2025 '!A7 -> PUESTO SUPERVISOR MOTORIZADO CON ARMA 24 HORAS TODOS LOS DIAS | H2: =+'TARIFAS 2025 '!A8 -> PUESTO 9 HORAS DIURNAS LUNES A VIERNES NO INCLUYE FESTIVOS SIN ARMA
A3: 1 | B3: CASA DE LA CULTURA | C3: LA CALERA | D3: 0 | E3: 1 | F3: 0 | G3: 0 | H3: 0
A4: 2 | B4: ALCALDÍA DE LA CALERA | C4: LA CALERA | D4: 1 | E4: 0 | F4: 0 | G4: 0 | H4: 0
A5: 3 | B5: HOGAR MÚLTIPLE | C5: LA CALERA | D5: 0 | E5: 1 | F5: 0 | G5: 0 | H5: 0
A6: 4 | B6: SECRETARIA DE MEDIO AMBIENTE Y DESARROLLO RURAL | C6: LA CALERA | D6: 1 | E6: 0 | F6: 0 | G6: 0 | H6: 0
A7: 5 | B7: CENTRAL DE MONITOREO | C7: LA CALERA | D7: 0 | E7: 0 | F7: 1 | G7: 0 | H7: 0
A8: 6 | B8: SECRETARIA DE OBRAS PÚBLICAS | C8: LA CALERA | D8: 0 | E8: 1 | F8: 0 | G8: 0 | H8: 0
A9: 7 | B9: SECRETARIA DE EDUCACIÓN | C9: LA CALERA | D9: 0 | E9: 0 | F9: 0 | G9: 1 | H9: 0
B10: CASA DEL ADULTO MAYOR | C10: LA CALERA
B11: VIVERO LA CALERA | C11: LA CALERA
B12: POLIDEPORTIVO | C12: LA CALERA
B13: ANTENA | C13: LA CALERA
B14: UNIDAD DE SALUD | C14: LA CALERA
B15: PLANEACIÓN | C15: LA CALERA
A16: 8 | B16: COMISARIA DE FAMILIA | C16: LA CALERA | D16: 0 | E16: 0 | F16: 0 | G16: 0 | H16: 1
A17: 9 | B17: I.E.D. INTEGRADO SEDE JUAN XXIII | C17: LA CALERA | D17: 0 | E17: 1 | F17: 0 | G17: 0 | H17: 0
A18: TOTAL SERVICIOS | D18: =SUM(D3:D17) -> 2 | E18: =SUM(E3:E17) -> 4 | F18: =SUM(F3:F17) -> 1 | G18: =SUM(G3:G17) -> 1 | H18: =SUM(H3:H17) -> 1
A20: TARIFAS | D20: =+'TARIFAS 2025 '!B4 -> 13015290 | E20: =+'TARIFAS 2025 '!B5 -> 13015290 | F20: =+'TARIFAS 2025 '!B6 -> 13015290 | G20: =+'TARIFAS 2025 '!B7 -> 13015290 | H20: =+'TARIFAS 2025 '!B8 -> 2913863.1
A21: AYS | D21: =+D20*0.1 -> 1301529 | E21: =+E20*0.08 -> 1041223.2 | F21: =+F20*0.08 -> 1041223.2 | G21: =+G20*0.1 -> 1301529 | H21: =+H20*0.08 -> 233109.05
A22: IVA | D22: =+(D20+D21)*0.019 -> 272019.56 | E22: =+(E20+E21)*0.019 -> 267073.75 | F22: =+(F20+F21)*0.019 -> 267073.75 | G22: =+(G20+G21)*0.019 -> 272019.56 | H22: =+(H20+H21)*0.019 -> 59792.471
A23: TOTAL | D23: =+D20+D21+D22 -> 14588839 | E23: =+E20+E21+E22 -> 14323587 | F23: =+F20+F21+F22 -> 14323587 | G23: =+G20+G21+G22 -> 14588839 | H23: =+H20+H21+H22 -> 3206764.6
A25: SUB TOTAL | D25: =+D18*(D20+D21) -> 28633638 | E25: =+E18*(E20+E21) -> 56226053 | F25: =+F18*(F20+F21) -> 14056513 | G25: =+G18*(G20+G21) -> 14316819 | H25: =+H18*(H20+H21) -> 3146972.2
A26: IVA TOTAL | D26: =+D18*D22 -> 544039.12 | E26: =+E18*E22 -> 1068295 | F26: =+F18*F22 -> 267073.75 | G26: =+G18*G22 -> 272019.56 | H26: =+H18*H22 -> 59792.471
A27: TOTAL FACTURACION | D27: =+D25+D26 -> 29177677 | E27: =+E25+E26 -> 57294348 | F27: =+F25+F26 -> 14323587 | G27: =+G25+G26 -> 14588839 | H27: =+H25+H26 -> 3206764.6
G29: SUB TOTAL | H29: =SUM(D25:H25) -> 1.1638e+08
G30: IVA | H30: =SUM(D26:H26) -> 2211219.9
G31: TOTAL | H31: =+H29+H30 -> 1.1859122e+08
A35: COSTOS DE SERVICIO DEL 14 DE JULIO AL 31 DE DICIEMBRE 2025
A36: Item | B36: SEDE | C36: MUNICIPIO | D36: =+D2 -> PUESTO 24 HORAS TODOS LOS DÍAS CON ARMA | E36: =+E2 -> PUESTO 24 HORAS TODOS LOS DÍAS SIN ARMA | F36: =+'TARIFAS 2025 '!A16 -> PUESTO 24 HORAS MONITOREO | G36: =+G2 -> PUESTO SUPERVISOR MOTORIZADO CON ARMA 24 HORAS TODOS LOS DIAS | H36: =+H2 -> PUESTO 9 HORAS DIURNAS LUNES A VIERNES NO INCLUYE FESTIVOS SIN ARMA
A37: 1 | B37: CASA DE LA CULTURA | C37: LA CALERA | D37: 0 | E37: 1 | F37: 0 | G37: 0 | H37: 0
A38: 2 | B38: ALCALDÍA DE LA CALERA | C38: LA CALERA | D38: 1 | E38: 0 | F38: 0 | G38: 0 | H38: 0
A39: 3 | B39: HOGAR MÚLTIPLE | C39: LA CALERA | D39: 0 | E39: 1 | F39: 0 | G39: 0 | H39: 0
A40: 4 | B40: SECRETARIA DE MEDIO AMBIENTE Y DESARROLLO RURAL | C40: LA CALERA | D40: 1 | E40: 0 | F40: 0 | G40: 0 | H40: 0
A41: 5 | B41: CENTRAL DE MONITOREO | C41: LA CALERA | D41: 0 | E41: 0 | F41: 1 | G41: 0 | H41: 0
A42: 6 | B42: SECRETARIA DE OBRAS PÚBLICAS | C42: LA CALERA | D42: 0 | E42: 1 | F42: 0 | G42: 0 | H42: 0
A43: 7 | B43: SECRETARIA DE EDUCACIÓN | C43: LA CALERA | D43: 0 | E43: 0 | F43: 0 | G43: 1 | H43: 0
B44: CASA DEL ADULTO MAYOR | C44: LA CALERA
B45: VIVERO LA CALERA | C45: LA CALERA
B46: POLIDEPORTIVO | C46: LA CALERA
...
