Workbook
Name _ftn1: #REF!
Name _ftnref1: #REF!
Name ACCIÒN: #REF!
Name AREAS: #REF!
Name IMPACTO: #REF!
Name PROBABILIDAD: #REF!
Name PROCESOS: #REF!

Sheet Portada
A2: MATRIZ DE RIESGOS INTEGRADA 2021.V.2

Sheet Mapa de Procesos
E2: MATRIZ DE RIESGOS INTEGRADA DE LA REGION CENTRAL RAP-E | Q2: ACTUALIZADA : | R2: 44225
B12: DIRECCIONAMIENTO ESTRATÉGICO | F12: PLANIFICACIÓN, GESTIÓN Y EJECUCIÓN DE PROYECTOS | J12: GESTIÓN CONTRACTUAL | M12: GESTIÓN DEL TALENTO HUMANO | Q12: CONTROL Y MEJORAMIENTO CONTINUO
C13: Riesgos de Gestión | G13: Riesgos de Corrupción | K13: Riesgos de Corrupción | N13: Riesgos de Seguridad y Salud en el Trabajo | R13: Riesgos de Gestión
C14: Riesgos de Corrupción | N14: Riesgos de Corrupción | R14: Riesgos de Corrupción
B16: ADMINISTRACIÓN DEL SISTEMA INTEGRADO DE GESTIÓN | J16: GESTIÓN DE BIENES Y SERVICIOS | M16: GESTIÓN DOCUMENTAL
C17: Riesgos de Gestión | K17: Riesgos de Gestión | N17: Riesgos de Gestión
K18: Riesgos de Corrupción | N18: Riesgos de Corrupción
K19: Riesgos de Seguridad y Salud en el Trabajo
B20: GESTIÓN DEL CONOCIMENTO E INNOVACIÓN | J20: GESTIÓN FINANCIERA | M20: GESTIÓN DE TIC
C21: Riesgos de Gestión | K21: Riesgos de Gestión | N21: Riesgos de Seguridad Digital
K22: Riesgos de Corrupción | N22: Riesgos de Corrupción
B24: COMUNICACIÓN INSTITUCIONAL | J24: GESTIÓN JURÍDICA | M24: SERVICIO AL CIUDADANO
C25: Riesgos de Gestión | K25: Riesgos para la Defensa Jurídica | N25: Riesgos de Gestión
N26: Riesgos de Corrupción

Sheet Escalas de Valoración
A1: ESCALAS DE VALORACIÓN PARA ADMINISTRACION Y GESTIÓN DE RIESGOS
A3: ESCALA DE VALORACIÓN DE RIESGOS POR PROCESOS
A5: En la identificación de los riesgos por proceso se deberá tener en cuenta los lineamientos de la Guía para la Administración de Riesgos del Departamento Administrativo de la Función Pública
B7: IMPACTO | K7: ZONA DE RIESGO
B8: Valoración | E8: LEVE | F8: MENOR | G8: MODERADO | H8: MAYOR | I8: CATASTROFICO | K8: RIESGO | L8: Valoración del Riesgo
E9: 0.2 | F9: 0.4 | G9: 0.6 | H9: 0.8 | I9: 1
B10: PROBABILIDAD | C10: MUY BAJA | D10: 0.2 | E10: =+D10*E$9 -> 0.04 | F10: =D10*F$9 -> 0.08 | G10: =+D10*G$9 -> 0.12 | H10: =+D10*H$9 -> 0.16 | I10: =+D10*I$9 -> 0.2 | K10: BAJA | L10: 1
C11: BAJA | D11: 0.4 | E11: =+D11*E$9 -> 0.08 | F11: =D11*F$9 -> 0.16 | G11: =+D11*G$9 -> 0.24 | H11: =+D11*H$9 -> 0.32 | I11: =+D11*I$9 -> 0.4 | K11: MODERADA | L11: 2
C12: MEDIA | D12: 0.6 | E12: =+D12*E$9 -> 0.12 | F12: =D12*F$9 -> 0.24 | G12: =+D12*G$9 -> 0.36 | H12: =+D12*H$9 -> 0.48 | I12: =+D12*I$9 -> 0.6 | K12: ALT0 | L12: 3
C13: ALTA | D13: 0.8 | E13: =+D13*E$9 -> 0.16 | F13: =D13*F$9 -> 0.32 | G13: =+D13*G$9 -> 0.48 | H13: =+D13*H$9 -> 0.64 | I13: =+D13*I$9 -> 0.8 | K13: EXTREMA | L13: 4
C14: MUY ALTA | D14: 1 | E14: =+D14*E$9 -> 0.2 | F14: =D14*F$9 -> 0.4 | G14: =+D14*G$9 -> 0.6 | H14: =+D14*H$9 -> 0.8 | I14: =+D14*I$9 -> 1
A16: ESCALA DE VALORACIÓN DE RIESGOS CONTRACTUALES
A17: En la identificación de los riesgos contractuales se deberá tener en cuenta los siguientes aspectos: (a) los eventos que impidan la adjudicación y firma del contrato como resultado del Proceso de Contratación; (b) los eventos que alteren la ejecución del contrato; (c) el equilibrio económico del contrato; (d) la eficacia del Proceso de Contratación, es decir, que la Entidad Estatal pueda satisfacer la necesidad que motivó el Proceso de Contratación; y (e) la reputación y legitimidad de la Entidad Estatal encargada de prestar el bien o servicio. Un manejo adecuado del Riesgo permite a las Entidades Estatales: (i) proporcionar un mayor nivel de certeza y conocimiento para la toma de decisiones relacionadas con el Proceso de Contratación; (ii) mejorar la planeación de contingencias del Proceso de Contratación; (iii) incrementar el grado de confianza entre las partes del Proceso de Contratación; y (iv) reducir la posibilidad de litigios; entre otros.
B20: IMPACTO | K20: ZONA DE RIESGO
B21: Valoración | E21: INSIGNIFICANTE | F21: MENOR | G21: MODERADO | H21: MAYOR | I21: EXTREMO | K21: RIESGO | L21: Valoración del Riesgo
E22: 1 | F22: 2 | G22: 3 | H22: 4 | I22: 5 | K22: BAJO | L22: 2, 3 y 4
B23: PROBABILIDAD | C23: RARO | D23: 1 | E23: 2 | F23: 3 | G23: 4 | H23: 5 | I23: 6 | K23: MEDIO | L23: 5
C24: IMPROBABLE | D24: 2 | E24: 3 | F24: 4 | G24: 5 | H24: 6 | I24: 7 | K24: ALTO | L24: 6 y 7
C25: POSIBLE | D25: 3 | E25: 4 | F25: 5 | G25: 6 | H25: 7 | I25: 8 | K25: CRITICO | L25: 8, 9 y 10
C26: PROBABLE | D26: 4 | E26: 5 | F26: 6 | G26: 7 | H26: 8 | I26: 9
C27: CASI CIERTO | D27: 5 | E27: 6 | F27: 7 | G27: 8 | H27: 9 | I27: 10
A30: ESCALA DE VALORACIÓN DE RIESGOS DE SEGURIDAD Y SALUD EN EL TRABAJO
A32: La administración de riesgos de seguridad y salud en el trabajo, se basa en la Ley 1562 de 2012 crea el Sistema de Gestión de la Seguridad y Salud en el Trabajo (SG-SST), aplicable a empleadores tanto públicos como privados, cuyos lineamientos se establecen en el Decreto 1443 de 2014 que contempla entre los objetivos de la política del sistema numeral 1 del artículo 7, el compromiso de “Identificar los peligros, evaluar y valorar los riesgos y establecer los respectivos controles”, acogiendo la guía para prevención y actuación en situaciones de riesgo que las Administradoras de Riesgos Laborales suministren al empleador, como se define en el Decreto 1072 de 2015. Se deberá tener en cuenta la Metodología de Identificación de Peligros, Evaluación y Valoración de Riesgos de la Administradora de Riesgos Laborales correspondiente.
B36: CONSECUENCIAS | J36: ZONA DE RIESGO
B37: Valoración | E37: INSIGNIFICANTE | F37: MODERADO | G37: DAÑINO | H37: EXTREMA | J37: RIESGO | K37: Valoración del Riesgo | L37: DESCRIPCION
E38: 1 | F38: 2 | G38: 3 | H38: 4 | J38: BAJO | K38: 1.2 | L38: Mantener las medidas de control existentes. Se deben hacer evaluaciones periódicas para verificar que el riesgo sigue siendo bajo.
B39: PROBABILIDAD | C39: MUY ALTA | D39: 4 | E39: 4 | F39: 8 | G39: 12 | H39: 16 | J39: MEDIO | K39: 3.4 | L39: Se deben hacer esfuerzos para reducir el riesgo. Implementar estándares de seguridad, permisos de trabajo o listas de verificación para realizar control operativo del riesgo.
C40: ALTA | D40: 3 | E40: 3 | F40: 6 | G40: 9 | H40: 12 | J40: ALTO | K40: 6.9 | L40: Se debe reducir el riesgo a través del diseño y ejecución un programa de gestión. Como está asociado a lesiones muy se deben garantizar la reducción de su probabilidad
C41: MEDIA | D41: 2 | E41: 2 | F41: 4 | G41: 6 | H41: 8 | J41: CRITICO | K41: 12.16 | L41: La intervención es urgente. En presencia de un riesgo así, se sugiere no realizar ningún trabajo hasta contar con las medidas de control que impacten la probabilidad de ocurrencia. De ser indispensable la realización de la labor, se deben adoptar todas las medidas necesarias para evitar la materialización del riesgo; las medidas deben garantizar que el riesgo está bajo control antes de iniciar cualquier tarea.
C42: BAJA | D42: 1 | E42: 1 | F42: 2 | G42: 3 | H42: 4
A46: ESCALA DE VALORACIÓN DE RIESGOS DE CORRUPCION
A47: Estos riesgos tiene como sustento lo consagrado en el Decreto 124 de 2016, que consagra en el artículo 2.1.4.2., como metodología para diseñar y hacer seguimiento al Mapa de Riesgo de Corrupción de que trata el artículo 73 de la Ley 1474 de 2011, la establecida en el documento “Guía para la Gestión del Riesgo de Corrupción”, a partir de la cual se definirán la Estrategias de lucha contra la corrupción y de Atención al Ciudadano que trata el artículo 2.1.4.1., y que debe atender a los lineamientos del documento “Estrategias para la Construcción del Plan Anticorrupción y de Atención al Ciudadano – Versión 2”. Concordante con la Política Pública Integral Anticorrupción –PPIA, consagrada en el CONPES 167 de 2013, que pretende fortalecer las herramientas y mecanismos para la prevención, investigación y sanción de la corrupción, asi mismo se tiene la guía para la administración de riesgos en su versión 2018.
A48: Nota: En aras de manetener el mapa de calor de aucerdo con la guía , se establecio una escala de valoracón interna que cumpla los parametros establecidos y que sintetice las cuantificación de los riesgos identificados.
B51: IMPACTO | I51: ZONA DE RIESGO
B52: Valoración | E52: MODERADO | F52: MAYOR | G52: CATASTROFICO | I52: RIESGO | J52: Valoración del Riesgo | K52: Decripción
E53: 5 | F53: 10 | G53: 20 | I53: BAJA | J53: 5--15 | K53: Los riesgos de corrupción de las zonas baja se encuentran en un nivel que puede eliminarse o reducirse fácilmente con los controles establecidos en la entidad.
B54: PROBABILIDAD | C54: RARA VEZ | D54: 1 | E54: 5 | F54: 10 | G54: 20 | I54: MODERADA | J54: 20--25 | K54: Deben tomarse las medidas necesarias para llevar los riesgos a la Zona de Riesgo Baja o eliminarlo. Nota: En todo caso se requiere que las entidades propendan por eliminar el riesgo de corrupción o por lo menos llevarlo a la Zona de Riesgo Baja.
C55: IMPROBABLE | D55: 2 | E55: 10 | F55: 20 | G55: 40 | I55: ALTA | J55: 30--50 | K55: Deben tomarse las medidas necesarias para llevar los riesgos a la Zona de Riesgo Moderada, Baja o eliminarlo. Nota: En todo caso se requiere que las entidades propendan por eliminar el riesgo de corrupción o por lo menos llevarlo a la Zona de Riesgo Baja.
C56: POSIBLE | D56: 3 | E56: 15 | F56: 30 | G56: 60 | I56: EXTREMA | J56: 60--100 | K56: Los riesgos de corrupción de la Zona de Riesgo Extrema requieren de un tratamiento prioritario. Se deben implementar los controles orientados a reducir la posibilidad de ocurrencia del riesgo o disminuir el impacto de sus efectos y tomar las medidas de protección. Nota: En todo caso se requiere que las entidades propendan por eliminar el riesgo de corrupción o por lo menos llevarlo a la Zona de Riesgo Baja.
C57: PROBABLE | D57: 4 | E57: 20 | F57: 40 | G57: 80
...

Sheet Matriz de Riesgos Integrada
F1: TIPO DE DOCUMENTO: | AL1: VERSIÓN N.º
F2: FORMATO | AL2: 6
F3: PROCEDIMIENTO: | AL3: VIGENTE A PARTIR DE:
F4: ADMINISTRACIÓN Y GESTION DEL RIESGO | AL4: 44561
F5: TITULO: | AB5: CÓDIGO: | AL5: Página 1 de 1
F6: MATRIZ DE RIESGOS INTEGRADA | AB6: F-M-GC.01-01
A7: La RAP-E Región Central, de acuerdo con las disposiciones del artículo 2.2.1.1.1.6.1. del Decreto 1082 de 2015 y con base en la metodología para identificar y clasificar los riesgos elaborado por Colombia Compra Eficiente procede a tipificar, estimar y asignar los riesgos de la presente contratación. Seguidamente, se identifican y describen los riesgos, según el tipo y la etapa del proceso de contratación en la que ocurre. Luego, se evalúan los riegos teniendo en cuenta su impacto y su probabilidad de ocurrencia.
A8: OBJETO CONTRACTUAL: | E8: Contratar el servicio de alojamiento web (hosting) de la Entidad
A9: MODALIDAD | E9: minima cuantia
A10: MATRIZ DE RIESGOS INTEGRADA
A11: IDENTIFICACIÓN DE PROCESO Y AREA RESPONSABLE | D11: N° | E11: RIESGOS | F11: TIPO DE RIESGOS | G11: CAUSA INMEDIATA | H11: CAUSA RAIZ | I11: CONSECUENCIAS | J11: VALORACIÓN DEL RIESGO | P11: CONTROL | AH11: ACCIONES DE CONTINGENCIA (Ante posible materialización) | AI11: OPORTUNIDADES DE PREVENCIÓN (Cite aquellas actividades, herramientas o instrumentos que podrían generar mayor efectividad en las acciones de control) | AJ11: SEGUIMIENTO Y MONITOREO
P12: TIPO DE CONTROL | R12: CONTROL EXISTENTE | S12: TIPO DE IMPLEMENTACIÓN | U12: DOCUMENTADO | V12: FRECUENCIA | W12: EVIDENCIA | X12: RIESGO RESIDUAL | AD12: ACCIONES PREVENTIVAS | AJ12: FECHA DE CORTE
A13: CLASIFICACION DE RIESGOS | C13: DEPENDENCIA | J13: PROBABILIDAD | L13: IMPACTO | N13: VALOR DEL RIESGO | O13: ZONA DE RIESGO | X13: PROBABILIDAD | Z13: IMPACTO | AB13: VALOR DEL RIESGO | AC13: REFORMULAR | AD13: DESCRIPCIÓN | AE13: PERIODO DE SEGUIMIENTO | AF13: INDICADOR | AG13: RESPONSABLE | AJ13: AUTOEVALUACIÓN DEL PROCESO | AL13: EVALUACIÓN DE CONTROL INTERNO
J14: CATEGORÍA | K14: VALORACIÓN | L14: CATEGORÍA | M14: VALORACIÓN | P14: DESCRIPCIÓN | Q14: % | S14: DESCRIPCIÓN | T14: % | U14: DESCRIPCIÓN | X14: CATEGORÍA | Y14: VALORACIÓN | Z14: CATEGORÍA | AA14: VALORACIÓN | AJ14: RESULTADO DEL INDICADOR | AK14: EVIDENCIAS | AL14: RESULTADO FINAL DEL INDICADOR | AM14: OBSERVACIONES Y RECOMENDACIONES
A15: RIESGOS CONTRACTUALES | B15: Gestión Contractual | C15: Dirección Administrativa y Financiera | D15: 21 | E15: Documentación incompleta por parte del contratista impidiendo la legalización del contrato y la forma de pago | F15: Ejecución y administración de procesos | G15: Incumplimiento en entrega de documentos que impidan la legalización del contrato | H15: El contratista no tenga la documentación exigida, comunicación deficiente en la solicitud de la documentación. | I15: Demoras en el inicio del contrato | J15: =IF(K15=0,"",IF(AND(K15<=20%),"MUY BAJA",IF(AND(K15<=40%),"BAJA",IF(AND(K15<=60%),"MEDIA",IF(AND(K15<=80%),"ALTA",IF(AND(K15<=100%),"MUY ALTA","")))))) -> MEDIA | K15: 0.6 | L15: =IF(M15=0,"",IF(AND(M15<=20%),"LEVE",IF(AND(M15<=40%),"MENOR",IF(AND(M15<=60%),"MODERADO",IF(AND(M15<=80%),"MAYOR",IF(AND(M15<=100%),"CATASTROFICO","")))))) -> MAYOR | M15: 0.8 | N15: 3 | O15: =IF(N15=0,"",IF(N15<=1,"BAJA",IF(AND(N15<=2),"MODERADA",IF(AND(N15<=3),"ALTA",IF(AND(N15<=4),"EXTREMA",""))))) -> ALTA | P15: =IF(Q15=0,"",IF(Q15=25%,"PREVENTIVO%",IF(AND(Q15=15%),"DETECTIVO",IF(AND(Q15=10%),"CORRECTIVO","")))) -> PREVENTIVO% | Q15: 0.25 | R15: Seguimiento frente a los términos otorgados por la entidad al contratista para lograr la legalización y perfeccionamiento del contrato | S15: MANUAL | U15: DOCUMENTADO | V15: CONTINUA | W15: CON REGISTRO | X15: =IF(Y15=0,"",IF(AND(Y15<=20%),"MUY BAJA",IF(AND(Y15<=40%),"BAJA",IF(AND(Y15<=60%),"MEDIA",IF(AND(Y15<=80%),"ALTA",IF(AND(Y15<=100%),"MUY ALTA","")))))) -> BAJA | Y15: 0.4 | Z15: =IF(AA15=0,"",IF(AND(AA15<=20%),"LEVE",IF(AND(AA15<=40%),"MENOR",IF(AND(AA15<=60%),"MODERADO",IF(AND(AA15<=80%),"MAYOR",IF(AND(AA15<=100%),"CATASTROFICO","")))))) -> MAYOR | AA15: 0.8 | AB15: 3 | AC15: =IF(AB15=0,"",IF(AB15<=1,"BAJA",IF(AND(AB15<=2),"MODERADA",IF(AND(AB15<=3),"ALTA",IF(AND(AB15<=4),"EXTREMA",""))))) -> ALTA | AD15: El supervisor del contrato dejará constancia mediante actas de la ejecución del contrato | AE15: CUANDO APLIQUE | AF15: # Actas realizadas | AG15: Supervisor o Interventor o Comité Técnico del contrato | AH15: Remitir comunicación al contratista Reportar la novedad al Proceso de Gestión Contractual Adelantar las acciones necesarias | AI15: Revisión de expediente previo archivo
A16: RIESGOS CONTRACTUALES | B16: Gestión Contractual | C16: Dirección Administrativa y Financiera | D16: 22 | E16: Retraso o no obtención de pólizas de cumplimiento como garantía al contrato del servicio pactado | F16: Ejecución y administración de procesos | G16: Desconocimiento de la adquisición de la póliza por parte del contratista Falta de comunicación durante el proceso de contratación. | H16: Dificultad de adquisión de pólizas por parte del contratista por falta de capacidad económica Inconvenientes por parte del asegurador. | I16: Demora de ejecución y/o incumplimiento del contrato Falta de garantias para le ejecución del contrato. | J16: =IF(K16=0,"",IF(AND(K16<=20%),"MUY BAJA",IF(AND(K16<=40%),"BAJA",IF(AND(K16<=60%),"MEDIA",IF(AND(K16<=80%),"ALTA",IF(AND(K16<=100%),"MUY ALTA","")))))) -> MEDIA | K16: 0.6 | L16: =IF(M16=0,"",IF(AND(M16<=20%),"LEVE",IF(AND(M16<=40%),"MENOR",IF(AND(M16<=60%),"MODERADO",IF(AND(M16<=80%),"MAYOR",IF(AND(M16<=100%),"CATASTROFICO","")))))) -> MAYOR | M16: 0.8 | N16: 3 | O16: =IF(N16=0,"",IF(N16<=1,"BAJA",IF(AND(N16<=2),"MODERADA",IF(AND(N16<=3),"ALTA",IF(AND(N16<=4),"EXTREMA",""))))) -> ALTA | P16: =IF(Q16=0,"",IF(Q16=25%,"PREVENTIVO%",IF(AND(Q16=15%),"DETECTIVO",IF(AND(Q16=10%),"CORRECTIVO","")))) -> PREVENTIVO% | Q16: 0.25 | R16: Aprobación de pólizas | S16: MANUAL | U16: DOCUMENTADO | V16: CONTINUA | W16: CON REGISTRO | X16: =IF(Y16=0,"",IF(AND(Y16<=20%),"MUY BAJA",IF(AND(Y16<=40%),"BAJA",IF(AND(Y16<=60%),"MEDIA",IF(AND(Y16<=80%),"ALTA",IF(AND(Y16<=100%),"MUY ALTA","")))))) -> BAJA | Y16: 0.4 | Z16: =IF(AA16=0,"",IF(AND(AA16<=20%),"LEVE",IF(AND(AA16<=40%),"MENOR",IF(AND(AA16<=60%),"MODERADO",IF(AND(AA16<=80%),"MAYOR",IF(AND(AA16<=100%),"CATASTROFICO","")))))) -> MAYOR | AA16: 0.8 | AB16: 3 | AC16: =IF(AB16=0,"",IF(AB16<=1,"BAJA",IF(AND(AB16<=2),"MODERADA",IF(AND(AB16<=3),"ALTA",IF(AND(AB16<=4),"EXTREMA",""))))) -> ALTA | AD16: Seguimiento oportuno a la recepción de polizas por parte del contratista | AE16: MENSUAL | AF16: # pólizas existentes / # pólizas requeridas | AG16: Abogado responsable del proceso contractual | AH16: Remitir comunicación al contratista Adelantar las acciones necesarias al incumplimiento del contrato | AI16: Seguimiento a vigencia de pólizas
A17: RIESGOS CONTRACTUALES | B17: Gestión Contractual | C17: Dirección Administrativa y Financiera | D17: 23 | E17: Incumplimiento del objeto contractual por parte del contratista | F17: Ejecución y administración de procesos | G17: Desconocimiento por parte del contratista | H17: Falta de seguimiento al cumplimiento del objeto contractual Cambio normativos o de fuerza mayor Imposibilidad de adquisición de insumos o materias primas para cumplir con el objeto. | I17: Retraso en ejecución del contrato Daño patrimonial y reputacional | J17: =IF(K17=0,"",IF(AND(K17<=20%),"MUY BAJA",IF(AND(K17<=40%),"BAJA",IF(AND(K17<=60%),"MEDIA",IF(AND(K17<=80%),"ALTA",IF(AND(K17<=100%),"MUY ALTA","")))))) -> MEDIA | K17: 0.6 | L17: =IF(M17=0,"",IF(AND(M17<=20%),"LEVE",IF(AND(M17<=40%),"MENOR",IF(AND(M17<=60%),"MODERADO",IF(AND(M17<=80%),"MAYOR",IF(AND(M17<=100%),"CATASTROFICO","")))))) -> MAYOR | M17: 0.8 | N17: 3 | O17: =IF(N17=0,"",IF(N17<=1,"BAJA",IF(AND(N17<=2),"MODERADA",IF(AND(N17<=3),"ALTA",IF(AND(N17<=4),"EXTREMA",""))))) -> ALTA | P17: =IF(Q17=0,"",IF(Q17=25%,"PREVENTIVO%",IF(AND(Q17=15%),"DETECTIVO",IF(AND(Q17=10%),"CORRECTIVO","")))) -> PREVENTIVO% | Q17: 0.25 | R17: Verificación de pólizas de cumplimiento | S17: MANUAL | U17: DOCUMENTADO | V17: CONTINUA | W17: CON REGISTRO | X17: =IF(Y17=0,"",IF(AND(Y17<=20%),"MUY BAJA",IF(AND(Y17<=40%),"BAJA",IF(AND(Y17<=60%),"MEDIA",IF(AND(Y17<=80%),"ALTA",IF(AND(Y17<=100%),"MUY ALTA","")))))) -> BAJA | Y17: 0.4 | Z17: =IF(AA17=0,"",IF(AND(AA17<=20%),"LEVE",IF(AND(AA17<=40%),"MENOR",IF(AND(AA17<=60%),"MODERADO",IF(AND(AA17<=80%),"MAYOR",IF(AND(AA17<=100%),"CATASTROFICO","")))))) -> MAYOR | AA17: 0.8 | AB17: 3 | AC17: =IF(AB17=0,"",IF(AB17<=1,"BAJA",IF(AND(AB17<=2),"MODERADA",IF(AND(AB17<=3),"ALTA",IF(AND(AB17<=4),"EXTREMA",""))))) -> ALTA | AD17: El supervisor dejará constancia de seguimiento de la ejecución del contrato, mediante presentación de informes de supervisión | AE17: MENSUAL | AF17: # Informes de supervisión | AG17: Supervisor o Interventor | AH17: Solicitud del posible incumplimiento del Proceso de Gestión Contractual Declaración del incumplimiento contractual Ejecución de pólizas | AI17: Informes de Ejecución
A18: RIESGOS CONTRACTUALES | B18: Gestión Contractual | C18: Dirección Administrativa y Financiera | D18: 24 | E18: Riesgo por incumplimiento de las obligaciones contractuales, no cumplimento oportuno de las obligaciones a su cargo | F18: Ejecución y administración de procesos | G18: Desconocimiento de las obligaciones por parte del contratista | H18: Sobredimensión de las obligaciones contratadas Cambio normativos o de fuerza mayor Imposibilidad de adquisición de insumos o materias primas para cumplir con la totalidad de las obligaciones | I18: Aplicación de medidas sancionatorias y/o penales con imposición de multas en los contratos suscritos | J18: =IF(K18=0,"",IF(AND(K18<=20%),"MUY BAJA",IF(AND(K18<=40%),"BAJA",IF(AND(K18<=60%),"MEDIA",IF(AND(K18<=80%),"ALTA",IF(AND(K18<=100%),"MUY ALTA","")))))) -> MEDIA | K18: 0.6 | L18: =IF(M18=0,"",IF(AND(M18<=20%),"LEVE",IF(AND(M18<=40%),"MENOR",IF(AND(M18<=60%),"MODERADO",IF(AND(M18<=80%),"MAYOR",IF(AND(M18<=100%),"CATASTROFICO","")))))) -> MAYOR | M18: 0.8 | N18: 3 | O18: =IF(N18=0,"",IF(N18<=1,"BAJA",IF(AND(N18<=2),"MODERADA",IF(AND(N18<=3),"ALTA",IF(AND(N18<=4),"EXTREMA",""))))) -> ALTA | P18: =IF(Q18=0,"",IF(Q18=25%,"PREVENTIVO%",IF(AND(Q18=15%),"DETECTIVO",IF(AND(Q18=10%),"CORRECTIVO","")))) -> PREVENTIVO% | Q18: 0.25 | R18: Asignación de supervisiones a los contratos suscritos | S18: MANUAL | U18: DOCUMENTADO | V18: CONTINUA | W18: CON REGISTRO | X18: =IF(Y18=0,"",IF(AND(Y18<=20%),"MUY BAJA",IF(AND(Y18<=40%),"BAJA",IF(AND(Y18<=60%),"MEDIA",IF(AND(Y18<=80%),"ALTA",IF(AND(Y18<=100%),"MUY ALTA","")))))) -> BAJA | Y18: 0.4 | Z18: =IF(AA18=0,"",IF(AND(AA18<=20%),"LEVE",IF(AND(AA18<=40%),"MENOR",IF(AND(AA18<=60%),"MODERADO",IF(AND(AA18<=80%),"MAYOR",IF(AND(AA18<=100%),"CATASTROFICO","")))))) -> MAYOR | AA18: 0.8 | AB18: 3 | AC18: =IF(AB18=0,"",IF(AB18<=1,"BAJA",IF(AND(AB18<=2),"MODERADA",IF(AND(AB18<=3),"ALTA",IF(AND(AB18<=4),"EXTREMA",""))))) -> ALTA | AD18: El supervisor dejará constancia de seguimiento de la ejecución del contrato, mediante presentación de informes de supervisión | AE18: MENSUAL | AF18: # Informes de supervisión | AG18: Supervisor o Interventor | AH18: Solicitud del posible incumplimiento del Proceso de Gestión Contractual Declaración del incumplimiento contractual Ejecución de pólizas | AI18: Informes de Ejecución

Sheet  Gráficas
A1: REGIÓN ADMINISTRATIVA DE PLANEACIÓN ESPECIAL - RAPE, REGIÓN CENTRAL
A3: MATRIZ DE RIESGOS
A8: RIESGOS DE GESTIÓN | C8: DISTRIBUCIÓN ZONA RIESGOS INHERENTES
C10: ZONA DE RIESGOS | H10: RANGO DE VALORACIÓN DEL RIESGO | J10: RESULTADOS
C11: BAJA | E11: Mitigado o eliminado | H11: 2.3 | J11: =COUNTIF('Matriz de Riesgos Integrada'!#REF!,' Gráficas'!C11) -> #REF!
C12: MODERADA | E12: Asumir y Revisar | H12: 4.5 | J12: =COUNTIF('Matriz de Riesgos Integrada'!#REF!,' Gráficas'!C12) -> #REF!
C13: ALTA | E13: Reducir, evitar o compartir | H13: 6.7 | J13: =COUNTIF('Matriz de Riesgos Integrada'!#REF!,' Gráficas'!C13) -> #REF!
C14: EXTREMA | E14: Reducir, evitar, compartir o transferir | H14: 8, 9 y 10 | J14: =COUNTIF('Matriz de Riesgos Integrada'!#REF!,' Gráficas'!C14) -> #REF!
C15: TOTAL | J15: =SUM(J11:J14) -> #REF!
C18: MATRIZ DE IMPACTO Y PROBABILIDAD DE RIESGOS
C20: IMPACTO | P20: RESULTADOS RIESGO RESIDUAL
C21: Valoración | F21: ='Escalas de Valoración'!E8 -> LEVE | G21: ='Escalas de Valoración'!F8 -> MENOR | I21: ='Escalas de Valoración'!G8 -> MODERADO | M21: ='Escalas de Valoración'!H8 -> MAYOR | O21: ='Escalas de Valoración'!I8 -> CATASTROFICO
F22: 1 | G22: 2 | I22: 3 | M22: 4 | O22: 5
C23: PROBABILIDAD | D23: ='Escalas de Valoración'!C10 -> MUY BAJA | E23: 1 | F23: Baja= | G23: =J11/J15 -> #REF! | P23: =+'Lista Desplegable'!B7 -> #REF!
D24: ='Escalas de Valoración'!C11 -> BAJA | E24: 2 | J24: Moderada = | K24: =J12/J15 -> #REF! | P24: =+'Lista Desplegable'!B8 -> #REF!
D25: ='Escalas de Valoración'!C12 -> MEDIA | E25: 3 | K25: Alta = | M25: =J13/(J15/100)/100 -> #REF! | P25: =+'Lista Desplegable'!B9 -> #REF!
D26: ='Escalas de Valoración'!C13 -> ALTA | E26: 4 | P26: =+'Lista Desplegable'!B10 -> #REF!
D27: ='Escalas de Valoración'!C14 -> MUY ALTA | E27: 5 | N27: Extrema = | O27: =J14/(J15/100)/100 -> #REF!
C28: TOTAL | P28: =SUM(P23:P27) -> #REF!
A31: RIESGOS CONTRACTUALES | C31: DISTRIBUCIÓN ZONA RIESGOS INHERENTES
C33: ZONA DE RIESGOS | H33: RANGO DE VALORACIÓN DEL RIESGO | J33: RESULTADOS
C34: BAJO | E34: Mitigado o eliminado | H34: 2, 3 y 4 | J34: =COUNTIF('Matriz de Riesgos Integrada'!#REF!,' Gráficas'!C34) -> #REF!
C35: MEDIO | E35: Asumir y Revisar | H35: 5 | J35: =COUNTIF('Matriz de Riesgos Integrada'!#REF!,' Gráficas'!C35) -> #REF!
C36: ALTO | E36: Reducir, evitar o compartir | H36: 6 y 7 | J36: =COUNTIF('Matriz de Riesgos Integrada'!#REF!,' Gráficas'!C36) -> #REF!
C37: CRITICO | E37: Reducir, evitar, compartir o transferir | H37: 8, 9 y 10 | J37: =COUNTIF('Matriz de Riesgos Integrada'!#REF!,' Gráficas'!C37) -> #REF!
C38: TOTAL | J38: =SUM(J34:J37) -> #REF!
C41: MATRIZ DE IMPACTO Y PROBABILIDAD DE RIESGOS
C43: IMPACTO | P43: RESULTADOS RIESGO RESIDUAL
C44: Valoración | F44: ='Escalas de Valoración'!E21 -> INSIGNIFICANTE | G44: ='Escalas de Valoración'!F21 -> MENOR | I44: ='Escalas de Valoración'!G21 -> MODERADO | M44: ='Escalas de Valoración'!H21 -> MAYOR | O44: ='Escalas de Valoración'!I21 -> EXTREMO
F45: 1 | G45: 2 | I45: 3 | M45: 4 | O45: 5
C46: PROBABILIDAD | D46: ='Escalas de Valoración'!C23 -> RARO | E46: 1 | G46: Riesgos Bajos = | I46: =J34/J38 -> #REF! | P46: =+'Lista Desplegable'!M41 -> #REF!
D47: ='Escalas de Valoración'!C24 -> IMPROBABLE | E47: 2 | J47: Riesgos Medios = | K47: =J35/J38 -> #REF! | P47: =+'Lista Desplegable'!M42 -> #REF!
D48: ='Escalas de Valoración'!C25 -> POSIBLE | E48: 3 | K48: Riesgos Altos = | M48: =J36/J38 -> #REF! | P48: =+'Lista Desplegable'!M43 -> #REF!
D49: ='Escalas de Valoración'!C26 -> PROBABLE | E49: 4 | P49: =+'Lista Desplegable'!M44 -> #REF!
D50: ='Escalas de Valoración'!C27 -> CASI CIERTO | E50: 5 | N50: Riesgos Criticos = | O50: =J37/J38 -> #REF!
C51: TOTAL | P51: =SUM(P46:P50) -> #REF!
A54: RIESGOS DE SEGURIDAD Y SALUD EN EL TRABAJO | C54: DISTRIBUCIÓN ZONA RIESGOS INHERENTES
C56: ZONA DE RIESGOS | H56: RANGO DE VALORACIÓN DEL RIESGO | J56: RESULTADOS
C57: BAJO | E57: Mitigado o eliminado | H57: 1.2 | J57: =COUNTIF('Matriz de Riesgos Integrada'!#REF!,' Gráficas'!C57) -> #REF!
C58: MEDIO | E58: Asumir y Revisar | H58: 3.4 | J58: =COUNTIF('Matriz de Riesgos Integrada'!#REF!,' Gráficas'!C58) -> #REF!
...

Sheet Lista Desplegable
H1: TIPO DE RIESGO | J1: OPCION
A2: CLASE | B2: TIPO | D2: TIPO | F2: ETAPA DE CONTRATACION | H2: Ejecución y administración de procesos | J2: SI | L2: PERIODICIDAD | N2: Valoración CAUSAS | P2: Suficiencia Evidencias
A3: GENERAL | B3: PREVENTIVO | C3: 0.25 | D3: INTERNA | F3: PLANEACIÓN | H3: Fraude externo | J3: NO | L3: SEMANAL | N3: No se presenta | O3: =COUNTIF('Matriz de Riesgos Integrada'!$AD$13:$AD$419,N3) -> 0 | P3: Alto | Q3: =COUNTIF('Matriz de Riesgos Integrada'!$AF$13:$AF$419,P3) -> 0
A4: ESPECIFICO | B4: DETECTIVO | C4: 0.15 | D4: EXTERNA | F4: SELECCIÓN | H4: Fraude interno | L4: QUINCENAL | N4: Mejoró | O4: =COUNTIF('Matriz de Riesgos Integrada'!$AD$13:$AD$419,N4) -> 0 | P4: Medio | Q4: =COUNTIF('Matriz de Riesgos Integrada'!$AF$13:$AF$419,P4) -> 0
B5: CORRECTIVO | C5: 0.1 | D5: INTERNA / EXTERNA | F5: CONTRATACIÓN | H5: Fallas tecnológicas | L5: MENSUAL | N5: Continua Igual | O5: =COUNTIF('Matriz de Riesgos Integrada'!$AD$13:$AD$419,N5) -> 0 | P5: Bajo | Q5: =COUNTIF('Matriz de Riesgos Integrada'!$AF$13:$AF$419,P5) -> 0
A6: PROBABILIDAD | F6: EJECUCIÓN | H6: Relaciones laborales | L6: BIMENSUAL | N6: Empeoró | O6: =COUNTIF('Matriz de Riesgos Integrada'!$AD$13:$AD$419,N6) -> 0 | P6: Ninguno | Q6: =COUNTIF('Matriz de Riesgos Integrada'!$AF$13:$AF$419,P6) -> 0
A7: RARA VEZ | B7: =SUM(B27:B29) -> #REF! | H7: Usuarios, productos y prácticas | L7: TRIMESTRAL | N7: Sin Valoración | O7: =$B$54-SUM(O3:O6) -> 4 | P7: Sin Valoración | Q7: =$B$54-SUM(Q3:Q6) -> 4
A8: IMPROBABLE | B8: =SUM(B30:B31) -> #REF! | H8: Daños a activos fijos/eventos externos | L8: CUATRIMESTRAL | S8: VALOR DEL RIESGO
A9: POSIBLE | B9: =SUM(B32:B33) -> #REF! | F9: TIPO DE RIESGO | L9: SEMESTRAL | S9: 1 | T9: =COUNTIF('Matriz de Riesgos Integrada'!#REF!,S9) -> #REF!
A10: PROBABLE | B10: =SUM(B34:B36) -> #REF! | F10: RIESGOS ECONOMICOS | L10: ANUAL | S10: 2 | T10: =COUNTIF('Matriz de Riesgos Integrada'!#REF!,S10) -> #REF!
A11: CASI SEGURO | B11: =SUM(B35:B36) -> #REF! | F11: RIESGOS SOCIALES | L11: CUANDO APLIQUE | S11: 3 | T11: =COUNTIF('Matriz de Riesgos Integrada'!#REF!,S11) -> #REF!
A12: RARO | F12: RIESGOS OPERACIONALES | S12: 4 | T12: =COUNTIF('Matriz de Riesgos Integrada'!#REF!,S12) -> #REF!
A13: IMPROBABLE | F13: RIESGOS FINANCIEROS | S13: 5 | T13: =COUNTIF('Matriz de Riesgos Integrada'!#REF!,S13) -> #REF!
A14: POSIBLE | D14: 1,2,3 | F14: RIESGOS REGULATORIOS | S14: 6 | T14: =COUNTIF('Matriz de Riesgos Integrada'!#REF!,S14) -> #REF!
A15: PROBABLE | D15: 4 | F15: RIESGOS DE LA NATURALEZA | S15: 10 | T15: =COUNTIF('Matriz de Riesgos Integrada'!#REF!,S15) -> #REF!
A16: CASI CIERTO | D16: 5.6 | F16: RIESGOS AMBIENTALES | S16: 12 | T16: =COUNTIF('Matriz de Riesgos Integrada'!#REF!,S16) -> #REF!
A17: MUY ALTA | D17: 7.8 | F17: RIESGOS TECNOLOGICOS | L17: INSIGNIFICANTE | M17: INSIGNIFICANTE | S17: 15 | T17: =COUNTIF('Matriz de Riesgos Integrada'!#REF!,S17) -> #REF!
A18: ALTA | D18: 10.9 | F18: RIESGOS DE IMAGEN INSTITUCIONAL | H18: IMPACTO | L18: MENOR | M18: MODERADO | S18: 30 | T18: =COUNTIF('Matriz de Riesgos Integrada'!#REF!,S18) -> #REF! | X18: 1 | Y18: 2 | Z18: 5 | AA18: 15 | AB18: 40
A19: MEDIA | F19: RIESGOS POLITICOS | H19: INSIGNIFICANTE | L19: MODERADO | M19: DAÑINO | S19: 40 | T19: =COUNTIF('Matriz de Riesgos Integrada'!#REF!,S19) -> #REF! | X19: 2 | Y19: 4 | Z19: 10 | AA19: 30 | AB19: 80
A20: BAJA | H20: MENOR | L20: MAYOR | M20: EXTREMA | S20: 45 | T20: =COUNTIF('Matriz de Riesgos Integrada'!#REF!,S20) -> #REF! | X20: 3 | Y20: 6 | Z20: 15 | AA20: 45 | AB20: 120
H21: MODERADO | L21: EXTREMO | S21: 75 | T21: =COUNTIF('Matriz de Riesgos Integrada'!#REF!,S21) -> #REF! | X21: 6 | Y21: 12 | Z21: 30 | AA21: 90 | AB21: 240
H22: MAYOR | S22: 80 | T22: =COUNTIF('Matriz de Riesgos Integrada'!#REF!,S22) -> #REF! | X22: 15 | Y22: 30 | Z22: 75 | AA22: 225 | AB22: 600
H23: CATASTROFICO | S23: 120 | T23: =COUNTIF('Matriz de Riesgos Integrada'!#REF!,S23) -> #REF!
H24: EXTREMO | P24: VALOR DEL RIESGO | S24: 225 | T24: =COUNTIF('Matriz de Riesgos Integrada'!#REF!,S24) -> #REF!
H25: DAÑINO | P25: 1 | Q25: =COUNTIF('Matriz de Riesgos Integrada'!#REF!,P25) -> #REF! | S25: 240 | T25: =COUNTIF('Matriz de Riesgos Integrada'!#REF!,S25) -> #REF!
A26: VALOR DEL RIESGO | H26: EXTREMA | L26: VALOR DEL RIESGO | P26: 2 | Q26: =COUNTIF('Matriz de Riesgos Integrada'!#REF!,P26) -> #REF! | S26: 600 | T26: =COUNTIF('Matriz de Riesgos Integrada'!#REF!,S26) -> #REF!
A27: 1 | B27: =COUNTIF('Matriz de Riesgos Integrada'!#REF!,A27) -> #REF! | F27: CLASIFICACION DE RIESGOS | L27: 1 | M27: =COUNTIF('Matriz de Riesgos Integrada'!#REF!,L27) -> #REF! | P27: 3 | Q27: =COUNTIF('Matriz de Riesgos Integrada'!#REF!,P27) -> #REF!
A28: 2 | B28: =COUNTIF('Matriz de Riesgos Integrada'!#REF!,A28) -> #REF! | F28: RIESGOS DE GESTIÓN | L28: 2 | M28: =COUNTIF('Matriz de Riesgos Integrada'!#REF!,L28) -> #REF! | P28: 4 | Q28: =COUNTIF('Matriz de Riesgos Integrada'!#REF!,P28) -> #REF!
A29: 3 | B29: =COUNTIF('Matriz de Riesgos Integrada'!#REF!,A29) -> #REF! | F29: RIESGOS CONTRACTUALES | L29: 3 | M29: =COUNTIF('Matriz de Riesgos Integrada'!#REF!,L29) -> #REF! | P29: 6 | Q29: =COUNTIF('Matriz de Riesgos Integrada'!#REF!,P29) -> #REF!
A30: 4 | B30: =COUNTIF('Matriz de Riesgos Integrada'!#REF!,A30) -> #REF! | F30: RIESGOS DE CORRUPCIÓN | L30: 4 | M30: =COUNTIF('Matriz de Riesgos Integrada'!#REF!,L30) -> #REF! | P30: 8 | Q30: =COUNTIF('Matriz de Riesgos Integrada'!#REF!,P30) -> #REF!
A31: 5 | B31: =COUNTIF('Matriz de Riesgos Integrada'!#REF!,A31) -> #REF! | F31: RIESGOS DE SEGURIDAD Y SALUD EN EL TRABAJO | L31: 5 | M31: =COUNTIF('Matriz de Riesgos Integrada'!#REF!,L31) -> #REF! | P31: 9 | Q31: =COUNTIF('Matriz de Riesgos Integrada'!#REF!,P31) -> #REF!
A32: 6 | B32: =COUNTIF('Matriz de Riesgos Integrada'!#REF!,A32) -> #REF! | F32: RIESGOS DE SEGURIDAD DIGITAL | L32: 6 | M32: =COUNTIF('Matriz de Riesgos Integrada'!#REF!,L32) -> #REF! | P32: 12 | Q32: =COUNTIF('Matriz de Riesgos Integrada'!#REF!,P32) -> #REF!
A33: 7 | B33: =COUNTIF('Matriz de Riesgos Integrada'!#REF!,A33) -> #REF! | F33: RIESGOS PARA LA DEFENSA JURÍDICA | L33: 7 | M33: =COUNTIF('Matriz de Riesgos Integrada'!#REF!,L33) -> #REF! | P33: 16 | Q33: =COUNTIF('Matriz de Riesgos Integrada'!#REF!,P33) -> #REF!
A34: 8 | B34: =COUNTIF('Matriz de Riesgos Integrada'!#REF!,A34) -> #REF! | L34: 8 | M34: =COUNTIF('Matriz de Riesgos Integrada'!#REF!,L34) -> #REF! | Q34: =SUM(Q25:Q33) -> #REF!
A35: 9 | B35: =COUNTIF('Matriz de Riesgos Integrada'!#REF!,A35) -> #REF! | F35: TIPO DE CONTROL | L35: 9 | M35: =COUNTIF('Matriz de Riesgos Integrada'!#REF!,L35) -> #REF!
A36: 10 | B36: =COUNTIF('Matriz de Riesgos Integrada'!#REF!,A36) -> #REF! | F36: PREVENTIVO | L36: 10 | M36: =COUNTIF('Matriz de Riesgos Integrada'!#REF!,L36) -> #REF! | P36: zona de riesgo | S36: zona de riesgo
B37: =SUM(B27:B36) -> #REF! | F37: DETECTIVO | M37: =SUM(M27:M36) -> #REF! | P37: bajo | Q37: =SUM(Q25:Q26) -> #REF! | S37: baja | T37: =SUM(T9:T12) -> #REF!
F38: CORRECTIVO | P38: medio | Q38: =SUM(Q27:Q28) -> #REF! | S38: moderada | T38: =SUM(T13:T15) -> #REF!
A39: ZONA RESIDUAL | P39: alto | Q39: =SUM(Q29:Q31) -> #REF! | S39: alta | T39: =SUM(T16:T18) -> #REF!
A40: BAJO: Mitigado o eliminado | B40: =COUNTIF(A$42:A$48,A40) -> 0 | F40: TIPO DE IMPLEMENTACIÓN | L40: zona de riesgo | P40: critico | Q40: =SUM(Q32:Q33) -> #REF! | S40: extrema | T40: =SUM(T19:T26) -> #REF!
...
