Workbook
Name \0: #REF!
Name \p: #REF!
Name \X: #REF!
Name \X: #REF!
Name \X: #REF!
Name \X: #REF!
Name \X: #REF!
Name \X: #REF!
Name \X: #REF!
Name \X: #REF!
Name \X: #REF!
Name \X: #REF!
Name \Z: #REF!
Name \Z: #REF!
Name \Z: #REF!
Name \Z: #REF!
Name \Z: #REF!
Name \Z: #REF!
Name \Z: #REF!
Name \Z: #REF!
Name \Z: #REF!
Name \Z: #REF!
Name ________________________________________________________AIU2: #REF!
Name _______________________________________________________AIU2: #REF!
Name _______________________________________________________CAN28: #REF!
Name _______________________________________________________REP43: #REF!
Name ______________________________________________________AIU2: #REF!
Name ______________________________________________________REP43: #REF!
Name _____________________________________________________AIU2: #REF!
Name _____________________________________________________REP43: #REF!
Name _____________________________________________________TEP44: #REF!
Name _____________________________________________________TZ216: #REF!
Name ____________________________________________________AIU2: #REF!
Name ____________________________________________________REP43: #REF!
Name ____________________________________________________TZ214: #REF!
Name ____________________________________________________TZ32510: #REF!
Name ___________________________________________________AIU2: #REF!
Name ___________________________________________________REP43: #REF!
Name ___________________________________________________TEP44: #REF!
Name ___________________________________________________TZ216: #REF!
Name __________________________________________________AIU2: #REF!
Name __________________________________________________REP43: #REF!
Name __________________________________________________TEP44: #REF!
Name __________________________________________________TZ214: #REF!
Name __________________________________________________TZ216: #REF!
Name __________________________________________________TZ32510: #REF!
Name _________________________________________________AIU2: #REF!
Name _________________________________________________REP43: #REF!
Name _________________________________________________TEP44: #REF!
Name _________________________________________________TZ214: #REF!
Name _________________________________________________TZ216: #REF!
Name _________________________________________________TZ32510: #REF!
Name ________________________________________________ADM4: #REF!
Name ________________________________________________AIU2: #REF!
Name ________________________________________________CAN28: #REF!
Name ________________________________________________REP43: #REF!
Name ________________________________________________TEP44: #REF!
Name ________________________________________________TZ214: #REF!
Name ________________________________________________TZ216: #REF!
Name ________________________________________________TZ32510: #REF!

Sheet CALCULO AU
A1: CÁLCULO DEL AU
A2: No. | B2: DESCRIPCION | C2: CANT | D2: VALOR MENSUAL | E2: % PREST | F2: DEDICACIÓN | G2: MESES | H2: VALOR PARCIAL
A3: 1 | B3: PERSONAL PROFESIONAL Y TÉCNICO
B4: Profesional Director de Obra | C4: 1 | D4: 7500000 | E4: 1.6004 | F4: 1 | G4: 10 | H4: =ROUND(C4*D4*E4*F4*G4,0) -> 120030000
B5: Profesional Residente de obra | C5: 1 | D5: 5500000 | E5: =+$E$4 -> 1.6004 | F5: 1 | G5: =+$G$4 -> 10 | H5: =ROUND(C5*D5*E5*F5*G5,0) -> 88022000
B6: Tecnólogo SISO | C6: 1 | D6: 2500000 | E6: =+$E$4 -> 1.6004 | F6: 1 | G6: =+$G$4 -> 10 | H6: =ROUND(C6*D6*E6*F6*G6,0) -> 40010000
B7: Ingeniero Ambiental | C7: 1 | D7: =3800000 -> 3800000 | E7: =+$E$4 -> 1.6004 | F7: 1 | G7: =+$G$4 -> 10 | H7: =ROUND(C7*D7*E7*F7*G7,0) -> 60815200
B8: Social | C8: 1 | D8: 3000000 | E8: =+$E$4 -> 1.6004 | F8: 1 | G8: =+$G$4 -> 10 | H8: =ROUND(C8*D8*E8*F8*G8,0) -> 48012000
A10: 2 | B10: PERSONAL TECNICO NO PROFESIONAL
B11: Encargado de Obra | C11: 1 | D11: 3170000 | E11: =+$E$4 -> 1.6004 | F11: 1 | G11: =+$G$4 -> 10 | H11: =ROUND(C11*D11*E11*F11*G11,0) -> 50732680
B12: Brigadistas ambientales (Pare y siga, patieros) | C12: 2 | D12: 1300000 | E12: 1.7431 | F12: 1 | G12: =+$G$4 -> 10 | H12: =ROUND(C12*D12*E12*F12*G12,0) -> 45320600
B13: Vigilancia 24 horas | C13: 1 | D13: =(16912565/2) -> 8456282.5 | E13: 1 | F13: 1 | G13: =+$G$4 -> 10 | H13: =ROUND(C13*D13*E13*F13*G13,0) -> 84562825
B14: Almacenista | C14: 1 | D14: 2300000 | E14: =+$E$12 -> 1.7431 | F14: 1 | G14: =+$G$4 -> 10 | H14: =ROUND(C14*D14*E14*F14*G14,0) -> 40091300
B15: Secretaria de obra | C15: 1 | D15: 1300000 | E15: =+$E$12 -> 1.7431 | F15: 1 | G15: =+$G$4 -> 10 | H15: =ROUND(C15*D15*E15*F15*G15,0) -> 22660300
A16: 3 | B16: GASTOS DE OFICINA CENTRAL
B17: Secretaria oficina central | C17: 1 | D17: 1729928 | E17: 1.65 | F17: 0.2 | G17: =+$G$4 -> 10 | H17: =ROUND(C17*D17*E17*F17*G17,0) -> 5708762
B18: Mensajero | C18: 1 | D18: 1924903 | E18: 1.65 | F18: =+F17 -> 0.2 | G18: =+$G$4 -> 10 | H18: =ROUND(C18*D18*E18*F18*G18,0) -> 6352180
A19: 4 | B19: INSTALACIONES PROVISIONALES
B20: Servicios Públicos oficina | C20: 1 | D20: 750000 | E20: 1 | G20: 1 | H20: =ROUND(PRODUCT(C20:G20),0) -> 750000 | I20: =SUM(H20:H34) -> 50533067
B21: Dotacion de oficinas (muebles y enseres) durante toda la obra | C21: 1 | D21: 3000000 | E21: 1 | G21: 1 | H21: =ROUND(PRODUCT(C21:G21),0) -> 3000000
A22: 5 | B22: SISTEMAS DE CÓMPUTO Y COMUNICACIÓN
B23: Computador B (Con office) Mensual | C23: =+C4+C5+C6+C14+C15+C7+C8 -> 7 | D23: 250000 | G23: =+$G$4 -> 10 | H23: =ROUND(PRODUCT(C23:G23),0) -> 17500000
B24: Impresora (una sola vez afectada unicamente por la dedicación) | C24: 2 | D24: 300000 | H24: =ROUND(PRODUCT(C24:G24),0) -> 600000
B25: Comunicaciones (Telefono, celular, fax, Internet, etc.) Mensual | C25: 1 | D25: 50000 | G25: =+$G$4 -> 10 | H25: =ROUND(PRODUCT(C25:G25),0) -> 500000
A26: 6 | B26: PAPELERIA Y OTROS COSTOS
B27: Elaboración y entrega de planos record (unidad) | C27: 15 | D27: 200000 | H27: =ROUND(PRODUCT(C27:G27),0) -> 3000000
B28: Papeleria Mensual, fotocopias, edición informes, registros fotográficos entre otros | C28: 1 | D28: 250000 | G28: =+$G$4 -> 10 | H28: =ROUND(PRODUCT(C28:G28),0) -> 2500000
A29: 8 | B29: GASTOS BANCARIOS
B30: Transacciones virtuales, chequeras, etc. | C30: 1 | D30: 70000 | G30: =+$G$4 -> 10 | H30: =ROUND(PRODUCT(C30:G30),0) -> 700000
A31: 9 | B31: VALLA CONTRACTUAL
B32: Valla (12*4). Incluye estructura metálica para fijación y soporte | C32: 1 | D32: 11983067 | H32: =ROUND(PRODUCT(C32:G32),0) -> 11983067
A33: 10 | B33: LABORATORIO
B34: Ensayos de laboratorio (incluye diseños de mezclas para concreto, fallo de cilindros de concreto, ensayo de proctor modificado, toma de densidades de campo, ensayos a bloques, ensayos a elementos prefabricados, ensayos de resistencia al acero de refuerzo y estructuras metálicas y todos los ensayos y diseños necesarios para la correcta ejecucion y funcionamiento de las obras. | C34: global | D34: 1 | H34: 10000000
B35: SUBTOTAL DE COSTOS DE ADMINISTRACION | H35: =ROUND(SUM(H4:H34),0) -> 662850914
B36: TOTAL COSTOS DIRECTO OBRA CIVIL | H36: =+PRESUPUESTO!F221 -> 6080544974
B37: ADMINISTRACION | C37: =+ROUND(H35/H36,4) -> 0.109 | H37: =+H35 -> 662850914
B38: UTILIDAD | C38: 0.05 | H38: =ROUND(H36*C38,0) -> 304027249
B39: SUBTOTAL A.U | C39: =SUM(C37:C38) -> 0.159 | H39: =+H37+H38 -> 966878163
B40: VALOR TOTAL CONSTRUCCION (COSTOS DIRECTOS + AU) | H40: =SUM( H36+H39) -> 7047423137
B41: REAJUSTES

Sheet INTERVENTORÍA
A1: ANEXO OFERTA ECONOMICA
A2: CONTRATANTE:
A3: OBJETO: | B3: =+PRESUPUESTO!C8 -> RENOVACIÓN DEL PARQUE PRINCIPAL DEL MUNICIPIO DE COPACABANA - ANTIOQUIA
A4: DURACIÓN (MESES): | B4: 9 | C4: INICIO: | E4: 2025 | F4: FIN: | H4: 2025
A6: FUNCIÓN EN EL PROYECTO | B6: TITULO (Formación) | C6: DEDICACIÓN (MESES) | D6: UNIDAD | E6: CANTIDAD | F6: % DEDICACIÓN | G6: Vr. Unitario | H6: Vr. TOTAL
A7: COMPONENTE PERSONAL
A8: Director de obra | B8: Ingeniero civil , arquitecto o arq.constructor | C8: =+$B$4 -> 9 | D8: Mes | E8: 1 | F8: 1 | H8: =C8*F8*G8 -> 0
A9: Residente de obra | B9: Ingeniero civil , arquitecto o arq.constructor | C9: =+$C$8 -> 9 | D9: Mes | E9: 1 | F9: 1 | H9: =C9*F9*G9 -> 0
A10: Profesional o Tecnólogo SISO | B10: Tecnologo en Seguridad y salud en el trabajo- SGSST | C10: =+$C$8 -> 9 | D10: Mes | E10: 1 | F10: 1 | H10: =C10*F10*G10 -> 0
A11: Ingeniero Ambiental | B11: Ingeniero Ambiental | C11: =+$C$8 -> 9 | D11: Mes | E11: 1 | F11: 1 | H11: =C11*F11*G11 -> 0
A12: Profesional Social | B12: Profesional Social | C12: =+$C$8 -> 9 | D12: Mes | E12: 1 | F12: 1 | H12: =C12*F12*G12 -> 0
A13: Auxiliar de obra | B13: Tecnologo en obras civiles | C13: =+C8-1 -> 8 | D13: Mes | E13: 1 | F13: 1 | H13: =+C13*E13*F13*G13 -> 0
A14: SUBTOTAL COMPONENTE PERSONAL | H14: =SUM(H7:H13) -> 0
A15: % FACTOR MULTIPLICADOR | H15: =ROUND(+'FACTOR MULTIPLICADOR'!H33,2) -> 2.01
A16: VALOR FACTOR MULTIPLICADOR | H16: =H14*H15-H14 -> 0
A17: TOTAL | H17: =H14+H16 -> 0
A18: COMPONENTE APOYO LOGISTICO y TECNICO
A19: Papelería, tóner, impresiones, copias y ploteos | C19: =+$C$8 -> 9 | D19: Mes | E19: 1 | F19: 1 | H19: =+C19*E19*F19*G19 -> 0
A20: Arriendo de oficina | C20: =+$C$8 -> 9 | D20: Mes | E20: 1 | F20: 1 | H20: =+C20*E20*F20*G20 -> 0
A21: Servicios publicos | C21: =+$C$8 -> 9 | D21: Mes | E21: 1 | F21: 1 | H21: =+C21*E21*F21*G21 -> 0
A22: Arrendamiento equipos de computo | C22: =+$C$8 -> 9 | D22: Mes | E22: =SUM($E$8:$E$13) -> 6 | F22: 1 | H22: =+C22*E22*F22*G22 -> 0
A23: Dotacion de oficinas (muebles y enseres) durante toda la obra | C23: 1 | D23: Mes | E23: =SUM($E$8:$E$13) -> 6 | F23: 1 | H23: =+C23*E23*F23*G23 -> 0
A24: Auxilio arriendo de impresora | C24: 1 | D24: Mes | E24: 1 | F24: 1 | H24: =+C24*E24*F24*G24 -> 0
A25: Asesorias Especializadas (Hidraulicas, Geotecnicas, Suelos, pavimentos, urbanismo, transito, Estructurales o cualquiera adicional que se requiera), incluye informe por visita de diagnostico, conclusiones y analisis de resultados. | C25: 1 | D25: Global | E25: 1 | F25: 1 | H25: =+C25*E25*F25*G25 -> 0
A26: SUBTOTAL APOYO LOGISTICOS | H26: =SUM(H19:H25) -> 0
A29: SUBTOTAL INTERVENTORIA | H29: =+H26+H17 -> 0
A30: IVA 19% (Subtotal interventoría) | H30: =ROUND((H29)*0.19,0) -> 0
A31: TOTAL PROYECTO | H31: =H29+H30 -> 0
A33: IMPUESTOS, TASAS Y CONTRIBUCIONES (Reembolsables) | G33: Base gravable (No incluye pólizas)
A34: Estampilla para la Justicia Familiar | F34: 0.02 | G34: =+$H$29 -> 0 | H34: =ROUND(F34*G34,0) -> 0
A35: Adulto mayor | F35: 0.03 | G35: =+$H$29 -> 0 | H35: =ROUND(F35*G35,0) -> 0
A36: Tasa Pro Deporte | F36: 0.015 | G36: =+$H$29 -> 0 | H36: =ROUND(F36*G36,0) -> 0
A37: Universidad de Antioquia | F37: 0.005 | G37: =+$H$29 -> 0 | H37: =ROUND(F37*G37,0) -> 0
A38: Prohospital | F38: 0.01 | G38: =+$H$29 -> 0 | H38: =ROUND(F38*G38,0) -> 0
A39: Impuesto 4/1000 (50%) | F39: 0.002 | G39: =+$H$29 -> 0 | H39: =ROUND(F39*G39,0) -> 0
A40: SUBTOTAL IMPUESTOS, TASAS Y CONTRIBUCIONES | H40: =SUM(H34:H39) -> 0
A41: Pólizas (Reembolsables) | F41: 0.0057 | G41: =+$H$29 -> 0 | H41: =ROUND(F41*G41,0) -> 0
A43: TOTAL PROYECTO | H43: =+H31+H40+H41 -> 0
B47: FIRMA REPRESENTANTE LEGAL

Sheet PRESUPUESTO
A8: NOMBRE DEL PROYECTO | C8: RENOVACIÓN DEL PARQUE PRINCIPAL DEL MUNICIPIO DE COPACABANA - ANTIOQUIA
A9: CLIENTE | C9: ALCALDIA DE COPACABANA
A10: ÁREA
A11: ELABORADO POR | C11: SUZANA MACHADO V.
A12: REVISADO POR | C12: JORGE M. CARMONA F.
A13: FECHA | C13: 29 DE MAYO 2023
A15: PRESUPUESTO PRELIMINAR DE OBRA
A16: ITEM | B16: DESCRIPCIÓN | C16: UNIDAD | D16: CANTIDAD | E16: VR UNITARIO | F16: VR TOTAL | G16: % INCIDENCIA | H16: OBSERVACIONES
A18: 1 | B18: PRELIMINARES | C18: UNIDAD | D18: CANTIDAD | E18: VR UNITARIO | F18: VR TOTAL | G18: % INCIDENCIA | H18: OBSERVACIONES
A19: 1.1 | B19: DEMOLICIONES | F19: =SUM(F20:F21) -> 83203622
A20: 1.1.1 | B20: Demolición, cargue y disposición final de carpeta asfaltica e=12 cm. | C20: m3 | D20: =+D33*0.12 -> 288 | E20: =ROUND('1. APU PRELIMINARES'!H40,0) -> 239419 | F20: =ROUND(+E20*D20,0) -> 68952672 | G20: =+F20/$F$221 -> 0.011339884
A21: 1.1.2 | B21: Demolición, cargue y disposición final de concreto existente. | C21: m3 | D21: 50 | E21: =ROUND('1. APU PRELIMINARES'!H88,0) -> 285019 | F21: =ROUND(+E21*D21,0) -> 14250950 | G21: =+F21/$F$221 -> 0.0023436962
A22: 1.2 | B22: OBRAS PROVISIONALES Y PROTECCIÓN | F22: =SUM(F23:F25) -> 49542505
A23: 1.2.1 | B23: Suministro e instalación de cerramiento provisional en polisombra con estructura en madera, cada 1.5 m. | C23: ml | D23: 360 | E23: =ROUND('1. APU PRELIMINARES'!H128,0) -> 33053 | F23: =ROUND(+E23*D23,0) -> 11899080 | G23: =+F23/$F$221 -> 0.0019569101
A24: 1.2.2 | B24: Localización, trazado y replanteo del proyecto. Se utilizará equipo de precisión, personal experto. Se hará con la frecuencia que lo indique la interventoría. Incluye demarcación con pintura, línea de trazado, corte de piso, libretas, planos. | C24: dia | D24: 15 | E24: =ROUND('1. APU PRELIMINARES'!H175,0) -> 764975 | F24: =ROUND(+E24*D24,0) -> 11474625 | G24: =+F24/$F$221 -> 0.0018871047
A25: 1.2.3 | B25: Construcción de campamento provisionales modulares (Ofcinas personal administrativo, Interventoría, Almacén, Subcontratistas y Bodega). | C25: m2 | D25: 80 | E25: 327110 | F25: =ROUND(+E25*D25,0) -> 26168800 | G25: =+F25/$F$221 -> 0.0043036932
A26: TOTAL | F26: =F19+F22 -> 132746127 | G26: =F26/$F$221 -> 0.021831288
A28: 2 | B28: EXCAVACIONES Y LLENOS | C28: UNIDAD | D28: CANTIDAD | E28: VR UNITARIO | F28: VR TOTAL | G28: % INCIDENCIA | H28: OBSERVACIONES
A29: 2.1 | B29: EXCAVACIONES | F29: =SUM(F30:F33) -> 131927606
A30: 2.1.1 | B30: Excavación de pilotes L=4 m, para locales comerciales. | C30: ml | D30: ='MEMORIAS CANT'!B5*'MEMORIAS CANT'!E5 -> 224 | E30: =ROUND('2. APU EXCAVACIONES'!H39,0) -> 43279 | F30: =ROUND(+E30*D30,0) -> 9694496 | G30: =+F30/$F$221 -> 0.0015943466
A31: 2.1.2 | B31: Excavación de pilotes L=2 m, para jardineras. | C31: ml | D31: =88*2.2 -> 193.6 | E31: =ROUND('2. APU EXCAVACIONES'!H86,0) -> 34824 | F31: =ROUND(+E31*D31,0) -> 6741926 | G31: =+F31/$F$221 -> 0.00110877
A32: 2.1.3 | B32: Excavación mecánica de material heterogéneo de 0.0 a 2.0 m, incluye el cargue, botada del material producto de la excavación en los sitios autorizados o donde lo indique la interventoría y su medida será en el sitio. | C32: m3 | D32: =+D33*(0.15+0.11)+D51*0.25 -> 1277.425 | E32: =ROUND('2. APU EXCAVACIONES'!H135,0) -> 77241 | F32: =ROUND(+E32*D32,0) -> 98669584 | G32: =+F32/$F$221 -> 0.016227096
A33: 2.1.4 | B33: Perfilación y compactación de la subrasante. | C33: m2 | D33: 2400 | E33: =ROUND('2. APU EXCAVACIONES'!H184,0) -> 7009 | F33: =ROUND(+E33*D33,0) -> 16821600 | G33: =+F33/$F$221 -> 0.0027664626
A34: 2.2 | B34: LLENOS | F34: =SUM(F35:F35) -> 229054319
A35: 2.2.1 | B35: Suministro, transporte y colocación de base granular especificación Invias (según diseño). Incluye: Estrutura para losas de contrapiso y vías. | C35: m3 | D35: =D50*0.15+D51*0.25 -> 1013.425 | E35: =ROUND('2. APU EXCAVACIONES'!H232,0) -> 226020 | F35: =ROUND(+E35*D35,0) -> 229054319 | G35: =+F35/$F$221 -> 0.037670031
A36: 2.3 | B36: IMPERMEABILIZACIÓN | F36: =SUM(F37:F37) -> 52471097
A37: 2.3.1 | B37: Suministro, transporte e instalación de Geodren planar con tubería circular 100 mm, profundidad 0,5 m. Incluye el transporte externo e interno de los materiales. | C37: ml | D37: ='MEMORIAS CANT'!C52 -> 670.6 | E37: =ROUND('2. APU EXCAVACIONES'!H279,0) -> 78245 | F37: =ROUND(+E37*D37,0) -> 52471097 | G37: =+F37/$F$221 -> 0.0086293412
A38: TOTAL | F38: =F29+F34+F36 -> 413453022 | G38: =F38/$F$221 -> 0.067996047
A40: 3 | B40: CONCRETOS | C40: UNIDAD | D40: CANTIDAD | E40: VR UNITARIO | F40: VR TOTAL | G40: % INCIDENCIA | H40: OBSERVACIONES
A41: 3.1 | B41: ESTRUCTURAS DE CONCRETO | F41: =SUM(F43:F48) -> 223073950
A42: 3.1.1 | B42: Suministro, transporte y colocación de concreto 21 MPa vaciado en obra: Incluye: todos los equipos necesarios para disponer el concreto en los diferentes niveles de la obra, preparación, ensayos, transporte externo, obra falsa, colocación, protección y curado. No incluye refuerzo.
A43: 3.1.1.1 | B43: Pilotes d=30 cm, L=4 m. | C43: m3 | D43: ='MEMORIAS CANT'!F5 -> 15.833627 | E43: =ROUND('3. APU CONCRETOS'!H39,0) -> 826547 | F43: =ROUND(+E43*D43,0) -> 13087237 | G43: =+F43/$F$221 -> 0.0021523132
A44: 3.1.1.2 | B44: Vigas de fundación 35x35 cm. | C44: m3 | D44: ='MEMORIAS CANT'!F13 -> 19.208 | E44: =ROUND('3. APU CONCRETOS'!H86,0) -> 896796 | F44: =ROUND(+E44*D44,0) -> 17225658 | G44: =+F44/$F$221 -> 0.0028329135
A45: 3.1.1.3 | B45: Vigas dintel 12x20 cm. | C45: ml | D45: ='MEMORIAS CANT'!E15+'MEMORIAS CANT'!E16+'MEMORIAS CANT'!E17 -> 116.28 | E45: =ROUND('3. APU CONCRETOS'!H133,0) -> 81715 | F45: =ROUND(+E45*D45,0) -> 9501820 | G45: =+F45/$F$221 -> 0.0015626593
A46: 3.1.2 | B46: Muros para jardineras e=10 cm en concreto a la vista pulido, incluye pilote, viga y vastago | C46: m2 | D46: ='MEMORIAS CANT'!C25+'MEMORIAS CANT'!C25*0.328 -> 88.4448 | E46: =ROUND('3. APU CONCRETOS'!H180,0) -> 157976 | F46: =ROUND(+E46*D46,0) -> 13972156 | G46: =+F46/$F$221 -> 0.002297846
A47: 3.1.3 | B47: Elementos de soporte en concreto para bancas jardineras. | C47: m2 | D47: ='MEMORIAS CANT'!C26 -> 4.914 | E47: =ROUND('3. APU CONCRETOS'!H227,0) -> 184260 | F47: =ROUND(+E47*D47,0) -> 905454 | G47: =+F47/$F$221 -> 0.00014891001
A48: 3.1.4 | B48: Jardineras tipo banca en concreto e=10 cm. | C48: ml | D48: ='MEMORIAS CANT'!C52 -> 670.6 | E48: =ROUND('3. APU CONCRETOS'!H276,0) -> 251091 | F48: =ROUND(+E48*D48,0) -> 168381625 | G48: =+F48/$F$221 -> 0.027691864
A49: 3.2 | B49: LOSAS Y LOSAS DE FUNDACIÓN | F49: =SUM(F50:F53) -> 928698377
A50: 3.2.1 | B50: Pavimento Rígido Premezclado de 28 Mpa MR 41 con e=23 cm. Incluye suministro, transporte e instalación del concreto, mano de obra, vibrado, protección y curado. No incluye refuerzo. | C50: m2 | D50: 2400 | E50: =ROUND('3. APU CONCRETOS'!H325,0) -> 237133 | F50: =ROUND(+E50*D50,0) -> 569119200 | G50: =+F50/$F$221 -> 0.093596742
A51: 3.2.2 | B51: Construcción de LOSA DE FUNDACIÓN en concreto de 21 Mpa. con un espesor 9cm. Incluye suministro, transporte e instalación del concreto, mano de obra, vibrado, protección y curado, para estructuras de acuerdo con las diferentes dimensiones establecidas en los planos y diseños. No incluye refuerzo. | C51: m2 | D51: =+SUM(D164:D165) -> 2613.7 | E51: =+ROUND('3. APU CONCRETOS'!H372,0) -> 114007 | F51: =ROUND(+E51*D51,0) -> 297980096 | G51: =+F51/$F$221 -> 0.049005492
...

Sheet FACTOR MULTIPLICADOR
B3: =+PRESUPUESTO!C8 -> RENOVACIÓN DEL PARQUE PRINCIPAL DEL MUNICIPIO DE COPACABANA - ANTIOQUIA
B4: RENOVACIÓN DEL PARQUE PRINCIPAL DEL MUNICIPIO DE COPACABANA - ANTIQUIA
B5: DURACION DEL PROYECTO | H5: NUEVE (9) MESES
B6: SUBTOTAL INTERVENTORIA | H6: =+INTERVENTORÍA!H29 -> 0
B7: IVA INTERVENTORIA | H7: =H6*0.19 -> 0
B8: TOTAL INTERVENTORIA | H8: =SUM(H6:H7) -> 0
B9: FACTOR MULTIPLICADOR | H9: =H33 -> 2.012528
C11: FACTOR MULTIPLICADOR
C12: DESCRIPCION | D12: PORCENTAJE PARCIAL
B13: A | C13: SALARIO BASICO | H13: =SUM(H14) -> 1
C14: Nomina Total Mensual | D14: 1 | H14: =D14 -> 1
B15: B | C15: PRESTACIONES SOCIALES | H15: =SUM(D16:D28) -> 0.6169
C16: Cesantías | D16: 0.0833
C17: Intereses sobre cesantías | D17: 0.01
C18: Primas | D18: 0.0833
C19: Vacaciones | D19: 0.0417
C20: SEGURIDAD SOCIAL
C21: Aportes a Salud | D21: 0.085
C22: Aportes a Pensión | D22: 0.12
C23: ARP | D23: 0.0696
C24: OTROS
C25: Sena | D25: 0.02
C26: ICBF | D26: 0.03
C27: Caja de compensación familiar | D27: 0.04
C28: Dotación y examenes medicos | D28: =0.018+0.016 -> 0.034
B29: C | C29: GASTOS OFICINA CENTRAL | H29: 0.18
B30: D | C30: HONORARIOS UTILIDADES ( ) | H30: =(H15+H13+H29)*D31 -> 0.215628
C31: Honorarios utilidades del Consultor | D31: 0.12
C33: FACTOR MULTIPLICADOR: TOTAL A+B+C+D | H33: =H13+H15+H29+H30 -> 2.012528

Sheet MEMORIAS CANT
A1: MEMORIAS DE CANTIDADES | I1: MEMORIAS DE CANTIDADES | Q1: MEMORIAS DE CANTIDADES | V1: MEMORIAS DE CANTIDADES | AA1: MEMORIAS DE CANTIDADES
A2: ITEM | B2: CANTIDAD | C2: ALTO | D2: ANCHO | E2: LONGITUD | F2: VOL | G2: UND | I2: ITEM | J2: DESCRIPCIÓN | K2: PESO | L2: CANT | M2: LONG | N2: PESO | O2: UND | Q2: ITEM | R2: DESCRIPCIÓN | S2: CANT | T2: UND | V2: ITEM | W2: DESCRIPCIÓN | X2: CANT | Y2: UND | AA2: ITEM | AB2: DESCRIPCIÓN | AC2: CANT | AD2: UND
A3: 4 | B3: CONCRETOS | I3: 4 | J3: ACERO DE REFUERZO | Q3: 6 | R3: MAMPOSTERIA | V3: 14 | W3: PISOS Y ENCHAPES | AA3: 16 | AB3: PINTURA Y REVOQUE
A4: 4.1.2 | B4: PILOTES | I4: PILOTES | Q4: 6.1 | R4: Ladrillo portante 306x12 capuchino PH S2 para locales | S4: =2.48*2.5*4+8.1*2.48*2+17*1.5*1.1+2.48*2.5*6+3.3*2.48*2+4.9*2.48-(0.95*0.87*17) -> 144.6955 | T4: m2 | V4: 14.1 | W4: ENCHAPES - MURO | AA4: 16.1 | AB4: REVOQUE
A5: Son 56 | B5: 56 | D5: 0.3 | E5: 4 | F5: =((PI()*(D5*D5))/4)*E5*B5 -> 15.833627 | G5: m3 | I5: Son 56 | J5: 1/2 | K5: 0.994 | L5: 224 | M5: 4.5 | N5: =K5*L5*M5 -> 1001.952 | O5: kg | Q5: 6.2 | R5: Adobe de 10 de 6 huecos para locales | S5: =2.48*2.5*4*2+2.48*2.5*4 -> 74.4 | T5: m2 | V5: 14.1.1 | W5: Baldosa perlato de 40x40 cm | X5: =C52*0.4 -> 268.24 | Y5: m2 | AA5: 16.1.1 | AB5: Revoque | AC5: =((1.5*2)+(2.3*2))*2.48*17-(0.95*0.87*17)-(1.37*1.5*17) -> 271.4305 | AD5: m2
A6: 4.1.3 | B6: VIGAS DE FUNDACIÓN | J6: 3/8 | K6: 0.56 | L6: 1456 | M6: 0.65 | N6: =K6*L6*M6 -> 529.984 | V6: 14.1.2 | W6: Baldosa perlato de 40x52 cm | X6: =C52*0.52 -> 348.712 | Y6: m2 | AA6: 16.2 | AB6: PINTURA Y ESTUCO
A7: VF1-2 (Son 4) | B7: 4 | C7: 0.35 | D7: 0.35 | E7: 10.7 | F7: =B7*C7*D7*E7 -> 5.243 | G7: m3 | I7: VIGAS DE FUNDACIÓN | Q7: ITEM | R7: DESCRIPCIÓN | S7: CANT | T7: UND | V7: 14.1.3 | W7: Baldosa perlato de 50x200 cm | X7: 4.5 | Y7: m2 | AA7: 16.2.1 | AB7: Estuco | AC7: =((1.5*2)+(2.3*2))*2.48*17-(0.95*0.87*17)-(1.37*1.5*17) -> 271.4305 | AD7: m2
A8: VFA-H (Son 4) | B8: 4 | C8: 0.35 | D8: 0.35 | E8: 2.75 | F8: =B8*C8*D8*E8 -> 1.3475 | G8: m3 | I8: VF1-2 (Son 4) | J8: 5/8 | K8: 1.552 | L8: 8 | M8: 6 | N8: =$K$8*L8*M8 -> 74.496 | O8: kg | Q8: 11 | R8: CUBIERTA Y CIELOS FALSOS | X8: 4.4 | AA8: 16.2.2 | AB8: Pintura tipo 1 | AC8: =((1.5*2)+(2.3*2))*2.48*17-(0.95*0.87*17)-(1.37*1.5*17) -> 271.4305 | AD8: m2
A9: VFB-C-D-E-F-G (Son 12) | B9: 12 | C9: 0.35 | D9: 0.35 | E9: 2.75 | F9: =B9*C9*D9*E9 -> 4.0425 | G9: m3 | L9: 8 | M9: 4.2 | N9: =$K$8*L9*M9 -> 52.1472 | Q9: 11.1 | R9: CUBIERTA-TECHOS | X9: =5*2 -> 10 | AA9: 16.2.3 | AB9: Pintura tipo koraza | AC9: =2.48*0.1*22+8.1*0.1*2+3.3*0.1*2+4.9*0.1 -> 8.226 | AD9: m2
A10: VF1'-2' (Son 2) | B10: 2 | C10: 0.35 | D10: 0.35 | E10: 18.5 | F10: =B10*C10*D10*E10 -> 4.5325 | G10: m3 | L10: 8 | M10: 6.4 | N10: =$K$8*L10*M10 -> 79.4624 | Q10: 11.1.1 | R10: Estructura metalica para locales comerciales. | S10: =S15*22 -> 4800.6288 | T10: kg | X10: =5*2 -> 10 | AA10: 16.2.4 | AB10: Pintura tipo trafico para zonas de bicicletas. | AD10: ml
A11: VFA'-L' (Son 2) | B11: 2 | C11: 0.35 | D11: 0.35 | E11: 2.75 | F11: =B11*C11*D11*E11 -> 0.67375 | G11: m3 | L11: 8 | M11: 8 | N11: =$K$8*L11*M11 -> 99.328 | Q11: 11.1.2 | R11: Estructura metalica para sombrillas. | S11: =S16*22 -> 2159.8449 | T11: kg | X11: =5*2 -> 10
A12: VFB'-C'-D'-E'-F'-G'-H'-I'-J'-K' (Son 10) | B12: 10 | C12: 0.35 | D12: 0.35 | E12: 2.75 | F12: =B12*C12*D12*E12 -> 3.36875 | G12: m3 | J12: 3/8 | K12: 0.56 | L12: 348 | M12: 1 | N12: =+K12*L12*M12 -> 194.88 | Q12: 11.1.3 | R12: Techo en vidrio templado laminado con serigrafia en 6 mm, para cubiera de locales. | S12: =12.1*5.13 -> 62.073 | T12: m2 | X12: =5*2 -> 10 | AA12: ITEM | AB12: DESCRIPCIÓN | AC12: CANT | AD12: UND
A13: TOTAL | F13: =SUM(F7:F12) -> 19.208 | G13: m3 | I13: VFA-H (Son 4) | J13: 5/8 | K13: 1.552 | L13: 16 | M13: 3.65 | N13: =K13*L13*M13 -> 90.6368 | O13: kg | S13: =12.1*5.13 -> 62.073 | X13: 4.5 | AA13: 21 | AB13: AMOBLAMIENTO
A14: 4.1.3 | B14: VIGAS DINTEL | J14: 3/8 | K14: 0.56 | L14: =22*4 -> 88 | M14: 1 | N14: =K14*L14*M14 -> 49.28 | S14: =19.08*4.93 -> 94.0644 | X14: 4.4 | AA14: 21.1 | AB14: Mesa de juego de ajedrez o parques. | AC14: 11 | AD14: un
A15: DINTEL | C15: 0.12 | D15: 0.2 | E15: =8.12*4 -> 32.48 | F15: =C15*D15*E15 -> 0.77952 | G15: m3 | I15: VFB-C-D-E-F-G (Son 12) | J15: 5/8 | K15: 1.552 | L15: 48 | M15: 3.15 | N15: =K15*L15*M15 -> 234.6624 | O15: kg | S15: =SUM(S12:S14) -> 218.2104 | X15: =SUM(X7:X14)*0.5 -> 28.9 | AA15: 21.2 | AB15: Cubo con acabado en dado. | AC15: 44 | AD15: un
C16: 0.12 | D16: 0.2 | E16: =2.4*22 -> 52.8 | F16: =C16*D16*E16 -> 1.2672 | G16: m3 | J16: 3/8 | K16: 0.56 | L16: 228 | M16: 1 | N16: =K16*L16*M16 -> 127.68 | Q16: 11.1.4 | R16: Techo en vidrio templado laminado con serigrafia en 6 mm, para cubiera de sombrillas. | S16: =((PI()*2.5*2.5)/4)*20 -> 98.17477 | T16: m2 | V16: 14.1.4 | W16: Baldosa perlato de 35x39 cm | X16: =(12*3)*0.35*0.39 -> 4.914 | Y16: m2 | AA16: 21.3 | AB16: Bancas en concreto prefabricado colores amarillo, rojo, azul y verde. | AC16: 88 | AD16: un
C17: 0.12 | D17: 0.2 | E17: =15.5*2 -> 31 | F17: =C17*D17*E17 -> 0.744 | G17: m3 | I17: VF1'-2' (Son 2) | J17: 5/8 | K17: 1.552 | L17: 4 | M17: 6 | N17: =$K$17*L17*M17 -> 37.248 | O17: kg | Q17: 11.1.5 | R17: Listones de madera inmunizada color caramelo. | S17: =46.8*2+80.3-(20.3+12.2+20.4) -> 121 | T17: m2 | V17: 14.2 | W17: PISOS | AA17: 21.4 | AB17: Banca en concreto a la vista gris pulido debajo de sombrillas | AC17: 20 | AD17: un
A18: TOTAL | F18: =SUM(F15:F17) -> 2.79072 | G18: m3 | L18: 4 | M18: 4.2 | N18: =$K$17*L18*M18 -> 26.0736 | Q18: 11.2 | R18: CIELO FALSO | V18: 14.2.1 | W18: Mortero de nivelación | X18: =X27 -> 79.325 | Y18: m2
L19: 4 | M19: 8.3 | N19: =$K$17*L19*M19 -> 51.5264 | Q19: 11.2.1 | R19: Cielo falso para locales comerciales | S19: =X27 -> 79.325 | T19: m2 | V19: 14.2.2 | W19: Piso en royal beta color beteado de 30x120x20 cm | X19: 1203.7 | Y19: m2
A20: ITEM | B20: DESCRIPCIÓN | C20: CANT | D20: UND | L20: 4 | M20: 8 | N20: =$K$17*L20*M20 -> 49.664 | V20: 14.2.3 | W20: Piso en royal beta color dorado de 30x120x20 cm | X20: 1410 | Y20: m2 | AA20: ITEM | AB20: DESCRIPCIÓN | AC20: CANT | AD20: UND
A21: 4.1 | B21: ESTRUCTURAS | L21: 4 | M21: 6.5 | N21: =$K$17*L21*M21 -> 40.352 | V21: 14.2.4 | W21: Varilla dilatación | X21: =(X19+X20)/(1.5*1.5)*(1.5*4) -> 6969.8667 | Y21: ml | AA21: 23 | AB21: CARPINTERÍA METÁLICA
A22: 4.1.4 | B22: Muros para jardineras e=10 cm en concreto a la vista pulido. | C22: =10*2*0.5 -> 10 | D22: m2 | L22: 4 | M22: 8.35 | N22: =$K$17*L22*M22 -> 51.8368 | V22: 14.2.5 | W22: Baldosa tipo 1, guia de invidentes color amarillo de 20x20x3 cm. | X22: =36+12.1+8.4+12.6+10.7+10+2+10.4+8.8+9.5+26.1+30.2+6+3.8+31.6+7.6+57.8+3.9+31.5+40.7+81.5 -> 441.2 | Y22: ml | AA22: 23.1 | AB22: VENTANERÍA
C23: =10*2*0.67 -> 13.4 | J23: 3/8 | K23: 0.56 | L23: 312 | M23: 1 | N23: =K23*L23*M23 -> 174.72 | V23: 14.2.6 | W23: Baldosa tipo 2, guia de invidentes color amarillo de 40x40x3 cm. | X23: =(1.2*3+4+44.4+81+40.8+5.5+6)*2 -> 370.6 | Y23: ml | AA23: 21.2.1 | AB23: Cortina enrollable | AC23: =1.37*1.5*17 -> 34.935 | AD23: un
C24: =((5+1)*2*0.9)*4 -> 43.2 | I24: VFA'-L' (Son 2) | J24: 5/8 | K24: 1.552 | L24: 8 | M24: 3.65 | N24: =K24*L24*M24 -> 45.3184 | O24: kg | V24: 14.2.7 | W24: Piso en uucrete | X24: =8.1*2.5 -> 20.25 | Y24: m2 | AA24: 23.2 | AB24: PUERTAS
C25: =SUM(C22:C24) -> 66.6 | J25: 3/8 | K25: 0.56 | L25: 44 | M25: 1 | N25: =K25*L25*M25 -> 24.64 | X25: =8.1*2.5 -> 20.25 | AA25: 23.3.1 | AB25: Puerta batiente en acero inoxidable de 86x94 cm, para locales comerciales. | AC25: 17 | AD25: un
A26: 4.1.5 | B26: Elementos de soporte en concreto para bancas jardineras. | C26: =X16 -> 4.914 | D26: m2 | I26: VFB'-C'-D'-E'-F'-G'-H'-I'-J'-K' (Son 10) | J26: 5/8 | K26: 1.552 | L26: 40 | M26: 3.15 | N26: =K26*L26*M26 -> 195.552 | O26: kg | X26: =15.53*2.5 -> 38.825 | AA26: 23.3 | AB26: MUEBLES
A27: 4.1.6 | B27: Jardineras tipo banca en concreto e=10 cm. | C27: 45.2 | D27: ml | J27: 3/8 | K27: 0.56 | L27: 190 | M27: 1 | N27: =K27*L27*M27 -> 106.4 | X27: =SUM(X24:X26) -> 79.325 | AA27: 23.3.1 | AB27: Mesón de 1.5x0.6 m en acero inoxidabe, incluye pozuelo, para locales comerciales. | AC27: 17 | AD27: un
C28: 40.1 | I28: VIGAS DINTEL | V28: 14.2.8 | W28: Media caña en ucrete | X28: =34*2.5+17*1.5+0.64*17 -> 121.38 | Y28: ml | AA28: 23.3.2 | AB28: Registro de respiración en lamina de acero perforada. | AC28: 17 | AD28: un
C29: 19.7 | I29: DINTEL | J29: 3/8 | K29: 0.56 | L29: 4 | M29: 8 | N29: =$K$29*L29*M29 -> 17.92 | O29: kg
C30: 40 | L30: 80 | M30: 0.32 | N30: =$K$29*L30*M30 -> 14.336
C31: 38.2 | L31: 28 | M31: 2.4 | N31: =$K$29*L31*M31 -> 37.632
C32: 21.9 | L32: 224 | M32: 0.32 | N32: =$K$29*L32*M32 -> 40.1408
C33: 20.3 | L33: 16 | M33: 2.4 | N33: =$K$29*L33*M33 -> 21.504
C34: 18.1 | L34: 128 | M34: 0.32 | N34: =$K$29*L34*M34 -> 22.9376
C35: 31.3 | L35: 8 | M35: 6 | N35: =$K$29*L35*M35 -> 26.88
C36: 20.3 | L36: 142 | M36: 0.32 | N36: =$K$29*L36*M36 -> 25.4464
C37: 37.7 | I37: MUROS
C38: 40.1 | I38: DOVELAS | J38: 4 mm | K38: 0.25 | L38: 60 | M38: 6 | N38: =$K$38*L38*M38 -> 90 | O38: kg
C39: 13.4 | J39: 1/4 | K39: 0.248 | L39: 110 | M39: 0.4 | N39: =$K$39*L39*M39 -> 10.912
C40: 15 | J40: 3/8 | K40: 0.56 | L40: 139 | M40: 2.7 | N40: =$K$40*L40*M40 -> 210.168
...

Sheet 1. APU PRELIMINARES
A1: INDICE
A3: RENOVACIÓN DEL PARQUE PRINCIPAL DEL MUNICIPIO DE COPACABANA - ANTIQUIA
E4: ANÁLISIS DE PRECIOS UNITARIOS
A7: CAPITULO: PROVISIONALES | G7: ESPECIFICACIÓN: 1.1.1
A8: ITEM: Demolición, cargue y disposición final de carpeta asfaltica e=12 cm. | G8: UNIDAD: m3
A10: I. EQUIPO
A11: Descripción | D11: Tipo | E11: Tarifa/Hora | F11: Rendimiento | G11: Valor-Unit.
A12: HERRAMIENTA MENOR (5%MO) | G12: =ROUND(H38*0.05,0) -> 1215
A13: CORTE DE PISO Y/O PAVIMENTO HASTA 6 CM DE PROFUNDIDAD | E13: 7200 | F13: =4*2+2*2 -> 12 | G13: =E13*F13 -> 86400
A14: COMPRESOR NEUMÁTICO CON MARTILLO DEMOLEDOR O PERFORADOR EN SUPERFICIE, PUNTA, COMBUSTIBLE Y OPERADOR. | E14: 78500 | F14: 1 | G14: =E14*F14 -> 78500
G15: Sub-Total | H15: =SUM(G12:G14) -> 166115
A16: II. MATERIALES EN OBRA
A17: Descripción | D17: Unidad | E17: Precio-Unit. | F17: Cantidad | G17: Valor-Unit.
G18: =E18*F18 -> 0
G19: =F19*E19 -> 0
G20: =F20*E20 -> 0
G21: =SUM(G18:G20)*C21 -> 0
G24: Sub-Total | H24: =SUM(G18:G23) -> 0
A25: III. TRANSPORTES
A26: Material | C26: Vol. Peso ó Cant. | D26: Distancia | E26: M3-Km | F26: Tarifa | G26: Valor-Unit.
A27: CARGUE, TRANSP. Y BOTADA CON PALEROS | C27: 1.4 | F27: 35000 | G27: =+C27*F27 -> 49000
G30: Sub-Total | H30: =SUM(G27:G29) -> 49000
A31: IV. MANO DE OBRA
A32: Trabajador | C32: Jornal | D32: Prestaciones | E32: Jornal Total | F32: Rendimiento | G32: Valor-Unit.
A33: AYUDANTE | C33: =PERSONAL!$E$31 -> 48800 | D33: =PERSONAL!$F$31 -> 1.7431 | E33: =+D33*C33 -> 85063.28 | F33: 3.5 | G33: =ROUND(E33/F33,0) -> 24304
G38: Sub-Total | H38: =SUM(G33:G37) -> 24304
E40: Total Costo Directo | H40: =H15+H24+H30+H38 -> 239419
A41: V. COSTOS INDIRECTOS
A42: Descripción | F42: Porcentaje | G42: Valor Total
A43: ADMINISTRACION | F43: =PRESUPUESTO!$E$222 -> 0.109 | G43: =+F43*H40 -> 26096.671
A44: UTILIDAD | F44: =PRESUPUESTO!$E$223 -> 0.05 | G44: =+F44*H40 -> 11970.95
G45: Sub-Total | H45: =SUM(G43:G44) -> 38067.621
D47: Precio unitario total aproximado al peso | H47: =ROUND((H40+H45),0) -> 277487
A49: INDICE
A51: RENOVACIÓN DEL PARQUE PRINCIPAL DEL MUNICIPIO DE COPACABANA - ANTIQUIA
E52: ANÁLISIS DE PRECIOS UNITARIOS
A55: CAPITULO: PROVISIONALES | G55: ESPECIFICACIÓN: 1.1.2
A56: ITEM: Demolición, cargue y disposición final de concreto existente. | G56: UNIDAD: m3
A58: I. EQUIPO
A59: Descripción | D59: Tipo | E59: Tarifa/Hora | F59: Rendimiento | G59: Valor-Unit.
...

Sheet 2. APU EXCAVACIONES
A1: INDICE
A3: RENOVACIÓN DEL PARQUE PRINCIPAL DEL MUNICIPIO DE COPACABANA - ANTIQUIA
E4: ANÁLISIS DE PRECIOS UNITARIOS
A7: CAPITULO: EXCAVACIONES | G7: ESPECIFICACIÓN: 2.1.1
A8: ITEM: Excavación pilotes L=4 m | G8: UNIDAD: ml
A10: I. EQUIPO
A11: Descripción | D11: Tipo | E11: Tarifa/Hora | F11: Rendimiento | G11: Valor-Unit.
A12: HERRAMIENTA MENOR (5%MO) | G12: =ROUND(H37*0.05,0) -> 2013
G13: =E13*F13 -> 0
G14: =E14*F14 -> 0
G15: Sub-Total | H15: =SUM(G12:G14) -> 2013
A16: II. MATERIALES EN OBRA
A17: Descripción | D17: Unidad | E17: Precio-Unit. | F17: Cantidad | G17: Valor-Unit.
G18: =E18*F18 -> 0
G19: =F19*E19 -> 0
G20: =F20*E20 -> 0
A21: DESPERDICIO | C21: 0.05 | G21: =SUM(G18:G20)*C21 -> 0
G24: Sub-Total | H24: =SUM(G18:G23) -> 0
A25: III. TRANSPORTES
A26: Material | D26: Unidad | E26: Precio-Unit. | F26: Cantidad | G26: Valor-Unit.
A27: TRASIEGO | D27: ML | E27: 1000 | F27: 1 | G27: =E27*F27 -> 1000
G29: Sub-Total | H29: =SUM(G27:G28) -> 1000
A30: IV. MANO DE OBRA
A31: Trabajador | C31: Jornal | D31: Prestaciones | E31: Jornal Total | F31: Rendimiento | G31: Valor-Unit.
A32: AYUDANTE | C32: =PERSONAL!$E$31 -> 48800 | D32: =PERSONAL!$F$31 -> 1.7431 | E32: =+D32*C32 -> 85063.28 | F32: 4 | G32: =ROUND(E32/F32,0) -> 21266
A33: OFICIAL | C33: =PERSONAL!$E$32 -> 87200 | D33: =PERSONAL!$F$31 -> 1.7431 | E33: =+D33*C33 -> 151998.32 | F33: =+F32*2 -> 8 | G33: =ROUND(E33/F33,0) -> 19000
G37: Sub-Total | H37: =SUM(G32:G36) -> 40266
E39: Total Costo Directo | H39: =H15+H24+H29+H37 -> 43279
A40: V. COSTOS INDIRECTOS
A41: Descripción | F41: Porcentaje | G41: Valor Total
A42: ADMINISTRACION | F42: =PRESUPUESTO!$E$222 -> 0.109 | G42: =+F42*H39 -> 4717.411
A43: UTILIDAD | F43: =PRESUPUESTO!$E$223 -> 0.05 | G43: =+F43*H39 -> 2163.95
G44: Sub-Total | H44: =SUM(G42:G43) -> 6881.361
D46: Precio unitario total aproximado al peso | H46: =ROUND((H39+H44),0) -> 50160
A48: INDICE
A50: RENOVACIÓN DEL PARQUE PRINCIPAL DEL MUNICIPIO DE COPACABANA - ANTIQUIA
E51: ANÁLISIS DE PRECIOS UNITARIOS
A54: CAPITULO: EXCAVACIONES | G54: ESPECIFICACIÓN: 2.1.2
A55: ITEM: Excavación pilotes L=2 m | G55: UNIDAD: ml
A57: I. EQUIPO
...

Sheet 3. APU CONCRETOS
A1: INDICE
A3: RENOVACIÓN DEL PARQUE PRINCIPAL DEL MUNICIPIO DE COPACABANA - ANTIQUIA
E4: ANÁLISIS DE PRECIOS UNITARIOS
A7: CAPITULO: | B7: =+PRESUPUESTO!$B$40 -> CONCRETOS | G7: ESPECIFICACIÓN: | H7: 3.1.1.1
A8: ITEM: | B8: =VLOOKUP(H7,PRESUPUESTO!$A$18:$F$251,2,FALSE) -> Pilotes d=30 cm, L=4 m. | G8: UNIDAD | H8: =VLOOKUP(H7,PRESUPUESTO!$A$18:$F$251,3,FALSE) -> m3
A10: I. EQUIPO
A11: Descripción | D11: Tipo | E11: Tarifa/Hora | F11: Rendimiento | G11: Valor-Unit.
A12: HERRAMIENTA MENOR (5%MO) | G12: =ROUND(H37*0.05,0) -> 9118
A13: VIBRADOR | D13: DIA | E13: =MATERIALES!$C$9 -> 35000 | F13: 0.5 | G13: =E13*F13 -> 17500
G14: =E14*F14 -> 0
G15: Sub-Total | H15: =SUM(G12:G14) -> 26618
A16: II. MATERIALES EN OBRA
A17: Descripción | D17: Unidad | E17: Precio-Unit. | F17: Cantidad | G17: Valor-Unit.
A18: CONCRETO 21 Mpa | D18: M3 | E18: =APA!$H$176 -> 561165.64 | F18: 1 | G18: =E18*F18 -> 561165.64
G19: =F19*E19 -> 0
A20: DESPERDICIO | C20: 0.05 | G20: =SUM(G17:G19)*C20 -> 28058.282
G24: Sub-Total | H24: =SUM(G18:G23) -> 589223.93
A25: III. TRANSPORTES
A26: Material | D26: Unidad | E26: Precio-Unit. | F26: Cantidad | G26: Valor-Unit.
A27: TRASIEGO | D27: M3 | E27: 28350 | F27: 1 | G27: =E27*F27 -> 28350
G29: Sub-Total | H29: =SUM(G27:G28) -> 28350
A30: IV. MANO DE OBRA
A31: Trabajador | C31: Jornal | D31: Prestaciones | E31: Jornal Total | F31: Rendimiento | G31: Valor-Unit.
A32: AYUDANTE | B32: 1 | C32: =PERSONAL!$E$31 -> 48800 | D32: =PERSONAL!$F$31 -> 1.7431 | E32: =+D32*C32*B32 -> 85063.28 | F32: 1.3 | G32: =ROUND(E32/F32,0) -> 65433
A33: OFICIAL | B33: 1 | C33: =PERSONAL!$E$32 -> 87200 | D33: =PERSONAL!$F$31 -> 1.7431 | E33: =+D33*C33*B33 -> 151998.32 | F33: =+F32 -> 1.3 | G33: =ROUND(E33/F33,0) -> 116922
G37: Sub-Total | H37: =SUM(G32:G36) -> 182355
E39: Total Costo Directo | H39: =H15+H24+H29+H37 -> 826546.93
A40: V. COSTOS INDIRECTOS
A41: Descripción | F41: Porcentaje | G41: Valor Total
A42: ADMINISTRACION | F42: =PRESUPUESTO!$E$222 -> 0.109 | G42: =+F42*H39 -> 90093.615
A43: UTILIDAD | F43: =PRESUPUESTO!$E$223 -> 0.05 | G43: =+F43*H39 -> 41327.346
G44: Sub-Total | H44: =SUM(G42:G43) -> 131420.96
D46: Precio unitario total aproximado al peso | H46: =ROUND((H39+H44),0) -> 957968
A48: INDICE
A50: RENOVACIÓN DEL PARQUE PRINCIPAL DEL MUNICIPIO DE COPACABANA - ANTIQUIA
E51: ANÁLISIS DE PRECIOS UNITARIOS
A54: CAPITULO: | B54: =+PRESUPUESTO!$B$40 -> CONCRETOS | G54: ESPECIFICACIÓN: | H54: 3.1.1.2
A55: ITEM: | B55: =VLOOKUP(H54,PRESUPUESTO!$A$18:$F$251,2,FALSE) -> Vigas de fundación 35x35 cm. | G55: UNIDAD | H55: =VLOOKUP(H54,PRESUPUESTO!$A$18:$F$251,3,FALSE) -> m3
A57: I. EQUIPO
A58: Descripción | D58: Tipo | E58: Tarifa/Hora | F58: Rendimiento | G58: Valor-Unit.
...

Sheet 4. APU ACEROS
A1: INDICE
A3: RENOVACIÓN DEL PARQUE PRINCIPAL DEL MUNICIPIO DE COPACABANA - ANTIQUIA
E4: ANÁLISIS DE PRECIOS UNITARIOS
A7: CAPITULO: | B7: =+PRESUPUESTO!$B$56 -> ACEROS | G7: ESPECIFICACIÓN: | H7: =+PRESUPUESTO!$A$58 -> 4.1.1
A8: ITEM: | B8: =VLOOKUP(H7,PRESUPUESTO!$A$18:$F$251,2,FALSE) -> Suministro, transporte e instalación de acero de refuerzo figurado FY= 420 Mpa-60000 PSI, corrugado. Incluye transporte con descarga, transporte interno, alambre de amarre, certificados y todos los elementos necesarios para su correcta instalación, según diseño y recomendaciones estructurales. | G8: UNIDAD | H8: =VLOOKUP(H7,PRESUPUESTO!$A$18:$F$251,3,FALSE) -> kg
A10: I. EQUIPO
A11: Descripción | D11: Tipo | E11: Tarifa/Hora | F11: Rendimiento | G11: Valor-Unit.
A12: HERRAMIENTA MENOR (5%MO) | G12: =ROUND(H37*0.05,0) -> 79
A13: CIZALLA | D13: DIA | E13: =MATERIALES!$C$7 -> 12500 | F13: =1/F32/3 -> 0.0022222222 | G13: =E13*F13 -> 27.777778
A14: PULIDORA | D14: DIA | E14: =MATERIALES!$C$8 -> 32500 | F14: =1/F32/3 -> 0.0022222222 | G14: =E14*F14 -> 72.222222
G15: Sub-Total | H15: =SUM(G12:G14) -> 179
A16: II. MATERIALES EN OBRA
A17: Descripción | D17: Unidad | E17: Precio-Unit. | F17: Cantidad | G17: Valor-Unit.
A18: ACERO DE REFUERZO FY=420 Mpa | D18: KG | E18: =MATERIALES!$C$17 -> 5474 | F18: 1 | G18: =E18*F18 -> 5474
A19: ALAMBRE QUEMADO | D19: KG | E19: =MATERIALES!$C$18 -> 6307 | F19: =F18*0.03 -> 0.03 | G19: =F19*E19 -> 189.21
A20: DESPERDICIO | C20: 0.05 | G20: =SUM(G17:G19)*C20 -> 283.1605
G24: Sub-Total | H24: =SUM(G18:G23) -> 5946.3705
A25: III. TRANSPORTES
A26: Material | D26: Unidad | E26: Precio-Unit. | F26: Cantidad | G26: Valor-Unit.
A27: TRASIEGO | D27: KG | E27: 100 | F27: 1 | G27: =E27*F27 -> 100
G29: Sub-Total | H29: =SUM(G27:G28) -> 100
A30: IV. MANO DE OBRA
A31: Trabajador | C31: Jornal | D31: Prestaciones | E31: Jornal Total | F31: Rendimiento | G31: Valor-Unit.
A32: AYUDANTE | C32: =PERSONAL!$E$31 -> 48800 | D32: =PERSONAL!$F$31 -> 1.7431 | E32: =+D32*C32 -> 85063.28 | F32: 150 | G32: =ROUND(E32/F32,0) -> 567
A33: OFICIAL | C33: =PERSONAL!$E$32 -> 87200 | D33: =PERSONAL!$F$31 -> 1.7431 | E33: =+D33*C33 -> 151998.32 | F33: =+F32 -> 150 | G33: =ROUND(E33/F33,0) -> 1013
G37: Sub-Total | H37: =SUM(G32:G36) -> 1580
E39: Total Costo Directo | H39: =H15+H24+H29+H37 -> 7805.3705
A40: V. COSTOS INDIRECTOS
A41: Descripción | F41: Porcentaje | G41: Valor Total
A42: ADMINISTRACION | F42: =PRESUPUESTO!$E$222 -> 0.109 | G42: =+F42*H39 -> 850.78538
A43: UTILIDAD | F43: =PRESUPUESTO!$E$223 -> 0.05 | G43: =+F43*H39 -> 390.26853
G44: Sub-Total | H44: =SUM(G42:G43) -> 1241.0539
D46: Precio unitario total aproximado al peso | H46: =ROUND((H39+H44),0) -> 9046
A48: INDICE
A50: RENOVACIÓN DEL PARQUE PRINCIPAL DEL MUNICIPIO DE COPACABANA - ANTIQUIA
E51: ANÁLISIS DE PRECIOS UNITARIOS
A54: CAPITULO: | B54: =+PRESUPUESTO!$B$56 -> ACEROS | G54: ESPECIFICACIÓN: | H54: =+PRESUPUESTO!$A$59 -> 4.1.2
A55: ITEM: | B55: =VLOOKUP(H54,PRESUPUESTO!$A$18:$F$251,2,FALSE) -> Suministro, transporte e instalación de pasadores en acero liso de 1 1/4" separados 30 cm, L=45 cm FY=280 Mpa | G55: UNIDAD | H55: =VLOOKUP(H54,PRESUPUESTO!$A$18:$F$251,3,FALSE) -> un
A57: I. EQUIPO
A58: Descripción | D58: Tipo | E58: Tarifa/Hora | F58: Rendimiento | G58: Valor-Unit.
...

Sheet 5. APU MAMPOSTERIA
A1: INDICE
A3: RENOVACIÓN DEL PARQUE PRINCIPAL DEL MUNICIPIO DE COPACABANA - ANTIQUIA
E4: ANÁLISIS DE PRECIOS UNITARIOS
A7: CAPITULO: | B7: =+PRESUPUESTO!$B$64 -> MAMPOSTERIA | G7: ESPECIFICACIÓN: | H7: 5.1.1
A8: ITEM: | B8: =VLOOKUP(H7,PRESUPUESTO!$A$18:$F$251,2,FALSE) -> Suministro e instalación de muro en ladrillo portante 306x12 capuchino PH S2 para locales, para revocar una cara. Incluye el mortero de pega 1:4 espesor max=0.01 m y todos los demás elementos necesarios para su correcta construcción y funcionamiento. | G8: UNIDAD | H8: =VLOOKUP(H7,PRESUPUESTO!$A$18:$F$251,3,FALSE) -> m2
A10: I. EQUIPO
A11: Descripción | D11: Tipo | E11: Tarifa/Hora | F11: Rendimiento | G11: Valor-Unit.
A12: HERRAMIENTA MENOR (5%MO) | G12: =ROUND(H37*0.05,0) -> 2371
A13: ANDAMIOS | D13: DIA | E13: 16707 | F13: 0.2 | G13: =E13*F13 -> 3341.4
A14: CORTADORA | D14: DIA | E14: =41000*1.19 -> 48790 | F14: 0.2 | G14: =E14*F14 -> 9758
G15: Sub-Total | H15: =SUM(G12:G14) -> 15470.4
A16: II. MATERIALES EN OBRA
A17: Descripción | D17: Unidad | E17: Precio-Unit. | F17: Cantidad | G17: Valor-Unit.
A18: LADRILLO PORTANTE 306X12, Incluye transp | D18: UN/M2 | E18: 3250 | F18: 48 | G18: =ROUND(F18*E18,0) -> 156000
A19: MORTERO PEGA | D19: M3/M2 | E19: =APA!$H$38 -> 515738.39 | F19: =((1/0.06)*0.12*1+(1/0.29)*0.12)*0.015 -> 0.036206897 | G19: =ROUND(F19*E19,0) -> 18673
A20: MATERIAL DE CONSUMO | D20: UN | E20: 5000 | F20: 1 | G20: =ROUND(F20*E20,0) -> 5000
A21: DESPERDICIO | C21: 0.05 | G21: =SUM(G18:G20)*C21 -> 8983.65
G24: Sub-Total | H24: =SUM(G18:G23) -> 188656.65
A25: III. TRANSPORTES
A26: Material | D26: Unidad | E26: Precio-Unit. | F26: Cantidad | G26: Valor-Unit.
A27: TRANSPORTE EXTERNO DE INSUMOS | D27: VAIEJ | E27: 165000 | F27: =(1/2500)*2.7*F18 -> 0.05184 | G27: =+E27*F27 -> 8553.6
A28: TRASIEGO | D28: UN/M2 | E28: 80 | F28: =+F18 -> 48 | G28: =+F28*E28 -> 3840
G29: Sub-Total | H29: =SUM(G27:G28) -> 12393.6
A30: IV. MANO DE OBRA
A31: Trabajador | C31: Jornal | D31: Prestaciones | E31: Jornal Total | F31: Rendimiento | G31: Valor-Unit.
A32: AYUDANTE | C32: =PERSONAL!$E$31 -> 48800 | D32: =PERSONAL!$F$31 -> 1.7431 | E32: =+D32*C32 -> 85063.28 | F32: 5 | G32: =ROUND(E32/F32,0) -> 17013
A33: OFICIAL | C33: =PERSONAL!$E$32 -> 87200 | D33: =PERSONAL!$F$31 -> 1.7431 | E33: =+D33*C33 -> 151998.32 | F33: 5 | G33: =ROUND(E33/F33,0) -> 30400
G37: Sub-Total | H37: =SUM(G32:G36) -> 47413
E39: Total Costo Directo | H39: =H15+H24+H29+H37 -> 263933.65
A40: V. COSTOS INDIRECTOS
A41: Descripción | F41: Porcentaje | G41: Valor Total
A42: ADMINISTRACION | F42: =PRESUPUESTO!$E$222 -> 0.109 | G42: =+F42*H39 -> 28768.768
A43: UTILIDAD | F43: =PRESUPUESTO!$E$223 -> 0.05 | G43: =+F43*H39 -> 13196.683
G44: Sub-Total | H44: =SUM(G42:G43) -> 41965.45
D46: Precio unitario total aproximado al peso | H46: =ROUND((H39+H44),0) -> 305899
A48: INDICE
A50: RENOVACIÓN DEL PARQUE PRINCIPAL DEL MUNICIPIO DE COPACABANA - ANTIQUIA
E51: ANÁLISIS DE PRECIOS UNITARIOS
A54: CAPITULO: | B54: =+PRESUPUESTO!$B$64 -> MAMPOSTERIA | G54: ESPECIFICACIÓN: | H54: 5.1.2
A55: ITEM: | B55: =VLOOKUP(H54,PRESUPUESTO!$A$18:$F$251,2,FALSE) -> Suministro e instalación muro adobe de 10 de 6 huecos para locales. Incluye el mortero de pega 1:4 espesor max=0.01 m y todos los demás elementos necesarios para su correcta construcción y funcionamiento. | G55: UNIDAD | H55: =VLOOKUP(H54,PRESUPUESTO!$A$18:$F$251,3,FALSE) -> m2
...

Sheet 6. APU ELECTRICOS
A1: INDICE
A3: RENOVACIÓN DEL PARQUE PRINCIPAL DEL MUNICIPIO DE COPACABANA - ANTIQUIA
E4: ANÁLISIS DE PRECIOS UNITARIOS
A7: CAPITULO: | B7: =+PRESUPUESTO!$B$70 -> INSTALACIONES ELÉCTRICAS | G7: ESPECIFICACIÓN: | H7: 6.1.1
A8: ITEM: | B8: =VLOOKUP(H7,PRESUPUESTO!$A$18:$F$251,2,FALSE) -> Suministro, transporte e instalación de cable concentrico antifraude 2No8+1No8 AWG-XLPE, canalizado con sus accesorios de montaje, y demás elementos necesarios para su correcta instalación. | G8: UNIDAD | H8: =VLOOKUP(H7,PRESUPUESTO!$A$18:$F$251,3,FALSE) -> ml
A10: I. EQUIPO
A11: Descripción | D11: Tipo | E11: Tarifa/Hora | F11: Rendimiento | G11: Valor-Unit.
A12: HERRAMIENTA MENOR | D12: UN | E12: 1000 | F12: 1 | G12: =E12*F12 -> 1000
A13: ANDAMIOS | D13: DIA | E13: =MATERIALES!$C$4 -> 14500 | F13: =2/F32 -> 0.16666667 | G13: =E13*F13 -> 2416.6667
G14: =E14*F14 -> 0
G15: Sub-Total | H15: =SUM(G12:G14) -> 3416.6667
A16: II. MATERIALES EN OBRA
A17: Descripción | D17: Unidad | E17: Precio-Unit. | F17: Cantidad | G17: Valor-Unit.
A18: CABLE CONCENTRICO ANTIFRAUDE 2NO8+1NO8 AWG-XLP | D18: ML | E18: =28121*1.19 -> 33463.99 | F18: 1.05 | G18: =E18*F18 -> 35137.19
G19: =F19*E19 -> 0
G20: =SUM(G17:G19)*C20 -> 0
G24: Sub-Total | H24: =SUM(G18:G23) -> 35137.19
A25: III. TRANSPORTES
A26: Material | D26: Unidad | E26: Precio-Unit. | F26: Cantidad | G26: Valor-Unit.
A27: TRASIEGO | D27: ML | E27: 4200 | F27: 1 | G27: =E27*F27 -> 4200
G29: Sub-Total | H29: =SUM(G27:G28) -> 4200
A30: IV. MANO DE OBRA
A31: Trabajador | C31: Jornal | D31: Prestaciones | E31: Jornal Total | F31: Rendimiento | G31: Valor-Unit.
A32: OFICIAL | C32: =PERSONAL!$E$32 -> 87200 | D32: =PERSONAL!$F$31 -> 1.7431 | E32: =+D32*C32 -> 151998.32 | F32: 12 | G32: =ROUND(E32/F32,0) -> 12667
G37: Sub-Total | H37: =SUM(G32:G36) -> 12667
E39: Total Costo Directo | H39: =H15+H24+H29+H37 -> 55420.856
A40: V. COSTOS INDIRECTOS
A41: Descripción | F41: Porcentaje | G41: Valor Total
A42: ADMINISTRACION | F42: =PRESUPUESTO!$E$222 -> 0.109 | G42: =+F42*H39 -> 6040.8733
A43: IMPREVISTOS | F43: =PRESUPUESTO!$E$223 -> 0.05 | G43: =+F43*H39 -> 2771.0428
A44: UTILIDAD | F44: 0 | G44: =+F44*H39 -> 0
G45: Sub-Total | H45: =SUM(G42:G44) -> 8811.9161
D47: Precio unitario total aproximado al peso | H47: =ROUND((H39+H45),0) -> 64233
A49: INDICE
A51: RENOVACIÓN DEL PARQUE PRINCIPAL DEL MUNICIPIO DE COPACABANA - ANTIQUIA
E52: ANÁLISIS DE PRECIOS UNITARIOS
A55: CAPITULO: | B55: =+PRESUPUESTO!$B$70 -> INSTALACIONES ELÉCTRICAS | G55: ESPECIFICACIÓN: | H55: 6.1.2
A56: ITEM: | B56: =VLOOKUP(H55,PRESUPUESTO!$A$18:$F$251,2,FALSE) -> Suministro, Transporte e Instalación de Bajante metálico galvanizado pesado IMC de 1-1/2". | G56: UNIDAD | H56: =VLOOKUP(H55,PRESUPUESTO!$A$18:$F$251,3,FALSE) -> ml
A58: I. EQUIPO
A59: Descripción | D59: Tipo | E59: Tarifa/Hora | F59: Rendimiento | G59: Valor-Unit.
...

Sheet 7. APU HIDROSANITARIO
A2: RENOVACIÓN DEL PARQUE PRINCIPAL DEL MUNICIPIO DE COPACABANA - ANTIQUIA
E3: ANÁLISIS DE PRECIOS UNITARIOS
A6: CAPITULO: INSTALACIONES HIDROSANITARIAS | G6: ESPECIFICACIÓN: | H6: 7.1.1
A7: ITEM: | B7: =VLOOKUP(H6,PRESUPUESTO!$A$18:$F$251,2,FALSE) -> Excavación manual o mecánica 0 - 2 m, bajo cualquier grado de humedad. Incluye: roca descompuesta, bolas de roca de volumen inferior a 0.35 m³., No incluye: El cargue, transporte interno y externo y botada de material proveniente de las excavaciones y su medida será en el sitio y el entibado se pagará en su ítem correspondiente. | G7: UNIDAD | H7: =VLOOKUP(H6,PRESUPUESTO!$A$18:$F$251,3,FALSE) -> m3
A9: I. EQUIPO
A10: Descripción | D10: Tipo | E10: Tarifa/Hora | F10: Rendimiento | G10: Valor-Unit.
A11: HERRAMIENTA MENOR (5%MO) | G11: =ROUND(H36*0.05,0) -> 925
A12: RETROEXCAVADORA | D12: HR | E12: =110000*1.19 -> 130900 | F12: 4.6 | G12: =E12/F12 -> 28456.522
G14: Sub-Total | H14: =SUM(G11:G13) -> 29381.522
A15: II. MATERIALES EN OBRA
A16: Descripción | D16: Unidad | E16: Precio-Unit. | F16: Cantidad | G16: Valor-Unit.
G17: =SUM(G14:G16)*C17 -> 0
G18: =SUM(G15:G17)*C18 -> 0
G19: =SUM(G16:G18)*C19 -> 0
G20: =SUM(G17:G19)*C20 -> 0
G23: Sub-Total | H23: =SUM(G17:G22) -> 0
A24: III. TRANSPORTES
A25: Material | D25: Unidad | E25: Precio-Unit. | F25: Cantidad | G25: Valor-Unit.
G26: =+F26*C26 -> 0
G27: =+F27*E27 -> 0
G28: Sub-Total | H28: =SUM(G26:G27) -> 0
A29: IV. MANO DE OBRA
A30: Trabajador | C30: Jornal | D30: Prestaciones | E30: Jornal Total | F30: Rendimiento | G30: Valor-Unit.
A31: AYUDANTE | B31: 2 | C31: =PERSONAL!$E$31 -> 48800 | D31: =PERSONAL!$F$31 -> 1.7431 | E31: =+D31*C31*B31 -> 170126.56 | F31: =+F12*2 -> 9.2 | G31: =ROUND(E31/F31,0) -> 18492
G36: Sub-Total | H36: =SUM(G31:G35) -> 18492
E38: Total Costo Directo | H38: =H14+H23+H28+H36 -> 47873.522
A40: RENOVACIÓN DEL PARQUE PRINCIPAL DEL MUNICIPIO DE COPACABANA - ANTIQUIA
E41: ANÁLISIS DE PRECIOS UNITARIOS
A44: CAPITULO: INSTALACIONES HIDROSANITARIAS | G44: ESPECIFICACIÓN: | H44: 7.1.2
A45: ITEM: | B45: =VLOOKUP(H44,PRESUPUESTO!$A$18:$F$251,2,FALSE) -> Excavación manual o mecánica 2 - 4 m, bajo cualquier grado de humedad. Incluye: roca descompuesta, bolas de roca de volumen inferior a 0.35 m³., No incluye: El cargue, transporte interno y externo y botada de material proveniente de las excavaciones y su medida será en el sitio y el entibado se pagará en su ítem correspondiente. | G45: UNIDAD | H45: =VLOOKUP(H44,PRESUPUESTO!$A$18:$F$251,3,FALSE) -> m3
A47: I. EQUIPO
A48: Descripción | D48: Tipo | E48: Tarifa/Hora | F48: Rendimiento | G48: Valor-Unit.
A49: HERRAMIENTA MENOR (5%MO) | G49: =ROUND(H74*0.05,0) -> 1119
A50: RETROEXCAVADORA | D50: HR | E50: =110000*1.19 -> 130900 | F50: 3.8 | G50: =E50/F50 -> 34447.368
G52: Sub-Total | H52: =SUM(G49:G51) -> 35566.368
A53: II. MATERIALES EN OBRA
A54: Descripción | D54: Unidad | E54: Precio-Unit. | F54: Cantidad | G54: Valor-Unit.
G55: =SUM(G52:G54)*C55 -> 0
G56: =SUM(G53:G55)*C56 -> 0
G57: =SUM(G54:G56)*C57 -> 0
...

Sheet 8. APU CUBIERTAS
A1: INDICE
A3: RENOVACIÓN DEL PARQUE PRINCIPAL DEL MUNICIPIO DE COPACABANA - ANTIQUIA
E4: ANÁLISIS DE PRECIOS UNITARIOS
A7: CAPITULO: | B7: =+PRESUPUESTO!$B$145 -> CUBIERTA Y CIELOS FALSOS | G7: ESPECIFICACIÓN: | H7: =+PRESUPUESTO!$A$147 -> 8.1.1
A8: ITEM: | B8: =VLOOKUP(H7,PRESUPUESTO!$A$18:$F$251,2,FALSE) -> Suministro e instalación de estructura metalica según diseño estructural acabada con pintura electrostatica, negro mate. Para locales comerciales. Incluye: suministro y transporte de láminas, platinas, uniones, soldaduras de acabado o presentación, anclajes y pernos a estructura de concreto y madera. Todos los elementos deben llevar dos manos de pintura anticorrosiva, (2) dos manos de esmalte base aceite mate, color por definir, ensayos a soldaduras, anticorrosivos y pinturas, obra falsa y todo el equipo y la herramienta necesaria para el montaje. | G8: UNIDAD | H8: =VLOOKUP(H7,PRESUPUESTO!$A$18:$F$251,3,FALSE) -> kg
A10: I. EQUIPO
A11: Descripción | D11: Tipo | E11: Tarifa/Hora | F11: Rendimiento | G11: Valor-Unit.
A12: HERRAMIENTA MENOR (5%MO) | G12: =ROUND(H37*0.05,0) -> 125
A13: ANDAMIOS | D13: M2 | E13: 13000 | F13: 0.3 | G13: =E13*F13 -> 3900
G15: Sub-Total | H15: =SUM(G12:G14) -> 4025
A16: II. MATERIALES EN OBRA
A17: Descripción | D17: Unidad | E17: Precio-Unit. | F17: Cantidad | G17: Valor-Unit.
A18: ESTRUCTURA METALICA, Inc pintura | D18: KG | E18: 13200 | F18: 1 | G18: =E18*F18 -> 13200
A20: DESPERDICIO | C20: 0 | G20: =SUM(G17:G19)*C20 -> 0
G24: Sub-Total | H24: =SUM(G18:G23) -> 13200
A25: III. TRANSPORTES
A26: Material | D26: Unidad | E26: Precio-Unit. | F26: Cantidad | G26: Valor-Unit.
D27: 1 | E27: 200 | F27: 1 | G27: =+F27*E27 -> 200
G29: Sub-Total | H29: =SUM(G27:G28) -> 200
A30: IV. MANO DE OBRA
A31: Trabajador | C31: Jornal | D31: Prestaciones | E31: Jornal Total | F31: Rendimiento | G31: Valor-Unit.
G32: 2500
G37: Sub-Total | H37: =SUM(G32:G36) -> 2500
E39: Total Costo Directo | H39: =H15+H24+H29+H37 -> 19925
A40: V. COSTOS INDIRECTOS
A41: Descripción | F41: Porcentaje | G41: Valor Total
A42: ADMINISTRACION | F42: =PRESUPUESTO!$E$222 -> 0.109 | G42: =+F42*H39 -> 2171.825
A43: IMPREVISTOS | F43: =PRESUPUESTO!$E$223 -> 0.05 | G43: =+F43*H39 -> 996.25
A44: UTILIDAD | F44: 0 | G44: =+F44*H39 -> 0
G45: Sub-Total | H45: =SUM(G42:G44) -> 3168.075
D47: Precio unitario total aproximado al peso | H47: =ROUND((H39+H45),0) -> 23093
A49: INDICE
A51: RENOVACIÓN DEL PARQUE PRINCIPAL DEL MUNICIPIO DE COPACABANA - ANTIQUIA
E52: ANÁLISIS DE PRECIOS UNITARIOS
A55: CAPITULO: | B55: =+PRESUPUESTO!$B$145 -> CUBIERTA Y CIELOS FALSOS | G55: ESPECIFICACIÓN: | H55: =+PRESUPUESTO!$A$148 -> 8.1.2
A56: ITEM: | B56: =VLOOKUP(H55,PRESUPUESTO!$A$18:$F$251,2,FALSE) -> Suministro e instalación de estructura metalica según diseño estructural acabada con pintura electrostatica, en diferentes colores para sombrillas. Incluye: suministro y transporte de láminas, platinas, uniones, soldaduras de acabado o presentación, anclajes y pernos a estructura de concreto y madera. Todos los elementos deben llevar dos manos de pintura anticorrosiva, (2) dos manos de esmalte base aceite mate, color por definir, ensayos a soldaduras, anticorrosivos y pinturas, obra falsa y todo el equipo y la herramienta necesaria para el montaje. | G56: UNIDAD | H56: =VLOOKUP(H55,PRESUPUESTO!$A$18:$F$251,3,FALSE) -> kg
A58: I. EQUIPO
A59: Descripción | D59: Tipo | E59: Tarifa/Hora | F59: Rendimiento | G59: Valor-Unit.
A60: HERRAMIENTA MENOR (5%MO) | G60: =ROUND(H85*0.05,0) -> 0
A61: ANDAMIOS | D61: M2 | E61: 13000 | F61: 0.3 | G61: =E61*F61 -> 3900
...

Sheet 9. APU PISOS
A1: INDICE
A3: RENOVACIÓN DEL PARQUE PRINCIPAL DEL MUNICIPIO DE COPACABANA - ANTIQUIA
E4: ANÁLISIS DE PRECIOS UNITARIOS
A7: CAPITULO: | B7: =+PRESUPUESTO!$B$156 -> PISOS Y ENCHAPES | G7: ESPECIFICACIÓN: | H7: =+PRESUPUESTO!$A$158 -> 9.1.1
A8: ITEM: | B8: =VLOOKUP(H7,PRESUPUESTO!$A$18:$F$251,2,FALSE) -> Suministro e instalación de enchape de baldosa perlato pulido y sellado de 40x40x1 cm sobre la cara superior de banca en concreto, incluye pegacor con latex para exteriores y junta con polvillo color de acuerdo a la baldosa con separación de 2 mm. | G8: UNIDAD | H8: =VLOOKUP(H7,PRESUPUESTO!$A$18:$F$251,3,FALSE) -> m2
A11: I. EQUIPO
A12: Descripción | D12: Tipo | E12: Tarifa/Hora | F12: Rendimiento | G12: Valor-Unit.
A13: HERRAMIENTA MENOR (5%MO) | G13: =ROUND(H37*0.05,0) -> 1824
A14: CORTADORA | D14: DIA | E14: 41000 | F14: =1/F33 -> 0.15384615 | G14: =E14*F14 -> 6307.6923
G16: Sub-Total | H16: =SUM(G13:G15) -> 8131.6923
A17: II. MATERIALES EN OBRA
A18: Descripción | D18: Unidad | E18: Precio-Unit. | F18: Cantidad | G18: Valor-Unit.
A19: BALDOSA PERLATO | D19: M2 | E19: =123000*1.19 -> 146370 | F19: 1 | G19: =ROUND(F19*E19,0) -> 146370
A20: PEGACOR FLEX EXTERIOR | D20: KG/M2 | E20: 154900 | F20: =(1/25)*7 -> 0.28 | G20: =ROUND(F20*E20,0) -> 43372
A21: LECHADA | D21: KG/M2 | E21: =36900/2 -> 18450 | F21: 0.24 | G21: =ROUND(F21*E21,0) -> 4428 | I21: =36900/2 -> 18450 | J21: =+I21*0.41 -> 7564.5
A22: PULIDA Y SELLADA, incluye M.O | D22: M2 | E22: 32000 | F22: 1 | G22: =ROUND(F22*E22,0) -> 32000
A23: DESPERDICIO | C23: 0.05 | G23: =SUM(G19:G21)*C23 -> 9708.5
G25: Sub-Total | H25: =SUM(G19:G24) -> 235878.5
A26: III. TRANSPORTES
A27: Material | D27: Unidad | E27: Precio-Unit. | F27: Cantidad | G27: Valor-Unit.
A28: BALDOSA PERLATO | D28: M2 | E28: 2000 | F28: 1 | G28: =+F28*E28 -> 2000
A29: TRASIEGO | D29: M2 | E29: 14500 | F29: =1/5 -> 0.2 | G29: =+F29*E29 -> 2900
G30: Sub-Total | H30: =SUM(G28:G29) -> 4900 | I30: =+H30/H39 -> 0.017170017
A31: IV. MANO DE OBRA
A32: Trabajador | C32: Jornal | D32: Prestaciones | E32: Jornal Total | F32: Rendimiento | G32: Valor-Unit.
A33: AYUDANTE | C33: =PERSONAL!$E$31 -> 48800 | D33: =PERSONAL!$F$31 -> 1.7431 | E33: =+D33*C33 -> 85063.28 | F33: 6.5 | G33: =ROUND(E33/F33,0) -> 13087
A34: OFICIAL | C34: =PERSONAL!$E$32 -> 87200 | D34: =PERSONAL!$F$31 -> 1.7431 | E34: =+D34*C34 -> 151998.32 | F34: =+F33 -> 6.5 | G34: =ROUND(E34/F34,0) -> 23384
G37: Sub-Total | H37: =SUM(G33:G36) -> 36471
E39: Total Costo Directo | H39: =H16+H25+H30+H37 -> 285381.19
A40: V. COSTOS INDIRECTOS
A41: Descripción | F41: Porcentaje | G41: Valor Total
A42: ADMINISTRACION | F42: =PRESUPUESTO!$E$222 -> 0.109 | G42: =+F42*H39 -> 31106.55
A43: IMPREVISTOS | F43: =PRESUPUESTO!$E$223 -> 0.05 | G43: =+F43*H39 -> 14269.06
A44: UTILIDAD | F44: 0 | G44: =+F44*H39 -> 0
G45: Sub-Total | H45: =SUM(G42:G44) -> 45375.61
D47: Precio unitario total aproximado al peso | H47: =ROUND((H39+H45),0) -> 330757
A49: INDICE
A51: RENOVACIÓN DEL PARQUE PRINCIPAL DEL MUNICIPIO DE COPACABANA - ANTIQUIA
E52: ANÁLISIS DE PRECIOS UNITARIOS
A55: CAPITULO: | B55: =+PRESUPUESTO!$B$156 -> PISOS Y ENCHAPES | G55: ESPECIFICACIÓN: | H55: =+PRESUPUESTO!$A$159 -> 9.1.2
...

Sheet 10. APU PINTURA
A1: INDICE
A3: RENOVACIÓN DEL PARQUE PRINCIPAL DEL MUNICIPIO DE COPACABANA - ANTIQUIA
E4: ANÁLISIS DE PRECIOS UNITARIOS
A7: CAPITULO: | B7: =+PRESUPUESTO!$B$173 -> PINTURA Y REVOQUE | G7: ESPECIFICACIÓN: | H7: =+PRESUPUESTO!$A$175 -> 10.1.1
A8: ITEM: | B8: =VLOOKUP(H7,PRESUPUESTO!$A$18:$F$251,2,FALSE) -> Suministro e instalación de revoque en mortero 1:5 rustico sobre adobe de 10 de 6 huecos, incluye filetes y ranuradas requeridas. | G8: UNIDAD | H8: =VLOOKUP(H7,PRESUPUESTO!$A$18:$F$251,3,FALSE) -> m2
A10: I. EQUIPO
A11: Descripción | D11: Tipo | E11: Tarifa/Hora | F11: Rendimiento | G11: Valor-Unit.
A12: HERRAMIENTA MENOR (5%MO) | G12: =ROUND(H37*0.05,0) -> 1185
A13: ANDAMIOS | D13: M2 | E13: =MATERIALES!$C$4 -> 14500 | F13: 0.3 | G13: =E13*F13 -> 4350
G15: Sub-Total | H15: =SUM(G12:G14) -> 5535
A16: II. MATERIALES EN OBRA
A17: Descripción | D17: Unidad | E17: Precio-Unit. | F17: Cantidad | G17: Valor-Unit.
A18: MORTERO REVOQUE 1:5 | D18: M3/M2 | E18: =APA!H130 -> 490613.39 | F18: 0.03 | G18: =ROUND(F18*E18,0) -> 14718
A19: ADITIVOS PARA MORTEROS Sika®-1 Impermeabilizante integral para morteros y concretos 1 kg "1.5 Kg de Sika®-1 para un bulto de cemento de 50 Kg. 0.5 kg/m2" | D19: UN | E19: =43900 -> 43900 | F19: =(1/2)*1.5*7*F18 -> 0.1575 | G19: =ROUND(F19*E19,0) -> 6914
A20: DESPERDICIO | C20: 0.05 | G20: =SUM(G17:G19)*C20 -> 1081.6
G24: Sub-Total | H24: =SUM(G18:G23) -> 22713.6
A25: III. TRANSPORTES
A26: Material | D26: Unidad | E26: Precio-Unit. | F26: Cantidad | G26: Valor-Unit.
A28: TRASIEGO | D28: M2 | E28: 5400 | F28: 1 | G28: =+F28*E28 -> 5400
G29: Sub-Total | H29: =SUM(G27:G28) -> 5400
A30: IV. MANO DE OBRA
A31: Trabajador | C31: Jornal | D31: Prestaciones | E31: Jornal Total | F31: Rendimiento | G31: Valor-Unit.
A32: AYUDANTE | C32: =PERSONAL!$E$31 -> 48800 | D32: =PERSONAL!$F$31 -> 1.7431 | E32: =+D32*C32 -> 85063.28 | F32: 10 | G32: =ROUND(E32/F32,0) -> 8506
A33: OFICIAL | C33: =PERSONAL!$E$32 -> 87200 | D33: =PERSONAL!$F$31 -> 1.7431 | E33: =+D33*C33 -> 151998.32 | F33: 10 | G33: =ROUND(E33/F33,0) -> 15200
G37: Sub-Total | H37: =SUM(G32:G36) -> 23706
E39: Total Costo Directo | H39: =H15+H24+H29+H37 -> 57354.6
A40: V. COSTOS INDIRECTOS
A41: Descripción | F41: Porcentaje | G41: Valor Total
A42: ADMINISTRACION | F42: =PRESUPUESTO!$E$222 -> 0.109 | G42: =+F42*H39 -> 6251.6514
A43: IMPREVISTOS | F43: =PRESUPUESTO!$E$223 -> 0.05 | G43: =+F43*H39 -> 2867.73
A44: UTILIDAD | F44: 0 | G44: =+F44*H39 -> 0
G45: Sub-Total | H45: =SUM(G42:G44) -> 9119.3814
D47: Precio unitario total aproximado al peso | H47: =ROUND((H39+H45),0) -> 66474
A49: INDICE
A51: RENOVACIÓN DEL PARQUE PRINCIPAL DEL MUNICIPIO DE COPACABANA - ANTIQUIA
E52: ANÁLISIS DE PRECIOS UNITARIOS
A55: CAPITULO: | B55: =+PRESUPUESTO!$B$173 -> PINTURA Y REVOQUE | G55: ESPECIFICACIÓN: | H55: =+PRESUPUESTO!$A$177 -> 10.2.1
A56: ITEM: | B56: =VLOOKUP(H55,PRESUPUESTO!$A$18:$F$251,2,FALSE) -> Suministro y aplicación de estuco sobre revoque, incluye filetes y ranuradas requeridas. | G56: UNIDAD | H56: =VLOOKUP(H55,PRESUPUESTO!$A$18:$F$251,3,FALSE) -> m2
A58: I. EQUIPO
A59: Descripción | D59: Tipo | E59: Tarifa/Hora | F59: Rendimiento | G59: Valor-Unit.
...

Sheet 11. APU APARATOS
A1: INDICE
A3: RENOVACIÓN DEL PARQUE PRINCIPAL DEL MUNICIPIO DE COPACABANA - ANTIQUIA
E4: ANÁLISIS DE PRECIOS UNITARIOS
A7: CAPITULO: | B7: =+PRESUPUESTO!$B$182 -> APARATOS SANITARIOS Y ACCESORIOS | G7: ESPECIFICACIÓN: | H7: =+PRESUPUESTO!A184 -> 11.1.1
A8: ITEM: | B8: =VLOOKUP(H7,PRESUPUESTO!$A$18:$F$251,2,FALSE) -> Suministro e instalación de griferia grival para lavaplatos nepal Sencilla. Para mesones en acero inoxidable de locales comerciales. | G8: UNIDAD | H8: =VLOOKUP(H7,PRESUPUESTO!$A$18:$F$251,3,FALSE) -> un
A10: I. EQUIPO
A11: Descripción | D11: Tipo | E11: Tarifa/Hora | F11: Rendimiento | G11: Valor-Unit.
A12: HERRAMIENTA MENOR (5%MO) | G12: =ROUND(H37*0.05,0) -> 1976
G13: =E13*F13 -> 0
G14: =E14*F14 -> 0
G15: Sub-Total | H15: =SUM(G12:G14) -> 1976
A16: II. MATERIALES EN OBRA
A17: Descripción | D17: Unidad | E17: Precio-Unit. | F17: Cantidad | G17: Valor-Unit.
