Workbook
Name AÑOS: '[1]mes,diaaño'!$C$2
Name AÑOS: '[2]mes,diaaño'!$C$2
Name dias: '[1]mes,diaaño'!$A$2:$A$32
Name dias: '[2]mes,diaaño'!$A$2:$A$32
Name MES: '[1]mes,diaaño'!$B$2:$B$13
Name MES: '[2]mes,diaaño'!$B$2:$B$13

Sheet SOLICITUD DISPONIBILIDAD (2)
D1: SECRETARIA DE EDUCACIÓN | K1: Código:
D2: FONDO DE SERVICIOS EDUCATIVOS | K2: Versión:
D3: SOLICITUD DE DISPONIBILIDAD PRESUPUESTAL | K3: Fecha de aprobación:
B4: FONDO DE SERVICIOS EDUCATIVOS: | F4: INSTITUCION EDUCATIVA SAN JOSÉ
B5: MUNICIPIO: | C5: SABANALARGA
B7: FECHA DE SOLICITUD: | E7: 05 | G7: Junio | I7: 2024 | K7: CONSECUTIVO: | L7: 1
E8: Día | G8: Mes | I8: Año
B10: CONCEPTO :
W11: Día | X11: Mes | Y11: Año | AA11: 2.1.2.02.02.008.01 Honorarios y servicios Técnicos
C12: PRESTACIÓN DE SERVICIOS PROFESIONALES DE CONTADOR PÚBLICO PARA LA VIGENCIA AÑO 2024 A LA INSTITUCIÓN EDUCATIVA SAN JOSÉ Y SU ASOCIADO. | R12: 01 - Recursos Propios | W12: 01 | X12: Enero | Y12: 2024 | AA12: 2.1.2.02.02.008.01.02 Muebles y Enseres y Equipos De oficina
R13: 02 - Gratuidad | W13: 02 | X13: Febrero | AA13: 2.1.2.02.02.008.02 Mantenimiento y Reparación
R14: 03 - Otras transferencias | W14: 03 | X14: Marzo | AA14: 2.1.2.02.02.008.03 Materiales y Suministros
R15: 04 - Escuelas Normales Superiores | W15: 04 | X15: Abril | AA15: 2.1.2.02.02.008.04 Combustibles y lubricantes
R16: 05 - Recursos de Capital | W16: 05 | X16: Mayo | AA16: 2.1.2.02.02.008.05 Arrendamientos de bienes muebles e inmuebles
B17: PROYECTO: | W17: 06 | X17: Junio | AA17: 2.1.2.02.02.008.06 Impresos y publicaciones
W18: 07 | X18: Julio | AA18: 2.1.2.02.02.008.07 Servicios Públicos
C19: =C12 -> PRESTACIÓN DE SERVICIOS PROFESIONALES DE CONTADOR PÚBLICO PARA LA VIGENCIA AÑO 2024 A LA INSTITUCIÓN EDUCATIVA SAN JOSÉ Y SU ASOCIADO. | W19: 08 | X19: Agosto | AA19: 2.1.2.02.02.008.08 Primas y Seguros
W20: 09 | X20: Septiembre | AA20: 2.1.2.02.02.008.09 Comunicaciones y Transportes
W21: 10 | X21: Octubre | AA21: 2.1.2.02.02.008.10 Actividades Pedagógicas, Cientificas, Culturales y Deportivas
W22: 11 | X22: Noviembre | AA22: 2.1.2.02.02.008.11 Inscripción y Participación en Competencias Deportivas, Culturales, Pedagógicas y Científicas
W23: 12 | X23: Diciembre | AA23: 2.1.2.02.02.008.12 Gastos de viajes
B24: RUBRO PRESUPUESTAL | F24: FUENTE DE FINANCIACION | I24: FSE/Asociado | J24: NOMBRE FSE/ASOCIADO | L24: VALOR | W24: 13 | AA24: 2.1.2.02.02.008.04.01 Horas catedra
B25: 2.1.2.02.02.008.01 Honorarios y servicios Técnicos | F25: 02 - Gratuidad | I25: FSE | J25: INTITUCION EDUCATIVA SAN JOSÉ | L25: 4000000 | W25: 14 | X25: FSE | AA25: 2.1.2.02.02.008.04.02 Dotación pedagogica
B26: 2.1.2.02.02.008.01 Honorarios y servicios Técnicos | F26: 02 - Gratuidad | I26: ASOCIADO | J26: INTITUCION EDUCATIVA SAN JOSÉ | L26: 750000 | W26: 15 | X26: ASOCIADO | AA26: 2.1.2.02.02.008.04.03 Gastos de viaje
W27: 16 | AA27: 2.1.2.02.02.008.04.04 Actividades Pedagógicas, Cientificas, Culturales y Deportivas
W28: 17 | AA28: 2.1.2.02.02.008.04.05 Aportes generales al sistema de riesgos laborales
W29: 18 | AA29: 2.3.8.01.14.01 Gravamen Recursos Propios
W30: 19 | AA30: 2.3.8.01.14.02 Gravamen a Calidad Gratuidad
AA31: 2.3.8.01.14.03 Gravamen Ciclo Complementario
W32: 20 | AA32: 2.3.2.01.01.003.02.08 Otra maquinaria para usos especiales y sus partes y piezas
W33: 21 | AA33: 2.3.2.01.01.003.03.01 Máquinas para oficina y contabilidad, y sus partes y accesorios
W34: 22 | AA34: 2.3.2.01.01.003.03.02 Maquinaria de informática y sus partes, piezas y accesorios
W35: 23 | AA35: 2.3.2.01.01.004.01.01 Muebles
I36: VALOR TOTAL | L36: =SUM(L25:L34) -> 4750000 | W36: 24 | AA36: 2.3.2.01.01.004.01.02 Instrumentos musicales
W37: 25 | AA37: 2.3.2.01.01.004.01.03 Artículos de deporte
W38: 26 | AA38: 2.3.2.01.01.005.01.01 Recursos animales que generan productos en forma repetida
C39: Firma Ordenador del gasto | W39: 27 | AA39: 2.3.2.01.01.005.01.02 Árboles, cultivos y plantas que generan productos en forma repetida
C40: Nombre: Elkin Humberto Castaño Velasquez | W40: 28 | AA40: 2.3.2.02.02.000 Servicios Agricultura, silvicultura y productos de la pesca
W41: 29 | AA41: 2.3.2.02.02.005 Servicios de la construcción
W42: 30 | AA42: 2.3.2.02.02.006 Servicios de alojamiento; servicios de suministro de comidas y bebidas; servicios de transporte; y servicios de distribución de electricidad, gas y agua
...

Sheet 1. Disponibilidad
D2: SECRETARIA DE EDUCACIÓN | L2: Código:
D3: FONDO DE SERVICIOS EDUCATIVOS | L3: Versión:
D4: CERTIFICADO DISPONIBILIDAD PRESUPUESTAL (CDP) | L4: Fecha de aprobación:
B5: FONDO DE SERVICIOS EDUCATIVOS | F5: ='SOLICITUD DISPONIBILIDAD (2)'!F4:L4 -> INSTITUCION EDUCATIVA SAN JOSÉ
B6: MUNICIPIO | F6: SABANALARGA
J7: SOLICITUD | K7: 1 | L7: CONSECUTIVO: | M7: 1
B8: Fecha de Elaboración: | D8: 05 | E8: Junio | F8: 2024
D9: dia | E9: mes | F9: año
B12: CERTIFICO DISPONIBILIDAD PRESUPUESTAL POR:
I14: Valor | J14: =+M24 -> 4750000
B15: A la fecha de expedición del presente documento existe apropiación con saldo disponible contra el cual se puede ordenar gastos en el rubro y valor que se detalla a continuación:
B17: RUBRO | E17: FUENTE | H17: CENTRO DE COSTOS | J17: VALOR DISPONIBILIDAD | K17: ADICION A DISPONIBILIDAD | L17: REDUCCION A DISPONIBILIDAD | M17: VALOR ($)
B18: 2.1.2.02.02.008.01 Honorarios y servicios Técnicos | E18: 02 - Gratuidad | H18: FSE | I18: INSTITUCION EDUCATIVA SAN JOSÉ | J18: 4000000 | K18: 0 | L18: 0 | M18: =+J18+K18-L18 -> 4000000
B19: 2.1.2.02.02.008.01 Honorarios y servicios Técnicos | E19: 02 - Gratuidad | H19: ASOCIADO | I19: INSTITUCION EDUCATIVA SAN JOSÉ | J19: 750000 | M19: =+J19+K19-L19 -> 750000
M21: =+J21+K21-L21 -> 0
M22: =+J22+K22-L22 -> 0
M23: =+J23+K23-L23 -> 0
B24: TOTAL | J24: =SUM(J18:J23) -> 4750000 | K24: =SUM(K18:K23) -> 0 | L24: =SUM(L18:L23) -> 0 | M24: =+J24+K24-L24 -> 4750000
B26: Dentro del presupuesto de Egresos de la vigencia: | F26: 2024
B27: Por concepto de: | F27: PRESTACIÓN DE SERVICIOS PROFESIONALES DE CONTADOR PÚBLICO PARA LA VIGENCIA AÑO 2024 A LA INSTITUCIÓN EDUCATIVA SAN JOSÉ Y SU ASOCIADO.
H33: Firma Tesorero (a)
H34: Nombre: Juan Pablo Vargas Serna
B61: Día | C61: Mes | D61: Año
B62: 01 | C62: Enero | D62: 2024 | E62: 2.1.2.02.02.008.01 Honorarios y servicios Técnicos
B63: 02 | C63: Febrero | E63: 2.1.2.02.02.008.01.02 Muebles y Enseres y Equipos De oficina
B64: 03 | C64: Marzo | E64: 2.1.2.02.02.008.02 Mantenimiento y Reparación
B65: 04 | C65: Abril | E65: 2.1.2.02.02.008.03 Materiales y Suministros
B66: 05 | C66: Mayo | E66: 2.1.2.02.02.008.04 Combustibles y lubricantes
B67: 06 | C67: Junio | E67: 2.1.2.02.02.008.05 Arrendamientos de bienes muebles e inmuebles
B68: 07 | C68: Julio | E68: 2.1.2.02.02.008.06 Impresos y publicaciones
B69: 08 | C69: Agosto | E69: 2.1.2.02.02.008.07 Servicios Públicos
B70: 09 | C70: Septiembre | E70: 2.1.2.02.02.008.08 Primas y Seguros
B71: 10 | C71: Octubre | E71: 2.1.2.02.02.008.09 Comunicaciones y Transportes
B72: 11 | C72: Noviembre | E72: 2.1.2.02.02.008.10 Actividades Pedagógicas, Cientificas, Culturales y Deportivas
B73: 12 | C73: Diciembre | E73: 2.1.2.02.02.008.11 Inscripción y Participación en Competencias Deportivas, Culturales, Pedagógicas y Científicas
B74: 13 | E74: 2.1.2.02.02.008.12 Gastos de viajes
B75: 14 | E75: 2.1.2.02.02.008.04.01 Horas catedra
B76: 15 | E76: 2.1.2.02.02.008.04.02 Dotación pedagogica
B77: 16 | E77: 2.1.2.02.02.008.04.03 Gastos de viaje
B78: 17 | E78: 2.1.2.02.02.008.04.04 Actividades Pedagógicas, Cientificas, Culturales y Deportivas
...

Sheet 2. Compromiso 
D2: SECRETARIA DE EDUCACIÓN | J2: Código:
D3: FONDO DE SERVICIOS EDUCATIVOS | J3: Versión:
D4: REGISTRO COMPROMISO PRESUPUESTAL (RPC) | J4: Fecha de aprobación:
B5: FONDO DE SERVICIOS EDUCATIVOS | E5: INSTITUCION EDUCATIVA SAN JOSÉ
B6: MUNICIPIO | E6: SABANALARGA
G7: CDP | H7: =+'1. Disponibilidad'!M7:M8 -> 1 | J7: CONSECUTIVO: | K7: 1
B9: Fecha de Elaboración: | D9: 12 | E9: Junio | F9: 2024
D10: dia | E10: mes | F10: año
B12: CERTIFICO COMPROMISO PRESUPUESTAL POR:
B14: VALOR CDP | C14: =+'1. Disponibilidad'!J14 -> 4750000 | G14: Valor: | H14: =+K25 -> 4750000
B16: CON CARGO A:
B18: No. CDP | C18: RUBRO | E18: FUENTE | F18: C. COSTOS | H18: VALOR COMPROMISO | I18: ADICION DE COMPROMISO | J18: REDUCCION DE COMPROMISO | K18: VALOR
B19: =+'1. Disponibilidad'!M7 -> 1 | C19: ='1. Disponibilidad'!B18 -> 2.1.2.02.02.008.01 Honorarios y servicios Técnicos | E19: ='1. Disponibilidad'!E18 -> 02 - Gratuidad | F19: =+'1. Disponibilidad'!H18 -> FSE | G19: =+'1. Disponibilidad'!I18 -> INSTITUCION EDUCATIVA SAN JOSÉ | H19: =+'1. Disponibilidad'!J18 -> 4000000 | K19: 4000000
C20: ='1. Disponibilidad'!B19 -> 2.1.2.02.02.008.01 Honorarios y servicios Técnicos | E20: ='1. Disponibilidad'!E19 -> 02 - Gratuidad | F20: =+'1. Disponibilidad'!H19 -> ASOCIADO | G20: =+'1. Disponibilidad'!I19 -> INSTITUCION EDUCATIVA SAN JOSÉ | H20: =+'1. Disponibilidad'!J19 -> 750000 | K20: 750000
C21: ='1. Disponibilidad'!B20 -> 0 | E21: ='1. Disponibilidad'!E20 -> 0 | F21: =+'1. Disponibilidad'!H20 -> 0 | G21: =+'1. Disponibilidad'!I20 -> 0
C22: ='1. Disponibilidad'!B21 -> 0 | E22: ='1. Disponibilidad'!E21 -> 0 | F22: =+'1. Disponibilidad'!H21 -> 0 | G22: =+'1. Disponibilidad'!I21 -> 0 | K22: =+H22+I22-J22 -> 0
C23: ='1. Disponibilidad'!B22 -> 0 | E23: ='1. Disponibilidad'!E22 -> 0 | F23: =+'1. Disponibilidad'!H22 -> 0 | G23: =+'1. Disponibilidad'!I22 -> 0 | K23: =+H23+I23-J23 -> 0
C24: ='1. Disponibilidad'!B23 -> 0 | E24: ='1. Disponibilidad'!E23 -> 0 | F24: =+'1. Disponibilidad'!H23 -> 0 | G24: =+'1. Disponibilidad'!I23 -> 0 | K24: =+H24+I24-J24 -> 0
B25: TOTAL | H25: =SUM(H19:H24) -> 4750000 | I25: =SUM(I19:I24) -> 0 | J25: =SUM(J19:J24) -> 0 | K25: =+H25+I25-J25 -> 4750000
B27: Dentro del presupuesto de Egresos de la vigencia: | E27: ='1. Disponibilidad'!F26 -> 2024
B28: A favor de: | C28: Nombre: | D28: ACCOUNTANT FINANTIAL GROUP S.A.S.
C29: Cédula / NIT: | D29: 90060448 - 2
B30: Por concepto de: | D30: =+'1. Disponibilidad'!F27 -> PRESTACIÓN DE SERVICIOS PROFESIONALES DE CONTADOR PÚBLICO PARA LA VIGENCIA AÑO 2024 A LA INSTITUCIÓN EDUCATIVA SAN JOSÉ Y SU ASOCIADO.
C36: Firma Ordenador del Gasto | G36: Firma Tesorero (a)
C37: Nombre: Elkin Humberto Castaño Velasquez | G37: Nombre: Juan Pablo Vargas Serna
B76: Día | C76: Mes | D76: Año
B77: 01 | C77: Enero | D77: 2024
B78: 02 | C78: Febrero
B79: 03 | C79: Marzo
B80: 04 | C80: Abril
B81: 05 | C81: Mayo
B82: 06 | C82: Junio
B83: 07 | C83: Julio
B84: 08 | C84: Agosto
B85: 09 | C85: Septiembre
B86: 10 | C86: Octubre
B87: 11 | C87: Noviembre
B88: 12 | C88: Diciembre
B89: 13
B90: 14
...

Sheet 3. Comprobante de egresos 
E2: SECRETARIA DE EDUCACIÓN | K2: Código:
E3: FONDO DE SERVICIOS EDUCATIVOS | K3: Versión:
E4: COMPROBANTE DE EGRESO CON AFECTACION | K4: Fecha de aprobación:
B5: FONDO DE SERVICIOS EDUCATIVOS | F5: INSTITUCION EDUCATIVA SAN JOSÉ
B6: MUNICIPIO | F6: SABANALARGA
J7: CONSECUTIVO: | K7: 5
B8: Fecha de Elaboración:
D9: dia | E9: mes | F9: año
D11: CDP | E11: RPC
D12: =+'2. Compromiso '!H7:H8 -> #VALUE! | E12: =+'2. Compromiso '!K7:K8 -> #VALUE!
B13: fecha: | D13: =+CONCATENATE('1. Disponibilidad'!D8,'1. Disponibilidad'!E8,'1. Disponibilidad'!F8) -> 05Junio2024 | E13: =+CONCATENATE('2. Compromiso '!D9,'2. Compromiso '!E9,'2. Compromiso '!F9) -> 12Junio2024
B16: A favor de: | C16: =+'2. Compromiso '!D28:K28 -> #VALUE! | G16: CÉDULA/NIT: | H16: =+'2. Compromiso '!D29:K29 -> 0
B19: Concepto:
B23: RUBRO | C23: FUENTE FINANCIACION | D23: VALOR BRUTO | E23: RETEFUENTE | G23: RETEIVA | H23: RETEICA | I23: OTRAS RETENCIONES | J23: TOTAL RETENCIONES | K23: TOTAL A PAGAR
E24: Concepto | F24: Valor
J25: =+F35+G35+H35+I35 -> 0 | K25: =+D35-J25 -> 0
B35: TOTAL | D35: =SUM(D25:D34) -> 0 | F35: =SUM(F25:F34) -> 0 | G35: =SUM(G25:G34) -> 0 | H35: =SUM(H25:H34) -> 0 | I35: =SUM(I25:I34) -> 0
D39: Nombre de la cuenta | E39: No. Cuenta | F39: Tipo Cuenta | G39: Nombre Banco | H39: No. Cheque /Transacción | I39: Valor a Pagar
I40: =+K25 -> 0
G42: TOTAL | I42: =+I40 -> 0
B46: FIRMA ORDENADOR DEL GASTO | D46: FIRMA TESORERO (A) | G46: FIRMA BENEFICIARIO | J46: FIRMA CONTADOR
B47: Nombre: | D47: Nombre: | G47: Nombre: | J47: Nombre:
B100: Día | D100: Mes | E100: Año
B101: 01 | D101: Enero | E101: 2024 | G101: 2.1.2.02.02.008.01 Honorarios y servicios Técnicos
B102: 02 | D102: Febrero | G102: 2.1.2.02.02.008.01.02 Muebles y Enseres y Equipos De oficina
B103: 03 | D103: Marzo | G103: 2.1.2.02.02.008.02 Mantenimiento y Reparación
B104: 04 | D104: Abril | G104: 2.1.2.02.02.008.03 Materiales y Suministros
B105: 05 | D105: Mayo | G105: 2.1.2.02.02.008.04 Combustibles y lubricantes
B106: 06 | D106: Junio | G106: 2.1.2.02.02.008.05 Arrendamientos de bienes muebles e inmuebles
B107: 07 | D107: Julio | G107: 2.1.2.02.02.008.06 Impresos y publicaciones
B108: 08 | D108: Agosto | G108: 2.1.2.02.02.008.07 Servicios Públicos
B109: 09 | D109: Septiembre | G109: 2.1.2.02.02.008.08 Primas y Seguros
B110: 10 | D110: Octubre | G110: 2.1.2.02.02.008.09 Comunicaciones y Transportes
B111: 11 | D111: Noviembre | G111: 2.1.2.02.02.008.10 Actividades Pedagógicas, Cientificas, Culturales y Deportivas
B112: 12 | D112: Diciembre | G112: 2.1.2.02.02.008.11 Inscripción y Participación en Competencias Deportivas, Culturales, Pedagógicas y Científicas
B113: 13 | G113: 2.1.2.02.02.008.12 Gastos de viajes
B114: 14 | G114: 2.1.2.02.02.008.04.01 Horas catedra
B115: 15 | G115: 2.1.2.02.02.008.04.02 Dotación pedagogica
B116: 16 | G116: 2.1.2.02.02.008.04.03 Gastos de viaje
B117: 17 | D117: Honorarios | G117: 2.1.2.02.02.008.04.04 Actividades Pedagógicas, Cientificas, Culturales y Deportivas
...
