Workbook

Sheet Proceso 1
A1: Propuesta presentada por: | B1: PROYECTAMOS COLOMBIA SAS | I1: Universidad Javeriana | P1: Corpración Universitaria Remington | W1: UNIVERSIDAD DE LA SABANA | AD1: UNIVERSITARIA AGUSTINIANA-UNIAGUSTINIANA | AK1: FUNDACIÓN UNIVERSITARIA COMPENSAR | AR1: Corporación Educativa Instituto Metropolitano de Educación -CIME | AY1: SGS COLOMBIA SAS | BF1: Universidad Ean | BM1: KUEPA EDUTECH S.A.S | BT1: UNIÓN TEMPORAL UT ATENEA-BS-ESCUELA-2024 | CA1: COGNOSONLINE SOLUTIONS COLOMBIA S.A. | CH1: Estadisticas
A2: Nit | B2: 900555513-3 | P2: 811005425-1 | W2: 860075558-1 | AD2: 830.027.493-6 | AK2: 860506140-6 | AR2: 811038955-5 | AY2: 860.049.921-0 | BF2: 860.026.058-1 | BM2: 900241770-1 | BT2: 901.904.832-1 | CA2: 830.074.045-1
A3: Correo electrónico: | B3: gerencia@proyectamoscolombia.com | P3: proyectos@uniremington.edu.co | W3: camila.rodriguez3@unisabana.edu.co | AD3: licitaciones@uniagustiniana.edu.co | AK3: contratosyproyectos@ucompensar.edu.co | AR3: luisa.restrepo@ime.edu.co | AY3: co.notificaciones@sgs.com; sugeys.deavila@sgs.com | BF3: dcgutierrez@universidadean.edu.co | BM3: jorge.garcia@kuepa.com | BT3: ehernandez@bscolombia.com.co | CA3: esanabria@cognosonline.com
A5: INDUSTRIAS CREATIVAS
A6: Temática | B6: Video Juegos | F6: Nivel | G6: imtermedio | M6: Nivel | N6: imtermedio | P6: Video Juegos | T6: Nivel | U6: imtermedio | W6: Video Juegos | AA6: Nivel | AB6: imtermedio | AD6: Video Juegos | AH6: Nivel | AI6: imtermedio | AK6: Video Juegos | AO6: Nivel | AP6: imtermedio | AR6: Video Juegos | AV6: Nivel | AW6: imtermedio | AY6: Video Juegos | BC6: Nivel | BD6: imtermedio | BF6: Video Juegos | BJ6: Nivel | BK6: imtermedio | BM6: Video Juegos | BQ6: Nivel | BR6: imtermedio | BT6: Video Juegos | BX6: Nivel | BY6: imtermedio | CA6: Video Juegos | CE6: Nivel | CF6: imtermedio
A7: MODALIDAD: Híbrido | B7: COD. | C7: RANGOS | D7: VALOR UNITARIO (SIN IVA) | E7: IVA (SI APLICA) | F7: TOTAL | I7: COD. | J7: RANGOS | K7: VALOR UNITARIO (SIN IVA) | L7: IVA (SI APLICA) | M7: TOTAL | P7: COD. | Q7: RANGOS | R7: VALOR UNITARIO (SIN IVA) | S7: IVA (SI APLICA) | T7: TOTAL | W7: COD. | X7: RANGOS | Y7: VALOR UNITARIO (SIN IVA) | Z7: IVA (SI APLICA) | AA7: TOTAL | AD7: COD. | AE7: RANGOS | AF7: VALOR UNITARIO (SIN IVA) | AG7: IVA (SI APLICA) | AH7: TOTAL | AK7: COD. | AL7: RANGOS | AM7: VALOR UNITARIO (SIN IVA) | AN7: IVA (SI APLICA) | AO7: TOTAL | AR7: COD. | AS7: RANGOS | AT7: VALOR UNITARIO (SIN IVA) | AU7: IVA (SI APLICA) | AV7: TOTAL | AY7: COD. | AZ7: RANGOS | BA7: VALOR UNITARIO (SIN IVA) | BB7: IVA (SI APLICA) | BC7: TOTAL | BF7: COD. | BG7: RANGOS | BH7: VALOR UNITARIO (SIN IVA) | BI7: IVA (SI APLICA) | BJ7: TOTAL | BM7: COD. | BN7: RANGOS | BO7: VALOR UNITARIO (SIN IVA) | BP7: IVA (SI APLICA) | BQ7: TOTAL | BT7: COD. | BU7: RANGOS | BV7: VALOR UNITARIO (SIN IVA) | BW7: IVA (SI APLICA) | BX7: TOTAL | CA7: COD. | CB7: RANGOS | CC7: VALOR UNITARIO (SIN IVA) | CD7: IVA (SI APLICA) | CE7: TOTAL | CH7: COD. | CI7: RANGOS | CJ7: Valor máximo | CK7: Valor mínimo | CL7: Promedio | CM7: Media Acotada | CN7: Mediana | CO7: Moda | CQ7: MAX | CR7: MIN
A8: Competencias técnicas: de 70 a 120 horas Habilidades socioemocionales: de 20 a 40 horas | B8: TVJI.1 | C8: Hasta 300 cupos | D8: 3500000 | E8: =(D8*19)/100 -> 665000 | F8: =D8+E8 -> 4165000 | I8: TVJI.1 | J8: Hasta 300 cupos | K8: 2950000 | L8: 0 | M8: =+K8+L8 -> 2950000 | P8: TVJI.1 | Q8: Hasta 300 cupos | R8: 2400000 | S8: 0 | T8: =R8+S8 -> 2400000 | W8: TVJI.1 | X8: Hasta 300 cupos | Y8: 387000000 | Z8: 0 | AA8: =+Y8/300 -> 1290000 | AD8: TVJI.1 | AE8: Hasta 300 cupos | AF8: 2003385.4 | AG8: 0 | AH8: =AF8+AG8 -> 2003385.4 | AK8: TVJI.1 | AL8: Hasta 300 cupos | AM8: 8400000 | AN8: 0 | AO8: =AM8+AN8 -> 8400000 | AR8: TVJI.1 | AS8: Hasta 300 cupos | AT8: 2100000 | AU8: 0 | AV8: =AT8+AU8 -> 2100000 | AY8: TVJI.1 | AZ8: Hasta 300 cupos | BA8: 2231000 | BB8: 423890 | BC8: 2654890 | BF8: TVJI.1 | BG8: Hasta 300 cupos | BH8: 3800000 | BI8: 0 | BJ8: =BH8+BI8 -> 3800000 | BM8: TVJI.1 | BN8: Hasta 300 cupos | BO8: 3000000 | BP8: 0 | BQ8: =BO8+BP8 -> 3000000 | BT8: TVJI.1 | BU8: Hasta 300 cupos | BV8: 2500000 | BW8: 0 | BX8: =BV8+BW8 -> 2500000 | CA8: TVJI.1 | CB8: Hasta 300 cupos | CC8: =1840333.33333333*5/3 -> 3067222.2 | CD8: =CC8*0.19 -> 582772.22 | CE8: =CC8+CD8 -> 3649994.4 | CH8: TVJI.1 | CI8: Hasta 300 cupos | CJ8: =+MAX(F8,M8,T8,AA8,AH8,AO8,AV8,BC8,BJ8,BQ8,BX8,CE8) -> 8400000 | CK8: =+MIN(F8,M8,T8,AA8,AH8,AO8,AV8,BC8,BJ8,BQ8,BX8,CE8) -> 1290000 | CL8: =+AVERAGE(F8,M8,T8,AA8,AH8,AO8,AV8,BC8,BJ8,BQ8,BX8,CE8) -> 3242772.5 | CM8: =+TRIMMEAN((F8,M8,T8,AA8,AH8,AO8,AV8,BC8,BJ8,BQ8,BX8,CE8),(2/12)) -> 2922327 | CN8: =+MEDIAN(F8,M8,T8,AA8,AH8,AO8,AV8,BC8,BJ8,BQ8,BX8,CE8) -> 2802445 | CO8: =IFERROR(MODE(F8,M8,T8,AA8,AH8,AO8,AV8,BC8,BJ8,BQ8,BX8,CE8),"N/A") -> N/A | CP8: =+STDEV(F8,M8,T8,AA8,AH8,AO8,AV8,BC8,BJ8,BQ8,BX8,CE8)/CL8 -> 0.56043885 | CQ8: FUNDACIÓN UNIVERSITARIA COMPENSAR | CR8: UNIVERSIDAD DE LA SABANA
B9: TVJI.2 | C9: Entre 301 y 400 cupos | D9: 3300000 | E9: =(D9*19)/100 -> 627000 | F9: =D9+E9 -> 3927000 | I9: TVJI.2 | J9: Entre 301 y 400 cupos | K9: 2750000 | L9: 0 | M9: =+K9+L9 -> 2750000 | P9: TVJI.2 | Q9: Entre 301 y 400 cupos | R9: =2280000 -> 2280000 | S9: 0 | T9: =R9+S9 -> 2280000 | W9: TVJI.2 | X9: Entre 301 y 400 cupos | Y9: 466000000 | Z9: 0 | AA9: =+Y9/400 -> 1165000 | AD9: TVJI.2 | AE9: Entre 301 y 400 cupos | AF9: 1964103.3 | AG9: 0 | AH9: =AF9+AG9 -> 1964103.3 | AK9: TVJI.2 | AL9: Entre 301 y 400 cupos | AM9: 7725000 | AN9: 0 | AO9: =AM9+AN9 -> 7725000 | AR9: TVJI.2 | AS9: Entre 301 y 400 cupos | AT9: 1728000 | AU9: 0 | AV9: =AT9+AU9 -> 1728000 | AY9: TVJI.2 | AZ9: Entre 301 y 400 cupos | BA9: 2136000 | BB9: 405840 | BC9: 2541840 | BF9: TVJI.2 | BG9: Entre 301 y 400 cupos | BH9: 3300000 | BI9: 0 | BJ9: =BH9+BI9 -> 3300000 | BM9: TVJI.2 | BN9: Entre 301 y 400 cupos | BO9: 3000000 | BP9: 0 | BQ9: =BO9+BP9 -> 3000000 | BT9: TVJI.2 | BU9: Entre 301 y 400 cupos | BV9: 2200000 | BW9: 0 | BX9: =BV9+BW9 -> 2200000 | CA9: TVJI.2 | CB9: Entre 301 y 400 cupos | CC9: =CC8 -> 3067222.2 | CD9: =CC9*0.19 -> 582772.22 | CE9: =CC9+CD9 -> 3649994.4 | CH9: TVJI.2 | CI9: Entre 301 y 400 cupos | CJ9: =+MAX(F9,M9,T9,AA9,AH9,AO9,AV9,BC9,BJ9,BQ9,BX9,CE9) -> 7725000 | CK9: =+MIN(F9,M9,T9,AA9,AH9,AO9,AV9,BC9,BJ9,BQ9,BX9,CE9) -> 1165000 | CL9: =+AVERAGE(F9,M9,T9,AA9,AH9,AO9,AV9,BC9,BJ9,BQ9,BX9,CE9) -> 3019244.8 | CM9: =+TRIMMEAN((F9,M9,T9,AA9,AH9,AO9,AV9,BC9,BJ9,BQ9,BX9,CE9),(2/12)) -> 2734093.8 | CN9: =+MEDIAN(F9,M9,T9,AA9,AH9,AO9,AV9,BC9,BJ9,BQ9,BX9,CE9) -> 2645920 | CO9: =IFERROR(MODE(F9,M9,T9,AA9,AH9,AO9,AV9,BC9,BJ9,BQ9,BX9,CE9),"N/A") -> N/A | CP9: =+STDEV(F9,M9,T9,AA9,AH9,AO9,AV9,BC9,BJ9,BQ9,BX9,CE9)/CL9 -> 0.55764529 | CQ9: FUNDACIÓN UNIVERSITARIA COMPENSAR | CR9: UNIVERSIDAD DE LA SABANA
B10: TVJI.3 | C10: Entre 401 y 500 cupos | D10: 3200000 | E10: =(D10*19)/100 -> 608000 | F10: =D10+E10 -> 3808000 | I10: TVJI.3 | J10: Entre 401 y 500 cupos | K10: 2590000 | L10: 0 | M10: =+K10+L10 -> 2590000 | P10: TVJI.3 | Q10: Entre 401 y 500 cupos | R10: =2166000 -> 2166000 | S10: 0 | T10: =R10+S10 -> 2166000 | W10: TVJI.3 | X10: Entre 401 y 500 cupos | Y10: 575000000 | Z10: 0 | AA10: =+Y10/500 -> 1150000 | AD10: TVJI.3 | AE10: Entre 401 y 500 cupos | AF10: 1945034.3 | AG10: 0 | AH10: =AF10+AG10 -> 1945034.3 | AK10: TVJI.3 | AL10: Entre 401 y 500 cupos | AM10: 7350000 | AN10: 0 | AO10: =AM10+AN10 -> 7350000 | AR10: TVJI.3 | AS10: Entre 401 y 500 cupos | AT10: 1400000 | AU10: 0 | AV10: =AT10+AU10 -> 1400000 | AY10: TVJI.3 | AZ10: Entre 401 y 500 cupos | BA10: 2127000 | BB10: 404130 | BC10: 2531130 | BF10: TVJI.3 | BG10: Entre 401 y 500 cupos | BH10: 3100000 | BI10: 0 | BJ10: =BH10+BI10 -> 3100000 | BM10: TVJI.3 | BN10: Entre 401 y 500 cupos | BO10: 3000000 | BP10: 0 | BQ10: =BO10+BP10 -> 3000000 | BT10: TVJI.3 | BU10: Entre 401 y 500 cupos | BV10: 2000000 | BW10: 0 | BX10: =BV10+BW10 -> 2000000 | CA10: TVJI.3 | CB10: Entre 401 y 500 cupos | CC10: =CC9 -> 3067222.2 | CD10: =CC10*0.19 -> 582772.22 | CE10: =CC10+CD10 -> 3649994.4 | CH10: TVJI.3 | CI10: Entre 401 y 500 cupos | CJ10: =+MAX(F10,M10,T10,AA10,AH10,AO10,AV10,BC10,BJ10,BQ10,BX10,CE10) -> 7350000 | CK10: =+MIN(F10,M10,T10,AA10,AH10,AO10,AV10,BC10,BJ10,BQ10,BX10,CE10) -> 1150000 | CL10: =+AVERAGE(F10,M10,T10,AA10,AH10,AO10,AV10,BC10,BJ10,BQ10,BX10,CE10) -> 2890846.6 | CM10: =+TRIMMEAN((F10,M10,T10,AA10,AH10,AO10,AV10,BC10,BJ10,BQ10,BX10,CE10),(2/12)) -> 2619015.9 | CN10: =+MEDIAN(F10,M10,T10,AA10,AH10,AO10,AV10,BC10,BJ10,BQ10,BX10,CE10) -> 2560565 | CO10: =IFERROR(MODE(F10,M10,T10,AA10,AH10,AO10,AV10,BC10,BJ10,BQ10,BX10,CE10),"N/A") -> N/A | CP10: =+STDEV(F10,M10,T10,AA10,AH10,AO10,AV10,BC10,BJ10,BQ10,BX10,CE10)/CL10 -> 0.56208962 | CQ10: FUNDACIÓN UNIVERSITARIA COMPENSAR | CR10: UNIVERSIDAD DE LA SABANA
B11: TVJI.4 | C11: Más de 500 cupos | D11: 2895000 | E11: =(D11*19)/100 -> 550050 | F11: =D11+E11 -> 3445050 | I11: TVJI.4 | J11: Más de 500 cupos | K11: 2500000 | L11: 0 | M11: =+K11+L11 -> 2500000 | P11: TVJI.4 | Q11: Más de 500 cupos | R11: =2057000 -> 2057000 | S11: 0 | T11: =R11+S11 -> 2057000 | W11: TVJI.4 | X11: Más de 500 cupos | Y11: 575000000 | Z11: 0 | AA11: =+Y11/500 -> 1150000 | AD11: TVJI.4 | AE11: Más de 500 cupos | AF11: 1926332.1 | AG11: 0 | AH11: =AF11+AG11 -> 1926332.1 | AK11: TVJI.4 | AL11: Más de 500 cupos (Hasta 700 personas) | AM11: 6790000 | AN11: 0 | AO11: =AM11+AN11 -> 6790000 | AR11: TVJI.4 | AS11: Más de 500 cupos | AT11: 1200000 | AU11: 0 | AV11: =AT11+AU11 -> 1200000 | AY11: TVJI.4 | AZ11: Más de 500 cupos | BA11: 2115000 | BB11: 401850 | BC11: 2516850 | BF11: TVJI.4 | BG11: Más de 500 cupos | BH11: 3000000 | BI11: 0 | BJ11: =BH11+BI11 -> 3000000 | BM11: TVJI.4 | BN11: Más de 500 cupos | BO11: 3000000 | BP11: 0 | BQ11: =BO11+BP11 -> 3000000 | BT11: TVJI.4 | BU11: Más de 500 cupos | BV11: 2000000 | BW11: 0 | BX11: =BV11+BW11 -> 2000000 | CA11: TVJI.4 | CB11: Más de 500 cupos | CC11: =1201333.33333333*5/3 -> 2002222.2 | CD11: =CC11*0.19 -> 380422.22 | CE11: =CC11+CD11 -> 2382644.4 | CH11: TVJI.4 | CI11: Más de 500 cupos | CJ11: =+MAX(F11,M11,T11,AA11,AH11,AO11,AV11,BC11,BJ11,BQ11,BX11,CE11) -> 6790000 | CK11: =+MIN(F11,M11,T11,AA11,AH11,AO11,AV11,BC11,BJ11,BQ11,BX11,CE11) -> 1150000 | CL11: =+AVERAGE(F11,M11,T11,AA11,AH11,AO11,AV11,BC11,BJ11,BQ11,BX11,CE11) -> 2663989.7 | CM11: =+TRIMMEAN((F11,M11,T11,AA11,AH11,AO11,AV11,BC11,BJ11,BQ11,BX11,CE11),(2/12)) -> 2402787.7 | CN11: =+MEDIAN(F11,M11,T11,AA11,AH11,AO11,AV11,BC11,BJ11,BQ11,BX11,CE11) -> 2441322.2 | CO11: =IFERROR(MODE(F11,M11,T11,AA11,AH11,AO11,AV11,BC11,BJ11,BQ11,BX11,CE11),"N/A") -> 3000000 | CP11: =+STDEV(F11,M11,T11,AA11,AH11,AO11,AV11,BC11,BJ11,BQ11,BX11,CE11)/CL11 -> 0.55187947 | CQ11: FUNDACIÓN UNIVERSITARIA COMPENSAR | CR11: UNIVERSIDAD DE LA SABANA
A12: Temática | B12: Video Juegos | F12: Nivel | G12: Avanzado | I12: Video Juegos | M12: Nivel | N12: Avanzado | P12: Video Juegos | T12: Nivel | U12: Avanzado | W12: Video Juegos | AA12: Nivel | AB12: Avanzado | AD12: Video Juegos | AH12: Nivel | AI12: Avanzado | AK12: Video Juegos | AO12: Nivel | AP12: Avanzado | AR12: Video Juegos | AV12: Nivel | AW12: Avanzado | AY12: Video Juegos | BC12: Nivel | BD12: Avanzado | BF12: Video Juegos | BJ12: Nivel | BK12: Avanzado | BM12: Video Juegos | BQ12: Nivel | BR12: Avanzado | BT12: Video Juegos | BX12: Nivel | BY12: Avanzado | CA12: Video Juegos | CE12: Nivel | CF12: Avanzado
A13: MODALIDAD: Híbrido | B13: COD. | C13: RANGOS | D13: VALOR UNITARIO (SIN IVA) | E13: IVA (SI APLICA) | F13: TOTAL | I13: COD. | J13: RANGOS | K13: VALOR UNITARIO (SIN IVA) | L13: IVA (SI APLICA) | M13: TOTAL | P13: COD. | Q13: RANGOS | R13: VALOR UNITARIO (SIN IVA) | S13: IVA (SI APLICA) | T13: TOTAL | W13: COD. | X13: RANGOS | Y13: VALOR UNITARIO (SIN IVA) | Z13: IVA (SI APLICA) | AA13: TOTAL | AD13: COD. | AE13: RANGOS | AF13: VALOR UNITARIO (SIN IVA) | AG13: IVA (SI APLICA) | AH13: TOTAL | AK13: COD. | AL13: RANGOS | AM13: VALOR UNITARIO (SIN IVA) | AN13: IVA (SI APLICA) | AO13: TOTAL | AR13: COD. | AS13: RANGOS | AT13: VALOR UNITARIO (SIN IVA) | AU13: IVA (SI APLICA) | AV13: TOTAL | AY13: COD. | AZ13: RANGOS | BA13: VALOR UNITARIO (SIN IVA) | BB13: IVA (SI APLICA) | BC13: TOTAL | BF13: COD. | BG13: RANGOS | BH13: VALOR UNITARIO (SIN IVA) | BI13: IVA (SI APLICA) | BJ13: TOTAL | BM13: COD. | BN13: RANGOS | BO13: VALOR UNITARIO (SIN IVA) | BP13: IVA (SI APLICA) | BQ13: TOTAL | BT13: COD. | BU13: RANGOS | BV13: VALOR UNITARIO (SIN IVA) | BW13: IVA (SI APLICA) | BX13: TOTAL | CA13: COD. | CB13: RANGOS | CC13: VALOR UNITARIO (SIN IVA) | CD13: IVA (SI APLICA) | CE13: TOTAL | CH13: COD. | CI13: RANGOS | CJ13: Valor máximo | CK13: Valor mínimo | CL13: Promedio | CM13: Media Acotada | CN13: Mediana | CO13: Moda | CQ13: MAX | CR13: MIN
A14: Competencias técnicas: de 70 a 120 horas Habilidades socioemocionales: de 20 a 40 horas | B14: TVJA.1 | C14: Hasta 300 cupos | D14: 3500000 | E14: =(D14*19)/100 -> 665000 | F14: =D14+E14 -> 4165000 | I14: TVJA.1 | J14: Hasta 300 cupos | K14: 2950000 | L14: 0 | M14: =+K14+L14 -> 2950000 | P14: TVJA.1 | Q14: Hasta 300 cupos | R14: 2400000 | S14: 0 | T14: =R14+S14 -> 2400000 | W14: TVJA.1 | X14: Hasta 300 cupos | Y14: 387000000 | Z14: 0 | AA14: =+Y14/300 -> 1290000 | AD14: TVJA.1 | AE14: Hasta 300 cupos | AF14: 2023419.2 | AG14: 0 | AH14: =AF14+AG14 -> 2023419.2 | AK14: TVJA.1 | AL14: Hasta 300 cupos | AM14: 8400000 | AN14: 0 | AO14: =AM14+AN14 -> 8400000 | AR14: TVJA.1 | AS14: Hasta 300 cupos | AT14: 2100000 | AU14: 0 | AV14: =AT14+AU14 -> 2100000 | AY14: TVJA.1 | AZ14: Hasta 300 cupos | BA14: 2677200 | BB14: 508668 | BC14: 3185868 | BF14: TVJA.1 | BG14: Hasta 300 cupos | BH14: 3800000 | BI14: 0 | BJ14: =BH14+BI14 -> 3800000 | BM14: TVJA.1 | BN14: Hasta 300 cupos | BO14: 3000000 | BP14: 0 | BQ14: =BO14+BP14 -> 3000000 | BT14: TVJA.1 | BU14: Hasta 300 cupos | BV14: 2500000 | BW14: 0 | BX14: =BV14+BW14 -> 2500000 | CA14: TVJA.1 | CB14: Hasta 300 cupos | CC14: 3067222.2 | CD14: =CC14*0.19 -> 582772.22 | CE14: =CC14+CD14 -> 3649994.4 | CH14: TVJA.1 | CI14: Hasta 300 cupos | CJ14: =+MAX(F14,M14,T14,AA14,AH14,AO14,AV14,BC14,BJ14,BQ14,BX14,CE14) -> 8400000 | CK14: =+MIN(F14,M14,T14,AA14,AH14,AO14,AV14,BC14,BJ14,BQ14,BX14,CE14) -> 1290000 | CL14: =+AVERAGE(F14,M14,T14,AA14,AH14,AO14,AV14,BC14,BJ14,BQ14,BX14,CE14) -> 3288690.1 | CM14: =+TRIMMEAN((F14,M14,T14,AA14,AH14,AO14,AV14,BC14,BJ14,BQ14,BX14,CE14),(2/12)) -> 2977428.2 | CN14: =+MEDIAN(F14,M14,T14,AA14,AH14,AO14,AV14,BC14,BJ14,BQ14,BX14,CE14) -> 2975000 | CO14: =IFERROR(MODE(F14,M14,T14,AA14,AH14,AO14,AV14,BC14,BJ14,BQ14,BX14,CE14),"N/A") -> N/A | CP14: =+STDEV(F14,M14,T14,AA14,AH14,AO14,AV14,BC14,BJ14,BQ14,BX14,CE14)/CL14 -> 0.54943388 | CQ14: FUNDACIÓN UNIVERSITARIA COMPENSAR | CR14: UNIVERSIDAD DE LA SABANA
B15: TVJA.2 | C15: Entre 301 y 400 cupos | D15: 3300000 | E15: =(D15*19)/100 -> 627000 | F15: =D15+E15 -> 3927000 | I15: TVJA.2 | J15: Entre 301 y 400 cupos | K15: 2750000 | L15: 0 | M15: =+K15+L15 -> 2750000 | P15: TVJA.2 | Q15: Entre 301 y 400 cupos | R15: =2280000 -> 2280000 | S15: 0 | T15: =R15+S15 -> 2280000 | W15: TVJA.2 | X15: Entre 301 y 400 cupos | Y15: 466000000 | Z15: 0 | AA15: =+Y15/400 -> 1165000 | AD15: TVJA.2 | AE15: Entre 301 y 400 cupos | AF15: 2003385.4 | AG15: 0 | AH15: =AF15+AG15 -> 2003385.4 | AK15: TVJA.2 | AL15: Entre 301 y 400 cupos | AM15: 7725000 | AN15: 0 | AO15: =AM15+AN15 -> 7725000 | AR15: TVJA.2 | AS15: Entre 301 y 400 cupos | AT15: 1728000 | AU15: 0 | AV15: =AT15+AU15 -> 1728000 | AY15: TVJA.2 | AZ15: Entre 301 y 400 cupos | BA15: 2563200 | BB15: 487008 | BC15: 3050208 | BF15: TVJA.2 | BG15: Entre 301 y 400 cupos | BH15: 3300000 | BI15: 0 | BJ15: =BH15+BI15 -> 3300000 | BM15: TVJA.2 | BN15: Entre 301 y 400 cupos | BO15: 3000000 | BP15: 0 | BQ15: =BO15+BP15 -> 3000000 | BT15: TVJA.2 | BU15: Entre 301 y 400 cupos | BV15: 2200000 | BW15: 0 | BX15: =BV15+BW15 -> 2200000 | CA15: TVJA.2 | CB15: Entre 301 y 400 cupos | CC15: 3067222.2 | CD15: =CC15*0.19 -> 582772.22 | CE15: =CC15+CD15 -> 3649994.4 | CH15: TVJA.2 | CI15: Entre 301 y 400 cupos | CJ15: =+MAX(F15,M15,T15,AA15,AH15,AO15,AV15,BC15,BJ15,BQ15,BX15,CE15) -> 7725000 | CK15: =+MIN(F15,M15,T15,AA15,AH15,AO15,AV15,BC15,BJ15,BQ15,BX15,CE15) -> 1165000 | CL15: =+AVERAGE(F15,M15,T15,AA15,AH15,AO15,AV15,BC15,BJ15,BQ15,BX15,CE15) -> 3064882.3 | CM15: =+TRIMMEAN((F15,M15,T15,AA15,AH15,AO15,AV15,BC15,BJ15,BQ15,BX15,CE15),(2/12)) -> 2788858.8 | CN15: =+MEDIAN(F15,M15,T15,AA15,AH15,AO15,AV15,BC15,BJ15,BQ15,BX15,CE15) -> 2875000 | CO15: =IFERROR(MODE(F15,M15,T15,AA15,AH15,AO15,AV15,BC15,BJ15,BQ15,BX15,CE15),"N/A") -> N/A | CP15: =+STDEV(F15,M15,T15,AA15,AH15,AO15,AV15,BC15,BJ15,BQ15,BX15,CE15)/CL15 -> 0.54639787 | CQ15: FUNDACIÓN UNIVERSITARIA COMPENSAR | CR15: UNIVERSIDAD DE LA SABANA
B16: TVJA.3 | C16: Entre 401 y 500 cupos | D16: 3200000 | E16: =(D16*19)/100 -> 608000 | F16: =D16+E16 -> 3808000 | I16: TVJA.3 | J16: Entre 401 y 500 cupos | K16: 2590000 | L16: 0 | M16: =+K16+L16 -> 2590000 | P16: TVJA.3 | Q16: Entre 401 y 500 cupos | R16: =2166000 -> 2166000 | S16: 0 | T16: =R16+S16 -> 2166000 | W16: TVJA.3 | X16: Entre 401 y 500 cupos | Y16: 575000000 | Z16: 0 | AA16: =+Y16/500 -> 1150000 | AD16: TVJA.3 | AE16: Entre 401 y 500 cupos | AF16: 1983744.3 | AG16: 0 | AH16: =AF16+AG16 -> 1983744.3 | AK16: TVJA.3 | AL16: Entre 401 y 500 cupos | AM16: 7350000 | AN16: 0 | AO16: =AM16+AN16 -> 7350000 | AR16: TVJA.3 | AS16: Entre 401 y 500 cupos | AT16: 1400000 | AU16: 0 | AV16: =AT16+AU16 -> 1400000 | AY16: TVJA.3 | AZ16: Entre 401 y 500 cupos | BA16: 2552400 | BB16: 484956 | BC16: 3037356 | BF16: TVJA.3 | BG16: Entre 401 y 500 cupos | BH16: 3100000 | BI16: 0 | BJ16: =BH16+BI16 -> 3100000 | BM16: TVJA.3 | BN16: Entre 401 y 500 cupos | BO16: 3000000 | BP16: 0 | BQ16: =BO16+BP16 -> 3000000 | BT16: TVJA.3 | BU16: Entre 401 y 500 cupos | BV16: 2000000 | BW16: 0 | BX16: =BV16+BW16 -> 2000000 | CA16: TVJA.3 | CB16: Entre 401 y 500 cupos | CC16: 3067222.2 | CD16: =CC16*0.19 -> 582772.22 | CE16: =CC16+CD16 -> 3649994.4 | CH16: TVJA.3 | CI16: Entre 401 y 500 cupos | CJ16: =+MAX(F16,M16,T16,AA16,AH16,AO16,AV16,BC16,BJ16,BQ16,BX16,CE16) -> 7350000 | CK16: =+MIN(F16,M16,T16,AA16,AH16,AO16,AV16,BC16,BJ16,BQ16,BX16,CE16) -> 1150000 | CL16: =+AVERAGE(F16,M16,T16,AA16,AH16,AO16,AV16,BC16,BJ16,BQ16,BX16,CE16) -> 2936257.9 | CM16: =+TRIMMEAN((F16,M16,T16,AA16,AH16,AO16,AV16,BC16,BJ16,BQ16,BX16,CE16),(2/12)) -> 2673509.5 | CN16: =+MEDIAN(F16,M16,T16,AA16,AH16,AO16,AV16,BC16,BJ16,BQ16,BX16,CE16) -> 2795000 | CO16: =IFERROR(MODE(F16,M16,T16,AA16,AH16,AO16,AV16,BC16,BJ16,BQ16,BX16,CE16),"N/A") -> N/A | CP16: =+STDEV(F16,M16,T16,AA16,AH16,AO16,AV16,BC16,BJ16,BQ16,BX16,CE16)/CL16 -> 0.55144573 | CQ16: FUNDACIÓN UNIVERSITARIA COMPENSAR | CR16: UNIVERSIDAD DE LA SABANA
B17: TVJA.4 | C17: Más de 500 cupos | D17: 2895000 | E17: =(D17*19)/100 -> 550050 | F17: =D17+E17 -> 3445050 | I17: TVJA.4 | J17: Más de 500 cupos | K17: 2500000 | L17: 0 | M17: =+K17+L17 -> 2500000 | P17: TVJA.4 | Q17: Más de 500 cupos | R17: =2057000 -> 2057000 | S17: 0 | T17: =R17+S17 -> 2057000 | W17: TVJA.4 | X17: Más de 500 cupos | Y17: 575000000 | Z17: 0 | AA17: =+Y17/500 -> 1150000 | AD17: TVJA.4 | AE17: Más de 500 cupos | AF17: 1964484.7 | AG17: 0 | AH17: =AF17+AG17 -> 1964484.7 | AK17: TVJA.4 | AL17: Más de 500 cupos (Hasta 700 personas) | AM17: 6790000 | AN17: 0 | AO17: =AM17+AN17 -> 6790000 | AR17: TVJA.4 | AS17: Más de 500 cupos | AT17: 1200000 | AU17: 0 | AV17: =AT17+AU17 -> 1200000 | AY17: TVJA.4 | AZ17: Más de 500 cupos | BA17: 2538000 | BB17: 482220 | BC17: 3020220 | BF17: TVJA.4 | BG17: Más de 500 cupos | BH17: 3000000 | BI17: 0 | BJ17: =BH17+BI17 -> 3000000 | BM17: TVJA.4 | BN17: Más de 500 cupos | BO17: 3000000 | BP17: 0 | BQ17: =BO17+BP17 -> 3000000 | BT17: TVJA.4 | BU17: Más de 500 cupos | BV17: 2000000 | BW17: 0 | BX17: =BV17+BW17 -> 2000000 | CA17: TVJA.4 | CB17: Más de 500 cupos | CC17: 2002222.2 | CD17: =CC17*0.19 -> 380422.22 | CE17: =CC17+CD17 -> 2382644.4 | CH17: TVJA.4 | CI17: Más de 500 cupos | CJ17: =+MAX(F17,M17,T17,AA17,AH17,AO17,AV17,BC17,BJ17,BQ17,BX17,CE17) -> 6790000 | CK17: =+MIN(F17,M17,T17,AA17,AH17,AO17,AV17,BC17,BJ17,BQ17,BX17,CE17) -> 1150000 | CL17: =+AVERAGE(F17,M17,T17,AA17,AH17,AO17,AV17,BC17,BJ17,BQ17,BX17,CE17) -> 2709116.6 | CM17: =+TRIMMEAN((F17,M17,T17,AA17,AH17,AO17,AV17,BC17,BJ17,BQ17,BX17,CE17),(2/12)) -> 2456939.9 | CN17: =+MEDIAN(F17,M17,T17,AA17,AH17,AO17,AV17,BC17,BJ17,BQ17,BX17,CE17) -> 2441322.2 | CO17: =IFERROR(MODE(F17,M17,T17,AA17,AH17,AO17,AV17,BC17,BJ17,BQ17,BX17,CE17),"N/A") -> 3000000 | CP17: =+STDEV(F17,M17,T17,AA17,AH17,AO17,AV17,BC17,BJ17,BQ17,BX17,CE17)/CL17 -> 0.54298301 | CQ17: FUNDACIÓN UNIVERSITARIA COMPENSAR | CR17: UNIVERSIDAD DE LA SABANA
A18: Temática | B18: Diseño 3D y VR | F18: Nivel | G18: Intermedio | I18: Diseño 3D y VR | M18: Nivel | N18: Intermedio | P18: Diseño 3D y VR | T18: Nivel | U18: Intermedio | W18: Diseño 3D y VR | AA18: Nivel | AB18: Intermedio | AD18: Diseño 3D y VR | AH18: Nivel | AI18: Intermedio | AK18: Diseño 3D y VR | AO18: Nivel | AP18: Intermedio | AR18: Diseño 3D y VR | AV18: Nivel | AW18: Intermedio | AY18: Diseño 3D y VR | BC18: Nivel | BD18: Intermedio | BF18: Diseño 3D y VR | BJ18: Nivel | BK18: Intermedio | BM18: Diseño 3D y VR | BQ18: Nivel | BR18: Intermedio | BT18: Diseño 3D y VR | BX18: Nivel | BY18: Intermedio | CA18: Diseño 3D y VR | CE18: Nivel | CF18: Intermedio
A19: MODALIDAD: Híbrido | B19: COD. | C19: RANGOS | D19: VALOR UNITARIO (SIN IVA) | E19: IVA (SI APLICA) | F19: TOTAL | I19: COD. | J19: RANGOS | K19: VALOR UNITARIO (SIN IVA) | L19: IVA (SI APLICA) | M19: TOTAL | P19: COD. | Q19: RANGOS | R19: VALOR UNITARIO (SIN IVA) | S19: IVA (SI APLICA) | T19: TOTAL | W19: COD. | X19: RANGOS | Y19: VALOR UNITARIO (SIN IVA) | Z19: IVA (SI APLICA) | AA19: TOTAL | AD19: COD. | AE19: RANGOS | AF19: VALOR UNITARIO (SIN IVA) | AG19: IVA (SI APLICA) | AH19: TOTAL | AK19: COD. | AL19: RANGOS | AM19: VALOR UNITARIO (SIN IVA) | AN19: IVA (SI APLICA) | AO19: TOTAL | AR19: COD. | AS19: RANGOS | AT19: VALOR UNITARIO (SIN IVA) | AU19: IVA (SI APLICA) | AV19: TOTAL | AY19: COD. | AZ19: RANGOS | BA19: VALOR UNITARIO (SIN IVA) | BB19: IVA (SI APLICA) | BC19: TOTAL | BF19: COD. | BG19: RANGOS | BH19: VALOR UNITARIO (SIN IVA) | BI19: IVA (SI APLICA) | BJ19: TOTAL | BM19: COD. | BN19: RANGOS | BO19: VALOR UNITARIO (SIN IVA) | BP19: IVA (SI APLICA) | BQ19: TOTAL | BT19: COD. | BU19: RANGOS | BV19: VALOR UNITARIO (SIN IVA) | BW19: IVA (SI APLICA) | BX19: TOTAL | CA19: COD. | CB19: RANGOS | CC19: VALOR UNITARIO (SIN IVA) | CD19: IVA (SI APLICA) | CE19: TOTAL | CH19: COD. | CI19: RANGOS | CJ19: Valor máximo | CK19: Valor mínimo | CL19: Promedio | CM19: Media Acotada | CN19: Mediana | CO19: Moda | CQ19: MAX | CR19: MIN
A20: Competencias técnicas: de 70 a 120 horas Habilidades socioemocionales: de 20 a 40 horas | B20: TDDI.1 | C20: Hasta 300 cupos | D20: 3500000 | E20: =(D20*19)/100 -> 665000 | F20: =D20+E20 -> 4165000 | I20: TDDI.1 | J20: Hasta 300 cupos | K20: 2950000 | L20: 0 | M20: =+K20+L20 -> 2950000 | P20: TDDI.1 | Q20: Hasta 300 cupos | R20: 2400000 | S20: 0 | T20: =R20+S20 -> 2400000 | W20: TDDI.1 | X20: Hasta 300 cupos | Y20: 387000000 | Z20: 0 | AA20: =+Y20/300 -> 1290000 | AD20: TDDI.1 | AE20: Hasta 300 cupos | AF20: 2003385.4 | AG20: 0 | AH20: =AF20+AG20 -> 2003385.4 | AK20: TDDI.1 | AL20: Hasta 300 cupos | AM20: 8400000 | AN20: 0 | AO20: =AM20+AN20 -> 8400000 | AR20: TDDI.1 | AS20: Hasta 300 cupos | AT20: 2100000 | AU20: 0 | AV20: =AT20+AU20 -> 2100000 | AY20: TDDI.1 | AZ20: Hasta 300 cupos | BA20: 2231000 | BB20: 423890 | BC20: 2654890 | BF20: TDDI.1 | BG20: Hasta 300 cupos | BH20: 3900000 | BI20: 0 | BJ20: =BH20+BI20 -> 3900000 | BM20: TDDI.1 | BN20: Hasta 300 cupos | BO20: 3000000 | BP20: 0 | BQ20: =BO20+BP20 -> 3000000 | BT20: TDDI.1 | BU20: Hasta 300 cupos | BV20: 2500000 | BW20: 0 | BX20: =BV20+BW20 -> 2500000 | CA20: TDDI.1 | CB20: Hasta 300 cupos | CC20: 3067222.2 | CD20: =CC20*0.19 -> 582772.22 | CE20: =CC20+CD20 -> 3649994.4 | CH20: TDDI.1 | CI20: Hasta 300 cupos | CJ20: =+MAX(F20,M20,T20,AA20,AH20,AO20,AV20,BC20,BJ20,BQ20,BX20,CE20) -> 8400000 | CK20: =+MIN(F20,M20,T20,AA20,AH20,AO20,AV20,BC20,BJ20,BQ20,BX20,CE20) -> 1290000 | CL20: =+AVERAGE(F20,M20,T20,AA20,AH20,AO20,AV20,BC20,BJ20,BQ20,BX20,CE20) -> 3251105.8 | CM20: =+TRIMMEAN((F20,M20,T20,AA20,AH20,AO20,AV20,BC20,BJ20,BQ20,BX20,CE20),(2/12)) -> 2932327 | CN20: =+MEDIAN(F20,M20,T20,AA20,AH20,AO20,AV20,BC20,BJ20,BQ20,BX20,CE20) -> 2802445 | CO20: =IFERROR(MODE(F20,M20,T20,AA20,AH20,AO20,AV20,BC20,BJ20,BQ20,BX20,CE20),"N/A") -> N/A | CP20: =+STDEV(F20,M20,T20,AA20,AH20,AO20,AV20,BC20,BJ20,BQ20,BX20,CE20)/CL20 -> 0.55992943 | CQ20: FUNDACIÓN UNIVERSITARIA COMPENSAR | CR20: UNIVERSIDAD DE LA SABANA
B21: TDDI.2 | C21: Entre 301 y 400 cupos | D21: 3300000 | E21: =(D21*19)/100 -> 627000 | F21: =D21+E21 -> 3927000 | I21: TDDI.2 | J21: Entre 301 y 400 cupos | K21: 2750000 | L21: 0 | M21: =+K21+L21 -> 2750000 | P21: TDDI.2 | Q21: Entre 301 y 400 cupos | R21: =2280000 -> 2280000 | S21: 0 | T21: =R21+S21 -> 2280000 | W21: TDDI.2 | X21: Entre 301 y 400 cupos | Y21: 466000000 | Z21: 0 | AA21: =+Y21/400 -> 1165000 | AD21: TDDI.2 | AE21: Entre 301 y 400 cupos | AF21: 1964103.3 | AG21: 0 | AH21: =AF21+AG21 -> 1964103.3 | AK21: TDDI.2 | AL21: Entre 301 y 400 cupos | AM21: 7725000 | AN21: 0 | AO21: =AM21+AN21 -> 7725000 | AR21: TDDI.2 | AS21: Entre 301 y 400 cupos | AT21: 1728000 | AU21: 0 | AV21: =AT21+AU21 -> 1728000 | AY21: TDDI.2 | AZ21: Entre 301 y 400 cupos | BA21: 2136000 | BB21: 405840 | BC21: 2541840 | BF21: TDDI.2 | BG21: Entre 301 y 400 cupos | BH21: 3480000 | BI21: 0 | BJ21: =BH21+BI21 -> 3480000 | BM21: TDDI.2 | BN21: Entre 301 y 400 cupos | BO21: 3000000 | BP21: 0 | BQ21: =BO21+BP21 -> 3000000 | BT21: TDDI.2 | BU21: Entre 301 y 400 cupos | BV21: 2200000 | BW21: 0 | BX21: =BV21+BW21 -> 2200000 | CA21: TDDI.2 | CB21: Entre 301 y 400 cupos | CC21: 3067222.2 | CD21: =CC21*0.19 -> 582772.22 | CE21: =CC21+CD21 -> 3649994.4 | CH21: TDDI.2 | CI21: Entre 301 y 400 cupos | CJ21: =+MAX(F21,M21,T21,AA21,AH21,AO21,AV21,BC21,BJ21,BQ21,BX21,CE21) -> 7725000 | CK21: =+MIN(F21,M21,T21,AA21,AH21,AO21,AV21,BC21,BJ21,BQ21,BX21,CE21) -> 1165000 | CL21: =+AVERAGE(F21,M21,T21,AA21,AH21,AO21,AV21,BC21,BJ21,BQ21,BX21,CE21) -> 3034244.8 | CM21: =+TRIMMEAN((F21,M21,T21,AA21,AH21,AO21,AV21,BC21,BJ21,BQ21,BX21,CE21),(2/12)) -> 2752093.8 | CN21: =+MEDIAN(F21,M21,T21,AA21,AH21,AO21,AV21,BC21,BJ21,BQ21,BX21,CE21) -> 2645920 | CO21: =IFERROR(MODE(F21,M21,T21,AA21,AH21,AO21,AV21,BC21,BJ21,BQ21,BX21,CE21),"N/A") -> N/A | CP21: =+STDEV(F21,M21,T21,AA21,AH21,AO21,AV21,BC21,BJ21,BQ21,BX21,CE21)/CL21 -> 0.55605086 | CQ21: FUNDACIÓN UNIVERSITARIA COMPENSAR | CR21: UNIVERSIDAD DE LA SABANA
B22: TDDI.3 | C22: Entre 401 y 500 cupos | D22: 3200000 | E22: =(D22*19)/100 -> 608000 | F22: =D22+E22 -> 3808000 | I22: TDDI.3 | J22: Entre 401 y 500 cupos | K22: 2590000 | L22: 0 | M22: =+K22+L22 -> 2590000 | P22: TDDI.3 | Q22: Entre 401 y 500 cupos | R22: =2166000 -> 2166000 | S22: 0 | T22: =R22+S22 -> 2166000 | W22: TDDI.3 | X22: Entre 401 y 500 cupos | Y22: 575000000 | Z22: 0 | AA22: =+Y22/500 -> 1150000 | AD22: TDDI.3 | AE22: Entre 401 y 500 cupos | AF22: 1945034.3 | AG22: 0 | AH22: =AF22+AG22 -> 1945034.3 | AK22: TDDI.3 | AL22: Entre 401 y 500 cupos | AM22: 7350000 | AN22: 0 | AO22: =AM22+AN22 -> 7350000 | AR22: TDDI.3 | AS22: Entre 401 y 500 cupos | AT22: 1400000 | AU22: 0 | AV22: =AT22+AU22 -> 1400000 | AY22: TDDI.3 | AZ22: Entre 401 y 500 cupos | BA22: 2127000 | BB22: 404130 | BC22: 2531130 | BF22: TDDI.3 | BG22: Entre 401 y 500 cupos | BH22: 3270000 | BI22: 0 | BJ22: =BH22+BI22 -> 3270000 | BM22: TDDI.3 | BN22: Entre 401 y 500 cupos | BO22: 3000000 | BP22: 0 | BQ22: =BO22+BP22 -> 3000000 | BT22: TDDI.3 | BU22: Entre 401 y 500 cupos | BV22: 2000000 | BW22: 0 | BX22: =BV22+BW22 -> 2000000 | CA22: TDDI.3 | CB22: Entre 401 y 500 cupos | CC22: 3067222.2 | CD22: =CC22*0.19 -> 582772.22 | CE22: =CC22+CD22 -> 3649994.4 | CH22: TDDI.3 | CI22: Entre 401 y 500 cupos | CJ22: =+MAX(F22,M22,T22,AA22,AH22,AO22,AV22,BC22,BJ22,BQ22,BX22,CE22) -> 7350000 | CK22: =+MIN(F22,M22,T22,AA22,AH22,AO22,AV22,BC22,BJ22,BQ22,BX22,CE22) -> 1150000 | CL22: =+AVERAGE(F22,M22,T22,AA22,AH22,AO22,AV22,BC22,BJ22,BQ22,BX22,CE22) -> 2905013.2 | CM22: =+TRIMMEAN((F22,M22,T22,AA22,AH22,AO22,AV22,BC22,BJ22,BQ22,BX22,CE22),(2/12)) -> 2636015.9 | CN22: =+MEDIAN(F22,M22,T22,AA22,AH22,AO22,AV22,BC22,BJ22,BQ22,BX22,CE22) -> 2560565 | CO22: =IFERROR(MODE(F22,M22,T22,AA22,AH22,AO22,AV22,BC22,BJ22,BQ22,BX22,CE22),"N/A") -> N/A | CP22: =+STDEV(F22,M22,T22,AA22,AH22,AO22,AV22,BC22,BJ22,BQ22,BX22,CE22)/CL22 -> 0.56028759 | CQ22: FUNDACIÓN UNIVERSITARIA COMPENSAR | CR22: UNIVERSIDAD DE LA SABANA
B23: TDDI.4 | C23: Más de 500 cupos | D23: 2895000 | E23: =(D23*19)/100 -> 550050 | F23: =D23+E23 -> 3445050 | I23: TDDI.4 | J23: Más de 500 cupos | K23: 2500000 | L23: 0 | M23: =+K23+L23 -> 2500000 | P23: TDDI.4 | Q23: Más de 500 cupos | R23: =2057000 -> 2057000 | S23: 0 | T23: =R23+S23 -> 2057000 | W23: TDDI.4 | X23: Más de 500 cupos | Y23: 575000000 | Z23: 0 | AA23: =+Y23/500 -> 1150000 | AD23: TDDI.4 | AE23: Más de 500 cupos | AF23: 1926332.1 | AG23: 0 | AH23: =AF23+AG23 -> 1926332.1 | AK23: TDDI.4 | AL23: Más de 500 cupos (Hasta 700 personas) | AM23: 6790000 | AN23: 0 | AO23: =AM23+AN23 -> 6790000 | AR23: TDDI.4 | AS23: Más de 500 cupos | AT23: 1200000 | AU23: 0 | AV23: =AT23+AU23 -> 1200000 | AY23: TDDI.4 | AZ23: Más de 500 cupos | BA23: 2115000 | BB23: 401850 | BC23: 2516850 | BF23: TDDI.4 | BG23: Más de 500 cupos | BH23: 3100000 | BI23: 0 | BJ23: =BH23+BI23 -> 3100000 | BM23: TDDI.4 | BN23: Más de 500 cupos | BO23: 3000000 | BP23: 0 | BQ23: =BO23+BP23 -> 3000000 | BT23: TDDI.4 | BU23: Más de 500 cupos | BV23: 2000000 | BW23: 0 | BX23: =BV23+BW23 -> 2000000 | CA23: TDDI.4 | CB23: Más de 500 cupos | CC23: 2002222.2 | CD23: =CC23*0.19 -> 380422.22 | CE23: =CC23+CD23 -> 2382644.4 | CH23: TDDI.4 | CI23: Más de 500 cupos | CJ23: =+MAX(F23,M23,T23,AA23,AH23,AO23,AV23,BC23,BJ23,BQ23,BX23,CE23) -> 6790000 | CK23: =+MIN(F23,M23,T23,AA23,AH23,AO23,AV23,BC23,BJ23,BQ23,BX23,CE23) -> 1150000 | CL23: =+AVERAGE(F23,M23,T23,AA23,AH23,AO23,AV23,BC23,BJ23,BQ23,BX23,CE23) -> 2672323 | CM23: =+TRIMMEAN((F23,M23,T23,AA23,AH23,AO23,AV23,BC23,BJ23,BQ23,BX23,CE23),(2/12)) -> 2412787.7 | CN23: =+MEDIAN(F23,M23,T23,AA23,AH23,AO23,AV23,BC23,BJ23,BQ23,BX23,CE23) -> 2441322.2 | CO23: =IFERROR(MODE(F23,M23,T23,AA23,AH23,AO23,AV23,BC23,BJ23,BQ23,BX23,CE23),"N/A") -> N/A | CP23: =+STDEV(F23,M23,T23,AA23,AH23,AO23,AV23,BC23,BJ23,BQ23,BX23,CE23)/CL23 -> 0.55104133 | CQ23: FUNDACIÓN UNIVERSITARIA COMPENSAR | CR23: UNIVERSIDAD DE LA SABANA
A24: Temática | B24: Diseño 3D y VR | F24: Nivel | G24: Avanzado | I24: Diseño 3D y VR | M24: Nivel | N24: Avanzado | P24: Diseño 3D y VR | T24: Nivel | U24: Avanzado | W24: Diseño 3D y VR | AA24: Nivel | AB24: Avanzado | AD24: Diseño 3D y VR | AH24: Nivel | AI24: Avanzado | AK24: Diseño 3D y VR | AO24: Nivel | AP24: Avanzado | AR24: Diseño 3D y VR | AV24: Nivel | AW24: Avanzado | AY24: Diseño 3D y VR | BC24: Nivel | BD24: Avanzado | BF24: Diseño 3D y VR | BJ24: Nivel | BK24: Avanzado | BM24: Diseño 3D y VR | BQ24: Nivel | BR24: Avanzado | BT24: Diseño 3D y VR | BX24: Nivel | BY24: Avanzado | CA24: Diseño 3D y VR | CE24: Nivel | CF24: Avanzado
A25: MODALIDAD: Híbrido | B25: COD. | C25: RANGOS | D25: VALOR UNITARIO (SIN IVA) | E25: IVA (SI APLICA) | F25: TOTAL | I25: COD. | J25: RANGOS | K25: VALOR UNITARIO (SIN IVA) | L25: IVA (SI APLICA) | M25: TOTAL | P25: COD. | Q25: RANGOS | R25: VALOR UNITARIO (SIN IVA) | S25: IVA (SI APLICA) | T25: TOTAL | W25: COD. | X25: RANGOS | Y25: VALOR UNITARIO (SIN IVA) | Z25: IVA (SI APLICA) | AA25: TOTAL | AD25: COD. | AE25: RANGOS | AF25: VALOR UNITARIO (SIN IVA) | AG25: IVA (SI APLICA) | AH25: TOTAL | AK25: COD. | AL25: RANGOS | AM25: VALOR UNITARIO (SIN IVA) | AN25: IVA (SI APLICA) | AO25: TOTAL | AR25: COD. | AS25: RANGOS | AT25: VALOR UNITARIO (SIN IVA) | AU25: IVA (SI APLICA) | AV25: TOTAL | AY25: COD. | AZ25: RANGOS | BA25: VALOR UNITARIO (SIN IVA) | BB25: IVA (SI APLICA) | BC25: TOTAL | BF25: COD. | BG25: RANGOS | BH25: VALOR UNITARIO (SIN IVA) | BI25: IVA (SI APLICA) | BJ25: TOTAL | BM25: COD. | BN25: RANGOS | BO25: VALOR UNITARIO (SIN IVA) | BP25: IVA (SI APLICA) | BQ25: TOTAL | BT25: COD. | BU25: RANGOS | BV25: VALOR UNITARIO (SIN IVA) | BW25: IVA (SI APLICA) | BX25: TOTAL | CA25: COD. | CB25: RANGOS | CC25: VALOR UNITARIO (SIN IVA) | CD25: IVA (SI APLICA) | CE25: TOTAL | CH25: COD. | CI25: RANGOS | CJ25: Valor máximo | CK25: Valor mínimo | CL25: Promedio | CM25: Media Acotada | CN25: Mediana | CO25: Moda | CQ25: MAX | CR25: MIN
A26: Competencias técnicas: de 70 a 120 horas Habilidades socioemocionales: de 20 a 40 horas | B26: TDDA.1 | C26: Hasta 300 cupos | D26: 3500000 | E26: =(D26*19)/100 -> 665000 | F26: =D26+E26 -> 4165000 | I26: TDDA.1 | J26: Hasta 300 cupos | K26: 2950000 | L26: 0 | M26: =+K26+L26 -> 2950000 | P26: TDDA.1 | Q26: Hasta 300 cupos | R26: 2400000 | S26: 0 | T26: =R26+S26 -> 2400000 | W26: TDDA.1 | X26: Hasta 300 cupos | Y26: 387000000 | Z26: 0 | AA26: =+Y26/300 -> 1290000 | AD26: TDDA.1 | AE26: Hasta 300 cupos | AF26: 2023419.2 | AG26: 0 | AH26: =AF26+AG26 -> 2023419.2 | AK26: TDDA.1 | AL26: Hasta 300 cupos | AM26: 8400000 | AN26: 0 | AO26: =AM26+AN26 -> 8400000 | AR26: TDDA.1 | AS26: Hasta 300 cupos | AT26: 2100000 | AU26: 0 | AV26: =AT26+AU26 -> 2100000 | AY26: TDDA.1 | AZ26: Hasta 300 cupos | BA26: 2677200 | BB26: 508668 | BC26: 3185868 | BF26: TDDA.1 | BG26: Hasta 300 cupos | BH26: 3900000 | BI26: 0 | BJ26: =BH26+BI26 -> 3900000 | BM26: TDDA.1 | BN26: Hasta 300 cupos | BO26: 3000000 | BP26: 0 | BQ26: =BO26+BP26 -> 3000000 | BT26: TDDA.1 | BU26: Hasta 300 cupos | BV26: 2500000 | BW26: 0 | BX26: =BV26+BW26 -> 2500000 | CA26: TDDA.1 | CB26: Hasta 300 cupos | CC26: 3067222.2 | CD26: =CC26*0.19 -> 582772.22 | CE26: =CC26+CD26 -> 3649994.4 | CH26: TDDA.1 | CI26: Hasta 300 cupos | CJ26: =+MAX(F26,M26,T26,AA26,AH26,AO26,AV26,BC26,BJ26,BQ26,BX26,CE26) -> 8400000 | CK26: =+MIN(F26,M26,T26,AA26,AH26,AO26,AV26,BC26,BJ26,BQ26,BX26,CE26) -> 1290000 | CL26: =+AVERAGE(F26,M26,T26,AA26,AH26,AO26,AV26,BC26,BJ26,BQ26,BX26,CE26) -> 3297023.5 | CM26: =+TRIMMEAN((F26,M26,T26,AA26,AH26,AO26,AV26,BC26,BJ26,BQ26,BX26,CE26),(2/12)) -> 2987428.2 | CN26: =+MEDIAN(F26,M26,T26,AA26,AH26,AO26,AV26,BC26,BJ26,BQ26,BX26,CE26) -> 2975000 | CO26: =IFERROR(MODE(F26,M26,T26,AA26,AH26,AO26,AV26,BC26,BJ26,BQ26,BX26,CE26),"N/A") -> N/A | CP26: =+STDEV(F26,M26,T26,AA26,AH26,AO26,AV26,BC26,BJ26,BQ26,BX26,CE26)/CL26 -> 0.5488947 | CQ26: FUNDACIÓN UNIVERSITARIA COMPENSAR | CR26: UNIVERSIDAD DE LA SABANA
B27: TDDA.2 | C27: Entre 301 y 400 cupos | D27: 3300000 | E27: =(D27*19)/100 -> 627000 | F27: =D27+E27 -> 3927000 | I27: TDDA.2 | J27: Entre 301 y 400 cupos | K27: 2750000 | L27: 0 | M27: =+K27+L27 -> 2750000 | P27: TDDA.2 | Q27: Entre 301 y 400 cupos | R27: =2280000 -> 2280000 | S27: 0 | T27: =R27+S27 -> 2280000 | W27: TDDA.2 | X27: Entre 301 y 400 cupos | Y27: 466000000 | Z27: 0 | AA27: =+Y27/400 -> 1165000 | AD27: TDDA.2 | AE27: Entre 301 y 400 cupos | AF27: 2003385.4 | AG27: 0 | AH27: =AF27+AG27 -> 2003385.4 | AK27: TDDA.2 | AL27: Entre 301 y 400 cupos | AM27: 7725000 | AN27: 0 | AO27: =AM27+AN27 -> 7725000 | AR27: TDDA.2 | AS27: Entre 301 y 400 cupos | AT27: 1728000 | AU27: 0 | AV27: =AT27+AU27 -> 1728000 | AY27: TDDA.2 | AZ27: Entre 301 y 400 cupos | BA27: 2563200 | BB27: 487008 | BC27: 3050208 | BF27: TDDA.2 | BG27: Entre 301 y 400 cupos | BH27: 3480000 | BI27: 0 | BJ27: =BH27+BI27 -> 3480000 | BM27: TDDA.2 | BN27: Entre 301 y 400 cupos | BO27: 3000000 | BP27: 0 | BQ27: =BO27+BP27 -> 3000000 | BT27: TDDA.2 | BU27: Entre 301 y 400 cupos | BV27: 2200000 | BW27: 0 | BX27: =BV27+BW27 -> 2200000 | CA27: TDDA.2 | CB27: Entre 301 y 400 cupos | CC27: 3067222.2 | CD27: =CC27*0.19 -> 582772.22 | CE27: =CC27+CD27 -> 3649994.4 | CH27: TDDA.2 | CI27: Entre 301 y 400 cupos | CJ27: =+MAX(F27,M27,T27,AA27,AH27,AO27,AV27,BC27,BJ27,BQ27,BX27,CE27) -> 7725000 | CK27: =+MIN(F27,M27,T27,AA27,AH27,AO27,AV27,BC27,BJ27,BQ27,BX27,CE27) -> 1165000 | CL27: =+AVERAGE(F27,M27,T27,AA27,AH27,AO27,AV27,BC27,BJ27,BQ27,BX27,CE27) -> 3079882.3 | CM27: =+TRIMMEAN((F27,M27,T27,AA27,AH27,AO27,AV27,BC27,BJ27,BQ27,BX27,CE27),(2/12)) -> 2806858.8 | CN27: =+MEDIAN(F27,M27,T27,AA27,AH27,AO27,AV27,BC27,BJ27,BQ27,BX27,CE27) -> 2875000 | CO27: =IFERROR(MODE(F27,M27,T27,AA27,AH27,AO27,AV27,BC27,BJ27,BQ27,BX27,CE27),"N/A") -> N/A | CP27: =+STDEV(F27,M27,T27,AA27,AH27,AO27,AV27,BC27,BJ27,BQ27,BX27,CE27)/CL27 -> 0.5447435 | CQ27: FUNDACIÓN UNIVERSITARIA COMPENSAR | CR27: UNIVERSIDAD DE LA SABANA
B28: TDDA.3 | C28: Entre 401 y 500 cupos | D28: 3200000 | E28: =(D28*19)/100 -> 608000 | F28: =D28+E28 -> 3808000 | I28: TDDA.3 | J28: Entre 401 y 500 cupos | K28: 2590000 | L28: 0 | M28: =+K28+L28 -> 2590000 | P28: TDDA.3 | Q28: Entre 401 y 500 cupos | R28: =2166000 -> 2166000 | S28: 0 | T28: =R28+S28 -> 2166000 | W28: TDDA.3 | X28: Entre 401 y 500 cupos | Y28: 575000000 | Z28: 0 | AA28: =+Y28/500 -> 1150000 | AD28: TDDA.3 | AE28: Entre 401 y 500 cupos | AF28: 1983744.3 | AG28: 0 | AH28: =AF28+AG28 -> 1983744.3 | AK28: TDDA.3 | AL28: Entre 401 y 500 cupos | AM28: 7350000 | AN28: 0 | AO28: =AM28+AN28 -> 7350000 | AR28: TDDA.3 | AS28: Entre 401 y 500 cupos | AT28: 1400000 | AU28: 0 | AV28: =AT28+AU28 -> 1400000 | AY28: TDDA.3 | AZ28: Entre 401 y 500 cupos | BA28: 2552400 | BB28: 484956 | BC28: 3037356 | BF28: TDDA.3 | BG28: Entre 401 y 500 cupos | BH28: 3270000 | BI28: 0 | BJ28: =BH28+BI28 -> 3270000 | BM28: TDDA.3 | BN28: Entre 401 y 500 cupos | BO28: 3000000 | BP28: 0 | BQ28: =BO28+BP28 -> 3000000 | BT28: TDDA.3 | BU28: Entre 401 y 500 cupos | BV28: 2000000 | BW28: 0 | BX28: =BV28+BW28 -> 2000000 | CA28: TDDA.3 | CB28: Entre 401 y 500 cupos | CC28: 3067222.2 | CD28: =CC28*0.19 -> 582772.22 | CE28: =CC28+CD28 -> 3649994.4 | CH28: TDDA.3 | CI28: Entre 401 y 500 cupos | CJ28: =+MAX(F28,M28,T28,AA28,AH28,AO28,AV28,BC28,BJ28,BQ28,BX28,CE28) -> 7350000 | CK28: =+MIN(F28,M28,T28,AA28,AH28,AO28,AV28,BC28,BJ28,BQ28,BX28,CE28) -> 1150000 | CL28: =+AVERAGE(F28,M28,T28,AA28,AH28,AO28,AV28,BC28,BJ28,BQ28,BX28,CE28) -> 2950424.6 | CM28: =+TRIMMEAN((F28,M28,T28,AA28,AH28,AO28,AV28,BC28,BJ28,BQ28,BX28,CE28),(2/12)) -> 2690509.5 | CN28: =+MEDIAN(F28,M28,T28,AA28,AH28,AO28,AV28,BC28,BJ28,BQ28,BX28,CE28) -> 2795000 | CO28: =IFERROR(MODE(F28,M28,T28,AA28,AH28,AO28,AV28,BC28,BJ28,BQ28,BX28,CE28),"N/A") -> N/A | CP28: =+STDEV(F28,M28,T28,AA28,AH28,AO28,AV28,BC28,BJ28,BQ28,BX28,CE28)/CL28 -> 0.54957913 | CQ28: FUNDACIÓN UNIVERSITARIA COMPENSAR | CR28: UNIVERSIDAD DE LA SABANA
B29: TDDA.4 | C29: Más de 500 cupos | D29: 2895000 | E29: =(D29*19)/100 -> 550050 | F29: =D29+E29 -> 3445050 | I29: TDDA.4 | J29: Más de 500 cupos | K29: 2500000 | L29: 0 | M29: =+K29+L29 -> 2500000 | P29: TDDA.4 | Q29: Más de 500 cupos | R29: =2057000 -> 2057000 | S29: 0 | T29: =R29+S29 -> 2057000 | W29: TDDA.4 | X29: Más de 500 cupos | Y29: 575000000 | Z29: 0 | AA29: =+Y29/500 -> 1150000 | AD29: TDDA.4 | AE29: Más de 500 cupos | AF29: 1964484.7 | AG29: 0 | AH29: =AF29+AG29 -> 1964484.7 | AK29: TDDA.4 | AL29: Más de 500 cupos (Hasta 700 personas) | AM29: 6790000 | AN29: 0 | AO29: =AM29+AN29 -> 6790000 | AR29: TDDA.4 | AS29: Más de 500 cupos | AT29: 1200000 | AU29: 0 | AV29: =AT29+AU29 -> 1200000 | AY29: TDDA.4 | AZ29: Más de 500 cupos | BA29: 2538000 | BB29: 482220 | BC29: 3020220 | BF29: TDDA.4 | BG29: Más de 500 cupos | BH29: 3100000 | BI29: 0 | BJ29: =BH29+BI29 -> 3100000 | BM29: TDDA.4 | BN29: Más de 500 cupos | BO29: 3000000 | BP29: 0 | BQ29: =BO29+BP29 -> 3000000 | BT29: TDDA.4 | BU29: Más de 500 cupos | BV29: 2000000 | BW29: 0 | BX29: =BV29+BW29 -> 2000000 | CA29: TDDA.4 | CB29: Más de 500 cupos | CC29: 2002222.2 | CD29: =CC29*0.19 -> 380422.22 | CE29: =CC29+CD29 -> 2382644.4 | CH29: TDDA.4 | CI29: Más de 500 cupos | CJ29: =+MAX(F29,M29,T29,AA29,AH29,AO29,AV29,BC29,BJ29,BQ29,BX29,CE29) -> 6790000 | CK29: =+MIN(F29,M29,T29,AA29,AH29,AO29,AV29,BC29,BJ29,BQ29,BX29,CE29) -> 1150000 | CL29: =+AVERAGE(F29,M29,T29,AA29,AH29,AO29,AV29,BC29,BJ29,BQ29,BX29,CE29) -> 2717449.9 | CM29: =+TRIMMEAN((F29,M29,T29,AA29,AH29,AO29,AV29,BC29,BJ29,BQ29,BX29,CE29),(2/12)) -> 2466939.9 | CN29: =+MEDIAN(F29,M29,T29,AA29,AH29,AO29,AV29,BC29,BJ29,BQ29,BX29,CE29) -> 2441322.2 | CO29: =IFERROR(MODE(F29,M29,T29,AA29,AH29,AO29,AV29,BC29,BJ29,BQ29,BX29,CE29),"N/A") -> N/A | CP29: =+STDEV(F29,M29,T29,AA29,AH29,AO29,AV29,BC29,BJ29,BQ29,BX29,CE29)/CL29 -> 0.54208312 | CQ29: FUNDACIÓN UNIVERSITARIA COMPENSAR | CR29: UNIVERSIDAD DE LA SABANA
A30: Temática | B30: Animación Digital | F30: Nivel | G30: Intermedio | I30: Animación Digital | M30: Nivel | N30: Intermedio | P30: Animación Digital | T30: Nivel | U30: Intermedio | W30: Animación Digital | AA30: Nivel | AB30: Intermedio | AD30: Animación Digital | AH30: Nivel | AI30: Intermedio | AO30: Nivel | AP30: Intermedio | AR30: Animación Digital | AV30: Nivel | AW30: Intermedio | AY30: Animación Digital | BC30: Nivel | BD30: Intermedio | BF30: Animación Digital | BJ30: Nivel | BK30: Intermedio | BM30: Animación Digital | BQ30: Nivel | BR30: Intermedio | BT30: Animación Digital | BX30: Nivel | BY30: Intermedio | CA30: Animación Digital | CE30: Nivel | CF30: Intermedio
A31: MODALIDAD: Híbrido | B31: COD. | C31: RANGOS | D31: VALOR UNITARIO (SIN IVA) | E31: IVA (SI APLICA) | F31: TOTAL | I31: COD. | J31: RANGOS | K31: VALOR UNITARIO (SIN IVA) | L31: IVA (SI APLICA) | M31: TOTAL | P31: COD. | Q31: RANGOS | R31: VALOR UNITARIO (SIN IVA) | S31: IVA (SI APLICA) | T31: TOTAL | W31: COD. | X31: RANGOS | Y31: VALOR UNITARIO (SIN IVA) | Z31: IVA (SI APLICA) | AA31: TOTAL | AD31: COD. | AE31: RANGOS | AF31: VALOR UNITARIO (SIN IVA) | AG31: IVA (SI APLICA) | AH31: TOTAL | AK31: COD. | AL31: RANGOS | AM31: VALOR UNITARIO (SIN IVA) | AN31: IVA (SI APLICA) | AO31: TOTAL | AR31: COD. | AS31: RANGOS | AT31: VALOR UNITARIO (SIN IVA) | AU31: IVA (SI APLICA) | AV31: TOTAL | AY31: COD. | AZ31: RANGOS | BA31: VALOR UNITARIO (SIN IVA) | BB31: IVA (SI APLICA) | BC31: TOTAL | BF31: COD. | BG31: RANGOS | BH31: VALOR UNITARIO (SIN IVA) | BI31: IVA (SI APLICA) | BJ31: TOTAL | BM31: COD. | BN31: RANGOS | BO31: VALOR UNITARIO (SIN IVA) | BP31: IVA (SI APLICA) | BQ31: TOTAL | BT31: COD. | BU31: RANGOS | BV31: VALOR UNITARIO (SIN IVA) | BW31: IVA (SI APLICA) | BX31: TOTAL | CA31: COD. | CB31: RANGOS | CC31: VALOR UNITARIO (SIN IVA) | CD31: IVA (SI APLICA) | CE31: TOTAL | CH31: COD. | CI31: RANGOS | CJ31: Valor máximo | CK31: Valor mínimo | CL31: Promedio | CM31: Media Acotada | CN31: Mediana | CO31: Moda | CQ31: MAX | CR31: MIN
A32: Competencias técnicas: de 70 a 120 horas Habilidades socioemocionales: de 20 a 40 horas | B32: TADI.1 | C32: Hasta 300 cupos | D32: 3500000 | E32: =(D32*19)/100 -> 665000 | F32: =D32+E32 -> 4165000 | I32: TADI.1 | J32: Hasta 300 cupos | K32: 2950000 | L32: 0 | M32: =+K32+L32 -> 2950000 | P32: TADI.1 | Q32: Hasta 300 cupos | R32: 2400000 | S32: 0 | T32: =R32+S32 -> 2400000 | W32: TADI.1 | X32: Hasta 300 cupos | Y32: 387000000 | Z32: 0 | AA32: =+Y32/300 -> 1290000 | AD32: TADI.1 | AE32: Hasta 300 cupos | AF32: 2003385.4 | AG32: 0 | AH32: =AF32+AG32 -> 2003385.4 | AK32: TADI.1 | AL32: Hasta 300 cupos | AM32: 8400000 | AN32: 0 | AO32: =AM32+AN32 -> 8400000 | AR32: TADI.1 | AS32: Hasta 300 cupos | AT32: 2100000 | AU32: 0 | AV32: =AT32+AU32 -> 2100000 | AY32: TADI.1 | AZ32: Hasta 300 cupos | BA32: 2231000 | BB32: 423890 | BC32: 2654890 | BF32: TADI.1 | BG32: Hasta 300 cupos | BH32: 3900000 | BI32: 0 | BJ32: =BH32+BI32 -> 3900000 | BM32: TADI.1 | BN32: Hasta 300 cupos | BO32: 3000000 | BP32: 0 | BQ32: =BO32+BP32 -> 3000000 | BT32: TADI.1 | BU32: Hasta 300 cupos | BV32: 2500000 | BW32: 0 | BX32: =BV32+BW32 -> 2500000 | CA32: TADI.1 | CB32: Hasta 300 cupos | CC32: 3067222.2 | CD32: =CC32*0.19 -> 582772.22 | CE32: =CC32+CD32 -> 3649994.4 | CH32: TADI.1 | CI32: Hasta 300 cupos | CJ32: =+MAX(F32,M32,T32,AA32,AH32,AO32,AV32,BC32,BJ32,BQ32,BX32,CE32) -> 8400000 | CK32: =+MIN(F32,M32,T32,AA32,AH32,AO32,AV32,BC32,BJ32,BQ32,BX32,CE32) -> 1290000 | CL32: =+AVERAGE(F32,M32,T32,AA32,AH32,AO32,AV32,BC32,BJ32,BQ32,BX32,CE32) -> 3251105.8 | CM32: =+TRIMMEAN((F32,M32,T32,AA32,AH32,AO32,AV32,BC32,BJ32,BQ32,BX32,CE32),(2/12)) -> 2932327 | CN32: =+MEDIAN(F32,M32,T32,AA32,AH32,AO32,AV32,BC32,BJ32,BQ32,BX32,CE32) -> 2802445 | CO32: =IFERROR(MODE(F32,M32,T32,AA32,AH32,AO32,AV32,BC32,BJ32,BQ32,BX32,CE32),"N/A") -> N/A | CP32: =+STDEV(F32,M32,T32,AA32,AH32,AO32,AV32,BC32,BJ32,BQ32,BX32,CE32)/CL32 -> 0.55992943 | CQ32: FUNDACIÓN UNIVERSITARIA COMPENSAR | CR32: UNIVERSIDAD DE LA SABANA
B33: TADI.2 | C33: Entre 301 y 400 cupos | D33: 3300000 | E33: =(D33*19)/100 -> 627000 | F33: =D33+E33 -> 3927000 | I33: TADI.2 | J33: Entre 301 y 400 cupos | K33: 2750000 | L33: 0 | M33: =+K33+L33 -> 2750000 | P33: TADI.2 | Q33: Entre 301 y 400 cupos | R33: =2280000 -> 2280000 | S33: 0 | T33: =R33+S33 -> 2280000 | W33: TADI.2 | X33: Entre 301 y 400 cupos | Y33: 466000000 | Z33: 0 | AA33: =+Y33/400 -> 1165000 | AD33: TADI.2 | AE33: Entre 301 y 400 cupos | AF33: 1964103.3 | AG33: 0 | AH33: =AF33+AG33 -> 1964103.3 | AK33: TADI.2 | AL33: Entre 301 y 400 cupos | AM33: 7725000 | AN33: 0 | AO33: =AM33+AN33 -> 7725000 | AR33: TADI.2 | AS33: Entre 301 y 400 cupos | AT33: 1728000 | AU33: 0 | AV33: =AT33+AU33 -> 1728000 | AY33: TADI.2 | AZ33: Entre 301 y 400 cupos | BA33: 2136000 | BB33: 405840 | BC33: 2541840 | BF33: TADI.2 | BG33: Entre 301 y 400 cupos | BH33: 3480000 | BI33: 0 | BJ33: =BH33+BI33 -> 3480000 | BM33: TADI.2 | BN33: Entre 301 y 400 cupos | BO33: 3000000 | BP33: 0 | BQ33: =BO33+BP33 -> 3000000 | BT33: TADI.2 | BU33: Entre 301 y 400 cupos | BV33: 2200000 | BW33: 0 | BX33: =BV33+BW33 -> 2200000 | CA33: TADI.2 | CB33: Entre 301 y 400 cupos | CC33: 3067222.2 | CD33: =CC33*0.19 -> 582772.22 | CE33: =CC33+CD33 -> 3649994.4 | CH33: TADI.2 | CI33: Entre 301 y 400 cupos | CJ33: =+MAX(F33,M33,T33,AA33,AH33,AO33,AV33,BC33,BJ33,BQ33,BX33,CE33) -> 7725000 | CK33: =+MIN(F33,M33,T33,AA33,AH33,AO33,AV33,BC33,BJ33,BQ33,BX33,CE33) -> 1165000 | CL33: =+AVERAGE(F33,M33,T33,AA33,AH33,AO33,AV33,BC33,BJ33,BQ33,BX33,CE33) -> 3034244.8 | CM33: =+TRIMMEAN((F33,M33,T33,AA33,AH33,AO33,AV33,BC33,BJ33,BQ33,BX33,CE33),(2/12)) -> 2752093.8 | CN33: =+MEDIAN(F33,M33,T33,AA33,AH33,AO33,AV33,BC33,BJ33,BQ33,BX33,CE33) -> 2645920 | CO33: =IFERROR(MODE(F33,M33,T33,AA33,AH33,AO33,AV33,BC33,BJ33,BQ33,BX33,CE33),"N/A") -> N/A | CP33: =+STDEV(F33,M33,T33,AA33,AH33,AO33,AV33,BC33,BJ33,BQ33,BX33,CE33)/CL33 -> 0.55605086 | CQ33: FUNDACIÓN UNIVERSITARIA COMPENSAR | CR33: UNIVERSIDAD DE LA SABANA
B34: TADI.3 | C34: Entre 401 y 500 cupos | D34: 3200000 | E34: =(D34*19)/100 -> 608000 | F34: =D34+E34 -> 3808000 | I34: TADI.3 | J34: Entre 401 y 500 cupos | K34: 2590000 | L34: 0 | M34: =+K34+L34 -> 2590000 | P34: TADI.3 | Q34: Entre 401 y 500 cupos | R34: =2166000 -> 2166000 | S34: 0 | T34: =R34+S34 -> 2166000 | W34: TADI.3 | X34: Entre 401 y 500 cupos | Y34: 575000000 | Z34: 0 | AA34: =+Y34/500 -> 1150000 | AD34: TADI.3 | AE34: Entre 401 y 500 cupos | AF34: 1945034.3 | AG34: 0 | AH34: =AF34+AG34 -> 1945034.3 | AK34: TADI.3 | AL34: Entre 401 y 500 cupos | AM34: 7350000 | AN34: 0 | AO34: =AM34+AN34 -> 7350000 | AR34: TADI.3 | AS34: Entre 401 y 500 cupos | AT34: 1400000 | AU34: 0 | AV34: =AT34+AU34 -> 1400000 | AY34: TADI.3 | AZ34: Entre 401 y 500 cupos | BA34: 2127000 | BB34: 404130 | BC34: 2531130 | BF34: TADI.3 | BG34: Entre 401 y 500 cupos | BH34: 3270000 | BI34: 0 | BJ34: =BH34+BI34 -> 3270000 | BM34: TADI.3 | BN34: Entre 401 y 500 cupos | BO34: 3000000 | BP34: 0 | BQ34: =BO34+BP34 -> 3000000 | BT34: TADI.3 | BU34: Entre 401 y 500 cupos | BV34: 2000000 | BW34: 0 | BX34: =BV34+BW34 -> 2000000 | CA34: TADI.3 | CB34: Entre 401 y 500 cupos | CC34: 3067222.2 | CD34: =CC34*0.19 -> 582772.22 | CE34: =CC34+CD34 -> 3649994.4 | CH34: TADI.3 | CI34: Entre 401 y 500 cupos | CJ34: =+MAX(F34,M34,T34,AA34,AH34,AO34,AV34,BC34,BJ34,BQ34,BX34,CE34) -> 7350000 | CK34: =+MIN(F34,M34,T34,AA34,AH34,AO34,AV34,BC34,BJ34,BQ34,BX34,CE34) -> 1150000 | CL34: =+AVERAGE(F34,M34,T34,AA34,AH34,AO34,AV34,BC34,BJ34,BQ34,BX34,CE34) -> 2905013.2 | CM34: =+TRIMMEAN((F34,M34,T34,AA34,AH34,AO34,AV34,BC34,BJ34,BQ34,BX34,CE34),(2/12)) -> 2636015.9 | CN34: =+MEDIAN(F34,M34,T34,AA34,AH34,AO34,AV34,BC34,BJ34,BQ34,BX34,CE34) -> 2560565 | CO34: =IFERROR(MODE(F34,M34,T34,AA34,AH34,AO34,AV34,BC34,BJ34,BQ34,BX34,CE34),"N/A") -> N/A | CP34: =+STDEV(F34,M34,T34,AA34,AH34,AO34,AV34,BC34,BJ34,BQ34,BX34,CE34)/CL34 -> 0.56028759 | CQ34: FUNDACIÓN UNIVERSITARIA COMPENSAR | CR34: UNIVERSIDAD DE LA SABANA
B35: TADI.4 | C35: Más de 500 cupos | D35: 2895000 | E35: =(D35*19)/100 -> 550050 | F35: =D35+E35 -> 3445050 | I35: TADI.4 | J35: Más de 500 cupos | K35: 2500000 | L35: 0 | M35: =+K35+L35 -> 2500000 | P35: TADI.4 | Q35: Más de 500 cupos | R35: =2057000 -> 2057000 | S35: 0 | T35: =R35+S35 -> 2057000 | W35: TADI.4 | X35: Más de 500 cupos | Y35: 575000000 | Z35: 0 | AA35: =+Y35/500 -> 1150000 | AD35: TADI.4 | AE35: Más de 500 cupos | AF35: 1926332.1 | AG35: 0 | AH35: =AF35+AG35 -> 1926332.1 | AK35: TADI.4 | AL35: Más de 500 cupos (Hasta 700 personas) | AM35: 6790000 | AN35: 0 | AO35: =AM35+AN35 -> 6790000 | AR35: TADI.4 | AS35: Más de 500 cupos | AT35: 1200000 | AU35: 0 | AV35: =AT35+AU35 -> 1200000 | AY35: TADI.4 | AZ35: Más de 500 cupos | BA35: 2115000 | BB35: 401850 | BC35: 2516850 | BF35: TADI.4 | BG35: Más de 500 cupos | BH35: 3100000 | BI35: 0 | BJ35: =BH35+BI35 -> 3100000 | BM35: TADI.4 | BN35: Más de 500 cupos | BO35: 3000000 | BP35: 0 | BQ35: =BO35+BP35 -> 3000000 | BT35: TADI.4 | BU35: Más de 500 cupos | BV35: 2000000 | BW35: 0 | BX35: =BV35+BW35 -> 2000000 | CA35: TADI.4 | CB35: Más de 500 cupos | CC35: 2002222.2 | CD35: =CC35*0.19 -> 380422.22 | CE35: =CC35+CD35 -> 2382644.4 | CH35: TADI.4 | CI35: Más de 500 cupos | CJ35: =+MAX(F35,M35,T35,AA35,AH35,AO35,AV35,BC35,BJ35,BQ35,BX35,CE35) -> 6790000 | CK35: =+MIN(F35,M35,T35,AA35,AH35,AO35,AV35,BC35,BJ35,BQ35,BX35,CE35) -> 1150000 | CL35: =+AVERAGE(F35,M35,T35,AA35,AH35,AO35,AV35,BC35,BJ35,BQ35,BX35,CE35) -> 2672323 | CM35: =+TRIMMEAN((F35,M35,T35,AA35,AH35,AO35,AV35,BC35,BJ35,BQ35,BX35,CE35),(2/12)) -> 2412787.7 | CN35: =+MEDIAN(F35,M35,T35,AA35,AH35,AO35,AV35,BC35,BJ35,BQ35,BX35,CE35) -> 2441322.2 | CO35: =IFERROR(MODE(F35,M35,T35,AA35,AH35,AO35,AV35,BC35,BJ35,BQ35,BX35,CE35),"N/A") -> N/A | CP35: =+STDEV(F35,M35,T35,AA35,AH35,AO35,AV35,BC35,BJ35,BQ35,BX35,CE35)/CL35 -> 0.55104133 | CQ35: FUNDACIÓN UNIVERSITARIA COMPENSAR | CR35: UNIVERSIDAD DE LA SABANA
A36: Temática | B36: Animación Digital | F36: Nivel | G36: Avanzado | I36: Animación Digital | M36: Nivel | N36: Avanzado | P36: Animación Digital | T36: Nivel | U36: Avanzado | W36: Animación Digital | AA36: Nivel | AB36: Avanzado | AD36: Animación Digital | AH36: Nivel | AI36: Avanzado | AO36: Nivel | AP36: Avanzado | AR36: Animación Digital | AV36: Nivel | AW36: Avanzado | AY36: Animación Digital | BC36: Nivel | BD36: Avanzado | BF36: Animación Digital | BJ36: Nivel | BK36: Avanzado | BM36: Animación Digital | BQ36: Nivel | BR36: Avanzado | BT36: Animación Digital | BX36: Nivel | BY36: Avanzado | CA36: Animación Digital | CE36: Nivel | CF36: Avanzado
A37: MODALIDAD: Híbrido | B37: COD. | C37: RANGOS | D37: VALOR UNITARIO (SIN IVA) | E37: IVA (SI APLICA) | F37: TOTAL | I37: COD. | J37: RANGOS | K37: VALOR UNITARIO (SIN IVA) | L37: IVA (SI APLICA) | M37: TOTAL | P37: COD. | Q37: RANGOS | R37: VALOR UNITARIO (SIN IVA) | S37: IVA (SI APLICA) | T37: TOTAL | W37: COD. | X37: RANGOS | Y37: VALOR UNITARIO (SIN IVA) | Z37: IVA (SI APLICA) | AA37: TOTAL | AD37: COD. | AE37: RANGOS | AF37: VALOR UNITARIO (SIN IVA) | AG37: IVA (SI APLICA) | AH37: TOTAL | AK37: COD. | AL37: RANGOS | AM37: VALOR UNITARIO (SIN IVA) | AN37: IVA (SI APLICA) | AO37: TOTAL | AR37: COD. | AS37: RANGOS | AT37: VALOR UNITARIO (SIN IVA) | AU37: IVA (SI APLICA) | AV37: TOTAL | AY37: COD. | AZ37: RANGOS | BA37: VALOR UNITARIO (SIN IVA) | BB37: IVA (SI APLICA) | BC37: TOTAL | BF37: COD. | BG37: RANGOS | BH37: VALOR UNITARIO (SIN IVA) | BI37: IVA (SI APLICA) | BJ37: TOTAL | BM37: COD. | BN37: RANGOS | BO37: VALOR UNITARIO (SIN IVA) | BP37: IVA (SI APLICA) | BQ37: TOTAL | BT37: COD. | BU37: RANGOS | BV37: VALOR UNITARIO (SIN IVA) | BW37: IVA (SI APLICA) | BX37: TOTAL | CA37: COD. | CB37: RANGOS | CC37: VALOR UNITARIO (SIN IVA) | CD37: IVA (SI APLICA) | CE37: TOTAL | CH37: COD. | CI37: RANGOS | CJ37: Valor máximo | CK37: Valor mínimo | CL37: Promedio | CM37: Media Acotada | CN37: Mediana | CO37: Moda | CQ37: MAX | CR37: MIN
A38: Competencias técnicas: de 70 a 120 horas Habilidades socioemocionales: de 20 a 40 horas | B38: TADA.1 | C38: Hasta 300 cupos | D38: 3500000 | E38: =(D38*19)/100 -> 665000 | F38: =D38+E38 -> 4165000 | I38: TADA.1 | J38: Hasta 300 cupos | K38: 2950000 | L38: 0 | M38: =+K38+L38 -> 2950000 | P38: TADA.1 | Q38: Hasta 300 cupos | R38: 2400000 | S38: 0 | T38: =R38+S38 -> 2400000 | W38: TADA.1 | X38: Hasta 300 cupos | Y38: 387000000 | Z38: 0 | AA38: =+Y38/300 -> 1290000 | AD38: TADA.1 | AE38: Hasta 300 cupos | AF38: 2023419.2 | AG38: 0 | AH38: =AF38+AG38 -> 2023419.2 | AK38: TADA.1 | AL38: Hasta 300 cupos | AM38: 8400000 | AN38: 0 | AO38: =AM38+AN38 -> 8400000 | AR38: TADA.1 | AS38: Hasta 300 cupos | AT38: 2100000 | AU38: 0 | AV38: =AT38+AU38 -> 2100000 | AY38: TADA.1 | AZ38: Hasta 300 cupos | BA38: 2677200 | BB38: 508668 | BC38: 3185868 | BF38: TADA.1 | BG38: Hasta 300 cupos | BH38: 3900000 | BI38: 0 | BJ38: =BH38+BI38 -> 3900000 | BM38: TADA.1 | BN38: Hasta 300 cupos | BO38: 3000000 | BP38: 0 | BQ38: =BO38+BP38 -> 3000000 | BT38: TADA.1 | BU38: Hasta 300 cupos | BV38: 2500000 | BW38: 0 | BX38: =BV38+BW38 -> 2500000 | CA38: TADA.1 | CB38: Hasta 300 cupos | CC38: 3067222.2 | CD38: =CC38*0.19 -> 582772.22 | CE38: =CC38+CD38 -> 3649994.4 | CH38: TADA.1 | CI38: Hasta 300 cupos | CJ38: =+MAX(F38,M38,T38,AA38,AH38,AO38,AV38,BC38,BJ38,BQ38,BX38,CE38) -> 8400000 | CK38: =+MIN(F38,M38,T38,AA38,AH38,AO38,AV38,BC38,BJ38,BQ38,BX38,CE38) -> 1290000 | CL38: =+AVERAGE(F38,M38,T38,AA38,AH38,AO38,AV38,BC38,BJ38,BQ38,BX38,CE38) -> 3297023.5 | CM38: =+TRIMMEAN((F38,M38,T38,AA38,AH38,AO38,AV38,BC38,BJ38,BQ38,BX38,CE38),(2/12)) -> 2987428.2 | CN38: =+MEDIAN(F38,M38,T38,AA38,AH38,AO38,AV38,BC38,BJ38,BQ38,BX38,CE38) -> 2975000 | CO38: =IFERROR(MODE(F38,M38,T38,AA38,AH38,AO38,AV38,BC38,BJ38,BQ38,BX38,CE38),"N/A") -> N/A | CP38: =+STDEV(F38,M38,T38,AA38,AH38,AO38,AV38,BC38,BJ38,BQ38,BX38,CE38)/CL38 -> 0.5488947 | CQ38: FUNDACIÓN UNIVERSITARIA COMPENSAR | CR38: UNIVERSIDAD DE LA SABANA
B39: TADA.2 | C39: Entre 301 y 400 cupos | D39: 3300000 | E39: =(D39*19)/100 -> 627000 | F39: =D39+E39 -> 3927000 | I39: TADA.2 | J39: Entre 301 y 400 cupos | K39: 2750000 | L39: 0 | M39: =+K39+L39 -> 2750000 | P39: TADA.2 | Q39: Entre 301 y 400 cupos | R39: =2280000 -> 2280000 | S39: 0 | T39: =R39+S39 -> 2280000 | W39: TADA.2 | X39: Entre 301 y 400 cupos | Y39: 466000000 | Z39: 0 | AA39: =+Y39/400 -> 1165000 | AD39: TADA.2 | AE39: Entre 301 y 400 cupos | AF39: 2003385.4 | AG39: 0 | AH39: =AF39+AG39 -> 2003385.4 | AK39: TADA.2 | AL39: Entre 301 y 400 cupos | AM39: 7725000 | AN39: 0 | AO39: =AM39+AN39 -> 7725000 | AR39: TADA.2 | AS39: Entre 301 y 400 cupos | AT39: 1728000 | AU39: 0 | AV39: =AT39+AU39 -> 1728000 | AY39: TADA.2 | AZ39: Entre 301 y 400 cupos | BA39: 2563200 | BB39: 487008 | BC39: 3050208 | BF39: TADA.2 | BG39: Entre 301 y 400 cupos | BH39: 3480000 | BI39: 0 | BJ39: =BH39+BI39 -> 3480000 | BM39: TADA.2 | BN39: Entre 301 y 400 cupos | BO39: 3000000 | BP39: 0 | BQ39: =BO39+BP39 -> 3000000 | BT39: TADA.2 | BU39: Entre 301 y 400 cupos | BV39: 2200000 | BW39: 0 | BX39: =BV39+BW39 -> 2200000 | CA39: TADA.2 | CB39: Entre 301 y 400 cupos | CC39: 3067222.2 | CD39: =CC39*0.19 -> 582772.22 | CE39: =CC39+CD39 -> 3649994.4 | CH39: TADA.2 | CI39: Entre 301 y 400 cupos | CJ39: =+MAX(F39,M39,T39,AA39,AH39,AO39,AV39,BC39,BJ39,BQ39,BX39,CE39) -> 7725000 | CK39: =+MIN(F39,M39,T39,AA39,AH39,AO39,AV39,BC39,BJ39,BQ39,BX39,CE39) -> 1165000 | CL39: =+AVERAGE(F39,M39,T39,AA39,AH39,AO39,AV39,BC39,BJ39,BQ39,BX39,CE39) -> 3079882.3 | CM39: =+TRIMMEAN((F39,M39,T39,AA39,AH39,AO39,AV39,BC39,BJ39,BQ39,BX39,CE39),(2/12)) -> 2806858.8 | CN39: =+MEDIAN(F39,M39,T39,AA39,AH39,AO39,AV39,BC39,BJ39,BQ39,BX39,CE39) -> 2875000 | CO39: =IFERROR(MODE(F39,M39,T39,AA39,AH39,AO39,AV39,BC39,BJ39,BQ39,BX39,CE39),"N/A") -> N/A | CP39: =+STDEV(F39,M39,T39,AA39,AH39,AO39,AV39,BC39,BJ39,BQ39,BX39,CE39)/CL39 -> 0.5447435 | CQ39: FUNDACIÓN UNIVERSITARIA COMPENSAR | CR39: UNIVERSIDAD DE LA SABANA
B40: TADA.3 | C40: Entre 401 y 500 cupos | D40: 3200000 | E40: =(D40*19)/100 -> 608000 | F40: =D40+E40 -> 3808000 | I40: TADA.3 | J40: Entre 401 y 500 cupos | K40: 2590000 | L40: 0 | M40: =+K40+L40 -> 2590000 | P40: TADA.3 | Q40: Entre 401 y 500 cupos | R40: =2166000 -> 2166000 | S40: 0 | T40: =R40+S40 -> 2166000 | W40: TADA.3 | X40: Entre 401 y 500 cupos | Y40: 575000000 | Z40: 0 | AA40: =+Y40/500 -> 1150000 | AD40: TADA.3 | AE40: Entre 401 y 500 cupos | AF40: 1983744.3 | AG40: 0 | AH40: =AF40+AG40 -> 1983744.3 | AK40: TADA.3 | AL40: Entre 401 y 500 cupos | AM40: 7350000 | AN40: 0 | AO40: =AM40+AN40 -> 7350000 | AR40: TADA.3 | AS40: Entre 401 y 500 cupos | AT40: 1400000 | AU40: 0 | AV40: =AT40+AU40 -> 1400000 | AY40: TADA.3 | AZ40: Entre 401 y 500 cupos | BA40: 2552400 | BB40: 484956 | BC40: 3037356 | BF40: TADA.3 | BG40: Entre 401 y 500 cupos | BH40: 3270000 | BI40: 0 | BJ40: =BH40+BI40 -> 3270000 | BM40: TADA.3 | BN40: Entre 401 y 500 cupos | BO40: 3000000 | BP40: 0 | BQ40: =BO40+BP40 -> 3000000 | BT40: TADA.3 | BU40: Entre 401 y 500 cupos | BV40: 2000000 | BW40: 0 | BX40: =BV40+BW40 -> 2000000 | CA40: TADA.3 | CB40: Entre 401 y 500 cupos | CC40: 3067222.2 | CD40: =CC40*0.19 -> 582772.22 | CE40: =CC40+CD40 -> 3649994.4 | CH40: TADA.3 | CI40: Entre 401 y 500 cupos | CJ40: =+MAX(F40,M40,T40,AA40,AH40,AO40,AV40,BC40,BJ40,BQ40,BX40,CE40) -> 7350000 | CK40: =+MIN(F40,M40,T40,AA40,AH40,AO40,AV40,BC40,BJ40,BQ40,BX40,CE40) -> 1150000 | CL40: =+AVERAGE(F40,M40,T40,AA40,AH40,AO40,AV40,BC40,BJ40,BQ40,BX40,CE40) -> 2950424.6 | CM40: =+TRIMMEAN((F40,M40,T40,AA40,AH40,AO40,AV40,BC40,BJ40,BQ40,BX40,CE40),(2/12)) -> 2690509.5 | CN40: =+MEDIAN(F40,M40,T40,AA40,AH40,AO40,AV40,BC40,BJ40,BQ40,BX40,CE40) -> 2795000 | CO40: =IFERROR(MODE(F40,M40,T40,AA40,AH40,AO40,AV40,BC40,BJ40,BQ40,BX40,CE40),"N/A") -> N/A | CP40: =+STDEV(F40,M40,T40,AA40,AH40,AO40,AV40,BC40,BJ40,BQ40,BX40,CE40)/CL40 -> 0.54957913 | CQ40: FUNDACIÓN UNIVERSITARIA COMPENSAR | CR40: UNIVERSIDAD DE LA SABANA
