Workbook

Sheet Proceso 1
A1: Propuesta presentada por: | B1: PROYECTAMOS COLOMBIA SAS | I1: Universidad Javeriana | P1: Corpración Universitaria Remington | W1: UNIVERSIDAD DE LA SABANA | AD1: UNIVERSITARIA AGUSTINIANA-UNIAGUSTINIANA | AK1: FUNDACIÓN UNIVERSITARIA COMPENSAR | AR1: Corporación Educativa Instituto Metropolitano de Educación -CIME | AY1: SGS COLOMBIA SAS | BF1: Universidad Ean | BM1: KUEPA EDUTECH S.A.S | BT1: UNIÓN TEMPORAL UT ATENEA-BS-ESCUELA-2024 | CA1: COGNOSONLINE SOLUTIONS COLOMBIA S.A. | CH1: Estadisticas
A2: Nit | B2: 900555513-3 | P2: 811005425-1 | W2: 860075558-1 | AD2: 830.027.493-6 | AK2: 860506140-6 | AR2: 811038955-5 | AY2: 860.049.921-0 | BF2: 860.026.058-1 | BM2: 900241770-1 | BT2: 901.904.832-1 | CA2: 830.074.045-1
A3: Correo electrónico: | B3: gerencia@proyectamoscolombia.com | P3: proyectos@uniremington.edu.co | W3: camila.rodriguez3@unisabana.edu.co | AD3: licitaciones@uniagustiniana.edu.co | AK3: contratosyproyectos@ucompensar.edu.co | AR3: luisa.restrepo@ime.edu.co | AY3: co.notificaciones@sgs.com; sugeys.deavila@sgs.com | BF3: dcgutierrez@universidadean.edu.co | BM3: jorge.garcia@kuepa.com | BT3: ehernandez@bscolombia.com.co | CA3: esanabria@cognosonline.com
A5: INDUSTRIAS CREATIVAS
A6: Temática | B6: Video Juegos | F6: Nivel | G6: imtermedio | M6: Nivel | N6: imtermedio | P6: Video Juegos | T6: Nivel | U6: imtermedio | W6: Video Juegos | AA6: Nivel | AB6: imtermedio | AD6: Video Juegos | AH6: Nivel | AI6: imtermedio | AK6: Video Juegos | AO6: Nivel | AP6: imtermedio | AR6: Video Juegos | AV6: Nivel | AW6: imtermedio | AY6: Video Juegos | BC6: Nivel | BD6: imtermedio | BF6: Video Juegos | BJ6: Nivel | BK6: imtermedio | BM6: Video Juegos | BQ6: Nivel | BR6: imtermedio | BT6: Video Juegos | BX6: Nivel | BY6: imtermedio | CA6: Video Juegos | CE6: Nivel | CF6: imtermedio
A7: MODALIDAD: Híbrido | B7: COD. | C7: RANGOS | D7: VALOR UNITARIO (SIN IVA) | E7: IVA (SI APLICA) | F7: TOTAL | I7: COD. | J7: RANGOS | K7: VALOR UNITARIO (SIN IVA) | L7: IVA (SI APLICA) | M7: TOTAL | P7: COD. | Q7: RANGOS | R7: VALOR UNITARIO (SIN IVA) | S7: IVA (SI APLICA) | T7: TOTAL | W7: COD. | X7: RANGOS | Y7: VALOR UNITARIO (SIN IVA) | Z7: IVA (SI APLICA) | AA7: TOTAL | AD7: COD. | AE7: RANGOS | AF7: VALOR UNITARIO (SIN IVA) | AG7: IVA (SI APLICA) | AH7: TOTAL | AK7: COD. | AL7: RANGOS | AM7: VALOR UNITARIO (SIN IVA) | AN7: IVA (SI APLICA) | AO7: TOTAL | AR7: COD. | AS7: RANGOS | AT7: VALOR UNITARIO (SIN IVA) | AU7: IVA (SI APLICA) | AV7: TOTAL | AY7: COD. | AZ7: RANGOS | BA7: VALOR UNITARIO (SIN IVA) | BB7: IVA (SI APLICA) | BC7: TOTAL | BF7: COD. | BG7: RANGOS | BH7: VALOR UNITARIO (SIN IVA) | BI7: IVA (SI APLICA) | BJ7: TOTAL | BM7: COD. | BN7: RANGOS | BO7: VALOR UNITARIO (SIN IVA) | BP7: IVA (SI APLICA) | BQ7: TOTAL | BT7: COD. | BU7: RANGOS | BV7: VALOR UNITARIO (SIN IVA) | BW7: IVA (SI APLICA) | BX7: TOTAL | CA7: COD. | CB7: RANGOS | CC7: VALOR UNITARIO (SIN IVA) | CD7: IVA (SI APLICA) | CE7: TOTAL | CH7: COD. | CI7: RANGOS | CJ7: Valor máximo | CK7: Valor mínimo | CL7: Promedio | CM7: Media Acotada | CN7: Mediana | CO7: Moda | CQ7: MAX | CR7: MIN
A8: Competencias técnicas: de 70 a 120 horas Habilidades socioemocionales: de 20 a 40 horas | B8: TVJI.1 | C8: Hasta 300 cupos | D8: 3500000 | E8: =(D8*19)/100 -> 665000 | F8: =D8+E8 -> 4165000 | I8: TVJI.1 | J8: Hasta 300 cupos | K8: 2950000 | L8: 0 | M8: =+K8+L8 -> 2950000 | P8: TVJI.1 | Q8: Hasta 300 cupos | R8: 2400000 | S8: 0 | T8: =R8+S8 -> 2400000 | W8: TVJI.1 | X8: Hasta 300 cupos | Y8: 387000000 | Z8: 0 | AA8: =+Y8/300 -> 1290000 | AD8: TVJI.1 | AE8: Hasta 300 cupos | AF8: 2003385.4 | AG8: 0 | AH8: =AF8+AG8 -> 2003385.4 | AK8: TVJI.1 | AL8: Hasta 300 cupos | AM8: 8400000 | AN8: 0 | AO8: =AM8+AN8 -> 8400000 | AR8: TVJI.1 | AS8: Hasta 300 cupos | AT8: 2100000 | AU8: 0 | AV8: =AT8+AU8 -> 2100000 | AY8: TVJI.1 | AZ8: Hasta 300 cupos | BA8: 2231000 | BB8: 423890 | BC8: 2654890 | BF8: TVJI.1 | BG8: Hasta 300 cupos | BH8: 3800000 | BI8: 0 | BJ8: =BH8+BI8 -> 3800000 | BM8: TVJI.1 | BN8: Hasta 300 cupos | BO8: 3000000 | BP8: 0 | BQ8: =BO8+BP8 -> 3000000 | BT8: TVJI.1 | BU8: Hasta 300 cupos | BV8: 2500000 | BW8: 0 | BX8: =BV8+BW8 -> 2500000 | CA8: TVJI.1 | CB8: Hasta 300 cupos | CC8: =1840333.33333333*5/3 -> 3067222.2 | CD8: =CC8*0.19 -> 582772.22 | CE8: =CC8+CD8 -> 3649994.4 | CH8: TVJI.1 | CI8: Hasta 300 cupos | CJ8: =+MAX(F8,M8,T8,AA8,AH8,AO8,AV8,BC8,BJ8,BQ8,BX8,CE8) -> 8400000 | CK8: =+MIN(F8,M8,T8,AA8,AH8,AO8,AV8,BC8,BJ8,BQ8,BX8,CE8) -> 1290000 | CL8: =+AVERAGE(F8,M8,T8,AA8,AH8,AO8,AV8,BC8,BJ8,BQ8,BX8,CE8) -> 3242772.5 | CM8: =+TRIMMEAN((F8,M8,T8,AA8,AH8,AO8,AV8,BC8,BJ8,BQ8,BX8,CE8),(2/12)) -> 2922327 | CN8: =+MEDIAN(F8,M8,T8,AA8,AH8,AO8,AV8,BC8,BJ8,BQ8,BX8,CE8) -> 2802445 | CO8: =IFERROR(MODE(F8,M8,T8,AA8,AH8,AO8,AV8,BC8,BJ8,BQ8,BX8,CE8),"N/A") -> N/A | CP8: =+STDEV(F8,M8,T8,AA8,AH8,AO8,AV8,BC8,BJ8,BQ8,BX8,CE8)/CL8 -> 0.56043885 | CQ8: FUNDACIÓN UNIVERSITARIA COMPENSAR | CR8: UNIVERSIDAD DE LA SABANA
B9: TVJI.2 | C9: Entre 301 y 400 cupos | D9: 3300000 | E9: =(D9*19)/100 -> 627000 | F9: =D9+E9 -> 3927000 | I9: TVJI.2 | J9: Entre 301 y 400 cupos | K9: 2750000 | L9: 0 | M9: =+K9+L9 -> 2750000 | P9: TVJI.2 | Q9: Entre 301 y 400 cupos | R9: =2280000 -> 2280000 | S9: 0 | T9: =R9+S9 -> 2280000 | W9: TVJI.2 | X9: Entre 301 y 400 cupos | Y9: 466000000 | Z9: 0 | AA9: =+Y9/400 -> 1165000 | AD9: TVJI.2 | AE9: Entre 301 y 400 cupos | AF9: 1964103.3 | AG9: 0 | AH9: =AF9+AG9 -> 1964103.3 | AK9: TVJI.2 | AL9: Entre 301 y 400 cupos | AM9: 7725000 | AN9: 0 | AO9: =AM9+AN9 -> 7725000 | AR9: TVJI.2 | AS9: Entre 301 y 400 cupos | AT9: 1728000 | AU9: 0 | AV9: =AT9+AU9 -> 1728000 | AY9: TVJI.2 | AZ9: Entre 301 y 400 cupos | BA9: 2136000 | BB9: 405840 | BC9: 2541840 | BF9: TVJI.2 | BG9: Entre 301 y 400 cupos | BH9: 3300000 | BI9: 0 | BJ9: =BH9+BI9 -> 3300000 | BM9: TVJI.2 | BN9: Entre 301 y 400 cupos | BO9: 3000000 | BP9: 0 | BQ9: =BO9+BP9 -> 3000000 | BT9: TVJI.2 | BU9: Entre 301 y 400 cupos | BV9: 2200000 | BW9: 0 | BX9: =BV9+BW9 -> 2200000 | CA9: TVJI.2 | CB9: Entre 301 y 400 cupos | CC9: =CC8 -> 3067222.2 | CD9: =CC9*0.19 -> 582772.22 | CE9: =CC9+CD9 -> 3649994.4 | CH9: TVJI.2 | CI9: Entre 301 y 400 cupos | CJ9: =+MAX(F9,M9,T9,AA9,AH9,AO9,AV9,BC9,BJ9,BQ9,BX9,CE9) -> 7725000 | CK9: =+MIN(F9,M9,T9,AA9,AH9,AO9,AV9,BC9,BJ9,BQ9,BX9,CE9) -> 1165000 | CL9: =+AVERAGE(F9,M9,T9,AA9,AH9,AO9,AV9,BC9,BJ9,BQ9,BX9,CE9) -> 3019244.8 | CM9: =+TRIMMEAN((F9,M9,T9,AA9,AH9,AO9,AV9,BC9,BJ9,BQ9,BX9,CE9),(2/12)) -> 2734093.8 | CN9: =+MEDIAN(F9,M9,T9,AA9,AH9,AO9,AV9,BC9,BJ9,BQ9,BX9,CE9) -> 2645920 | CO9: =IFERROR(MODE(F9,M9,T9,AA9,AH9,AO9,AV9,BC9,BJ9,BQ9,BX9,CE9),"N/A") -> N/A | CP9: =+STDEV(F9,M9,T9,AA9,AH9,AO9,AV9,BC9,BJ9,BQ9,BX9,CE9)/CL9 -> 0.55764529 | CQ9: FUNDACIÓN UNIVERSITARIA COMPENSAR | CR9: UNIVERSIDAD DE LA SABANA
B10: TVJI.3 | C10: Entre 401 y 500 cupos | D10: 3200000 | E10: =(D10*19)/100 -> 608000 | F10: =D10+E10 -> 3808000 | I10: TVJI.3 | J10: Entre 401 y 500 cupos | K10: 2590000 | L10: 0 | M10: =+K10+L10 -> 2590000 | P10: TVJI.3 | Q10: Entre 401 y 500 cupos | R10: =2166000 -> 2166000 | S10: 0 | T10: =R10+S10 -> 2166000 | W10: TVJI.3 | X10: Entre 401 y 500 cupos | Y10: 575000000 | Z10: 0 | AA10: =+Y10/500 -> 1150000 | AD10: TVJI.3 | AE10: Entre 401 y 500 cupos | AF10: 1945034.3 | AG10: 0 | AH10: =AF10+AG10 -> 1945034.3 | AK10: TVJI.3 | AL10: Entre 401 y 500 cupos | AM10: 7350000 | AN10: 0 | AO10: =AM10+AN10 -> 7350000 | AR10: TVJI.3 | AS10: Entre 401 y 500 cupos | AT10: 1400000 | AU10: 0 | AV10: =AT10+AU10 -> 1400000 | AY10: TVJI.3 | AZ10: Entre 401 y 500 cupos | BA10: 2127000 | BB10: 404130 | BC10: 2531130 | BF10: TVJI.3 | BG10: Entre 401 y 500 cupos | BH10: 3100000 | BI10: 0 | BJ10: =BH10+BI10 -> 3100000 | BM10: TVJI.3 | BN10: Entre 401 y 500 cupos | BO10: 3000000 | BP10: 0 | BQ10: =BO10+BP10 -> 3000000 | BT10: TVJI.3 | BU10: Entre 401 y 500 cupos | BV10: 2000000 | BW10: 0 | BX10: =BV10+BW10 -> 2000000 | CA10: TVJI.3 | CB10: Entre 401 y 500 cupos | CC10: =CC9 -> 3067222.2 | CD10: =CC10*0.19 -> 582772.22 | CE10: =CC10+CD10 -> 3649994.4 | CH10: TVJI.3 | CI10: Entre 401 y 500 cupos | CJ10: =+MAX(F10,M10,T10,AA10,AH10,AO10,AV10,BC10,BJ10,BQ10,BX10,CE10) -> 7350000 | CK10: =+MIN(F10,M10,T10,AA10,AH10,AO10,AV10,BC10,BJ10,BQ10,BX10,CE10) -> 1150000 | CL10: =+AVERAGE(F10,M10,T10,AA10,AH10,AO10,AV10,BC10,BJ10,BQ10,BX10,CE10) -> 2890846.6 | CM10: =+TRIMMEAN((F10,M10,T10,AA10,AH10,AO10,AV10,BC10,BJ10,BQ10,BX10,CE10),(2/12)) -> 2619015.9 | CN10: =+MEDIAN(F10,M10,T10,AA10,AH10,AO10,AV10,BC10,BJ10,BQ10,BX10,CE10) -> 2560565 | CO10: =IFERROR(MODE(F10,M10,T10,AA10,AH10,AO10,AV10,BC10,BJ10,BQ10,BX10,CE10),"N/A") -> N/A | CP10: =+STDEV(F10,M10,T10,AA10,AH10,AO10,AV10,BC10,BJ10,BQ10,BX10,CE10)/CL10 -> 0.56208962 | CQ10: FUNDACIÓN UNIVERSITARIA COMPENSAR | CR10: UNIVERSIDAD DE LA SABANA
B11: TVJI.4 | C11: Más de 500 cupos | D11: 2895000 | E11: =(D11*19)/100 -> 550050 | F11: =D11+E11 -> 3445050 | I11: TVJI.4 | J11: Más de 500 cupos | K11: 2500000 | L11: 0 | M11: =+K11+L11 -> 2500000 | P11: TVJI.4 | Q11: Más de 500 cupos | R11: =2057000 -> 2057000 | S11: 0 | T11: =R11+S11 -> 2057000 | W11: TVJI.4 | X11: Más de 500 cupos | Y11: 575000000 | Z11: 0 | AA11: =+Y11/500 -> 1150000 | AD11: TVJI.4 | AE11: Más de 500 cupos | AF11: 1926332.1 | AG11: 0 | AH11: =AF11+AG11 -> 1926332.1 | AK11: TVJI.4 | AL11: Más de 500 cupos (Hasta 700 personas) | AM11: 6790000 | AN11: 0 | AO11: =AM11+AN11 -> 6790000 | AR11: TVJI.4 | AS11: Más de 500 cupos | AT11: 1200000 | AU11: 0 | AV11: =AT11+AU11 -> 1200000 | AY11: TVJI.4 | AZ11: Más de 500 cupos | BA11: 2115000 | BB11: 401850 | BC11: 2516850 | BF11: TVJI.4 | BG11: Más de 500 cupos | BH11: 3000000 | BI11: 0 | BJ11: =BH11+BI11 -> 3000000 | BM11: TVJI.4 | BN11: Más de 500 cupos | BO11: 3000000 | BP11: 0 | BQ11: =BO11+BP11 -> 3000000 | BT11: TVJI.4 | BU11: Más de 500 cupos | BV11: 2000000 | BW11: 0 | BX11: =BV11+BW11 -> 2000000 | CA11: TVJI.4 | CB11: Más de 500 cupos | CC11: =1201333.33333333*5/3 -> 2002222.2 | CD11: =CC11*0.19 -> 380422.22 | CE11: =CC11+CD11 -> 2382644.4 | CH11: TVJI.4 | CI11: Más de 500 cupos | CJ11: =+MAX(F11,M11,T11,AA11,AH11,AO11,AV11,BC11,BJ11,BQ11,BX11,CE11) -> 6790000 | CK11: =+MIN(F11,M11,T11,AA11,AH11,AO11,AV11,BC11,BJ11,BQ11,BX11,CE11) -> 1150000 | CL11: =+AVERAGE(F11,M11,T11,AA11,AH11,AO11,AV11,BC11,BJ11,BQ11,BX11,CE11) -> 2663989.7 | CM11: =+TRIMMEAN((F11,M11,T11,AA11,AH11,AO11,AV11,BC11,BJ11,BQ11,BX11,CE11),(2/12)) -> 2402787.7 | CN11: =+MEDIAN(F11,M11,T11,AA11,AH11,AO11,AV11,BC11,BJ11,BQ11,BX11,CE11) -> 2441322.2 | CO11: =IFERROR(MODE(F11,M11,T11,AA11,AH11,AO11,AV11,BC11,BJ11,BQ11,BX11,CE11),"N/A") -> 3000000 | CP11: =+STDEV(F11,M11,T11,AA11,AH11,AO11,AV11,BC11,BJ11,BQ11,BX11,CE11)/CL11 -> 0.55187947 | CQ11: FUNDACIÓN UNIVERSITARIA COMPENSAR | CR11: UNIVERSIDAD DE LA SABANA
A12: Temática | B12: Video Juegos | F12: Nivel | G12: Avanzado | I12: Video Juegos | M12: Nivel | N12: Avanzado | P12: Video Juegos | T12: Nivel | U12: Avanzado | W12: Video Juegos | AA12: Nivel | AB12: Avanzado | AD12: Video Juegos | AH12: Nivel | AI12: Avanzado | AK12: Video Juegos | AO12: Nivel | AP12: Avanzado | AR12: Video Juegos | AV12: Nivel | AW12: Avanzado | AY12: Video Juegos | BC12: Nivel | BD12: Avanzado | BF12: Video Juegos | BJ12: Nivel | BK12: Avanzado | BM12: Video Juegos | BQ12: Nivel | BR12: Avanzado | BT12: Video Juegos | BX12: Nivel | BY12: Avanzado | CA12: Video Juegos | CE12: Nivel | CF12: Avanzado
A13: MODALIDAD: Híbrido | B13: COD. | C13: RANGOS | D13: VALOR UNITARIO (SIN IVA) | E13: IVA (SI APLICA) | F13: TOTAL | I13: COD. | J13: RANGOS | K13: VALOR UNITARIO (SIN IVA) | L13: IVA (SI APLICA) | M13: TOTAL | P13: COD. | Q13: RANGOS | R13: VALOR UNITARIO (SIN IVA) | S13: IVA (SI APLICA) | T13: TOTAL | W13: COD. | X13: RANGOS | Y13: VALOR UNITARIO (SIN IVA) | Z13: IVA (SI APLICA) | AA13: TOTAL | AD13: COD. | AE13: RANGOS | AF13: VALOR UNITARIO (SIN IVA) | AG13: IVA (SI APLICA) | AH13: TOTAL | AK13: COD. | AL13: RANGOS | AM13: VALOR UNITARIO (SIN IVA) | AN13: IVA (SI APLICA) | AO13: TOTAL | AR13: COD. | AS13: RANGOS | AT13: VALOR UNITARIO (SIN IVA) | AU13: IVA (SI APLICA) | AV13: TOTAL | AY13: COD. | AZ13: RANGOS | BA13: VALOR UNITARIO (SIN IVA) | BB13: IVA (SI APLICA) | BC13: TOTAL | BF13: COD. | BG13: RANGOS | BH13: VALOR UNITARIO (SIN IVA) | BI13: IVA (SI APLICA) | BJ13: TOTAL | BM13: COD. | BN13: RANGOS | BO13: VALOR UNITARIO (SIN IVA) | BP13: IVA (SI APLICA) | BQ13: TOTAL | BT13: COD. | BU13: RANGOS | BV13: VALOR UNITARIO (SIN IVA) | BW13: IVA (SI APLICA) | BX13: TOTAL | CA13: COD. | CB13: RANGOS | CC13: VALOR UNITARIO (SIN IVA) | CD13: IVA (SI APLICA) | CE13: TOTAL | CH13: COD. | CI13: RANGOS | CJ13: Valor máximo | CK13: Valor mínimo | CL13: Promedio | CM13: Media Acotada | CN13: Mediana | CO13: Moda | CQ13: MAX | CR13: MIN
A14: Competencias técnicas: de 70 a 120 horas Habilidades socioemocionales: de 20 a 40 horas | B14: TVJA.1 | C14: Hasta 300 cupos | D14: 3500000 | E14: =(D14*19)/100 -> 665000 | F14: =D14+E14 -> 4165000 | I14: TVJA.1 | J14: Hasta 300 cupos | K14: 2950000 | L14: 0 | M14: =+K14+L14 -> 2950000 | P14: TVJA.1 | Q14: Hasta 300 cupos | R14: 2400000 | S14: 0 | T14: =R14+S14 -> 2400000 | W14: TVJA.1 | X14: Hasta 300 cupos | Y14: 387000000 | Z14: 0 | AA14: =+Y14/300 -> 1290000 | AD14: TVJA.1 | AE14: Hasta 300 cupos | AF14: 2023419.2 | AG14: 0 | AH14: =AF14+AG14 -> 2023419.2 | AK14: TVJA.1 | AL14: Hasta 300 cupos | AM14: 8400000 | AN14: 0 | AO14: =AM14+AN14 -> 8400000 | AR14: TVJA.1 | AS14: Hasta 300 cupos | AT14: 2100000 | AU14: 0 | AV14: =AT14+AU14 -> 2100000 | AY14: TVJA.1 | AZ14: Hasta 300 cupos | BA14: 2677200 | BB14: 508668 | BC14: 3185868 | BF14: TVJA.1 | BG14: Hasta 300 cupos | BH14: 3800000 | BI14: 0 | BJ14: =BH14+BI14 -> 3800000 | BM14: TVJA.1 | BN14: Hasta 300 cupos | BO14: 3000000 | BP14: 0 | BQ14: =BO14+BP14 -> 3000000 | BT14: TVJA.1 | BU14: Hasta 300 cupos | BV14: 2500000 | BW14: 0 | BX14: =BV14+BW14 -> 2500000 | CA14: TVJA.1 | CB14: Hasta 300 cupos | CC14: 3067222.2 | CD14: =CC14*0.19 -> 582772.22 | CE14: =CC14+CD14 -> 3649994.4 | CH14: TVJA.1 | CI14: Hasta 300 cupos | CJ14: =+MAX(F14,M14,T14,AA14,AH14,AO14,AV14,BC14,BJ14,BQ14,BX14,CE14) -> 8400000 | CK14: =+MIN(F14,M14,T14,AA14,AH14,AO14,AV14,BC14,BJ14,BQ14,BX14,CE14) -> 1290000 | CL14: =+AVERAGE(F14,M14,T14,AA14,AH14,AO14,AV14,BC14,BJ14,BQ14,BX14,CE14) -> 3288690.1 | CM14: =+TRIMMEAN((F14,M14,T14,AA14,AH14,AO14,AV14,BC14,BJ14,BQ14,BX14,CE14),(2/12)) -> 2977428.2 | CN14: =+MEDIAN(F14,M14,T14,AA14,AH14,AO14,AV14,BC14,BJ14,BQ14,BX14,CE14) -> 2975000 | CO14: =IFERROR(MODE(F14,M14,T14,AA14,AH14,AO14,AV14,BC14,BJ14,BQ14,BX14,CE14),"N/A") -> N/A | CP14: =+STDEV(F14,M14,T14,AA14,AH14,AO14,AV14,BC14,BJ14,BQ14,BX14,CE14)/CL14 -> 0.54943388 | CQ14: FUNDACIÓN UNIVERSITARIA COMPENSAR | CR14: UNIVERSIDAD DE LA SABANA
B15: TVJA.2 | C15: Entre 301 y 400 cupos | D15: 3300000 | E15: =(D15*19)/100 -> 627000 | F15: =D15+E15 -> 3927000 | I15: TVJA.2 | J15: Entre 301 y 400 cupos | K15: 2750000 | L15: 0 | M15: =+K15+L15 -> 2750000 | P15: TVJA.2 | Q15: Entre 301 y 400 cupos | R15: =2280000 -> 2280000 | S15: 0 | T15: =R15+S15 -> 2280000 | W15: TVJA.2 | X15: Entre 301 y 400 cupos | Y15: 466000000 | Z15: 0 | AA15: =+Y15/400 -> 1165000 | AD15: TVJA.2 | AE15: Entre 301 y 400 cupos | AF15: 2003385.4 | AG15: 0 | AH15: =AF15+AG15 -> 2003385.4 | AK15: TVJA.2 | AL15: Entre 301 y 400 cupos | AM15: 7725000 | AN15: 0 | AO15: =AM15+AN15 -> 7725000 | AR15: TVJA.2 | AS15: Entre 301 y 400 cupos | AT15: 1728000 | AU15: 0 | AV15: =AT15+AU15 -> 1728000 | AY15: TVJA.2 | AZ15: Entre 301 y 400 cupos | BA15: 2563200 | BB15: 487008 | BC15: 3050208 | BF15: TVJA.2 | BG15: Entre 301 y 400 cupos | BH15: 3300000 | BI15: 0 | BJ15: =BH15+BI15 -> 3300000 | BM15: TVJA.2 | BN15: Entre 301 y 400 cupos | BO15: 3000000 | BP15: 0 | BQ15: =BO15+BP15 -> 3000000 | BT15: TVJA.2 | BU15: Entre 301 y 400 cupos | BV15: 2200000 | BW15: 0 | BX15: =BV15+BW15 -> 2200000 | CA15: TVJA.2 | CB15: Entre 301 y 400 cupos | CC15: 3067222.2 | CD15: =CC15*0.19 -> 582772.22 | CE15: =CC15+CD15 -> 3649994.4 | CH15: TVJA.2 | CI15: Entre 301 y 400 cupos | CJ15: =+MAX(F15,M15,T15,AA15,AH15,AO15,AV15,BC15,BJ15,BQ15,BX15,CE15) -> 7725000 | CK15: =+MIN(F15,M15,T15,AA15,AH15,AO15,AV15,BC15,BJ15,BQ15,BX15,CE15) -> 1165000 | CL15: =+AVERAGE(F15,M15,T15,AA15,AH15,AO15,AV15,BC15,BJ15,BQ15,BX15,CE15) -> 3064882.3 | CM15: =+TRIMMEAN((F15,M15,T15,AA15,AH15,AO15,AV15,BC15,BJ15,BQ15,BX15,CE15),(2/12)) -> 2788858.8 | CN15: =+MEDIAN(F15,M15,T15,AA15,AH15,AO15,AV15,BC15,BJ15,BQ15,BX15,CE15) -> 2875000 | CO15: =IFERROR(MODE(F15,M15,T15,AA15,AH15,AO15,AV15,BC15,BJ15,BQ15,BX15,CE15),"N/A") -> N/A | CP15: =+STDEV(F15,M15,T15,AA15,AH15,AO15,AV15,BC15,BJ15,BQ15,BX15,CE15)/CL15 -> 0.54639787 | CQ15: FUNDACIÓN UNIVERSITARIA COMPENSAR | CR15: UNIVERSIDAD DE LA SABANA
B16: TVJA.3 | C16: Entre 401 y 500 cupos | D16: 3200000 | E16: =(D16*19)/100 -> 608000 | F16: =D16+E16 -> 3808000 | I16: TVJA.3 | J16: Entre 401 y 500 cupos | K16: 2590000 | L16: 0 | M16: =+K16+L16 -> 2590000 | P16: TVJA.3 | Q16: Entre 401 y 500 cupos | R16: =2166000 -> 2166000 | S16: 0 | T16: =R16+S16 -> 2166000 | W16: TVJA.3 | X16: Entre 401 y 500 cupos | Y16: 575000000 | Z16: 0 | AA16: =+Y16/500 -> 1150000 | AD16: TVJA.3 | AE16: Entre 401 y 500 cupos | AF16: 1983744.3 | AG16: 0 | AH16: =AF16+AG16 -> 1983744.3 | AK16: TVJA.3 | AL16: Entre 401 y 500 cupos | AM16: 7350000 | AN16: 0 | AO16: =AM16+AN16 -> 7350000 | AR16: TVJA.3 | AS16: Entre 401 y 500 cupos | AT16: 1400000 | AU16: 0 | AV16: =AT16+AU16 -> 1400000 | AY16: TVJA.3 | AZ16: Entre 401 y 500 cupos | BA16: 2552400 | BB16: 484956 | BC16: 3037356 | BF16: TVJA.3 | BG16: Entre 401 y 500 cupos | BH16: 3100000 | BI16: 0 | BJ16: =BH16+BI16 -> 3100000 | BM16: TVJA.3 | BN16: Entre 401 y 500 cupos | BO16: 3000000 | BP16: 0 | BQ16: =BO16+BP16 -> 3000000 | BT16: TVJA.3 | BU16: Entre 401 y 500 cupos | BV16: 2000000 | BW16: 0 | BX16: =BV16+BW16 -> 2000000 | CA16: TVJA.3 | CB16: Entre 401 y 500 cupos | CC16: 3067222.2 | CD16: =CC16*0.19 -> 582772.22 | CE16: =CC16+CD16 -> 3649994.4 | CH16: TVJA.3 | CI16: Entre 401 y 500 cupos | CJ16: =+MAX(F16,M16,T16,AA16,AH16,AO16,AV16,BC16,BJ16,BQ16,BX16,CE16) -> 7350000 | CK16: =+MIN(F16,M16,T16,AA16,AH16,AO16,AV16,BC16,BJ16,BQ16,BX16,CE16) -> 1150000 | CL16: =+AVERAGE(F16,M16,T16,AA16,AH16,AO16,AV16,BC16,BJ16,BQ16,BX16,CE16) -> 2936257.9 | CM16: =+TRIMMEAN((F16,M16,T16,AA16,AH16,AO16,AV16,BC16,BJ16,BQ16,BX16,CE16),(2/12)) -> 2673509.5 | CN16: =+MEDIAN(F16,M16,T16,AA16,AH16,AO16,AV16,BC16,BJ16,BQ16,BX16,CE16) -> 2795000 | CO16: =IFERROR(MODE(F16,M16,T16,AA16,AH16,AO16,AV16,BC16,BJ16,BQ16,BX16,CE16),"N/A") -> N/A | CP16: =+STDEV(F16,M16,T16,AA16,AH16,AO16,AV16,BC16,BJ16,BQ16,BX16,CE16)/CL16 -> 0.55144573 | CQ16: FUNDACIÓN UNIVERSITARIA COMPENSAR | CR16: UNIVERSIDAD DE LA SABANA
B17: TVJA.4 | C17: Más de 500 cupos | D17: 2895000 | E17: =(D17*19)/100 -> 550050 | F17: =D17+E17 -> 3445050 | I17: TVJA.4 | J17: Más de 500 cupos | K17: 2500000 | L17: 0 | M17: =+K17+L17 -> 2500000 | P17: TVJA.4 | Q17: Más de 500 cupos | R17: =2057000 -> 2057000 | S17: 0 | T17: =R17+S17 -> 2057000 | W17: TVJA.4 | X17: Más de 500 cupos | Y17: 575000000 | Z17: 0 | AA17: =+Y17/500 -> 1150000 | AD17: TVJA.4 | AE17: Más de 500 cupos | AF17: 1964484.7 | AG17: 0 | AH17: =AF17+AG17 -> 1964484.7 | AK17: TVJA.4 | AL17: Más de 500 cupos (Hasta 700 personas) | AM17: 6790000 | AN17: 0 | AO17: =AM17+AN17 -> 6790000 | AR17: TVJA.4 | AS17: Más de 500 cupos | AT17: 1200000 | AU17: 0 | AV17: =AT17+AU17 -> 1200000 | AY17: TVJA.4 | AZ17: Más de 500 cupos | BA17: 2538000 | BB17: 482220 | BC17: 3020220 | BF17: TVJA.4 | BG17: Más de 500 cupos | BH17: 3000000 | BI17: 0 | BJ17: =BH17+BI17 -> 3000000 | BM17: TVJA.4 | BN17: Más de 500 cupos | BO17: 3000000 | BP17: 0 | BQ17: =BO17+BP17 -> 3000000 | BT17: TVJA.4 | BU17: Más de 500 cupos | BV17: 2000000 | BW17: 0 | BX17: =BV17+BW17 -> 2000000 | CA17: TVJA.4 | CB17: Más de 500 cupos | CC17: 2002222.2 | CD17: =CC17*0.19 -> 380422.22 | CE17: =CC17+CD17 -> 2382644.4 | CH17: TVJA.4 | CI17: Más de 500 cupos | CJ17: =+MAX(F17,M17,T17,AA17,AH17,AO17,AV17,BC17,BJ17,BQ17,BX17,CE17) -> 6790000 | CK17: =+MIN(F17,M17,T17,AA17,AH17,AO17,AV17,BC17,BJ17,BQ17,BX17,CE17) -> 1150000 | CL17: =+AVERAGE(F17,M17,T17,AA17,AH17,AO17,AV17,BC17,BJ17,BQ17,BX17,CE17) -> 2709116.6 | CM17: =+TRIMMEAN((F17,M17,T17,AA17,AH17,AO17,AV17,BC17,BJ17,BQ17,BX17,CE17),(2/12)) -> 2456939.9 | CN17: =+MEDIAN(F17,M17,T17,AA17,AH17,AO17,AV17,BC17,BJ17,BQ17,BX17,CE17) -> 2441322.2 | CO17: =IFERROR(MODE(F17,M17,T17,AA17,AH17,AO17,AV17,BC17,BJ17,BQ17,BX17,CE17),"N/A") -> 3000000 | CP17: =+STDEV(F17,M17,T17,AA17,AH17,AO17,AV17,BC17,BJ17,BQ17,BX17,CE17)/CL17 -> 0.54298301 | CQ17: FUNDACIÓN UNIVERSITARIA COMPENSAR | CR17: UNIVERSIDAD DE LA SABANA
A18: Temática | B18: Diseño 3D y VR | F18: Nivel | G18: Intermedio | I18: Diseño 3D y VR | M18: Nivel | N18: Intermedio | P18: Diseño 3D y VR | T18: Nivel | U18: Intermedio | W18: Diseño 3D y VR | AA18: Nivel | AB18: Intermedio | AD18: Diseño 3D y VR | AH18: Nivel | AI18: Intermedio | AK18: Diseño 3D y VR | AO18: Nivel | AP18: Intermedio | AR18: Diseño 3D y VR | AV18: Nivel | AW18: Intermedio | AY18: Diseño 3D y VR | BC18: Nivel | BD18: Intermedio | BF18: Diseño 3D y VR | BJ18: Nivel | BK18: Intermedio | BM18: Diseño 3D y VR | BQ18: Nivel | BR18: Intermedio | BT18: Diseño 3D y VR | BX18: Nivel | BY18: Intermedio | CA18: Diseño 3D y VR | CE18: Nivel | CF18: Intermedio
A19: MODALIDAD: Híbrido | B19: COD. | C19: RANGOS | D19: VALOR UNITARIO (SIN IVA) | E19: IVA (SI APLICA) | F19: TOTAL | I19: COD. | J19: RANGOS | K19: VALOR UNITARIO (SIN IVA) | L19: IVA (SI APLICA) | M19: TOTAL | P19: COD. | Q19: RANGOS | R19: VALOR UNITARIO (SIN IVA) | S19: IVA (SI APLICA) | T19: TOTAL | W19: COD. | X19: RANGOS | Y19: VALOR UNITARIO (SIN IVA) | Z19: IVA (SI APLICA) | AA19: TOTAL | AD19: COD. | AE19: RANGOS | AF19: VALOR UNITARIO (SIN IVA) | AG19: IVA (SI APLICA) | AH19: TOTAL | AK19: COD. | AL19: RANGOS | AM19: VALOR UNITARIO (SIN IVA) | AN19: IVA (SI APLICA) | AO19: TOTAL | AR19: COD. | AS19: RANGOS | AT19: VALOR UNITARIO (SIN IVA) | AU19: IVA (SI APLICA) | AV19: TOTAL | AY19: COD. | AZ19: RANGOS | BA19: VALOR UNITARIO (SIN IVA) | BB19: IVA (SI APLICA) | BC19: TOTAL | BF19: COD. | BG19: RANGOS | BH19: VALOR UNITARIO (SIN IVA) | BI19: IVA (SI APLICA) | BJ19: TOTAL | BM19: COD. | BN19: RANGOS | BO19: VALOR UNITARIO (SIN IVA) | BP19: IVA (SI APLICA) | BQ19: TOTAL | BT19: COD. | BU19: RANGOS | BV19: VALOR UNITARIO (SIN IVA) | BW19: IVA (SI APLICA) | BX19: TOTAL | CA19: COD. | CB19: RANGOS | CC19: VALOR UNITARIO (SIN IVA) | CD19: IVA (SI APLICA) | CE19: TOTAL | CH19: COD. | CI19: RANGOS | CJ19: Valor máximo | CK19: Valor mínimo | CL19: Promedio | CM19: Media Acotada | CN19: Mediana | CO19: Moda | CQ19: MAX | CR19: MIN
A20: Competencias técnicas: de 70 a 120 horas Habilidades socioemocionales: de 20 a 40 horas | B20: TDDI.1 | C20: Hasta 300 cupos | D20: 3500000 | E20: =(D20*19)/100 -> 665000 | F20: =D20+E20 -> 4165000 | I20: TDDI.1 | J20: Hasta 300 cupos | K20: 2950000 | L20: 0 | M20: =+K20+L20 -> 2950000 | P20: TDDI.1 | Q20: Hasta 300 cupos | R20: 2400000 | S20: 0 | T20: =R20+S20 -> 2400000 | W20: TDDI.1 | X20: Hasta 300 cupos | Y20: 387000000 | Z20: 0 | AA20: =+Y20/300 -> 1290000 | AD20: TDDI.1 | AE20: Hasta 300 cupos | AF20: 2003385.4 | AG20: 0 | AH20: =AF20+AG20 -> 2003385.4 | AK20: TDDI.1 | AL20: Hasta 300 cupos | AM20: 8400000 | AN20: 0 | AO20: =AM20+AN20 -> 8400000 | AR20: TDDI.1 | AS20: Hasta 300 cupos | AT20: 2100000 | AU20: 0 | AV20: =AT20+AU20 -> 2100000 | AY20: TDDI.1 | AZ20: Hasta 300 cupos | BA20: 2231000 | BB20: 423890 | BC20: 2654890 | BF20: TDDI.1 | BG20: Hasta 300 cupos | BH20: 3900000 | BI20: 0 | BJ20: =BH20+BI20 -> 3900000 | BM20: TDDI.1 | BN20: Hasta 300 cupos | BO20: 3000000 | BP20: 0 | BQ20: =BO20+BP20 -> 3000000 | BT20: TDDI.1 | BU20: Hasta 300 cupos | BV20: 2500000 | BW20: 0 | BX20: =BV20+BW20 -> 2500000 | CA20: TDDI.1 | CB20: Hasta 300 cupos | CC20: 3067222.2 | CD20: =CC20*0.19 -> 582772.22 | CE20: =CC20+CD20 -> 3649994.4 | CH20: TDDI.1 | CI20: Hasta 300 cupos | CJ20: =+MAX(F20,M20,T20,AA20,AH20,AO20,AV20,BC20,BJ20,BQ20,BX20,CE20) -> 8400000 | CK20: =+MIN(F20,M20,T20,AA20,AH20,AO20,AV20,BC20,BJ20,BQ20,BX20,CE20) -> 1290000 | CL20: =+AVERAGE(F20,M20,T20,AA20,AH20,AO20,AV20,BC20,BJ20,BQ20,BX20,CE20) -> 3251105.8 | CM20: =+TRIMMEAN((F20,M20,T20,AA20,AH20,AO20,AV20,BC20,BJ20,BQ20,BX20,CE20),(2/12)) -> 2932327 | CN20: =+MEDIAN(F20,M20,T20,AA20,AH20,AO20,AV20,BC20,BJ20,BQ20,BX20,CE20) -> 2802445 | CO20: =IFERROR(MODE(F20,M20,T20,AA20,AH20,AO20,AV20,BC20,BJ20,BQ20,BX20,CE20),"N/A") -> N/A | CP20: =+STDEV(F20,M20,T20,AA20,AH20,AO20,AV20,BC20,BJ20,BQ20,BX20,CE20)/CL20 -> 0.55992943 | CQ20: FUNDACIÓN UNIVERSITARIA COMPENSAR | CR20: UNIVERSIDAD DE LA SABANA
B21: TDDI.2 | C21: Entre 301 y 400 cupos | D21: 3300000 | E21: =(D21*19)/100 -> 627000 | F21: =D21+E21 -> 3927000 | I21: TDDI.2 | J21: Entre 301 y 400 cupos | K21: 2750000 | L21: 0 | M21: =+K21+L21 -> 2750000 | P21: TDDI.2 | Q21: Entre 301 y 400 cupos | R21: =2280000 -> 2280000 | S21: 0 | T21: =R21+S21 -> 2280000 | W21: TDDI.2 | X21: Entre 301 y 400 cupos | Y21: 466000000 | Z21: 0 | AA21: =+Y21/400 -> 1165000 | AD21: TDDI.2 | AE21: Entre 301 y 400 cupos | AF21: 1964103.3 | AG21: 0 | AH21: =AF21+AG21 -> 1964103.3 | AK21: TDDI.2 | AL21: Entre 301 y 400 cupos | AM21: 7725000 | AN21: 0 | AO21: =AM21+AN21 -> 7725000 | AR21: TDDI.2 | AS21: Entre 301 y 400 cupos | AT21: 1728000 | AU21: 0 | AV21: =AT21+AU21 -> 1728000 | AY21: TDDI.2 | AZ21: Entre 301 y 400 cupos | BA21: 2136000 | BB21: 405840 | BC21: 2541840 | BF21: TDDI.2 | BG21: Entre 301 y 400 cupos | BH21: 3480000 | BI21: 0 | BJ21: =BH21+BI21 -> 3480000 | BM21: TDDI.2 | BN21: Entre 301 y 400 cupos | BO21: 3000000 | BP21: 0 | BQ21: =BO21+BP21 -> 3000000 | BT21: TDDI.2 | BU21: Entre 301 y 400 cupos | BV21: 2200000 | BW21: 0 | BX21: =BV21+BW21 -> 2200000 | CA21: TDDI.2 | CB21: Entre 301 y 400 cupos | CC21: 3067222.2 | CD21: =CC21*0.19 -> 582772.22 | CE21: =CC21+CD21 -> 3649994.4 | CH21: TDDI.2 | CI21: Entre 301 y 400 cupos | CJ21: =+MAX(F21,M21,T21,AA21,AH21,AO21,AV21,BC21,BJ21,BQ21,BX21,CE21) -> 7725000 | CK21: =+MIN(F21,M21,T21,AA21,AH21,AO21,AV21,BC21,BJ21,BQ21,BX21,CE21) -> 1165000 | CL21: =+AVERAGE(F21,M21,T21,AA21,AH21,AO21,AV21,BC21,BJ21,BQ21,BX21,CE21) -> 3034244.8 | CM21: =+TRIMMEAN((F21,M21,T21,AA21,AH21,AO21,AV21,BC21,BJ21,BQ21,BX21,CE21),(2/12)) -> 2752093.8 | CN21: =+MEDIAN(F21,M21,T21,AA21,AH21,AO21,AV21,BC21,BJ21,BQ21,BX21,CE21) -> 2645920 | CO21: =IFERROR(MODE(F21,M21,T21,AA21,AH21,AO21,AV21,BC21,BJ21,BQ21,BX21,CE21),"N/A") -> N/A | CP21: =+STDEV(F21,M21,T21,AA21,AH21,AO21,AV21,BC21,BJ21,BQ21,BX21,CE21)/CL21 -> 0.55605086 | CQ21: FUNDACIÓN UNIVERSITARIA COMPENSAR | CR21: UNIVERSIDAD DE LA SABANA
B22: TDDI.3 | C22: Entre 401 y 500 cupos | D22: 3200000 | E22: =(D22*19)/100 -> 608000 | F22: =D22+E22 -> 3808000 | I22: TDDI.3 | J22: Entre 401 y 500 cupos | K22: 2590000 | L22: 0 | M22: =+K22+L22 -> 2590000 | P22: TDDI.3 | Q22: Entre 401 y 500 cupos | R22: =2166000 -> 2166000 | S22: 0 | T22: =R22+S22 -> 2166000 | W22: TDDI.3 | X22: Entre 401 y 500 cupos | Y22: 575000000 | Z22: 0 | AA22: =+Y22/500 -> 1150000 | AD22: TDDI.3 | AE22: Entre 401 y 500 cupos | AF22: 1945034.3 | AG22: 0 | AH22: =AF22+AG22 -> 1945034.3 | AK22: TDDI.3 | AL22: Entre 401 y 500 cupos | AM22: 7350000 | AN22: 0 | AO22: =AM22+AN22 -> 7350000 | AR22: TDDI.3 | AS22: Entre 401 y 500 cupos | AT22: 1400000 | AU22: 0 | AV22: =AT22+AU22 -> 1400000 | AY22: TDDI.3 | AZ22: Entre 401 y 500 cupos | BA22: 2127000 | BB22: 404130 | BC22: 2531130 | BF22: TDDI.3 | BG22: Entre 401 y 500 cupos | BH22: 3270000 | BI22: 0 | BJ22: =BH22+BI22 -> 3270000 | BM22: TDDI.3 | BN22: Entre 401 y 500 cupos | BO22: 3000000 | BP22: 0 | BQ22: =BO22+BP22 -> 3000000 | BT22: TDDI.3 | BU22: Entre 401 y 500 cupos | BV22: 2000000 | BW22: 0 | BX22: =BV22+BW22 -> 2000000 | CA22: TDDI.3 | CB22: Entre 401 y 500 cupos | CC22: 3067222.2 | CD22: =CC22*0.19 -> 582772.22 | CE22: =CC22+CD22 -> 3649994.4 | CH22: TDDI.3 | CI22: Entre 401 y 500 cupos | CJ22: =+MAX(F22,M22,T22,AA22,AH22,AO22,AV22,BC22,BJ22,BQ22,BX22,CE22) -> 7350000 | CK22: =+MIN(F22,M22,T22,AA22,AH22,AO22,AV22,BC22,BJ22,BQ22,BX22,CE22) -> 1150000 | CL22: =+AVERAGE(F22,M22,T22,AA22,AH22,AO22,AV22,BC22,BJ22,BQ22,BX22,CE22) -> 2905013.2 | CM22: =+TRIMMEAN((F22,M22,T22,AA22,AH22,AO22,AV22,BC22,BJ22,BQ22,BX22,CE22),(2/12)) -> 2636015.9 | CN22: =+MEDIAN(F22,M22,T22,AA22,AH22,AO22,AV22,BC22,BJ22,BQ22,BX22,CE22) -> 2560565 | CO22: =IFERROR(MODE(F22,M22,T22,AA22,AH22,AO22,AV22,BC22,BJ22,BQ22,BX22,CE22),"N/A") -> N/A | CP22: =+STDEV(F22,M22,T22,AA22,AH22,AO22,AV22,BC22,BJ22,BQ22,BX22,CE22)/CL22 -> 0.56028759 | CQ22: FUNDACIÓN UNIVERSITARIA COMPENSAR | CR22: UNIVERSIDAD DE LA SABANA
B23: TDDI.4 | C23: Más de 500 cupos | D23: 2895000 | E23: =(D23*19)/100 -> 550050 | F23: =D23+E23 -> 3445050 | I23: TDDI.4 | J23: Más de 500 cupos | K23: 2500000 | L23: 0 | M23: =+K23+L23 -> 2500000 | P23: TDDI.4 | Q23: Más de 500 cupos | R23: =2057000 -> 2057000 | S23: 0 | T23: =R23+S23 -> 2057000 | W23: TDDI.4 | X23: Más de 500 cupos | Y23: 575000000 | Z23: 0 | AA23: =+Y23/500 -> 1150000 | AD23: TDDI.4 | AE23: Más de 500 cupos | AF23: 1926332.1 | AG23: 0 | AH23: =AF23+AG23 -> 1926332.1 | AK23: TDDI.4 | AL23: Más de 500 cupos (Hasta 700 personas) | AM23: 6790000 | AN23: 0 | AO23: =AM23+AN23 -> 6790000 | AR23: TDDI.4 | AS23: Más de 500 cupos | AT23: 1200000 | AU23: 0 | AV23: =AT23+AU23 -> 1200000 | AY23: TDDI.4 | AZ23: Más de 500 cupos | BA23: 2115000 | BB23: 401850 | BC23: 2516850 | BF23: TDDI.4 | BG23: Más de 500 cupos | BH23: 3100000 | BI23: 0 | BJ23: =BH23+BI23 -> 3100000 | BM23: TDDI.4 | BN23: Más de 500 cupos | BO23: 3000000 | BP23: 0 | BQ23: =BO23+BP23 -> 3000000 | BT23: TDDI.4 | BU23: Más de 500 cupos | BV23: 2000000 | BW23: 0 | BX23: =BV23+BW23 -> 2000000 | CA23: TDDI.4 | CB23: Más de 500 cupos | CC23: 2002222.2 | CD23: =CC23*0.19 -> 380422.22 | CE23: =CC23+CD23 -> 2382644.4 | CH23: TDDI.4 | CI23: Más de 500 cupos | CJ23: =+MAX(F23,M23,T23,AA23,AH23,AO23,AV23,BC23,BJ23,BQ23,BX23,CE23) -> 6790000 | CK23: =+MIN(F23,M23,T23,AA23,AH23,AO23,AV23,BC23,BJ23,BQ23,BX23,CE23) -> 1150000 | CL23: =+AVERAGE(F23,M23,T23,AA23,AH23,AO23,AV23,BC23,BJ23,BQ23,BX23,CE23) -> 2672323 | CM23: =+TRIMMEAN((F23,M23,T23,AA23,AH23,AO23,AV23,BC23,BJ23,BQ23,BX23,CE23),(2/12)) -> 2412787.7 | CN23: =+MEDIAN(F23,M23,T23,AA23,AH23,AO23,AV23,BC23,BJ23,BQ23,BX23,CE23) -> 2441322.2 | CO23: =IFERROR(MODE(F23,M23,T23,AA23,AH23,AO23,AV23,BC23,BJ23,BQ23,BX23,CE23),"N/A") -> N/A | CP23: =+STDEV(F23,M23,T23,AA23,AH23,AO23,AV23,BC23,BJ23,BQ23,BX23,CE23)/CL23 -> 0.55104133 | CQ23: FUNDACIÓN UNIVERSITARIA COMPENSAR | CR23: UNIVERSIDAD DE LA SABANA
A24: Temática | B24: Diseño 3D y VR | F24: Nivel | G24: Avanzado | I24: Diseño 3D y VR | M24: Nivel | N24: Avanzado | P24: Diseño 3D y VR | T24: Nivel | U24: Avanzado | W24: Diseño 3D y VR | AA24: Nivel | AB24: Avanzado | AD24: Diseño 3D y VR | AH24: Nivel | AI24: Avanzado | AK24: Diseño 3D y VR | AO24: Nivel | AP24: Avanzado | AR24: Diseño 3D y VR | AV24: Nivel | AW24: Avanzado | AY24: Diseño 3D y VR | BC24: Nivel | BD24: Avanzado | BF24: Diseño 3D y VR | BJ24: Nivel | BK24: Avanzado | BM24: Diseño 3D y VR | BQ24: Nivel | BR24: Avanzado | BT24: Diseño 3D y VR | BX24: Nivel | BY24: Avanzado | CA24: Diseño 3D y VR | CE24: Nivel | CF24: Avanzado
A25: MODALIDAD: Híbrido | B25: COD. | C25: RANGOS | D25: VALOR UNITARIO (SIN IVA) | E25: IVA (SI APLICA) | F25: TOTAL | I25: COD. | J25: RANGOS | K25: VALOR UNITARIO (SIN IVA) | L25: IVA (SI APLICA) | M25: TOTAL | P25: COD. | Q25: RANGOS | R25: VALOR UNITARIO (SIN IVA) | S25: IVA (SI APLICA) | T25: TOTAL | W25: COD. | X25: RANGOS | Y25: VALOR UNITARIO (SIN IVA) | Z25: IVA (SI APLICA) | AA25: TOTAL | AD25: COD. | AE25: RANGOS | AF25: VALOR UNITARIO (SIN IVA) | AG25: IVA (SI APLICA) | AH25: TOTAL | AK25: COD. | AL25: RANGOS | AM25: VALOR UNITARIO (SIN IVA) | AN25: IVA (SI APLICA) | AO25: TOTAL | AR25: COD. | AS25: RANGOS | AT25: VALOR UNITARIO (SIN IVA) | AU25: IVA (SI APLICA) | AV25: TOTAL | AY25: COD. | AZ25: RANGOS | BA25: VALOR UNITARIO (SIN IVA) | BB25: IVA (SI APLICA) | BC25: TOTAL | BF25: COD. | BG25: RANGOS | BH25: VALOR UNITARIO (SIN IVA) | BI25: IVA (SI APLICA) | BJ25: TOTAL | BM25: COD. | BN25: RANGOS | BO25: VALOR UNITARIO (SIN IVA) | BP25: IVA (SI APLICA) | BQ25: TOTAL | BT25: COD. | BU25: RANGOS | BV25: VALOR UNITARIO (SIN IVA) | BW25: IVA (SI APLICA) | BX25: TOTAL | CA25: COD. | CB25: RANGOS | CC25: VALOR UNITARIO (SIN IVA) | CD25: IVA (SI APLICA) | CE25: TOTAL | CH25: COD. | CI25: RANGOS | CJ25: Valor máximo | CK25: Valor mínimo | CL25: Promedio | CM25: Media Acotada | CN25: Mediana | CO25: Moda | CQ25: MAX | CR25: MIN
A26: Competencias técnicas: de 70 a 120 horas Habilidades socioemocionales: de 20 a 40 horas | B26: TDDA.1 | C26: Hasta 300 cupos | D26: 3500000 | E26: =(D26*19)/100 -> 665000 | F26: =D26+E26 -> 4165000 | I26: TDDA.1 | J26: Hasta 300 cupos | K26: 2950000 | L26: 0 | M26: =+K26+L26 -> 2950000 | P26: TDDA.1 | Q26: Hasta 300 cupos | R26: 2400000 | S26: 0 | T26: =R26+S26 -> 2400000 | W26: TDDA.1 | X26: Hasta 300 cupos | Y26: 387000000 | Z26: 0 | AA26: =+Y26/300 -> 1290000 | AD26: TDDA.1 | AE26: Hasta 300 cupos | AF26: 2023419.2 | AG26: 0 | AH26: =AF26+AG26 -> 2023419.2 | AK26: TDDA.1 | AL26: Hasta 300 cupos | AM26: 8400000 | AN26: 0 | AO26: =AM26+AN26 -> 8400000 | AR26: TDDA.1 | AS26: Hasta 300 cupos | AT26: 2100000 | AU26: 0 | AV26: =AT26+AU26 -> 2100000 | AY26: TDDA.1 | AZ26: Hasta 300 cupos | BA26: 2677200 | BB26: 508668 | BC26: 3185868 | BF26: TDDA.1 | BG26: Hasta 300 cupos | BH26: 3900000 | BI26: 0 | BJ26: =BH26+BI26 -> 3900000 | BM26: TDDA.1 | BN26: Hasta 300 cupos | BO26: 3000000 | BP26: 0 | BQ26: =BO26+BP26 -> 3000000 | BT26: TDDA.1 | BU26: Hasta 300 cupos | BV26: 2500000 | BW26: 0 | BX26: =BV26+BW26 -> 2500000 | CA26: TDDA.1 | CB26: Hasta 300 cupos | CC26: 3067222.2 | CD26: =CC26*0.19 -> 582772.22 | CE26: =CC26+CD26 -> 3649994.4 | CH26: TDDA.1 | CI26: Hasta 300 cupos | CJ26: =+MAX(F26,M26,T26,AA26,AH26,AO26,AV26,BC26,BJ26,BQ26,BX26,CE26) -> 8400000 | CK26: =+MIN(F26,M26,T26,AA26,AH26,AO26,AV26,BC26,BJ26,BQ26,BX26,CE26) -> 1290000 | CL26: =+AVERAGE(F26,M26,T26,AA26,AH26,AO26,AV26,BC26,BJ26,BQ26,BX26,CE26) -> 3297023.5 | CM26: =+TRIMMEAN((F26,M26,T26,AA26,AH26,AO26,AV26,BC26,BJ26,BQ26,BX26,CE26),(2/12)) -> 2987428.2 | CN26: =+MEDIAN(F26,M26,T26,AA26,AH26,AO26,AV26,BC26,BJ26,BQ26,BX26,CE26) -> 2975000 | CO26: =IFERROR(MODE(F26,M26,T26,AA26,AH26,AO26,AV26,BC26,BJ26,BQ26,BX26,CE26),"N/A") -> N/A | CP26: =+STDEV(F26,M26,T26,AA26,AH26,AO26,AV26,BC26,BJ26,BQ26,BX26,CE26)/CL26 -> 0.5488947 | CQ26: FUNDACIÓN UNIVERSITARIA COMPENSAR | CR26: UNIVERSIDAD DE LA SABANA
B27: TDDA.2 | C27: Entre 301 y 400 cupos | D27: 3300000 | E27: =(D27*19)/100 -> 627000 | F27: =D27+E27 -> 3927000 | I27: TDDA.2 | J27: Entre 301 y 400 cupos | K27: 2750000 | L27: 0 | M27: =+K27+L27 -> 2750000 | P27: TDDA.2 | Q27: Entre 301 y 400 cupos | R27: =2280000 -> 2280000 | S27: 0 | T27: =R27+S27 -> 2280000 | W27: TDDA.2 | X27: Entre 301 y 400 cupos | Y27: 466000000 | Z27: 0 | AA27: =+Y27/400 -> 1165000 | AD27: TDDA.2 | AE27: Entre 301 y 400 cupos | AF27: 2003385.4 | AG27: 0 | AH27: =AF27+AG27 -> 2003385.4 | AK27: TDDA.2 | AL27: Entre 301 y 400 cupos | AM27: 7725000 | AN27: 0 | AO27: =AM27+AN27 -> 7725000 | AR27: TDDA.2 | AS27: Entre 301 y 400 cupos | AT27: 1728000 | AU27: 0 | AV27: =AT27+AU27 -> 1728000 | AY27: TDDA.2 | AZ27: Entre 301 y 400 cupos | BA27: 2563200 | BB27: 487008 | BC27: 3050208 | BF27: TDDA.2 | BG27: Entre 301 y 400 cupos | BH27: 3480000 | BI27: 0 | BJ27: =BH27+BI27 -> 3480000 | BM27: TDDA.2 | BN27: Entre 301 y 400 cupos | BO27: 3000000 | BP27: 0 | BQ27: =BO27+BP27 -> 3000000 | BT27: TDDA.2 | BU27: Entre 301 y 400 cupos | BV27: 2200000 | BW27: 0 | BX27: =BV27+BW27 -> 2200000 | CA27: TDDA.2 | CB27: Entre 301 y 400 cupos | CC27: 3067222.2 | CD27: =CC27*0.19 -> 582772.22 | CE27: =CC27+CD27 -> 3649994.4 | CH27: TDDA.2 | CI27: Entre 301 y 400 cupos | CJ27: =+MAX(F27,M27,T27,AA27,AH27,AO27,AV27,BC27,BJ27,BQ27,BX27,CE27) -> 7725000 | CK27: =+MIN(F27,M27,T27,AA27,AH27,AO27,AV27,BC27,BJ27,BQ27,BX27,CE27) -> 1165000 | CL27: =+AVERAGE(F27,M27,T27,AA27,AH27,AO27,AV27,BC27,BJ27,BQ27,BX27,CE27) -> 3079882.3 | CM27: =+TRIMMEAN((F27,M27,T27,AA27,AH27,AO27,AV27,BC27,BJ27,BQ27,BX27,CE27),(2/12)) -> 2806858.8 | CN27: =+MEDIAN(F27,M27,T27,AA27,AH27,AO27,AV27,BC27,BJ27,BQ27,BX27,CE27) -> 2875000 | CO27: =IFERROR(MODE(F27,M27,T27,AA27,AH27,AO27,AV27,BC27,BJ27,BQ27,BX27,CE27),"N/A") -> N/A | CP27: =+STDEV(F27,M27,T27,AA27,AH27,AO27,AV27,BC27,BJ27,BQ27,BX27,CE27)/CL27 -> 0.5447435 | CQ27: FUNDACIÓN UNIVERSITARIA COMPENSAR | CR27: UNIVERSIDAD DE LA SABANA
B28: TDDA.3 | C28: Entre 401 y 500 cupos | D28: 3200000 | E28: =(D28*19)/100 -> 608000 | F28: =D28+E28 -> 3808000 | I28: TDDA.3 | J28: Entre 401 y 500 cupos | K28: 2590000 | L28: 0 | M28: =+K28+L28 -> 2590000 | P28: TDDA.3 | Q28: Entre 401 y 500 cupos | R28: =2166000 -> 2166000 | S28: 0 | T28: =R28+S28 -> 2166000 | W28: TDDA.3 | X28: Entre 401 y 500 cupos | Y28: 575000000 | Z28: 0 | AA28: =+Y28/500 -> 1150000 | AD28: TDDA.3 | AE28: Entre 401 y 500 cupos | AF28: 1983744.3 | AG28: 0 | AH28: =AF28+AG28 -> 1983744.3 | AK28: TDDA.3 | AL28: Entre 401 y 500 cupos | AM28: 7350000 | AN28: 0 | AO28: =AM28+AN28 -> 7350000 | AR28: TDDA.3 | AS28: Entre 401 y 500 cupos | AT28: 1400000 | AU28: 0 | AV28: =AT28+AU28 -> 1400000 | AY28: TDDA.3 | AZ28: Entre 401 y 500 cupos | BA28: 2552400 | BB28: 484956 | BC28: 3037356 | BF28: TDDA.3 | BG28: Entre 401 y 500 cupos | BH28: 3270000 | BI28: 0 | BJ28: =BH28+BI28 -> 3270000 | BM28: TDDA.3 | BN28: Entre 401 y 500 cupos | BO28: 3000000 | BP28: 0 | BQ28: =BO28+BP28 -> 3000000 | BT28: TDDA.3 | BU28: Entre 401 y 500 cupos | BV28: 2000000 | BW28: 0 | BX28: =BV28+BW28 -> 2000000 | CA28: TDDA.3 | CB28: Entre 401 y 500 cupos | CC28: 3067222.2 | CD28: =CC28*0.19 -> 582772.22 | CE28: =CC28+CD28 -> 3649994.4 | CH28: TDDA.3 | CI28: Entre 401 y 500 cupos | CJ28: =+MAX(F28,M28,T28,AA28,AH28,AO28,AV28,BC28,BJ28,BQ28,BX28,CE28) -> 7350000 | CK28: =+MIN(F28,M28,T28,AA28,AH28,AO28,AV28,BC28,BJ28,BQ28,BX28,CE28) -> 1150000 | CL28: =+AVERAGE(F28,M28,T28,AA28,AH28,AO28,AV28,BC28,BJ28,BQ28,BX28,CE28) -> 2950424.6 | CM28: =+TRIMMEAN((F28,M28,T28,AA28,AH28,AO28,AV28,BC28,BJ28,BQ28,BX28,CE28),(2/12)) -> 2690509.5 | CN28: =+MEDIAN(F28,M28,T28,AA28,AH28,AO28,AV28,BC28,BJ28,BQ28,BX28,CE28) -> 2795000 | CO28: =IFERROR(MODE(F28,M28,T28,AA28,AH28,AO28,AV28,BC28,BJ28,BQ28,BX28,CE28),"N/A") -> N/A | CP28: =+STDEV(F28,M28,T28,AA28,AH28,AO28,AV28,BC28,BJ28,BQ28,BX28,CE28)/CL28 -> 0.54957913 | CQ28: FUNDACIÓN UNIVERSITARIA COMPENSAR | CR28: UNIVERSIDAD DE LA SABANA
B29: TDDA.4 | C29: Más de 500 cupos | D29: 2895000 | E29: =(D29*19)/100 -> 550050 | F29: =D29+E29 -> 3445050 | I29: TDDA.4 | J29: Más de 500 cupos | K29: 2500000 | L29: 0 | M29: =+K29+L29 -> 2500000 | P29: TDDA.4 | Q29: Más de 500 cupos | R29: =2057000 -> 2057000 | S29: 0 | T29: =R29+S29 -> 2057000 | W29: TDDA.4 | X29: Más de 500 cupos | Y29: 575000000 | Z29: 0 | AA29: =+Y29/500 -> 1150000 | AD29: TDDA.4 | AE29: Más de 500 cupos | AF29: 1964484.7 | AG29: 0 | AH29: =AF29+AG29 -> 1964484.7 | AK29: TDDA.4 | AL29: Más de 500 cupos (Hasta 700 personas) | AM29: 6790000 | AN29: 0 | AO29: =AM29+AN29 -> 6790000 | AR29: TDDA.4 | AS29: Más de 500 cupos | AT29: 1200000 | AU29: 0 | AV29: =AT29+AU29 -> 1200000 | AY29: TDDA.4 | AZ29: Más de 500 cupos | BA29: 2538000 | BB29: 482220 | BC29: 3020220 | BF29: TDDA.4 | BG29: Más de 500 cupos | BH29: 3100000 | BI29: 0 | BJ29: =BH29+BI29 -> 3100000 | BM29: TDDA.4 | BN29: Más de 500 cupos | BO29: 3000000 | BP29: 0 | BQ29: =BO29+BP29 -> 3000000 | BT29: TDDA.4 | BU29: Más de 500 cupos | BV29: 2000000 | BW29: 0 | BX29: =BV29+BW29 -> 2000000 | CA29: TDDA.4 | CB29: Más de 500 cupos | CC29: 2002222.2 | CD29: =CC29*0.19 -> 380422.22 | CE29: =CC29+CD29 -> 2382644.4 | CH29: TDDA.4 | CI29: Más de 500 cupos | CJ29: =+MAX(F29,M29,T29,AA29,AH29,AO29,AV29,BC29,BJ29,BQ29,BX29,CE29) -> 6790000 | CK29: =+MIN(F29,M29,T29,AA29,AH29,AO29,AV29,BC29,BJ29,BQ29,BX29,CE29) -> 1150000 | CL29: =+AVERAGE(F29,M29,T29,AA29,AH29,AO29,AV29,BC29,BJ29,BQ29,BX29,CE29) -> 2717449.9 | CM29: =+TRIMMEAN((F29,M29,T29,AA29,AH29,AO29,AV29,BC29,BJ29,BQ29,BX29,CE29),(2/12)) -> 2466939.9 | CN29: =+MEDIAN(F29,M29,T29,AA29,AH29,AO29,AV29,BC29,BJ29,BQ29,BX29,CE29) -> 2441322.2 | CO29: =IFERROR(MODE(F29,M29,T29,AA29,AH29,AO29,AV29,BC29,BJ29,BQ29,BX29,CE29),"N/A") -> N/A | CP29: =+STDEV(F29,M29,T29,AA29,AH29,AO29,AV29,BC29,BJ29,BQ29,BX29,CE29)/CL29 -> 0.54208312 | CQ29: FUNDACIÓN UNIVERSITARIA COMPENSAR | CR29: UNIVERSIDAD DE LA SABANA
A30: Temática | B30: Animación Digital | F30: Nivel | G30: Intermedio | I30: Animación Digital | M30: Nivel | N30: Intermedio | P30: Animación Digital | T30: Nivel | U30: Intermedio | W30: Animación Digital | AA30: Nivel | AB30: Intermedio | AD30: Animación Digital | AH30: Nivel | AI30: Intermedio | AO30: Nivel | AP30: Intermedio | AR30: Animación Digital | AV30: Nivel | AW30: Intermedio | AY30: Animación Digital | BC30: Nivel | BD30: Intermedio | BF30: Animación Digital | BJ30: Nivel | BK30: Intermedio | BM30: Animación Digital | BQ30: Nivel | BR30: Intermedio | BT30: Animación Digital | BX30: Nivel | BY30: Intermedio | CA30: Animación Digital | CE30: Nivel | CF30: Intermedio
A31: MODALIDAD: Híbrido | B31: COD. | C31: RANGOS | D31: VALOR UNITARIO (SIN IVA) | E31: IVA (SI APLICA) | F31: TOTAL | I31: COD. | J31: RANGOS | K31: VALOR UNITARIO (SIN IVA) | L31: IVA (SI APLICA) | M31: TOTAL | P31: COD. | Q31: RANGOS | R31: VALOR UNITARIO (SIN IVA) | S31: IVA (SI APLICA) | T31: TOTAL | W31: COD. | X31: RANGOS | Y31: VALOR UNITARIO (SIN IVA) | Z31: IVA (SI APLICA) | AA31: TOTAL | AD31: COD. | AE31: RANGOS | AF31: VALOR UNITARIO (SIN IVA) | AG31: IVA (SI APLICA) | AH31: TOTAL | AK31: COD. | AL31: RANGOS | AM31: VALOR UNITARIO (SIN IVA) | AN31: IVA (SI APLICA) | AO31: TOTAL | AR31: COD. | AS31: RANGOS | AT31: VALOR UNITARIO (SIN IVA) | AU31: IVA (SI APLICA) | AV31: TOTAL | AY31: COD. | AZ31: RANGOS | BA31: VALOR UNITARIO (SIN IVA) | BB31: IVA (SI APLICA) | BC31: TOTAL | BF31: COD. | BG31: RANGOS | BH31: VALOR UNITARIO (SIN IVA) | BI31: IVA (SI APLICA) | BJ31: TOTAL | BM31: COD. | BN31: RANGOS | BO31: VALOR UNITARIO (SIN IVA) | BP31: IVA (SI APLICA) | BQ31: TOTAL | BT31: COD. | BU31: RANGOS | BV31: VALOR UNITARIO (SIN IVA) | BW31: IVA (SI APLICA) | BX31: TOTAL | CA31: COD. | CB31: RANGOS | CC31: VALOR UNITARIO (SIN IVA) | CD31: IVA (SI APLICA) | CE31: TOTAL | CH31: COD. | CI31: RANGOS | CJ31: Valor máximo | CK31: Valor mínimo | CL31: Promedio | CM31: Media Acotada | CN31: Mediana | CO31: Moda | CQ31: MAX | CR31: MIN
A32: Competencias técnicas: de 70 a 120 horas Habilidades socioemocionales: de 20 a 40 horas | B32: TADI.1 | C32: Hasta 300 cupos | D32: 3500000 | E32: =(D32*19)/100 -> 665000 | F32: =D32+E32 -> 4165000 | I32: TADI.1 | J32: Hasta 300 cupos | K32: 2950000 | L32: 0 | M32: =+K32+L32 -> 2950000 | P32: TADI.1 | Q32: Hasta 300 cupos | R32: 2400000 | S32: 0 | T32: =R32+S32 -> 2400000 | W32: TADI.1 | X32: Hasta 300 cupos | Y32: 387000000 | Z32: 0 | AA32: =+Y32/300 -> 1290000 | AD32: TADI.1 | AE32: Hasta 300 cupos | AF32: 2003385.4 | AG32: 0 | AH32: =AF32+AG32 -> 2003385.4 | AK32: TADI.1 | AL32: Hasta 300 cupos | AM32: 8400000 | AN32: 0 | AO32: =AM32+AN32 -> 8400000 | AR32: TADI.1 | AS32: Hasta 300 cupos | AT32: 2100000 | AU32: 0 | AV32: =AT32+AU32 -> 2100000 | AY32: TADI.1 | AZ32: Hasta 300 cupos | BA32: 2231000 | BB32: 423890 | BC32: 2654890 | BF32: TADI.1 | BG32: Hasta 300 cupos | BH32: 3900000 | BI32: 0 | BJ32: =BH32+BI32 -> 3900000 | BM32: TADI.1 | BN32: Hasta 300 cupos | BO32: 3000000 | BP32: 0 | BQ32: =BO32+BP32 -> 3000000 | BT32: TADI.1 | BU32: Hasta 300 cupos | BV32: 2500000 | BW32: 0 | BX32: =BV32+BW32 -> 2500000 | CA32: TADI.1 | CB32: Hasta 300 cupos | CC32: 3067222.2 | CD32: =CC32*0.19 -> 582772.22 | CE32: =CC32+CD32 -> 3649994.4 | CH32: TADI.1 | CI32: Hasta 300 cupos | CJ32: =+MAX(F32,M32,T32,AA32,AH32,AO32,AV32,BC32,BJ32,BQ32,BX32,CE32) -> 8400000 | CK32: =+MIN(F32,M32,T32,AA32,AH32,AO32,AV32,BC32,BJ32,BQ32,BX32,CE32) -> 1290000 | CL32: =+AVERAGE(F32,M32,T32,AA32,AH32,AO32,AV32,BC32,BJ32,BQ32,BX32,CE32) -> 3251105.8 | CM32: =+TRIMMEAN((F32,M32,T32,AA32,AH32,AO32,AV32,BC32,BJ32,BQ32,BX32,CE32),(2/12)) -> 2932327 | CN32: =+MEDIAN(F32,M32,T32,AA32,AH32,AO32,AV32,BC32,BJ32,BQ32,BX32,CE32) -> 2802445 | CO32: =IFERROR(MODE(F32,M32,T32,AA32,AH32,AO32,AV32,BC32,BJ32,BQ32,BX32,CE32),"N/A") -> N/A | CP32: =+STDEV(F32,M32,T32,AA32,AH32,AO32,AV32,BC32,BJ32,BQ32,BX32,CE32)/CL32 -> 0.55992943 | CQ32: FUNDACIÓN UNIVERSITARIA COMPENSAR | CR32: UNIVERSIDAD DE LA SABANA
B33: TADI.2 | C33: Entre 301 y 400 cupos | D33: 3300000 | E33: =(D33*19)/100 -> 627000 | F33: =D33+E33 -> 3927000 | I33: TADI.2 | J33: Entre 301 y 400 cupos | K33: 2750000 | L33: 0 | M33: =+K33+L33 -> 2750000 | P33: TADI.2 | Q33: Entre 301 y 400 cupos | R33: =2280000 -> 2280000 | S33: 0 | T33: =R33+S33 -> 2280000 | W33: TADI.2 | X33: Entre 301 y 400 cupos | Y33: 466000000 | Z33: 0 | AA33: =+Y33/400 -> 1165000 | AD33: TADI.2 | AE33: Entre 301 y 400 cupos | AF33: 1964103.3 | AG33: 0 | AH33: =AF33+AG33 -> 1964103.3 | AK33: TADI.2 | AL33: Entre 301 y 400 cupos | AM33: 7725000 | AN33: 0 | AO33: =AM33+AN33 -> 7725000 | AR33: TADI.2 | AS33: Entre 301 y 400 cupos | AT33: 1728000 | AU33: 0 | AV33: =AT33+AU33 -> 1728000 | AY33: TADI.2 | AZ33: Entre 301 y 400 cupos | BA33: 2136000 | BB33: 405840 | BC33: 2541840 | BF33: TADI.2 | BG33: Entre 301 y 400 cupos | BH33: 3480000 | BI33: 0 | BJ33: =BH33+BI33 -> 3480000 | BM33: TADI.2 | BN33: Entre 301 y 400 cupos | BO33: 3000000 | BP33: 0 | BQ33: =BO33+BP33 -> 3000000 | BT33: TADI.2 | BU33: Entre 301 y 400 cupos | BV33: 2200000 | BW33: 0 | BX33: =BV33+BW33 -> 2200000 | CA33: TADI.2 | CB33: Entre 301 y 400 cupos | CC33: 3067222.2 | CD33: =CC33*0.19 -> 582772.22 | CE33: =CC33+CD33 -> 3649994.4 | CH33: TADI.2 | CI33: Entre 301 y 400 cupos | CJ33: =+MAX(F33,M33,T33,AA33,AH33,AO33,AV33,BC33,BJ33,BQ33,BX33,CE33) -> 7725000 | CK33: =+MIN(F33,M33,T33,AA33,AH33,AO33,AV33,BC33,BJ33,BQ33,BX33,CE33) -> 1165000 | CL33: =+AVERAGE(F33,M33,T33,AA33,AH33,AO33,AV33,BC33,BJ33,BQ33,BX33,CE33) -> 3034244.8 | CM33: =+TRIMMEAN((F33,M33,T33,AA33,AH33,AO33,AV33,BC33,BJ33,BQ33,BX33,CE33),(2/12)) -> 2752093.8 | CN33: =+MEDIAN(F33,M33,T33,AA33,AH33,AO33,AV33,BC33,BJ33,BQ33,BX33,CE33) -> 2645920 | CO33: =IFERROR(MODE(F33,M33,T33,AA33,AH33,AO33,AV33,BC33,BJ33,BQ33,BX33,CE33),"N/A") -> N/A | CP33: =+STDEV(F33,M33,T33,AA33,AH33,AO33,AV33,BC33,BJ33,BQ33,BX33,CE33)/CL33 -> 0.55605086 | CQ33: FUNDACIÓN UNIVERSITARIA COMPENSAR | CR33: UNIVERSIDAD DE LA SABANA
B34: TADI.3 | C34: Entre 401 y 500 cupos | D34: 3200000 | E34: =(D34*19)/100 -> 608000 | F34: =D34+E34 -> 3808000 | I34: TADI.3 | J34: Entre 401 y 500 cupos | K34: 2590000 | L34: 0 | M34: =+K34+L34 -> 2590000 | P34: TADI.3 | Q34: Entre 401 y 500 cupos | R34: =2166000 -> 2166000 | S34: 0 | T34: =R34+S34 -> 2166000 | W34: TADI.3 | X34: Entre 401 y 500 cupos | Y34: 575000000 | Z34: 0 | AA34: =+Y34/500 -> 1150000 | AD34: TADI.3 | AE34: Entre 401 y 500 cupos | AF34: 1945034.3 | AG34: 0 | AH34: =AF34+AG34 -> 1945034.3 | AK34: TADI.3 | AL34: Entre 401 y 500 cupos | AM34: 7350000 | AN34: 0 | AO34: =AM34+AN34 -> 7350000 | AR34: TADI.3 | AS34: Entre 401 y 500 cupos | AT34: 1400000 | AU34: 0 | AV34: =AT34+AU34 -> 1400000 | AY34: TADI.3 | AZ34: Entre 401 y 500 cupos | BA34: 2127000 | BB34: 404130 | BC34: 2531130 | BF34: TADI.3 | BG34: Entre 401 y 500 cupos | BH34: 3270000 | BI34: 0 | BJ34: =BH34+BI34 -> 3270000 | BM34: TADI.3 | BN34: Entre 401 y 500 cupos | BO34: 3000000 | BP34: 0 | BQ34: =BO34+BP34 -> 3000000 | BT34: TADI.3 | BU34: Entre 401 y 500 cupos | BV34: 2000000 | BW34: 0 | BX34: =BV34+BW34 -> 2000000 | CA34: TADI.3 | CB34: Entre 401 y 500 cupos | CC34: 3067222.2 | CD34: =CC34*0.19 -> 582772.22 | CE34: =CC34+CD34 -> 3649994.4 | CH34: TADI.3 | CI34: Entre 401 y 500 cupos | CJ34: =+MAX(F34,M34,T34,AA34,AH34,AO34,AV34,BC34,BJ34,BQ34,BX34,CE34) -> 7350000 | CK34: =+MIN(F34,M34,T34,AA34,AH34,AO34,AV34,BC34,BJ34,BQ34,BX34,CE34) -> 1150000 | CL34: =+AVERAGE(F34,M34,T34,AA34,AH34,AO34,AV34,BC34,BJ34,BQ34,BX34,CE34) -> 2905013.2 | CM34: =+TRIMMEAN((F34,M34,T34,AA34,AH34,AO34,AV34,BC34,BJ34,BQ34,BX34,CE34),(2/12)) -> 2636015.9 | CN34: =+MEDIAN(F34,M34,T34,AA34,AH34,AO34,AV34,BC34,BJ34,BQ34,BX34,CE34) -> 2560565 | CO34: =IFERROR(MODE(F34,M34,T34,AA34,AH34,AO34,AV34,BC34,BJ34,BQ34,BX34,CE34),"N/A") -> N/A | CP34: =+STDEV(F34,M34,T34,AA34,AH34,AO34,AV34,BC34,BJ34,BQ34,BX34,CE34)/CL34 -> 0.56028759 | CQ34: FUNDACIÓN UNIVERSITARIA COMPENSAR | CR34: UNIVERSIDAD DE LA SABANA
B35: TADI.4 | C35: Más de 500 cupos | D35: 2895000 | E35: =(D35*19)/100 -> 550050 | F35: =D35+E35 -> 3445050 | I35: TADI.4 | J35: Más de 500 cupos | K35: 2500000 | L35: 0 | M35: =+K35+L35 -> 2500000 | P35: TADI.4 | Q35: Más de 500 cupos | R35: =2057000 -> 2057000 | S35: 0 | T35: =R35+S35 -> 2057000 | W35: TADI.4 | X35: Más de 500 cupos | Y35: 575000000 | Z35: 0 | AA35: =+Y35/500 -> 1150000 | AD35: TADI.4 | AE35: Más de 500 cupos | AF35: 1926332.1 | AG35: 0 | AH35: =AF35+AG35 -> 1926332.1 | AK35: TADI.4 | AL35: Más de 500 cupos (Hasta 700 personas) | AM35: 6790000 | AN35: 0 | AO35: =AM35+AN35 -> 6790000 | AR35: TADI.4 | AS35: Más de 500 cupos | AT35: 1200000 | AU35: 0 | AV35: =AT35+AU35 -> 1200000 | AY35: TADI.4 | AZ35: Más de 500 cupos | BA35: 2115000 | BB35: 401850 | BC35: 2516850 | BF35: TADI.4 | BG35: Más de 500 cupos | BH35: 3100000 | BI35: 0 | BJ35: =BH35+BI35 -> 3100000 | BM35: TADI.4 | BN35: Más de 500 cupos | BO35: 3000000 | BP35: 0 | BQ35: =BO35+BP35 -> 3000000 | BT35: TADI.4 | BU35: Más de 500 cupos | BV35: 2000000 | BW35: 0 | BX35: =BV35+BW35 -> 2000000 | CA35: TADI.4 | CB35: Más de 500 cupos | CC35: 2002222.2 | CD35: =CC35*0.19 -> 380422.22 | CE35: =CC35+CD35 -> 2382644.4 | CH35: TADI.4 | CI35: Más de 500 cupos | CJ35: =+MAX(F35,M35,T35,AA35,AH35,AO35,AV35,BC35,BJ35,BQ35,BX35,CE35) -> 6790000 | CK35: =+MIN(F35,M35,T35,AA35,AH35,AO35,AV35,BC35,BJ35,BQ35,BX35,CE35) -> 1150000 | CL35: =+AVERAGE(F35,M35,T35,AA35,AH35,AO35,AV35,BC35,BJ35,BQ35,BX35,CE35) -> 2672323 | CM35: =+TRIMMEAN((F35,M35,T35,AA35,AH35,AO35,AV35,BC35,BJ35,BQ35,BX35,CE35),(2/12)) -> 2412787.7 | CN35: =+MEDIAN(F35,M35,T35,AA35,AH35,AO35,AV35,BC35,BJ35,BQ35,BX35,CE35) -> 2441322.2 | CO35: =IFERROR(MODE(F35,M35,T35,AA35,AH35,AO35,AV35,BC35,BJ35,BQ35,BX35,CE35),"N/A") -> N/A | CP35: =+STDEV(F35,M35,T35,AA35,AH35,AO35,AV35,BC35,BJ35,BQ35,BX35,CE35)/CL35 -> 0.55104133 | CQ35: FUNDACIÓN UNIVERSITARIA COMPENSAR | CR35: UNIVERSIDAD DE LA SABANA
A36: Temática | B36: Animación Digital | F36: Nivel | G36: Avanzado | I36: Animación Digital | M36: Nivel | N36: Avanzado | P36: Animación Digital | T36: Nivel | U36: Avanzado | W36: Animación Digital | AA36: Nivel | AB36: Avanzado | AD36: Animación Digital | AH36: Nivel | AI36: Avanzado | AO36: Nivel | AP36: Avanzado | AR36: Animación Digital | AV36: Nivel | AW36: Avanzado | AY36: Animación Digital | BC36: Nivel | BD36: Avanzado | BF36: Animación Digital | BJ36: Nivel | BK36: Avanzado | BM36: Animación Digital | BQ36: Nivel | BR36: Avanzado | BT36: Animación Digital | BX36: Nivel | BY36: Avanzado | CA36: Animación Digital | CE36: Nivel | CF36: Avanzado
A37: MODALIDAD: Híbrido | B37: COD. | C37: RANGOS | D37: VALOR UNITARIO (SIN IVA) | E37: IVA (SI APLICA) | F37: TOTAL | I37: COD. | J37: RANGOS | K37: VALOR UNITARIO (SIN IVA) | L37: IVA (SI APLICA) | M37: TOTAL | P37: COD. | Q37: RANGOS | R37: VALOR UNITARIO (SIN IVA) | S37: IVA (SI APLICA) | T37: TOTAL | W37: COD. | X37: RANGOS | Y37: VALOR UNITARIO (SIN IVA) | Z37: IVA (SI APLICA) | AA37: TOTAL | AD37: COD. | AE37: RANGOS | AF37: VALOR UNITARIO (SIN IVA) | AG37: IVA (SI APLICA) | AH37: TOTAL | AK37: COD. | AL37: RANGOS | AM37: VALOR UNITARIO (SIN IVA) | AN37: IVA (SI APLICA) | AO37: TOTAL | AR37: COD. | AS37: RANGOS | AT37: VALOR UNITARIO (SIN IVA) | AU37: IVA (SI APLICA) | AV37: TOTAL | AY37: COD. | AZ37: RANGOS | BA37: VALOR UNITARIO (SIN IVA) | BB37: IVA (SI APLICA) | BC37: TOTAL | BF37: COD. | BG37: RANGOS | BH37: VALOR UNITARIO (SIN IVA) | BI37: IVA (SI APLICA) | BJ37: TOTAL | BM37: COD. | BN37: RANGOS | BO37: VALOR UNITARIO (SIN IVA) | BP37: IVA (SI APLICA) | BQ37: TOTAL | BT37: COD. | BU37: RANGOS | BV37: VALOR UNITARIO (SIN IVA) | BW37: IVA (SI APLICA) | BX37: TOTAL | CA37: COD. | CB37: RANGOS | CC37: VALOR UNITARIO (SIN IVA) | CD37: IVA (SI APLICA) | CE37: TOTAL | CH37: COD. | CI37: RANGOS | CJ37: Valor máximo | CK37: Valor mínimo | CL37: Promedio | CM37: Media Acotada | CN37: Mediana | CO37: Moda | CQ37: MAX | CR37: MIN
A38: Competencias técnicas: de 70 a 120 horas Habilidades socioemocionales: de 20 a 40 horas | B38: TADA.1 | C38: Hasta 300 cupos | D38: 3500000 | E38: =(D38*19)/100 -> 665000 | F38: =D38+E38 -> 4165000 | I38: TADA.1 | J38: Hasta 300 cupos | K38: 2950000 | L38: 0 | M38: =+K38+L38 -> 2950000 | P38: TADA.1 | Q38: Hasta 300 cupos | R38: 2400000 | S38: 0 | T38: =R38+S38 -> 2400000 | W38: TADA.1 | X38: Hasta 300 cupos | Y38: 387000000 | Z38: 0 | AA38: =+Y38/300 -> 1290000 | AD38: TADA.1 | AE38: Hasta 300 cupos | AF38: 2023419.2 | AG38: 0 | AH38: =AF38+AG38 -> 2023419.2 | AK38: TADA.1 | AL38: Hasta 300 cupos | AM38: 8400000 | AN38: 0 | AO38: =AM38+AN38 -> 8400000 | AR38: TADA.1 | AS38: Hasta 300 cupos | AT38: 2100000 | AU38: 0 | AV38: =AT38+AU38 -> 2100000 | AY38: TADA.1 | AZ38: Hasta 300 cupos | BA38: 2677200 | BB38: 508668 | BC38: 3185868 | BF38: TADA.1 | BG38: Hasta 300 cupos | BH38: 3900000 | BI38: 0 | BJ38: =BH38+BI38 -> 3900000 | BM38: TADA.1 | BN38: Hasta 300 cupos | BO38: 3000000 | BP38: 0 | BQ38: =BO38+BP38 -> 3000000 | BT38: TADA.1 | BU38: Hasta 300 cupos | BV38: 2500000 | BW38: 0 | BX38: =BV38+BW38 -> 2500000 | CA38: TADA.1 | CB38: Hasta 300 cupos | CC38: 3067222.2 | CD38: =CC38*0.19 -> 582772.22 | CE38: =CC38+CD38 -> 3649994.4 | CH38: TADA.1 | CI38: Hasta 300 cupos | CJ38: =+MAX(F38,M38,T38,AA38,AH38,AO38,AV38,BC38,BJ38,BQ38,BX38,CE38) -> 8400000 | CK38: =+MIN(F38,M38,T38,AA38,AH38,AO38,AV38,BC38,BJ38,BQ38,BX38,CE38) -> 1290000 | CL38: =+AVERAGE(F38,M38,T38,AA38,AH38,AO38,AV38,BC38,BJ38,BQ38,BX38,CE38) -> 3297023.5 | CM38: =+TRIMMEAN((F38,M38,T38,AA38,AH38,AO38,AV38,BC38,BJ38,BQ38,BX38,CE38),(2/12)) -> 2987428.2 | CN38: =+MEDIAN(F38,M38,T38,AA38,AH38,AO38,AV38,BC38,BJ38,BQ38,BX38,CE38) -> 2975000 | CO38: =IFERROR(MODE(F38,M38,T38,AA38,AH38,AO38,AV38,BC38,BJ38,BQ38,BX38,CE38),"N/A") -> N/A | CP38: =+STDEV(F38,M38,T38,AA38,AH38,AO38,AV38,BC38,BJ38,BQ38,BX38,CE38)/CL38 -> 0.5488947 | CQ38: FUNDACIÓN UNIVERSITARIA COMPENSAR | CR38: UNIVERSIDAD DE LA SABANA
B39: TADA.2 | C39: Entre 301 y 400 cupos | D39: 3300000 | E39: =(D39*19)/100 -> 627000 | F39: =D39+E39 -> 3927000 | I39: TADA.2 | J39: Entre 301 y 400 cupos | K39: 2750000 | L39: 0 | M39: =+K39+L39 -> 2750000 | P39: TADA.2 | Q39: Entre 301 y 400 cupos | R39: =2280000 -> 2280000 | S39: 0 | T39: =R39+S39 -> 2280000 | W39: TADA.2 | X39: Entre 301 y 400 cupos | Y39: 466000000 | Z39: 0 | AA39: =+Y39/400 -> 1165000 | AD39: TADA.2 | AE39: Entre 301 y 400 cupos | AF39: 2003385.4 | AG39: 0 | AH39: =AF39+AG39 -> 2003385.4 | AK39: TADA.2 | AL39: Entre 301 y 400 cupos | AM39: 7725000 | AN39: 0 | AO39: =AM39+AN39 -> 7725000 | AR39: TADA.2 | AS39: Entre 301 y 400 cupos | AT39: 1728000 | AU39: 0 | AV39: =AT39+AU39 -> 1728000 | AY39: TADA.2 | AZ39: Entre 301 y 400 cupos | BA39: 2563200 | BB39: 487008 | BC39: 3050208 | BF39: TADA.2 | BG39: Entre 301 y 400 cupos | BH39: 3480000 | BI39: 0 | BJ39: =BH39+BI39 -> 3480000 | BM39: TADA.2 | BN39: Entre 301 y 400 cupos | BO39: 3000000 | BP39: 0 | BQ39: =BO39+BP39 -> 3000000 | BT39: TADA.2 | BU39: Entre 301 y 400 cupos | BV39: 2200000 | BW39: 0 | BX39: =BV39+BW39 -> 2200000 | CA39: TADA.2 | CB39: Entre 301 y 400 cupos | CC39: 3067222.2 | CD39: =CC39*0.19 -> 582772.22 | CE39: =CC39+CD39 -> 3649994.4 | CH39: TADA.2 | CI39: Entre 301 y 400 cupos | CJ39: =+MAX(F39,M39,T39,AA39,AH39,AO39,AV39,BC39,BJ39,BQ39,BX39,CE39) -> 7725000 | CK39: =+MIN(F39,M39,T39,AA39,AH39,AO39,AV39,BC39,BJ39,BQ39,BX39,CE39) -> 1165000 | CL39: =+AVERAGE(F39,M39,T39,AA39,AH39,AO39,AV39,BC39,BJ39,BQ39,BX39,CE39) -> 3079882.3 | CM39: =+TRIMMEAN((F39,M39,T39,AA39,AH39,AO39,AV39,BC39,BJ39,BQ39,BX39,CE39),(2/12)) -> 2806858.8 | CN39: =+MEDIAN(F39,M39,T39,AA39,AH39,AO39,AV39,BC39,BJ39,BQ39,BX39,CE39) -> 2875000 | CO39: =IFERROR(MODE(F39,M39,T39,AA39,AH39,AO39,AV39,BC39,BJ39,BQ39,BX39,CE39),"N/A") -> N/A | CP39: =+STDEV(F39,M39,T39,AA39,AH39,AO39,AV39,BC39,BJ39,BQ39,BX39,CE39)/CL39 -> 0.5447435 | CQ39: FUNDACIÓN UNIVERSITARIA COMPENSAR | CR39: UNIVERSIDAD DE LA SABANA
B40: TADA.3 | C40: Entre 401 y 500 cupos | D40: 3200000 | E40: =(D40*19)/100 -> 608000 | F40: =D40+E40 -> 3808000 | I40: TADA.3 | J40: Entre 401 y 500 cupos | K40: 2590000 | L40: 0 | M40: =+K40+L40 -> 2590000 | P40: TADA.3 | Q40: Entre 401 y 500 cupos | R40: =2166000 -> 2166000 | S40: 0 | T40: =R40+S40 -> 2166000 | W40: TADA.3 | X40: Entre 401 y 500 cupos | Y40: 575000000 | Z40: 0 | AA40: =+Y40/500 -> 1150000 | AD40: TADA.3 | AE40: Entre 401 y 500 cupos | AF40: 1983744.3 | AG40: 0 | AH40: =AF40+AG40 -> 1983744.3 | AK40: TADA.3 | AL40: Entre 401 y 500 cupos | AM40: 7350000 | AN40: 0 | AO40: =AM40+AN40 -> 7350000 | AR40: TADA.3 | AS40: Entre 401 y 500 cupos | AT40: 1400000 | AU40: 0 | AV40: =AT40+AU40 -> 1400000 | AY40: TADA.3 | AZ40: Entre 401 y 500 cupos | BA40: 2552400 | BB40: 484956 | BC40: 3037356 | BF40: TADA.3 | BG40: Entre 401 y 500 cupos | BH40: 3270000 | BI40: 0 | BJ40: =BH40+BI40 -> 3270000 | BM40: TADA.3 | BN40: Entre 401 y 500 cupos | BO40: 3000000 | BP40: 0 | BQ40: =BO40+BP40 -> 3000000 | BT40: TADA.3 | BU40: Entre 401 y 500 cupos | BV40: 2000000 | BW40: 0 | BX40: =BV40+BW40 -> 2000000 | CA40: TADA.3 | CB40: Entre 401 y 500 cupos | CC40: 3067222.2 | CD40: =CC40*0.19 -> 582772.22 | CE40: =CC40+CD40 -> 3649994.4 | CH40: TADA.3 | CI40: Entre 401 y 500 cupos | CJ40: =+MAX(F40,M40,T40,AA40,AH40,AO40,AV40,BC40,BJ40,BQ40,BX40,CE40) -> 7350000 | CK40: =+MIN(F40,M40,T40,AA40,AH40,AO40,AV40,BC40,BJ40,BQ40,BX40,CE40) -> 1150000 | CL40: =+AVERAGE(F40,M40,T40,AA40,AH40,AO40,AV40,BC40,BJ40,BQ40,BX40,CE40) -> 2950424.6 | CM40: =+TRIMMEAN((F40,M40,T40,AA40,AH40,AO40,AV40,BC40,BJ40,BQ40,BX40,CE40),(2/12)) -> 2690509.5 | CN40: =+MEDIAN(F40,M40,T40,AA40,AH40,AO40,AV40,BC40,BJ40,BQ40,BX40,CE40) -> 2795000 | CO40: =IFERROR(MODE(F40,M40,T40,AA40,AH40,AO40,AV40,BC40,BJ40,BQ40,BX40,CE40),"N/A") -> N/A | CP40: =+STDEV(F40,M40,T40,AA40,AH40,AO40,AV40,BC40,BJ40,BQ40,BX40,CE40)/CL40 -> 0.54957913 | CQ40: FUNDACIÓN UNIVERSITARIA COMPENSAR | CR40: UNIVERSIDAD DE LA SABANA
B41: TADA.4 | C41: Más de 500 cupos | D41: 2895000 | E41: =(D41*19)/100 -> 550050 | F41: =D41+E41 -> 3445050 | I41: TADA.4 | J41: Más de 500 cupos | K41: 2500000 | L41: 0 | M41: =+K41+L41 -> 2500000 | P41: TADA.4 | Q41: Más de 500 cupos | R41: =2057000 -> 2057000 | S41: 0 | T41: =R41+S41 -> 2057000 | W41: TADA.4 | X41: Más de 500 cupos | Y41: 575000000 | Z41: 0 | AA41: =+Y41/500 -> 1150000 | AD41: TADA.4 | AE41: Más de 500 cupos | AF41: 1964484.7 | AG41: 0 | AH41: =AF41+AG41 -> 1964484.7 | AK41: TADA.4 | AL41: Más de 500 cupos (Hasta 700 personas) | AM41: 6790000 | AN41: 0 | AO41: =AM41+AN41 -> 6790000 | AR41: TADA.4 | AS41: Más de 500 cupos | AT41: 1200000 | AU41: 0 | AV41: =AT41+AU41 -> 1200000 | AY41: TADA.4 | AZ41: Más de 500 cupos | BA41: 2538000 | BB41: 482220 | BC41: 3020220 | BF41: TADA.4 | BG41: Más de 500 cupos | BH41: 3100000 | BI41: 0 | BJ41: =BH41+BI41 -> 3100000 | BM41: TADA.4 | BN41: Más de 500 cupos | BO41: 3000000 | BP41: 0 | BQ41: =BO41+BP41 -> 3000000 | BT41: TADA.4 | BU41: Más de 500 cupos | BV41: 2000000 | BW41: 0 | BX41: =BV41+BW41 -> 2000000 | CA41: TADA.4 | CB41: Más de 500 cupos | CC41: 2002222.2 | CD41: =CC41*0.19 -> 380422.22 | CE41: =CC41+CD41 -> 2382644.4 | CH41: TADA.4 | CI41: Más de 500 cupos | CJ41: =+MAX(F41,M41,T41,AA41,AH41,AO41,AV41,BC41,BJ41,BQ41,BX41,CE41) -> 6790000 | CK41: =+MIN(F41,M41,T41,AA41,AH41,AO41,AV41,BC41,BJ41,BQ41,BX41,CE41) -> 1150000 | CL41: =+AVERAGE(F41,M41,T41,AA41,AH41,AO41,AV41,BC41,BJ41,BQ41,BX41,CE41) -> 2717449.9 | CM41: =+TRIMMEAN((F41,M41,T41,AA41,AH41,AO41,AV41,BC41,BJ41,BQ41,BX41,CE41),(2/12)) -> 2466939.9 | CN41: =+MEDIAN(F41,M41,T41,AA41,AH41,AO41,AV41,BC41,BJ41,BQ41,BX41,CE41) -> 2441322.2 | CO41: =IFERROR(MODE(F41,M41,T41,AA41,AH41,AO41,AV41,BC41,BJ41,BQ41,BX41,CE41),"N/A") -> N/A | CP41: =+STDEV(F41,M41,T41,AA41,AH41,AO41,AV41,BC41,BJ41,BQ41,BX41,CE41)/CL41 -> 0.54208312 | CQ41: FUNDACIÓN UNIVERSITARIA COMPENSAR | CR41: UNIVERSIDAD DE LA SABANA
CO44: Min | CP44: =+MIN(CP8:CP41) -> 0.54208312
CO45: Max | CP45: =+MAX(CP8:CP41) -> 0.56208962

Sheet Proceso 2
A1: Propuesta presentada por: | B1: PROYECTAMOS COLOMBIA SAS | I1: Universidad Javeriana | P1: Corpración Universitaria Remington | W1: UNIVERSIDAD DE LA SABANA | AD1: UNIVERSITARIA AGUSTINIANA-UNIAGUSTINIANA | AK1: CAMPUSLANDS SAS BIC | AR1: CORPORACIÓN INSTITUTO COLOMBIANO DE CUALIFICACIÓN EMPRESARIAL | AY1: FUNDACIÓN UNIVERSITARIA COMPENSAR | BF1: FUNDACION UNIVERSITARIA EMPRESARIAL DE LA CAMARA DE COMERCIO DE BOGOTA - UNIEMPRESARIAL | BM1: SGS COLOMBIA SAS | BT1: Universidad Ean | CA1: KUEPA EDUTECH S.A.S | CH1: UNIÓN TEMPORAL UT ATENEA-BS-ESCUELA-2024 | CO1: COGNOSONLINE SOLUTIONS COLOMBIA S.A. | CV1: Estadisticas
A2: Nit | B2: 900555513-3 | P2: 811005425-1 | W2: 860075558-1 | AD2: 830.027.493-6 | AK2: 901.628.406-1 | AR2: 9003504166 | AY2: 860506140-6 | BF2: 830084876-6 | BM2: 860.049.921-0 | BT2: 860.026.058-1 | CA2: 900241770-1 | CH2: 901.904.832-1 | CO2: 830.074.045-1
A3: Correo electrónico: | B3: gerencia@proyectamoscolombia.com | P3: proyectos@uniremington.edu.co | W3: camila.rodriguez3@unisabana.edu.co | AD3: licitaciones@uniagustiniana.edu.co | AK3: contacto@campuslands.com | AR3: info@cicce.edu.co | AY3: contratosyproyectos@ucompensar.edu.co | BF3: notificacionesjudiciales@uniempresarial.edu.co / rector@uniempresarial.edu.co | BM3: co.notificaciones@sgs.com; sugeys.deavila@sgs.com | BT3: dcgutierrez@universidadean.edu.co | CA3: jorge.garcia@kuepa.com | CH3: ehernandez@bscolombia.com.co | CO3: esanabria@cognosonline.com
A5: ESPECIALISTA TECH, HABILIDADES DIGITALES
A6: Ruta Formativa 1 | B6: Fábrica de desarrolladores | F6: Nivel | G6: imtermedio | I6: Fábrica de desarrolladores | M6: Nivel | N6: imtermedio | P6: Fábrica de desarrolladores | T6: Nivel | U6: imtermedio | W6: Fábrica de desarrolladores | AA6: Nivel | AB6: imtermedio | AD6: Fábrica de desarrolladores | AH6: Nivel | AI6: imtermedio | AK6: Fábrica de desarrolladores | AO6: Nivel | AP6: imtermedio | AR6: Fábrica de desarrolladores | AV6: Nivel | AW6: imtermedio | AY6: Fábrica de desarrolladores | BC6: Nivel | BD6: imtermedio | BF6: Fábrica de desarrolladores | BJ6: Nivel | BK6: imtermedio | BM6: Fábrica de desarrolladores | BQ6: Nivel | BR6: imtermedio | BT6: Fábrica de desarrolladores | BX6: Nivel | BY6: imtermedio | CA6: Fábrica de desarrolladores | CE6: Nivel | CF6: imtermedio | CH6: Fábrica de desarrolladores | CL6: Nivel | CM6: imtermedio | CO6: Fábrica de desarrolladores | CS6: Nivel | CT6: imtermedio
A7: MODALIDAD: Híbrido | B7: COD. | C7: RANGOS | D7: VALOR UNITARIO (SIN IVA) | E7: IVA (SI APLICA) | F7: TOTAL | I7: COD. | J7: RANGOS | K7: VALOR UNITARIO (SIN IVA) | L7: IVA (SI APLICA) | M7: TOTAL | P7: COD. | Q7: RANGOS | R7: VALOR UNITARIO (SIN IVA) | S7: IVA (SI APLICA) | T7: TOTAL | W7: COD. | X7: RANGOS | Y7: VALOR UNITARIO (SIN IVA) | Z7: IVA (SI APLICA) | AA7: TOTAL | AD7: COD. | AE7: RANGOS | AF7: VALOR UNITARIO (SIN IVA) | AG7: IVA (SI APLICA) | AH7: TOTAL | AK7: COD. | AL7: RANGOS | AM7: VALOR UNITARIO (SIN IVA) | AN7: IVA (SI APLICA) | AO7: TOTAL | AR7: COD. | AS7: RANGOS | AT7: VALOR UNITARIO (SIN IVA) | AU7: IVA (SI APLICA) | AV7: TOTAL | AY7: COD. | AZ7: RANGOS | BA7: VALOR UNITARIO (SIN IVA) | BB7: IVA (SI APLICA) | BC7: TOTAL | BF7: COD. | BG7: RANGOS | BH7: VALOR UNITARIO (SIN IVA) | BI7: IVA (SI APLICA) | BJ7: TOTAL | BM7: COD. | BN7: RANGOS | BO7: VALOR UNITARIO (SIN IVA) | BP7: IVA (SI APLICA) | BQ7: TOTAL | BT7: COD. | BU7: RANGOS | BV7: VALOR UNITARIO (SIN IVA) | BW7: IVA (SI APLICA) | BX7: TOTAL | CA7: COD. | CB7: RANGOS | CC7: VALOR UNITARIO (SIN IVA) | CD7: IVA (SI APLICA) | CE7: TOTAL | CH7: COD. | CI7: RANGOS | CJ7: VALOR UNITARIO (SIN IVA) | CK7: IVA (SI APLICA) | CL7: TOTAL | CO7: COD. | CP7: RANGOS | CQ7: VALOR UNITARIO (SIN IVA) | CR7: IVA (SI APLICA) | CS7: TOTAL | CV7: COD. | CW7: RANGOS | CX7: Valor máximo | CY7: Valor mínimo | CZ7: Promedio | DA7: Media Acotada | DB7: Mediana | DC7: Moda | DE7: MAX | DF7: MIN
A8: •Técnica: 80 horas, virtual sincrónico + autoformación. | B8: RFFDI.1 | C8: Hasta 500 cupos | D8: 3859000 | E8: =(D8*19)/100 -> 733210 | F8: =D8+E8 -> 4592210 | I8: RFFDI.1 | J8: Hasta 500 cupos | K8: 2750000 | L8: 0 | M8: =+K8+L8 -> 2750000 | P8: RFFDI.1 | Q8: Hasta 500 cupos | R8: 1950000 | S8: 0 | T8: =R8+S8 -> 1950000 | W8: RFFDI.1 | X8: Hasta 500 cupos | Y8: 561500000 | Z8: 0 | AA8: =+Y8/500 -> 1123000 | AD8: RFFDI.1 | AE8: Hasta 500 cupos | AF8: 2005114.4 | AG8: 0 | AH8: =AF8+AG8 -> 2005114.4 | AK8: RFFDI.1 | AL8: Hasta 500 cupos | AM8: 3483000 | AN8: 817000 | AO8: =AM8+AN8 -> 4300000 | AR8: RFFDI.1 | AS8: Hasta 500 cupos | AT8: 3617496 | AU8: 0 | AV8: =AT8+AU8 -> 3617496 | AY8: RFFDI.1 | AZ8: Hasta 500 cupos | BA8: 7350000 | BB8: 0 | BC8: =BA8+BB8 -> 7350000 | BF8: RFFDI.1 | BG8: Hasta 500 cupos | BH8: 3748644.8 | BI8: 0 | BJ8: =BH8+BI8 -> 3748644.8 | BM8: RFFDI.1 | BN8: Hasta 500 cupos | BO8: 448600 | BP8: 0 | BQ8: =BO8+BP8 -> 448600 | BT8: RFFDI.1 | BU8: Hasta 500 cupos | BV8: 2050000 | BW8: 0 | BX8: =BV8+BW8 -> 2050000 | CA8: RFFDI.1 | CB8: Hasta 500 cupos | CC8: 3000000 | CD8: 0 | CE8: =CC8+CD8 -> 3000000 | CH8: RFFDI.1 | CI8: Hasta 500 cupos | CJ8: 2500000 | CK8: 0 | CL8: =CJ8+CK8 -> 2500000 | CO8: RFFDI.1 | CP8: Hasta 500 cupos | CQ8: 943888.89 | CR8: =CQ8*0.19 -> 179338.89 | CS8: =CQ8+CR8 -> 1123227.8 | CV8: RFFDI.1 | CW8: Hasta 500 cupos | CX8: =+MAX(F8,M8,T8,AA8,AH8,AO8,AV8,BC8,BJ8,BQ8,BX8,CE8,CL8,CS8) -> 7350000 | CY8: =+MIN(F8,M8,T8,AA8,AH8,AO8,AV8,BC8,BJ8,BQ8,BX8,CE8,CL8,CS8) -> 448600 | CZ8: =+AVERAGE(F8,M8,T8,AA8,AH8,AO8,AV8,BC8,BJ8,BQ8,BX8,CE8,CL8,CS8) -> 2897020.9 | DA8: =+TRIMMEAN((F8,M8,T8,AA8,AH8,AO8,AV8,BC8,BJ8,BQ8,BX8,CE8,CL8,CS8),(2/14)) -> 2729974.4 | DB8: =+MEDIAN(F8,M8,T8,AA8,AH8,AO8,AV8,BC8,BJ8,BQ8,BX8,CE8,CL8,CS8) -> 2625000 | DC8: =IFERROR(MODE(F8,M8,T8,AA8,AH8,AO8,AV8,BC8,BJ8,BQ8,BX8,CE8,CL8,CS8),"N/A") -> N/A | DD8: =+STDEV(F8,M8,T8,AA8,AH8,AO8,AV8,BC8,BJ8,BQ8,BX8,CE8,CL8,CS8)/CZ8 -> 0.6115391 | DE8: FUNDACIÓN UNIVERSITARIA COMPENSAR | DF8: SGS COLOMBIA SAS
A9: •Toolbox TIC: 24 horas, virtual autoformación. | B9: RFFDI.2 | C9: Entre 501 y 1000 cupos | D9: 2664000 | E9: =(D9*19)/100 -> 506160 | F9: =D9+E9 -> 3170160 | I9: RFFDI.2 | J9: Entre 501 y 1000 cupos | K9: 2450000 | L9: 0 | M9: =+K9+L9 -> 2450000 | P9: RFFDI.2 | Q9: Entre 501 y 1000 cupos | R9: 1911000 | S9: 0 | T9: =R9+S9 -> 1911000 | W9: RFFDI.2 | X9: Entre 501 y 1000 cupos | Y9: 981000000 | Z9: 0 | AA9: =+Y9/1000 -> 981000 | AD9: RFFDI.2 | AE9: Entre 501 y 1000 cupos | AF9: 1965798.4 | AG9: 0 | AH9: =AF9+AG9 -> 1965798.4 | AK9: RFFDI.2 | AL9: Entre 501 y 1000 cupos | AM9: 0 | AN9: 0 | AO9: =AM9+AN9 -> 0 | AR9: RFFDI.2 | AS9: Entre 501 y 1000 cupos | AT9: 3571948 | AU9: 0 | AV9: =AT9+AU9 -> 3571948 | AY9: RFFDI.2 | AZ9: Entre 501 y 1000 cupos | BA9: 5950000 | BB9: 0 | BC9: =BA9+BB9 -> 5950000 | BF9: RFFDI.2 | BG9: Entre 501 y 1000 cupos | BH9: 3701409.9 | BI9: 0 | BJ9: =BH9+BI9 -> 3701409.9 | BM9: RFFDI.2 | BN9: Entre 501 y 1000 cupos | BO9: 425300 | BP9: 0 | BQ9: =BO9+BP9 -> 425300 | BT9: RFFDI.2 | BU9: Entre 501 y 1000 cupos | BV9: 1560000 | BW9: 0 | BX9: =BV9+BW9 -> 1560000 | CA9: RFFDI.2 | CB9: Entre 501 y 1000 cupos | CC9: 3000000 | CD9: 0 | CE9: =CC9+CD9 -> 3000000 | CH9: RFFDI.2 | CI9: Entre 501 y 1000 cupos | CJ9: 2200000 | CK9: 0 | CL9: =CJ9+CK9 -> 2200000 | CO9: RFFDI.2 | CP9: Entre 501 y 1000 cupos | CQ9: 943888.89 | CR9: =CQ9*0.19 -> 179338.89 | CS9: =CQ9+CR9 -> 1123227.8 | CV9: RFFDI.2 | CW9: Entre 501 y 1000 cupos | CX9: =+MAX(F9,M9,T9,AA9,AH9,AV9,BC9,BJ9,BQ9,BX9,CE9,CL9,CS9) -> 5950000 | CY9: =+MIN(F9,M9,T9,AA9,AH9,AV9,BC9,BJ9,BQ9,BX9,CE9,CL9,CS9) -> 425300 | CZ9: =+AVERAGE(F9,M9,T9,AA9,AH9,AV9,BC9,BJ9,BQ9,BX9,CE9,CL9,CS9) -> 2462295.7 | DA9: =+TRIMMEAN((F9,M9,T9,AA9,AH9,AV9,BC9,BJ9,BQ9,BX9,CE9,CL9,CS9),(2/13)) -> 2330413.1 | DB9: =+MEDIAN(F9,M9,T9,AA9,AH9,AV9,BC9,BJ9,BQ9,BX9,CE9,CL9,CS9) -> 2200000 | DC9: =IFERROR(MODE(F9,M9,T9,AA9,AH9,AV9,BC9,BJ9,BQ9,BX9,CE9,CL9,CS9),"N/A") -> N/A | DD9: =+STDEV(F9,M9,T9,AA9,AH9,AV9,BC9,BJ9,BQ9,BX9,CE9,CL9,CS9)/CZ9 -> 0.58959544 | DE9: FUNDACIÓN UNIVERSITARIA COMPENSAR | DF9: SGS COLOMBIA SAS
A10: •English zone: 16 horas, virtual sincrónico | B10: RFFDI.3 | C10: Entre 1001 y 1500 cupos | D10: 2239000 | E10: =(D10*19)/100 -> 425410 | F10: =D10+E10 -> 2664410 | I10: RFFDI.3 | J10: Entre 1001 y 1500 cupos | K10: 2350000 | L10: 0 | M10: =+K10+L10 -> 2350000 | P10: RFFDI.3 | Q10: Entre 1001 y 1500 cupos | R10: 1872780 | S10: 0 | T10: =R10+S10 -> 1872780 | W10: RFFDI.3 | X10: Entre 1001 y 1500 cupos | Y10: 1018600000 | Z10: 0 | AA10: =+Y10/1500 -> 679066.67 | AD10: RFFDI.3 | AE10: Entre 1001 y 1500 cupos | AF10: 1946713 | AG10: 0 | AH10: =AF10+AG10 -> 1946713 | AK10: RFFDI.3 | AL10: Entre 1001 y 1500 cupos | AM10: 0 | AN10: 0 | AO10: =AM10+AN10 -> 0 | AR10: RFFDI.3 | AS10: Entre 1001 y 1500 cupos | AT10: 3526207 | AU10: 0 | AV10: =AT10+AU10 -> 3526207 | AY10: RFFDI.3 | AZ10: Entre 1001 y 1500 cupos | BA10: 5760000 | BB10: 0 | BC10: =BA10+BB10 -> 5760000 | BF10: RFFDI.3 | BG10: Entre 1001 y 1500 cupos | BH10: 3654014.8 | BI10: 0 | BJ10: =BH10+BI10 -> 3654014.8 | BM10: RFFDI.3 | BN10: Entre 1001 y 1500 cupos | BO10: 408600 | BP10: 0 | BQ10: =BO10+BP10 -> 408600 | BT10: RFFDI.3 | BU10: Entre 1001 y 1500 cupos | BV10: 1400000 | BW10: 0 | BX10: =BV10+BW10 -> 1400000 | CA10: RFFDI.3 | CB10: Entre 1001 y 1500 cupos | CC10: 3000000 | CD10: 0 | CE10: =CC10+CD10 -> 3000000 | CH10: RFFDI.3 | CI10: Entre 1001 y 1500 cupos | CJ10: 2000000 | CK10: 0 | CL10: =CJ10+CK10 -> 2000000 | CO10: RFFDI.3 | CP10: Entre 1001 y 1500 cupos | CQ10: 943888.89 | CR10: =CQ10*0.19 -> 179338.89 | CS10: =CQ10+CR10 -> 1123227.8 | CV10: RFFDI.3 | CW10: Entre 1001 y 1500 cupos | CX10: =+MAX(F10,M10,T10,AA10,AH10,AV10,BC10,BJ10,BQ10,BX10,CE10,CL10,CS10) -> 5760000 | CY10: =+MIN(F10,M10,T10,AA10,AH10,AV10,BC10,BJ10,BQ10,BX10,CE10,CL10,CS10) -> 408600 | CZ10: =+AVERAGE(F10,M10,T10,AA10,AH10,AV10,BC10,BJ10,BQ10,BX10,CE10,CL10,CS10) -> 2337309.2 | DA10: =+TRIMMEAN((F10,M10,T10,AA10,AH10,AV10,BC10,BJ10,BQ10,BX10,CE10,CL10,CS10),(2/13)) -> 2201492.7 | DB10: =+MEDIAN(F10,M10,T10,AA10,AH10,AV10,BC10,BJ10,BQ10,BX10,CE10,CL10,CS10) -> 2000000 | DC10: =IFERROR(MODE(F10,M10,T10,AA10,AH10,AV10,BC10,BJ10,BQ10,BX10,CE10,CL10,CS10),"N/A") -> N/A | DD10: =+STDEV(F10,M10,T10,AA10,AH10,AV10,BC10,BJ10,BQ10,BX10,CE10,CL10,CS10)/CZ10 -> 0.61397845 | DE10: FUNDACIÓN UNIVERSITARIA COMPENSAR | DF10: SGS COLOMBIA SAS
A11: •Capstone (proyecto): 8 horas, presencial. | B11: RFFDI.4 | C11: Más de 1501 cupos | D11: 2128000 | E11: =(D11*19)/100 -> 404320 | F11: =D11+E11 -> 2532320 | I11: RFFDI.4 | J11: Más de 1501 cupos | K11: 2320000 | L11: 0 | M11: =+K11+L11 -> 2320000 | P11: RFFDI.4 | Q11: Más de 1501 cupos | R11: 1835324 | S11: 0 | T11: =R11+S11 -> 1835324 | W11: RFFDI.4 | X11: Más de 1501 cupos | Y11: 1018600000 | Z11: 0 | AA11: =+Y11/1501 -> 678614.26 | AD11: RFFDI.4 | AE11: Más de 1501 cupos | AF11: 1927994.6 | AG11: 0 | AH11: =AF11+AG11 -> 1927994.6 | AK11: RFFDI.4 | AL11: Más de 1501 cupos | AM11: 0 | AN11: 0 | AO11: =AM11+AN11 -> 0 | AR11: RFFDI.4 | AS11: Más de 1501 cupos | AT11: 3470140 | AU11: 0 | AV11: =AT11+AU11 -> 3470140 | AY11: RFFDI.4 | AZ11: Más de 1501 cupos | BA11: 5700000 | BB11: 0 | BC11: =BA11+BB11 -> 5700000 | BF11: RFFDI.4 | BG11: Más de 1501 cupos | BH11: 3595930.7 | BI11: 0 | BJ11: =BH11+BI11 -> 3595930.7 | BM11: RFFDI.4 | BN11: Más de 1501 cupos | BO11: 0 | BP11: 0 | BQ11: =BO11+BP11 -> 0 | BT11: RFFDI.4 | BU11: Más de 1501 cupos | BV11: 1330000 | BW11: 0 | BX11: =BV11+BW11 -> 1330000 | CA11: RFFDI.4 | CB11: Más de 1501 cupos | CC11: 3000000 | CD11: 0 | CE11: =CC11+CD11 -> 3000000 | CH11: RFFDI.4 | CI11: Más de 1501 cupos | CJ11: 2000000 | CK11: 0 | CL11: =CJ11+CK11 -> 2000000 | CO11: RFFDI.4 | CP11: Más de 1501 cupos | CQ11: 913888.89 | CR11: =CQ11*0.19 -> 173638.89 | CS11: =CQ11+CR11 -> 1087527.8 | CV11: RFFDI.4 | CW11: Más de 1501 cupos | CX11: =+MAX(F11,M11,T11,AA11,AH11,AV11,BC11,BJ11,BX11,CE11,CL11,CS11) -> 5700000 | CY11: =+MIN(F11,M11,T11,AA11,AH11,AV11,BC11,BJ11,BX11,CE11,CL11,CS11) -> 678614.26 | CZ11: =+AVERAGE(F11,M11,T11,AA11,AH11,AV11,BC11,BJ11,BX11,CE11,CL11,CS11) -> 2456487.6 | DA11: =+TRIMMEAN((F11,M11,T11,AA11,AH11,AV11,BC11,BJ11,BX11,CE11,CL11,CS11),(2/12)) -> 2309923.7 | DB11: =+MEDIAN(F11,M11,T11,AA11,AH11,AV11,BC11,BJ11,BX11,CE11,CL11,CS11) -> 2160000 | DC11: =IFERROR(MODE(F11,M11,T11,AA11,AH11,AV11,BC11,BJ11,BX11,CE11,CL11,CS11),"N/A") -> N/A | DD11: =+STDEV(F11,M11,T11,AA11,AH11,AV11,BC11,BJ11,BX11,CE11,CL11,CS11)/CZ11 -> 0.55360565 | DE11: FUNDACIÓN UNIVERSITARIA COMPENSAR | DF11: SGS COLOMBIA SAS
A12: Ruta Formativa 1 | B12: Fábrica de desarrolladores | F12: Nivel | G12: Avanzado | I12: Fábrica de desarrolladores | M12: Nivel | N12: Avanzado | P12: Fábrica de desarrolladores | T12: Nivel | U12: Avanzado | W12: Fábrica de desarrolladores | AA12: Nivel | AB12: Avanzado | AD12: Fábrica de desarrolladores | AH12: Nivel | AI12: Avanzado | AK12: Fábrica de desarrolladores | AO12: Nivel | AP12: Avanzado | AR12: Fábrica de desarrolladores | AV12: Nivel | AW12: Avanzado | AY12: Fábrica de desarrolladores | BC12: Nivel | BD12: Avanzado | BF12: Fábrica de desarrolladores | BJ12: Nivel | BK12: Avanzado | BM12: Fábrica de desarrolladores | BQ12: Nivel | BR12: Avanzado | BT12: Fábrica de desarrolladores | BX12: Nivel | BY12: Avanzado | CA12: Fábrica de desarrolladores | CE12: Nivel | CF12: Avanzado | CH12: Fábrica de desarrolladores | CL12: Nivel | CM12: Avanzado | CO12: Fábrica de desarrolladores | CS12: Nivel | CT12: Avanzado
A13: MODALIDAD: Híbrido | B13: COD. | C13: RANGOS | D13: VALOR UNITARIO (SIN IVA) | E13: IVA (SI APLICA) | F13: TOTAL | I13: COD. | J13: RANGOS | K13: VALOR UNITARIO (SIN IVA) | L13: IVA (SI APLICA) | M13: TOTAL | P13: COD. | Q13: RANGOS | R13: VALOR UNITARIO (SIN IVA) | S13: IVA (SI APLICA) | T13: TOTAL | W13: COD. | X13: RANGOS | Y13: VALOR UNITARIO (SIN IVA) | Z13: IVA (SI APLICA) | AA13: TOTAL | AD13: COD. | AE13: RANGOS | AF13: VALOR UNITARIO (SIN IVA) | AG13: IVA (SI APLICA) | AH13: TOTAL | AK13: COD. | AL13: RANGOS | AM13: VALOR UNITARIO (SIN IVA) | AN13: IVA (SI APLICA) | AO13: TOTAL | AR13: COD. | AS13: RANGOS | AT13: VALOR UNITARIO (SIN IVA) | AU13: IVA (SI APLICA) | AV13: TOTAL | AY13: COD. | AZ13: RANGOS | BA13: VALOR UNITARIO (SIN IVA) | BB13: IVA (SI APLICA) | BC13: TOTAL | BF13: COD. | BG13: RANGOS | BH13: VALOR UNITARIO (SIN IVA) | BI13: IVA (SI APLICA) | BJ13: TOTAL | BM13: COD. | BN13: RANGOS | BO13: VALOR UNITARIO (SIN IVA) | BP13: IVA (SI APLICA) | BQ13: TOTAL | BT13: COD. | BU13: RANGOS | BV13: VALOR UNITARIO (SIN IVA) | BW13: IVA (SI APLICA) | BX13: TOTAL | CA13: COD. | CB13: RANGOS | CC13: VALOR UNITARIO (SIN IVA) | CD13: IVA (SI APLICA) | CE13: TOTAL | CH13: COD. | CI13: RANGOS | CJ13: VALOR UNITARIO (SIN IVA) | CK13: IVA (SI APLICA) | CL13: TOTAL | CO13: COD. | CP13: RANGOS | CQ13: VALOR UNITARIO (SIN IVA) | CR13: IVA (SI APLICA) | CS13: TOTAL | CV13: COD. | CW13: RANGOS | CX13: Valor máximo | CY13: Valor mínimo | CZ13: Promedio | DA13: Media Acotada | DB13: Mediana | DC13: Moda | DE13: MAX | DF13: MIN
A14: •Técnica: 80 horas, virtual sincrónico + autoformación. | B14: RFFDA.1 | C14: Hasta 500 cupos | D14: 3859000 | E14: =(D14*19)/100 -> 733210 | F14: =D14+E14 -> 4592210 | I14: RFFDA.1 | J14: Hasta 500 cupos | K14: 2750000 | L14: 0 | M14: =+K14+L14 -> 2750000 | P14: RFFDA.1 | Q14: Hasta 500 cupos | R14: 1950000 | S14: 0 | T14: =R14+S14 -> 1950000 | W14: RFFDA.1 | X14: Hasta 500 cupos | Y14: 561500000 | Z14: 0 | AA14: =+Y14/500 -> 1123000 | AD14: RFFDA.1 | AE14: Hasta 500 cupos | AF14: 2025165.6 | AG14: 0 | AH14: =AF14+AG14 -> 2025165.6 | AK14: RFFDA.1 | AL14: Hasta 500 cupos | AM14: 3483000 | AN14: 817000 | AO14: =AM14+AN14 -> 4300000 | AR14: RFFDA.1 | AS14: Hasta 500 cupos | AT14: 3641138 | AU14: 0 | AV14: =AT14+AU14 -> 3641138 | AY14: RFFDA.1 | AZ14: Hasta 500 cupos | BA14: 7350000 | BB14: 0 | BC14: =BA14+BB14 -> 7350000 | BF14: RFFDA.1 | BG14: Hasta 500 cupos | BH14: 3773169.5 | BI14: 0 | BJ14: =BH14+BI14 -> 3773169.5 | BM14: RFFDA.1 | BN14: Hasta 500 cupos | BO14: 448600 | BP14: 0 | BQ14: =BO14+BP14 -> 448600 | BT14: RFFDA.1 | BU14: Hasta 500 cupos | BV14: 2050000 | BW14: 0 | BX14: =BV14+BW14 -> 2050000 | CA14: RFFDA.1 | CB14: Hasta 500 cupos | CC14: 3000000 | CD14: 0 | CE14: =CC14+CD14 -> 3000000 | CH14: RFFDA.1 | CI14: Hasta 500 cupos | CJ14: 2500000 | CK14: 0 | CL14: =CJ14+CK14 -> 2500000 | CO14: RFFDA.1 | CP14: Hasta 500 cupos | CQ14: 943888.89 | CR14: =CQ14*0.19 -> 179338.89 | CS14: =CQ14+CR14 -> 1123227.8 | CV14: RFFDA.1 | CW14: Hasta 500 cupos | CX14: =+MAX(F14,M14,T14,AA14,AH14,AO14,AV14,BC14,BJ14,BQ14,BX14,CE14,CL14,CS14) -> 7350000 | CY14: =+MIN(F14,M14,T14,AA14,AH14,AO14,AV14,BC14,BJ14,BQ14,BX14,CE14,CL14,CS14) -> 448600 | CZ14: =+AVERAGE(F14,M14,T14,AA14,AH14,AO14,AV14,BC14,BJ14,BQ14,BX14,CE14,CL14,CS14) -> 2901893.6 | DA14: =+TRIMMEAN((F14,M14,T14,AA14,AH14,AO14,AV14,BC14,BJ14,BQ14,BX14,CE14,CL14,CS14),(2/14)) -> 2735659.2 | DB14: =+MEDIAN(F14,M14,T14,AA14,AH14,AO14,AV14,BC14,BJ14,BQ14,BX14,CE14,CL14,CS14) -> 2625000 | DC14: =IFERROR(MODE(F14,M14,T14,AA14,AH14,AO14,AV14,BC14,BJ14,BQ14,BX14,CE14,CL14,CS14),"N/A") -> N/A | DD14: =+STDEV(F14,M14,T14,AA14,AH14,AO14,AV14,BC14,BJ14,BQ14,BX14,CE14,CL14,CS14)/CZ14 -> 0.61082114 | DE14: FUNDACIÓN UNIVERSITARIA COMPENSAR | DF14: SGS COLOMBIA SAS
A15: •Toolbox TIC: 24 horas, virtual autoformación. | B15: RFFDA.2 | C15: Entre 501 y 1000 cupos | D15: 2664000 | E15: =(D15*19)/100 -> 506160 | F15: =D15+E15 -> 3170160 | I15: RFFDA.2 | J15: Entre 501 y 1000 cupos | K15: 2450000 | L15: 0 | M15: =+K15+L15 -> 2450000 | P15: RFFDA.2 | Q15: Entre 501 y 1000 cupos | R15: 1911000 | S15: 0 | T15: =R15+S15 -> 1911000 | W15: RFFDA.2 | X15: Entre 501 y 1000 cupos | Y15: 981000000 | Z15: 0 | AA15: =+Y15/1000 -> 981000 | AD15: RFFDA.2 | AE15: Entre 501 y 1000 cupos | AF15: 2005114.4 | AG15: 0 | AH15: =AF15+AG15 -> 2005114.4 | AK15: RFFDA.2 | AL15: Entre 501 y 1000 cupos | AM15: 0 | AN15: 0 | AO15: =AM15+AN15 -> 0 | AR15: RFFDA.2 | AS15: Entre 501 y 1000 cupos | AT15: 3595590 | AU15: 0 | AV15: =AT15+AU15 -> 3595590 | AY15: RFFDA.2 | AZ15: Entre 501 y 1000 cupos | BA15: 5950000 | BB15: 0 | BC15: =BA15+BB15 -> 5950000 | BF15: RFFDA.2 | BG15: Entre 501 y 1000 cupos | BH15: 3725935.1 | BI15: 0 | BJ15: =BH15+BI15 -> 3725935.1 | BM15: RFFDA.2 | BN15: Entre 501 y 1000 cupos | BO15: 425300 | BP15: 0 | BQ15: =BO15+BP15 -> 425300 | BT15: RFFDA.2 | BU15: Entre 501 y 1000 cupos | BV15: 1560000 | BW15: 0 | BX15: =BV15+BW15 -> 1560000 | CA15: RFFDA.2 | CB15: Entre 501 y 1000 cupos | CC15: 3000000 | CD15: 0 | CE15: =CC15+CD15 -> 3000000 | CH15: RFFDA.2 | CI15: Entre 501 y 1000 cupos | CJ15: 2200000 | CK15: 0 | CL15: =CJ15+CK15 -> 2200000 | CO15: RFFDA.2 | CP15: Entre 501 y 1000 cupos | CQ15: 943888.89 | CR15: =CQ15*0.19 -> 179338.89 | CS15: =CQ15+CR15 -> 1123227.8 | CV15: RFFDA.2 | CW15: Entre 501 y 1000 cupos | CX15: =+MAX(F15,M15,T15,AA15,AH15,AV15,BC15,BJ15,BQ15,BX15,CE15,CL15,CS15) -> 5950000 | CY15: =+MIN(F15,M15,T15,AA15,AH15,AV15,BC15,BJ15,BQ15,BX15,CE15,CL15,CS15) -> 425300 | CZ15: =+AVERAGE(F15,M15,T15,AA15,AH15,AV15,BC15,BJ15,BQ15,BX15,CE15,CL15,CS15) -> 2469025.2 | DA15: =+TRIMMEAN((F15,M15,T15,AA15,AH15,AV15,BC15,BJ15,BQ15,BX15,CE15,CL15,CS15),(2/13)) -> 2338366.1 | DB15: =+MEDIAN(F15,M15,T15,AA15,AH15,AV15,BC15,BJ15,BQ15,BX15,CE15,CL15,CS15) -> 2200000 | DC15: =IFERROR(MODE(F15,M15,T15,AA15,AH15,AV15,BC15,BJ15,BQ15,BX15,CE15,CL15,CS15),"N/A") -> N/A | DD15: =+STDEV(F15,M15,T15,AA15,AH15,AV15,BC15,BJ15,BQ15,BX15,CE15,CL15,CS15)/CZ15 -> 0.58887502 | DE15: FUNDACIÓN UNIVERSITARIA COMPENSAR | DF15: SGS COLOMBIA SAS
A16: •English zone: 16 horas, virtual sincrónico | B16: RFFDA.3 | C16: Entre 1001 y 1500 cupos | D16: 2239000 | E16: =(D16*19)/100 -> 425410 | F16: =D16+E16 -> 2664410 | I16: RFFDA.3 | J16: Entre 1001 y 1500 cupos | K16: 2350000 | L16: 0 | M16: =+K16+L16 -> 2350000 | P16: RFFDA.3 | Q16: Entre 1001 y 1500 cupos | R16: 1872780 | S16: 0 | T16: =R16+S16 -> 1872780 | W16: RFFDA.3 | X16: Entre 1001 y 1500 cupos | Y16: 1018600000 | Z16: 0 | AA16: =+Y16/1500 -> 679066.67 | AD16: RFFDA.3 | AE16: Entre 1001 y 1500 cupos | AF16: 1985456.4 | AG16: 0 | AH16: =AF16+AG16 -> 1985456.4 | AK16: RFFDA.3 | AL16: Entre 1001 y 1500 cupos | AM16: 0 | AN16: 0 | AO16: =AM16+AN16 -> 0 | AR16: RFFDA.3 | AS16: Entre 1001 y 1500 cupos | AT16: 3549849 | AU16: 0 | AV16: =AT16+AU16 -> 3549849 | AY16: RFFDA.3 | AZ16: Entre 1001 y 1500 cupos | BA16: 5760000 | BB16: 0 | BC16: =BA16+BB16 -> 5760000 | BF16: RFFDA.3 | BG16: Entre 1001 y 1500 cupos | BH16: 3678539.4 | BI16: 0 | BJ16: =BH16+BI16 -> 3678539.4 | BM16: RFFDA.3 | BN16: Entre 1001 y 1500 cupos | BO16: 408600 | BP16: 0 | BQ16: =BO16+BP16 -> 408600 | BT16: RFFDA.3 | BU16: Entre 1001 y 1500 cupos | BV16: 1400000 | BW16: 0 | BX16: =BV16+BW16 -> 1400000 | CA16: RFFDA.3 | CB16: Entre 1001 y 1500 cupos | CC16: 3000000 | CD16: 0 | CE16: =CC16+CD16 -> 3000000 | CH16: RFFDA.3 | CI16: Entre 1001 y 1500 cupos | CJ16: 2000000 | CK16: 0 | CL16: =CJ16+CK16 -> 2000000 | CO16: RFFDA.3 | CP16: Entre 1001 y 1500 cupos | CQ16: 943888.89 | CR16: =CQ16*0.19 -> 179338.89 | CS16: =CQ16+CR16 -> 1123227.8 | CV16: RFFDA.3 | CW16: Entre 1001 y 1500 cupos | CX16: =+MAX(F16,M16,T16,AA16,AH16,AV16,BC16,BJ16,BQ16,BX16,CE16,CL16,CS16) -> 5760000 | CY16: =+MIN(F16,M16,T16,AA16,AH16,AV16,BC16,BJ16,BQ16,BX16,CE16,CL16,CS16) -> 408600 | CZ16: =+AVERAGE(F16,M16,T16,AA16,AH16,AV16,BC16,BJ16,BQ16,BX16,CE16,CL16,CS16) -> 2343994.6 | DA16: =+TRIMMEAN((F16,M16,T16,AA16,AH16,AV16,BC16,BJ16,BQ16,BX16,CE16,CL16,CS16),(2/13)) -> 2209393.6 | DB16: =+MEDIAN(F16,M16,T16,AA16,AH16,AV16,BC16,BJ16,BQ16,BX16,CE16,CL16,CS16) -> 2000000 | DC16: =IFERROR(MODE(F16,M16,T16,AA16,AH16,AV16,BC16,BJ16,BQ16,BX16,CE16,CL16,CS16),"N/A") -> N/A | DD16: =+STDEV(F16,M16,T16,AA16,AH16,AV16,BC16,BJ16,BQ16,BX16,CE16,CL16,CS16)/CZ16 -> 0.61337342 | DE16: FUNDACIÓN UNIVERSITARIA COMPENSAR | DF16: SGS COLOMBIA SAS
A17: •Capstone (proyecto): 8 horas, presencial. | B17: RFFDA.4 | C17: Más de 1501 cupos | D17: 2128000 | E17: =(D17*19)/100 -> 404320 | F17: =D17+E17 -> 2532320 | I17: RFFDA.4 | J17: Más de 1501 cupos | K17: 2320000 | L17: 0 | M17: =+K17+L17 -> 2320000 | P17: RFFDA.4 | Q17: Más de 1501 cupos | R17: 1835324 | S17: 0 | T17: =R17+S17 -> 1835324 | W17: RFFDA.4 | X17: Más de 1501 cupos | Y17: 1018600000 | Z17: 0 | AA17: =+Y17/1501 -> 678614.26 | AD17: RFFDA.4 | AE17: Más de 1501 cupos | AF17: 1966180.2 | AG17: 0 | AH17: =AF17+AG17 -> 1966180.2 | AK17: RFFDA.4 | AL17: Más de 1501 cupos | AM17: 0 | AN17: 0 | AO17: =AM17+AN17 -> 0 | AR17: RFFDA.4 | AS17: Más de 1501 cupos | AT17: 3493783 | AU17: 0 | AV17: =AT17+AU17 -> 3493783 | AY17: RFFDA.4 | AZ17: Más de 1501 cupos | BA17: 5700000 | BB17: 0 | BC17: =BA17+BB17 -> 5700000 | BF17: RFFDA.4 | BG17: Más de 1501 cupos | BH17: 3620455.2 | BI17: 0 | BJ17: =BH17+BI17 -> 3620455.2 | BM17: RFFDA.4 | BN17: Más de 1501 cupos | BO17: 0 | BP17: 0 | BQ17: =BO17+BP17 -> 0 | BT17: RFFDA.4 | BU17: Más de 1501 cupos | BV17: 1330000 | BW17: 0 | BX17: =BV17+BW17 -> 1330000 | CA17: RFFDA.4 | CB17: Más de 1501 cupos | CC17: 3000000 | CD17: 0 | CE17: =CC17+CD17 -> 3000000 | CH17: RFFDA.4 | CI17: Más de 1501 cupos | CJ17: 2000000 | CK17: 0 | CL17: =CJ17+CK17 -> 2000000 | CO17: RFFDA.4 | CP17: Más de 1501 cupos | CQ17: 913888.89 | CR17: =CQ17*0.19 -> 173638.89 | CS17: =CQ17+CR17 -> 1087527.8 | CV17: RFFDA.4 | CW17: Más de 1501 cupos | CX17: =+MAX(F17,M17,T17,AA17,AH17,AV17,BC17,BJ17,BX17,CE17,CL17,CS17) -> 5700000 | CY17: =+MIN(F17,M17,T17,AA17,AH17,AV17,BC17,BJ17,BX17,CE17,CL17,CS17) -> 678614.26 | CZ17: =+AVERAGE(F17,M17,T17,AA17,AH17,AV17,BC17,BJ17,BX17,CE17,CL17,CS17) -> 2463683.7 | DA17: =+TRIMMEAN((F17,M17,T17,AA17,AH17,AV17,BC17,BJ17,BX17,CE17,CL17,CS17),(2/12)) -> 2318559 | DB17: =+MEDIAN(F17,M17,T17,AA17,AH17,AV17,BC17,BJ17,BX17,CE17,CL17,CS17) -> 2160000 | DC17: =IFERROR(MODE(F17,M17,T17,AA17,AH17,AV17,BC17,BJ17,BX17,CE17,CL17,CS17),"N/A") -> N/A | DD17: =+STDEV(F17,M17,T17,AA17,AH17,AV17,BC17,BJ17,BX17,CE17,CL17,CS17)/CZ17 -> 0.55287595 | DE17: FUNDACIÓN UNIVERSITARIA COMPENSAR | DF17: SGS COLOMBIA SAS
A18: Ruta Formativa 2 | B18: Laboratorio de IA y Cloud Computing | F18: Nivel | G18: Intermedio | I18: Laboratorio de IA y Cloud Computing | M18: Nivel | N18: Intermedio | P18: Laboratorio de IA y Cloud Computing | T18: Nivel | U18: Intermedio | W18: Laboratorio de IA y Cloud Computing | AA18: Nivel | AB18: Intermedio | AD18: Laboratorio de IA y Cloud Computing | AH18: Nivel | AI18: Intermedio | AK18: Laboratorio de IA y Cloud Computing | AO18: Nivel | AP18: Intermedio | AR18: Laboratorio de IA y Cloud Computing | AV18: Nivel | AW18: Intermedio | AY18: Laboratorio de IA y Cloud Computing | BC18: Nivel | BD18: Intermedio | BF18: Laboratorio de IA y Cloud Computing | BJ18: Nivel | BK18: Intermedio | BM18: Laboratorio de IA y Cloud Computing | BQ18: Nivel | BR18: Intermedio | BT18: Laboratorio de IA y Cloud Computing | BX18: Nivel | BY18: Intermedio | CA18: Laboratorio de IA y Cloud Computing | CE18: Nivel | CF18: Intermedio | CH18: Laboratorio de IA y Cloud Computing | CL18: Nivel | CM18: Intermedio | CO18: Laboratorio de IA y Cloud Computing | CS18: Nivel | CT18: Intermedio
A19: MODALIDAD: Híbrido | B19: COD. | C19: RANGOS | D19: VALOR UNITARIO (SIN IVA) | E19: IVA (SI APLICA) | F19: TOTAL | I19: COD. | J19: RANGOS | K19: VALOR UNITARIO (SIN IVA) | L19: IVA (SI APLICA) | M19: TOTAL | P19: COD. | Q19: RANGOS | R19: VALOR UNITARIO (SIN IVA) | S19: IVA (SI APLICA) | T19: TOTAL | W19: COD. | X19: RANGOS | Y19: VALOR UNITARIO (SIN IVA) | Z19: IVA (SI APLICA) | AA19: TOTAL | AD19: COD. | AE19: RANGOS | AF19: VALOR UNITARIO (SIN IVA) | AG19: IVA (SI APLICA) | AH19: TOTAL | AK19: COD. | AL19: RANGOS | AM19: VALOR UNITARIO (SIN IVA) | AN19: IVA (SI APLICA) | AO19: TOTAL | AR19: COD. | AS19: RANGOS | AT19: VALOR UNITARIO (SIN IVA) | AU19: IVA (SI APLICA) | AV19: TOTAL | AY19: COD. | AZ19: RANGOS | BA19: VALOR UNITARIO (SIN IVA) | BB19: IVA (SI APLICA) | BC19: TOTAL | BF19: COD. | BG19: RANGOS | BH19: VALOR UNITARIO (SIN IVA) | BI19: IVA (SI APLICA) | BJ19: TOTAL | BM19: COD. | BN19: RANGOS | BO19: VALOR UNITARIO (SIN IVA) | BP19: IVA (SI APLICA) | BQ19: TOTAL | BT19: COD. | BU19: RANGOS | BV19: VALOR UNITARIO (SIN IVA) | BW19: IVA (SI APLICA) | BX19: TOTAL | CA19: COD. | CB19: RANGOS | CC19: VALOR UNITARIO (SIN IVA) | CD19: IVA (SI APLICA) | CE19: TOTAL | CH19: COD. | CI19: RANGOS | CJ19: VALOR UNITARIO (SIN IVA) | CK19: IVA (SI APLICA) | CL19: TOTAL | CO19: COD. | CP19: RANGOS | CQ19: VALOR UNITARIO (SIN IVA) | CR19: IVA (SI APLICA) | CS19: TOTAL | CV19: COD. | CW19: RANGOS | CX19: Valor máximo | CY19: Valor mínimo | CZ19: Promedio | DA19: Media Acotada | DB19: Mediana | DC19: Moda | DE19: MAX | DF19: MIN
A20: •Técnica: 80 horas, virtual sincrónico + autoformación. | B20: RFLCI.1 | C20: Hasta 500 cupos | D20: 3859000 | E20: =(D20*19)/100 -> 733210 | F20: =D20+E20 -> 4592210 | I20: RFLCI.1 | J20: Hasta 500 cupos | K20: 2750000 | L20: 0 | M20: =+K20+L20 -> 2750000 | P20: RFLCI.1 | Q20: Hasta 500 cupos | R20: 1950000 | S20: 0 | T20: =R20+S20 -> 1950000 | W20: RFLCI.1 | X20: Hasta 500 cupos | Y20: 561500000 | Z20: 0 | AA20: =+Y20/500 -> 1123000 | AD20: RFLCI.1 | AE20: Hasta 500 cupos | AF20: 2005114.4 | AG20: 0 | AH20: =AF20+AG20 -> 2005114.4 | AK20: RFLCI.1 | AL20: Hasta 500 cupos | AM20: 3483000 | AN20: 817000 | AO20: =AM20+AN20 -> 4300000 | AR20: RFLCI.1 | AS20: Hasta 500 cupos | AT20: 2896351 | AU20: 0 | AV20: =AT20+AU20 -> 2896351 | AY20: RFLCI.1 | AZ20: Hasta 500 cupos | BA20: 7350000 | BB20: 0 | BC20: =BA20+BB20 -> 7350000 | BF20: RFLCI.1 | BG20: Hasta 500 cupos | BH20: 3001348.3 | BI20: 0 | BJ20: =BH20+BI20 -> 3001348.3 | BM20: RFLCI.1 | BN20: Hasta 500 cupos | BO20: 448600 | BP20: 0 | BQ20: =BO20+BP20 -> 448600 | BT20: RFLCI.1 | BU20: Hasta 500 cupos | BV20: 2560000 | BW20: 0 | BX20: =BV20+BW20 -> 2560000 | CA20: RFLCI.1 | CB20: Hasta 500 cupos | CC20: 3000000 | CD20: 0 | CE20: =CC20+CD20 -> 3000000 | CH20: RFLCI.1 | CI20: Hasta 500 cupos | CJ20: 2500000 | CK20: 0 | CL20: =CJ20+CK20 -> 2500000 | CO20: RFLCI.1 | CP20: Hasta 500 cupos | CQ20: 943888.89 | CR20: =CQ20*0.19 -> 179338.89 | CS20: =CQ20+CR20 -> 1123227.8 | CV20: RFFDA.1 | CW20: Hasta 500 cupos | CX20: =+MAX(F20,M20,T20,AA20,AH20,AO20,AV20,BC20,BJ20,BQ20,BX20,CE20,CL20,CS20) -> 7350000 | CY20: =+MIN(F20,M20,T20,AA20,AH20,AO20,AV20,BC20,BJ20,BQ20,BX20,CE20,CL20,CS20) -> 448600 | CZ20: =+AVERAGE(F20,M20,T20,AA20,AH20,AO20,AV20,BC20,BJ20,BQ20,BX20,CE20,CL20,CS20) -> 2828560.8 | DA20: =+TRIMMEAN((F20,M20,T20,AA20,AH20,AO20,AV20,BC20,BJ20,BQ20,BX20,CE20,CL20,CS20),(2/14)) -> 2650104.3 | DB20: =+MEDIAN(F20,M20,T20,AA20,AH20,AO20,AV20,BC20,BJ20,BQ20,BX20,CE20,CL20,CS20) -> 2655000 | DC20: =IFERROR(MODE(F20,M20,T20,AA20,AH20,AO20,AV20,BC20,BJ20,BQ20,BX20,CE20,CL20,CS20),"N/A") -> N/A | DD20: =+STDEV(F20,M20,T20,AA20,AH20,AO20,AV20,BC20,BJ20,BQ20,BX20,CE20,CL20,CS20)/CZ20 -> 0.61156061 | DE20: FUNDACIÓN UNIVERSITARIA COMPENSAR | DF20: SGS COLOMBIA SAS
A21: •Toolbox TIC: 24 horas, virtual autoformación. | B21: RFLCI.2 | C21: Entre 501 y 1000 cupos | D21: 2664000 | E21: =(D21*19)/100 -> 506160 | F21: =D21+E21 -> 3170160 | I21: RFLCI.2 | J21: Entre 501 y 1000 cupos | K21: 2450000 | L21: 0 | M21: =+K21+L21 -> 2450000 | P21: RFLCI.2 | Q21: Entre 501 y 1000 cupos | R21: 1911000 | S21: 0 | T21: =R21+S21 -> 1911000 | W21: RFLCI.2 | X21: Entre 501 y 1000 cupos | Y21: 981000000 | Z21: 0 | AA21: =+Y21/1000 -> 981000 | AD21: RFLCI.2 | AE21: Entre 501 y 1000 cupos | AF21: 1985456.4 | AG21: 0 | AH21: =AF21+AG21 -> 1985456.4 | AK21: RFLCI.2 | AL21: Entre 501 y 1000 cupos | AM21: 0 | AN21: 0 | AO21: =+AM21+AN21 -> 0 | AR21: RFLCI.2 | AS21: Entre 501 y 1000 cupos | AT21: 2850803 | AU21: 0 | AV21: =AT21+AU21 -> 2850803 | AY21: RFLCI.2 | AZ21: Entre 501 y 1000 cupos | BA21: 5950000 | BB21: 0 | BC21: =BA21+BB21 -> 5950000 | BF21: RFLCI.2 | BG21: Entre 501 y 1000 cupos | BH21: 2954113.4 | BI21: 0 | BJ21: =BH21+BI21 -> 2954113.4 | BM21: RFLCI.2 | BN21: Entre 501 y 1000 cupos | BO21: 425300 | BP21: 0 | BQ21: =BO21+BP21 -> 425300 | BT21: RFLCI.2 | BU21: Entre 501 y 1000 cupos | BV21: 2110000 | BW21: 0 | BX21: =BV21+BW21 -> 2110000 | CA21: RFLCI.2 | CB21: Entre 501 y 1000 cupos | CC21: 3000000 | CD21: 0 | CE21: =CC21+CD21 -> 3000000 | CH21: RFLCI.2 | CI21: Entre 501 y 1000 cupos | CJ21: 2200000 | CK21: 0 | CL21: =CJ21+CK21 -> 2200000 | CO21: RFLCI.2 | CP21: Entre 501 y 1000 cupos | CQ21: 943888.89 | CR21: =CQ21*0.19 -> 179338.89 | CS21: =CQ21+CR21 -> 1123227.8 | CV21: RFFDA.2 | CW21: Entre 501 y 1000 cupos | CX21: =+MAX(F21,M21,T21,AA21,AH21,AV21,BC21,BJ21,BQ21,BX21,CE21,CL21,CS21) -> 5950000 | CY21: =+MIN(F21,M21,T21,AA21,AH21,AV21,BC21,BJ21,BQ21,BX21,CE21,CL21,CS21) -> 425300 | CZ21: =+AVERAGE(F21,M21,T21,AA21,AH21,AV21,BC21,BJ21,BQ21,BX21,CE21,CL21,CS21) -> 2393158.5 | DA21: =+TRIMMEAN((F21,M21,T21,AA21,AH21,AV21,BC21,BJ21,BQ21,BX21,CE21,CL21,CS21),(2/13)) -> 2248705.5 | DB21: =+MEDIAN(F21,M21,T21,AA21,AH21,AV21,BC21,BJ21,BQ21,BX21,CE21,CL21,CS21) -> 2200000 | DC21: =IFERROR(MODE(F21,M21,T21,AA21,AH21,AV21,BC21,BJ21,BQ21,BX21,CE21,CL21,CS21),"N/A") -> N/A | DD21: =+STDEV(F21,M21,T21,AA21,AH21,AV21,BC21,BJ21,BQ21,BX21,CE21,CL21,CS21)/CZ21 -> 0.56765667 | DE21: FUNDACIÓN UNIVERSITARIA COMPENSAR | DF21: SGS COLOMBIA SAS
A22: •English zone: 16 horas, virtual sincrónico | B22: RFLCI.3 | C22: Entre 1001 y 1500 cupos | D22: 2239000 | E22: =(D22*19)/100 -> 425410 | F22: =D22+E22 -> 2664410 | I22: RFLCI.3 | J22: Entre 1001 y 1500 cupos | K22: 2350000 | L22: 0 | M22: =+K22+L22 -> 2350000 | P22: RFLCI.3 | Q22: Entre 1001 y 1500 cupos | R22: 1872780 | S22: 0 | T22: =R22+S22 -> 1872780 | W22: RFLCI.3 | X22: Entre 1001 y 1500 cupos | Y22: 1018600000 | Z22: 0 | AA22: =+Y22/1500 -> 679066.67 | AD22: RFLCI.3 | AE22: Entre 1001 y 1500 cupos | AF22: 1966180.2 | AG22: 0 | AH22: =AF22+AG22 -> 1966180.2 | AK22: RFLCI.3 | AL22: Entre 1001 y 1500 cupos | AM22: 0 | AN22: 0 | AO22: =AM22+AN22 -> 0 | AR22: RFLCI.3 | AS22: Entre 1001 y 1500 cupos | AT22: 2805062 | AU22: 0 | AV22: =AT22+AU22 -> 2805062 | AY22: RFLCI.3 | AZ22: Entre 1001 y 1500 cupos | BA22: 5760000 | BB22: 0 | BC22: =BA22+BB22 -> 5760000 | BF22: RFLCI.3 | BG22: Entre 1001 y 1500 cupos | BH22: 2906718.2 | BI22: 0 | BJ22: =BH22+BI22 -> 2906718.2 | BM22: RFLCI.3 | BN22: Entre 1001 y 1500 cupos | BO22: 408600 | BP22: 0 | BQ22: =BO22+BP22 -> 408600 | BT22: RFLCI.3 | BU22: Entre 1001 y 1500 cupos | BV22: 2000000 | BW22: 0 | BX22: =BV22+BW22 -> 2000000 | CA22: RFLCI.3 | CB22: Entre 1001 y 1500 cupos | CC22: 3000000 | CD22: 0 | CE22: =CC22+CD22 -> 3000000 | CH22: RFLCI.3 | CI22: Entre 1001 y 1500 cupos | CJ22: 2000000 | CK22: 0 | CL22: =CJ22+CK22 -> 2000000 | CO22: RFLCI.3 | CP22: Entre 1001 y 1500 cupos | CQ22: 943888.89 | CR22: =CQ22*0.19 -> 179338.89 | CS22: =CQ22+CR22 -> 1123227.8 | CV22: RFFDA.3 | CW22: Entre 1001 y 1500 cupos | CX22: =+MAX(F22,M22,T22,AA22,AH22,AV22,BC22,BJ22,BQ22,BX22,CE22,CL22,CS22) -> 5760000 | CY22: =+MIN(F22,M22,T22,AA22,AH22,AV22,BC22,BJ22,BQ22,BX22,CE22,CL22,CS22) -> 408600 | CZ22: =+AVERAGE(F22,M22,T22,AA22,AH22,AV22,BC22,BJ22,BQ22,BX22,CE22,CL22,CS22) -> 2272003.4 | DA22: =+TRIMMEAN((F22,M22,T22,AA22,AH22,AV22,BC22,BJ22,BQ22,BX22,CE22,CL22,CS22),(2/13)) -> 2124313.2 | DB22: =+MEDIAN(F22,M22,T22,AA22,AH22,AV22,BC22,BJ22,BQ22,BX22,CE22,CL22,CS22) -> 2000000 | DC22: =IFERROR(MODE(F22,M22,T22,AA22,AH22,AV22,BC22,BJ22,BQ22,BX22,CE22,CL22,CS22),"N/A") -> 2000000 | DD22: =+STDEV(F22,M22,T22,AA22,AH22,AV22,BC22,BJ22,BQ22,BX22,CE22,CL22,CS22)/CZ22 -> 0.58602953 | DE22: FUNDACIÓN UNIVERSITARIA COMPENSAR | DF22: SGS COLOMBIA SAS
A23: •Capstone (proyecto): 8 horas, presencial. | B23: RFLCI.4 | C23: Más de 1501 cupos | D23: 2128000 | E23: =(D23*19)/100 -> 404320 | F23: =D23+E23 -> 2532320 | I23: RFLCI.4 | J23: Más de 1501 cupos | K23: 2320000 | L23: 0 | M23: =+K23+L23 -> 2320000 | P23: RFLCI.4 | Q23: Más de 1501 cupos | R23: 1835324 | S23: 0 | T23: =R23+S23 -> 1835324 | W23: RFLCI.4 | X23: Más de 1501 cupos | Y23: 1018600000 | Z23: 0 | AA23: =+Y23/1501 -> 678614.26 | AD23: RFLCI.4 | AE23: Más de 1501 cupos | AF23: 1947274.6 | AG23: 0 | AH23: =AF23+AG23 -> 1947274.6 | AK23: RFLCI.4 | AL23: Más de 1501 cupos | AM23: 0 | AN23: 0 | AO23: =AM23+AN23 -> 0 | AR23: RFLCI.4 | AS23: Más de 1501 cupos | AT23: 2748996 | AU23: 0 | AV23: =AT23+AU23 -> 2748996 | AY23: RFLCI.4 | AZ23: Más de 1501 cupos | BA23: 5700000 | BB23: 0 | BC23: =BA23+BB23 -> 5700000 | BF23: RFLCI.4 | BG23: Más de 1501 cupos | BH23: 2848634.1 | BI23: 0 | BJ23: =BH23+BI23 -> 2848634.1 | BM23: RFLCI.4 | BN23: Más de 1501 cupos | BO23: 0 | BP23: 0 | BQ23: =BO23+BP23 -> 0 | BT23: RFLCI.4 | BU23: Más de 1501 cupos | BV23: 1900000 | BW23: 0 | BX23: =BV23+BW23 -> 1900000 | CA23: RFLCI.4 | CB23: Más de 1501 cupos | CC23: 3000000 | CD23: 0 | CE23: =CC23+CD23 -> 3000000 | CH23: RFLCI.4 | CI23: Más de 1501 cupos | CJ23: 2000000 | CK23: 0 | CL23: =CJ23+CK23 -> 2000000 | CO23: RFLCI.4 | CP23: Más de 1501 cupos | CQ23: 913888.89 | CR23: =CQ23*0.19 -> 173638.89 | CS23: =CQ23+CR23 -> 1087527.8 | CV23: RFFDA.4 | CW23: Más de 1501 cupos | CX23: =+MAX(F23,M23,T23,AA23,AH23,AV23,BC23,BJ23,BX23,CE23,CL23,CS23) -> 5700000 | CY23: =+MIN(F23,M23,T23,AA23,AH23,AV23,BC23,BJ23,BX23,CE23,CL23,CS23) -> 678614.26 | CZ23: =+AVERAGE(F23,M23,T23,AA23,AH23,AV23,BC23,BJ23,BX23,CE23,CL23,CS23) -> 2383224.2 | DA23: =+TRIMMEAN((F23,M23,T23,AA23,AH23,AV23,BC23,BJ23,BX23,CE23,CL23,CS23),(2/12)) -> 2222007.6 | DB23: =+MEDIAN(F23,M23,T23,AA23,AH23,AV23,BC23,BJ23,BX23,CE23,CL23,CS23) -> 2160000 | DC23: =IFERROR(MODE(F23,M23,T23,AA23,AH23,AV23,BC23,BJ23,BX23,CE23,CL23,CS23),"N/A") -> N/A | DD23: =+STDEV(F23,M23,T23,AA23,AH23,AV23,BC23,BJ23,BX23,CE23,CL23,CS23)/CZ23 -> 0.52489112 | DE23: FUNDACIÓN UNIVERSITARIA COMPENSAR | DF23: SGS COLOMBIA SAS
A24: Ruta Formativa 2 | B24: Laboratorio de IA y Cloud Computing | F24: Nivel | G24: Avanzado | I24: Laboratorio de IA y Cloud Computing | M24: Nivel | N24: Avanzado | P24: Laboratorio de IA y Cloud Computing | T24: Nivel | U24: Avanzado | W24: Laboratorio de IA y Cloud Computing | AA24: Nivel | AB24: Avanzado | AD24: Laboratorio de IA y Cloud Computing | AH24: Nivel | AI24: Avanzado | AK24: Laboratorio de IA y Cloud Computing | AO24: Nivel | AP24: Avanzado | AR24: Laboratorio de IA y Cloud Computing | AV24: Nivel | AW24: Avanzado | AY24: Laboratorio de IA y Cloud Computing | BC24: Nivel | BD24: Avanzado | BF24: Laboratorio de IA y Cloud Computing | BJ24: Nivel | BK24: Avanzado | BM24: Laboratorio de IA y Cloud Computing | BQ24: Nivel | BR24: Avanzado | BT24: Laboratorio de IA y Cloud Computing | BX24: Nivel | BY24: Avanzado | CA24: Laboratorio de IA y Cloud Computing | CE24: Nivel | CF24: Avanzado | CH24: Laboratorio de IA y Cloud Computing | CL24: Nivel | CM24: Avanzado | CO24: Laboratorio de IA y Cloud Computing | CS24: Nivel | CT24: Avanzado
A25: MODALIDAD: Híbrido | B25: COD. | C25: RANGOS | D25: VALOR UNITARIO (SIN IVA) | E25: IVA (SI APLICA) | F25: TOTAL | I25: COD. | J25: RANGOS | K25: VALOR UNITARIO (SIN IVA) | L25: IVA (SI APLICA) | M25: TOTAL | P25: COD. | Q25: RANGOS | R25: VALOR UNITARIO (SIN IVA) | S25: IVA (SI APLICA) | T25: TOTAL | W25: COD. | X25: RANGOS | Y25: VALOR UNITARIO (SIN IVA) | Z25: IVA (SI APLICA) | AA25: TOTAL | AD25: COD. | AE25: RANGOS | AF25: VALOR UNITARIO (SIN IVA) | AG25: IVA (SI APLICA) | AH25: TOTAL | AK25: COD. | AL25: RANGOS | AM25: VALOR UNITARIO (SIN IVA) | AN25: IVA (SI APLICA) | AO25: TOTAL | AR25: COD. | AS25: RANGOS | AT25: VALOR UNITARIO (SIN IVA) | AU25: IVA (SI APLICA) | AV25: TOTAL | AY25: COD. | AZ25: RANGOS | BA25: VALOR UNITARIO (SIN IVA) | BB25: IVA (SI APLICA) | BC25: TOTAL | BF25: COD. | BG25: RANGOS | BH25: VALOR UNITARIO (SIN IVA) | BI25: IVA (SI APLICA) | BJ25: TOTAL | BM25: COD. | BN25: RANGOS | BO25: VALOR UNITARIO (SIN IVA) | BP25: IVA (SI APLICA) | BQ25: TOTAL | BT25: COD. | BU25: RANGOS | BV25: VALOR UNITARIO (SIN IVA) | BW25: IVA (SI APLICA) | BX25: TOTAL | CA25: COD. | CB25: RANGOS | CC25: VALOR UNITARIO (SIN IVA) | CD25: IVA (SI APLICA) | CE25: TOTAL | CH25: COD. | CI25: RANGOS | CJ25: VALOR UNITARIO (SIN IVA) | CK25: IVA (SI APLICA) | CL25: TOTAL | CO25: COD. | CP25: RANGOS | CQ25: VALOR UNITARIO (SIN IVA) | CR25: IVA (SI APLICA) | CS25: TOTAL | CV25: COD. | CW25: RANGOS | CX25: Valor máximo | CY25: Valor mínimo | CZ25: Promedio | DA25: Media Acotada | DB25: Mediana | DC25: Moda | DE25: MAX | DF25: MIN
A26: •Técnica: 80 horas, virtual sincrónico + autoformación. | B26: RFLCA.1 | C26: Hasta 500 cupos | D26: 3859000 | E26: =(D26*19)/100 -> 733210 | F26: =D26+E26 -> 4592210 | I26: RFLCA.1 | J26: Hasta 500 cupos | K26: 2750000 | L26: 0 | M26: =+K26+L26 -> 2750000 | P26: RFLCA.1 | Q26: Hasta 500 cupos | R26: 1950000 | S26: 0 | T26: =R26+S26 -> 1950000 | W26: RFLCA.1 | X26: Hasta 500 cupos | Y26: 561500000 | Z26: 0 | AA26: =+Y26/500 -> 1123000 | AD26: RFLCA.1 | AE26: Hasta 500 cupos | AF26: 2025165.6 | AG26: 0 | AH26: =AF26+AG26 -> 2025165.6 | AK26: RFLCA.1 | AL26: Hasta 500 cupos | AM26: 3483000 | AN26: 817000 | AO26: =AM26+AN26 -> 4300000 | AR26: RFLCA.1 | AS26: Hasta 500 cupos | AT26: 2919994 | AU26: 0 | AV26: =AT26+AU26 -> 2919994 | AY26: RFLCA.1 | AZ26: Hasta 500 cupos | BA26: 7350000 | BB26: 0 | BC26: =BA26+BB26 -> 7350000 | BF26: RFLCA.1 | BG26: Hasta 500 cupos | BH26: 3025872.9 | BI26: 0 | BJ26: =BH26+BI26 -> 3025872.9 | BM26: RFLCA.1 | BN26: Hasta 500 cupos | BO26: 448600 | BP26: 0 | BQ26: =BO26+BP26 -> 448600 | BT26: RFLCA.1 | BU26: Hasta 500 cupos | BV26: 2560000 | BW26: 0 | BX26: =BV26+BW26 -> 2560000 | CA26: RFLCA.1 | CB26: Hasta 500 cupos | CC26: 3000000 | CD26: 0 | CE26: =CC26+CD26 -> 3000000 | CH26: RFLCA.1 | CI26: Hasta 500 cupos | CJ26: 2500000 | CK26: 0 | CL26: =CJ26+CK26 -> 2500000 | CO26: RFLCA.1 | CP26: Hasta 500 cupos | CQ26: 943888.89 | CR26: =CQ26*0.19 -> 179338.89 | CS26: =CQ26+CR26 -> 1123227.8 | CV26: RFLCA.1 | CW26: Hasta 500 cupos | CX26: =+MAX(F26,M26,T26,AA26,AH26,AO26,AV26,BC26,BJ26,BQ26,BX26,CE26,CL26,CS26) -> 7350000 | CY26: =+MIN(F26,M26,T26,AA26,AH26,AO26,AV26,BC26,BJ26,BQ26,BX26,CE26,CL26,CS26) -> 448600 | CZ26: =+AVERAGE(F26,M26,T26,AA26,AH26,AO26,AV26,BC26,BJ26,BQ26,BX26,CE26,CL26,CS26) -> 2833433.6 | DA26: =+TRIMMEAN((F26,M26,T26,AA26,AH26,AO26,AV26,BC26,BJ26,BQ26,BX26,CE26,CL26,CS26),(2/14)) -> 2655789.2 | DB26: =+MEDIAN(F26,M26,T26,AA26,AH26,AO26,AV26,BC26,BJ26,BQ26,BX26,CE26,CL26,CS26) -> 2655000 | DC26: =IFERROR(MODE(F26,M26,T26,AA26,AH26,AO26,AV26,BC26,BJ26,BQ26,BX26,CE26,CL26,CS26),"N/A") -> N/A | DD26: =+STDEV(F26,M26,T26,AA26,AH26,AO26,AV26,BC26,BJ26,BQ26,BX26,CE26,CL26,CS26)/CZ26 -> 0.61035105 | DE26: FUNDACIÓN UNIVERSITARIA COMPENSAR | DF26: SGS COLOMBIA SAS
A27: •Toolbox TIC: 24 horas, virtual autoformación. | B27: RFLCA.2 | C27: Entre 501 y 1000 cupos | D27: 2664000 | E27: =(D27*19)/100 -> 506160 | F27: =D27+E27 -> 3170160 | I27: RFLCA.2 | J27: Entre 501 y 1000 cupos | K27: 2450000 | L27: 0 | M27: =+K27+L27 -> 2450000 | P27: RFLCA.2 | Q27: Entre 501 y 1000 cupos | R27: 1911000 | S27: 0 | T27: =R27+S27 -> 1911000 | W27: RFLCA.2 | X27: Entre 501 y 1000 cupos | Y27: 981000000 | Z27: 0 | AA27: =+Y27/1000 -> 981000 | AD27: RFLCA.2 | AE27: Entre 501 y 1000 cupos | AF27: 2005114.4 | AG27: 0 | AH27: =AF27+AG27 -> 2005114.4 | AK27: RFLCA.2 | AL27: Entre 501 y 1000 cupos | AM27: 0 | AN27: 0 | AO27: =+AM27+AN27 -> 0 | AR27: RFLCA.2 | AS27: Entre 501 y 1000 cupos | AT27: 2874446 | AU27: 0 | AV27: =AT27+AU27 -> 2874446 | AY27: RFLCA.2 | AZ27: Entre 501 y 1000 cupos | BA27: 5950000 | BB27: 0 | BC27: =BA27+BB27 -> 5950000 | BF27: RFLCA.2 | BG27: Entre 501 y 1000 cupos | BH27: 2978638.6 | BI27: 0 | BJ27: =BH27+BI27 -> 2978638.6 | BM27: RFLCA.2 | BN27: Entre 501 y 1000 cupos | BO27: 425300 | BP27: 0 | BQ27: =BO27+BP27 -> 425300 | BT27: RFLCA.2 | BU27: Entre 501 y 1000 cupos | BV27: 2110000 | BW27: 0 | BX27: =BV27+BW27 -> 2110000 | CA27: RFLCA.2 | CB27: Entre 501 y 1000 cupos | CC27: 3000000 | CD27: 0 | CE27: =CC27+CD27 -> 3000000 | CH27: RFLCA.2 | CI27: Entre 501 y 1000 cupos | CJ27: 2200000 | CK27: 0 | CL27: =CJ27+CK27 -> 2200000 | CO27: RFLCA.2 | CP27: Entre 501 y 1000 cupos | CQ27: 943888.89 | CR27: =CQ27*0.19 -> 179338.89 | CS27: =CQ27+CR27 -> 1123227.8 | CV27: RFLCA.2 | CW27: Entre 501 y 1000 cupos | CX27: =+MAX(F27,M27,T27,AA27,AH27,AV27,BC27,BJ27,BQ27,BX27,CE27,CL27,CS27) -> 5950000 | CY27: =+MIN(F27,M27,T27,AA27,AH27,AV27,BC27,BJ27,BQ27,BX27,CE27,CL27,CS27) -> 425300 | CZ27: =+AVERAGE(F27,M27,T27,AA27,AH27,AV27,BC27,BJ27,BQ27,BX27,CE27,CL27,CS27) -> 2398375.9 | DA27: =+TRIMMEAN((F27,M27,T27,AA27,AH27,AV27,BC27,BJ27,BQ27,BX27,CE27,CL27,CS27),(2/13)) -> 2254871.5 | DB27: =+MEDIAN(F27,M27,T27,AA27,AH27,AV27,BC27,BJ27,BQ27,BX27,CE27,CL27,CS27) -> 2200000 | DC27: =IFERROR(MODE(F27,M27,T27,AA27,AH27,AV27,BC27,BJ27,BQ27,BX27,CE27,CL27,CS27),"N/A") -> N/A | DD27: =+STDEV(F27,M27,T27,AA27,AH27,AV27,BC27,BJ27,BQ27,BX27,CE27,CL27,CS27)/CZ27 -> 0.56686051 | DE27: FUNDACIÓN UNIVERSITARIA COMPENSAR | DF27: SGS COLOMBIA SAS
A28: •English zone: 16 horas, virtual sincrónico | B28: RFLCA.3 | C28: Entre 1001 y 1500 cupos | D28: 2239000 | E28: =(D28*19)/100 -> 425410 | F28: =D28+E28 -> 2664410 | I28: RFLCA.3 | J28: Entre 1001 y 1500 cupos | K28: 2350000 | L28: 0 | M28: =+K28+L28 -> 2350000 | P28: RFLCA.3 | Q28: Entre 1001 y 1500 cupos | R28: 1872780 | S28: 0 | T28: =R28+S28 -> 1872780 | W28: RFLCA.3 | X28: Entre 1001 y 1500 cupos | Y28: 1018600000 | Z28: 0 | AA28: =+Y28/1500 -> 679066.67 | AD28: RFLCA.3 | AE28: Entre 1001 y 1500 cupos | AF28: 1985456.4 | AG28: 0 | AH28: =AF28+AG28 -> 1985456.4 | AK28: RFLCA.3 | AL28: Entre 1001 y 1500 cupos | AM28: 0 | AN28: 0 | AO28: =AM28+AN28 -> 0 | AR28: RFLCA.3 | AS28: Entre 1001 y 1500 cupos | AT28: 2828705 | AU28: 0 | AV28: =AT28+AU28 -> 2828705 | AY28: RFLCA.3 | AZ28: Entre 1001 y 1500 cupos | BA28: 5760000 | BB28: 0 | BC28: =BA28+BB28 -> 5760000 | BF28: RFLCA.3 | BG28: Entre 1001 y 1500 cupos | BH28: 2931242.9 | BI28: 0 | BJ28: =BH28+BI28 -> 2931242.9 | BM28: RFLCA.3 | BN28: Entre 1001 y 1500 cupos | BO28: 408600 | BP28: 0 | BQ28: =BO28+BP28 -> 408600 | BT28: RFLCA.3 | BU28: Entre 1001 y 1500 cupos | BV28: 2000000 | BW28: 0 | BX28: =BV28+BW28 -> 2000000 | CA28: RFLCA.3 | CB28: Entre 1001 y 1500 cupos | CC28: 3000000 | CD28: 0 | CE28: =CC28+CD28 -> 3000000 | CH28: RFLCA.3 | CI28: Entre 1001 y 1500 cupos | CJ28: 2000000 | CK28: 0 | CL28: =CJ28+CK28 -> 2000000 | CO28: RFLCA.3 | CP28: Entre 1001 y 1500 cupos | CQ28: 943888.89 | CR28: =CQ28*0.19 -> 179338.89 | CS28: =CQ28+CR28 -> 1123227.8 | CV28: RFLCA.3 | CW28: Entre 1001 y 1500 cupos | CX28: =+MAX(F28,M28,T28,AA28,AH28,AV28,BC28,BJ28,BQ28,BX28,CE28,CL28,CS28) -> 5760000 | CY28: =+MIN(F28,M28,T28,AA28,AH28,AV28,BC28,BJ28,BQ28,BX28,CE28,CL28,CS28) -> 408600 | CZ28: =+AVERAGE(F28,M28,T28,AA28,AH28,AV28,BC28,BJ28,BQ28,BX28,CE28,CL28,CS28) -> 2277191.4 | DA28: =+TRIMMEAN((F28,M28,T28,AA28,AH28,AV28,BC28,BJ28,BQ28,BX28,CE28,CL28,CS28),(2/13)) -> 2130444.4 | DB28: =+MEDIAN(F28,M28,T28,AA28,AH28,AV28,BC28,BJ28,BQ28,BX28,CE28,CL28,CS28) -> 2000000 | DC28: =IFERROR(MODE(F28,M28,T28,AA28,AH28,AV28,BC28,BJ28,BQ28,BX28,CE28,CL28,CS28),"N/A") -> 2000000 | DD28: =+STDEV(F28,M28,T28,AA28,AH28,AV28,BC28,BJ28,BQ28,BX28,CE28,CL28,CS28)/CZ28 -> 0.58532251 | DE28: FUNDACIÓN UNIVERSITARIA COMPENSAR | DF28: SGS COLOMBIA SAS
A29: •Capstone (proyecto): 8 horas, presencial. | B29: RFLCA.4 | C29: Más de 1501 cupos | D29: 2128000 | E29: =(D29*19)/100 -> 404320 | F29: =D29+E29 -> 2532320 | I29: RFLCA.4 | J29: Más de 1501 cupos | K29: 2320000 | L29: 0 | M29: =+K29+L29 -> 2320000 | P29: RFLCA.4 | Q29: Más de 1501 cupos | R29: 1835324 | S29: 0 | T29: =R29+S29 -> 1835324 | W29: RFLCA.4 | X29: Más de 1501 cupos | Y29: 1018600000 | Z29: 0 | AA29: =+Y29/1501 -> 678614.26 | AD29: RFLCA.4 | AE29: Más de 1501 cupos | AF29: 1966180.2 | AG29: 0 | AH29: =AF29+AG29 -> 1966180.2 | AK29: RFLCA.4 | AL29: Más de 1501 cupos | AM29: 0 | AN29: 0 | AO29: =AM29+AN29 -> 0 | AR29: RFLCA.4 | AS29: Más de 1501 cupos | AT29: 2772638 | AU29: 0 | AV29: =AT29+AU29 -> 2772638 | AY29: RFLCA.4 | AZ29: Más de 1501 cupos | BA29: 5700000 | BB29: 0 | BC29: =BA29+BB29 -> 5700000 | BF29: RFLCA.4 | BG29: Más de 1501 cupos | BH29: 2873158.7 | BI29: 0 | BJ29: =BH29+BI29 -> 2873158.7 | BM29: RFLCA.4 | BN29: Más de 1501 cupos | BO29: 0 | BP29: 0 | BQ29: =BO29+BP29 -> 0 | BT29: RFLCA.4 | BU29: Más de 1501 cupos | BV29: 1900000 | BW29: 0 | BX29: =BV29+BW29 -> 1900000 | CA29: RFLCA.4 | CB29: Más de 1501 cupos | CC29: 3000000 | CD29: 0 | CE29: =CC29+CD29 -> 3000000 | CH29: RFLCA.4 | CI29: Más de 1501 cupos | CJ29: 2000000 | CK29: 0 | CL29: =CJ29+CK29 -> 2000000 | CO29: RFLCA.4 | CP29: Más de 1501 cupos | CQ29: 913888.89 | CR29: =CQ29*0.19 -> 173638.89 | CS29: =CQ29+CR29 -> 1087527.8 | CV29: RFLCA.4 | CW29: Más de 1501 cupos | CX29: =+MAX(F29,M29,T29,AA29,AH29,AV29,BC29,BJ29,BX29,CE29,CL29,CS29) -> 5700000 | CY29: =+MIN(F29,M29,T29,AA29,AH29,AV29,BC29,BJ29,BX29,CE29,CL29,CS29) -> 678614.26 | CZ29: =+AVERAGE(F29,M29,T29,AA29,AH29,AV29,BC29,BJ29,BX29,CE29,CL29,CS29) -> 2388813.6 | DA29: =+TRIMMEAN((F29,M29,T29,AA29,AH29,AV29,BC29,BJ29,BX29,CE29,CL29,CS29),(2/12)) -> 2228714.9 | DB29: =+MEDIAN(F29,M29,T29,AA29,AH29,AV29,BC29,BJ29,BX29,CE29,CL29,CS29) -> 2160000 | DC29: =IFERROR(MODE(F29,M29,T29,AA29,AH29,AV29,BC29,BJ29,BX29,CE29,CL29,CS29),"N/A") -> N/A | DD29: =+STDEV(F29,M29,T29,AA29,AH29,AV29,BC29,BJ29,BX29,CE29,CL29,CS29)/CZ29 -> 0.52403981 | DE29: FUNDACIÓN UNIVERSITARIA COMPENSAR | DF29: SGS COLOMBIA SAS
A30: Ruta Formativa 3 | B30: Soluciones de futuro con IA y datos | F30: Nivel | G30: Intermedio | I30: Soluciones de futuro con IA y datos | M30: Nivel | N30: Intermedio | P30: Soluciones de futuro con IA y datos | T30: Nivel | U30: Intermedio | W30: Soluciones de futuro con IA y datos | AA30: Nivel | AB30: Intermedio | AD30: Soluciones de futuro con IA y datos | AH30: Nivel | AI30: Intermedio | AK30: Soluciones de futuro con IA y datos | AO30: Nivel | AP30: Intermedio | AR30: Soluciones de futuro con IA y datos | AV30: Nivel | AW30: Intermedio | AY30: Soluciones de futuro con IA y datos | BC30: Nivel | BD30: Intermedio | BF30: Soluciones de futuro con IA y datos | BJ30: Nivel | BK30: Intermedio | BM30: Soluciones de futuro con IA y datos | BQ30: Nivel | BR30: Intermedio | BT30: Soluciones de futuro con IA y datos | BX30: Nivel | BY30: Intermedio | CA30: Soluciones de futuro con IA y datos | CE30: Nivel | CF30: Intermedio | CH30: Soluciones de futuro con IA y datos | CL30: Nivel | CM30: Intermedio | CO30: Soluciones de futuro con IA y datos | CS30: Nivel | CT30: Intermedio
A31: MODALIDAD: Híbrido | B31: COD. | C31: RANGOS | D31: VALOR UNITARIO (SIN IVA) | E31: IVA (SI APLICA) | F31: TOTAL | I31: COD. | J31: RANGOS | K31: VALOR UNITARIO (SIN IVA) | L31: IVA (SI APLICA) | M31: TOTAL | P31: COD. | Q31: RANGOS | R31: VALOR UNITARIO (SIN IVA) | S31: IVA (SI APLICA) | T31: TOTAL | W31: COD. | X31: RANGOS | Y31: VALOR UNITARIO (SIN IVA) | Z31: IVA (SI APLICA) | AA31: TOTAL | AD31: COD. | AE31: RANGOS | AF31: VALOR UNITARIO (SIN IVA) | AG31: IVA (SI APLICA) | AH31: TOTAL | AK31: COD. | AL31: RANGOS | AM31: VALOR UNITARIO (SIN IVA) | AN31: IVA (SI APLICA) | AO31: TOTAL | AR31: COD. | AS31: RANGOS | AT31: VALOR UNITARIO (SIN IVA) | AU31: IVA (SI APLICA) | AV31: TOTAL | AY31: COD. | AZ31: RANGOS | BA31: VALOR UNITARIO (SIN IVA) | BB31: IVA (SI APLICA) | BC31: TOTAL | BF31: COD. | BG31: RANGOS | BH31: VALOR UNITARIO (SIN IVA) | BI31: IVA (SI APLICA) | BJ31: TOTAL | BM31: COD. | BN31: RANGOS | BO31: VALOR UNITARIO (SIN IVA) | BP31: IVA (SI APLICA) | BQ31: TOTAL | BT31: COD. | BU31: RANGOS | BV31: VALOR UNITARIO (SIN IVA) | BW31: IVA (SI APLICA) | BX31: TOTAL | CA31: COD. | CB31: RANGOS | CC31: VALOR UNITARIO (SIN IVA) | CD31: IVA (SI APLICA) | CE31: TOTAL | CH31: COD. | CI31: RANGOS | CJ31: VALOR UNITARIO (SIN IVA) | CK31: IVA (SI APLICA) | CL31: TOTAL | CO31: COD. | CP31: RANGOS | CQ31: VALOR UNITARIO (SIN IVA) | CR31: IVA (SI APLICA) | CS31: TOTAL | CV31: COD. | CW31: RANGOS | CX31: Valor máximo | CY31: Valor mínimo | CZ31: Promedio | DA31: Media Acotada | DB31: Mediana | DC31: Moda | DE31: MAX | DF31: MIN
A32: •Técnica: 80 horas, virtual sincrónico + autoformación. | B32: RFSDI.1 | C32: Hasta 500 cupos | D32: 3859000 | E32: =(D32*19)/100 -> 733210 | F32: =D32+E32 -> 4592210 | I32: RFSDI.1 | J32: Hasta 500 cupos | K32: 2750000 | L32: 0 | M32: =+K32+L32 -> 2750000 | P32: RFSDI.1 | Q32: Hasta 500 cupos | R32: 1950000 | S32: 0 | T32: =R32+S32 -> 1950000 | W32: RFSDI.1 | X32: Hasta 500 cupos | Y32: 561500000 | Z32: 0 | AA32: =+Y32/500 -> 1123000 | AD32: RFSDI.1 | AE32: Hasta 500 cupos | AF32: 2005114.4 | AG32: 0 | AH32: =AF32+AG32 -> 2005114.4 | AK32: RFSDI.1 | AL32: Hasta 500 cupos | AM32: 3483000 | AN32: 817000 | AO32: =AM32+AN32 -> 4300000 | AR32: RFSDI.1 | AS32: Hasta 500 cupos | AT32: 3114924 | AU32: 0 | AV32: =AT32+AU32 -> 3114924 | AY32: RFSDI.1 | AZ32: Hasta 500 cupos | BA32: 7350000 | BB32: 0 | BC32: =BA32+BB32 -> 7350000 | BF32: RFSDI.1 | BG32: Hasta 500 cupos | BH32: 3227801.8 | BI32: 0 | BJ32: =BH32+BI32 -> 3227801.8 | BM32: RFSDI.1 | BN32: Hasta 500 cupos | BO32: 448600 | BP32: 0 | BQ32: =BO32+BP32 -> 448600 | BT32: RFSDI.1 | BU32: Hasta 500 cupos | BV32: 3160000 | BW32: 0 | BX32: =BV32+BW32 -> 3160000 | CA32: RFSDI.1 | CB32: Hasta 500 cupos | CC32: 3000000 | CD32: 0 | CE32: =CC32+CD32 -> 3000000 | CH32: RFSDI.1 | CI32: Hasta 500 cupos | CJ32: 2500000 | CK32: 0 | CL32: =CJ32+CK32 -> 2500000 | CO32: RFSDI.1 | CP32: Hasta 500 cupos | CQ32: 943888.89 | CR32: =CQ32*0.19 -> 179338.89 | CS32: =CQ32+CR32 -> 1123227.8 | CV32: RFSDI.1 | CW32: Hasta 500 cupos | CX32: =+MAX(F32,M32,T32,AA32,AH32,AO32,AV32,BC32,BJ32,BQ32,BX32,CE32,CL32,CS32) -> 7350000 | CY32: =+MIN(F32,M32,T32,AA32,AH32,AO32,AV32,BC32,BJ32,BQ32,BX32,CE32,CL32,CS32) -> 448600 | CZ32: =+AVERAGE(F32,M32,T32,AA32,AH32,AO32,AV32,BC32,BJ32,BQ32,BX32,CE32,CL32,CS32) -> 2903205.6 | DA32: =+TRIMMEAN((F32,M32,T32,AA32,AH32,AO32,AV32,BC32,BJ32,BQ32,BX32,CE32,CL32,CS32),(2/14)) -> 2737189.8 | DB32: =+MEDIAN(F32,M32,T32,AA32,AH32,AO32,AV32,BC32,BJ32,BQ32,BX32,CE32,CL32,CS32) -> 2875000 | DC32: =IFERROR(MODE(F32,M32,T32,AA32,AH32,AO32,AV32,BC32,BJ32,BQ32,BX32,CE32,CL32,CS32),"N/A") -> N/A | DD32: =+STDEV(F32,M32,T32,AA32,AH32,AO32,AV32,BC32,BJ32,BQ32,BX32,CE32,CL32,CS32)/CZ32 -> 0.59711174 | DE32: FUNDACIÓN UNIVERSITARIA COMPENSAR | DF32: SGS COLOMBIA SAS
A33: •Toolbox TIC: 24 horas, virtual autoformación. | B33: RFSDI.2 | C33: Entre 501 y 1000 cupos | D33: 2664000 | E33: =(D33*19)/100 -> 506160 | F33: =D33+E33 -> 3170160 | I33: RFSDI.2 | J33: Entre 501 y 1000 cupos | K33: 2450000 | L33: 0 | M33: =+K33+L33 -> 2450000 | P33: RFSDI.2 | Q33: Entre 501 y 1000 cupos | R33: 1911000 | S33: 0 | T33: =R33+S33 -> 1911000 | W33: RFSDI.2 | X33: Entre 501 y 1000 cupos | Y33: 981000000 | Z33: 0 | AA33: =+Y33/1000 -> 981000 | AD33: RFSDI.2 | AE33: Entre 501 y 1000 cupos | AF33: 1985456.4 | AG33: 0 | AH33: =AF33+AG33 -> 1985456.4 | AK33: RFSDI.2 | AL33: Entre 501 y 1000 cupos | AN33: 0 | AO33: =+AM33+AN33 -> 0 | AR33: RFSDI.2 | AS33: Entre 501 y 1000 cupos | AT33: 3069279 | AU33: 0 | AV33: =AT33+AU33 -> 3069279 | AY33: RFSDI.2 | AZ33: Entre 501 y 1000 cupos | BA33: 5950000 | BB33: 0 | BC33: =BA33+BB33 -> 5950000 | BF33: RFSDI.2 | BG33: Entre 501 y 1000 cupos | BH33: 3180566.9 | BI33: 0 | BJ33: =BH33+BI33 -> 3180566.9 | BM33: RFSDI.2 | BN33: Entre 501 y 1000 cupos | BO33: 425300 | BP33: 0 | BQ33: =BO33+BP33 -> 425300 | BT33: RFSDI.2 | BU33: Entre 501 y 1000 cupos | BV33: 2700000 | BW33: 0 | BX33: =BV33+BW33 -> 2700000 | CA33: RFSDI.2 | CB33: Entre 501 y 1000 cupos | CC33: 3000000 | CD33: 0 | CE33: =CC33+CD33 -> 3000000 | CH33: RFSDI.2 | CI33: Entre 501 y 1000 cupos | CJ33: 2200000 | CK33: 0 | CL33: =CJ33+CK33 -> 2200000 | CO33: RFSDI.2 | CP33: Entre 501 y 1000 cupos | CQ33: 943888.89 | CR33: =CQ33*0.19 -> 179338.89 | CS33: =CQ33+CR33 -> 1123227.8 | CV33: RFSDI.2 | CW33: Entre 501 y 1000 cupos | CX33: =+MAX(F33,M33,T33,AA33,AH33,AV33,BC33,BJ33,BQ33,BX33,CE33,CL33,CS33) -> 5950000 | CY33: =+MIN(F33,M33,T33,AA33,AH33,AV33,BC33,BJ33,BQ33,BX33,CE33,CL33,CS33) -> 425300 | CZ33: =+AVERAGE(F33,M33,T33,AA33,AH33,AV33,BC33,BJ33,BQ33,BX33,CE33,CL33,CS33) -> 2472768.5 | DA33: =+TRIMMEAN((F33,M33,T33,AA33,AH33,AV33,BC33,BJ33,BQ33,BX33,CE33,CL33,CS33),(2/13)) -> 2342790 | DB33: =+MEDIAN(F33,M33,T33,AA33,AH33,AV33,BC33,BJ33,BQ33,BX33,CE33,CL33,CS33) -> 2450000 | DC33: =IFERROR(MODE(F33,M33,T33,AA33,AH33,AV33,BC33,BJ33,BQ33,BX33,CE33,CL33,CS33),"N/A") -> N/A | DD33: =+STDEV(F33,M33,T33,AA33,AH33,AV33,BC33,BJ33,BQ33,BX33,CE33,CL33,CS33)/CZ33 -> 0.55535971 | DE33: FUNDACIÓN UNIVERSITARIA COMPENSAR | DF33: SGS COLOMBIA SAS
A34: •English zone: 16 horas, virtual sincrónico | B34: RFSDI.3 | C34: Entre 1001 y 1500 cupos | D34: 2239000 | E34: =(D34*19)/100 -> 425410 | F34: =D34+E34 -> 2664410 | I34: RFSDI.3 | J34: Entre 1001 y 1500 cupos | K34: 2350000 | L34: 0 | M34: =+K34+L34 -> 2350000 | P34: RFSDI.3 | Q34: Entre 1001 y 1500 cupos | R34: 1872780 | S34: 0 | T34: =R34+S34 -> 1872780 | W34: RFSDI.3 | X34: Entre 1001 y 1500 cupos | Y34: 1018600000 | Z34: 0 | AA34: =+Y34/1500 -> 679066.67 | AD34: RFSDI.3 | AE34: Entre 1001 y 1500 cupos | AF34: 1966180.2 | AG34: 0 | AH34: =AF34+AG34 -> 1966180.2 | AK34: RFSDI.3 | AL34: Entre 1001 y 1500 cupos | AM34: 0 | AN34: 0 | AO34: =AM34+AN34 -> 0 | AR34: RFSDI.3 | AS34: Entre 1001 y 1500 cupos | AT34: 3023538 | AU34: 0 | AV34: =AT34+AU34 -> 3023538 | AY34: RFSDI.3 | AZ34: Entre 1001 y 1500 cupos | BA34: 5760000 | BB34: 0 | BC34: =BA34+BB34 -> 5760000 | BF34: RFSDI.3 | BG34: Entre 1001 y 1500 cupos | BH34: 3133171.7 | BI34: 0 | BJ34: =BH34+BI34 -> 3133171.7 | BM34: RFSDI.3 | BN34: Entre 1001 y 1500 cupos | BO34: 408600 | BP34: 0 | BQ34: =BO34+BP34 -> 408600 | BT34: RFSDI.3 | BU34: Entre 1001 y 1500 cupos | BV34: 2520000 | BW34: 0 | BX34: =BV34+BW34 -> 2520000 | CA34: RFSDI.3 | CB34: Entre 1001 y 1500 cupos | CC34: 3000000 | CD34: 0 | CE34: =CC34+CD34 -> 3000000 | CH34: RFSDI.3 | CI34: Entre 1001 y 1500 cupos | CJ34: 2000000 | CK34: 0 | CL34: =CJ34+CK34 -> 2000000 | CO34: RFSDI.3 | CP34: Entre 1001 y 1500 cupos | CQ34: 943888.89 | CR34: =CQ34*0.19 -> 179338.89 | CS34: =CQ34+CR34 -> 1123227.8 | CV34: RFSDI.3 | CW34: Entre 1001 y 1500 cupos | CX34: =+MAX(F34,M34,T34,AA34,AH34,AV34,BC34,BJ34,BQ34,BX34,CE34,CL34,CS34) -> 5760000 | CY34: =+MIN(F34,M34,T34,AA34,AH34,AV34,BC34,BJ34,BQ34,BX34,CE34,CL34,CS34) -> 408600 | CZ34: =+AVERAGE(F34,M34,T34,AA34,AH34,AV34,BC34,BJ34,BQ34,BX34,CE34,CL34,CS34) -> 2346228.8 | DA34: =+TRIMMEAN((F34,M34,T34,AA34,AH34,AV34,BC34,BJ34,BQ34,BX34,CE34,CL34,CS34),(2/13)) -> 2212034 | DB34: =+MEDIAN(F34,M34,T34,AA34,AH34,AV34,BC34,BJ34,BQ34,BX34,CE34,CL34,CS34) -> 2350000 | DC34: =IFERROR(MODE(F34,M34,T34,AA34,AH34,AV34,BC34,BJ34,BQ34,BX34,CE34,CL34,CS34),"N/A") -> N/A | DD34: =+STDEV(F34,M34,T34,AA34,AH34,AV34,BC34,BJ34,BQ34,BX34,CE34,CL34,CS34)/CZ34 -> 0.57458528 | DE34: FUNDACIÓN UNIVERSITARIA COMPENSAR | DF34: SGS COLOMBIA SAS
A35: •Capstone (proyecto): 8 horas, presencial. | B35: RFSDI.4 | C35: Más de 1501 cupos | D35: 2128000 | E35: =(D35*19)/100 -> 404320 | F35: =D35+E35 -> 2532320 | I35: RFSDI.4 | J35: Más de 1501 cupos | K35: 2320000 | L35: 0 | M35: =+K35+L35 -> 2320000 | P35: RFSDI.4 | Q35: Más de 1501 cupos | R35: 1835324 | S35: 0 | T35: =R35+S35 -> 1835324 | W35: RFSDI.4 | X35: Más de 1501 cupos | Y35: 1018600000 | Z35: 0 | AA35: =+Y35/1501 -> 678614.26 | AD35: RFSDI.4 | AE35: Más de 1501 cupos | AF35: 1947274.6 | AG35: 0 | AH35: =AF35+AG35 -> 1947274.6 | AK35: RFSDI.4 | AL35: Más de 1501 cupos | AM35: 0 | AN35: 0 | AO35: =AM35+AN35 -> 0 | AR35: RFSDI.4 | AS35: Más de 1501 cupos | AT35: 2967472 | AU35: 0 | AV35: =AT35+AU35 -> 2967472 | AY35: RFSDI.4 | AZ35: Más de 1501 cupos | BA35: 5700000 | BB35: 0 | BC35: =BA35+BB35 -> 5700000 | BF35: RFSDI.4 | BG35: Más de 1501 cupos | BH35: 3075087.6 | BI35: 0 | BJ35: =BH35+BI35 -> 3075087.6 | BM35: RFSDI.4 | BN35: Más de 1501 cupos | BO35: 0 | BP35: 0 | BQ35: =BO35+BP35 -> 0 | BT35: RFSDI.4 | BU35: Más de 1501 cupos | BV35: 2400000 | BW35: 0 | BX35: =BV35+BW35 -> 2400000 | CA35: RFSDI.4 | CB35: Más de 1501 cupos | CC35: 3000000 | CD35: 0 | CE35: =CC35+CD35 -> 3000000 | CH35: RFSDI.4 | CI35: Más de 1501 cupos | CJ35: 2000000 | CK35: 0 | CL35: =CJ35+CK35 -> 2000000 | CO35: RFSDI.4 | CP35: Más de 1501 cupos | CQ35: 913888.89 | CR35: =CQ35*0.19 -> 173638.89 | CS35: =CQ35+CR35 -> 1087527.8 | CV35: RFSDI.4 | CW35: Más de 1501 cupos | CX35: =+MAX(F35,M35,T35,AA35,AH35,AV35,BC35,BJ35,BX35,CE35,CL35,CS35) -> 5700000 | CY35: =+MIN(F35,M35,T35,AA35,AH35,AV35,BC35,BJ35,BX35,CE35,CL35,CS35) -> 678614.26 | CZ35: =+AVERAGE(F35,M35,T35,AA35,AH35,AV35,BC35,BJ35,BX35,CE35,CL35,CS35) -> 2461968.4 | DA35: =+TRIMMEAN((F35,M35,T35,AA35,AH35,AV35,BC35,BJ35,BX35,CE35,CL35,CS35),(2/12)) -> 2316500.6 | DB35: =+MEDIAN(F35,M35,T35,AA35,AH35,AV35,BC35,BJ35,BX35,CE35,CL35,CS35) -> 2360000 | DC35: =IFERROR(MODE(F35,M35,T35,AA35,AH35,AV35,BC35,BJ35,BX35,CE35,CL35,CS35),"N/A") -> N/A | DD35: =+STDEV(F35,M35,T35,AA35,AH35,AV35,BC35,BJ35,BX35,CE35,CL35,CS35)/CZ35 -> 0.51048817 | DE35: FUNDACIÓN UNIVERSITARIA COMPENSAR | DF35: SGS COLOMBIA SAS
A36: Ruta Formativa 3 | B36: Soluciones de futuro con IA y datos | F36: Nivel | G36: Avanzado | I36: Soluciones de futuro con IA y datos | M36: Nivel | N36: Avanzado | P36: Soluciones de futuro con IA y datos | T36: Nivel | U36: Avanzado | W36: Soluciones de futuro con IA y datos | AA36: Nivel | AB36: Avanzado | AD36: Soluciones de futuro con IA y datos | AH36: Nivel | AI36: Avanzado | AK36: Soluciones de futuro con IA y datos | AO36: Nivel | AP36: Avanzado | AR36: Soluciones de futuro con IA y datos | AV36: Nivel | AW36: Avanzado | AY36: Soluciones de futuro con IA y datos | BC36: Nivel | BD36: Avanzado | BF36: Soluciones de futuro con IA y datos | BJ36: Nivel | BK36: Avanzado | BM36: Soluciones de futuro con IA y datos | BQ36: Nivel | BR36: Avanzado | BT36: Soluciones de futuro con IA y datos | BX36: Nivel | BY36: Avanzado | CA36: Soluciones de futuro con IA y datos | CE36: Nivel | CF36: Avanzado | CH36: Soluciones de futuro con IA y datos | CL36: Nivel | CM36: Avanzado | CO36: Soluciones de futuro con IA y datos | CS36: Nivel | CT36: Avanzado
A37: MODALIDAD: Híbrido | B37: COD. | C37: RANGOS | D37: VALOR UNITARIO (SIN IVA) | E37: IVA (SI APLICA) | F37: TOTAL | I37: COD. | J37: RANGOS | K37: VALOR UNITARIO (SIN IVA) | L37: IVA (SI APLICA) | M37: TOTAL | P37: COD. | Q37: RANGOS | R37: VALOR UNITARIO (SIN IVA) | S37: IVA (SI APLICA) | T37: TOTAL | W37: COD. | X37: RANGOS | Y37: VALOR UNITARIO (SIN IVA) | Z37: IVA (SI APLICA) | AA37: TOTAL | AD37: COD. | AE37: RANGOS | AF37: VALOR UNITARIO (SIN IVA) | AG37: IVA (SI APLICA) | AH37: TOTAL | AK37: COD. | AL37: RANGOS | AM37: VALOR UNITARIO (SIN IVA) | AN37: IVA (SI APLICA) | AO37: TOTAL | AR37: COD. | AS37: RANGOS | AT37: VALOR UNITARIO (SIN IVA) | AU37: IVA (SI APLICA) | AV37: TOTAL | AY37: COD. | AZ37: RANGOS | BA37: VALOR UNITARIO (SIN IVA) | BB37: IVA (SI APLICA) | BC37: TOTAL | BF37: COD. | BG37: RANGOS | BH37: VALOR UNITARIO (SIN IVA) | BI37: IVA (SI APLICA) | BJ37: TOTAL | BM37: COD. | BN37: RANGOS | BO37: VALOR UNITARIO (SIN IVA) | BP37: IVA (SI APLICA) | BQ37: TOTAL | BT37: COD. | BU37: RANGOS | BV37: VALOR UNITARIO (SIN IVA) | BW37: IVA (SI APLICA) | BX37: TOTAL | CA37: COD. | CB37: RANGOS | CC37: VALOR UNITARIO (SIN IVA) | CD37: IVA (SI APLICA) | CE37: TOTAL | CH37: COD. | CI37: RANGOS | CJ37: VALOR UNITARIO (SIN IVA) | CK37: IVA (SI APLICA) | CL37: TOTAL | CO37: COD. | CP37: RANGOS | CQ37: VALOR UNITARIO (SIN IVA) | CR37: IVA (SI APLICA) | CS37: TOTAL | CV37: COD. | CW37: RANGOS | CX37: Valor máximo | CY37: Valor mínimo | CZ37: Promedio | DA37: Media Acotada | DB37: Mediana | DC37: Moda | DE37: MAX | DF37: MIN
A38: •Técnica: 80 horas, virtual sincrónico + autoformación. | B38: RFSDA.1 | C38: Hasta 500 cupos | D38: 3859000 | E38: =(D38*19)/100 -> 733210 | F38: =D38+E38 -> 4592210 | I38: RFSDA.1 | J38: Hasta 500 cupos | K38: 2750000 | L38: 0 | M38: =+K38+L38 -> 2750000 | P38: RFSDA.1 | Q38: Hasta 500 cupos | R38: 1950000 | S38: 0 | T38: =R38+S38 -> 1950000 | W38: RFSDA.1 | X38: Hasta 500 cupos | Y38: 561500000 | Z38: 0 | AA38: =+Y38/500 -> 1123000 | AD38: RFSDA.1 | AE38: Hasta 500 cupos | AF38: 2025165.6 | AG38: 0 | AH38: =AF38+AG38 -> 2025165.6 | AK38: RFSDA.1 | AL38: Hasta 500 cupos | AM38: 3483000 | AN38: 817000 | AO38: =AM38+AN38 -> 4300000 | AR38: RFSDA.1 | AS38: Hasta 500 cupos | AT38: 3138566 | AU38: 0 | AV38: =AT38+AU38 -> 3138566 | AY38: RFSDA.1 | AZ38: Hasta 500 cupos | BA38: 7350000 | BB38: 0 | BC38: =BA38+BB38 -> 7350000 | BF38: RFSDA.1 | BG38: Hasta 500 cupos | BH38: 3252326.4 | BI38: 0 | BJ38: =BH38+BI38 -> 3252326.4 | BM38: RFSDA.1 | BN38: Hasta 500 cupos | BO38: 448600 | BP38: 0 | BQ38: =BO38+BP38 -> 448600 | BT38: RFSDA.1 | BU38: Hasta 500 cupos | BV38: 3160000 | BW38: 0 | BX38: =BV38+BW38 -> 3160000 | CA38: RFSDA.1 | CB38: Hasta 500 cupos | CC38: 3000000 | CD38: 0 | CE38: =CC38+CD38 -> 3000000 | CH38: RFSDA.1 | CI38: Hasta 500 cupos | CJ38: 2500000 | CK38: 0 | CL38: =CJ38+CK38 -> 2500000 | CO38: RFSDA.1 | CP38: Hasta 500 cupos | CQ38: 943888.89 | CR38: =CQ38*0.19 -> 179338.89 | CS38: =CQ38+CR38 -> 1123227.8 | CV38: RFSDA.1 | CW38: Hasta 500 cupos | CX38: =+MAX(F38,M38,T38,AA38,AH38,AO38,AV38,BC38,BJ38,BQ38,BX38,CE38,CL38,CS38) -> 7350000 | CY38: =+MIN(F38,M38,T38,AA38,AH38,AO38,AV38,BC38,BJ38,BQ38,BX38,CE38,CL38,CS38) -> 448600 | CZ38: =+AVERAGE(F38,M38,T38,AA38,AH38,AO38,AV38,BC38,BJ38,BQ38,BX38,CE38,CL38,CS38) -> 2908078.3 | DA38: =+TRIMMEAN((F38,M38,T38,AA38,AH38,AO38,AV38,BC38,BJ38,BQ38,BX38,CE38,CL38,CS38),(2/14)) -> 2742874.6 | DB38: =+MEDIAN(F38,M38,T38,AA38,AH38,AO38,AV38,BC38,BJ38,BQ38,BX38,CE38,CL38,CS38) -> 2875000 | DC38: =IFERROR(MODE(F38,M38,T38,AA38,AH38,AO38,AV38,BC38,BJ38,BQ38,BX38,CE38,CL38,CS38),"N/A") -> N/A | DD38: =+STDEV(F38,M38,T38,AA38,AH38,AO38,AV38,BC38,BJ38,BQ38,BX38,CE38,CL38,CS38)/CZ38 -> 0.59604369 | DE38: FUNDACIÓN UNIVERSITARIA COMPENSAR | DF38: SGS COLOMBIA SAS
A39: •Toolbox TIC: 24 horas, virtual autoformación. | B39: RFSDA.2 | C39: Entre 501 y 1000 cupos | D39: 2664000 | E39: =(D39*19)/100 -> 506160 | F39: =D39+E39 -> 3170160 | I39: RFSDA.2 | J39: Entre 501 y 1000 cupos | K39: 2450000 | L39: 0 | M39: =+K39+L39 -> 2450000 | P39: RFSDA.2 | Q39: Entre 501 y 1000 cupos | R39: 1911000 | S39: 0 | T39: =R39+S39 -> 1911000 | W39: RFSDA.2 | X39: Entre 501 y 1000 cupos | Y39: 981000000 | Z39: 0 | AA39: =+Y39/1000 -> 981000 | AD39: RFSDA.2 | AE39: Entre 501 y 1000 cupos | AF39: 2005114.4 | AG39: 0 | AH39: =AF39+AG39 -> 2005114.4 | AK39: RFSDA.2 | AL39: Entre 501 y 1000 cupos | AM39: 0 | AN39: 0 | AO39: =+AM39+AN39 -> 0 | AR39: RFSDA.2 | AS39: Entre 501 y 1000 cupos | AT39: 3092922 | AU39: 0 | AV39: =AT39+AU39 -> 3092922 | AY39: RFSDA.2 | AZ39: Entre 501 y 1000 cupos | BA39: 5950000 | BB39: 0 | BC39: =BA39+BB39 -> 5950000 | BF39: RFSDA.2 | BG39: Entre 501 y 1000 cupos | BH39: 3205092.1 | BI39: 0 | BJ39: =BH39+BI39 -> 3205092.1 | BM39: RFSDA.2 | BN39: Entre 501 y 1000 cupos | BO39: 425300 | BP39: 0 | BQ39: =BO39+BP39 -> 425300 | BT39: RFSDA.2 | BU39: Entre 501 y 1000 cupos | BV39: 2700000 | BW39: 0 | BX39: =BV39+BW39 -> 2700000 | CA39: RFSDA.2 | CB39: Entre 501 y 1000 cupos | CC39: 3000000 | CD39: 0 | CE39: =CC39+CD39 -> 3000000 | CH39: RFSDA.2 | CI39: Entre 501 y 1000 cupos | CJ39: 2200000 | CK39: 0 | CL39: =CJ39+CK39 -> 2200000 | CO39: RFSDA.2 | CP39: Entre 501 y 1000 cupos | CQ39: 943888.89 | CR39: =CQ39*0.19 -> 179338.89 | CS39: =CQ39+CR39 -> 1123227.8 | CV39: RFSDA.2 | CW39: Entre 501 y 1000 cupos | CX39: =+MAX(F39,M39,T39,AA39,AH39,AV39,BC39,BJ39,BQ39,BX39,CE39,CL39,CS39) -> 5950000 | CY39: =+MIN(F39,M39,T39,AA39,AH39,AV39,BC39,BJ39,BQ39,BX39,CE39,CL39,CS39) -> 425300 | CZ39: =+AVERAGE(F39,M39,T39,AA39,AH39,AV39,BC39,BJ39,BQ39,BX39,CE39,CL39,CS39) -> 2477985.9 | DA39: =+TRIMMEAN((F39,M39,T39,AA39,AH39,AV39,BC39,BJ39,BQ39,BX39,CE39,CL39,CS39),(2/13)) -> 2348956 | DB39: =+MEDIAN(F39,M39,T39,AA39,AH39,AV39,BC39,BJ39,BQ39,BX39,CE39,CL39,CS39) -> 2450000 | DC39: =IFERROR(MODE(F39,M39,T39,AA39,AH39,AV39,BC39,BJ39,BQ39,BX39,CE39,CL39,CS39),"N/A") -> N/A | DD39: =+STDEV(F39,M39,T39,AA39,AH39,AV39,BC39,BJ39,BQ39,BX39,CE39,CL39,CS39)/CZ39 -> 0.55474061 | DE39: FUNDACIÓN UNIVERSITARIA COMPENSAR | DF39: SGS COLOMBIA SAS
A40: •English zone: 16 horas, virtual sincrónico | B40: RFSDA.3 | C40: Entre 1001 y 1500 cupos | D40: 2239000 | E40: =(D40*19)/100 -> 425410 | F40: =D40+E40 -> 2664410 | I40: RFSDA.3 | J40: Entre 1001 y 1500 cupos | K40: 2350000 | L40: 0 | M40: =+K40+L40 -> 2350000 | P40: RFSDA.3 | Q40: Entre 1001 y 1500 cupos | R40: 1872780 | S40: 0 | T40: =R40+S40 -> 1872780 | W40: RFSDA.3 | X40: Entre 1001 y 1500 cupos | Y40: 1018600000 | Z40: 0 | AA40: =+Y40/1500 -> 679066.67 | AD40: RFSDA.3 | AE40: Entre 1001 y 1500 cupos | AF40: 1985456.4 | AG40: 0 | AH40: =AF40+AG40 -> 1985456.4 | AK40: RFSDA.3 | AL40: Entre 1001 y 1500 cupos | AM40: 0 | AN40: 0 | AO40: =AM40+AN40 -> 0 | AR40: RFSDA.3 | AS40: Entre 1001 y 1500 cupos | AT40: 3047181 | AU40: 0 | AV40: =AT40+AU40 -> 3047181 | AY40: RFSDA.3 | AZ40: Entre 1001 y 1500 cupos | BA40: 5760000 | BB40: 0 | BC40: =BA40+BB40 -> 5760000 | BF40: RFSDA.3 | BG40: Entre 1001 y 1500 cupos | BH40: 3157696.4 | BI40: 0 | BJ40: =BH40+BI40 -> 3157696.4 | BM40: RFSDA.3 | BN40: Entre 1001 y 1500 cupos | BO40: 408600 | BP40: 0 | BQ40: =BO40+BP40 -> 408600 | BT40: RFSDA.3 | BU40: Entre 1001 y 1500 cupos | BV40: 2520000 | BW40: 0 | BX40: =BV40+BW40 -> 2520000 | CA40: RFSDA.3 | CB40: Entre 1001 y 1500 cupos | CC40: 3000000 | CD40: 0 | CE40: =CC40+CD40 -> 3000000 | CH40: RFSDA.3 | CI40: Entre 1001 y 1500 cupos | CJ40: 2000000 | CK40: 0 | CL40: =CJ40+CK40 -> 2000000 | CO40: RFSDA.3 | CP40: Entre 1001 y 1500 cupos | CQ40: 943888.89 | CR40: =CQ40*0.19 -> 179338.89 | CS40: =CQ40+CR40 -> 1123227.8 | CV40: RFSDA.3 | CW40: Entre 1001 y 1500 cupos | CX40: =+MAX(F40,M40,T40,AA40,AH40,AV40,BC40,BJ40,BQ40,BX40,CE40,CL40,CS40) -> 5760000 | CY40: =+MIN(F40,M40,T40,AA40,AH40,AV40,BC40,BJ40,BQ40,BX40,CE40,CL40,CS40) -> 408600 | CZ40: =+AVERAGE(F40,M40,T40,AA40,AH40,AV40,BC40,BJ40,BQ40,BX40,CE40,CL40,CS40) -> 2351416.8 | DA40: =+TRIMMEAN((F40,M40,T40,AA40,AH40,AV40,BC40,BJ40,BQ40,BX40,CE40,CL40,CS40),(2/13)) -> 2218165.3 | DB40: =+MEDIAN(F40,M40,T40,AA40,AH40,AV40,BC40,BJ40,BQ40,BX40,CE40,CL40,CS40) -> 2350000 | DC40: =IFERROR(MODE(F40,M40,T40,AA40,AH40,AV40,BC40,BJ40,BQ40,BX40,CE40,CL40,CS40),"N/A") -> N/A | DD40: =+STDEV(F40,M40,T40,AA40,AH40,AV40,BC40,BJ40,BQ40,BX40,CE40,CL40,CS40)/CZ40 -> 0.57406834 | DE40: FUNDACIÓN UNIVERSITARIA COMPENSAR | DF40: SGS COLOMBIA SAS
A41: •Capstone (proyecto): 8 horas, presencial. | B41: RFSDA.4 | C41: Más de 1501 cupos | D41: 2128000 | E41: =(D41*19)/100 -> 404320 | F41: =D41+E41 -> 2532320 | I41: RFSDA.4 | J41: Más de 1501 cupos | K41: 2320000 | L41: 0 | M41: =+K41+L41 -> 2320000 | P41: RFSDA.4 | Q41: Más de 1501 cupos | R41: 1835324 | S41: 0 | T41: =R41+S41 -> 1835324 | W41: RFSDA.4 | X41: Más de 1501 cupos | Y41: 1018600000 | Z41: 0 | AA41: =+Y41/1501 -> 678614.26 | AD41: RFSDA.4 | AE41: Más de 1501 cupos | AF41: 1966180.2 | AG41: 0 | AH41: =AF41+AG41 -> 1966180.2 | AK41: RFSDA.4 | AL41: Más de 1501 cupos | AM41: 0 | AN41: 0 | AO41: =AM41+AN41 -> 0 | AR41: RFSDA.4 | AS41: Más de 1501 cupos | AT41: 2991211 | AU41: 0 | AV41: =AT41+AU41 -> 2991211 | AY41: RFSDA.4 | AZ41: Más de 1501 cupos | BA41: 5700000 | BB41: 0 | BC41: =BA41+BB41 -> 5700000 | BF41: RFSDA.4 | BG41: Más de 1501 cupos | BH41: 3099612.2 | BI41: 0 | BJ41: =BH41+BI41 -> 3099612.2 | BM41: RFSDA.4 | BN41: Más de 1501 cupos | BO41: 0 | BP41: 0 | BQ41: =BO41+BP41 -> 0 | BT41: RFSDA.4 | BU41: Más de 1501 cupos | BV41: 2400000 | BW41: 0 | BX41: =BV41+BW41 -> 2400000 | CA41: RFSDA.4 | CB41: Más de 1501 cupos | CC41: 3000000 | CD41: 0 | CE41: =CC41+CD41 -> 3000000 | CH41: RFSDA.4 | CI41: Más de 1501 cupos | CJ41: 2000000 | CK41: 0 | CL41: =CJ41+CK41 -> 2000000 | CO41: RFSDA.4 | CP41: Más de 1501 cupos | CQ41: 913888.89 | CR41: =CQ41*0.19 -> 173638.89 | CS41: =CQ41+CR41 -> 1087527.8 | CV41: RFSDA.4 | CW41: Más de 1501 cupos | CX41: =+MAX(F41,M41,T41,AA41,AH41,AV41,BC41,BJ41,BX41,CE41,CL41,CS41) -> 5700000 | CY41: =+MIN(F41,M41,T41,AA41,AH41,AV41,BC41,BJ41,BX41,CE41,CL41,CS41) -> 678614.26 | CZ41: =+AVERAGE(F41,M41,T41,AA41,AH41,AV41,BC41,BJ41,BX41,CE41,CL41,CS41) -> 2467565.8 | DA41: =+TRIMMEAN((F41,M41,T41,AA41,AH41,AV41,BC41,BJ41,BX41,CE41,CL41,CS41),(2/12)) -> 2323217.5 | DB41: =+MEDIAN(F41,M41,T41,AA41,AH41,AV41,BC41,BJ41,BX41,CE41,CL41,CS41) -> 2360000 | DC41: =IFERROR(MODE(F41,M41,T41,AA41,AH41,AV41,BC41,BJ41,BX41,CE41,CL41,CS41),"N/A") -> N/A | DD41: =+STDEV(F41,M41,T41,AA41,AH41,AV41,BC41,BJ41,BX41,CE41,CL41,CS41)/CZ41 -> 0.50985402 | DE41: FUNDACIÓN UNIVERSITARIA COMPENSAR | DF41: SGS COLOMBIA SAS
DC44: Min | DD44: =+MIN(DD8:DD41) -> 0.50985402
DC45: Max | DD45: =+MAX(DD8:DD41) -> 0.61397845

Sheet Proceso 3
A1: Propuesta presentada por: | B1: PROYECTAMOS COLOMBIA SAS | I1: INSTITUTO COLOMBIANO DE APRENDIZAJE (INCAP) SAS | P1: Universidad Javeriana | W1: Corpración Universitaria Remington | AD1: CAJA DE COMPENSACIÓN FAMILIAR CAFAM | AK1: UNIVERSIDAD DE LA SABANA | AR1: UNIVERSITARIA AGUSTINIANA-UNIAGUSTINIANA | AY1: CORPORACIÓN INSTITUTO COLOMBIANO DE CUALIFICACIÓN EMPRESARIAL | BF1: FUNDACIÓN UNIVERSITARIA COMPENSAR | BM1: FUNDACION UNIVERSITARIA EMPRESARIAL DE LA CAMARA DE COMERCIO DE BOGOTA - UNIEMPRESARIAL | BT1: FUNDACIÓN UNIVERSITARIA CAFAM - UNICAFAM | CA1: SGS COLOMBIA SAS | CH1: Universidad Ean | CO1: COLEGIO DE ESTUDIOS SUPERIORES EN ADMINISTRACIÓN- CESA | CV1: KUEPA EDUTECH S.A.S | DC1: COGNOSONLINE SOLUTIONS COLOMBIA S.A. | DJ1: Estadisticas
A2: Nit | B2: 900555513-3 | I2: 800.216.673-7 | W2: 811005425-1 | AD2: 860.013.570-3 | AK2: 860075558-1 | AR2: 830.027.493-6 | AY2: 9003504166 | BF2: 860506140-6 | BM2: 830084876-6 | BT2: 900.262.398-4 | CA2: 860.049.921-0 | CH2: 860.026.058-1 | CO2: 860.045.740-6 | CV2: 900241770-1 | DC2: 830.074.045-1
A3: Correo electrónico: | B3: gerencia@proyectamoscolombia.com | I3: luis.barbosa@incap.edu.co | W3: proyectos@uniremington.edu.co | AD3: licitacion@cafam.com.co | AK3: camila.rodriguez3@unisabana.edu.co | AR3: licitaciones@uniagustiniana.edu.co | AY3: info@cicce.edu.co | BF3: contratosyproyectos@ucompensar.edu.co | BM3: notificacionesjudiciales@uniempresarial.edu.co / rector@uniempresarial.edu.co | BT3: alexander.rojasb@unicafam.edu.co | CA3: co.notificaciones@sgs.com; sugeys.deavila@sgs.com | CH3: dcgutierrez@universidadean.edu.co | CO3: secretaria.general@cesa.edu.co | CV3: jorge.garcia@kuepa.com | DC3: esanabria@cognosonline.com
A5: Habilidades digitales Ruta Jóvenes con Oportunidades
A6: Temática 1 | B6: Soporte técnico en sistemas | F6: Nivel | G6: Básico | M6: Nivel | N6: Básico | P6: Soporte técnico en sistemas | T6: Nivel | U6: Básico | W6: Soporte técnico en sistemas | AA6: Nivel | AB6: Básico | AD6: Soporte técnico en sistemas | AH6: Nivel | AI6: Básico | AK6: Soporte técnico en sistemas | AO6: Nivel | AP6: Básico | AR6: Soporte técnico en sistemas | AV6: Nivel | AW6: Básico | AY6: Soporte técnico en sistemas | BC6: Nivel | BD6: Básico | BF6: Soporte técnico en sistemas | BJ6: Nivel | BK6: Básico | BM6: Soporte técnico en sistemas | BQ6: Nivel | BR6: Básico | BT6: Soporte técnico en sistemas | BX6: Nivel | BY6: Básico | CA6: Soporte técnico en sistemas | CE6: Nivel | CF6: Básico | CH6: Soporte técnico en sistemas | CL6: Nivel | CM6: Básico | CO6: Soporte técnico en sistemas | CS6: Nivel | CT6: Básico | CV6: Soporte técnico en sistemas | CZ6: Nivel | DA6: Básico | DC6: Soporte técnico en sistemas | DG6: Nivel | DH6: Básico
A7: MODALIDAD: Híbrido | B7: COD. | C7: RANGOS | D7: VALOR UNITARIO (SIN IVA) | E7: IVA (SI APLICA) | F7: TOTAL | I7: COD. | J7: RANGOS | K7: VALOR UNITARIO (SIN IVA) | L7: IVA (SI APLICA) | M7: TOTAL | P7: COD. | Q7: RANGOS | R7: VALOR UNITARIO (SIN IVA) | S7: IVA (SI APLICA) | T7: TOTAL | W7: COD. | X7: RANGOS | Y7: VALOR UNITARIO (SIN IVA) | Z7: IVA (SI APLICA) | AA7: TOTAL | AD7: COD. | AE7: RANGOS | AF7: VALOR UNITARIO (SIN IVA) | AG7: IVA (SI APLICA) | AH7: TOTAL | AK7: COD. | AL7: RANGOS | AM7: VALOR UNITARIO (SIN IVA) | AN7: IVA (SI APLICA) | AO7: TOTAL | AR7: COD. | AS7: RANGOS | AT7: VALOR UNITARIO (SIN IVA) | AU7: IVA (SI APLICA) | AV7: TOTAL | AY7: COD. | AZ7: RANGOS | BA7: VALOR UNITARIO (SIN IVA) | BB7: IVA (SI APLICA) | BC7: TOTAL | BF7: COD. | BG7: RANGOS | BH7: VALOR UNITARIO (SIN IVA) | BI7: IVA (SI APLICA) | BJ7: TOTAL | BM7: COD. | BN7: RANGOS | BO7: VALOR UNITARIO (SIN IVA) | BP7: IVA (SI APLICA) | BQ7: TOTAL | BT7: COD. | BU7: RANGOS | BV7: VALOR UNITARIO (SIN IVA) | BW7: IVA (SI APLICA) | BX7: TOTAL | CA7: COD. | CB7: RANGOS | CC7: VALOR UNITARIO (SIN IVA) | CD7: IVA (SI APLICA) | CE7: TOTAL | CH7: COD. | CI7: RANGOS | CJ7: VALOR UNITARIO (SIN IVA) | CK7: IVA (SI APLICA) | CL7: TOTAL | CO7: COD. | CP7: RANGOS | CQ7: VALOR UNITARIO (SIN IVA) | CR7: IVA (SI APLICA) | CS7: TOTAL | CV7: COD. | CW7: RANGOS | CX7: VALOR UNITARIO (SIN IVA) | CY7: IVA (SI APLICA) | CZ7: TOTAL | DC7: COD. | DD7: RANGOS | DE7: VALOR UNITARIO (SIN IVA) | DF7: IVA (SI APLICA) | DG7: TOTAL | DJ7: COD. | DK7: RANGOS | DL7: Valor máximo | DM7: Valor mínimo | DN7: Promedio | DO7: Media Acotada | DP7: Mediana | DQ7: Moda | DS7: MAX | DT7: MIN
A8: Competencias técnicas: de 80 a 100 horas Habilidades socioemocionales: de 20 horas | B8: TSTSB.1 | C8: Hasta 700 cupos | D8: 3210000 | E8: =(D8*19)/100 -> 609900 | F8: =D8+E8 -> 3819900 | I8: TSTSB.1 | J8: Hasta 700 cupos | K8: 2548000 | L8: 0 | M8: =K8+L8 -> 2548000 | P8: TSTSB.1 | Q8: Hasta 700 cupos | R8: 2650000 | S8: 0 | T8: =+R8+S8 -> 2650000 | W8: TSTSB.1 | X8: Hasta 700 cupos | Y8: 1900000 | Z8: 0 | AA8: =Y8+Z8 -> 1900000 | AD8: TSTSB.1 | AE8: Hasta 700 cupos | AF8: 1730400 | AG8: 0 | AH8: =AF8+AG8 -> 1730400 | AK8: TSTSB.1 | AL8: Hasta 700 cupos | AM8: 770700000 | AN8: 0 | AO8: =+AM8/700 -> 1101000 | AR8: TSTSB.1 | AS8: Hasta 700 cupos | AT8: 1666921.3 | AU8: 0 | AV8: =AT8+AU8 -> 1666921.3 | AY8: TSTSB.1 | AZ8: Hasta 700 cupos | BA8: 5113825 | BB8: 0 | BC8: =BA8+BB8 -> 5113825 | BF8: TSTSB.1 | BG8: Hasta 700 cupos | BH8: 6790000 | BI8: 0 | BJ8: =BH8+BI8 -> 6790000 | BM8: TSTSB.1 | BN8: Hasta 700 cupos | BO8: 5299274.2 | BP8: 0 | BQ8: =BO8+BP8 -> 5299274.2 | BT8: TSTSB.1 | BU8: 245 cupos | BV8: 389100000 | BW8: 0 | BX8: =+BV8/245 -> 1588163.3 | CA8: TSTSB.1 | CB8: Hasta 700 cupos | CC8: 1800000 | CD8: =CC8*0.19 -> 342000 | CE8: =CC8+CD8 -> 2142000 | CH8: TSTSB.1 | CI8: Hasta 700 cupos | CJ8: 3000000 | CK8: 0 | CL8: =CJ8+CK8 -> 3000000 | CO8: TSTSB.1 | CP8: Hasta 700 cupos | CQ8: 5200000 | CR8: $ - | CS8: =+CQ8 -> 5200000 | CV8: TSTSB.1 | CW8: Hasta 700 cupos | CX8: 3000000 | CY8: 0 | CZ8: =CX8+CY8 -> 3000000 | DC8: TSTSB.1 | DD8: Hasta 700 cupos | DE8: =1165333.33333333*5/3 -> 1942222.2 | DF8: =DE8*0.19 -> 369022.22 | DG8: =DE8+DF8 -> 2311244.4 | DJ8: TSTSB.1 | DK8: Hasta 700 cupos | DL8: =+MAX(F8,M8,T8,AA8,AH8,AO8,AV8,BC8,BJ8,BQ8,BX8,CE8,CL8,CS8,CZ8,DG8) -> 6790000 | DM8: =+MIN(F8,M8,T8,AA8,AH8,AO8,AV8,BC8,BJ8,BQ8,BX8,CE8,CL8,CS8,CZ8,DG8) -> 1101000 | DN8: =+AVERAGE(F8,M8,T8,AA8,AH8,AO8,AV8,BC8,BJ8,BQ8,BX8,CE8,CL8,CS8,CZ8,DG8) -> 3116295.5 | DO8: =+TRIMMEAN((F8,M8,T8,AA8,AH8,AO8,AV8,BC8,BJ8,BQ8,BX8,CE8,CL8,CS8,CZ8,DG8),(2/16)) -> 2997837.7 | DP8: =+MEDIAN(F8,M8,T8,AA8,AH8,AO8,AV8,BC8,BJ8,BQ8,BX8,CE8,CL8,CS8,CZ8,DG8) -> 2599000 | DQ8: =IFERROR(MODE(F8,M8,T8,AA8,AH8,AO8,AV8,BC8,BJ8,BQ8,BX8,CE8,CL8,CS8,CZ8,DG8),"N/A") -> 3000000 | DR8: =+STDEV(F8,M8,T8,AA8,AH8,AO8,AV8,BC8,BJ8,BQ8,BX8,CE8,CL8,CS8,CZ8,DG8)/DN8 -> 0.53150119 | DS8: FUNDACIÓN UNIVERSITARIA COMPENSAR | DT8: UNIVERSIDAD DE LA SABANA
B9: TSTSB.2 | C9: Entre 701 y 1400 cupos | D9: 2252000 | E9: =(D9*19)/100 -> 427880 | F9: =D9+E9 -> 2679880 | I9: TSTSB.2 | J9: Entre 701 y 1400 cupos | K9: 2527616 | L9: 0 | M9: =K9+L9 -> 2527616 | P9: TSTSB.2 | Q9: Entre 701 y 1400 cupos | R9: 2590000 | S9: 0 | T9: =+R9+S9 -> 2590000 | W9: TSTSB.2 | X9: Entre 701 y 1400 cupos | Y9: 1085000 | Z9: 0 | AA9: =Y9+Z9 -> 1085000 | AD9: TSTSB.2 | AE9: Entre 701 y 1400 cupos | AF9: 1648600 | AG9: 0 | AH9: =AF9+AG9 -> 1648600 | AK9: TSTSB.2 | AL9: Entre 701 y 1400 cupos | AM9: 1397200000 | AN9: 0 | AO9: =+AM9/1400 -> 998000 | AR9: TSTSB.2 | AS9: Entre 701 y 1400 cupos | AT9: 1618370.2 | AU9: 0 | AV9: =AT9+AU9 -> 1618370.2 | AY9: TSTSB.2 | AZ9: Entre 701 y 1400 cupos | BA9: 5053609 | BB9: 0 | BC9: =BA9+BB9 -> 5053609 | BF9: TSTSB.2 | BG9: Entre 701 y 1400 cupos | BH9: 5800000 | BI9: 0 | BJ9: =BH9+BI9 -> 5800000 | BM9: TSTSB.2 | BN9: Entre 701 y 1400 cupos | BO9: 5236828.1 | BP9: 0 | BQ9: =BO9+BP9 -> 5236828.1 | BT9: TSTSB.2 | BU9: Entre 701 y 1400 cupos | BV9: 0 | BW9: 0 | BX9: =BV9+BW9 -> 0 | CA9: TSTSB.2 | CB9: Entre 701 y 1400 cupos | CC9: 1700000 | CD9: =CC9*0.19 -> 323000 | CE9: =CC9+CD9 -> 2023000 | CH9: TSTSB.2 | CI9: Entre 701 y 1400 cupos | CJ9: 2800000 | CK9: 0 | CL9: =CJ9+CK9 -> 2800000 | CO9: TSTSB.2 | CP9: Entre 701 y 1400 cupos | CQ9: 4400000 | CR9: $ - | CS9: 4400000 | CV9: TSTSB.2 | CW9: Entre 701 y 1400 cupos | CX9: 3000000 | CY9: 0 | CZ9: =CX9+CY9 -> 3000000 | DC9: TSTSB.2 | DD9: Entre 701 y 1400 cupos | DE9: =526333.333333333*5/3 -> 877222.22 | DF9: =DE9*0.19 -> 166672.22 | DG9: =DE9+DF9 -> 1043894.4 | DJ9: TSTSB.2 | DK9: Entre 701 y 1400 cupos | DL9: =+MAX(F9,M9,T9,AA9,AH9,AO9,AV9,BC9,BJ9,BQ9,CE9,CL9,CS9,CZ9,DG9) -> 5800000 | DM9: =+MIN(F9,M9,T9,AA9,AH9,AO9,AV9,BC9,BJ9,BQ9,CE9,CL9,CS9,CZ9,DG9) -> 998000 | DN9: =+AVERAGE(F9,M9,T9,AA9,AH9,AO9,AV9,BC9,BJ9,BQ9,CE9,CL9,CS9,CZ9,DG9) -> 2833653.2 | DO9: =+TRIMMEAN((F9,M9,T9,AA9,AH9,AO9,AV9,BC9,BJ9,BQ9,CE9,CL9,CS9,CZ9,DG9),(2/15)) -> 2746676.7 | DP9: =+MEDIAN(F9,M9,T9,AA9,AH9,AO9,AV9,BC9,BJ9,BQ9,CE9,CL9,CS9,CZ9,DG9) -> 2590000 | DQ9: =IFERROR(MODE(F9,M9,T9,AA9,AH9,AO9,AV9,BC9,BJ9,BQ9,CE9,CL9,CS9,CZ9,DG9),"N/A") -> N/A | DR9: =+STDEV(F9,M9,T9,AA9,AH9,AO9,AV9,BC9,BJ9,BQ9,CE9,CL9,CS9,CZ9,DG9)/DN9 -> 0.56061553 | DS9: FUNDACIÓN UNIVERSITARIA COMPENSAR | DT9: UNIVERSIDAD DE LA SABANA
B10: TSTSB.3 | C10: Entre 1401 y 2000 cupos | D10: 1916000 | E10: =(D10*19)/100 -> 364040 | F10: =D10+E10 -> 2280040 | I10: TSTSB.3 | J10: Entre 1401 y 2000 cupos | K10: 2519972 | L10: 0 | M10: =K10+L10 -> 2519972 | P10: TSTSB.3 | Q10: Entre 1401 y 2000 cupos | R10: 2470000 | S10: 0 | T10: =+R10+S10 -> 2470000 | W10: TSTSB.3 | X10: Entre 1401 y 2000 cupos | Y10: 1714750 | Z10: 0 | AA10: =Y10+Z10 -> 1714750 | AD10: TSTSB.3 | AE10: Entre 1401 y 2000 cupos | AF10: 1566900 | AG10: 0 | AH10: =AF10+AG10 -> 1566900 | AK10: TSTSB.3 | AL10: Entre 1401 y 2000 cupos | AM10: 1449000000 | AN10: 0 | AO10: =+AM10/2000 -> 724500 | AR10: TSTSB.3 | AS10: Entre 1401 y 2000 cupos | AT10: 1602809 | AU10: 0 | AV10: =AT10+AU10 -> 1602809 | AY10: TSTSB.3 | AZ10: Entre 1401 y 2000 cupos | BA10: 4987217 | BB10: 0 | BC10: =BA10+BB10 -> 4987217 | BF10: TSTSB.3 | BG10: Entre 1401 y 2000 cupos | BH10: 5800000 | BI10: 0 | BJ10: =BH10+BI10 -> 5800000 | BM10: TSTSB.3 | BN10: Entre 1401 y 2000 cupos | BO10: 5168001 | BP10: 0 | BQ10: =BO10+BP10 -> 5168001 | BT10: TSTSB.3 | BU10: Entre 1401 y 2000 cupos | BV10: 0 | BW10: 0 | BX10: =BV10+BW10 -> 0 | CA10: TSTSB.3 | CB10: Entre 1401 y 2000 cupos | CC10: 1600000 | CD10: =CC10*0.19 -> 304000 | CE10: =CC10+CD10 -> 1904000 | CH10: TSTSB.3 | CI10: Entre 1401 y 2000 cupos | CJ10: 2720000 | CK10: 0 | CL10: =CJ10+CK10 -> 2720000 | CO10: TSTSB.3 | CP10: Entre 1401 y 2000 cupos | CQ10: 4000000 | CR10: $ - | CS10: 4000000 | CV10: TSTSB.3 | CW10: Entre 1401 y 2000 cupos | CX10: 3000000 | CY10: 0 | CZ10: =CX10+CY10 -> 3000000 | DC10: TSTSB.3 | DD10: Entre 1401 y 2000 cupos | DE10: =DE9 -> 877222.22 | DF10: =DE10*0.19 -> 166672.22 | DG10: =DE10+DF10 -> 1043894.4 | DJ10: TSTSB.3 | DK10: Entre 1401 y 2000 cupos | DL10: =+MAX(F10,M10,T10,AA10,AH10,AO10,AV10,BC10,BJ10,BQ10,CE10,CL10,CS10,CZ10,DG10) -> 5800000 | DM10: =+MIN(F10,M10,T10,AA10,AH10,AO10,AV10,BC10,BJ10,BQ10,CE10,CL10,CS10,CZ10,DG10) -> 724500 | DN10: =+AVERAGE(F10,M10,T10,AA10,AH10,AO10,AV10,BC10,BJ10,BQ10,CE10,CL10,CS10,CZ10,DG10) -> 2766805.6 | DO10: =+TRIMMEAN((F10,M10,T10,AA10,AH10,AO10,AV10,BC10,BJ10,BQ10,CE10,CL10,CS10,CZ10,DG10),(2/15)) -> 2690583.3 | DP10: =+MEDIAN(F10,M10,T10,AA10,AH10,AO10,AV10,BC10,BJ10,BQ10,CE10,CL10,CS10,CZ10,DG10) -> 2470000 | DQ10: =IFERROR(MODE(F10,M10,T10,AA10,AH10,AO10,AV10,BC10,BJ10,BQ10,CE10,CL10,CS10,CZ10,DG10),"N/A") -> N/A | DR10: =+STDEV(F10,M10,T10,AA10,AH10,AO10,AV10,BC10,BJ10,BQ10,CE10,CL10,CS10,CZ10,DG10)/DN10 -> 0.56029516 | DS10: FUNDACIÓN UNIVERSITARIA COMPENSAR | DT10: UNIVERSIDAD DE LA SABANA
B11: TSTSB.4 | C11: Más de 2001 cupos | D11: 1854000 | E11: =(D11*19)/100 -> 352260 | F11: =D11+E11 -> 2206260 | I11: TSTSB.4 | J11: Más de 2001 cupos | K11: 2471560 | L11: 0 | M11: =K11+L11 -> 2471560 | P11: TSTSB.4 | Q11: Más de 2001 cupos | R11: 2400000 | S11: 0 | T11: =+R11+S11 -> 2400000 | W11: TSTSB.4 | X11: Más de 2001 cupos | Y11: 1627012 | Z11: 0 | AA11: =Y11+Z11 -> 1627012 | AD11: TSTSB.4 | AE11: Más de 2001 cupos | AF11: 1534200 | AG11: 0 | AH11: =AF11+AG11 -> 1534200 | AK11: TSTSB.4 | AL11: Más de 2001 cupos | AM11: 1449000000 | AN11: 0 | AO11: =+AM11/2001 -> 724137.93 | AR11: TSTSB.4 | AS11: Más de 2001 cupos | AT11: 1587544.1 | AU11: 0 | AV11: =AT11+AU11 -> 1587544.1 | AY11: TSTSB.4 | AZ11: Más de 2001 cupos | BA11: 4905771 | BB11: 0 | BC11: =BA11+BB11 -> 4905771 | BF11: TSTSB.4 | BG11: Más de 2001 cupos | BH11: 5700000 | BI11: 0 | BJ11: =BH11+BI11 -> 5700000 | BM11: TSTSB.4 | BN11: Más de 2001 cupos | BO11: 5083650.6 | BP11: 0 | BQ11: =BO11+BP11 -> 5083650.6 | BT11: TSTSB.4 | BU11: Más de 2001 cupos | BV11: 0 | BW11: 0 | BX11: =BV11+BW11 -> 0 | CA11: TSTSB.4 | CB11: Más de 2001 cupos | CC11: 1500000 | CD11: =CC11*0.19 -> 285000 | CE11: =CC11+CD11 -> 1785000 | CH11: TSTSB.4 | CI11: Más de 2001 cupos | CJ11: 2700000 | CK11: 0 | CL11: =CJ11+CK11 -> 2700000 | CO11: TSTSB.4 | CP11: Más de 2001 cupos | CQ11: 3800000 | CR11: $ - | CS11: 3800000 | CV11: TSTSB.4 | CW11: Más de 2001 cupos | CX11: 3000000 | CY11: 0 | CZ11: =CX11+CY11 -> 3000000 | DC11: TSTSB.4 | DD11: Más de 2001 cupos | DE11: =DE10 -> 877222.22 | DF11: =DE11*0.19 -> 166672.22 | DG11: =DE11+DF11 -> 1043894.4 | DJ11: TSTSB.4 | DK11: Más de 2001 cupos | DL11: =+MAX(F11,M11,T11,AA11,AH11,AO11,AV11,BC11,BJ11,BQ11,CE11,CL11,CS11,CZ11,DG11) -> 5700000 | DM11: =+MIN(F11,M11,T11,AA11,AH11,AO11,AV11,BC11,BJ11,BQ11,CE11,CL11,CS11,CZ11,DG11) -> 724137.93 | DN11: =+AVERAGE(F11,M11,T11,AA11,AH11,AO11,AV11,BC11,BJ11,BQ11,CE11,CL11,CS11,CZ11,DG11) -> 2704602 | DO11: =+TRIMMEAN((F11,M11,T11,AA11,AH11,AO11,AV11,BC11,BJ11,BQ11,CE11,CL11,CS11,CZ11,DG11),(2/15)) -> 2626530.2 | DP11: =+MEDIAN(F11,M11,T11,AA11,AH11,AO11,AV11,BC11,BJ11,BQ11,CE11,CL11,CS11,CZ11,DG11) -> 2400000 | DQ11: =IFERROR(MODE(F11,M11,T11,AA11,AH11,AO11,AV11,BC11,BJ11,BQ11,CE11,CL11,CS11,CZ11,DG11),"N/A") -> N/A | DR11: =+STDEV(F11,M11,T11,AA11,AH11,AO11,AV11,BC11,BJ11,BQ11,CE11,CL11,CS11,CZ11,DG11)/DN11 -> 0.56303926 | DS11: FUNDACIÓN UNIVERSITARIA COMPENSAR | DT11: UNIVERSIDAD DE LA SABANA
A12: Temática 1 | B12: Soporte técnico en sistemas | F12: Nivel | G12: Intermedio | I12: Soporte técnico en sistemas | M12: Nivel | N12: Intermedio | P12: Soporte técnico en sistemas | T12: Nivel | U12: Intermedio | W12: Soporte técnico en sistemas | AA12: Nivel | AB12: Intermedio | AD12: Soporte técnico en sistemas | AH12: Nivel | AI12: Intermedio | AK12: Soporte técnico en sistemas | AO12: Nivel | AP12: Intermedio | AR12: Soporte técnico en sistemas | AV12: Nivel | AW12: Intermedio | AY12: Soporte técnico en sistemas | BC12: Nivel | BD12: Intermedio | BF12: Soporte técnico en sistemas | BJ12: Nivel | BK12: Intermedio | BM12: Soporte técnico en sistemas | BQ12: Nivel | BR12: Intermedio | BT12: Soporte técnico en sistemas | BX12: Nivel | BY12: Intermedio | CA12: Soporte técnico en sistemas | CE12: Nivel | CF12: Intermedio | CH12: Soporte técnico en sistemas | CL12: Nivel | CM12: Intermedio | CO12: Soporte técnico en sistemas | CS12: Nivel | CT12: Intermedio | CV12: Soporte técnico en sistemas | CZ12: Nivel | DA12: Intermedio | DC12: Soporte técnico en sistemas | DG12: Nivel | DH12: Intermedio
A13: MODALIDAD:Híbrido | B13: COD. | C13: RANGOS | D13: VALOR UNITARIO (SIN IVA) | E13: IVA (SI APLICA) | F13: TOTAL | I13: COD. | J13: RANGOS | K13: VALOR UNITARIO (SIN IVA) | L13: IVA (SI APLICA) | M13: TOTAL | P13: COD. | Q13: RANGOS | R13: VALOR UNITARIO (SIN IVA) | S13: IVA (SI APLICA) | T13: TOTAL | W13: COD. | X13: RANGOS | Y13: VALOR UNITARIO (SIN IVA) | Z13: IVA (SI APLICA) | AA13: TOTAL | AD13: COD. | AE13: RANGOS | AF13: VALOR UNITARIO (SIN IVA) | AG13: IVA (SI APLICA) | AH13: TOTAL | AK13: COD. | AL13: RANGOS | AM13: VALOR UNITARIO (SIN IVA) | AN13: IVA (SI APLICA) | AO13: TOTAL | AR13: COD. | AS13: RANGOS | AT13: VALOR UNITARIO (SIN IVA) | AU13: IVA (SI APLICA) | AV13: TOTAL | AY13: COD. | AZ13: RANGOS | BA13: VALOR UNITARIO (SIN IVA) | BB13: IVA (SI APLICA) | BC13: TOTAL | BF13: COD. | BG13: RANGOS | BH13: VALOR UNITARIO (SIN IVA) | BI13: IVA (SI APLICA) | BJ13: TOTAL | BM13: COD. | BN13: RANGOS | BO13: VALOR UNITARIO (SIN IVA) | BP13: IVA (SI APLICA) | BQ13: TOTAL | BT13: COD. | BU13: RANGOS | BV13: VALOR UNITARIO (SIN IVA) | BW13: IVA (SI APLICA) | BX13: TOTAL | CA13: COD. | CB13: RANGOS | CC13: VALOR UNITARIO (SIN IVA) | CD13: IVA (SI APLICA) | CE13: TOTAL | CH13: COD. | CI13: RANGOS | CJ13: VALOR UNITARIO (SIN IVA) | CK13: IVA (SI APLICA) | CL13: TOTAL | CO13: COD. | CP13: RANGOS | CQ13: VALOR UNITARIO (SIN IVA) | CR13: IVA (SI APLICA) | CS13: TOTAL | CV13: COD. | CW13: RANGOS | CX13: VALOR UNITARIO (SIN IVA) | CY13: IVA (SI APLICA) | CZ13: TOTAL | DC13: COD. | DD13: RANGOS | DE13: VALOR UNITARIO (SIN IVA) | DF13: IVA (SI APLICA) | DG13: TOTAL | DJ13: COD. | DK13: RANGOS | DL13: Valor máximo | DM13: Valor mínimo | DN13: Promedio | DO13: Media Acotada | DP13: Mediana | DQ13: Moda | DS13: MAX | DT13: MIN
A14: Competencias técnicas: de 80 a 100 horas Habilidades socioemocionales: de 20 horas | B14: TSTSI.1 | C14: Hasta 700 cupos | D14: 3210000 | E14: =(D14*19)/100 -> 609900 | F14: =D14+E14 -> 3819900 | I14: TSTSI.1 | J14: Hasta 700 cupos | K14: 2662660 | L14: 0 | M14: =K14+L14 -> 2662660 | P14: TSTSI.1 | Q14: Hasta 700 cupos | R14: 2650000 | S14: 0 | T14: =+R14+S14 -> 2650000 | W14: TSTSI.1 | X14: Hasta 700 cupos | Y14: 1900000 | Z14: 0 | AA14: =Y14+Z14 -> 1900000 | AD14: TSTSI.1 | AE14: Hasta 700 cupos | AF14: 1730400 | AG14: 0 | AH14: =AF14+AG14 -> 1730400 | AK14: TSTSI.1 | AL14: Hasta 700 cupos | AM14: 770700000 | AN14: 0 | AO14: =+AM14/700 -> 1101000 | AR14: TSTSI.1 | AS14: Hasta 700 cupos | AT14: 1683425.5 | AU14: 0 | AV14: =AT14+AU14 -> 1683425.5 | AY14: TSTSI.1 | AZ14: Hasta 700 cupos | BA14: 4155580 | BB14: 0 | BC14: =BA14+BB14 -> 4155580 | BF14: TSTSI.1 | BG14: Hasta 700 cupos | BH14: 6790000 | BI14: 0 | BJ14: =BH14+BI14 -> 6790000 | BM14: TSTSI.1 | BN14: Hasta 700 cupos | BO14: 4306212.8 | BP14: 0 | BQ14: =BO14+BP14 -> 4306212.8 | BT14: TSTSI.1 | BU14: 175 cupos | BV14: 502442000 | BW14: 0 | BX14: =+BV14/175 -> 2871097.1 | CA14: TSTSI.1 | CB14: Hasta 700 cupos | CC14: 1800000 | CD14: =CC14*0.19 -> 342000 | CE14: =CC14+CD14 -> 2142000 | CH14: TSTSI.1 | CI14: Hasta 700 cupos | CJ14: 3000000 | CK14: 0 | CL14: =CJ14+CK14 -> 3000000 | CO14: TSTSI.1 | CP14: Hasta 700 cupos | CQ14: 5200000 | CR14: $ - | CS14: =+CQ14 -> 5200000 | CV14: TSTSI.1 | CW14: Hasta 700 cupos | CX14: 3000000 | CY14: 0 | CZ14: =CX14+CY14 -> 3000000 | DC14: TSTSI.1 | DD14: Hasta 700 cupos | DE14: =1165333.33333333*5/3 -> 1942222.2 | DF14: =DE14*0.19 -> 369022.22 | DG14: =DE14+DF14 -> 2311244.4 | DJ14: TSTSI.1 | DK14: Hasta 700 cupos | DL14: =+MAX(F14,M14,T14,AA14,AH14,AO14,AV14,BC14,BJ14,BQ14,BX14,CE14,CL14,CS14,CZ14,DG14) -> 6790000 | DM14: =+MIN(F14,M14,T14,AA14,AH14,AO14,AV14,BC14,BJ14,BQ14,BX14,CE14,CL14,CS14,CZ14,DG14) -> 1101000 | DN14: =+AVERAGE(F14,M14,T14,AA14,AH14,AO14,AV14,BC14,BJ14,BQ14,BX14,CE14,CL14,CS14,CZ14,DG14) -> 3082720 | DO14: =+TRIMMEAN((F14,M14,T14,AA14,AH14,AO14,AV14,BC14,BJ14,BQ14,BX14,CE14,CL14,CS14,CZ14,DG14),(2/16)) -> 2959465.7 | DP14: =+MEDIAN(F14,M14,T14,AA14,AH14,AO14,AV14,BC14,BJ14,BQ14,BX14,CE14,CL14,CS14,CZ14,DG14) -> 2766878.6 | DQ14: =IFERROR(MODE(F14,M14,T14,AA14,AH14,AO14,AV14,BC14,BJ14,BQ14,BX14,CE14,CL14,CS14,CZ14,DG14),"N/A") -> 3000000 | DR14: =+STDEV(F14,M14,T14,AA14,AH14,AO14,AV14,BC14,BJ14,BQ14,BX14,CE14,CL14,CS14,CZ14,DG14)/DN14 -> 0.47699744 | DS14: FUNDACIÓN UNIVERSITARIA COMPENSAR | DT14: UNIVERSIDAD DE LA SABANA
B15: TSTSI.2 | C15: Entre 701 y 1400 cupos | D15: 2252000 | E15: =(D15*19)/100 -> 427880 | F15: =D15+E15 -> 2679880 | I15: TSTSI.2 | J15: Entre 701 y 1400 cupos | K15: 2641358 | L15: 0 | M15: =K15+L15 -> 2641358 | P15: TSTSI.2 | Q15: Entre 701 y 1400 cupos | R15: 2590000 | S15: 0 | T15: =+R15+S15 -> 2590000 | W15: TSTSI.2 | X15: Entre 701 y 1400 cupos | Y15: 1085000 | Z15: 0 | AA15: =Y15+Z15 -> 1085000 | AD15: TSTSI.2 | AE15: Entre 701 y 1400 cupos | AF15: 1648600 | AG15: 0 | AH15: =AF15+AG15 -> 1648600 | AK15: TSTSI.2 | AL15: Entre 701 y 1400 cupos | AM15: 1397200000 | AN15: 0 | AO15: =+AM15/1400 -> 998000 | AR15: TSTSI.2 | AS15: Entre 701 y 1400 cupos | AT15: 1650417.1 | AU15: 0 | AV15: =AT15+AU15 -> 1650417.1 | AY15: TSTSI.2 | AZ15: Entre 701 y 1400 cupos | BA15: 4090442 | BB15: 0 | BC15: =BA15+BB15 -> 4090442 | BF15: TSTSI.2 | BG15: Entre 701 y 1400 cupos | BH15: 5800000 | BI15: 0 | BJ15: =BH15+BI15 -> 5800000 | BM15: TSTSI.2 | BN15: Entre 701 y 1400 cupos | BO15: 4238787.9 | BP15: 0 | BQ15: =BO15+BP15 -> 4238787.9 | BT15: TSTSI.2 | BU15: Entre 701 y 1400 cupos | BV15: 0 | BW15: 0 | BX15: =BV15+BW15 -> 0 | CA15: TSTSI.2 | CB15: Entre 701 y 1400 cupos | CC15: 1700000 | CD15: =CC15*0.19 -> 323000 | CE15: =CC15+CD15 -> 2023000 | CH15: TSTSI.2 | CI15: Entre 701 y 1400 cupos | CJ15: 2800000 | CK15: 0 | CL15: =CJ15+CK15 -> 2800000 | CO15: TSTSI.2 | CP15: Entre 701 y 1400 cupos | CQ15: 4400000 | CR15: $ - | CS15: 4400000 | CV15: TSTSI.2 | CW15: Entre 701 y 1400 cupos | CX15: 3000000 | CY15: 0 | CZ15: =CX15+CY15 -> 3000000 | DC15: TSTSI.2 | DD15: Entre 701 y 1400 cupos | DE15: =526333.333333333*5/3 -> 877222.22 | DF15: =DE15*0.19 -> 166672.22 | DG15: =DE15+DF15 -> 1043894.4 | DJ15: TSTSI.2 | DK15: Entre 701 y 1400 cupos | DL15: =+MAX(F15,M15,T15,AA15,AH15,AO15,AV15,BC15,BJ15,BQ15,CE15,CL15,CS15,CZ15,DG15) -> 5800000 | DM15: =+MIN(F15,M15,T15,AA15,AH15,AO15,AV15,BC15,BJ15,BQ15,CE15,CL15,CS15,CZ15,DG15) -> 998000 | DN15: =+AVERAGE(F15,M15,T15,AA15,AH15,AO15,AV15,BC15,BJ15,BQ15,CE15,CL15,CS15,CZ15,DG15) -> 2712625.3 | DO15: =+TRIMMEAN((F15,M15,T15,AA15,AH15,AO15,AV15,BC15,BJ15,BQ15,CE15,CL15,CS15,CZ15,DG15),(2/15)) -> 2607029.2 | DP15: =+MEDIAN(F15,M15,T15,AA15,AH15,AO15,AV15,BC15,BJ15,BQ15,CE15,CL15,CS15,CZ15,DG15) -> 2641358 | DQ15: =IFERROR(MODE(F15,M15,T15,AA15,AH15,AO15,AV15,BC15,BJ15,BQ15,CE15,CL15,CS15,CZ15,DG15),"N/A") -> N/A | DR15: =+STDEV(F15,M15,T15,AA15,AH15,AO15,AV15,BC15,BJ15,BQ15,CE15,CL15,CS15,CZ15,DG15)/DN15 -> 0.51973992 | DS15: FUNDACIÓN UNIVERSITARIA COMPENSAR | DT15: UNIVERSIDAD DE LA SABANA
B16: TSTSI.3 | C16: Entre 1401 y 2000 cupos | D16: 1916000 | E16: =(D16*19)/100 -> 364040 | F16: =D16+E16 -> 2280040 | I16: TSTSI.3 | J16: Entre 1401 y 2000 cupos | K16: 2633370 | L16: 0 | M16: =K16+L16 -> 2633370 | P16: TSTSI.3 | Q16: Entre 1401 y 2000 cupos | R16: 2470000 | S16: 0 | T16: =+R16+S16 -> 2470000 | W16: TSTSI.3 | X16: Entre 1401 y 2000 cupos | Y16: 1714750 | Z16: 0 | AA16: =Y16+Z16 -> 1714750 | AD16: TSTSI.3 | AE16: Entre 1401 y 2000 cupos | AF16: 1566900 | AG16: 0 | AH16: =AF16+AG16 -> 1566900 | AK16: TSTSI.3 | AL16: Entre 1401 y 2000 cupos | AM16: 1449000000 | AN16: 0 | AO16: =+AM16/2000 -> 724500 | AR16: TSTSI.3 | AS16: Entre 1401 y 2000 cupos | AT16: 1634393.7 | AU16: 0 | AV16: =AT16+AU16 -> 1634393.7 | AY16: TSTSI.3 | AZ16: Entre 1401 y 2000 cupos | BA16: 4017295 | BB16: 0 | BC16: =BA16+BB16 -> 4017295 | BF16: TSTSI.3 | BG16: Entre 1401 y 2000 cupos | BH16: 5800000 | BI16: 0 | BJ16: =BH16+BI16 -> 5800000 | BM16: TSTSI.3 | BN16: Entre 1401 y 2000 cupos | BO16: 4162944.7 | BP16: 0 | BQ16: =BO16+BP16 -> 4162944.7 | BT16: TSTSI.3 | BU16: Entre 1401 y 2000 cupos | BV16: 0 | BW16: 0 | BX16: =BV16+BW16 -> 0 | CA16: TSTSI.3 | CB16: Entre 1401 y 2000 cupos | CC16: 1600000 | CD16: =CC16*0.19 -> 304000 | CE16: =CC16+CD16 -> 1904000 | CH16: TSTSI.3 | CI16: Entre 1401 y 2000 cupos | CJ16: 2720000 | CK16: 0 | CL16: =CJ16+CK16 -> 2720000 | CO16: TSTSI.3 | CP16: Entre 1401 y 2000 cupos | CQ16: 4000000 | CR16: $ - | CS16: 4000000 | CV16: TSTSI.3 | CW16: Entre 1401 y 2000 cupos | CX16: 3000000 | CY16: 0 | CZ16: =CX16+CY16 -> 3000000 | DC16: TSTSI.3 | DD16: Entre 1401 y 2000 cupos | DE16: =DE15 -> 877222.22 | DF16: =DE16*0.19 -> 166672.22 | DG16: =DE16+DF16 -> 1043894.4 | DJ16: TSTSI.3 | DK16: Entre 1401 y 2000 cupos | DL16: =+MAX(F16,M16,T16,AA16,AH16,AO16,AV16,BC16,BJ16,BQ16,CE16,CL16,CS16,CZ16,DG16) -> 5800000 | DM16: =+MIN(F16,M16,T16,AA16,AH16,AO16,AV16,BC16,BJ16,BQ16,CE16,CL16,CS16,CZ16,DG16) -> 724500 | DN16: =+AVERAGE(F16,M16,T16,AA16,AH16,AO16,AV16,BC16,BJ16,BQ16,CE16,CL16,CS16,CZ16,DG16) -> 2644805.9 | DO16: =+TRIMMEAN((F16,M16,T16,AA16,AH16,AO16,AV16,BC16,BJ16,BQ16,CE16,CL16,CS16,CZ16,DG16),(2/15)) -> 2549814.4 | DP16: =+MEDIAN(F16,M16,T16,AA16,AH16,AO16,AV16,BC16,BJ16,BQ16,CE16,CL16,CS16,CZ16,DG16) -> 2470000 | DQ16: =IFERROR(MODE(F16,M16,T16,AA16,AH16,AO16,AV16,BC16,BJ16,BQ16,CE16,CL16,CS16,CZ16,DG16),"N/A") -> N/A | DR16: =+STDEV(F16,M16,T16,AA16,AH16,AO16,AV16,BC16,BJ16,BQ16,CE16,CL16,CS16,CZ16,DG16)/DN16 -> 0.5164796 | DS16: FUNDACIÓN UNIVERSITARIA COMPENSAR | DT16: UNIVERSIDAD DE LA SABANA
B17: TSTSI.4 | C17: Más de 2001 cupos | D17: 1854000 | E17: =(D17*19)/100 -> 352260 | F17: =D17+E17 -> 2206260 | I17: TSTSI.4 | J17: Más de 2001 cupos | K17: 2582780 | L17: 0 | M17: =K17+L17 -> 2582780 | P17: TSTSI.4 | Q17: Más de 2001 cupos | R17: 2400000 | S17: 0 | T17: =+R17+S17 -> 2400000 | W17: TSTSI.4 | X17: Más de 2001 cupos | Y17: 1627012 | Z17: 0 | AA17: =Y17+Z17 -> 1627012 | AD17: TSTSI.4 | AE17: Más de 2001 cupos | AF17: 1534200 | AG17: 0 | AH17: =AF17+AG17 -> 1534200 | AK17: TSTSI.4 | AL17: Más de 2001 cupos | AM17: 1449000000 | AN17: 0 | AO17: =+AM17/2001 -> 724137.93 | AR17: TSTSI.4 | AS17: Más de 2001 cupos | AT17: 1618678.4 | AU17: 0 | AV17: =AT17+AU17 -> 1618678.4 | AY17: TSTSI.4 | AZ17: Más de 2001 cupos | BA17: 3927550 | BB17: 0 | BC17: =BA17+BB17 -> 3927550 | BF17: TSTSI.4 | BG17: Más de 2001 cupos | BH17: 5700000 | BI17: 0 | BJ17: =BH17+BI17 -> 5700000 | BM17: TSTSI.4 | BN17: Más de 2001 cupos | BO17: 4069996 | BP17: 0 | BQ17: =BO17+BP17 -> 4069996 | BT17: TSTSI.4 | BU17: Más de 2001 cupos | BV17: 0 | BW17: 0 | BX17: =BV17+BW17 -> 0 | CA17: TSTSI.4 | CB17: Más de 2001 cupos | CC17: 1500000 | CD17: =CC17*0.19 -> 285000 | CE17: =CC17+CD17 -> 1785000 | CH17: TSTSI.4 | CI17: Más de 2001 cupos | CJ17: 2700000 | CK17: 0 | CL17: =CJ17+CK17 -> 2700000 | CO17: TSTSI.4 | CP17: Más de 2001 cupos | CQ17: 3800000 | CR17: $ - | CS17: 3800000 | CV17: TSTSI.4 | CW17: Más de 2001 cupos | CX17: 3000000 | CY17: 0 | CZ17: =CX17+CY17 -> 3000000 | DC17: TSTSI.4 | DD17: Más de 2001 cupos | DE17: =DE16 -> 877222.22 | DF17: =DE17*0.19 -> 166672.22 | DG17: =DE17+DF17 -> 1043894.4 | DJ17: TSTSI.4 | DK17: Más de 2001 cupos | DL17: =+MAX(F17,M17,T17,AA17,AH17,AO17,AV17,BC17,BJ17,BQ17,CE17,CL17,CS17,CZ17,DG17) -> 5700000 | DM17: =+MIN(F17,M17,T17,AA17,AH17,AO17,AV17,BC17,BJ17,BQ17,CE17,CL17,CS17,CZ17,DG17) -> 724137.93 | DN17: =+AVERAGE(F17,M17,T17,AA17,AH17,AO17,AV17,BC17,BJ17,BQ17,CE17,CL17,CS17,CZ17,DG17) -> 2581300.6 | DO17: =+TRIMMEAN((F17,M17,T17,AA17,AH17,AO17,AV17,BC17,BJ17,BQ17,CE17,CL17,CS17,CZ17,DG17),(2/15)) -> 2484259.3 | DP17: =+MEDIAN(F17,M17,T17,AA17,AH17,AO17,AV17,BC17,BJ17,BQ17,CE17,CL17,CS17,CZ17,DG17) -> 2400000 | DQ17: =IFERROR(MODE(F17,M17,T17,AA17,AH17,AO17,AV17,BC17,BJ17,BQ17,CE17,CL17,CS17,CZ17,DG17),"N/A") -> N/A | DR17: =+STDEV(F17,M17,T17,AA17,AH17,AO17,AV17,BC17,BJ17,BQ17,CE17,CL17,CS17,CZ17,DG17)/DN17 -> 0.51751668 | DS17: FUNDACIÓN UNIVERSITARIA COMPENSAR | DT17: UNIVERSIDAD DE LA SABANA
A18: Temática 1 | B18: Soporte técnico en sistemas | F18: Nivel | G18: Avanzado | I18: Soporte técnico en sistemas | M18: Nivel | N18: Avanzado | P18: Soporte técnico en sistemas | T18: Nivel | U18: Avanzado | W18: Soporte técnico en sistemas | AA18: Nivel | AB18: Avanzado | AD18: Soporte técnico en sistemas | AH18: Nivel | AI18: Avanzado | AK18: Soporte técnico en sistemas | AO18: Nivel | AP18: Avanzado | AR18: Soporte técnico en sistemas | AV18: Nivel | AW18: Avanzado | AY18: Soporte técnico en sistemas | BC18: Nivel | BD18: Avanzado | BF18: Soporte técnico en sistemas | BJ18: Nivel | BK18: Avanzado | BM18: Soporte técnico en sistemas | BQ18: Nivel | BR18: Avanzado | BT18: Soporte técnico en sistemas | BX18: Nivel | BY18: Avanzado | CA18: Soporte técnico en sistemas | CE18: Nivel | CF18: Avanzado | CH18: Soporte técnico en sistemas | CL18: Nivel | CM18: Avanzado | CO18: Soporte técnico en sistemas | CS18: Nivel | CT18: Avanzado | CV18: Soporte técnico en sistemas | CZ18: Nivel | DA18: Avanzado | DC18: Soporte técnico en sistemas | DG18: Nivel | DH18: Avanzado
A19: MODALIDAD: Híbrido | B19: COD. | C19: RANGOS | D19: VALOR UNITARIO (SIN IVA) | E19: IVA (SI APLICA) | F19: TOTAL | I19: COD. | J19: RANGOS | K19: VALOR UNITARIO (SIN IVA) | L19: IVA (SI APLICA) | M19: TOTAL | P19: COD. | Q19: RANGOS | R19: VALOR UNITARIO (SIN IVA) | S19: IVA (SI APLICA) | T19: TOTAL | W19: COD. | X19: RANGOS | Y19: VALOR UNITARIO (SIN IVA) | Z19: IVA (SI APLICA) | AA19: TOTAL | AD19: COD. | AE19: RANGOS | AF19: VALOR UNITARIO (SIN IVA) | AG19: IVA (SI APLICA) | AH19: TOTAL | AK19: COD. | AL19: RANGOS | AM19: VALOR UNITARIO (SIN IVA) | AN19: IVA (SI APLICA) | AO19: TOTAL | AR19: COD. | AS19: RANGOS | AT19: VALOR UNITARIO (SIN IVA) | AU19: IVA (SI APLICA) | AV19: TOTAL | AY19: COD. | AZ19: RANGOS | BA19: VALOR UNITARIO (SIN IVA) | BB19: IVA (SI APLICA) | BC19: TOTAL | BF19: COD. | BG19: RANGOS | BH19: VALOR UNITARIO (SIN IVA) | BI19: IVA (SI APLICA) | BJ19: TOTAL | BM19: COD. | BN19: RANGOS | BO19: VALOR UNITARIO (SIN IVA) | BP19: IVA (SI APLICA) | BQ19: TOTAL | BT19: COD. | BU19: RANGOS | BV19: VALOR UNITARIO (SIN IVA) | BW19: IVA (SI APLICA) | BX19: TOTAL | CA19: COD. | CB19: RANGOS | CC19: VALOR UNITARIO (SIN IVA) | CD19: IVA (SI APLICA) | CE19: TOTAL | CH19: COD. | CI19: RANGOS | CJ19: VALOR UNITARIO (SIN IVA) | CK19: IVA (SI APLICA) | CL19: TOTAL | CO19: COD. | CP19: RANGOS | CQ19: VALOR UNITARIO (SIN IVA) | CR19: IVA (SI APLICA) | CS19: TOTAL | CV19: COD. | CW19: RANGOS | CX19: VALOR UNITARIO (SIN IVA) | CY19: IVA (SI APLICA) | CZ19: TOTAL | DC19: COD. | DD19: RANGOS | DE19: VALOR UNITARIO (SIN IVA) | DF19: IVA (SI APLICA) | DG19: TOTAL | DJ19: COD. | DK19: RANGOS | DL19: Valor máximo | DM19: Valor mínimo | DN19: Promedio | DO19: Media Acotada | DP19: Mediana | DQ19: Moda | DS19: MAX | DT19: MIN
A20: Competencias técnicas: de 80 a 100 horas Habilidades socioemocionales: de 20 horas | B20: TSTSA.1 | C20: Hasta 700 cupos | D20: 3210000 | E20: =(D20*19)/100 -> 609900 | F20: =D20+E20 -> 3819900 | I20: TSTSA.1 | J20: Hasta 700 cupos | K20: 2801118 | L20: 0 | M20: =K20+L20 -> 2801118 | P20: TSTSA.1 | Q20: Hasta 700 cupos | R20: 2650000 | S20: 0 | T20: =+R20+S20 -> 2650000 | W20: TSTSA.1 | X20: Hasta 700 cupos | Y20: 1900000 | Z20: 0 | AA20: =Y20+Z20 -> 1900000 | AD20: TSTSA.1 | AE20: Hasta 700 cupos | AF20: 1730400 | AG20: 0 | AH20: =AF20+AG20 -> 1730400 | AK20: TSTSA.1 | AL20: Hasta 700 cupos | AM20: 770700000 | AN20: 0 | AO20: =+AM20/700 -> 1101000 | AR20: TSTSA.1 | AS20: Hasta 700 cupos | AT20: 1700259.7 | AU20: 0 | AV20: =AT20+AU20 -> 1700259.7 | AY20: TSTSA.1 | AZ20: Hasta 700 cupos | BA20: 4073651 | BB20: 0 | BC20: =BA20+BB20 -> 4073651 | BF20: TSTSA.1 | BG20: Hasta 700 cupos | BH20: 6790000 | BI20: 0 | BJ20: =BH20+BI20 -> 6790000 | BM20: TSTSA.1 | BN20: Hasta 700 cupos | BO20: 4221355.5 | BP20: 0 | BQ20: =BO20+BP20 -> 4221355.5 | BT20: TSTSA.1 | BU20: 70 cupos | BV20: 128098000 | BW20: 0 | BX20: =+BV20/70 -> 1829971.4 | CA20: TSTSA.1 | CB20: Hasta 700 cupos | CC20: 1800000 | CD20: =CC20*0.19 -> 342000 | CE20: =CC20+CD20 -> 2142000 | CH20: TSTSA.1 | CI20: Hasta 700 cupos | CJ20: 3000000 | CK20: 0 | CL20: =CJ20+CK20 -> 3000000 | CO20: TSTSA.1 | CP20: Hasta 700 cupos | CQ20: 5200000 | CR20: $ - | CS20: =+CQ20 -> 5200000 | CV20: TSTSA.1 | CW20: Hasta 700 cupos | CX20: 3000000 | CY20: 0 | CZ20: =CX20+CY20 -> 3000000 | DC20: TSTSA.1 | DD20: Hasta 700 cupos | DE20: =1165333.33333333*5/3 -> 1942222.2 | DF20: =DE20*0.19 -> 369022.22 | DG20: =DE20+DF20 -> 2311244.4 | DJ20: TSTSA.1 | DK20: Hasta 700 cupos | DL20: =+MAX(F20,M20,T20,AA20,AH20,AO20,AV20,BC20,BJ20,BQ20,BX20,CE20,CL20,CS20,CZ20,DG20) -> 6790000 | DM20: =+MIN(F20,M20,T20,AA20,AH20,AO20,AV20,BC20,BJ20,BQ20,BX20,CE20,CL20,CS20,CZ20,DG20) -> 1101000 | DN20: =+AVERAGE(F20,M20,T20,AA20,AH20,AO20,AV20,BC20,BJ20,BQ20,BX20,CE20,CL20,CS20,CZ20,DG20) -> 3016931.3 | DO20: =+TRIMMEAN((F20,M20,T20,AA20,AH20,AO20,AV20,BC20,BJ20,BQ20,BX20,CE20,CL20,CS20,CZ20,DG20),(2/16)) -> 2884278.6 | DP20: =+MEDIAN(F20,M20,T20,AA20,AH20,AO20,AV20,BC20,BJ20,BQ20,BX20,CE20,CL20,CS20,CZ20,DG20) -> 2725559 | DQ20: =IFERROR(MODE(F20,M20,T20,AA20,AH20,AO20,AV20,BC20,BJ20,BQ20,BX20,CE20,CL20,CS20,CZ20,DG20),"N/A") -> 3000000 | DR20: =+STDEV(F20,M20,T20,AA20,AH20,AO20,AV20,BC20,BJ20,BQ20,BX20,CE20,CL20,CS20,CZ20,DG20)/DN20 -> 0.49442527 | DS20: FUNDACIÓN UNIVERSITARIA COMPENSAR | DT20: UNIVERSIDAD DE LA SABANA
B21: TSTSA.2 | C21: Entre 701 y 1400 cupos | D21: 2252000 | E21: =(D21*19)/100 -> 427880 | F21: =D21+E21 -> 2679880 | I21: TSTSA.2 | J21: Entre 701 y 1400 cupos | K21: 2778708 | L21: 0 | M21: =K21+L21 -> 2778708 | P21: TSTSA.2 | Q21: Entre 701 y 1400 cupos | R21: 2590000 | S21: 0 | T21: =+R21+S21 -> 2590000 | W21: TSTSA.2 | X21: Entre 701 y 1400 cupos | Y21: 1085000 | Z21: 0 | AA21: =Y21+Z21 -> 1085000 | AD21: TSTSA.2 | AE21: Entre 701 y 1400 cupos | AF21: 1648600 | AG21: 0 | AH21: =AF21+AG21 -> 1648600 | AK21: TSTSA.2 | AL21: Entre 701 y 1400 cupos | AM21: 1397200000 | AN21: 0 | AO21: =+AM21/1400 -> 998000 | AR21: TSTSA.2 | AS21: Entre 701 y 1400 cupos | AT21: 1683425.5 | AU21: 0 | AV21: =AT21+AU21 -> 1683425.5 | AY21: TSTSA.2 | AZ21: Entre 701 y 1400 cupos | BA21: 4013435 | BB21: 0 | BC21: =BA21+BB21 -> 4013435 | BF21: TSTSA.2 | BG21: Entre 701 y 1400 cupos | BH21: 5800000 | BI21: 0 | BJ21: =BH21+BI21 -> 5800000 | BM21: TSTSA.2 | BN21: Entre 701 y 1400 cupos | BO21: 4158909.4 | BP21: 0 | BQ21: =BO21+BP21 -> 4158909.4 | BT21: TSTSA.2 | BU21: Entre 701 y 1400 cupos | BV21: 0 | BW21: 0 | BX21: =BV21+BW21 -> 0 | CA21: TSTSA.2 | CB21: Entre 701 y 1400 cupos | CC21: 1700000 | CD21: =CC21*0.19 -> 323000 | CE21: =CC21+CD21 -> 2023000 | CH21: TSTSA.2 | CI21: Entre 701 y 1400 cupos | CJ21: 2800000 | CK21: 0 | CL21: =CJ21+CK21 -> 2800000 | CO21: TSTSA.2 | CP21: Entre 701 y 1400 cupos | CQ21: 4400000 | CR21: $ - | CS21: 4400000 | CV21: TSTSA.2 | CW21: Entre 701 y 1400 cupos | CX21: 3000000 | CY21: 0 | CZ21: =CX21+CY21 -> 3000000 | DC21: TSTSA.2 | DD21: Entre 701 y 1400 cupos | DE21: =526333.333333333*5/3 -> 877222.22 | DF21: =DE21*0.19 -> 166672.22 | DG21: =DE21+DF21 -> 1043894.4 | DJ21: TSTSA.2 | DK21: Entre 701 y 1400 cupos | DL21: =+MAX(F21,M21,T21,AA21,AH21,AO21,AV21,BC21,BJ21,BQ21,CE21,CL21,CS21,CZ21,DG21) -> 5800000 | DM21: =+MIN(F21,M21,T21,AA21,AH21,AO21,AV21,BC21,BJ21,BQ21,CE21,CL21,CS21,CZ21,DG21) -> 998000 | DN21: =+AVERAGE(F21,M21,T21,AA21,AH21,AO21,AV21,BC21,BJ21,BQ21,CE21,CL21,CS21,CZ21,DG21) -> 2713523.5 | DO21: =+TRIMMEAN((F21,M21,T21,AA21,AH21,AO21,AV21,BC21,BJ21,BQ21,CE21,CL21,CS21,CZ21,DG21),(2/15)) -> 2608065.6 | DP21: =+MEDIAN(F21,M21,T21,AA21,AH21,AO21,AV21,BC21,BJ21,BQ21,CE21,CL21,CS21,CZ21,DG21) -> 2679880 | DQ21: =IFERROR(MODE(F21,M21,T21,AA21,AH21,AO21,AV21,BC21,BJ21,BQ21,CE21,CL21,CS21,CZ21,DG21),"N/A") -> N/A | DR21: =+STDEV(F21,M21,T21,AA21,AH21,AO21,AV21,BC21,BJ21,BQ21,CE21,CL21,CS21,CZ21,DG21)/DN21 -> 0.51475216 | DS21: FUNDACIÓN UNIVERSITARIA COMPENSAR | DT21: UNIVERSIDAD DE LA SABANA
B22: TSTSA.3 | C22: Entre 1401 y 2000 cupos | D22: 1916000 | E22: =(D22*19)/100 -> 364040 | F22: =D22+E22 -> 2280040 | I22: TSTSA.3 | J22: Entre 1401 y 2000 cupos | K22: 2770305 | L22: 0 | M22: =K22+L22 -> 2770305 | P22: TSTSA.3 | Q22: Entre 1401 y 2000 cupos | R22: 2470000 | S22: 0 | T22: =+R22+S22 -> 2470000 | W22: TSTSA.3 | X22: Entre 1401 y 2000 cupos | Y22: 1714750 | Z22: 0 | AA22: =Y22+Z22 -> 1714750 | AD22: TSTSA.3 | AE22: Entre 1401 y 2000 cupos | AF22: 1566900 | AG22: 0 | AH22: =AF22+AG22 -> 1566900 | AK22: TSTSA.3 | AL22: Entre 1401 y 2000 cupos | AM22: 1449000000 | AN22: 0 | AO22: =+AM22/2000 -> 724500 | AR22: TSTSA.3 | AS22: Entre 1401 y 2000 cupos | AT22: 1666921.3 | AU22: 0 | AV22: =AT22+AU22 -> 1666921.3 | AY22: TSTSA.3 | AZ22: Entre 1401 y 2000 cupos | BA22: 3946947 | BB22: 0 | BC22: =BA22+BB22 -> 3946947 | BF22: TSTSA.3 | BG22: Entre 1401 y 2000 cupos | BH22: 5800000 | BI22: 0 | BJ22: =BH22+BI22 -> 5800000 | BM22: TSTSA.3 | BN22: Entre 1401 y 2000 cupos | BO22: 4090082.3 | BP22: 0 | BQ22: =BO22+BP22 -> 4090082.3 | BT22: TSTSA.3 | BU22: Entre 1401 y 2000 cupos | BV22: 0 | BW22: 0 | BX22: =BV22+BW22 -> 0 | CA22: TSTSA.3 | CB22: Entre 1401 y 2000 cupos | CC22: 1600000 | CD22: =CC22*0.19 -> 304000 | CE22: =CC22+CD22 -> 1904000 | CH22: TSTSA.3 | CI22: Entre 1401 y 2000 cupos | CJ22: 2720000 | CK22: 0 | CL22: =CJ22+CK22 -> 2720000 | CO22: TSTSA.3 | CP22: Entre 1401 y 2000 cupos | CQ22: 4000000 | CR22: $ - | CS22: 4000000 | CV22: TSTSA.3 | CW22: Entre 1401 y 2000 cupos | CX22: 3000000 | CY22: 0 | CZ22: =CX22+CY22 -> 3000000 | DC22: TSTSA.3 | DD22: Entre 1401 y 2000 cupos | DE22: =DE21 -> 877222.22 | DF22: =DE22*0.19 -> 166672.22 | DG22: =DE22+DF22 -> 1043894.4 | DJ22: TSTSA.3 | DK22: Entre 1401 y 2000 cupos | DL22: =+MAX(F22,M22,T22,AA22,AH22,AO22,AV22,BC22,BJ22,BQ22,CE22,CL22,CS22,CZ22,DG22) -> 5800000 | DM22: =+MIN(F22,M22,T22,AA22,AH22,AO22,AV22,BC22,BJ22,BQ22,CE22,CL22,CS22,CZ22,DG22) -> 724500 | DN22: =+AVERAGE(F22,M22,T22,AA22,AH22,AO22,AV22,BC22,BJ22,BQ22,CE22,CL22,CS22,CZ22,DG22) -> 2646556 | DO22: =+TRIMMEAN((F22,M22,T22,AA22,AH22,AO22,AV22,BC22,BJ22,BQ22,CE22,CL22,CS22,CZ22,DG22),(2/15)) -> 2551833.9 | DP22: =+MEDIAN(F22,M22,T22,AA22,AH22,AO22,AV22,BC22,BJ22,BQ22,CE22,CL22,CS22,CZ22,DG22) -> 2470000 | DQ22: =IFERROR(MODE(F22,M22,T22,AA22,AH22,AO22,AV22,BC22,BJ22,BQ22,CE22,CL22,CS22,CZ22,DG22),"N/A") -> N/A | DR22: =+STDEV(F22,M22,T22,AA22,AH22,AO22,AV22,BC22,BJ22,BQ22,CE22,CL22,CS22,CZ22,DG22)/DN22 -> 0.51164152 | DS22: FUNDACIÓN UNIVERSITARIA COMPENSAR | DT22: UNIVERSIDAD DE LA SABANA
B23: TSTSA.4 | C23: Más de 2001 cupos | D23: 1854000 | E23: =(D23*19)/100 -> 352260 | F23: =D23+E23 -> 2206260 | I23: TSTSA.4 | J23: Más de 2001 cupos | K23: 2717084 | L23: 0 | M23: =K23+L23 -> 2717084 | P23: TSTSA.4 | Q23: Más de 2001 cupos | R23: 2400000 | S23: 0 | T23: =+R23+S23 -> 2400000 | W23: TSTSA.4 | X23: Más de 2001 cupos | Y23: 1627012 | Z23: 0 | AA23: =Y23+Z23 -> 1627012 | AD23: TSTSA.4 | AE23: Más de 2001 cupos | AF23: 1534200 | AG23: 0 | AH23: =AF23+AG23 -> 1534200 | AK23: TSTSA.4 | AL23: Más de 2001 cupos | AM23: 1449000000 | AN23: 0 | AO23: =+AM23/2001 -> 724137.93 | AR23: TSTSA.4 | AS23: Más de 2001 cupos | AT23: 1650737.6 | AU23: 0 | AV23: =AT23+AU23 -> 1650737.6 | AY23: TSTSA.4 | AZ23: Más de 2001 cupos | BA23: 3865597 | BB23: 0 | BC23: =BA23+BB23 -> 3865597 | BF23: TSTSA.4 | BG23: Más de 2001 cupos | BH23: 5700000 | BI23: 0 | BJ23: =BH23+BI23 -> 5700000 | BM23: TSTSA.4 | BN23: Más de 2001 cupos | BO23: 4005731.9 | BP23: 0 | BQ23: =BO23+BP23 -> 4005731.9 | BT23: TSTSA.4 | BU23: Más de 2001 cupos | BV23: 0 | BW23: 0 | BX23: =BV23+BW23 -> 0 | CA23: TSTSA.4 | CB23: Más de 2001 cupos | CC23: 1500000 | CD23: =CC23*0.19 -> 285000 | CE23: =CC23+CD23 -> 1785000 | CH23: TSTSA.4 | CI23: Más de 2001 cupos | CJ23: 2700000 | CK23: 0 | CL23: =CJ23+CK23 -> 2700000 | CO23: TSTSA.4 | CP23: Más de 2001 cupos | CQ23: 3800000 | CR23: $ - | CS23: 3800000 | CV23: TSTSA.4 | CW23: Más de 2001 cupos | CX23: 3000000 | CY23: 0 | CZ23: =CX23+CY23 -> 3000000 | DC23: TSTSA.4 | DD23: Más de 2001 cupos | DE23: =DE22 -> 877222.22 | DF23: =DE23*0.19 -> 166672.22 | DG23: =DE23+DF23 -> 1043894.4 | DJ23: TSTSA.4 | DK23: Más de 2001 cupos | DL23: =+MAX(F23,M23,T23,AA23,AH23,AO23,AV23,BC23,BJ23,BQ23,CE23,CL23,CS23,CZ23,DG23) -> 5700000 | DM23: =+MIN(F23,M23,T23,AA23,AH23,AO23,AV23,BC23,BJ23,BQ23,CE23,CL23,CS23,CZ23,DG23) -> 724137.93 | DN23: =+AVERAGE(F23,M23,T23,AA23,AH23,AO23,AV23,BC23,BJ23,BQ23,CE23,CL23,CS23,CZ23,DG23) -> 2583977 | DO23: =+TRIMMEAN((F23,M23,T23,AA23,AH23,AO23,AV23,BC23,BJ23,BQ23,CE23,CL23,CS23,CZ23,DG23),(2/15)) -> 2487347.5 | DP23: =+MEDIAN(F23,M23,T23,AA23,AH23,AO23,AV23,BC23,BJ23,BQ23,CE23,CL23,CS23,CZ23,DG23) -> 2400000 | DQ23: =IFERROR(MODE(F23,M23,T23,AA23,AH23,AO23,AV23,BC23,BJ23,BQ23,CE23,CL23,CS23,CZ23,DG23),"N/A") -> N/A | DR23: =+STDEV(F23,M23,T23,AA23,AH23,AO23,AV23,BC23,BJ23,BQ23,CE23,CL23,CS23,CZ23,DG23)/DN23 -> 0.51290312 | DS23: FUNDACIÓN UNIVERSITARIA COMPENSAR | DT23: UNIVERSIDAD DE LA SABANA
A24: Temática 2 | B24: Analista de sistemas informáticos | F24: Nivel | G24: Básico | I24: Analista de sistemas informáticos | M24: Nivel | N24: Básico | P24: Analista de sistemas informáticos | T24: Nivel | U24: Básico | W24: Analista de sistemas informáticos | AA24: Nivel | AB24: Básico | AD24: Analista de sistemas informáticos | AH24: Nivel | AI24: Básico | AK24: Analista de sistemas informáticos | AO24: Nivel | AP24: Básico | AR24: Analista de sistemas informáticos | AV24: Nivel | AW24: Básico | AY24: Analista de sistemas informáticos | BC24: Nivel | BD24: Básico | BJ24: Nivel | BK24: Básico | BM24: Analista de sistemas informáticos | BQ24: Nivel | BR24: Básico | BT24: Analista de sistemas informáticos | BX24: Nivel | BY24: Básico | CA24: Analista de sistemas informáticos | CE24: Nivel | CF24: Básico | CH24: Analista de sistemas informáticos | CL24: Nivel | CM24: Básico | CO24: Analista de sistemas informáticos | CS24: Nivel | CT24: Básico | CV24: Analista de sistemas informáticos | CZ24: Nivel | DA24: Básico | DC24: Analista de sistemas informáticos | DG24: Nivel | DH24: Básico
A25: MODALIDAD: Híbrido | B25: COD. | C25: RANGOS | D25: VALOR UNITARIO (SIN IVA) | E25: IVA (SI APLICA) | F25: TOTAL | I25: COD. | J25: RANGOS | K25: VALOR UNITARIO (SIN IVA) | L25: IVA (SI APLICA) | M25: TOTAL | P25: COD. | Q25: RANGOS | R25: VALOR UNITARIO (SIN IVA) | S25: IVA (SI APLICA) | T25: TOTAL | W25: COD. | X25: RANGOS | Y25: VALOR UNITARIO (SIN IVA) | Z25: IVA (SI APLICA) | AA25: TOTAL | AD25: COD. | AE25: RANGOS | AF25: VALOR UNITARIO (SIN IVA) | AG25: IVA (SI APLICA) | AH25: TOTAL | AK25: COD. | AL25: RANGOS | AM25: VALOR UNITARIO (SIN IVA) | AN25: IVA (SI APLICA) | AO25: TOTAL | AR25: COD. | AS25: RANGOS | AT25: VALOR UNITARIO (SIN IVA) | AU25: IVA (SI APLICA) | AV25: TOTAL | AY25: COD. | AZ25: RANGOS | BA25: VALOR UNITARIO (SIN IVA) | BB25: IVA (SI APLICA) | BC25: TOTAL | BF25: COD. | BG25: RANGOS | BH25: VALOR UNITARIO (SIN IVA) | BI25: IVA (SI APLICA) | BJ25: TOTAL | BM25: COD. | BN25: RANGOS | BO25: VALOR UNITARIO (SIN IVA) | BP25: IVA (SI APLICA) | BQ25: TOTAL | BT25: COD. | BU25: RANGOS | BV25: VALOR UNITARIO (SIN IVA) | BW25: IVA (SI APLICA) | BX25: TOTAL | CA25: COD. | CB25: RANGOS | CC25: VALOR UNITARIO (SIN IVA) | CD25: IVA (SI APLICA) | CE25: TOTAL | CH25: COD. | CI25: RANGOS | CJ25: VALOR UNITARIO (SIN IVA) | CK25: IVA (SI APLICA) | CL25: TOTAL | CO25: COD. | CP25: RANGOS | CQ25: VALOR UNITARIO (SIN IVA) | CR25: IVA (SI APLICA) | CS25: TOTAL | CV25: COD. | CW25: RANGOS | CX25: VALOR UNITARIO (SIN IVA) | CY25: IVA (SI APLICA) | CZ25: TOTAL | DC25: COD. | DD25: RANGOS | DE25: VALOR UNITARIO (SIN IVA) | DF25: IVA (SI APLICA) | DG25: TOTAL | DJ25: COD. | DK25: RANGOS | DL25: Valor máximo | DM25: Valor mínimo | DN25: Promedio | DO25: Media Acotada | DP25: Mediana | DQ25: Moda | DS25: MAX | DT25: MIN
A26: Competencias técnicas: de 80 a 100 horas Habilidades socioemocionales: de 20 horas | B26: TASIB.1 | C26: Hasta 700 cupos | D26: 3210000 | E26: =(D26*19)/100 -> 609900 | F26: =D26+E26 -> 3819900 | I26: TASIB.1 | J26: Hasta 700 cupos | K26: 2548000 | L26: 0 | M26: =K26+L26 -> 2548000 | P26: TASIB.1 | Q26: Hasta 700 cupos | R26: 2650000 | S26: 0 | T26: =+R26+S26 -> 2650000 | W26: TASIB.1 | X26: Hasta 700 cupos | Y26: 1900000 | Z26: 0 | AA26: =Y26+Z26 -> 1900000 | AD26: TASIB.1 | AE26: Hasta 700 cupos | AF26: 1730400 | AG26: 0 | AH26: =AF26+AG26 -> 1730400 | AK26: TASIB.1 | AL26: Hasta 700 cupos | AM26: 770700000 | AN26: 0 | AO26: =+AM26/700 -> 1101000 | AR26: TASIB.1 | AS26: Hasta 700 cupos | AT26: 1666921.3 | AU26: 0 | AV26: =AT26+AU26 -> 1666921.3 | AY26: TASIB.1 | AZ26: Hasta 700 cupos | BA26: 3560078 | BB26: 0 | BC26: =BA26+BB26 -> 3560078 | BF26: TASIB.1 | BG26: Hasta 700 cupos | BH26: 6790000 | BI26: 0 | BJ26: =BH26+BI26 -> 6790000 | BM26: TASIB.1 | BN26: Hasta 700 cupos | BO26: 3689136 | BP26: 0 | BQ26: =BO26+BP26 -> 3689136 | BT26: TASIB.1 | BU26: 245 cupos | BV26: 718381000 | BW26: 0 | BX26: =+BV26/245 -> 2932167.3 | CA26: TASIB.1 | CB26: Hasta 700 cupos | CC26: 1800000 | CD26: =CC26*0.19 -> 342000 | CE26: =CC26+CD26 -> 2142000 | CH26: TASIB.1 | CI26: Hasta 700 cupos | CJ26: 3000000 | CK26: 0 | CL26: =CJ26+CK26 -> 3000000 | CO26: TASIB.1 | CP26: Hasta 700 cupos | CQ26: 5200000 | CR26: $ - | CS26: =+CQ26 -> 5200000 | CV26: TASIB.1 | CW26: Hasta 700 cupos | CX26: 3000000 | CY26: 0 | CZ26: =CX26+CY26 -> 3000000 | DC26: TASIB.1 | DD26: Hasta 700 cupos | DE26: =1165333.33333333*5/3 -> 1942222.2 | DF26: =DE26*0.19 -> 369022.22 | DG26: =DE26+DF26 -> 2311244.4 | DJ26: TASIB.1 | DK26: Hasta 700 cupos | DL26: =+MAX(F26,M26,T26,AA26,AH26,AO26,AV26,BC26,BJ26,BQ26,BX26,CE26,CL26,CS26,CZ26,DG26) -> 6790000 | DM26: =+MIN(F26,M26,T26,AA26,AH26,AO26,AV26,BC26,BJ26,BQ26,BX26,CE26,CL26,CS26,CZ26,DG26) -> 1101000 | DN26: =+AVERAGE(F26,M26,T26,AA26,AH26,AO26,AV26,BC26,BJ26,BQ26,BX26,CE26,CL26,CS26,CZ26,DG26) -> 3002552.9 | DO26: =+TRIMMEAN((F26,M26,T26,AA26,AH26,AO26,AV26,BC26,BJ26,BQ26,BX26,CE26,CL26,CS26,CZ26,DG26),(2/16)) -> 2867846.2 | DP26: =+MEDIAN(F26,M26,T26,AA26,AH26,AO26,AV26,BC26,BJ26,BQ26,BX26,CE26,CL26,CS26,CZ26,DG26) -> 2791083.7 | DQ26: =IFERROR(MODE(F26,M26,T26,AA26,AH26,AO26,AV26,BC26,BJ26,BQ26,BX26,CE26,CL26,CS26,CZ26,DG26),"N/A") -> 3000000 | DR26: =+STDEV(F26,M26,T26,AA26,AH26,AO26,AV26,BC26,BJ26,BQ26,BX26,CE26,CL26,CS26,CZ26,DG26)/DN26 -> 0.47422663 | DS26: FUNDACIÓN UNIVERSITARIA COMPENSAR | DT26: UNIVERSIDAD DE LA SABANA
B27: TASIB.2 | C27: Entre 701 y 1400 cupos | D27: 2252000 | E27: =(D27*19)/100 -> 427880 | F27: =D27+E27 -> 2679880 | I27: TASIB.2 | J27: Entre 701 y 1400 cupos | K27: =+K26*99.2% -> 2527616 | L27: 0 | M27: =K27+L27 -> 2527616 | P27: TASIB.2 | Q27: Entre 701 y 1400 cupos | R27: 2590000 | S27: 0 | T27: =+R27+S27 -> 2590000 | W27: TASIB.2 | X27: Entre 701 y 1400 cupos | Y27: 1085000 | Z27: 0 | AA27: =Y27+Z27 -> 1085000 | AD27: TASIB.2 | AE27: Entre 701 y 1400 cupos | AF27: 1648600 | AG27: 0 | AH27: =AF27+AG27 -> 1648600 | AK27: TASIB.2 | AL27: Entre 701 y 1400 cupos | AM27: 1397200000 | AN27: 0 | AO27: =+AM27/1400 -> 998000 | AR27: TASIB.2 | AS27: Entre 701 y 1400 cupos | AT27: 1618370.2 | AU27: 0 | AV27: =AT27+AU27 -> 1618370.2 | AY27: TASIB.2 | AZ27: Entre 701 y 1400 cupos | BA27: 3495713 | BB27: 0 | BC27: =BA27+BB27 -> 3495713 | BF27: TASIB.2 | BG27: Entre 701 y 1400 cupos | BH27: 5800000 | BI27: 0 | BJ27: =BH27+BI27 -> 5800000 | BM27: TASIB.2 | BN27: Entre 701 y 1400 cupos | BO27: 3622422.3 | BP27: 0 | BQ27: =BO27+BP27 -> 3622422.3 | BT27: TASIB.2 | BU27: Entre 701 y 1400 cupos | BV27: 0 | BW27: 0 | BX27: =BV27+BW27 -> 0 | CA27: TASIB.2 | CB27: Entre 701 y 1400 cupos | CC27: 1700000 | CD27: =CC27*0.19 -> 323000 | CE27: =CC27+CD27 -> 2023000 | CH27: TASIB.2 | CI27: Entre 701 y 1400 cupos | CJ27: 2800000 | CK27: 0 | CL27: =CJ27+CK27 -> 2800000 | CO27: TASIB.2 | CP27: Entre 701 y 1400 cupos | CQ27: 4400000 | CR27: $ - | CS27: 4400000 | CV27: TASIB.2 | CW27: Entre 701 y 1400 cupos | CX27: 3000000 | CY27: 0 | CZ27: =CX27+CY27 -> 3000000 | DC27: TASIB.2 | DD27: Entre 701 y 1400 cupos | DE27: =526333.333333333*5/3 -> 877222.22 | DF27: =DE27*0.19 -> 166672.22 | DG27: =DE27+DF27 -> 1043894.4 | DJ27: TASIB.2 | DK27: Entre 701 y 1400 cupos | DL27: =+MAX(F27,M27,T27,AA27,AH27,AO27,AV27,BC27,BJ27,BQ27,CE27,CL27,CS27,CZ27,DG27) -> 5800000 | DM27: =+MIN(F27,M27,T27,AA27,AH27,AO27,AV27,BC27,BJ27,BQ27,CE27,CL27,CS27,CZ27,DG27) -> 998000 | DN27: =+AVERAGE(F27,M27,T27,AA27,AH27,AO27,AV27,BC27,BJ27,BQ27,CE27,CL27,CS27,CZ27,DG27) -> 2622166.4 | DO27: =+TRIMMEAN((F27,M27,T27,AA27,AH27,AO27,AV27,BC27,BJ27,BQ27,CE27,CL27,CS27,CZ27,DG27),(2/15)) -> 2502653.5 | DP27: =+MEDIAN(F27,M27,T27,AA27,AH27,AO27,AV27,BC27,BJ27,BQ27,CE27,CL27,CS27,CZ27,DG27) -> 2590000 | DQ27: =IFERROR(MODE(F27,M27,T27,AA27,AH27,AO27,AV27,BC27,BJ27,BQ27,CE27,CL27,CS27,CZ27,DG27),"N/A") -> N/A | DR27: =+STDEV(F27,M27,T27,AA27,AH27,AO27,AV27,BC27,BJ27,BQ27,CE27,CL27,CS27,CZ27,DG27)/DN27 -> 0.50979016 | DS27: FUNDACIÓN UNIVERSITARIA COMPENSAR | DT27: UNIVERSIDAD DE LA SABANA
B28: TASIB.3 | C28: Entre 1401 y 2000 cupos | D28: 1916000 | E28: =(D28*19)/100 -> 364040 | F28: =D28+E28 -> 2280040 | I28: TASIB.3 | J28: Entre 1401 y 2000 cupos | K28: =+K26*98.9% -> 2519972 | L28: 0 | M28: =K28+L28 -> 2519972 | P28: TASIB.3 | Q28: Entre 1401 y 2000 cupos | R28: 2470000 | S28: 0 | T28: =+R28+S28 -> 2470000 | W28: TASIB.3 | X28: Entre 1401 y 2000 cupos | Y28: 1714750 | Z28: 0 | AA28: =Y28+Z28 -> 1714750 | AD28: TASIB.3 | AE28: Entre 1401 y 2000 cupos | AF28: 1566900 | AG28: 0 | AH28: =AF28+AG28 -> 1566900 | AK28: TASIB.3 | AL28: Entre 1401 y 2000 cupos | AM28: 1449000000 | AN28: 0 | AO28: =+AM28/2000 -> 724500 | AR28: TASIB.3 | AS28: Entre 1401 y 2000 cupos | AT28: 1602809 | AU28: 0 | AV28: =AT28+AU28 -> 1602809 | AY28: TASIB.3 | AZ28: Entre 1401 y 2000 cupos | BA28: 3423434 | BB28: 0 | BC28: =BA28+BB28 -> 3423434 | BF28: TASIB.3 | BG28: Entre 1401 y 2000 cupos | BH28: 5800000 | BI28: 0 | BJ28: =BH28+BI28 -> 5800000 | BM28: TASIB.3 | BN28: Entre 1401 y 2000 cupos | BO28: 3547581.5 | BP28: 0 | BQ28: =BO28+BP28 -> 3547581.5 | BT28: TASIB.3 | BU28: Entre 1401 y 2000 cupos | BV28: 0 | BW28: 0 | BX28: =BV28+BW28 -> 0 | CA28: TASIB.3 | CB28: Entre 1401 y 2000 cupos | CC28: 1600000 | CD28: =CC28*0.19 -> 304000 | CE28: =CC28+CD28 -> 1904000 | CH28: TASIB.3 | CI28: Entre 1401 y 2000 cupos | CJ28: 2720000 | CK28: 0 | CL28: =CJ28+CK28 -> 2720000 | CO28: TASIB.3 | CP28: Entre 1401 y 2000 cupos | CQ28: 4000000 | CR28: $ - | CS28: 4000000 | CV28: TASIB.3 | CW28: Entre 1401 y 2000 cupos | CX28: 3000000 | CY28: 0 | CZ28: =CX28+CY28 -> 3000000 | DC28: TASIB.3 | DD28: Entre 1401 y 2000 cupos | DE28: =DE27 -> 877222.22 | DF28: =DE28*0.19 -> 166672.22 | DG28: =DE28+DF28 -> 1043894.4 | DJ28: TASIB.3 | DK28: Entre 1401 y 2000 cupos | DL28: =+MAX(F28,M28,T28,AA28,AH28,AO28,AV28,BC28,BJ28,BQ28,CE28,CL28,CS28,CZ28,DG28) -> 5800000 | DM28: =+MIN(F28,M28,T28,AA28,AH28,AO28,AV28,BC28,BJ28,BQ28,CE28,CL28,CS28,CZ28,DG28) -> 724500 | DN28: =+AVERAGE(F28,M28,T28,AA28,AH28,AO28,AV28,BC28,BJ28,BQ28,CE28,CL28,CS28,CZ28,DG28) -> 2554525.4 | DO28: =+TRIMMEAN((F28,M28,T28,AA28,AH28,AO28,AV28,BC28,BJ28,BQ28,CE28,CL28,CS28,CZ28,DG28),(2/15)) -> 2445644.7 | DP28: =+MEDIAN(F28,M28,T28,AA28,AH28,AO28,AV28,BC28,BJ28,BQ28,CE28,CL28,CS28,CZ28,DG28) -> 2470000 | DQ28: =IFERROR(MODE(F28,M28,T28,AA28,AH28,AO28,AV28,BC28,BJ28,BQ28,CE28,CL28,CS28,CZ28,DG28),"N/A") -> N/A | DR28: =+STDEV(F28,M28,T28,AA28,AH28,AO28,AV28,BC28,BJ28,BQ28,CE28,CL28,CS28,CZ28,DG28)/DN28 -> 0.50516332 | DS28: FUNDACIÓN UNIVERSITARIA COMPENSAR | DT28: UNIVERSIDAD DE LA SABANA
B29: TASIB.4 | C29: Más de 2001 cupos | D29: 1854000 | E29: =(D29*19)/100 -> 352260 | F29: =D29+E29 -> 2206260 | I29: TASIB.4 | J29: Más de 2001 cupos | K29: =+K26*97% -> 2471560 | L29: 0 | M29: =K29+L29 -> 2471560 | P29: TASIB.4 | Q29: Más de 2001 cupos | R29: 2400000 | S29: 0 | T29: =+R29+S29 -> 2400000 | W29: TASIB.4 | X29: Más de 2001 cupos | Y29: 1627012 | Z29: 0 | AA29: =Y29+Z29 -> 1627012 | AD29: TASIB.4 | AE29: Más de 2001 cupos | AF29: 1534200 | AG29: 0 | AH29: =AF29+AG29 -> 1534200 | AK29: TASIB.4 | AL29: Más de 2001 cupos | AM29: 1449000000 | AN29: 0 | AO29: =+AM29/2001 -> 724137.93 | AR29: TASIB.4 | AS29: Más de 2001 cupos | AT29: 1587544.1 | AU29: 0 | AV29: =AT29+AU29 -> 1587544.1 | AY29: TASIB.4 | AZ29: Más de 2001 cupos | BA29: 3334944 | BB29: 0 | BC29: =BA29+BB29 -> 3334944 | BF29: TASIB.4 | BG29: Más de 2001 cupos | BH29: 5700000 | BI29: 0 | BJ29: =BH29+BI29 -> 5700000 | BM29: TASIB.4 | BN29: Más de 2001 cupos | BO29: 3455861.1 | BP29: 0 | BQ29: =BO29+BP29 -> 3455861.1 | BT29: TASIB.4 | BU29: Más de 2001 cupos | BV29: 0 | BW29: 0 | BX29: =BV29+BW29 -> 0 | CA29: TASIB.4 | CB29: Más de 2001 cupos | CC29: 1500000 | CD29: =CC29*0.19 -> 285000 | CE29: =CC29+CD29 -> 1785000 | CH29: TASIB.4 | CI29: Más de 2001 cupos | CJ29: 2700000 | CK29: 0 | CL29: =CJ29+CK29 -> 2700000 | CO29: TASIB.4 | CP29: Más de 2001 cupos | CQ29: 3800000 | CR29: $ - | CS29: 3800000 | CV29: TASIB.4 | CW29: Más de 2001 cupos | CX29: 3000000 | CY29: 0 | CZ29: =CX29+CY29 -> 3000000 | DC29: TASIB.4 | DD29: Más de 2001 cupos | DE29: =DE28 -> 877222.22 | DF29: =DE29*0.19 -> 166672.22 | DG29: =DE29+DF29 -> 1043894.4 | DJ29: TASIB.4 | DK29: Más de 2001 cupos | DL29: =+MAX(F29,M29,T29,AA29,AH29,AO29,AV29,BC29,BJ29,BQ29,CE29,CL29,CS29,CZ29,DG29) -> 5700000 | DM29: =+MIN(F29,M29,T29,AA29,AH29,AO29,AV29,BC29,BJ29,BQ29,CE29,CL29,CS29,CZ29,DG29) -> 724137.93 | DN29: =+AVERAGE(F29,M29,T29,AA29,AH29,AO29,AV29,BC29,BJ29,BQ29,CE29,CL29,CS29,CZ29,DG29) -> 2491360.9 | DO29: =+TRIMMEAN((F29,M29,T29,AA29,AH29,AO29,AV29,BC29,BJ29,BQ29,CE29,CL29,CS29,CZ29,DG29),(2/15)) -> 2380482.7 | DP29: =+MEDIAN(F29,M29,T29,AA29,AH29,AO29,AV29,BC29,BJ29,BQ29,CE29,CL29,CS29,CZ29,DG29) -> 2400000 | DQ29: =IFERROR(MODE(F29,M29,T29,AA29,AH29,AO29,AV29,BC29,BJ29,BQ29,CE29,CL29,CS29,CZ29,DG29),"N/A") -> N/A | DR29: =+STDEV(F29,M29,T29,AA29,AH29,AO29,AV29,BC29,BJ29,BQ29,CE29,CL29,CS29,CZ29,DG29)/DN29 -> 0.50589536 | DS29: FUNDACIÓN UNIVERSITARIA COMPENSAR | DT29: UNIVERSIDAD DE LA SABANA
A30: Temática 2 | B30: Analista de sistemas informáticos | F30: Nivel | G30: Intermedio | I30: Analista de sistemas informáticos | M30: Nivel | N30: Intermedio | P30: Analista de sistemas informáticos | T30: Nivel | U30: Intermedio | W30: Analista de sistemas informáticos | AA30: Nivel | AB30: Intermedio | AD30: Analista de sistemas informáticos | AH30: Nivel | AI30: Intermedio | AK30: Analista de sistemas informáticos | AO30: Nivel | AP30: Intermedio | AR30: Analista de sistemas informáticos | AV30: Nivel | AW30: Intermedio | AY30: Analista de sistemas informáticos | BC30: Nivel | BD30: Intermedio | BF30: Analista de sistemas informáticos | BJ30: Nivel | BK30: Intermedio | BM30: Analista de sistemas informáticos | BQ30: Nivel | BR30: Intermedio | BT30: Analista de sistemas informáticos | BX30: Nivel | BY30: Intermedio | CA30: Analista de sistemas informáticos | CE30: Nivel | CF30: Intermedio | CH30: Analista de sistemas informáticos | CL30: Nivel | CM30: Intermedio | CO30: Analista de sistemas informáticos | CS30: Nivel | CT30: Intermedio | CV30: Analista de sistemas informáticos | CZ30: Nivel | DA30: Intermedio | DC30: Analista de sistemas informáticos | DG30: Nivel | DH30: Intermedio
A31: MODALIDAD: Híbrido | B31: COD. | C31: RANGOS | D31: VALOR UNITARIO (SIN IVA) | E31: IVA (SI APLICA) | F31: TOTAL | I31: COD. | J31: RANGOS | K31: VALOR UNITARIO (SIN IVA) | L31: IVA (SI APLICA) | M31: TOTAL | P31: COD. | Q31: RANGOS | R31: VALOR UNITARIO (SIN IVA) | S31: IVA (SI APLICA) | T31: TOTAL | W31: COD. | X31: RANGOS | Y31: VALOR UNITARIO (SIN IVA) | Z31: IVA (SI APLICA) | AA31: TOTAL | AD31: COD. | AE31: RANGOS | AF31: VALOR UNITARIO (SIN IVA) | AG31: IVA (SI APLICA) | AH31: TOTAL | AK31: COD. | AL31: RANGOS | AM31: VALOR UNITARIO (SIN IVA) | AN31: IVA (SI APLICA) | AO31: TOTAL | AR31: COD. | AS31: RANGOS | AT31: VALOR UNITARIO (SIN IVA) | AU31: IVA (SI APLICA) | AV31: TOTAL | AY31: COD. | AZ31: RANGOS | BA31: VALOR UNITARIO (SIN IVA) | BB31: IVA (SI APLICA) | BC31: TOTAL | BF31: COD. | BG31: RANGOS | BH31: VALOR UNITARIO (SIN IVA) | BI31: IVA (SI APLICA) | BJ31: TOTAL | BM31: COD. | BN31: RANGOS | BO31: VALOR UNITARIO (SIN IVA) | BP31: IVA (SI APLICA) | BQ31: TOTAL | BT31: COD. | BU31: RANGOS | BV31: VALOR UNITARIO (SIN IVA) | BW31: IVA (SI APLICA) | BX31: TOTAL | CA31: COD. | CB31: RANGOS | CC31: VALOR UNITARIO (SIN IVA) | CD31: IVA (SI APLICA) | CE31: TOTAL | CH31: COD. | CI31: RANGOS | CJ31: VALOR UNITARIO (SIN IVA) | CK31: IVA (SI APLICA) | CL31: TOTAL | CO31: COD. | CP31: RANGOS | CQ31: VALOR UNITARIO (SIN IVA) | CR31: IVA (SI APLICA) | CS31: TOTAL | CV31: COD. | CW31: RANGOS | CX31: VALOR UNITARIO (SIN IVA) | CY31: IVA (SI APLICA) | CZ31: TOTAL | DC31: COD. | DD31: RANGOS | DE31: VALOR UNITARIO (SIN IVA) | DF31: IVA (SI APLICA) | DG31: TOTAL | DJ31: COD. | DK31: RANGOS | DL31: Valor máximo | DM31: Valor mínimo | DN31: Promedio | DO31: Media Acotada | DP31: Mediana | DQ31: Moda | DS31: MAX | DT31: MIN
A32: Competencias técnicas: de 80 a 100 horas Habilidades socioemocionales: de 20 horas | B32: TASII.1 | C32: Hasta 700 cupos | D32: 3210000 | E32: =(D32*19)/100 -> 609900 | F32: =D32+E32 -> 3819900 | I32: TASII.1 | J32: Hasta 700 cupos | K32: 2662660 | L32: 0 | M32: =K32+L32 -> 2662660 | P32: TASII.1 | Q32: Hasta 700 cupos | R32: 2650000 | S32: 0 | T32: =+R32+S32 -> 2650000 | W32: TASII.1 | X32: Hasta 700 cupos | Y32: 1900000 | Z32: 0 | AA32: =Y32+Z32 -> 1900000 | AD32: TASII.1 | AE32: Hasta 700 cupos | AF32: 1730400 | AG32: 0 | AH32: =AF32+AG32 -> 1730400 | AK32: TASII.1 | AL32: Hasta 700 cupos | AM32: 770700000 | AN32: 0 | AO32: =+AM32/700 -> 1101000 | AR32: TASII.1 | AS32: Hasta 700 cupos | AT32: 1683425.5 | AU32: 0 | AV32: =AT32+AU32 -> 1683425.5 | AY32: TASII.1 | AZ32: Hasta 700 cupos | BA32: 3150339 | BB32: 0 | BC32: =BA32+BB32 -> 3150339 | BF32: TASII.1 | BG32: Hasta 700 cupos | BH32: 6790000 | BI32: 0 | BJ32: =BH32+BI32 -> 6790000 | BM32: TASII.1 | BN32: Hasta 700 cupos | BO32: 3264526.7 | BP32: 0 | BQ32: =BO32+BP32 -> 3264526.7 | BT32: TASII.1 | BU32: 175 cupos | BV32: 484985000 | BW32: 0 | BX32: =+BV32/175 -> 2771342.9 | CA32: TASII.1 | CB32: Hasta 700 cupos | CC32: 1800000 | CD32: =CC32*0.19 -> 342000 | CE32: =CC32+CD32 -> 2142000 | CH32: TASII.1 | CI32: Hasta 700 cupos | CJ32: 3000000 | CK32: 0 | CL32: =CJ32+CK32 -> 3000000 | CO32: TASII.1 | CP32: Hasta 700 cupos | CQ32: 5200000 | CR32: $ - | CS32: =+CQ32 -> 5200000 | CV32: TASII.1 | CW32: Hasta 700 cupos | CX32: 3000000 | CY32: 0 | CZ32: =CX32+CY32 -> 3000000 | DC32: TASII.1 | DD32: Hasta 700 cupos | DE32: =1165333.33333333*5/3 -> 1942222.2 | DF32: =DE32*0.19 -> 369022.22 | DG32: =DE32+DF32 -> 2311244.4 | DJ32: TASII.1 | DK32: Hasta 700 cupos | DL32: =+MAX(F32,M32,T32,AA32,AH32,AO32,AV32,BC32,BJ32,BQ32,BX32,CE32,CL32,CS32,CZ32,DG32) -> 6790000 | DM32: =+MIN(F32,M32,T32,AA32,AH32,AO32,AV32,BC32,BJ32,BQ32,BX32,CE32,CL32,CS32,CZ32,DG32) -> 1101000 | DN32: =+AVERAGE(F32,M32,T32,AA32,AH32,AO32,AV32,BC32,BJ32,BQ32,BX32,CE32,CL32,CS32,CZ32,DG32) -> 2948552.4 | DO32: =+TRIMMEAN((F32,M32,T32,AA32,AH32,AO32,AV32,BC32,BJ32,BQ32,BX32,CE32,CL32,CS32,CZ32,DG32),(2/16)) -> 2806131.3 | DP32: =+MEDIAN(F32,M32,T32,AA32,AH32,AO32,AV32,BC32,BJ32,BQ32,BX32,CE32,CL32,CS32,CZ32,DG32) -> 2717001.4 | DQ32: =IFERROR(MODE(F32,M32,T32,AA32,AH32,AO32,AV32,BC32,BJ32,BQ32,BX32,CE32,CL32,CS32,CZ32,DG32),"N/A") -> 3000000 | DR32: =+STDEV(F32,M32,T32,AA32,AH32,AO32,AV32,BC32,BJ32,BQ32,BX32,CE32,CL32,CS32,CZ32,DG32)/DN32 -> 0.47631807 | DS32: FUNDACIÓN UNIVERSITARIA COMPENSAR | DT32: UNIVERSIDAD DE LA SABANA
B33: TASII.2 | C33: Entre 701 y 1400 cupos | D33: 2252000 | E33: =(D33*19)/100 -> 427880 | F33: =D33+E33 -> 2679880 | I33: TASII.2 | J33: Entre 701 y 1400 cupos | K33: 2641358 | L33: 0 | M33: =K33+L33 -> 2641358 | P33: TASII.2 | Q33: Entre 701 y 1400 cupos | R33: 2590000 | S33: 0 | T33: =+R33+S33 -> 2590000 | W33: TASII.2 | X33: Entre 701 y 1400 cupos | Y33: 1085000 | Z33: 0 | AA33: =Y33+Z33 -> 1085000 | AD33: TASII.2 | AE33: Entre 701 y 1400 cupos | AF33: 1648600 | AG33: 0 | AH33: =AF33+AG33 -> 1648600 | AK33: TASII.2 | AL33: Entre 701 y 1400 cupos | AM33: 1397200000 | AN33: 0 | AO33: =+AM33/1400 -> 998000 | AR33: TASII.2 | AS33: Entre 701 y 1400 cupos | AT33: 1650417.1 | AU33: 0 | AV33: =AT33+AU33 -> 1650417.1 | AY33: TASII.2 | AZ33: Entre 701 y 1400 cupos | BA33: 3085298 | BB33: 0 | BC33: =BA33+BB33 -> 3085298 | BF33: TASII.2 | BG33: Entre 701 y 1400 cupos | BH33: 5800000 | BI33: 0 | BJ33: =BH33+BI33 -> 5800000 | BM33: TASII.2 | BN33: Entre 701 y 1400 cupos | BO33: 3197101.8 | BP33: 0 | BQ33: =BO33+BP33 -> 3197101.8 | BT33: TASII.2 | BU33: Entre 701 y 1400 cupos | BV33: 0 | BW33: 0 | BX33: =BV33+BW33 -> 0 | CA33: TASII.2 | CB33: Entre 701 y 1400 cupos | CC33: 1700000 | CD33: =CC33*0.19 -> 323000 | CE33: =CC33+CD33 -> 2023000 | CH33: TASII.2 | CI33: Entre 701 y 1400 cupos | CJ33: 2800000 | CK33: 0 | CL33: =CJ33+CK33 -> 2800000 | CO33: TASII.2 | CP33: Entre 701 y 1400 cupos | CQ33: 4400000 | CR33: $ - | CS33: 4400000 | CV33: TASII.2 | CW33: Entre 701 y 1400 cupos | CX33: 3000000 | CY33: 0 | CZ33: =CX33+CY33 -> 3000000 | DC33: TASII.2 | DD33: Entre 701 y 1400 cupos | DE33: =526333.333333333*5/3 -> 877222.22 | DF33: =DE33*0.19 -> 166672.22 | DG33: =DE33+DF33 -> 1043894.4 | DJ33: TASII.2 | DK33: Entre 701 y 1400 cupos | DL33: =+MAX(F33,M33,T33,AA33,AH33,AO33,AV33,BC33,BJ33,BQ33,CE33,CL33,CS33,CZ33,DG33) -> 5800000 | DM33: =+MIN(F33,M33,T33,AA33,AH33,AO33,AV33,BC33,BJ33,BQ33,CE33,CL33,CS33,CZ33,DG33) -> 998000 | DN33: =+AVERAGE(F33,M33,T33,AA33,AH33,AO33,AV33,BC33,BJ33,BQ33,CE33,CL33,CS33,CZ33,DG33) -> 2576170 | DO33: =+TRIMMEAN((F33,M33,T33,AA33,AH33,AO33,AV33,BC33,BJ33,BQ33,CE33,CL33,CS33,CZ33,DG33),(2/15)) -> 2449580.7 | DP33: =+MEDIAN(F33,M33,T33,AA33,AH33,AO33,AV33,BC33,BJ33,BQ33,CE33,CL33,CS33,CZ33,DG33) -> 2641358 | DQ33: =IFERROR(MODE(F33,M33,T33,AA33,AH33,AO33,AV33,BC33,BJ33,BQ33,CE33,CL33,CS33,CZ33,DG33),"N/A") -> N/A | DR33: =+STDEV(F33,M33,T33,AA33,AH33,AO33,AV33,BC33,BJ33,BQ33,CE33,CL33,CS33,CZ33,DG33)/DN33 -> 0.50499404 | DS33: FUNDACIÓN UNIVERSITARIA COMPENSAR | DT33: UNIVERSIDAD DE LA SABANA
B34: TASII.3 | C34: Entre 1401 y 2000 cupos | D34: 1916000 | E34: =(D34*19)/100 -> 364040 | F34: =D34+E34 -> 2280040 | I34: TASII.3 | J34: Entre 1401 y 2000 cupos | K34: 2633370 | L34: 0 | M34: =K34+L34 -> 2633370 | P34: TASII.3 | Q34: Entre 1401 y 2000 cupos | R34: 2470000 | S34: 0 | T34: =+R34+S34 -> 2470000 | W34: TASII.3 | X34: Entre 1401 y 2000 cupos | Y34: 1714750 | Z34: 0 | AA34: =Y34+Z34 -> 1714750 | AD34: TASII.3 | AE34: Entre 1401 y 2000 cupos | AF34: 1566900 | AG34: 0 | AH34: =AF34+AG34 -> 1566900 | AK34: TASII.3 | AL34: Entre 1401 y 2000 cupos | AM34: 1449000000 | AN34: 0 | AO34: =+AM34/2000 -> 724500 | AR34: TASII.3 | AS34: Entre 1401 y 2000 cupos | AT34: 1634393.7 | AU34: 0 | AV34: =AT34+AU34 -> 1634393.7 | AY34: TASII.3 | AZ34: Entre 1401 y 2000 cupos | BA34: 3012055 | BB34: 0 | BC34: =BA34+BB34 -> 3012055 | BF34: TASII.3 | BG34: Entre 1401 y 2000 cupos | BH34: 5800000 | BI34: 0 | BJ34: =BH34+BI34 -> 5800000 | BM34: TASII.3 | BN34: Entre 1401 y 2000 cupos | BO34: 3121258.6 | BP34: 0 | BQ34: =BO34+BP34 -> 3121258.6 | BT34: TASII.3 | BU34: Entre 1401 y 2000 cupos | BV34: 0 | BW34: 0 | BX34: =BV34+BW34 -> 0 | CA34: TASII.3 | CB34: Entre 1401 y 2000 cupos | CC34: 1600000 | CD34: =CC34*0.19 -> 304000 | CE34: =CC34+CD34 -> 1904000 | CH34: TASII.3 | CI34: Entre 1401 y 2000 cupos | CJ34: 2720000 | CK34: 0 | CL34: =CJ34+CK34 -> 2720000 | CO34: TASII.3 | CP34: Entre 1401 y 2000 cupos | CQ34: 4000000 | CR34: $ - | CS34: 4000000 | CV34: TASII.3 | CW34: Entre 1401 y 2000 cupos | CX34: 3000000 | CY34: 0 | CZ34: =CX34+CY34 -> 3000000 | DC34: TASII.3 | DD34: Entre 1401 y 2000 cupos | DE34: =DE33 -> 877222.22 | DF34: =DE34*0.19 -> 166672.22 | DG34: =DE34+DF34 -> 1043894.4 | DJ34: TASII.3 | DK34: Entre 1401 y 2000 cupos | DL34: =+MAX(F34,M34,T34,AA34,AH34,AO34,AV34,BC34,BJ34,BQ34,CE34,CL34,CS34,CZ34,DG34) -> 5800000 | DM34: =+MIN(F34,M34,T34,AA34,AH34,AO34,AV34,BC34,BJ34,BQ34,CE34,CL34,CS34,CZ34,DG34) -> 724500 | DN34: =+AVERAGE(F34,M34,T34,AA34,AH34,AO34,AV34,BC34,BJ34,BQ34,CE34,CL34,CS34,CZ34,DG34) -> 2508344.1 | DO34: =+TRIMMEAN((F34,M34,T34,AA34,AH34,AO34,AV34,BC34,BJ34,BQ34,CE34,CL34,CS34,CZ34,DG34),(2/15)) -> 2392358.6 | DP34: =+MEDIAN(F34,M34,T34,AA34,AH34,AO34,AV34,BC34,BJ34,BQ34,CE34,CL34,CS34,CZ34,DG34) -> 2470000 | DQ34: =IFERROR(MODE(F34,M34,T34,AA34,AH34,AO34,AV34,BC34,BJ34,BQ34,CE34,CL34,CS34,CZ34,DG34),"N/A") -> N/A | DR34: =+STDEV(F34,M34,T34,AA34,AH34,AO34,AV34,BC34,BJ34,BQ34,CE34,CL34,CS34,CZ34,DG34)/DN34 -> 0.49995174 | DS34: FUNDACIÓN UNIVERSITARIA COMPENSAR | DT34: UNIVERSIDAD DE LA SABANA
B35: TASII.4 | C35: Más de 2001 cupos | D35: 1854000 | E35: =(D35*19)/100 -> 352260 | F35: =D35+E35 -> 2206260 | I35: TASII.4 | J35: Más de 2001 cupos | K35: 2582780 | L35: 0 | M35: =K35+L35 -> 2582780 | P35: TASII.4 | Q35: Más de 2001 cupos | R35: 2400000 | S35: 0 | T35: =+R35+S35 -> 2400000 | W35: TASII.4 | X35: Más de 2001 cupos | Y35: 1627012 | Z35: 0 | AA35: =Y35+Z35 -> 1627012 | AD35: TASII.4 | AE35: Más de 2001 cupos | AF35: 1534200 | AG35: 0 | AH35: =AF35+AG35 -> 1534200 | AK35: TASII.4 | AL35: Más de 2001 cupos | AM35: 1449000000 | AN35: 0 | AO35: =+AM35/2001 -> 724137.93 | AR35: TASII.4 | AS35: Más de 2001 cupos | AT35: 1618678.4 | AU35: 0 | AV35: =AT35+AU35 -> 1618678.4 | AY35: TASII.4 | AZ35: Más de 2001 cupos | BA35: 2922406 | BB35: 0 | BC35: =BA35+BB35 -> 2922406 | BF35: TASII.4 | BG35: Más de 2001 cupos | BH35: 5700000 | BI35: 0 | BJ35: =BH35+BI35 -> 5700000 | BM35: TASII.4 | BN35: Más de 2001 cupos | BO35: 3028309.9 | BP35: 0 | BQ35: =BO35+BP35 -> 3028309.9 | BT35: TASII.4 | BU35: Más de 2001 cupos | BV35: 0 | BW35: 0 | BX35: =BV35+BW35 -> 0 | CA35: TASII.4 | CB35: Más de 2001 cupos | CC35: 1500000 | CD35: =CC35*0.19 -> 285000 | CE35: =CC35+CD35 -> 1785000 | CH35: TASII.4 | CI35: Más de 2001 cupos | CJ35: 2700000 | CK35: 0 | CL35: =CJ35+CK35 -> 2700000 | CO35: TASII.4 | CP35: Más de 2001 cupos | CQ35: 3800000 | CR35: $ - | CS35: 3800000 | CV35: TASII.4 | CW35: Más de 2001 cupos | CX35: 3000000 | CY35: 0 | CZ35: =CX35+CY35 -> 3000000 | DC35: TASII.4 | DD35: Más de 2001 cupos | DE35: =DE34 -> 877222.22 | DF35: =DE35*0.19 -> 166672.22 | DG35: =DE35+DF35 -> 1043894.4 | DJ35: TASII.4 | DK35: Más de 2001 cupos | DL35: =+MAX(F35,M35,T35,AA35,AH35,AO35,AV35,BC35,BJ35,BQ35,CE35,CL35,CS35,CZ35,DG35) -> 5700000 | DM35: =+MIN(F35,M35,T35,AA35,AH35,AO35,AV35,BC35,BJ35,BQ35,CE35,CL35,CS35,CZ35,DG35) -> 724137.93 | DN35: =+AVERAGE(F35,M35,T35,AA35,AH35,AO35,AV35,BC35,BJ35,BQ35,CE35,CL35,CS35,CZ35,DG35) -> 2444845.2 | DO35: =+TRIMMEAN((F35,M35,T35,AA35,AH35,AO35,AV35,BC35,BJ35,BQ35,CE35,CL35,CS35,CZ35,DG35),(2/15)) -> 2326810.8 | DP35: =+MEDIAN(F35,M35,T35,AA35,AH35,AO35,AV35,BC35,BJ35,BQ35,CE35,CL35,CS35,CZ35,DG35) -> 2400000 | DQ35: =IFERROR(MODE(F35,M35,T35,AA35,AH35,AO35,AV35,BC35,BJ35,BQ35,CE35,CL35,CS35,CZ35,DG35),"N/A") -> N/A | DR35: =+STDEV(F35,M35,T35,AA35,AH35,AO35,AV35,BC35,BJ35,BQ35,CE35,CL35,CS35,CZ35,DG35)/DN35 -> 0.50085208 | DS35: FUNDACIÓN UNIVERSITARIA COMPENSAR | DT35: UNIVERSIDAD DE LA SABANA
A36: Temática 2 | B36: Analista de sistemas informáticos | F36: Nivel | G36: Avanzado | I36: Analista de sistemas informáticos | M36: Nivel | N36: Avanzado | P36: Analista de sistemas informáticos | T36: Nivel | U36: Avanzado | W36: Analista de sistemas informáticos | AA36: Nivel | AB36: Avanzado | AD36: Analista de sistemas informáticos | AH36: Nivel | AI36: Avanzado | AK36: Analista de sistemas informáticos | AO36: Nivel | AP36: Avanzado | AR36: Analista de sistemas informáticos | AV36: Nivel | AW36: Avanzado | AY36: Analista de sistemas informáticos | BC36: Nivel | BD36: Avanzado | BF36: Analista de sistemas informáticos | BJ36: Nivel | BK36: Avanzado | BM36: Analista de sistemas informáticos | BQ36: Nivel | BR36: Avanzado | BT36: Analista de sistemas informáticos | BX36: Nivel | BY36: Avanzado | CA36: Analista de sistemas informáticos | CE36: Nivel | CF36: Avanzado | CH36: Analista de sistemas informáticos | CL36: Nivel | CM36: Avanzado | CO36: Analista de sistemas informáticos | CS36: Nivel | CT36: Avanzado | CV36: Analista de sistemas informáticos | CZ36: Nivel | DA36: Avanzado | DC36: Analista de sistemas informáticos | DG36: Nivel | DH36: Avanzado
