Workbook
Name CAPITALD: [1]POA!$J$2
Name CARGOSOLICITANTE: #REF!
Name DIRECCIONES: #REF!
Name FUNCIÓN: #REF!
Name irma: [2]DIRECCIONES!#REF!
Name PATRIMONIOD: [1]POA!$L$2
Name PRECIO: '[3]SUB APU'!$A$1:$D$65536
Name Print_Area: #N/A
Name prueba: #REF!
Name SUBA: '[4]SUB APU'!$A$1:$D$65536

Sheet EXP HABILITANTE
B1: Volver al Indice | D1: CONCURSO DE MÉRITOS No. 10827
D2: OBJETO: INTERVENTORÍA TÉCNICA, ADMINISTRATIVA, AMBIENTAL, FINANCIERA Y LEGAL PARA LA CONSERVACIÓN, MANTENIMIENTO Y REHABILITACIÓN DE LAS VÍAS A CARGO DEL DEPARTAMENTO DE ANTIOQUIA EN LAS SUBREGION ORIENTE
B3: NÚMERO DE CONTRATOS: 1 | G3: PESOS | H3: SMMLV-2020 | I3: REQUISITOS DE LA EXPERIENCIA QUE SE PRETENDE ACREDITAR PARA EL PROCESO
B4: PRESUPUESTO OFICIAL | G4: 784601462 | H4: =IFERROR(G4/H7,0) -> 893.82408
B5: PLAZO DEL CONTRATO EN MESES | G5: 6
B6: 2 | C6: (VALOR DEL PRESUPUESTO OFICIAL EN SMMLV / PLAZO DEL CONTRATO EN MESES) | G6: =IFERROR($B$6*($G$4/$G$5),"") -> 2.6153382e+08 | H6: =IFERROR($G$6/$H$7,0) -> 297.94136
B7: CODIGO UNSPSC | D7: 81101500 | G7: SMMLV-2020 | H7: 877803 | Q7: No. DE CONTRATOS A ACREDITAR EXPERIENCIA HABILITANTE (VER PLIEGO) | R7: 1 | S7: 1
B9: =1 -> 1 | C9: CONSORCIO HUPERNIKAO VIAL 827 | J9: =+IF(C9="","","INTEGRANTES") -> INTEGRANTES | K9: JET INGENIERIA SAS 75% - CTO INGENIERIA SAS 25% | N9: =+B9 -> 1 | O9: =+$O$9 -> OBSERVACIONES | Q9: =+$Q$9 -> ¿EL CONTRATO CUMPLE CON LOS REQUERIMIENTOS ADICIONALES DE EXPERIENCIA EN EL PLIEGO? (INSCRIPCIÓN EN RUP - CÓDIGO UNSPSC - VALOR EN RUP - % DE PARTICIPACIÓN) (SI / NO) | S9: =+$S$9 -> PROPONENTE HÁBIL/NO HÁBIL
B10: =+$B$10 -> ITEM | C10: =+$C$10 -> PROPONENTE / INTEGRANTE OFERENTE PLURAL | D10: =+$D$10 -> INFORMACIÓN DEL CONTRATO | H10: CONSECUTIVO RUP | I10: =+$I$10 -> ¿SE ENCUENTRA INSCRITO EN EL RUP Y CUMPLE CÓDIGOS UNSPSC? | J10: =+$J$10 -> VALOR EN RUP (SMMLV) | K10: =+$K$10 -> % PARTIC en el RUP | L10: =+$L$10 -> VALOR DEL CONTRATO TERMINADO (SMMLV) en el RUP | M10: =+$M$10 -> VALOR CERTIFICADO CONTRATO > VEH | N10: =+$N$10 -> VALIDACIÓN DE OBJETO Y/O ALCANCE (SI/NO) (INTERVENTORIA DE OBRA CIVIL) | S10: =+$S$10 -> 0
D11: =+$D$11 -> ENTIDAD | E11: =+$E$11 -> No. DE CONTRATO | F11: =+$F$11 -> OBJETO | G11: =+$G$11 -> CONTRATISTA
B12: 1 | C12: JET INGENIERIA SAS | D12: MUNICIPIO DE MONTERÍA | E12: 754 DE 2018 | F12: INTERVENTORÍA TÉCNICA, ADMINISTRATIVA, FINANCIERA, JURÍDICA Y AMBIENTAL A LA RECONSTRUCCIÓN DEL PAVIMENTO RÍGIDO, ANDENES Y ESPACIO PÚBLICO DE LA AVENIDA CIRCUNVALAR ENTRE LA CARRERA 5 Y CARRERA 14 DE LA CIUDAD DE MONTERÍA, CEPARTAMENTO DE CÓRDOBA | G12: CONSORCIO TRANSFORMAR VIAL 18-03 | H12: 42 | I12: SI | J12: 1290.77 | K12: 0.5 | L12: =IF(OR(H12="",I12<>"SI",I12="NO",J12="",J12=0,K12="",K12=0,Q12<>"SI",N12<>"SI"),0,J12*K12) -> 645.385 | M12: =+IF(C12<>"",IF(L12>=$H$6,"SI","NO"),"") -> SI | N12: SI | Q12: =+IF(C12="","",IF(AND(H12<>"",I12="SI",J12<>"",J12>0,K12<>"",K12>0),"SI","NO")) -> SI | S12: =+IF(C12<>"",IF(AND(M12="SI",N12="SI",Q12="SI"),"HÁBIL","NO HÁBIL"),"") -> HÁBIL
B13: 1 | C13: CTO INGENIERIA SAS | H13: 2 | I13: SI | J13: 1290.77 | K13: 0.5 | L13: =IF(OR(H13="",I13<>"SI",I13="NO",J13="",J13=0,K13="",K13=0,Q13<>"SI",N13<>"SI"),0,J13*K13) -> 645.385 | M13: =+IF(C13<>"",IF(L13>=$H$6,"SI","NO"),"") -> SI | N13: SI | Q13: =+IF(C13="","",IF(AND(H13<>"",I13="SI",J13<>"",J13>0,K13<>"",K13>0),"SI","NO")) -> SI | S13: =+IF(C13<>"",IF(AND(M13="SI",N13="SI",Q13="SI"),"HÁBIL","NO HÁBIL"),"") -> HÁBIL
L14: =IF(OR(H14="",I14<>"SI",I14="NO",J14="",J14=0,K14="",K14=0,Q14<>"SI",N14<>"SI"),0,J14*K14) -> 0 | M14: =+IF(C14<>"",IF(L14>=$H$6,"SI","NO"),"") | Q14: =+IF(C14="","",IF(AND(H14<>"",I14="SI",J14<>"",J14>0,K14<>"",K14>0),"SI","NO")) | S14: =+IF(C14<>"",IF(AND(M14="SI",N14="SI",Q14="SI"),"HÁBIL","NO HÁBIL"),"")
L15: =IF(OR(H15="",I15<>"SI",I15="NO",J15="",J15=0,K15="",K15=0,Q15<>"SI",N15<>"SI"),0,J15*K15) -> 0 | M15: =+IF(C15<>"",IF(L15>=$H$6,"SI","NO"),"") | Q15: =+IF(C15="","",IF(AND(H15<>"",I15="SI",J15<>"",J15>0,K15<>"",K15>0),"SI","NO")) | S15: =+IF(C15<>"",IF(AND(M15="SI",N15="SI",Q15="SI"),"HÁBIL","NO HÁBIL"),"")
A16: =+$B9 -> 1 | B16: ="A"&B9 -> A1 | C16: PROPONENTE HÁBIL / NO HÁBIL | I16: =IF(S12="","",IF(OR(S12="HÁBIL",S13="HÁBIL",S14="HÁBIL",S15="HÁBIL"),"HÁBIL","NO HÁBIL")) -> HÁBIL
B18: =1+B9 -> 2 | C18: CONSORCIO INTERANTIOQUIA | J18: =+IF(C18="","",$J$9) -> INTEGRANTES | K18: CPS INFRAESTRUCTURAS COLOMBIA SAS 50% - INGENIERIA DF SAS 50% | N18: =+B18 -> 2 | O18: =+$O$9 -> OBSERVACIONES | Q18: =+$Q$9 -> ¿EL CONTRATO CUMPLE CON LOS REQUERIMIENTOS ADICIONALES DE EXPERIENCIA EN EL PLIEGO? (INSCRIPCIÓN EN RUP - CÓDIGO UNSPSC - VALOR EN RUP - % DE PARTICIPACIÓN) (SI / NO) | S18: =+$S$9 -> PROPONENTE HÁBIL/NO HÁBIL
B19: =+$B$10 -> ITEM | C19: =+$C$10 -> PROPONENTE / INTEGRANTE OFERENTE PLURAL | D19: =+$D$10 -> INFORMACIÓN DEL CONTRATO | H19: =+H10 -> CONSECUTIVO RUP | I19: =+$I$10 -> ¿SE ENCUENTRA INSCRITO EN EL RUP Y CUMPLE CÓDIGOS UNSPSC? | J19: =+$J$10 -> VALOR EN RUP (SMMLV) | K19: =+$K$10 -> % PARTIC en el RUP | L19: =+$L$10 -> VALOR DEL CONTRATO TERMINADO (SMMLV) en el RUP | M19: =+$M$10 -> VALOR CERTIFICADO CONTRATO > VEH | N19: =+$N$10 -> VALIDACIÓN DE OBJETO Y/O ALCANCE (SI/NO) (INTERVENTORIA DE OBRA CIVIL) | S19: =+$S$10 -> 0
D20: =+$D$11 -> ENTIDAD | E20: =+$E$11 -> No. DE CONTRATO | F20: =+$F$11 -> OBJETO | G20: =+$G$11 -> CONTRATISTA
B21: 1 | C21: INGENIERIA DF SAS | D21: INSTITUTO DE DESARROLLO URBANO - IDU | E21: IDU-181 DE 2007 | F21: INTERVENTORIA TÉCNICA, ADMINISTRATIVA, FINANCIERA Y AMBIENTAL PARA LA CONSTRUCCIÓN DE ACCESOS A BARRIOS Y PAVIMENTOS LOCALES, PROGRAMA DE PAVIMENTOS LOCALES GRUPO 1: LOCALIDAD DE BOSA, CHAPINERO, KENNEDY Y SUBA DE BOGOTÁ DC | G21: DIEGO FONSECA CHAVEZ | H21: 20 | I21: SI | J21: 1582.07 | K21: 1 | L21: =IF(OR(H21="",I21<>"SI",I21="NO",J21="",J21=0,K21="",K21=0,Q21<>"SI",N21<>"SI"),0,J21*K21) -> 1582.07 | M21: =+IF(C21<>"",IF(L21>=$H$6,"SI","NO"),"") -> SI | N21: SI | Q21: =+IF(C21="","",IF(AND(H21<>"",I21="SI",J21<>"",J21>0,K21<>"",K21>0),"SI","NO")) -> SI | S21: =+IF(C21<>"",IF(AND(M21="SI",N21="SI",Q21="SI"),"HÁBIL","NO HÁBIL"),"") -> HÁBIL
L22: =IF(OR(H22="",I22<>"SI",I22="NO",J22="",J22=0,K22="",K22=0,Q22<>"SI",N22<>"SI"),0,J22*K22) -> 0 | M22: =+IF(C22<>"",IF(L22>=$H$6,"SI","NO"),"") | Q22: =+IF(C22="","",IF(AND(H22<>"",I22="SI",J22<>"",J22>0,K22<>"",K22>0),"SI","NO")) | S22: =+IF(C22<>"",IF(AND(M22="SI",N22="SI",Q22="SI"),"HÁBIL","NO HÁBIL"),"")
L23: =IF(OR(H23="",I23<>"SI",I23="NO",J23="",J23=0,K23="",K23=0,Q23<>"SI",N23<>"SI"),0,J23*K23) -> 0 | M23: =+IF(C23<>"",IF(L23>=$H$6,"SI","NO"),"") | Q23: =+IF(C23="","",IF(AND(H23<>"",I23="SI",J23<>"",J23>0,K23<>"",K23>0),"SI","NO")) | S23: =+IF(C23<>"",IF(AND(M23="SI",N23="SI",Q23="SI"),"HÁBIL","NO HÁBIL"),"")
L24: =IF(OR(H24="",I24<>"SI",I24="NO",J24="",J24=0,K24="",K24=0,Q24<>"SI",N24<>"SI"),0,J24*K24) -> 0 | M24: =+IF(C24<>"",IF(L24>=$H$6,"SI","NO"),"") | Q24: =+IF(C24="","",IF(AND(H24<>"",I24="SI",J24<>"",J24>0,K24<>"",K24>0),"SI","NO")) | S24: =+IF(C24<>"",IF(AND(M24="SI",N24="SI",Q24="SI"),"HÁBIL","NO HÁBIL"),"")
A25: =+$B18 -> 2 | B25: ="A"&B18 -> A2 | C25: =+$C$16 -> PROPONENTE HÁBIL / NO HÁBIL | I25: =IF(S21="","",IF(OR(S21="HÁBIL",S22="HÁBIL",S23="HÁBIL",S24="HÁBIL"),"HÁBIL","NO HÁBIL")) -> HÁBIL
B27: =1+B18 -> 3 | C27: CONSORCIO JE ORIENTE | J27: =+IF(C27="","",$J$9) -> INTEGRANTES | K27: ELSA MARIA RUEDA LANDINEZ INGENIERIA SAS 50% - AEROVIAS INGENIERIA SAS 50% | N27: =+B27 -> 3 | O27: =+$O$9 -> OBSERVACIONES | Q27: =+$Q$9 -> ¿EL CONTRATO CUMPLE CON LOS REQUERIMIENTOS ADICIONALES DE EXPERIENCIA EN EL PLIEGO? (INSCRIPCIÓN EN RUP - CÓDIGO UNSPSC - VALOR EN RUP - % DE PARTICIPACIÓN) (SI / NO) | S27: =+$S$9 -> PROPONENTE HÁBIL/NO HÁBIL
B28: =+$B$10 -> ITEM | C28: =+$C$10 -> PROPONENTE / INTEGRANTE OFERENTE PLURAL | D28: =+$D$10 -> INFORMACIÓN DEL CONTRATO | H28: =+H19 -> CONSECUTIVO RUP | I28: =+$I$10 -> ¿SE ENCUENTRA INSCRITO EN EL RUP Y CUMPLE CÓDIGOS UNSPSC? | J28: =+$J$10 -> VALOR EN RUP (SMMLV) | K28: =+$K$10 -> % PARTIC en el RUP | L28: =+$L$10 -> VALOR DEL CONTRATO TERMINADO (SMMLV) en el RUP | M28: =+$M$10 -> VALOR CERTIFICADO CONTRATO > VEH | N28: =+$N$10 -> VALIDACIÓN DE OBJETO Y/O ALCANCE (SI/NO) (INTERVENTORIA DE OBRA CIVIL) | S28: =+$S$10 -> 0
D29: =+$D$11 -> ENTIDAD | E29: =+$E$11 -> No. DE CONTRATO | F29: =+$F$11 -> OBJETO | G29: =+$G$11 -> CONTRATISTA
B30: 1 | C30: AEROVIAS INGENIERIA SAS | D30: GOBERNACION DE CASANARE | E30: 1067 de 2005 | F30: INTERVENTORIA AL MEJORAMIENTO Y PAVIMENTACION DE LA VIA QUE CONDUCE DE PAZ DE ARIPORO EN EL K16+900 HASTA EL K48+900, SECTOR LA CHAPA DEL MUNICIPIO DE PAZ DE ARIPORO. | G30: CONSORCIO MALLA VIAL | H30: 11 | I30: SI | J30: 2707.75 | K30: 0.8 | L30: =IF(OR(H30="",I30<>"SI",I30="NO",J30="",J30=0,K30="",K30=0,Q30<>"SI",N30<>"SI"),0,J30*K30) -> 2166.2 | M30: =+IF(C30<>"",IF(L30>=$H$6,"SI","NO"),"") -> SI | N30: SI | Q30: =+IF(C30="","",IF(AND(H30<>"",I30="SI",J30<>"",J30>0,K30<>"",K30>0),"SI","NO")) -> SI | S30: =+IF(C30<>"",IF(AND(M30="SI",N30="SI",Q30="SI"),"HÁBIL","NO HÁBIL"),"") -> HÁBIL
L31: =IF(OR(H31="",I31<>"SI",I31="NO",J31="",J31=0,K31="",K31=0,Q31<>"SI",N31<>"SI"),0,J31*K31) -> 0 | M31: =+IF(C31<>"",IF(L31>=$H$6,"SI","NO"),"") | Q31: =+IF(C31="","",IF(AND(H31<>"",I31="SI",J31<>"",J31>0,K31<>"",K31>0),"SI","NO")) | S31: =+IF(C31<>"",IF(AND(M31="SI",N31="SI",Q31="SI"),"HÁBIL","NO HÁBIL"),"")
L32: =IF(OR(H32="",I32<>"SI",I32="NO",J32="",J32=0,K32="",K32=0,Q32<>"SI",N32<>"SI"),0,J32*K32) -> 0 | M32: =+IF(C32<>"",IF(L32>=$H$6,"SI","NO"),"") | Q32: =+IF(C32="","",IF(AND(H32<>"",I32="SI",J32<>"",J32>0,K32<>"",K32>0),"SI","NO")) | S32: =+IF(C32<>"",IF(AND(M32="SI",N32="SI",Q32="SI"),"HÁBIL","NO HÁBIL"),"")
L33: =IF(OR(H33="",I33<>"SI",I33="NO",J33="",J33=0,K33="",K33=0,Q33<>"SI",N33<>"SI"),0,J33*K33) -> 0 | M33: =+IF(C33<>"",IF(L33>=$H$6,"SI","NO"),"") | Q33: =+IF(C33="","",IF(AND(H33<>"",I33="SI",J33<>"",J33>0,K33<>"",K33>0),"SI","NO")) | S33: =+IF(C33<>"",IF(AND(M33="SI",N33="SI",Q33="SI"),"HÁBIL","NO HÁBIL"),"")
A34: =+$B27 -> 3 | B34: ="A"&B27 -> A3 | C34: =+$C$16 -> PROPONENTE HÁBIL / NO HÁBIL | I34: =IF(S30="","",IF(OR(S30="HÁBIL",S31="HÁBIL",S32="HÁBIL",S33="HÁBIL"),"HÁBIL","NO HÁBIL")) -> HÁBIL
B36: =1+B27 -> 4 | C36: VELNEC SA | J36: =+IF(C36="","",$J$9) -> INTEGRANTES | K36: NA | N36: =+B36 -> 4 | O36: =+$O$9 -> OBSERVACIONES | Q36: =+$Q$9 -> ¿EL CONTRATO CUMPLE CON LOS REQUERIMIENTOS ADICIONALES DE EXPERIENCIA EN EL PLIEGO? (INSCRIPCIÓN EN RUP - CÓDIGO UNSPSC - VALOR EN RUP - % DE PARTICIPACIÓN) (SI / NO) | S36: =+$S$9 -> PROPONENTE HÁBIL/NO HÁBIL
B37: =+$B$10 -> ITEM | C37: =+$C$10 -> PROPONENTE / INTEGRANTE OFERENTE PLURAL | D37: =+$D$10 -> INFORMACIÓN DEL CONTRATO | H37: =+H28 -> CONSECUTIVO RUP | I37: =+$I$10 -> ¿SE ENCUENTRA INSCRITO EN EL RUP Y CUMPLE CÓDIGOS UNSPSC? | J37: =+$J$10 -> VALOR EN RUP (SMMLV) | K37: =+$K$10 -> % PARTIC en el RUP | L37: =+$L$10 -> VALOR DEL CONTRATO TERMINADO (SMMLV) en el RUP | M37: =+$M$10 -> VALOR CERTIFICADO CONTRATO > VEH | N37: =+$N$10 -> VALIDACIÓN DE OBJETO Y/O ALCANCE (SI/NO) (INTERVENTORIA DE OBRA CIVIL) | S37: =+$S$10 -> 0
D38: =+$D$11 -> ENTIDAD | E38: =+$E$11 -> No. DE CONTRATO | F38: =+$F$11 -> OBJETO | G38: =+$G$11 -> CONTRATISTA
B39: 1 | C39: VELNEC SA | D39: INSTITUTO DE DESARROLLO URBANO IDU | E39: IDU-BM-250-2004 | F39: INTERVENTORÍA TÉCNICA, ADMINISTRATIVA, FINANCIERA, SOCIAL Y AMBIENTAL PARA LA CONSTRUCCIÓN, REHABILITACIÓN Y CONSERVACIÓN DE VÍAS PARA RUTAS ALIMENTADORAS DEL SISTEMA TRANSMILENIO ZONA 4, GRUPO 1 EN BOGOTÁ D.C. | G39: VELNEC SA | H39: 1 | I39: SI | J39: 4657.56 | K39: 1 | L39: =IF(OR(H39="",I39<>"SI",I39="NO",J39="",J39=0,K39="",K39=0,Q39<>"SI",N39<>"SI"),0,J39*K39) -> 4657.56 | M39: =+IF(C39<>"",IF(L39>=$H$6,"SI","NO"),"") -> SI | N39: SI | Q39: =+IF(C39="","",IF(AND(H39<>"",I39="SI",J39<>"",J39>0,K39<>"",K39>0),"SI","NO")) -> SI | S39: =+IF(C39<>"",IF(AND(M39="SI",N39="SI",Q39="SI"),"HÁBIL","NO HÁBIL"),"") -> HÁBIL
L40: =IF(OR(H40="",I40<>"SI",I40="NO",J40="",J40=0,K40="",K40=0,Q40<>"SI",N40<>"SI"),0,J40*K40) -> 0 | M40: =+IF(C40<>"",IF(L40>=$H$6,"SI","NO"),"") | Q40: =+IF(C40="","",IF(AND(H40<>"",I40="SI",J40<>"",J40>0,K40<>"",K40>0),"SI","NO")) | S40: =+IF(C40<>"",IF(AND(M40="SI",N40="SI",Q40="SI"),"HÁBIL","NO HÁBIL"),"")
L41: =IF(OR(H41="",I41<>"SI",I41="NO",J41="",J41=0,K41="",K41=0,Q41<>"SI",N41<>"SI"),0,J41*K41) -> 0 | M41: =+IF(C41<>"",IF(L41>=$H$6,"SI","NO"),"") | Q41: =+IF(C41="","",IF(AND(H41<>"",I41="SI",J41<>"",J41>0,K41<>"",K41>0),"SI","NO")) | S41: =+IF(C41<>"",IF(AND(M41="SI",N41="SI",Q41="SI"),"HÁBIL","NO HÁBIL"),"")
L42: =IF(OR(H42="",I42<>"SI",I42="NO",J42="",J42=0,K42="",K42=0,Q42<>"SI",N42<>"SI"),0,J42*K42) -> 0 | M42: =+IF(C42<>"",IF(L42>=$H$6,"SI","NO"),"") | Q42: =+IF(C42="","",IF(AND(H42<>"",I42="SI",J42<>"",J42>0,K42<>"",K42>0),"SI","NO")) | S42: =+IF(C42<>"",IF(AND(M42="SI",N42="SI",Q42="SI"),"HÁBIL","NO HÁBIL"),"")
A43: =+$B36 -> 4 | B43: ="A"&B36 -> A4 | C43: =+$C$16 -> PROPONENTE HÁBIL / NO HÁBIL | I43: =IF(S39="","",IF(OR(S39="HÁBIL",S40="HÁBIL",S41="HÁBIL",S42="HÁBIL"),"HÁBIL","NO HÁBIL")) -> HÁBIL
B45: =1+B36 -> 5 | C45: CONSORCIO INTERDESARROLLO 010 | J45: =+IF(C45="","",$J$9) -> INTEGRANTES | K45: JORGE ALVARO SANCHEZ BLANCO 50% - ARM CONSULTING LTDA 50% | N45: =+B45 -> 5 | O45: =+$O$9 -> OBSERVACIONES | Q45: =+$Q$9 -> ¿EL CONTRATO CUMPLE CON LOS REQUERIMIENTOS ADICIONALES DE EXPERIENCIA EN EL PLIEGO? (INSCRIPCIÓN EN RUP - CÓDIGO UNSPSC - VALOR EN RUP - % DE PARTICIPACIÓN) (SI / NO) | S45: =+$S$9 -> PROPONENTE HÁBIL/NO HÁBIL
...

Sheet EXP ESPECIFICA PROPONENTE
B1: Volver al Indice | D1: CONCURSO DE MÉRITOS No. 10827
D2: OBJETO: INTERVENTORÍA TÉCNICA, ADMINISTRATIVA, AMBIENTAL, FINANCIERA Y LEGAL PARA LA CONSERVACIÓN, MANTENIMIENTO Y REHABILITACIÓN DE LAS VÍAS A CARGO DEL DEPARTAMENTO DE ANTIOQUIA EN LAS SUBREGION ORIENTE
B3: NÚMERO DE CONTRATOS: MINIMO 1, MÁXIMO 3 | G3: PESOS | H3: SMMLV-2020 | I3: REQUISITOS DE LA EXPERIENCIA QUE SE PRETENDE ACREDITAR PARA EL PROCESO
B4: PRESUPUESTO OFICIAL | G4: 784601462 | H4: =IFERROR(G4/H8,0) -> 893.82408
B5: PLAZO DEL CONTRATO EN MESES | G5: 6
B6: 0.3 | C6: DEL PRESUPUESTO OFICIAL | G6: =$G$4*$B$6 -> 2.3538044e+08 | H6: =IFERROR(G6/$H$8,0) -> 268.14723
B7: FACTURACION MENSUAL OFICIAL (FMO) EN SMMLV | G7: =IFERROR(IF(G5="","",G4/G5),"") -> 1.3076691e+08 | H7: =IFERROR(IF($G$5="","",ROUND($H$4/$G$5,3)),"") -> 148.971
B8: CODIGO UNSPSC | D8: 81101500 | G8: SMMLV-2020 | H8: 877803 | X8: No. DE CONTRATOS A ACREDITAR EXPERIENCIA ESPECÍFICA (VER PLIEGO) | Y8: 1 | Z8: 1
B10: 1 | C10: CONSORCIO HUPERNIKAO VIAL 827 | J10: =+IF(C10="","","INTEGRANTES") -> INTEGRANTES | K10: JET INGENIERIA SAS 75% - CTO INGENIERIA SAS 25% | R10: PROPONENTE No. | T10: =+B10 -> 1 | U10: PFMP | V10: =IF(T24="",0,T24) -> 63.312 | X10: ¿EL CONTRATO CUMPLE CON LOS REQUERIMIENTOS ADICIONALES DE EXPERIENCIA EN EL PLIEGO? (SI EL CONTRATO NO ES VÁLIDO, INDICAR NO) (SI / NO) | Z10: EXP. ESPECÍFICA A: | AB10: EXP. ESPECÍFICA B: | AG10: 2
B11: ITEM | C11: PROPONENTE / INTEGRANTE OFERENTE PLURAL | D11: INFORMACIÓN DEL CONTRATO | H11: CONSECUTIVO RUP | I11: ¿SE ENCUENTRA INSCRITO EN EL RUP Y CUMPLE CÓDIGOS UNSPSC? | J11: VALOR EN RUP (SMMLV) | K11: % PARTIC en el RUP | L11: VALOR DEL CONTRATO TERMINADO (SMMLV) en el RUP | M11: FECHA DE INICIO | N11: FECHA DE TERMINACION | O11: PLAZO CONTRA-TO (Meses) | P11: Tsusp i | S11: PLAZO i REAL | T11: FACTURA-CION MENSUAL PROPO-NENTE | U11: VALIDACIÓN DE LA EXPERIENCIA GENERAL (SI/NO) | V11: OBSERVACIONES | Z11: Interventoria a la ejecución de obras relacionadas con Colocación de capas granulares (tales como bases y/o sub-bases granulares). | AB11: Interventoria a la Ejecución de obras de subdrenaje y/o drenaje, en carreteras.
D12: ENTIDAD | E12: No. DE CONTRATO | F12: OBJETO | G12: CONTRATISTA | P12: Finicsuspi | Q12: Ftermsuspi | R12: Tsusp i (meses)
A13: =+IF(T13="","",B13) -> 1 | B13: 1 | C13: JET INGENIERIA SAS | D13: GOBERNACIÓN DEL ATLÁNTICO | E13: 0108*2018*000079 | F13: INTERVENTORÍA TÉCNICA, ADMINISTRATIVA, FINANCIERA Y AMBIENTAL DE LAS VÍAS DEL GRUPO VIII DE LA LICITACIÓN PÚBLICA No. LP-DG-007-2017 CUYO OBJETO ES: "MEJORAMIENTO DE LA VÍA SANTO TOMÁS - EL UVITO, CONSTRUCCIÓN PUENTE EL UVITO, CONSTRUCCIÓN PUENTE EL UVITO, REVISIÓN ESTUDIOS Y DISEÑOS" | G13: CONSORCIO TRANSFORMAR VIAL 18-02 | H13: 46 | I13: SI | J13: 2279.23 | K13: 0.5 | L13: =IF(OR(H13="",I13<>"SI",I13="NO",J13="",J13=0,K13="",K13=0,X13<>"SI"),0,J13*K13) -> 1139.615 | M13: 43280 | N13: 43819 | O13: =IF(OR(H13="",I13<>"SI",I13="NO",J13="",J13=0,K13="",K13=0,,M13="",N13=""),"",ROUND((((N13-M13)+1)/30),3)) -> 18 | R13: =IF(OR((Q13-P13)=0,P13="",Q13=""),0,(ROUND((((Q13-P13)+1)/30),3))) -> 0 | S13: =IF(O13="","",ROUND(SUM(O13)-SUM(R13),3)) -> 18 | T13: =+IF(C13="","",IF(OR(S13="",S13<=0,I13="",I13="NO",U13="",U13="NO",X13="NO"),"",ROUND(SUM(L13)/S13,3))) -> 63.312 | U13: SI | X13: =+IF(C13="","",IF(AND(H13<>"",I13="SI",J13<>"",J13>0,K13<>"",K13>0,S13<>"",S13>0,U13="SI"),"SI","NO")) -> SI | Z13: SI | AB13: SI | AD13: =+IF($C$10="","",IF(C13="","",IF(L13>=$H$6,"SI","NO"))) -> SI | AE13: =+IF(OR($T$13="",X13="",X13="NO"),"",L13) -> 1139.615 | AF13: =+IF(AE13="","",L13/$S$13) -> 63.311944 | AG13: =0.1+B10 -> 1.1 | AH13: JET INGENIERIA SAS
A14: =+IF(T14="","",B14) -> 2 | B14: 2 | C14: CTO INGENIERIA SAS | H14: 1 | I14: SI | J14: 2279.23 | K14: 0.5 | L14: =IF(OR(H14="",I14<>"SI",I14="NO",J14="",J14=0,K14="",K14=0,X14<>"SI"),0,J14*K14) -> 1139.615 | M14: 43280 | N14: 43819 | O14: =IF(OR(H14="",I14<>"SI",I14="NO",J14="",J14=0,K14="",K14=0,,M14="",N14=""),"",ROUND((((N14-M14)+1)/30),3)) -> 18 | R14: =IF(OR((Q14-P14)=0,P14="",Q14=""),0,(ROUND((((Q14-P14)+1)/30),3))) -> 0 | S14: =IF(O14="","",ROUND(SUM(O14)-SUM(R14),3)) -> 18 | T14: =+IF(C14="","",IF(OR(S14="",S14<=0,I14="",I14="NO",U14="",U14="NO",X14="NO"),"",ROUND(SUM(L14)/S14,3))) -> 63.312 | U14: SI | X14: =+IF(C14="","",IF(AND(H14<>"",I14="SI",J14<>"",J14>0,K14<>"",K14>0,S14<>"",S14>0,U14="SI"),"SI","NO")) -> SI | Z14: SI | AB14: SI | AD14: =+IF($C$10="","",IF(C14="","",IF(L14>=$H$6,"SI","NO"))) -> SI | AE14: =+IF(OR($T$14="",X14="",X14="NO"),"",L14) -> 1139.615 | AF14: =+IF(AE14="","",L14/$S$14) -> 63.311944 | AG14: =0.2+B10 -> 1.2 | AH14: CTO INGENIERIA SAS
A15: =+IF(T15="","",B15) | L15: =IF(OR(H15="",I15<>"SI",I15="NO",J15="",J15=0,K15="",K15=0,X15<>"SI"),0,J15*K15) -> 0 | O15: =IF(OR(H15="",I15<>"SI",I15="NO",J15="",J15=0,K15="",K15=0,,M15="",N15=""),"",ROUND((((N15-M15)+1)/30),3)) | R15: =IF(OR((Q15-P15)=0,P15="",Q15=""),0,(ROUND((((Q15-P15)+1)/30),3))) -> 0 | S15: =IF(O15="","",ROUND(SUM(O15)-SUM(R15),3)) | T15: =+IF(C15="","",IF(OR(S15="",S15<=0,I15="",I15="NO",U15="",U15="NO",X15="NO"),"",ROUND(SUM(L15)/S15,3))) | X15: =+IF(C15="","",IF(AND(H15<>"",I15="SI",J15<>"",J15>0,K15<>"",K15>0,S15<>"",S15>0,U15="SI"),"SI","NO")) | AD15: =+IF($C$10="","",IF(C15="","",IF(L15>=$H$6,"SI","NO"))) | AE15: =+IF(OR($T$15="",X15="",X15="NO"),"",L15) | AF15: =+IF(AE15="","",L15/$S$15) | AG15: =0.3+B10 -> 1.3
A16: =+IF(T16="","",B16) | L16: =IF(OR(H16="",I16<>"SI",I16="NO",J16="",J16=0,K16="",K16=0,X16<>"SI"),0,J16*K16) -> 0 | O16: =IF(OR(H16="",I16<>"SI",I16="NO",J16="",J16=0,K16="",K16=0,,M16="",N16=""),"",ROUND((((N16-M16)+1)/30),3)) | R16: =IF(OR((Q16-P16)=0,P16="",Q16=""),0,(ROUND((((Q16-P16)+1)/30),3))) -> 0 | S16: =IF(O16="","",ROUND(SUM(O16)-SUM(R16),3)) | T16: =+IF(C16="","",IF(OR(S16="",S16<=0,I16="",I16="NO",U16="",U16="NO",X16="NO"),"",ROUND(SUM(L16)/S16,3))) | X16: =+IF(C16="","",IF(AND(H16<>"",I16="SI",J16<>"",J16>0,K16<>"",K16>0,S16<>"",S16>0,U16="SI"),"SI","NO")) | AD16: =+IF($C$10="","",IF(C16="","",IF(L16>=$H$6,"SI","NO"))) | AE16: =+IF(OR($T$16="",X16="",X16="NO"),"",L16) | AF16: =+IF(AE16="","",L16/$S$16)
A17: =+IF(T17="","",B17) | L17: =IF(OR(H17="",I17<>"SI",I17="NO",J17="",J17=0,K17="",K17=0,X17<>"SI"),0,J17*K17) -> 0 | O17: =IF(OR(H17="",I17<>"SI",I17="NO",J17="",J17=0,K17="",K17=0,,M17="",N17=""),"",ROUND((((N17-M17)+1)/30),3)) | R17: =IF(OR((Q17-P17)=0,P17="",Q17=""),0,(ROUND((((Q17-P17)+1)/30),3))) -> 0 | S17: =IF(O17="","",ROUND(SUM(O17)-SUM(R17),3)) | T17: =+IF(C17="","",IF(OR(S17="",S17<=0,I17="",I17="NO",U17="",U17="NO",X17="NO"),"",ROUND(SUM(L17)/S17,3))) | X17: =+IF(C17="","",IF(AND(H17<>"",I17="SI",J17<>"",J17>0,K17<>"",K17>0,S17<>"",S17>0,U17="SI"),"SI","NO")) | AD17: =+IF($C$10="","",IF(C17="","",IF(L17>=$H$6,"SI","NO"))) | AE17: =+IF(OR($T$17="",X17="",X17="NO"),"",L17) | AF17: =+IF(AE17="","",L17/$S$17)
A18: =+IF(T18="","",B18) | L18: =IF(OR(H18="",I18<>"SI",I18="NO",J18="",J18=0,K18="",K18=0,X18<>"SI"),0,J18*K18) -> 0 | O18: =IF(OR(H18="",I18<>"SI",I18="NO",J18="",J18=0,K18="",K18=0,,M18="",N18=""),"",ROUND((((N18-M18)+1)/30),3)) | R18: =IF(OR((Q18-P18)=0,P18="",Q18=""),0,(ROUND((((Q18-P18)+1)/30),3))) -> 0 | S18: =IF(O18="","",ROUND(SUM(O18)-SUM(R18),3)) | T18: =+IF(C18="","",IF(OR(S18="",S18<=0,I18="",I18="NO",U18="",U18="NO",X18="NO"),"",ROUND(SUM(L18)/S18,3))) | X18: =+IF(C18="","",IF(AND(H18<>"",I18="SI",J18<>"",J18>0,K18<>"",K18>0,S18<>"",S18>0,U18="SI"),"SI","NO")) | AD18: =+IF($C$10="","",IF(C18="","",IF(L18>=$H$6,"SI","NO"))) | AE18: =+IF(OR($T$18="",X18="",X18="NO"),"",L18) | AF18: =+IF(AE18="","",L18/$S$18)
A19: =+IF(T19="","",B19) | L19: =IF(OR(H19="",I19<>"SI",I19="NO",J19="",J19=0,K19="",K19=0,X19<>"SI"),0,J19*K19) -> 0 | O19: =IF(OR(H19="",I19<>"SI",I19="NO",J19="",J19=0,K19="",K19=0,,M19="",N19=""),"",ROUND((((N19-M19)+1)/30),3)) | R19: =IF(OR((Q19-P19)=0,P19="",Q19=""),0,(ROUND((((Q19-P19)+1)/30),3))) -> 0 | S19: =IF(O19="","",ROUND(SUM(O19)-SUM(R19),3)) | T19: =+IF(C19="","",IF(OR(S19="",S19<=0,I19="",I19="NO",U19="",U19="NO",X19="NO"),"",ROUND(SUM(L19)/S19,3))) | X19: =+IF(C19="","",IF(AND(H19<>"",I19="SI",J19<>"",J19>0,K19<>"",K19>0,S19<>"",S19>0,U19="SI"),"SI","NO")) | AD19: =+IF($C$10="","",IF(C19="","",IF(L19>=$H$6,"SI","NO"))) | AE19: =+IF(OR($T$19="",X19="",X19="NO"),"",L19) | AF19: =+IF(AE19="","",L19/$S$19)
A20: =+IF(T20="","",B20) | L20: =IF(OR(H20="",I20<>"SI",I20="NO",J20="",J20=0,K20="",K20=0,X20<>"SI"),0,J20*K20) -> 0 | O20: =IF(OR(H20="",I20<>"SI",I20="NO",J20="",J20=0,K20="",K20=0,,M20="",N20=""),"",ROUND((((N20-M20)+1)/30),3)) | R20: =IF(OR((Q20-P20)=0,P20="",Q20=""),0,(ROUND((((Q20-P20)+1)/30),3))) -> 0 | S20: =IF(O20="","",ROUND(SUM(O20)-SUM(R20),3)) | T20: =+IF(C20="","",IF(OR(S20="",S20<=0,I20="",I20="NO",U20="",U20="NO",X20="NO"),"",ROUND(SUM(L20)/S20,3))) | X20: =+IF(C20="","",IF(AND(H20<>"",I20="SI",J20<>"",J20>0,K20<>"",K20>0,S20<>"",S20>0,U20="SI"),"SI","NO")) | AD20: =+IF($C$10="","",IF(C20="","",IF(L20>=$H$6,"SI","NO"))) | AE20: =+IF(OR($T$20="",X20="",X20="NO"),"",L20) | AF20: =+IF(AE20="","",L20/$S$20)
A21: =+IF(T21="","",B21) | L21: =IF(OR(H21="",I21<>"SI",I21="NO",J21="",J21=0,K21="",K21=0,X21<>"SI"),0,J21*K21) -> 0 | O21: =IF(OR(H21="",I21<>"SI",I21="NO",J21="",J21=0,K21="",K21=0,,M21="",N21=""),"",ROUND((((N21-M21)+1)/30),3)) | R21: =IF(OR((Q21-P21)=0,P21="",Q21=""),0,(ROUND((((Q21-P21)+1)/30),3))) -> 0 | S21: =IF(O21="","",ROUND(SUM(O21)-SUM(R21),3)) | T21: =+IF(C21="","",IF(OR(S21="",S21<=0,I21="",I21="NO",U21="",U21="NO",X21="NO"),"",ROUND(SUM(L21)/S21,3))) | X21: =+IF(C21="","",IF(AND(H21<>"",I21="SI",J21<>"",J21>0,K21<>"",K21>0,S21<>"",S21>0,U21="SI"),"SI","NO")) | AD21: =+IF($C$10="","",IF(C21="","",IF(L21>=$H$6,"SI","NO"))) | AE21: =+IF(OR($T$21="",X21="",X21="NO"),"",L21) | AF21: =+IF(AE21="","",L21/$S$21)
A22: =+IF(T22="","",B22) | L22: =IF(OR(H22="",I22<>"SI",I22="NO",J22="",J22=0,K22="",K22=0,X22<>"SI"),0,J22*K22) -> 0 | O22: =IF(OR(H22="",I22<>"SI",I22="NO",J22="",J22=0,K22="",K22=0,,M22="",N22=""),"",ROUND((((N22-M22)+1)/30),3)) | R22: =IF(OR((Q22-P22)=0,P22="",Q22=""),0,(ROUND((((Q22-P22)+1)/30),3))) -> 0 | S22: =IF(O22="","",ROUND(SUM(O22)-SUM(R22),3)) | T22: =+IF(C22="","",IF(OR(S22="",S22<=0,I22="",I22="NO",U22="",U22="NO",X22="NO"),"",ROUND(SUM(L22)/S22,3))) | X22: =+IF(C22="","",IF(AND(H22<>"",I22="SI",J22<>"",J22>0,K22<>"",K22>0,S22<>"",S22>0,U22="SI"),"SI","NO")) | AD22: =+IF($C$10="","",IF(C22="","",IF(L22>=$H$6,"SI","NO"))) | AE22: =+IF(OR($T$22="",X22="",X22="NO"),"",L22) | AF22: =+IF(AE22="","",L22/$S$22)
B23: ="A"&B10 -> A1 | C23: ¿CADA INTEGRANTE DE PROPONENTE PLURAL APORTAN CONTRATO? (SI; NO; NA) | I23: =+IF(AG10="","",IF(AG10=1,"NA",IF(AND(AG10=3,(IF(COUNTIFS(C13:C22,AH13,AE13:AE22,">0")>=1,1,0)+IF(COUNTIFS(C13:C22,AH14,AE13:AE22,">0")>=1,1,0)+IF(COUNTIFS(C13:C22,AH15,AE13:AE22,">0")>=1,1,0))>=AG10),"SI",IF(AND(AG10=2,(IF(COUNTIFS(C13:C22,AH13,AE13:AE22,">0")>=1,1,0)+IF(COUNTIFS(C13:C22,AH14,AE13:AE22,">0")>=1,1,0))>=AG10),"SI","NO")))) -> SI | P23: FACTURACION MENSUAL TOTAL | T23: =ROUND(SUM(T13:T22),3) -> 126.624
B24: ="B"&B10 -> B1 | C24: =+CONCATENATE("En caso de proponente plural: ¿De la totalidad de los contratos aportados por el proponente plural, el valor ejecutado de uno de ellos deberá ser igual o superior al ",(B6*100),"%"," del P.O.? (SI; NO; NA)") -> En caso de proponente plural: ¿De la totalidad de los contratos aportados por el proponente plural, el valor ejecutado de uno de ellos deberá ser igual o superior al 30% del P.O.? (SI; NO; NA) | H24: =+$H$6 -> 268.14723 | I24: =+IF(AG10="","",IF(AG10=1,"NA",IF(AND(AG10>1,(COUNTIFS(AD13:AD22,"SI",AE13:AE22,">0"))>=1),"SI","NO"))) -> SI | P24: PROMEDIO FACTURACIÓN MENSUAL DEL PROPONENTE (PFMP) | T24: {=IF(T23=0,0,ROUND(T23/(SUM(IF(FREQUENCY(A13:A22,A13:A22)>0,1))),3))} -> 63.312
B25: ="C"&B10 -> C1 | C25: PROPONENTE CUMPLE CON LAS ACTIVIDADES a) y b)? (SI; NO) | I25: =IF(C10="","",(IF(AND(COUNTIFS(X13:X22,"SI",Z13:Z22,"SI")>=$Z$8,COUNTIFS(X13:X22,"SI",AB13:AB22,"SI")>=$Z$8),"SI","NO"))) -> SI | P25: VALOR PUNTAJE POR EXPERIENCIA DEL PROPONENTE | T25: =IF(OR(C10="",'ASIGNACION DE PUNTAJES'!$C$5=""),"",VLOOKUP(B10,'ASIGNACION DE PUNTAJES'!$A$15:$G$69,7,FALSE)) -> 325.997
B27: =1+B10 -> 2 | C27: CONSORCIO INTERANTIOQUIA | J27: =+IF(C27="","","INTEGRANTES") -> INTEGRANTES | K27: CPS INFRAESTRUCTURAS COLOMBIA SAS 50% - INGENIERIA DF SAS 50% | R27: =+$R$10 -> PROPONENTE No. | T27: =+B27 -> 2 | U27: =+$U$10 -> PFMP | V27: =IF(T41="",0,T41) -> 119.177 | X27: ¿EL CONTRATO CUMPLE CON LOS REQUERIMIENTOS ADICIONALES DE EXPERIENCIA EN EL PLIEGO? (SI EL CONTRATO NO ES VÁLIDO, INDICAR NO) (SI / NO) | Z27: =+$Z$10 -> EXP. ESPECÍFICA A: | AB27: =+$AB$10 -> EXP. ESPECÍFICA B: | AG27: 2
B28: =+$B$11 -> ITEM | C28: =+$C$11 -> PROPONENTE / INTEGRANTE OFERENTE PLURAL | D28: =+$D$11 -> INFORMACIÓN DEL CONTRATO | H28: =+H11 -> CONSECUTIVO RUP | I28: =+$I$11 -> ¿SE ENCUENTRA INSCRITO EN EL RUP Y CUMPLE CÓDIGOS UNSPSC? | J28: =+$J$11 -> VALOR EN RUP (SMMLV) | K28: =+$K$11 -> % PARTIC en el RUP | L28: =+$L$11 -> VALOR DEL CONTRATO TERMINADO (SMMLV) en el RUP | M28: =+$M$11 -> FECHA DE INICIO | N28: =+$N$11 -> FECHA DE TERMINACION | O28: =+$O$11 -> PLAZO CONTRA-TO (Meses) | P28: =+$P$11 -> Tsusp i | S28: =+$S$11 -> PLAZO i REAL | T28: =+$T$11 -> FACTURA-CION MENSUAL PROPO-NENTE | U28: =+$U$11 -> VALIDACIÓN DE LA EXPERIENCIA GENERAL (SI/NO) | V28: =+$V$11 -> OBSERVACIONES | Z28: =+$Z$11 -> Interventoria a la ejecución de obras relacionadas con Colocación de capas granulares (tales como bases y/o sub-bases granulares). | AB28: =+$AB$11 -> Interventoria a la Ejecución de obras de subdrenaje y/o drenaje, en carreteras.
D29: =+$D$12 -> ENTIDAD | E29: =+$E$12 -> No. DE CONTRATO | F29: =+$F$12 -> OBJETO | G29: =+$G$12 -> CONTRATISTA | P29: =+P12 -> Finicsuspi | Q29: =+Q12 -> Ftermsuspi | R29: =+R12 -> Tsusp i (meses)
A30: =+IF(T30="","",B30) -> 1 | B30: 1 | C30: CPS INFRAESTRUCTURAS COLOMBIA SAS | D30: GENERALITAT VALENCIANA | E30: n/s | F30: ASISTENCIA TÉCNICA PARA LA EJECUCIÓN DEL PROYECTO DE CONSTRUCCIÓN DEL TERCER CARRIL DE LA AUTOVÍA DE LLIRIA, TRAMO TVV‐BYPASS. PATERNA (VALENCIA) | G30: CPS INGENIEROS OBRA CIVIL Y MEDIO AMBIENTE SL | H30: 13 | I30: SI | J30: 3324.8 | K30: 1 | L30: =IF(OR(H30="",I30<>"SI",I30="NO",J30="",J30=0,K30="",K30=0,X30<>"SI"),0,J30*K30) -> 3324.8 | M30: 37120 | N30: 37946 | O30: =IF(OR(H30="",I30<>"SI",I30="NO",J30="",J30=0,K30="",K30=0,,M30="",N30=""),"",ROUND((((N30-M30)+1)/30),3)) -> 27.567 | R30: =IF(OR((Q30-P30)=0,P30="",Q30=""),0,(ROUND((((Q30-P30)+1)/30),3))) -> 0 | S30: =IF(O30="","",ROUND(SUM(O30)-SUM(R30),3)) -> 27.567 | T30: =+IF(C30="","",IF(OR(S30="",S30<=0,I30="",I30="NO",U30="",U30="NO",X30="NO"),"",ROUND(SUM(L30)/S30,3))) -> 120.608 | U30: SI | X30: =+IF(C30="","",IF(AND(H30<>"",I30="SI",J30<>"",J30>0,K30<>"",K30>0,S30<>"",S30>0,U30="SI"),"SI","NO")) -> SI | Z30: SI | AB30: SI | AD30: =+IF($C$27="","",IF(C30="","",IF(L30>=$H$6,"SI","NO"))) -> SI | AE30: =+IF(OR($T$30="",X30="",X30="NO"),"",L30) -> 3324.8 | AF30: =+IF(AE30="","",L30/$S$30) -> 120.60797 | AG30: =0.1+B27 -> 2.1 | AH30: CPS INFRAESTRUCTURAS COLOMBIA SAS
A31: =+IF(T31="","",B31) -> 2 | B31: 2 | C31: CPS INFRAESTRUCTURAS COLOMBIA SAS | D31: GENERALITAT VALENCIANA ‐ AYUNTAMIENTO DE VALENCIA | E31: n/s | F31: DIRECCIÓN DE OBRA Y COORDINACIÓN DE SEGURIDAD Y SALUD DE LAS OBRAS DE RENOVACIÓN DE INFRAESTRUCTURAS VIARIAS Y MEJORAS MEDIOAMBIENTALES Y DE ACCESIBILIDAD CON PAVIMENTO FONOABSORBENTE EN LA AVENIDA PRIMADO REIG | G31: CPS INGENIEROS OBRA CIVIL Y MEDIO AMBIENTE SL | H31: 26 | I31: SI | J31: 203.45 | K31: 1 | L31: =IF(OR(H31="",I31<>"SI",I31="NO",J31="",J31=0,K31="",K31=0,X31<>"SI"),0,J31*K31) -> 203.45 | M31: 40833 | N31: 40901 | O31: =IF(OR(H31="",I31<>"SI",I31="NO",J31="",J31=0,K31="",K31=0,,M31="",N31=""),"",ROUND((((N31-M31)+1)/30),3)) -> 2.3 | R31: =IF(OR((Q31-P31)=0,P31="",Q31=""),0,(ROUND((((Q31-P31)+1)/30),3))) -> 0 | S31: =IF(O31="","",ROUND(SUM(O31)-SUM(R31),3)) -> 2.3 | T31: =+IF(C31="","",IF(OR(S31="",S31<=0,I31="",I31="NO",U31="",U31="NO",X31="NO"),"",ROUND(SUM(L31)/S31,3))) -> 88.457 | U31: SI | X31: =+IF(C31="","",IF(AND(H31<>"",I31="SI",J31<>"",J31>0,K31<>"",K31>0,S31<>"",S31>0,U31="SI"),"SI","NO")) -> SI | Z31: NO | AB31: NO | AD31: =+IF($C$27="","",IF(C31="","",IF(L31>=$H$6,"SI","NO"))) -> NO | AE31: =+IF(OR($T$31="",X31="",X31="NO"),"",L31) -> 203.45 | AF31: =+IF(AE31="","",L31/$S$31) -> 88.456522 | AG31: =0.2+B27 -> 2.2 | AH31: INGENIERIA DF SAS
A32: =+IF(T32="","",B32) -> 3 | B32: 3 | C32: INGENIERIA DF SAS | D32: INSTITUTO DE DESARROLLO URBANO - IDU | E32: IDU-1836-2013 | F32: INTERVENTORÍA TÉCNICA, ADMINISTRATIVA, FINANCIERA, LEGAL, SOCIAL Y SEGURIDAD INDUSTRIAL, SALUD OCUPACIONAL Y MEDIO AMBIENTE PARA LAS OBRAS Y ACTIVIDADES PARA LA CONSERVACIÓN DE LA MALLA VIALARTERIAL NO TRONCAL, EN EL GRUPO 2, FASE 1 — 2013, A PRECIO GLOBAL CON AJUSTE, EN LA CIUDAD DE BOGOTÁ D.C. | G32: DIEGO FERNANDO FONSECA CHAVEZ | H32: 13 | I32: SI | J32: 2805.99 | K32: 1 | L32: =IF(OR(H32="",I32<>"SI",I32="NO",J32="",J32=0,K32="",K32=0,X32<>"SI"),0,J32*K32) -> 2805.99 | M32: 41683 | N32: 42249 | O32: =IF(OR(H32="",I32<>"SI",I32="NO",J32="",J32=0,K32="",K32=0,,M32="",N32=""),"",ROUND((((N32-M32)+1)/30),3)) -> 18.9 | R32: =IF(OR((Q32-P32)=0,P32="",Q32=""),0,(ROUND((((Q32-P32)+1)/30),3))) -> 0 | S32: =IF(O32="","",ROUND(SUM(O32)-SUM(R32),3)) -> 18.9 | T32: =+IF(C32="","",IF(OR(S32="",S32<=0,I32="",I32="NO",U32="",U32="NO",X32="NO"),"",ROUND(SUM(L32)/S32,3))) -> 148.465 | U32: SI | X32: =+IF(C32="","",IF(AND(H32<>"",I32="SI",J32<>"",J32>0,K32<>"",K32>0,S32<>"",S32>0,U32="SI"),"SI","NO")) -> SI | Z32: SI | AB32: SI | AD32: =+IF($C$27="","",IF(C32="","",IF(L32>=$H$6,"SI","NO"))) -> SI | AE32: =+IF(OR($T$31="",X32="",X32="NO"),"",L32) -> 2805.99 | AF32: =+IF(AE32="","",L32/$S$31) -> 1219.9957 | AG32: =0.3+B27 -> 2.3
A33: =+IF(T33="","",B33) | L33: =IF(OR(H33="",I33<>"SI",I33="NO",J33="",J33=0,K33="",K33=0,X33<>"SI"),0,J33*K33) -> 0 | O33: =IF(OR(H33="",I33<>"SI",I33="NO",J33="",J33=0,K33="",K33=0,,M33="",N33=""),"",ROUND((((N33-M33)+1)/30),3)) | R33: =IF(OR((Q33-P33)=0,P33="",Q33=""),0,(ROUND((((Q33-P33)+1)/30),3))) -> 0 | S33: =IF(O33="","",ROUND(SUM(O33)-SUM(R33),3)) | T33: =+IF(C33="","",IF(OR(S33="",S33<=0,I33="",I33="NO",U33="",U33="NO",X33="NO"),"",ROUND(SUM(L33)/S33,3))) | X33: =+IF(C33="","",IF(AND(H33<>"",I33="SI",J33<>"",J33>0,K33<>"",K33>0,S33<>"",S33>0,U33="SI"),"SI","NO")) | AD33: =+IF($C$27="","",IF(C33="","",IF(L33>=$H$6,"SI","NO"))) | AE33: =+IF(OR($T$33="",X33="",X33="NO"),"",L33) | AF33: =+IF(AE33="","",L33/$S$33)
A34: =+IF(T34="","",B34) | L34: =IF(OR(H34="",I34<>"SI",I34="NO",J34="",J34=0,K34="",K34=0,X34<>"SI"),0,J34*K34) -> 0 | O34: =IF(OR(H34="",I34<>"SI",I34="NO",J34="",J34=0,K34="",K34=0,,M34="",N34=""),"",ROUND((((N34-M34)+1)/30),3)) | R34: =IF(OR((Q34-P34)=0,P34="",Q34=""),0,(ROUND((((Q34-P34)+1)/30),3))) -> 0 | S34: =IF(O34="","",ROUND(SUM(O34)-SUM(R34),3)) | T34: =+IF(C34="","",IF(OR(S34="",S34<=0,I34="",I34="NO",U34="",U34="NO",X34="NO"),"",ROUND(SUM(L34)/S34,3))) | X34: =+IF(C34="","",IF(AND(H34<>"",I34="SI",J34<>"",J34>0,K34<>"",K34>0,S34<>"",S34>0,U34="SI"),"SI","NO")) | AD34: =+IF($C$27="","",IF(C34="","",IF(L34>=$H$6,"SI","NO"))) | AE34: =+IF(OR($T$34="",X34="",X34="NO"),"",L34) | AF34: =+IF(AE34="","",L34/$S$34)
A35: =+IF(T35="","",B35) | L35: =IF(OR(H35="",I35<>"SI",I35="NO",J35="",J35=0,K35="",K35=0,X35<>"SI"),0,J35*K35) -> 0 | O35: =IF(OR(H35="",I35<>"SI",I35="NO",J35="",J35=0,K35="",K35=0,,M35="",N35=""),"",ROUND((((N35-M35)+1)/30),3)) | R35: =IF(OR((Q35-P35)=0,P35="",Q35=""),0,(ROUND((((Q35-P35)+1)/30),3))) -> 0 | S35: =IF(O35="","",ROUND(SUM(O35)-SUM(R35),3)) | T35: =+IF(C35="","",IF(OR(S35="",S35<=0,I35="",I35="NO",U35="",U35="NO",X35="NO"),"",ROUND(SUM(L35)/S35,3))) | X35: =+IF(C35="","",IF(AND(H35<>"",I35="SI",J35<>"",J35>0,K35<>"",K35>0,S35<>"",S35>0,U35="SI"),"SI","NO")) | AD35: =+IF($C$27="","",IF(C35="","",IF(L35>=$H$6,"SI","NO"))) | AE35: =+IF(OR($T$35="",X35="",X35="NO"),"",L35) | AF35: =+IF(AE35="","",L35/$S$35)
A36: =+IF(T36="","",B36) | L36: =IF(OR(H36="",I36<>"SI",I36="NO",J36="",J36=0,K36="",K36=0,X36<>"SI"),0,J36*K36) -> 0 | O36: =IF(OR(H36="",I36<>"SI",I36="NO",J36="",J36=0,K36="",K36=0,,M36="",N36=""),"",ROUND((((N36-M36)+1)/30),3)) | R36: =IF(OR((Q36-P36)=0,P36="",Q36=""),0,(ROUND((((Q36-P36)+1)/30),3))) -> 0 | S36: =IF(O36="","",ROUND(SUM(O36)-SUM(R36),3)) | T36: =+IF(C36="","",IF(OR(S36="",S36<=0,I36="",I36="NO",U36="",U36="NO",X36="NO"),"",ROUND(SUM(L36)/S36,3))) | X36: =+IF(C36="","",IF(AND(H36<>"",I36="SI",J36<>"",J36>0,K36<>"",K36>0,S36<>"",S36>0,U36="SI"),"SI","NO")) | AD36: =+IF($C$27="","",IF(C36="","",IF(L36>=$H$6,"SI","NO"))) | AE36: =+IF(OR($T$36="",X36="",X36="NO"),"",L36) | AF36: =+IF(AE36="","",L36/$S$36)
A37: =+IF(T37="","",B37) | L37: =IF(OR(H37="",I37<>"SI",I37="NO",J37="",J37=0,K37="",K37=0,X37<>"SI"),0,J37*K37) -> 0 | O37: =IF(OR(H37="",I37<>"SI",I37="NO",J37="",J37=0,K37="",K37=0,,M37="",N37=""),"",ROUND((((N37-M37)+1)/30),3)) | R37: =IF(OR((Q37-P37)=0,P37="",Q37=""),0,(ROUND((((Q37-P37)+1)/30),3))) -> 0 | S37: =IF(O37="","",ROUND(SUM(O37)-SUM(R37),3)) | T37: =+IF(C37="","",IF(OR(S37="",S37<=0,I37="",I37="NO",U37="",U37="NO",X37="NO"),"",ROUND(SUM(L37)/S37,3))) | X37: =+IF(C37="","",IF(AND(H37<>"",I37="SI",J37<>"",J37>0,K37<>"",K37>0,S37<>"",S37>0,U37="SI"),"SI","NO")) | AD37: =+IF($C$27="","",IF(C37="","",IF(L37>=$H$6,"SI","NO"))) | AE37: =+IF(OR($T$37="",X37="",X37="NO"),"",L37) | AF37: =+IF(AE37="","",L37/$S$37)
A38: =+IF(T38="","",B38) | L38: =IF(OR(H38="",I38<>"SI",I38="NO",J38="",J38=0,K38="",K38=0,X38<>"SI"),0,J38*K38) -> 0 | O38: =IF(OR(H38="",I38<>"SI",I38="NO",J38="",J38=0,K38="",K38=0,,M38="",N38=""),"",ROUND((((N38-M38)+1)/30),3)) | R38: =IF(OR((Q38-P38)=0,P38="",Q38=""),0,(ROUND((((Q38-P38)+1)/30),3))) -> 0 | S38: =IF(O38="","",ROUND(SUM(O38)-SUM(R38),3)) | T38: =+IF(C38="","",IF(OR(S38="",S38<=0,I38="",I38="NO",U38="",U38="NO",X38="NO"),"",ROUND(SUM(L38)/S38,3))) | X38: =+IF(C38="","",IF(AND(H38<>"",I38="SI",J38<>"",J38>0,K38<>"",K38>0,S38<>"",S38>0,U38="SI"),"SI","NO")) | AD38: =+IF($C$27="","",IF(C38="","",IF(L38>=$H$6,"SI","NO"))) | AE38: =+IF(OR($T$38="",X38="",X38="NO"),"",L38) | AF38: =+IF(AE38="","",L38/$S$38)
A39: =+IF(T39="","",B39) | L39: =IF(OR(H39="",I39<>"SI",I39="NO",J39="",J39=0,K39="",K39=0,X39<>"SI"),0,J39*K39) -> 0 | O39: =IF(OR(H39="",I39<>"SI",I39="NO",J39="",J39=0,K39="",K39=0,,M39="",N39=""),"",ROUND((((N39-M39)+1)/30),3)) | R39: =IF(OR((Q39-P39)=0,P39="",Q39=""),0,(ROUND((((Q39-P39)+1)/30),3))) -> 0 | S39: =IF(O39="","",ROUND(SUM(O39)-SUM(R39),3)) | T39: =+IF(C39="","",IF(OR(S39="",S39<=0,I39="",I39="NO",U39="",U39="NO",X39="NO"),"",ROUND(SUM(L39)/S39,3))) | X39: =+IF(C39="","",IF(AND(H39<>"",I39="SI",J39<>"",J39>0,K39<>"",K39>0,S39<>"",S39>0,U39="SI"),"SI","NO")) | AD39: =+IF($C$27="","",IF(C39="","",IF(L39>=$H$6,"SI","NO"))) | AE39: =+IF(OR($T$39="",X39="",X39="NO"),"",L39) | AF39: =+IF(AE39="","",L39/$S$39)
B40: ="A"&B27 -> A2 | C40: =+$C$23 -> ¿CADA INTEGRANTE DE PROPONENTE PLURAL APORTAN CONTRATO? (SI; NO; NA) | I40: =+IF(AG27="","",IF(AG27=1,"NA",IF(AND(AG27=3,(IF(COUNTIFS(C30:C39,AH30,AE30:AE39,">0")>=1,1,0)+IF(COUNTIFS(C30:C39,AH31,AE30:AE39,">0")>=1,1,0)+IF(COUNTIFS(C30:C39,AH33,AE30:AE39,">0")>=1,1,0))>=AG27),"SI",IF(AND(AG27=2,(IF(COUNTIFS(C30:C39,AH30,AE30:AE39,">0")>=1,1,0)+IF(COUNTIFS(C30:C39,AH31,AE30:AE39,">0")>=1,1,0))>=AG27),"SI","NO")))) -> SI | P40: =+$P$23 -> FACTURACION MENSUAL TOTAL | T40: =ROUND(SUM(T30:T39),3) -> 357.53
B41: ="B"&B27 -> B2 | C41: =+C24 -> En caso de proponente plural: ¿De la totalidad de los contratos aportados por el proponente plural, el valor ejecutado de uno de ellos deberá ser igual o superior al 30% del P.O.? (SI; NO; NA) | H41: =+$H$6 -> 268.14723 | I41: =+IF(AG27="","",IF(AG27=1,"NA",IF(AND(AG27>1,(COUNTIFS(AD30:AD39,"SI",AE30:AE39,">0"))>=1),"SI","NO"))) -> SI | P41: =+$P$24 -> PROMEDIO FACTURACIÓN MENSUAL DEL PROPONENTE (PFMP) | T41: {=IF(T40=0,0,ROUND(T40/(SUM(IF(FREQUENCY(A30:A39,A30:A39)>0,1))),3))} -> 119.177
B42: ="C"&B27 -> C2 | C42: =+$C$25 -> PROPONENTE CUMPLE CON LAS ACTIVIDADES a) y b)? (SI; NO) | I42: =IF(C27="","",(IF(AND(COUNTIFS(X30:X39,"SI",Z30:Z39,"SI")>=$Z$8,COUNTIFS(X30:X39,"SI",AB30:AB39,"SI")>=$Z$8),"SI","NO"))) -> SI | P42: =+$P$25 -> VALOR PUNTAJE POR EXPERIENCIA DEL PROPONENTE | T42: =IF(OR(C27="",'ASIGNACION DE PUNTAJES'!$C$5=""),"",VLOOKUP(B27,'ASIGNACION DE PUNTAJES'!$A$15:$G$69,7,FALSE))
...

Sheet EXP DIRECTOR
A1: Volver al Indice | C1: CONCURSO DE MÉRITOS No. 10827
C2: OBJETO: INTERVENTORÍA TÉCNICA, ADMINISTRATIVA, AMBIENTAL, FINANCIERA Y LEGAL PARA LA CONSERVACIÓN, MANTENIMIENTO Y REHABILITACIÓN DE LAS VÍAS A CARGO DEL DEPARTAMENTO DE ANTIOQUIA EN LAS SUBREGION ORIENTE
A3: NÚMERO DE CONTRATOS REQUERIDO | D3: 3 | F3: REQUISITOS DE LA EXPERIENCIA DEL PROFESIONAL QUE SE PRETENDE ACREDITAR PARA EL PROCESO
A4: FECHA DE CIERRE | E4: 44019 | F4: REQUISITOS MÍNIMOS * Procesos simultáneos (VÁLIDO/NO VÁLIDO) * Carta de compromiso, Matricula profesional, Certificado de antecedentes del organismo autorizado (COPNIA) (SI/NO) * Fecha de expedición de la matricula profesional * Experiencia profesional PUNTUACIÓN * Validez de las certificaciones laborales o contractuales después de la expedición de la matricula profesional * Formación valida para obtener puntaje (SI/NO) (SI: 200 puntos; NO: 0 puntos)
A6: 1 | B6: CONSORCIO HUPERNIKAO VIAL 827 | G6: PROFESIONAL | H6: EDUARDO AREVALO NEIRA | I6: Cédula | J6: Fecha expedición tarjeta o matricula profesional | K6: Experien Profesional en años | L6: =+IF(J7<>0,ROUND(($E$4-J7)/360,0),"") -> 36
I7: 13360162 | J7: 31091
A8: ITEM | B8: INFORMACIÓN DEL CONTRATO | F8: CARGO EJERCIDO (Coordinador o Director o Residente o Supervisor en entidades estatales) | G8: SE CUMPLE CON OBJETO Y/O ACTIVIDADES EJECUTADAS, DE ACUERDO A LO REQUERIDO? (SI/NO) | H8: VALIDACIÓN DE LA EXPERIENCIA DEL EQUIPO DE TRABAJO (SI/NO) | I8: OBSERVACIONES A LOS CONTRATOS PARA ACREDITAR EXPERIENCIA DEL EQUIPO DE TRABAJO
B9: ENTIDAD | C9: No. DE CONTRATO | D9: OBJETO | E9: CONTRATISTA
A10: 1. | B10: N/S | C10: N/S | D10: Interventoría a los Contratos y Convenios Celebrados en la Vigencia 2013-2014 según relación entregada por el Departamento de la Guajira | E10: CONSORCIO APPLUS GESTION SOCIAL | F10: Director | G10: SI | H10: =+IF(B10<>"",IF(OR(F10="Otro",G10="NO"),"NO","SI"),"") -> SI
A11: 2. | B11: SETP SANTA MARTA | C11: N/S | D11: Interventoría a la Construcción de las Obras Civiles, Arquitectónicas, Hidráulicas y Todas Aquellas Actividades necesarias para la Rehabilitación y Adecuación de los Corredores Viales Urbanos de la Carrera 5 entre la Calle 22 y la Calle 29 y de la Avenida Tamacá Tramo II Rodadero entre Salguero y la Carrera 4ta para el Sistema Estratégico de Transporte Público de la Ciudad de Santa Marta – SETP | E11: UNION TEMPORAL INTERVENTORÍA LA AVENIDA 2015 | F11: Director | G11: NO | H11: =+IF(B11<>"",IF(OR(F11="Otro",G11="NO"),"NO","SI"),"") -> NO | I11: No se evidencia, con la documentación aportada, que en el contrato se hubiese ejecutado la interventoria a la actividad de pavimento asfaltico en caliente o concreto hidráulico, tal como lo establece el pliego de condiciones en su numeral 4.1.2 EXPERIENCIA Y FORMACIÓN ACADÉMICA DEL EQUIPO DE TRABAJO, subnumeral 2.
A12: 3. | B12: SETP SANTA MARTA | C12: CM-001-2016 | D12: Interventoría a la Construcción de las Obras Civiles, Arquitectónicas, Hidráulicas y todas aquellas Actividades Necesarias para la Reconstrucción y Adecuación de las Intervenciones de las Vías Curinca (Calle 53 Troncal del Caribe - Carrera 31 Troncal del Caribe), y Líbano 2000 (Carrera 31 Troncal del Caribe - Calle 40b Avenida del Libertador sector Líbano), para el sistema estratégico de transporte público de la ciudad de Santa Marta - SEPT | E12: UNION TEMPORAL PENINSULAR | F12: Director | G12: SI | H12: =+IF(B12<>"",IF(OR(F12="Otro",G12="NO"),"NO","SI"),"") -> SI
A13: 4. | H13: =+IF(B13<>"",IF(OR(F13="Otro",G13="NO"),"NO","SI"),"")
A14: ="D"&A6 -> D1 | B14: EL OFERENTE PROPONE UN DIRECTOR DE INTERVENTORIA CON TÍTULO DE POSGRADO (ESPECIALIZACIÓN O MAESTRIA) EN LAS ÁREAS RELACIONADAS CON: Vías, Pavimentos, Geotecnia, Gerencia de proyectos, Interventoría y Gerencia de Obras. | H14: SI
B15: ¿SE APORTA LA DOCUMENTACIÓN MÍNIMA DEL PROFESIONAL PROPUESTO (Carta de compromiso, Matricula Profesional, Certificado de antecendentes del organismo autorizado (COPNIA o similar)? (SI; NO; NA) | H15: SI
A16: ="F"&A6 -> F1 | B16: ¿EL PROFESIONAL PARTICIPA EN ALGÚN PROCESO SIMULTANEO DE LA ENTIDAD (SI; NO; NA) | G16: Si sí, no válido | H16: NO
B17: ¿EL PROFESIONAL CUMPLE CON EL REQUISITO MÍNIMO DE OCHO (8) AÑOS DE EXPERIENCIA DE ACUERDO AL PLIEGO DE CONDICIONES? (SI; NO) | G17: Si sí, válido | H17: =+IF(H6<>0,IF(L6>=8,"SI","NO"),"") -> SI
B18: ¿SE APORTAN LOS TRES (3) CONTRATOS VÁLIDOS REQUERIDOS PARA ACREDITACIÓN DE LA EXPERIENCIA DEL PROFESIONAL? (SI; NO) | G18: Si sí, válido | H18: =+IF(H6<>0,IF(COUNTIF(H10:H13,"SI")>=3,"SI","NO"),"") -> NO
A19: ="E"&A6 -> E1 | D19: EL PROFESIONAL OFRECIDO POR EL PROPONENTE CUMPLE CON LOS REQUISITOS MÍNIMOS ESTABLECIDOS EN EL NUMERAL 4.1.2. (no se evalúa simultaneidad de procesos en esta celda) | H19: =IF(H6<>0,IF(AND(H15="SI",H17="SI",H18="SI"),"SI","NO"),"") -> NO
A21: 2 | B21: CONSORCIO INTERANTIOQUIA | G21: PROFESIONAL | H21: DIEGO FERNANDO FONSECA CHAVES | I21: Cédula | J21: Fecha expedición tarjeta o matricula profesional | K21: Experien Profesional en años | L21: =+IF(J22<>0,ROUND(($E$4-J22)/360,0),"") -> 33
I22: 79288527 | J22: 31981
A23: ITEM | B23: INFORMACIÓN DEL CONTRATO | F23: CARGO EJERCIDO (Coordinador o Director o Residente o Supervisor en entidades estatales) | G23: SE CUMPLE CON OBJETO Y/O ACTIVIDADES EJECUTADAS, DE ACUERDO A LO REQUERIDO? (SI/NO) | H23: VALIDACIÓN DE LA EXPERIENCIA DEL EQUIPO DE TRABAJO (SI/NO) | I23: OBSERVACIONES A LOS CONTRATOS PARA ACREDITAR EXPERIENCIA DEL EQUIPO DE TRABAJO
B24: ENTIDAD | C24: No. DE CONTRATO | D24: OBJETO | E24: CONTRATISTA
A25: 1. | B25: INSTITUTO DE DESARROLLO URBANO IDU | C25: CTO 807 DE 1999 | D25: INTERVENTORIA TECNICA, ADMINISTRATIVA Y FINANCIERA A PRECIO GLOBAL FIJO PARA LA EVALUACION Y REHABILITACION DE VIAS DEL GRUPO NO. 4, EN SANTA FE DE BOGOTA D.C. | E25: UNION TEMPORAL FONAR | F25: Director | G25: SI | H25: =+IF(B25<>"",IF(OR(F25="Otro",G25="NO"),"NO","SI"),"") -> SI
A26: 2. | B26: INSTITUTO DE DESARROLLO URBANO IDU | C26: CTO 022 DE 2001 | D26: INTERVENTORIA TÉCNICA, ADMINISTRATIVA, FINANCIERA Y AMBIENTAL A PRECIO GLOBAL FIJO PARA LA CONSTRUCCIÓN DE LA FASE 1 DE LA AV. VILLAVICENCIO DESDE LA AV. CIUDAD DE CALI HASTA LA AV. EL TINTAL Y CONSTRUCCIÓN FASE 1 DE LA AV. EL TINTAL ENTRE LA AV. VILLAVICENCIO HASTA LA AV. BOSA EN BOGOTA D.C. | E26: UNION TEMPORAL FONAR | F26: Director | G26: SI | H26: =+IF(B26<>"",IF(OR(F26="Otro",G26="NO"),"NO","SI"),"") -> SI
A27: 3. | B27: INSTITUTO DE DESARROLLO URBANO IDU | C27: CTO 181 DE 2007 | D27: INTERVENTORIA TÉCNICA, ADMINISTRATIVA, FINANCIERA Y SOCIO AMBIENTAL PARA LA CONSTRUCCIÓN DE ACCESOS A BARRIOS Y PAVIMENTOS LOALES GRUPO 1 LOCALIDADES DE BOSA, CHAPINERO, KENNEDY Y SUBA EN BOGOTA D.C. | E27: DIEGO FONSECA | F27: Director | G27: SI | H27: =+IF(B27<>"",IF(OR(F27="Otro",G27="NO"),"NO","SI"),"") -> SI
A28: 4. | H28: =+IF(B28<>"",IF(OR(F28="Otro",G28="NO"),"NO","SI"),"")
A29: ="D"&A21 -> D2 | B29: EL OFERENTE PROPONE UN DIRECTOR DE INTERVENTORIA CON TÍTULO DE POSGRADO (ESPECIALIZACIÓN O MAESTRIA) EN LAS ÁREAS RELACIONADAS CON: Vías, Pavimentos, Geotecnia, Gerencia de proyectos, Interventoría y Gerencia de Obras. | H29: SI
B30: ¿SE APORTA LA DOCUMENTACIÓN MÍNIMA DEL PROFESIONAL PROPUESTO (Carta de compromiso, Matricula Profesional, Certificado de antecendentes del organismo autorizado (COPNIA o similar)? (SI; NO; NA) | H30: SI
A31: ="F"&A21 -> F2 | B31: ¿EL PROFESIONAL PARTICIPA EN ALGÚN PROCESO SIMULTANEO DE LA ENTIDAD (SI; NO; NA) | G31: Si sí, no válido | H31: NO
B32: ¿EL PROFESIONAL CUMPLE CON EL REQUISITO MÍNIMO DE OCHO (8) AÑOS DE EXPERIENCIA DE ACUERDO AL PLIEGO DE CONDICIONES? (SI; NO) | G32: Si sí, válido | H32: =+IF(H21<>0,IF(L21>=8,"SI","NO"),"") -> SI
B33: ¿SE APORTAN LOS TRES (3) CONTRATOS VÁLIDOS REQUERIDOS PARA ACREDITACIÓN DE LA EXPERIENCIA DEL PROFESIONAL? (SI; NO) | G33: Si sí, válido | H33: =+IF(H21<>0,IF(COUNTIF(H25:H28,"SI")>=3,"SI","NO"),"") -> SI
A34: ="E"&A21 -> E2 | D34: =+D19 -> EL PROFESIONAL OFRECIDO POR EL PROPONENTE CUMPLE CON LOS REQUISITOS MÍNIMOS ESTABLECIDOS EN EL NUMERAL 4.1.2. (no se evalúa simultaneidad de procesos en esta celda) | H34: =IF(H21<>0,IF(AND(H30="SI",H32="SI",H33="SI"),"SI","NO"),"") -> SI
A36: 3 | B36: CONSORCIO JE ORIENTE | G36: PROFESIONAL | H36: VICTOR DANIEL CASTRO SALAZAR | I36: Cédula | J36: Fecha expedición tarjeta o matricula profesional | K36: Experien Profesional en años | L36: =+IF(J37<>0,ROUND(($E$4-J37)/360,0),"") -> 31
I37: 10524225 | J37: 32828
A38: ITEM | B38: INFORMACIÓN DEL CONTRATO | F38: CARGO EJERCIDO (Coordinador o Director o Residente o Supervisor en entidades estatales) | G38: SE CUMPLE CON OBJETO Y/O ACTIVIDADES EJECUTADAS, DE ACUERDO A LO REQUERIDO? (SI/NO) | H38: VALIDACIÓN DE LA EXPERIENCIA DEL EQUIPO DE TRABAJO (SI/NO) | I38: OBSERVACIONES A LOS CONTRATOS PARA ACREDITAR EXPERIENCIA DEL EQUIPO DE TRABAJO
B39: ENTIDAD | C39: No. DE CONTRATO | D39: OBJETO | E39: CONTRATISTA
A40: 1. | B40: INSTITUTO DE INFRAESTRUCTURA Y CONCESIONES DE CUNDINAMARCA- ICCU | C40: ICCU 022-2014 | D40: INTERVENTORÍA TÉCNICA, ADMINISTRATIVA, FINANCIERA Y LEGAL PARA EL: “MEJORAMIENTO Y PAVIMENTACIÓN DE LA VÍA SUESCA – LA PLAYA – SESQUILÉ DEPARTAMENTO DE CUNDINAMARCA | E40: ELSA MARIA RUEDA LANDINEZ | F40: Director | G40: SI | H40: =+IF(B40<>"",IF(OR(F40="Otro",G40="NO"),"NO","SI"),"") -> SI
A41: 2. | B41: INSTITUTO DE INFRAESTRUCTURA Y CONCESIONES DE CUNDINAMARCA- ICCU | C41: ICCU 023-2014 | D41: EJECUTAR LA INTERVENTORÍA TÉCNICA, ADMINISTRATIVA Y FINANCIERA AL CONTRATO DE OBRA ICCU-843-13. CUYO OBJETO ES "EL MEJORAMIENTO Y REHABILITACIÓN DE LA VÍA SUPATA - SAN FRANCISCO, (SECTOR BUENOS AIRES K0+000 HASTA EL K3+500) K0+000 UBICADO EN EL SECTOR LA TRINIDAD DEL MUNICIPIO DE SUPATA CUNDINAMARCA | E41: ELSA MARIA RUEDA LANDINEZ | F41: Director | G41: SI | H41: =+IF(B41<>"",IF(OR(F41="Otro",G41="NO"),"NO","SI"),"") -> SI
A42: 3. | B42: ALCALDIA DE BUCARAMANGA | C42: 184 DE 2018 | D42: INTERVENTORIA PARA LAS OBRAS DE PARCHEOS DE HUECOS, FALLOS Y ACTIVIDADES ADICIONALES EN LA MALLA VIAL URBANA DEL MUNICIPIO DE BUCARAMANGA | E42: CONSORCIO MALLA VIAL JE | F42: Residente | G42: SI | H42: =+IF(B42<>"",IF(OR(F42="Otro",G42="NO"),"NO","SI"),"") -> SI
A43: 4. | H43: =+IF(B43<>"",IF(OR(F43="Otro",G43="NO"),"NO","SI"),"")
...

Sheet ASIGNACION DE PUNTAJES
A1: Volver al Indice | B1: CONCURSO DE MÉRITOS No. 10827
B2: OBJETO: INTERVENTORÍA TÉCNICA, ADMINISTRATIVA, AMBIENTAL, FINANCIERA Y LEGAL PARA LA CONSERVACIÓN, MANTENIMIENTO Y REHABILITACIÓN DE LAS VÍAS A CARGO DEL DEPARTAMENTO DE ANTIOQUIA EN LAS SUBREGION ORIENTE
B3: PRESUPUESTO OFICIAL EN PESOS | C3: =+'EXP ESPECIFICA PROPONENTE'!$G$4 -> 784601462
B4: PRESUPUESTO OFICIAL EN SMMLV | C4: =+'EXP ESPECIFICA PROPONENTE'!H4 -> 893.82408
B5: TRM DEL DIA | C5: 3651.93 | D5: 21 de julio de 2020
B6: Cifras decimales de la TRM | C6: =C5-TRUNC(C5) -> 0.93
B7: Valor del % a aplicar al FMO | C7: =IF(C5="","",IF((C5-TRUNC(C5))<0.34,80%,IF((C5-TRUNC(C5))>0.66,0.9,0.85))) -> 0.9
B8: FACTURACIÓN MENSUAL OFICIAL - FMO (SMMLV) | C8: =IF('EXP ESPECIFICA PROPONENTE'!H7="","",ROUND('EXP ESPECIFICA PROPONENTE'!H7,3)) -> 148.971
B9: FMO AFECTADA POR EL % DE LA TRM (SMMLV) | C9: =IF(OR(C7="",C8="",MAX(E15:E69)=0,ISERROR(MAX(E15:E69))),"",ROUND(C8*C7,3)) -> 134.074
B10: Valor promedio de Facturación Mensual del proponente con Mayor Puntaje | C10: Desviación de la propuesta con Mayor puntaje
A11: 58.699 | B11: =IF(OR(C11=""),"",INDEX($E$14:$E$69,MATCH(C11,$F$14:$F$69,0))) -> 134.005 | C11: =IF(C9="","",MIN(F15:F69)) -> 0.069
B12: Desviación de la propuesta con Menor Puntaje | C12: =IF(C9="","",MAX(F15:F69)) -> 70.762
A14: N° | B14: Proponente | C14: EXPERIENCIA HABILITANTE (HABIL/NO HABIL) | D14: REQUISITOS HABILITANTES (HABIL/NO HABIL) | E14: VALOR PROMEDIO DE LA FACTURACIÓN MENSUAL DEL PROPONENTE PFMPi | F14: Diferencia entre FMO afectado por el % TRM y el PFMPi | G14: Puntaje por Experiencia del proponente | H14: Puntaje por Experiencia y formación académica del equipo de trabajo | I14: Puntaje acumulado por experiencia del proponente y el equipo de trabajo | J14: Puntaje por Estímulo a la Industria Nacional (Diligenciar) | K14: Puntaje para Proponentes con trabajadores con discapacidad | L14: PUNTAJE TOTAL | M14: PUNTAJE REAL | O14: PUNTAJE JERARQUIA | P14: JERARQUIA | Q14: N° | S14: Experiencia total del profesional en años | T14: EL PROFESIONAL OFRECIDO POR EL PROPONENTE CUMPLE CON LOS REQUISITOS MÍNIMOS ESTABLECIDOS EN EL NUMERAL 4.1.2. (no se evalúa simultaneidad de procesos) | U14: Fecha de cierre es menor respecto a procesos simultáneos (para evaluar en que proceso se tiene en cuenta el profesional) | V14: Profesional válido por procesos de selección simultáneos? | W14: TÍTULO DE POSGRADO EN LAS ÁREAS RELACIONADAS
A15: 1 | B15: CONSORCIO HUPERNIKAO VIAL 827 | C15: =IF($B15="","",IFERROR(VLOOKUP($A15,'EXP HABILITANTE'!$A:$I,9,0),"")) -> HÁBIL | D15: HÁBIL | E15: 63.312 | F15: =IFERROR(IF(E15="","",ABS($C$9-E15)),"") -> 70.762 | G15: 325.997 | H15: =IF(D15<>"HÁBIL","",IF(IFERROR(IF(AND($T15="SI",$V15="SI"),W15+X15,0),"Verificar")=0,"",IFERROR(IF(AND($T15="SI",$V15="SI"),W15,0),"Verificar"))) | I15: =IF(SUM(G15:H15)=0,"",SUM(G15:H15)) -> 325.997 | J15: 100 | K15: 10 | L15: =IF(OR($C$5="",SUM(I15:K15)=0),"",SUM(I15:K15)) -> 435.997 | M15: =IF(OR(SUM(G15:H15)<700,D15<>"HÁBIL"),"NO ELEGIBLE",L15) -> NO ELEGIBLE | N15: =+A15/100000 -> 1e-05 | O15: =+IF(OR(ISTEXT(M15),M15=""),0-N15,M15-N15) -> -1e-05 | P15: =+RANK(O15,$O$15:$O$69,0) -> 21 | Q15: =+A15 -> 1 | S15: =IF(VLOOKUP(A15,'EXP DIRECTOR'!$A$6:$L$1269,12,0)="","",ROUND(VLOOKUP(A15,'EXP DIRECTOR'!$A$6:$L$1269,12,0),2)) -> 36 | T15: =IFERROR(VLOOKUP("E"&A15,'EXP DIRECTOR'!$A$6:$L$1269,8,0),"") -> NO | U15: NA | V15: =IF(OR(C15="EXCLUÍDO",C15="RECHAZADO"),"NO",IF(OR(U15="SI",U15="NA"),"SI","")) -> SI | W15: =IFERROR(IF(VLOOKUP("D"&A15,'EXP DIRECTOR'!$A$6:$L$1269,8,0)="SI",200,0),0) -> 200 | Y15: =IF(VLOOKUP("F"&A15,'EXP DIRECTOR'!$A$6:$L$1269,8,0)="SI","SI","NA") -> NA | AA15: =IF(L15="","",CONCATENATE(P15,".",Q15)) -> 21.1
A16: 2 | B16: CONSORCIO INTERANTIOQUIA | C16: =IF($B16="","",IFERROR(VLOOKUP($A16,'EXP HABILITANTE'!$A:$I,9,0),"")) -> HÁBIL | D16: RECHAZADO | F16: =IFERROR(IF(E16="","",ABS($C$9-E16)),"") | H16: =IF(D16<>"HÁBIL","",IF(IFERROR(IF(AND($T16="SI",$V16="SI"),W16+X16,0),"Verificar")=0,"",IFERROR(IF(AND($T16="SI",$V16="SI"),W16,0),"Verificar"))) | I16: =IF(SUM(G16:H16)=0,"",SUM(G16:H16)) | L16: =IF(OR($C$5="",SUM(I16:K16)=0),"",SUM(I16:K16)) | M16: =IF(OR(SUM(G16:H16)<700,D16<>"HÁBIL"),"NO ELEGIBLE",L16) -> NO ELEGIBLE | N16: =+A16/100000 -> 2e-05 | O16: =+IF(OR(ISTEXT(M16),M16=""),0-N16,M16-N16) -> -2e-05 | P16: =+RANK(O16,$O$15:$O$69,0) -> 22 | Q16: =+A16 -> 2 | S16: =IF(VLOOKUP(A16,'EXP DIRECTOR'!$A$6:$L$1269,12,0)="","",ROUND(VLOOKUP(A16,'EXP DIRECTOR'!$A$6:$L$1269,12,0),2)) -> 33 | T16: =IFERROR(VLOOKUP("E"&A16,'EXP DIRECTOR'!$A$6:$L$1269,8,0),"") -> SI | U16: NA | V16: =IF(OR(C16="EXCLUÍDO",C16="RECHAZADO"),"NO",IF(OR(U16="SI",U16="NA"),"SI","")) -> SI | W16: =IFERROR(IF(VLOOKUP("D"&A16,'EXP DIRECTOR'!$A$6:$L$1269,8,0)="SI",200,0),0) -> 200 | Y16: =IF(VLOOKUP("F"&A16,'EXP DIRECTOR'!$A$6:$L$1269,8,0)="SI","SI","NA") -> NA | AA16: =IF(L16="","",CONCATENATE(P16,".",Q16))
A17: =1+A16 -> 3 | B17: CONSORCIO JE ORIENTE | C17: =IF($B17="","",IFERROR(VLOOKUP($A17,'EXP HABILITANTE'!$A:$I,9,0),"")) -> HÁBIL | D17: HÁBIL | E17: 119.366 | F17: =IFERROR(IF(E17="","",ABS($C$9-E17)),"") -> 14.708 | G17: 614.623 | H17: =IF(D17<>"HÁBIL","",IF(IFERROR(IF(AND($T17="SI",$V17="SI"),W17+X17,0),"Verificar")=0,"",IFERROR(IF(AND($T17="SI",$V17="SI"),W17,0),"Verificar"))) -> 200 | I17: =IF(SUM(G17:H17)=0,"",SUM(G17:H17)) -> 814.623 | J17: 100 | K17: 10 | L17: =IF(OR($C$5="",SUM(I17:K17)=0),"",SUM(I17:K17)) -> 924.623 | M17: =IF(OR(SUM(G17:H17)<700,D17<>"HÁBIL"),"NO ELEGIBLE",L17) -> 924.623 | N17: =+A17/100000 -> 3e-05 | O17: =+IF(OR(ISTEXT(M17),M17=""),0-N17,M17-N17) -> 924.62297 | P17: =+RANK(O17,$O$15:$O$69,0) -> 12 | Q17: =+A17 -> 3 | S17: =IF(VLOOKUP(A17,'EXP DIRECTOR'!$A$6:$L$1269,12,0)="","",ROUND(VLOOKUP(A17,'EXP DIRECTOR'!$A$6:$L$1269,12,0),2)) -> 31 | T17: =IFERROR(VLOOKUP("E"&A17,'EXP DIRECTOR'!$A$6:$L$1269,8,0),"") -> SI | U17: NA | V17: =IF(OR(C17="EXCLUÍDO",C17="RECHAZADO"),"NO",IF(OR(U17="SI",U17="NA"),"SI","")) -> SI | W17: =IFERROR(IF(VLOOKUP("D"&A17,'EXP DIRECTOR'!$A$6:$L$1269,8,0)="SI",200,0),0) -> 200 | Y17: =IF(VLOOKUP("F"&A17,'EXP DIRECTOR'!$A$6:$L$1269,8,0)="SI","SI","NA") -> NA | AA17: =IF(L17="","",CONCATENATE(P17,".",Q17)) -> 12.3
A18: =1+A17 -> 4 | B18: VELNEC SA | C18: =IF($B18="","",IFERROR(VLOOKUP($A18,'EXP HABILITANTE'!$A:$I,9,0),"")) -> HÁBIL | D18: HÁBIL | E18: 104.703 | F18: =IFERROR(IF(E18="","",ABS($C$9-E18)),"") -> 29.371 | G18: 539.122 | H18: =IF(D18<>"HÁBIL","",IF(IFERROR(IF(AND($T18="SI",$V18="SI"),W18+X18,0),"Verificar")=0,"",IFERROR(IF(AND($T18="SI",$V18="SI"),W18,0),"Verificar"))) -> 200 | I18: =IF(SUM(G18:H18)=0,"",SUM(G18:H18)) -> 739.122 | J18: 100 | K18: 10 | L18: =IF(OR($C$5="",SUM(I18:K18)=0),"",SUM(I18:K18)) -> 849.122 | M18: =IF(OR(SUM(G18:H18)<700,D18<>"HÁBIL"),"NO ELEGIBLE",L18) -> 849.122 | N18: =+A18/100000 -> 4e-05 | O18: =+IF(OR(ISTEXT(M18),M18=""),0-N18,M18-N18) -> 849.12196 | P18: =+RANK(O18,$O$15:$O$69,0) -> 19 | Q18: =+A18 -> 4 | S18: =IF(VLOOKUP(A18,'EXP DIRECTOR'!$A$6:$L$1269,12,0)="","",ROUND(VLOOKUP(A18,'EXP DIRECTOR'!$A$6:$L$1269,12,0),2)) -> 20 | T18: =IFERROR(VLOOKUP("E"&A18,'EXP DIRECTOR'!$A$6:$L$1269,8,0),"") -> SI | U18: NA | V18: =IF(OR(C18="EXCLUÍDO",C18="RECHAZADO"),"NO",IF(OR(U18="SI",U18="NA"),"SI","")) -> SI | W18: =IFERROR(IF(VLOOKUP("D"&A18,'EXP DIRECTOR'!$A$6:$L$1269,8,0)="SI",200,0),0) -> 200 | Y18: =IF(VLOOKUP("F"&A18,'EXP DIRECTOR'!$A$6:$L$1269,8,0)="SI","SI","NA") -> NA | AA18: =IF(L18="","",CONCATENATE(P18,".",Q18)) -> 19.4
A19: =1+A18 -> 5 | B19: CONSORCIO INTERDESARROLLO 010 | C19: =IF($B19="","",IFERROR(VLOOKUP($A19,'EXP HABILITANTE'!$A:$I,9,0),"")) -> HÁBIL | D19: HÁBIL | E19: 127.567 | F19: =IFERROR(IF(E19="","",ABS($C$9-E19)),"") -> 6.507 | G19: 656.85 | H19: =IF(D19<>"HÁBIL","",IF(IFERROR(IF(AND($T19="SI",$V19="SI"),W19+X19,0),"Verificar")=0,"",IFERROR(IF(AND($T19="SI",$V19="SI"),W19,0),"Verificar"))) -> 200 | I19: =IF(SUM(G19:H19)=0,"",SUM(G19:H19)) -> 856.85 | J19: 100 | K19: 10 | L19: =IF(OR($C$5="",SUM(I19:K19)=0),"",SUM(I19:K19)) -> 966.85 | M19: =IF(OR(SUM(G19:H19)<700,D19<>"HÁBIL"),"NO ELEGIBLE",L19) -> 966.85 | N19: =+A19/100000 -> 5e-05 | O19: =+IF(OR(ISTEXT(M19),M19=""),0-N19,M19-N19) -> 966.84995 | P19: =+RANK(O19,$O$15:$O$69,0) -> 6 | Q19: =+A19 -> 5 | S19: =IF(VLOOKUP(A19,'EXP DIRECTOR'!$A$6:$L$1269,12,0)="","",ROUND(VLOOKUP(A19,'EXP DIRECTOR'!$A$6:$L$1269,12,0),2)) -> 28 | T19: =IFERROR(VLOOKUP("E"&A19,'EXP DIRECTOR'!$A$6:$L$1269,8,0),"") -> SI | U19: NA | V19: =IF(OR(C19="EXCLUÍDO",C19="RECHAZADO"),"NO",IF(OR(U19="SI",U19="NA"),"SI","")) -> SI | W19: =IFERROR(IF(VLOOKUP("D"&A19,'EXP DIRECTOR'!$A$6:$L$1269,8,0)="SI",200,0),0) -> 200 | Y19: =IF(VLOOKUP("F"&A19,'EXP DIRECTOR'!$A$6:$L$1269,8,0)="SI","SI","NA") -> NA | AA19: =IF(L19="","",CONCATENATE(P19,".",Q19)) -> 6.5
A20: =1+A19 -> 6 | B20: CONSULTORIA INTERVENTORIA TECNICAS CIVILES CONINTEC SAS | C20: =IF($B20="","",IFERROR(VLOOKUP($A20,'EXP HABILITANTE'!$A:$I,9,0),"")) -> HÁBIL | D20: HÁBIL | E20: 134.005 | F20: =IFERROR(IF(E20="","",ABS($C$9-E20)),"") -> 0.069 | G20: 690 | H20: =IF(D20<>"HÁBIL","",IF(IFERROR(IF(AND($T20="SI",$V20="SI"),W20+X20,0),"Verificar")=0,"",IFERROR(IF(AND($T20="SI",$V20="SI"),W20,0),"Verificar"))) -> 200 | I20: =IF(SUM(G20:H20)=0,"",SUM(G20:H20)) -> 890 | J20: 100 | K20: 10 | L20: =IF(OR($C$5="",SUM(I20:K20)=0),"",SUM(I20:K20)) -> 1000 | M20: =IF(OR(SUM(G20:H20)<700,D20<>"HÁBIL"),"NO ELEGIBLE",L20) -> 1000 | N20: =+A20/100000 -> 6e-05 | O20: =+IF(OR(ISTEXT(M20),M20=""),0-N20,M20-N20) -> 999.99994 | P20: =+RANK(O20,$O$15:$O$69,0) -> 1 | Q20: =+A20 -> 6 | S20: =IF(VLOOKUP(A20,'EXP DIRECTOR'!$A$6:$L$1269,12,0)="","",ROUND(VLOOKUP(A20,'EXP DIRECTOR'!$A$6:$L$1269,12,0),2)) -> 10 | T20: =IFERROR(VLOOKUP("E"&A20,'EXP DIRECTOR'!$A$6:$L$1269,8,0),"") -> SI | U20: NA | V20: =IF(OR(C20="EXCLUÍDO",C20="RECHAZADO"),"NO",IF(OR(U20="SI",U20="NA"),"SI","")) -> SI | W20: =IFERROR(IF(VLOOKUP("D"&A20,'EXP DIRECTOR'!$A$6:$L$1269,8,0)="SI",200,0),0) -> 200 | Y20: =IF(VLOOKUP("F"&A20,'EXP DIRECTOR'!$A$6:$L$1269,8,0)="SI","SI","NA") -> NA | AA20: =IF(L20="","",CONCATENATE(P20,".",Q20)) -> 1.6
A21: =1+A20 -> 7 | B21: CB INGENIEROS SAS | C21: =IF($B21="","",IFERROR(VLOOKUP($A21,'EXP HABILITANTE'!$A:$I,9,0),"")) -> HÁBIL | D21: HÁBIL | E21: 120.213 | F21: =IFERROR(IF(E21="","",ABS($C$9-E21)),"") -> 13.861 | G21: 618.984 | H21: =IF(D21<>"HÁBIL","",IF(IFERROR(IF(AND($T21="SI",$V21="SI"),W21+X21,0),"Verificar")=0,"",IFERROR(IF(AND($T21="SI",$V21="SI"),W21,0),"Verificar"))) | I21: =IF(SUM(G21:H21)=0,"",SUM(G21:H21)) -> 618.984 | J21: 100 | K21: 10 | L21: =IF(OR($C$5="",SUM(I21:K21)=0),"",SUM(I21:K21)) -> 728.984 | M21: =IF(OR(SUM(G21:H21)<700,D21<>"HÁBIL"),"NO ELEGIBLE",L21) -> NO ELEGIBLE | N21: =+A21/100000 -> 7e-05 | O21: =+IF(OR(ISTEXT(M21),M21=""),0-N21,M21-N21) -> -7e-05 | P21: =+RANK(O21,$O$15:$O$69,0) -> 23 | Q21: =+A21 -> 7 | S21: =IF(VLOOKUP(A21,'EXP DIRECTOR'!$A$6:$L$1269,12,0)="","",ROUND(VLOOKUP(A21,'EXP DIRECTOR'!$A$6:$L$1269,12,0),2)) -> 19 | T21: =IFERROR(VLOOKUP("E"&A21,'EXP DIRECTOR'!$A$6:$L$1269,8,0),"") -> NO | U21: NA | V21: =IF(OR(C21="EXCLUÍDO",C21="RECHAZADO"),"NO",IF(OR(U21="SI",U21="NA"),"SI","")) -> SI | W21: =IFERROR(IF(VLOOKUP("D"&A21,'EXP DIRECTOR'!$A$6:$L$1269,8,0)="SI",200,0),0) -> 200 | Y21: =IF(VLOOKUP("F"&A21,'EXP DIRECTOR'!$A$6:$L$1269,8,0)="SI","SI","NA") -> NA | AA21: =IF(L21="","",CONCATENATE(P21,".",Q21)) -> 23.7
