Workbook

Sheet RESULTADOS FINAL
A1: SERVICIO NACIONAL DE APRENDIZAJE - SENA DIRECCIÓN ADMINISTRATIVA Y FINANCIERA
A4: PROCESO No. CM-DG-DAF-0003-2024
A6: INTERVENTORÍA INTEGRAL TÉCNICA, ADMINISTRATIVA, FINANCIERA, JURÍDICA, CONTABLE Y AMBIENTAL PARA LAS CONSULTORÍAS DE DISEÑOS Y ESTUDIOS TÉCNICOS, TRÁMITES Y OBTENCIÓN DE PERMISOS Y LICENCIAS NECESARIOS PARA LOS PROYECTOS DE CONSTRUCCIÓN DE LAS NUEVAS SEDES DEL SENA, A PRECIO GLOBAL FIJO SIN REAJUSTES PARA CINCO (5) SEDES (CIÉNAGA DE ORO, PUERTO BOYACÁ, TUNJA, IPIALES Y KENNEDY)
A9: CUADRO DE RESUMEN VERIFICACIÓN FINANCIERA
A10: ITEM | B10: PROPONENTES | C10: PROPONENTE PLURAL | D10: INTEGRANTES | E10: LOTES OFERTADOS | F10: EVALUADOR | G10: EVALUACION FINANCIERA | H10: OBSERVACIONES
A11: 1 | B11: INGENIERIA MASTER S.A.S. | C11: NO | D11: =+B11 -> INGENIERIA MASTER S.A.S. | E11: 2, 3 | F11: Luisa Fernanda Perea Muñoz | G11: =+'01.INGENIERIA MASTER S.A.S.'!B55 -> HABILITADO
A12: 2 | B12: UT ALVARO FONNEGRA MAS DR | C12: SI | D12: ÁLVARO FONNEGRA JARAMILLO | E12: 2, 3 | F12: Luisa Fernanda Perea Muñoz | G12: =+'02.UT ALVARO FONNEGRA MAS DR'!B55 -> HABILITADO
D13: DANIEL ALEJANDRO RIAÑO GARCÍA
A14: 3 | B14: IA INGENIERIA Y ARQUITECTURA DE COLOMBIA SAS | C14: NO | D14: =+B14 -> IA INGENIERIA Y ARQUITECTURA DE COLOMBIA SAS | E14: 2, 3 | F14: Luisa Fernanda Perea Muñoz | G14: =+'03.IA INGENIERIA Y ARQUITECTURA'!B55 -> HABILITADO
A15: 4 | B15: ARDILA VALENCIA ESTRUCTURAS S.A.S. - AVE | C15: NO | D15: =+B15 -> ARDILA VALENCIA ESTRUCTURAS S.A.S. - AVE | E15: 4 | F15: John Alejandro Jaramillo Santa | G15: =+'04.AVE'!B54 -> HABILITADO
A16: 5 | B16: CONSORCIO CONSTRUGAVI SENA 003 | C16: SI | D16: GAVINCO INGENIEROS CONSULTORES S.A.S | E16: 1, 4, 5 | F16: John Alejandro Jaramillo Santa | G16: =+'05.CONSORCIO CONSTRUGAVI SENA 0'!B56 -> HABILITADO
D17: CONSTRUMAVE S.A.S
A18: 6 | B18: TOTALL INC SAS BIC | C18: NO | D18: =+B18 -> TOTALL INC SAS BIC | E18: 4 | F18: Martha Isabel Clavijo Pinzon | G18: =+'06.TOTALL INC SAS BIC'!B54 -> HABILITADO
A19: 7 | B19: JAM INGENIERIA Y MEDIO AMBIENTE S.A.S | C19: NO | D19: =+B19 -> JAM INGENIERIA Y MEDIO AMBIENTE S.A.S | E19: 2, 3 | F19: Luz Angela Vargas Sandoval | G19: =+'07.JAM'!B55 -> HABILITADO
A20: 8 | B20: GB10 CONSULTORES S.A.S. | C20: NO | D20: =+B20 -> GB10 CONSULTORES S.A.S. | E20: 1 | F20: Luz Angela Vargas Sandoval | G20: =+'08.GB10 CONSULTORES S.A.S.'!B54 -> HABILITADO
A21: 9 | B21: CONSORCIO ARQ SENA | C21: SI | D21: ARQ SAS | E21: 1, 2, 3, 4, 5 | F21: Martha Isabel Clavijo Pinzon | G21: =+'09.CONSORCIO ARQ SENA'!B58 -> HABILITADO
D22: ARQ CONSULTORIA SAS BIC
A23: 10 | B23: CONSORCIO ARAGON | C23: SI | D23: ARQUITECTURA Y URBANISMO SXXI S.A.S. | E23: 1, 2, 3, 4 | F23: Luisa Fernanda Perea Muñoz | G23: =+'10.CONSORCIO ARAGON'!B57 -> HABILITADO
D24: MYV CONSULTORES ASOCIADOS S.A.S.
A26: EVALUADORES
A28: Javier Garcia Quintero Coordinador Grupo Financiero Evaluador Designado | F28: Martha Isabel Clavijo Pinzon Luz Angela Vargas Sandoval John Alejandro Jaramillo Santa Luisa Fernanda Perea Muñoz Contratistas Grupo Financiero Apoyos al evaluador designado

Sheet UNO
A1: DIRECCION ADMINISTRATIVA Y FINANCIERA
A3: =+'RESULTADOS FINAL'!A4 -> PROCESO No. CM-DG-DAF-0003-2024
A4: =+'RESULTADOS FINAL'!A6 -> INTERVENTORÍA INTEGRAL TÉCNICA, ADMINISTRATIVA, FINANCIERA, JURÍDICA, CONTABLE Y AMBIENTAL PARA LAS CONSULTORÍAS DE DISEÑOS Y ESTUDIOS TÉCNICOS, TRÁMITES Y OBTENCIÓN DE PERMISOS Y LICENCIAS NECESARIOS PARA LOS PROYECTOS DE CONSTRUCCIÓN DE LAS NUEVAS SEDES DEL SENA, A PRECIO GLOBAL FIJO SIN REAJUSTES PARA CINCO (5) SEDES (CIÉNAGA DE ORO, PUERTO BOYACÁ, TUNJA, IPIALES Y KENNEDY)
A6: VERIFICACIÓN CAPACIDAD FINANCIERA Y ORGANIZACIONAL
A8: LOTE 1 | D8: 482738680
A9: LOTE 2 | D9: 237634335
A10: LOTE 3 | D10: 237634335
C11: LOTE 4 | D11: 482738680
C12: LOTE 5 | D12: 482738680
A13: VALOR PRESUPUESTO OFICIAL | D13: =+SUM(D8:D12) -> 1923484710
A15: PROPONENTE XX
A17: DATOS FINANCIEROS RUP
A19: INTEGRANTES | B19: =+B15 -> 0 | C19: RESULTADOS FINANCIEROS DEL PROPONENTE
A20: PARTICIPACIÓN | B20: 1 | C20: =+B20 -> 1
A21: NIT:
A22: Cámara de Comercio
A23: Fecha RUP
A24: Fecha inscripción y/o actualización RUP
A25: Fecha corte información financiera RUP
A27: INFORMACIÓN FINANCIERA | B27: Integrante 1 | C27: Total
A28: Activo corriente | C28: =(B28*$B$20) -> 0
A29: Activo total | C29: =(B29*$B$20) -> 0
A30: Pasivo corriente | C30: =(B30*$B$20) -> 0
A31: Pasivo total | C31: =(B31*$B$20) -> 0
A32: Patrimonio expresado en $ | C32: =(B32*$B$20) -> 0
A33: Utilidad / Pérdida Operacional | C33: =(B33*$B$20) -> 0
A34: Gastos Financieros Intereses | C34: =(B34*$B$20) -> 0
A36: CAPACIDAD FINANCIERA
A37: Liquidez (AC/PC) | B37: =+B28/B30 -> #DIV/0! | C37: =+C28/C30 -> #DIV/0!
A38: Endeudamiento (PT/AT) | B38: =+B31/B29 -> #DIV/0! | C38: =+C31/C29 -> #DIV/0!
A39: Razon Cobertura de Intereses (UO/GI) | B39: =+IFERROR(B33/B34,"INDETERMINADO") -> INDETERMINADO | C39: =+IFERROR(C33/C34,"INDETERMINADO") -> INDETERMINADO
A40: Capital de Trabajo (AC-PC) | B40: =(B28-B30) -> 0 | C40: =+(B40)/D13 -> 0
A41: Patrmonio (AT-PT/Pres. Of) | B41: =+(B29-B31) -> 0 | C41: =+(B41)/D13 -> 0
A42: CAPACIDAD ORGANIZACIONAL
A43: Rentabilidad Sobre Patrimonio (UO/PAT) | B43: =+B33/B32 -> #DIV/0! | C43: =+C33/C32 -> #DIV/0!
A44: Rentabilidad Sobre Activos (UO/AT) | B44: =+B33/B29 -> #DIV/0! | C44: =+C33/C29 -> #DIV/0!
A46: EVALUACIÓN FINANCIERA DEFINITIVA
A48: INDICADORES PROPUESTOS | B48: =+B15 -> 0
B49: INDICES PROPUESTOS POR EL SENA | C49: RESULTADOS FINANCIEROS DEL PROPONENTE | D49: RESULTADOS DE LA EVALUACIÓN
A50: Liquidez ≥ | B50: 2 | C50: =+C37 -> #DIV/0! | D50: =IF(C50>=B50,"HABILITADO","NO HABILITADO") -> #DIV/0!
...

Sheet DOS
A1: DIRECCION ADMINISTRATIVA Y FINANCIERA
A3: =+'RESULTADOS FINAL'!A4 -> PROCESO No. CM-DG-DAF-0003-2024
A4: =+'RESULTADOS FINAL'!A6 -> INTERVENTORÍA INTEGRAL TÉCNICA, ADMINISTRATIVA, FINANCIERA, JURÍDICA, CONTABLE Y AMBIENTAL PARA LAS CONSULTORÍAS DE DISEÑOS Y ESTUDIOS TÉCNICOS, TRÁMITES Y OBTENCIÓN DE PERMISOS Y LICENCIAS NECESARIOS PARA LOS PROYECTOS DE CONSTRUCCIÓN DE LAS NUEVAS SEDES DEL SENA, A PRECIO GLOBAL FIJO SIN REAJUSTES PARA CINCO (5) SEDES (CIÉNAGA DE ORO, PUERTO BOYACÁ, TUNJA, IPIALES Y KENNEDY)
A6: VERIFICACIÓN CAPACIDAD FINANCIERA Y ORGANIZACIONAL
A8: LOTE 1 | D8: 482738680
A9: LOTE 2 | D9: 237634335
A10: LOTE 3 | D10: 237634335
C11: LOTE 4 | D11: 482738680
C12: LOTE 5 | D12: 482738680
A13: VALOR PRESUPUESTO OFICIAL | D13: =+SUM(D8:D12) -> 1923484710
A15: PROPONENTE XX
A17: DATOS FINANCIEROS RUP
A19: INTEGRANTES | D19: RESULTADOS FINANCIEROS DEL PROPONENTE
A20: PARTICIPACIÓN | D20: =+B20+C20 -> 0
A21: NIT:
A22: Cámara de Comercio
A23: Fecha RUP
A24: Fecha inscripción y/o actualización RUP
A25: Fecha corte información financiera RUP
A27: INFORMACIÓN FINANCIERA | B27: Integrante 1 | C27: Integrante 2 | D27: Total (1+2 % Part)
A28: Activo corriente | D28: =(B28*$B$20)+(C28*$C$20) -> 0
A29: Activo total | D29: =(B29*$B$20)+(C29*$C$20) -> 0
A30: Pasivo corriente | D30: =(B30*$B$20)+(C30*$C$20) -> 0
A31: Pasivo total | D31: =(B31*$B$20)+(C31*$C$20) -> 0
A32: Patrimonio expresado en $ | D32: =(B32*$B$20)+(C32*$C$20) -> 0
A33: Utilidad / Pérdida Operacional | D33: =(B33*$B$20)+(C33*$C$20) -> 0
A34: Gastos Financieros Intereses | D34: =(B34*$B$20)+(C34*$C$20) -> 0
A36: CAPACIDAD FINANCIERA
A37: Liquidez (AC/PC) | B37: =+B28/B30 -> #DIV/0! | C37: =+C28/C30 -> #DIV/0! | D37: =+D28/D30 -> #DIV/0!
A38: Endeudamiento (PT/AT) | B38: =+B31/B29 -> #DIV/0! | C38: =+C31/C29 -> #DIV/0! | D38: =+D31/D29 -> #DIV/0!
A39: Razon Cobertura de Intereses (UO/GI) | B39: =+IFERROR(B33/B34,"INDETERMINADO") -> INDETERMINADO | C39: =+IFERROR(C33/C34,"INDETERMINADO") -> INDETERMINADO | D39: =+IFERROR(D33/D34,"INDETERMINADO") -> INDETERMINADO
A40: Capital de Trabajo (AC-PC) | B40: =(B28-B30) -> 0 | C40: =(C28-C30) -> 0 | D40: =+(B40+C40)/(D13) -> 0
A41: Patrmonio (AT-PT/Pres. Of) | B41: =+(B29-B31) -> 0 | C41: =+(C29-C31) -> 0 | D41: =+(B41+C41)/(D13) -> 0
A42: CAPACIDAD ORGANIZACIONAL
A43: Rentabilidad Sobre Patrimonio (UO/PAT) | B43: =+B33/B32 -> #DIV/0! | C43: =+C33/C32 -> #DIV/0! | D43: =+D33/D32 -> #DIV/0!
A44: Rentabilidad Sobre Activos (UO/AT) | B44: =+B33/B29 -> #DIV/0! | C44: =+C33/C29 -> #DIV/0! | D44: =+D33/D29 -> #DIV/0!
A46: EVALUACIÓN FINANCIERA DEFINITIVA
A48: INDICADORES PROPUESTOS | B48: =+B15 -> 0
B49: INDICES PROPUESTOS POR EL SENA | C49: RESULTADOS FINANCIEROS DEL PROPONENTE | D49: RESULTADOS DE LA EVALUACIÓN
A50: Liquidez ≥ | B50: 2 | C50: =+D37 -> #DIV/0! | D50: =IF(C50>=B50,"HABILITADO","NO HABILITADO") -> #DIV/0!
...

Sheet TRES
A1: DIRECCION ADMINISTRATIVA Y FINANCIERA
A3: =+'RESULTADOS FINAL'!A4 -> PROCESO No. CM-DG-DAF-0003-2024
A4: =+'RESULTADOS FINAL'!A6 -> INTERVENTORÍA INTEGRAL TÉCNICA, ADMINISTRATIVA, FINANCIERA, JURÍDICA, CONTABLE Y AMBIENTAL PARA LAS CONSULTORÍAS DE DISEÑOS Y ESTUDIOS TÉCNICOS, TRÁMITES Y OBTENCIÓN DE PERMISOS Y LICENCIAS NECESARIOS PARA LOS PROYECTOS DE CONSTRUCCIÓN DE LAS NUEVAS SEDES DEL SENA, A PRECIO GLOBAL FIJO SIN REAJUSTES PARA CINCO (5) SEDES (CIÉNAGA DE ORO, PUERTO BOYACÁ, TUNJA, IPIALES Y KENNEDY)
A6: VERIFICACIÓN CAPACIDAD FINANCIERA Y ORGANIZACIONAL
A8: LOTE 1 | E8: 482738680
A9: LOTE 2 | E9: 237634335
A10: LOTE 3 | E10: 237634335
D11: LOTE 4 | E11: 482738680
D12: LOTE 5 | E12: 482738680
A13: VALOR PRESUPUESTO OFICIAL | E13: =+SUM(E8:E12) -> 1923484710
A15: PROPONENTE XX
A17: DATOS FINANCIEROS RUP
A19: INTEGRANTES | E19: RESULTADOS FINANCIEROS DEL PROPONENTE
A20: PARTICIPACIÓN | E20: =B20+C20+D20 -> 0
A21: NIT:
A22: Cámara de Comercio
A23: Fecha RUP
A24: Fecha inscripción y/o actualización RUP
A25: Fecha corte información financiera RUP
A27: INFORMACIÓN FINANCIERA | B27: Integrante 1 | C27: Integrante 2 | D27: Integrante 3 | E27: Total (1+2+3 % Part)
A28: Activo corriente | E28: =(B28*$B$20)+(C28*$C$20)+(D28*$D$20) -> 0
A29: Activo total | E29: =(B29*$B$20)+(C29*$C$20)+(D29*$D$20) -> 0
A30: Pasivo corriente | E30: =(B30*$B$20)+(C30*$C$20)+(D30*$D$20) -> 0
A31: Pasivo total | E31: =(B31*$B$20)+(C31*$C$20)+(D31*$D$20) -> 0
A32: Patrimonio expresado en $ | E32: =(B32*$B$20)+(C32*$C$20)+(D32*$D$20) -> 0
A33: Utilidad / Pérdida Operacional | E33: =(B33*$B$20)+(C33*$C$20)+(D33*$D$20) -> 0
A34: Gastos Financieros Intereses | E34: =(B34*$B$20)+(C34*$C$20)+(D34*$D$20) -> 0
A36: CAPACIDAD FINANCIERA
A37: Liquidez (AC/PC) | B37: =+B28/B30 -> #DIV/0! | C37: =+C28/C30 -> #DIV/0! | D37: =+D28/D30 -> #DIV/0! | E37: =+E28/E30 -> #DIV/0!
A38: Endeudamiento (PT/AT) | B38: =+B31/B29 -> #DIV/0! | C38: =+C31/C29 -> #DIV/0! | D38: =+D31/D29 -> #DIV/0! | E38: =+E31/E29 -> #DIV/0!
A39: Razon Cobertura de Intereses (UO/GI) | B39: =+IFERROR(B33/B34,"INDETERMINADO") -> INDETERMINADO | C39: =+IFERROR(C33/C34,"INDETERMINADO") -> INDETERMINADO | D39: =+IFERROR(D33/D34,"INDETERMINADO") -> INDETERMINADO | E39: =+IFERROR(E33/E34,"INDETERMINADO") -> INDETERMINADO
A40: Capital de Trabajo (AC-PC) | B40: =(B28-B30) -> 0 | C40: =(C28-C30) -> 0 | D40: =(D28-D30) -> 0 | E40: =+(B40+C40+D40)/(E13) -> 0
A41: Patrmonio (AT-PT/Pres. Of) | B41: =+(B29-B31) -> 0 | C41: =+(C29-C31) -> 0 | D41: =+(D29-D31) -> 0 | E41: =+(B41+C41+D41)/(E13) -> 0
A42: CAPACIDAD ORGANIZACIONAL
A43: Rentabilidad Sobre Patrimonio (UO/PAT) | B43: =+B33/B32 -> #DIV/0! | C43: =+C33/C32 -> #DIV/0! | D43: =+D33/D32 -> #DIV/0! | E43: =+E33/E32 -> #DIV/0!
A44: Rentabilidad Sobre Activos (UO/AT) | B44: =+B33/B29 -> #DIV/0! | C44: =+C33/C29 -> #DIV/0! | D44: =+D33/D29 -> #DIV/0! | E44: =+E33/E29 -> #DIV/0!
A46: EVALUACIÓN FINANCIERA DEFINITIVA
A48: INDICADORES PROPUESTOS | B48: =+B15 -> 0
B49: INDICES PROPUESTOS POR EL SENA | C49: RESULTADOS FINANCIEROS DEL PROPONENTE | D49: RESULTADOS DE LA EVALUACIÓN
A50: Liquidez ≥ | B50: 2 | C50: =+E37 -> #DIV/0! | D50: =IF(C50>=B50,"HABILITADO","NO HABILITADO") -> #DIV/0!
...

Sheet CUATRO
A1: DIRECCION ADMINISTRATIVA Y FINANCIERA
A3: =+'RESULTADOS FINAL'!A4 -> PROCESO No. CM-DG-DAF-0003-2024
A4: =+'RESULTADOS FINAL'!A6 -> INTERVENTORÍA INTEGRAL TÉCNICA, ADMINISTRATIVA, FINANCIERA, JURÍDICA, CONTABLE Y AMBIENTAL PARA LAS CONSULTORÍAS DE DISEÑOS Y ESTUDIOS TÉCNICOS, TRÁMITES Y OBTENCIÓN DE PERMISOS Y LICENCIAS NECESARIOS PARA LOS PROYECTOS DE CONSTRUCCIÓN DE LAS NUEVAS SEDES DEL SENA, A PRECIO GLOBAL FIJO SIN REAJUSTES PARA CINCO (5) SEDES (CIÉNAGA DE ORO, PUERTO BOYACÁ, TUNJA, IPIALES Y KENNEDY)
A6: VERIFICACIÓN CAPACIDAD FINANCIERA Y ORGANIZACIONAL
A8: LOTE 1 | F8: 482738680
A9: LOTE 2 | F9: 237634335
A10: LOTE 3 | F10: 237634335
E11: LOTE 4 | F11: 482738680
E12: LOTE 5 | F12: 482738680
A13: VALOR PRESUPUESTO OFICIAL | F13: =+SUM(F8:F12) -> 1923484710
A15: PROPONENTE XX
A17: DATOS FINANCIEROS RUP
A19: INTEGRANTES | F19: RESULTADOS FINANCIEROS DEL PROPONENTE
A20: PARTICIPACIÓN | F20: =B20+C20+D20+E20 -> 0
A21: NIT:
A22: Cámara de Comercio
A23: Fecha RUP
A24: Fecha inscripción y/o actualización RUP
A25: Fecha corte información financiera RUP
A27: INFORMACIÓN FINANCIERA | B27: Integrante 1 | C27: Integrante 2 | D27: Integrante 3 | E27: Integrante 4 | F27: Total (1+2+3+4 % Part)
A28: Activo corriente | F28: =(B28*$B$20)+(C28*$C$20)+(D28*$D$20)+(E28*$E$20) -> 0
A29: Activo total | F29: =(B29*$B$20)+(C29*$C$20)+(D29*$D$20)+(E29*$E$20) -> 0
A30: Pasivo corriente | F30: =(B30*$B$20)+(C30*$C$20)+(D30*$D$20)+(E30*$E$20) -> 0
A31: Pasivo total | F31: =(B31*$B$20)+(C31*$C$20)+(D31*$D$20)+(E31*$E$20) -> 0
A32: Patrimonio expresado en $ | F32: =(B32*$B$20)+(C32*$C$20)+(D32*$D$20)+(E32*$E$20) -> 0
A33: Utilidad / Pérdida Operacional | F33: =(B33*$B$20)+(C33*$C$20)+(D33*$D$20)+(E33*$E$20) -> 0
A34: Gastos Financieros Intereses | F34: =(B34*$B$20)+(C34*$C$20)+(D34*$D$20)+(E34*$E$20) -> 0
A36: CAPACIDAD FINANCIERA
A37: Liquidez (AC/PC) | B37: =+B28/B30 -> #DIV/0! | C37: =+C28/C30 -> #DIV/0! | D37: =+D28/D30 -> #DIV/0! | E37: =+E28/E30 -> #DIV/0! | F37: =+F28/F30 -> #DIV/0!
A38: Endeudamiento (PT/AT) | B38: =+B31/B29 -> #DIV/0! | C38: =+C31/C29 -> #DIV/0! | D38: =+D31/D29 -> #DIV/0! | E38: =+E31/E29 -> #DIV/0! | F38: =+F31/F29 -> #DIV/0!
A39: Razon Cobertura de Intereses (UO/GI) | B39: =+IFERROR(B33/B34,"INDETERMINADO") -> INDETERMINADO | C39: =+IFERROR(C33/C34,"INDETERMINADO") -> INDETERMINADO | D39: =+IFERROR(D33/D34,"INDETERMINADO") -> INDETERMINADO | E39: =+IFERROR(E33/E34,"INDETERMINADO") -> INDETERMINADO | F39: =+IFERROR(F33/F34,"INDETERMINADO") -> INDETERMINADO
A40: Capital de Trabajo (AC-PC) | B40: =(B28-B30) -> 0 | C40: =(C28-C30) -> 0 | D40: =(D28-D30) -> 0 | E40: =(E28-E30) -> 0 | F40: =+(B40+C40+D40+E40)/($F$13) -> 0
A41: Patrmonio (AT-PT/Pres. Of) | B41: =+(B29-B31) -> 0 | C41: =+(C29-C31) -> 0 | D41: =+(D29-D31) -> 0 | E41: =+(E29-E31) -> 0 | F41: =+(B41+C41+D41+E41)/($F$13) -> 0
A42: CAPACIDAD ORGANIZACIONAL
A43: Rentabilidad Sobre Patrimonio (UO/PAT) | B43: =+B33/B32 -> #DIV/0! | C43: =+C33/C32 -> #DIV/0! | D43: =+D33/D32 -> #DIV/0! | E43: =+E33/E32 -> #DIV/0! | F43: =+F33/F32 -> #DIV/0!
A44: Rentabilidad Sobre Activos (UO/AT) | B44: =+B33/B29 -> #DIV/0! | C44: =+C33/C29 -> #DIV/0! | D44: =+D33/D29 -> #DIV/0! | E44: =+E33/E29 -> #DIV/0! | F44: =+F33/F29 -> #DIV/0!
A46: EVALUACIÓN FINANCIERA DEFINITIVA
A48: INDICADORES PROPUESTOS | B48: =+B15 -> 0
B49: INDICES PROPUESTOS POR EL SENA | C49: RESULTADOS FINANCIEROS DEL PROPONENTE | D49: RESULTADOS DE LA EVALUACIÓN
A50: Liquidez ≥ | B50: 2 | C50: =+F37 -> #DIV/0! | D50: =IF(C50>=B50,"HABILITADO","NO HABILITADO") -> #DIV/0!
...

Sheet 01.INGENIERIA MASTER S.A.S.
A1: DIRECCION ADMINISTRATIVA Y FINANCIERA
A3: =+'RESULTADOS FINAL'!A4 -> PROCESO No. CM-DG-DAF-0003-2024
A4: =+'RESULTADOS FINAL'!A6 -> INTERVENTORÍA INTEGRAL TÉCNICA, ADMINISTRATIVA, FINANCIERA, JURÍDICA, CONTABLE Y AMBIENTAL PARA LAS CONSULTORÍAS DE DISEÑOS Y ESTUDIOS TÉCNICOS, TRÁMITES Y OBTENCIÓN DE PERMISOS Y LICENCIAS NECESARIOS PARA LOS PROYECTOS DE CONSTRUCCIÓN DE LAS NUEVAS SEDES DEL SENA, A PRECIO GLOBAL FIJO SIN REAJUSTES PARA CINCO (5) SEDES (CIÉNAGA DE ORO, PUERTO BOYACÁ, TUNJA, IPIALES Y KENNEDY)
A6: VERIFICACIÓN CAPACIDAD FINANCIERA Y ORGANIZACIONAL
A8: LOTE 2 | D8: 237634335
A9: LOTE 3 | D9: 237634335
A10: VALOR PRESUPUESTO OFICIAL | D10: =+SUM(D8:D9) -> 475268670
A12: PROPONENTE 01 | B12: =+'RESULTADOS FINAL'!B11 -> INGENIERIA MASTER S.A.S.
A14: DATOS FINANCIEROS RUP
A16: INTEGRANTES | B16: =+B12 -> INGENIERIA MASTER S.A.S. | C16: RESULTADOS FINANCIEROS DEL PROPONENTE
A17: PARTICIPACIÓN | B17: 1 | C17: =+B17 -> 1
A18: NIT: | B18: 900.915.689 - 6
A19: Cámara de Comercio | B19: BARRANQUILLA
A20: Fecha RUP | B20: 45839
A21: Fecha inscripción y/o actualización RUP | B21: 17-4-24
A22: Fecha corte información financiera RUP | B22: 31-12-2023
A24: INFORMACIÓN FINANCIERA | B24: Integrante 1 | C24: Total
A25: Activo corriente | B25: 12384954953 | C25: =(B25*$B$17) -> 12384954953
A26: Activo total | B26: 13164980456 | C26: =(B26*$B$17) -> 13164980456
A27: Pasivo corriente | B27: 2212621574 | C27: =(B27*$B$17) -> 2212621574
A28: Pasivo total | B28: 2249703074 | C28: =(B28*$B$17) -> 2249703074
A29: Patrimonio expresado en $ | B29: 10915277381 | C29: =(B29*$B$17) -> 10915277381
A30: Utilidad / Pérdida Operacional | B30: 3026779158 | C30: =(B30*$B$17) -> 3026779158
A31: Gastos Financieros Intereses | B31: 0 | C31: =(B31*$B$17) -> 0
A33: CAPACIDAD FINANCIERA
A34: Liquidez (AC/PC) | B34: =+B25/B27 -> 5.5974122 | C34: =+C25/C27 -> 5.5974122
A35: Endeudamiento (PT/AT) | B35: =+B28/B26 -> 0.17088541 | C35: =+C28/C26 -> 0.17088541
A36: Razon Cobertura de Intereses (UO/GI) | B36: =+IFERROR(B30/B31,"INDETERMINADO") -> INDETERMINADO | C36: =+IFERROR(C30/C31,"INDETERMINADO") -> INDETERMINADO
A37: Capital de Trabajo (AC-PC) | B37: =(B25-B27) -> 10172333379 | C37: =+(B37)/D10 -> 21.403333
A38: Patrmonio (AT-PT/Pres. Of) | B38: =+(B26-B28) -> 10915277382 | C38: =+(B38)/D10 -> 22.966541
A39: CAPACIDAD ORGANIZACIONAL
A40: Rentabilidad Sobre Patrimonio (UO/PAT) | B40: =+B30/B29 -> 0.2772975 | C40: =+C30/C29 -> 0.2772975
A41: Rentabilidad Sobre Activos (UO/AT) | B41: =+B30/B26 -> 0.22991141 | C41: =+C30/C26 -> 0.22991141
A43: EVALUACIÓN FINANCIERA DEFINITIVA
A45: INDICADORES PROPUESTOS | B45: =+B12 -> INGENIERIA MASTER S.A.S.
B46: INDICES PROPUESTOS POR EL SENA | C46: RESULTADOS FINANCIEROS DEL PROPONENTE | D46: RESULTADOS DE LA EVALUACIÓN
A47: Liquidez ≥ | B47: 2 | C47: =+C34 -> 5.5974122 | D47: =IF(C47>=B47,"HABILITADO","NO HABILITADO") -> HABILITADO
A48: Endeudamiento ≤ | B48: 0.5 | C48: =+C35 -> 0.17088541 | D48: =IF(C48<=B48,"HABILITADO","NO HABILITADO") -> HABILITADO
A49: Razon Cobertura de Intereses ≥ | B49: 1.5 | C49: =+C36 -> INDETERMINADO | D49: =+IF(C49=0,"HABILITADO",IF(C49>=B49,"HABILITADO","NO HABILITADO")) -> HABILITADO
A50: Capital de Trabajo ≥ | B50: 0.58 | C50: =+C37 -> 21.403333 | D50: =IF(C50>B50,"HABILITADO","NO HABILITADO") -> HABILITADO
...

Sheet 02.UT ALVARO FONNEGRA MAS DR
A1: DIRECCION ADMINISTRATIVA Y FINANCIERA
A3: =+'RESULTADOS FINAL'!A4 -> PROCESO No. CM-DG-DAF-0003-2024
A4: =+'RESULTADOS FINAL'!A6 -> INTERVENTORÍA INTEGRAL TÉCNICA, ADMINISTRATIVA, FINANCIERA, JURÍDICA, CONTABLE Y AMBIENTAL PARA LAS CONSULTORÍAS DE DISEÑOS Y ESTUDIOS TÉCNICOS, TRÁMITES Y OBTENCIÓN DE PERMISOS Y LICENCIAS NECESARIOS PARA LOS PROYECTOS DE CONSTRUCCIÓN DE LAS NUEVAS SEDES DEL SENA, A PRECIO GLOBAL FIJO SIN REAJUSTES PARA CINCO (5) SEDES (CIÉNAGA DE ORO, PUERTO BOYACÁ, TUNJA, IPIALES Y KENNEDY)
A6: VERIFICACIÓN CAPACIDAD FINANCIERA Y ORGANIZACIONAL
A8: LOTE 2 | D8: 237634335
A9: LOTE 3 | D9: 237634335
A10: VALOR PRESUPUESTO OFICIAL | D10: =+SUM(D8:D9) -> 475268670
A12: PROPONENTE 02 | B12: =+'RESULTADOS FINAL'!B12 -> UT ALVARO FONNEGRA MAS DR
A14: DATOS FINANCIEROS RUP
A16: INTEGRANTES | B16: =+'RESULTADOS FINAL'!D12 -> ÁLVARO FONNEGRA JARAMILLO | C16: =+'RESULTADOS FINAL'!D13 -> DANIEL ALEJANDRO RIAÑO GARCÍA | D16: RESULTADOS FINANCIEROS DEL PROPONENTE
A17: PARTICIPACIÓN | B17: 0.9 | C17: 0.1 | D17: =+B17+C17 -> 1
A18: NIT: | B18: 19130480-9 | C18: 1032460500-1
A19: Cámara de Comercio | B19: BOGOTA | C19: BOGOTA
A20: Fecha RUP | B20: 45870 | C20: 28/1/25
A21: Fecha inscripción y/o actualización RUP | B21: 45448 | C21: 45475
A22: Fecha corte información financiera RUP | B22: 31-12-2023 | C22: 31/12/25
A24: INFORMACIÓN FINANCIERA | B24: Integrante 1 | C24: Integrante 2 | D24: Total (1+2 % Part)
A25: Activo corriente | B25: 626415030 | C25: 53213350 | D25: =(B25*$B$17)+(C25*$C$17) -> 569094862
A26: Activo total | B26: 1319878979 | C26: 94213350 | D26: =(B26*$B$17)+(C26*$C$17) -> 1.1973124e+09
A27: Pasivo corriente | B27: 10450000 | C27: 17200000 | D27: =(B27*$B$17)+(C27*$C$17) -> 11125000
A28: Pasivo total | B28: 10450000 | C28: 17200000 | D28: =(B28*$B$17)+(C28*$C$17) -> 11125000
A29: Patrimonio expresado en $ | B29: 1309428979 | C29: 77013350 | D29: =(B29*$B$17)+(C29*$C$17) -> 1.1861874e+09
A30: Utilidad / Pérdida Operacional | B30: 379192579 | C30: 24859180 | D30: =(B30*$B$17)+(C30*$C$17) -> 3.4375924e+08
A31: Gastos Financieros Intereses | B31: 12415500 | C31: 0 | D31: =(B31*$B$17)+(C31*$C$17) -> 11173950
A33: CAPACIDAD FINANCIERA
A34: Liquidez (AC/PC) | B34: =+B25/B27 -> 59.944022 | C34: =+C25/C27 -> 3.0937994 | D34: =+D25/D27 -> 51.154594
A35: Endeudamiento (PT/AT) | B35: =+B28/B26 -> 0.0079173926 | C35: =+C28/C26 -> 0.18256436 | D35: =+D28/D26 -> 0.0092916434
A36: Razon Cobertura de Intereses (UO/GI) | B36: =+IFERROR(B30/B31,"INDETERMINADO") -> 30.541869 | C36: =+IFERROR(C30/C31,"INDETERMINADO") -> INDETERMINADO | D36: =+IFERROR(D30/D31,"INDETERMINADO") -> 30.764344
A37: Capital de Trabajo (AC-PC) | B37: =(B25-B27) -> 615965030 | C37: =(C25-C27) -> 36013350 | D37: =+(B37+C37)/(D10) -> 1.3718101
A38: Patrmonio (AT-PT/Pres. Of) | B38: =+(B26-B28) -> 1309428979 | C38: =+(C26-C28) -> 77013350 | D38: =+(B38+C38)/(D10) -> 2.9171759
A39: CAPACIDAD ORGANIZACIONAL
A40: Rentabilidad Sobre Patrimonio (UO/PAT) | B40: =+B30/B29 -> 0.28958621 | C40: =+C30/C29 -> 0.32279053 | D40: =+D30/D29 -> 0.28980179
A41: Rentabilidad Sobre Activos (UO/AT) | B41: =+B30/B26 -> 0.28729345 | C41: =+C30/C26 -> 0.26386048 | D41: =+D30/D26 -> 0.28710906
A43: EVALUACIÓN FINANCIERA DEFINITIVA
A45: INDICADORES PROPUESTOS | B45: =+B12 -> UT ALVARO FONNEGRA MAS DR
B46: INDICES PROPUESTOS POR EL SENA | C46: RESULTADOS FINANCIEROS DEL PROPONENTE | D46: RESULTADOS DE LA EVALUACIÓN
A47: Liquidez ≥ | B47: 2 | C47: =+D34 -> 51.154594 | D47: =IF(C47>=B47,"HABILITADO","NO HABILITADO") -> HABILITADO
A48: Endeudamiento ≤ | B48: 0.5 | C48: =+D35 -> 0.0092916434 | D48: =IF(C48<=B48,"HABILITADO","NO HABILITADO") -> HABILITADO
A49: Razon Cobertura de Intereses ≥ | B49: 1.5 | C49: =+D36 -> 30.764344 | D49: =+IF(C49=0,"HABILITADO",IF(C49>=B49,"HABILITADO","NO HABILITADO")) -> HABILITADO
A50: Capital de Trabajo ≥ | B50: 0.58 | C50: =+D37 -> 1.3718101 | D50: =IF(C50>B50,"HABILITADO","NO HABILITADO") -> HABILITADO
...

Sheet 03.IA INGENIERIA Y ARQUITECTURA
A1: DIRECCION ADMINISTRATIVA Y FINANCIERA
A3: =+'RESULTADOS FINAL'!A4 -> PROCESO No. CM-DG-DAF-0003-2024
A4: =+'RESULTADOS FINAL'!A6 -> INTERVENTORÍA INTEGRAL TÉCNICA, ADMINISTRATIVA, FINANCIERA, JURÍDICA, CONTABLE Y AMBIENTAL PARA LAS CONSULTORÍAS DE DISEÑOS Y ESTUDIOS TÉCNICOS, TRÁMITES Y OBTENCIÓN DE PERMISOS Y LICENCIAS NECESARIOS PARA LOS PROYECTOS DE CONSTRUCCIÓN DE LAS NUEVAS SEDES DEL SENA, A PRECIO GLOBAL FIJO SIN REAJUSTES PARA CINCO (5) SEDES (CIÉNAGA DE ORO, PUERTO BOYACÁ, TUNJA, IPIALES Y KENNEDY)
A6: VERIFICACIÓN CAPACIDAD FINANCIERA Y ORGANIZACIONAL
A8: LOTE 2 | D8: 237634335
A9: LOTE 3 | D9: 237634335
A10: VALOR PRESUPUESTO OFICIAL | D10: =+SUM(D8:D9) -> 475268670
A12: PROPONENTE 03 | B12: =+'RESULTADOS FINAL'!B14 -> IA INGENIERIA Y ARQUITECTURA DE COLOMBIA SAS
A14: DATOS FINANCIEROS RUP
A16: INTEGRANTES | B16: =+'RESULTADOS FINAL'!B14 -> IA INGENIERIA Y ARQUITECTURA DE COLOMBIA SAS | C16: RESULTADOS FINANCIEROS DEL PROPONENTE
A17: PARTICIPACIÓN | B17: 1 | C17: =+B17 -> 1
A18: NIT: | B18: 900283049-9
A19: Cámara de Comercio | B19: BOGOTA
A20: Fecha RUP | B20: 30/1/25
A21: Fecha inscripción y/o actualización RUP | B21: 45327
A22: Fecha corte información financiera RUP | B22: 31/12/23
A24: INFORMACIÓN FINANCIERA | B24: Integrante 1 | C24: Total
A25: Activo corriente | B25: 384899612 | C25: =(B25*$B$17) -> 384899612
A26: Activo total | B26: 445714168 | C26: =(B26*$B$17) -> 445714168
A27: Pasivo corriente | B27: 36557400 | C27: =(B27*$B$17) -> 36557400
A28: Pasivo total | B28: 98865438 | C28: =(B28*$B$17) -> 98865438
A29: Patrimonio expresado en $ | B29: 346848730 | C29: =(B29*$B$17) -> 346848730
A30: Utilidad / Pérdida Operacional | B30: 95306177 | C30: =(B30*$B$17) -> 95306177
A31: Gastos Financieros Intereses | B31: 0 | C31: =(B31*$B$17) -> 0
A33: CAPACIDAD FINANCIERA
A34: Liquidez (AC/PC) | B34: =+B25/B27 -> 10.528637 | C34: =+C25/C27 -> 10.528637
A35: Endeudamiento (PT/AT) | B35: =+B28/B26 -> 0.22181354 | C35: =+C28/C26 -> 0.22181354
A36: Razon Cobertura de Intereses (UO/GI) | B36: =+IFERROR(B30/B31,"INDETERMINADO") -> INDETERMINADO | C36: =+IFERROR(C30/C31,"INDETERMINADO") -> INDETERMINADO
A37: Capital de Trabajo (AC-PC) | B37: =(B25-B27) -> 348342212 | C37: =+(B37)/D10 -> 0.73293746
A38: Patrmonio (AT-PT/Pres. Of) | B38: =+(B26-B28) -> 346848730 | C38: =+(B38)/D10 -> 0.72979507
A39: CAPACIDAD ORGANIZACIONAL
A40: Rentabilidad Sobre Patrimonio (UO/PAT) | B40: =+B30/B29 -> 0.27477736 | C40: =+C30/C29 -> 0.27477736
A41: Rentabilidad Sobre Activos (UO/AT) | B41: =+B30/B26 -> 0.21382802 | C41: =+C30/C26 -> 0.21382802
A43: EVALUACIÓN FINANCIERA DEFINITIVA
A45: INDICADORES PROPUESTOS | B45: =+B12 -> IA INGENIERIA Y ARQUITECTURA DE COLOMBIA SAS
B46: INDICES PROPUESTOS POR EL SENA | C46: RESULTADOS FINANCIEROS DEL PROPONENTE | D46: RESULTADOS DE LA EVALUACIÓN
A47: Liquidez ≥ | B47: 2 | C47: =+C34 -> 10.528637 | D47: =IF(C47>=B47,"HABILITADO","NO HABILITADO") -> HABILITADO
A48: Endeudamiento ≤ | B48: 0.5 | C48: =+C35 -> 0.22181354 | D48: =IF(C48<=B48,"HABILITADO","NO HABILITADO") -> HABILITADO
A49: Razon Cobertura de Intereses ≥ | B49: 1.5 | C49: =+C36 -> INDETERMINADO | D49: =+IF(C49=0,"HABILITADO",IF(C49>=B49,"HABILITADO","NO HABILITADO")) -> HABILITADO
A50: Capital de Trabajo ≥ | B50: 0.58 | C50: =+C37 -> 0.73293746 | D50: =IF(C50>B50,"HABILITADO","NO HABILITADO") -> HABILITADO
...

Sheet 04.AVE
A1: DIRECCION ADMINISTRATIVA Y FINANCIERA
A3: =+'RESULTADOS FINAL'!A4 -> PROCESO No. CM-DG-DAF-0003-2024
A4: =+'RESULTADOS FINAL'!A6 -> INTERVENTORÍA INTEGRAL TÉCNICA, ADMINISTRATIVA, FINANCIERA, JURÍDICA, CONTABLE Y AMBIENTAL PARA LAS CONSULTORÍAS DE DISEÑOS Y ESTUDIOS TÉCNICOS, TRÁMITES Y OBTENCIÓN DE PERMISOS Y LICENCIAS NECESARIOS PARA LOS PROYECTOS DE CONSTRUCCIÓN DE LAS NUEVAS SEDES DEL SENA, A PRECIO GLOBAL FIJO SIN REAJUSTES PARA CINCO (5) SEDES (CIÉNAGA DE ORO, PUERTO BOYACÁ, TUNJA, IPIALES Y KENNEDY)
A6: VERIFICACIÓN CAPACIDAD FINANCIERA Y ORGANIZACIONAL
C8: LOTE 4 | D8: 482738680
A9: VALOR PRESUPUESTO OFICIAL | D9: =+SUM(D8:D8) -> 482738680
A11: PROPONENTE 04 | B11: =+'RESULTADOS FINAL'!B15 -> ARDILA VALENCIA ESTRUCTURAS S.A.S. - AVE
A13: DATOS FINANCIEROS RUP
A15: INTEGRANTES | B15: =+B11 -> ARDILA VALENCIA ESTRUCTURAS S.A.S. - AVE | C15: RESULTADOS FINANCIEROS DEL PROPONENTE
A16: PARTICIPACIÓN | B16: 1 | C16: =+B16 -> 1
A17: NIT: | B17: 900664747-7
A18: Cámara de Comercio | B18: BOGOTÁ
A19: Fecha RUP | B19: 30/01/2025
A20: Fecha inscripción y/o actualización RUP | B20: 45539
A21: Fecha corte información financiera RUP | B21: 31/12/2023
A23: INFORMACIÓN FINANCIERA | B23: Integrante 1 | C23: Total
A24: Activo corriente | B24: 682411611 | C24: =(B24*$B$16) -> 682411611
A25: Activo total | B25: 844809177 | C25: =(B25*$B$16) -> 844809177
A26: Pasivo corriente | B26: 156490740 | C26: =(B26*$B$16) -> 156490740
A27: Pasivo total | B27: 216218882 | C27: =(B27*$B$16) -> 216218882
A28: Patrimonio expresado en $ | B28: 628590295 | C28: =(B28*$B$16) -> 628590295
A29: Utilidad / Pérdida Operacional | B29: 130860019 | C29: =(B29*$B$16) -> 130860019
A30: Gastos Financieros Intereses | B30: 2015282 | C30: =(B30*$B$16) -> 2015282
A32: CAPACIDAD FINANCIERA
A33: Liquidez (AC/PC) | B33: =+B24/B26 -> 4.3607156 | C33: =+C24/C26 -> 4.3607156
A34: Endeudamiento (PT/AT) | B34: =+B27/B25 -> 0.25593813 | C34: =+C27/C25 -> 0.25593813
A35: Razon Cobertura de Intereses (UO/GI) | B35: =+IFERROR(B29/B30,"INDETERMINADO") -> 64.93385 | C35: =+IFERROR(C29/C30,"INDETERMINADO") -> 64.93385
A36: Capital de Trabajo (AC-PC) | B36: =(B24-B26) -> 525920871 | C36: =+(B36)/D9 -> 1.0894525
A37: Patrmonio (AT-PT/Pres. Of) | B37: =+(B25-B27) -> 628590295 | C37: =+(B37)/D9 -> 1.3021337
A38: CAPACIDAD ORGANIZACIONAL
A39: Rentabilidad Sobre Patrimonio (UO/PAT) | B39: =+B29/B28 -> 0.20818015 | C39: =+C29/C28 -> 0.20818015
A40: Rentabilidad Sobre Activos (UO/AT) | B40: =+B29/B25 -> 0.15489891 | C40: =+C29/C25 -> 0.15489891
A42: EVALUACIÓN FINANCIERA DEFINITIVA
A44: INDICADORES PROPUESTOS | B44: =+B11 -> ARDILA VALENCIA ESTRUCTURAS S.A.S. - AVE
B45: INDICES PROPUESTOS POR EL SENA | C45: RESULTADOS FINANCIEROS DEL PROPONENTE | D45: RESULTADOS DE LA EVALUACIÓN
A46: Liquidez ≥ | B46: 2 | C46: =+C33 -> 4.3607156 | D46: =IF(C46>=B46,"HABILITADO","NO HABILITADO") -> HABILITADO
A47: Endeudamiento ≤ | B47: 0.5 | C47: =+C34 -> 0.25593813 | D47: =IF(C47<=B47,"HABILITADO","NO HABILITADO") -> HABILITADO
A48: Razon Cobertura de Intereses ≥ | B48: 1.5 | C48: =+C35 -> 64.93385 | D48: =+IF(C48=0,"HABILITADO",IF(C48>=B48,"HABILITADO","NO HABILITADO")) -> HABILITADO
A49: Capital de Trabajo ≥ | B49: 0.58 | C49: =+C36 -> 1.0894525 | D49: =IF(C49>B49,"HABILITADO","NO HABILITADO") -> HABILITADO
A50: Patrimonio Lote ≥ | B50: 0.24 | C50: =+C37 -> 1.3021337 | D50: =IF(C50>B50,"HABILITADO","NO HABILITADO") -> HABILITADO
...

Sheet 05.CONSORCIO CONSTRUGAVI SENA 0
A1: DIRECCION ADMINISTRATIVA Y FINANCIERA
A3: =+'RESULTADOS FINAL'!A4 -> PROCESO No. CM-DG-DAF-0003-2024
A4: =+'RESULTADOS FINAL'!A6 -> INTERVENTORÍA INTEGRAL TÉCNICA, ADMINISTRATIVA, FINANCIERA, JURÍDICA, CONTABLE Y AMBIENTAL PARA LAS CONSULTORÍAS DE DISEÑOS Y ESTUDIOS TÉCNICOS, TRÁMITES Y OBTENCIÓN DE PERMISOS Y LICENCIAS NECESARIOS PARA LOS PROYECTOS DE CONSTRUCCIÓN DE LAS NUEVAS SEDES DEL SENA, A PRECIO GLOBAL FIJO SIN REAJUSTES PARA CINCO (5) SEDES (CIÉNAGA DE ORO, PUERTO BOYACÁ, TUNJA, IPIALES Y KENNEDY)
A6: VERIFICACIÓN CAPACIDAD FINANCIERA Y ORGANIZACIONAL
A8: LOTE 1 | D8: 482738680
C9: LOTE 4 | D9: 482738680
C10: LOTE 5 | D10: 482738680
A11: VALOR PRESUPUESTO OFICIAL | D11: =+SUM(D8:D10) -> 1448216040
A13: PROPONENTE 05 | B13: =+'RESULTADOS FINAL'!B16 -> CONSORCIO CONSTRUGAVI SENA 003
A15: DATOS FINANCIEROS RUP
A17: INTEGRANTES | B17: =+'RESULTADOS FINAL'!D16 -> GAVINCO INGENIEROS CONSULTORES S.A.S | C17: =+'RESULTADOS FINAL'!D17 -> CONSTRUMAVE S.A.S | D17: RESULTADOS FINANCIEROS DEL PROPONENTE
A18: PARTICIPACIÓN | B18: 0.9 | C18: 0.1 | D18: =+B18+C18 -> 1
A19: NIT: | B19: 900916608-4 | C19: 901524369-1
A20: Cámara de Comercio | B20: BOGOTA | C20: BOGOTA
A21: Fecha RUP | B21: 45717 | C21: 20/01/2025
A22: Fecha inscripción y/o actualización RUP | B22: 19/03/2024 | C22: 26/03/2024
A23: Fecha corte información financiera RUP | B23: 31/12/2023 | C23: 31/12/2023
A25: INFORMACIÓN FINANCIERA | B25: Integrante 1 | C25: Integrante 2 | D25: Total (1+2 % Part)
A26: Activo corriente | B26: 12830978401 | C26: 1938308576 | D26: =(B26*$B$18)+(C26*$C$18) -> 1.1741711e+10
A27: Activo total | B27: 14671587094 | C27: 1938308576 | D27: =(B27*$B$18)+(C27*$C$18) -> 1.3398259e+10
A28: Pasivo corriente | B28: 4048493859 | C28: 516968421 | D28: =(B28*$B$18)+(C28*$C$18) -> 3.6953413e+09
A29: Pasivo total | B29: 6378756943 | C29: 765763790 | D29: =(B29*$B$18)+(C29*$C$18) -> 5.8174576e+09
A30: Patrimonio expresado en $ | B30: 8292830151 | C30: 1172544786 | D30: =(B30*$B$18)+(C30*$C$18) -> 7.5808016e+09
A31: Utilidad / Pérdida Operacional | B31: 4242495493 | C31: 218973508 | D31: =(B31*$B$18)+(C31*$C$18) -> 3.8401433e+09
A32: Gastos Financieros Intereses | B32: 797177344 | C32: 0 | D32: =(B32*$B$18)+(C32*$C$18) -> 7.1745961e+08
A34: CAPACIDAD FINANCIERA
A35: Liquidez (AC/PC) | B35: =+B26/B28 -> 3.1693214 | C35: =+C26/C28 -> 3.7493752 | D35: =+D26/D28 -> 3.1774362
A36: Endeudamiento (PT/AT) | B36: =+B29/B27 -> 0.43476939 | C36: =+C29/C27 -> 0.39506805 | D36: =+D29/D27 -> 0.43419503
A37: Razon Cobertura de Intereses (UO/GI) | B37: =+IFERROR(B31/B32,"INDETERMINADO") -> 5.3218967 | C37: =+IFERROR(C31/C32,"INDETERMINADO") -> INDETERMINADO | D37: =+IFERROR(D31/D32,"INDETERMINADO") -> 5.3524174
A38: Capital de Trabajo (AC-PC) | B38: =(B26-B28) -> 8782484542 | C38: =(C26-C28) -> 1421340155 | D38: =+(B38+C38)/(D11) -> 7.045789
A39: Patrmonio (AT-PT/Pres. Of) | B39: =+(B27-B29) -> 8292830151 | C39: =+(C27-C29) -> 1172544786 | D39: =+(B39+C39)/(D11) -> 6.535886
A40: CAPACIDAD ORGANIZACIONAL
A41: Rentabilidad Sobre Patrimonio (UO/PAT) | B41: =+B31/B30 -> 0.51158596 | C41: =+C31/C30 -> 0.18675066 | D41: =+D31/D30 -> 0.50656164
A42: Rentabilidad Sobre Activos (UO/AT) | B42: =+B31/B27 -> 0.28916405 | C42: =+C31/C27 -> 0.11297144 | D42: =+D31/D27 -> 0.28661509
A44: EVALUACIÓN FINANCIERA DEFINITIVA
A46: INDICADORES PROPUESTOS | B46: =+B13 -> CONSORCIO CONSTRUGAVI SENA 003
B47: INDICES PROPUESTOS POR EL SENA | C47: RESULTADOS FINANCIEROS DEL PROPONENTE | D47: RESULTADOS DE LA EVALUACIÓN
A48: Liquidez ≥ | B48: 2 | C48: =+D35 -> 3.1774362 | D48: =IF(C48>=B48,"HABILITADO","NO HABILITADO") -> HABILITADO
A49: Endeudamiento ≤ | B49: 0.5 | C49: =+D36 -> 0.43419503 | D49: =IF(C49<=B49,"HABILITADO","NO HABILITADO") -> HABILITADO
A50: Razon Cobertura de Intereses ≥ | B50: 1.5 | C50: =+D37 -> 5.3524174 | D50: =+IF(C50=0,"HABILITADO",IF(C50>=B50,"HABILITADO","NO HABILITADO")) -> HABILITADO
...

Sheet 06.TOTALL INC SAS BIC
A1: DIRECCION ADMINISTRATIVA Y FINANCIERA
A3: =+'RESULTADOS FINAL'!A4 -> PROCESO No. CM-DG-DAF-0003-2024
A4: =+'RESULTADOS FINAL'!A6 -> INTERVENTORÍA INTEGRAL TÉCNICA, ADMINISTRATIVA, FINANCIERA, JURÍDICA, CONTABLE Y AMBIENTAL PARA LAS CONSULTORÍAS DE DISEÑOS Y ESTUDIOS TÉCNICOS, TRÁMITES Y OBTENCIÓN DE PERMISOS Y LICENCIAS NECESARIOS PARA LOS PROYECTOS DE CONSTRUCCIÓN DE LAS NUEVAS SEDES DEL SENA, A PRECIO GLOBAL FIJO SIN REAJUSTES PARA CINCO (5) SEDES (CIÉNAGA DE ORO, PUERTO BOYACÁ, TUNJA, IPIALES Y KENNEDY)
A6: VERIFICACIÓN CAPACIDAD FINANCIERA Y ORGANIZACIONAL
C8: LOTE 4 | D8: 482738680
A9: VALOR PRESUPUESTO OFICIAL | D9: =+SUM(D8:D8) -> 482738680
A11: PROPONENTE 06 | B11: =+'RESULTADOS FINAL'!B18 -> TOTALL INC SAS BIC
A13: DATOS FINANCIEROS RUP
A15: INTEGRANTES | B15: =+B11 -> TOTALL INC SAS BIC | C15: RESULTADOS FINANCIEROS DEL PROPONENTE
A16: PARTICIPACIÓN | B16: 1 | C16: =+B16 -> 1
A17: NIT: | B17: 901620351-9
A18: Cámara de Comercio | B18: BOGOTA
A19: Fecha RUP | B19: 24/01/2025
A20: Fecha inscripción y/o actualización RUP | B20: 22/03/2024
A21: Fecha corte información financiera RUP | B21: 31/12/2023
A23: INFORMACIÓN FINANCIERA | B23: Integrante 1 | C23: Total
A24: Activo corriente | B24: 1482932074 | C24: =(B24*$B$16) -> 1482932074
A25: Activo total | B25: 1482932074 | C25: =(B25*$B$16) -> 1482932074
A26: Pasivo corriente | B26: 141329000 | C26: =(B26*$B$16) -> 141329000
A27: Pasivo total | B27: 141329000 | C27: =(B27*$B$16) -> 141329000
A28: Patrimonio expresado en $ | B28: 1341603074 | C28: =(B28*$B$16) -> 1341603074
A29: Utilidad / Pérdida Operacional | B29: 554886899 | C29: =(B29*$B$16) -> 554886899
A30: Gastos Financieros Intereses | B30: 1000000 | C30: =(B30*$B$16) -> 1000000
A32: CAPACIDAD FINANCIERA
A33: Liquidez (AC/PC) | B33: =+B24/B26 -> 10.492766 | C33: =+C24/C26 -> 10.492766
A34: Endeudamiento (PT/AT) | B34: =+B27/B25 -> 0.095303758 | C34: =+C27/C25 -> 0.095303758
A35: Razon Cobertura de Intereses (UO/GI) | B35: =+IFERROR(B29/B30,"INDETERMINADO") -> 554.8869 | C35: =+IFERROR(C29/C30,"INDETERMINADO") -> 554.8869
A36: Capital de Trabajo (AC-PC) | B36: =(B24-B26) -> 1341603074 | C36: =+(B36)/D9 -> 2.7791497
A37: Patrmonio (AT-PT/Pres. Of) | B37: =+(B25-B27) -> 1341603074 | C37: =+(B37)/D9 -> 2.7791497
A38: CAPACIDAD ORGANIZACIONAL
A39: Rentabilidad Sobre Patrimonio (UO/PAT) | B39: =+B29/B28 -> 0.4135999 | C39: =+C29/C28 -> 0.4135999
A40: Rentabilidad Sobre Activos (UO/AT) | B40: =+B29/B25 -> 0.37418228 | C40: =+C29/C25 -> 0.37418228
A42: EVALUACIÓN FINANCIERA DEFINITIVA
A44: INDICADORES PROPUESTOS | B44: =+B11 -> TOTALL INC SAS BIC
B45: INDICES PROPUESTOS POR EL SENA | C45: RESULTADOS FINANCIEROS DEL PROPONENTE | D45: RESULTADOS DE LA EVALUACIÓN
A46: Liquidez ≥ | B46: 2 | C46: =+C33 -> 10.492766 | D46: =IF(C46>=B46,"HABILITADO","NO HABILITADO") -> HABILITADO
A47: Endeudamiento ≤ | B47: 0.5 | C47: =+C34 -> 0.095303758 | D47: =IF(C47<=B47,"HABILITADO","NO HABILITADO") -> HABILITADO
A48: Razon Cobertura de Intereses ≥ | B48: 1.5 | C48: =+C35 -> 554.8869 | D48: =+IF(C48=0,"HABILITADO",IF(C48>=B48,"HABILITADO","NO HABILITADO")) -> HABILITADO
A49: Capital de Trabajo ≥ | B49: 0.58 | C49: =+C36 -> 2.7791497 | D49: =IF(C49>B49,"HABILITADO","NO HABILITADO") -> HABILITADO
A50: Patrimonio Lote ≥ | B50: 0.24 | C50: =+C37 -> 2.7791497 | D50: =IF(C50>B50,"HABILITADO","NO HABILITADO") -> HABILITADO
...

Sheet 07.JAM
A1: DIRECCION ADMINISTRATIVA Y FINANCIERA
A3: =+'RESULTADOS FINAL'!A4 -> PROCESO No. CM-DG-DAF-0003-2024
A4: =+'RESULTADOS FINAL'!A6 -> INTERVENTORÍA INTEGRAL TÉCNICA, ADMINISTRATIVA, FINANCIERA, JURÍDICA, CONTABLE Y AMBIENTAL PARA LAS CONSULTORÍAS DE DISEÑOS Y ESTUDIOS TÉCNICOS, TRÁMITES Y OBTENCIÓN DE PERMISOS Y LICENCIAS NECESARIOS PARA LOS PROYECTOS DE CONSTRUCCIÓN DE LAS NUEVAS SEDES DEL SENA, A PRECIO GLOBAL FIJO SIN REAJUSTES PARA CINCO (5) SEDES (CIÉNAGA DE ORO, PUERTO BOYACÁ, TUNJA, IPIALES Y KENNEDY)
A6: VERIFICACIÓN CAPACIDAD FINANCIERA Y ORGANIZACIONAL
A8: LOTE 2 | D8: 237634335
A9: LOTE 3 | D9: 237634335
A10: VALOR PRESUPUESTO OFICIAL | D10: =+SUM(D8:D9) -> 475268670
A12: PROPONENTE 07 | B12: =+'RESULTADOS FINAL'!B19 -> JAM INGENIERIA Y MEDIO AMBIENTE S.A.S
A14: DATOS FINANCIEROS RUP
A16: INTEGRANTES | B16: =+B12 -> JAM INGENIERIA Y MEDIO AMBIENTE S.A.S | C16: RESULTADOS FINANCIEROS DEL PROPONENTE
A17: PARTICIPACIÓN | B17: 1 | C17: =+B17 -> 1
A18: NIT: | B18: 830084684-9
A19: Cámara de Comercio | B19: BOGOTA
A20: Fecha RUP | B20: 14/1/2025
A21: Fecha inscripción y/o actualización RUP | B21: 22/3/2024
A22: Fecha corte información financiera RUP | B22: 21/12/2023
A24: INFORMACIÓN FINANCIERA | B24: Integrante 1 | C24: Total
A25: Activo corriente | B25: 4808392174 | C25: =(B25*$B$17) -> 4808392174
A26: Activo total | B26: 6597253440 | C26: =(B26*$B$17) -> 6597253440
A27: Pasivo corriente | B27: 963422079 | C27: =(B27*$B$17) -> 963422079
A28: Pasivo total | B28: 2251510375 | C28: =(B28*$B$17) -> 2251510375
A29: Patrimonio expresado en $ | B29: 4345743065 | C29: =(B29*$B$17) -> 4345743065
A30: Utilidad / Pérdida Operacional | B30: 741625117 | C30: =(B30*$B$17) -> 741625117
A31: Gastos Financieros Intereses | B31: 34681060 | C31: =(B31*$B$17) -> 34681060
A33: CAPACIDAD FINANCIERA
A34: Liquidez (AC/PC) | B34: =+B25/B27 -> 4.9909508 | C34: =+C25/C27 -> 4.9909508
A35: Endeudamiento (PT/AT) | B35: =+B28/B26 -> 0.34127996 | C35: =+C28/C26 -> 0.34127996
A36: Razon Cobertura de Intereses (UO/GI) | B36: =+IFERROR(B30/B31,"INDETERMINADO") -> 21.384154 | C36: =+IFERROR(C30/C31,"INDETERMINADO") -> 21.384154
A37: Capital de Trabajo (AC-PC) | B37: =(B25-B27) -> 3844970095 | C37: =+(B37)/D10 -> 8.090098
A38: Patrmonio (AT-PT/Pres. Of) | B38: =+(B26-B28) -> 4345743065 | C38: =+(B38)/D10 -> 9.1437609
A39: CAPACIDAD ORGANIZACIONAL
A40: Rentabilidad Sobre Patrimonio (UO/PAT) | B40: =+B30/B29 -> 0.17065554 | C40: =+C30/C29 -> 0.17065554
A41: Rentabilidad Sobre Activos (UO/AT) | B41: =+B30/B26 -> 0.11241422 | C41: =+C30/C26 -> 0.11241422
A43: EVALUACIÓN FINANCIERA DEFINITIVA
A45: INDICADORES PROPUESTOS | B45: =+B12 -> JAM INGENIERIA Y MEDIO AMBIENTE S.A.S
B46: INDICES PROPUESTOS POR EL SENA | C46: RESULTADOS FINANCIEROS DEL PROPONENTE | D46: RESULTADOS DE LA EVALUACIÓN
A47: Liquidez ≥ | B47: 2 | C47: =+C34 -> 4.9909508 | D47: =IF(C47>=B47,"HABILITADO","NO HABILITADO") -> HABILITADO
A48: Endeudamiento ≤ | B48: 0.5 | C48: =+C35 -> 0.34127996 | D48: =IF(C48<=B48,"HABILITADO","NO HABILITADO") -> HABILITADO
A49: Razon Cobertura de Intereses ≥ | B49: 1.5 | C49: =+C36 -> 21.384154 | D49: =+IF(C49=0,"HABILITADO",IF(C49>=B49,"HABILITADO","NO HABILITADO")) -> HABILITADO
A50: Capital de Trabajo ≥ | B50: 0.58 | C50: =+C37 -> 8.090098 | D50: =IF(C50>B50,"HABILITADO","NO HABILITADO") -> HABILITADO
...

Sheet 08.GB10 CONSULTORES S.A.S.
A1: DIRECCION ADMINISTRATIVA Y FINANCIERA
A3: =+'RESULTADOS FINAL'!A4 -> PROCESO No. CM-DG-DAF-0003-2024
A4: =+'RESULTADOS FINAL'!A6 -> INTERVENTORÍA INTEGRAL TÉCNICA, ADMINISTRATIVA, FINANCIERA, JURÍDICA, CONTABLE Y AMBIENTAL PARA LAS CONSULTORÍAS DE DISEÑOS Y ESTUDIOS TÉCNICOS, TRÁMITES Y OBTENCIÓN DE PERMISOS Y LICENCIAS NECESARIOS PARA LOS PROYECTOS DE CONSTRUCCIÓN DE LAS NUEVAS SEDES DEL SENA, A PRECIO GLOBAL FIJO SIN REAJUSTES PARA CINCO (5) SEDES (CIÉNAGA DE ORO, PUERTO BOYACÁ, TUNJA, IPIALES Y KENNEDY)
A6: VERIFICACIÓN CAPACIDAD FINANCIERA Y ORGANIZACIONAL
A8: LOTE 1 | D8: 482738680
A9: VALOR PRESUPUESTO OFICIAL | D9: =+SUM(D8:D8) -> 482738680
A11: PROPONENTE 08 | B11: =+'RESULTADOS FINAL'!B20 -> GB10 CONSULTORES S.A.S.
A13: DATOS FINANCIEROS RUP
A15: INTEGRANTES | B15: =+B11 -> GB10 CONSULTORES S.A.S. | C15: RESULTADOS FINANCIEROS DEL PROPONENTE
A16: PARTICIPACIÓN | B16: 1 | C16: =+B16 -> 1
A17: NIT: | B17: 900934816-6
A18: Cámara de Comercio | B18: VILLAVICENCIO
A19: Fecha RUP | B19: 24/1/2025
A20: Fecha inscripción y/o actualización RUP | B20: 45508
A21: Fecha corte información financiera RUP | B21: 31/12/2023
A23: INFORMACIÓN FINANCIERA | B23: Integrante 1 | C23: Total
A24: Activo corriente | B24: 9.8188869e+08 | C24: =(B24*$B$16) -> 9.8188869e+08
A25: Activo total | B25: 9.8460212e+08 | C25: =(B25*$B$16) -> 9.8460212e+08
A26: Pasivo corriente | B26: 1.1157965e+08 | C26: =(B26*$B$16) -> 1.1157965e+08
A27: Pasivo total | B27: 1.1157965e+08 | C27: =(B27*$B$16) -> 1.1157965e+08
A28: Patrimonio expresado en $ | B28: 8.7302248e+08 | C28: =(B28*$B$16) -> 8.7302248e+08
A29: Utilidad / Pérdida Operacional | B29: 169596711 | C29: =(B29*$B$16) -> 169596711
A30: Gastos Financieros Intereses | B30: 0 | C30: =(B30*$B$16) -> 0
A32: CAPACIDAD FINANCIERA
A33: Liquidez (AC/PC) | B33: =+B24/B26 -> 8.7998906 | C33: =+C24/C26 -> 8.7998906
A34: Endeudamiento (PT/AT) | B34: =+B27/B25 -> 0.1133246 | C34: =+C27/C25 -> 0.1133246
A35: Razon Cobertura de Intereses (UO/GI) | B35: =+IFERROR(B29/B30,"INDETERMINADO") -> INDETERMINADO | C35: =+IFERROR(C29/C30,"INDETERMINADO") -> INDETERMINADO
A36: Capital de Trabajo (AC-PC) | B36: =(B24-B26) -> 8.7030904e+08 | C36: =+(B36)/D9 -> 1.8028575
A37: Patrmonio (AT-PT/Pres. Of) | B37: =+(B25-B27) -> 8.7302248e+08 | C37: =+(B37)/D9 -> 1.8084784
A38: CAPACIDAD ORGANIZACIONAL
A39: Rentabilidad Sobre Patrimonio (UO/PAT) | B39: =+B29/B28 -> 0.19426385 | C39: =+C29/C28 -> 0.19426385
A40: Rentabilidad Sobre Activos (UO/AT) | B40: =+B29/B25 -> 0.17224898 | C40: =+C29/C25 -> 0.17224898
A42: EVALUACIÓN FINANCIERA DEFINITIVA
A44: INDICADORES PROPUESTOS | B44: =+B11 -> GB10 CONSULTORES S.A.S.
B45: INDICES PROPUESTOS POR EL SENA | C45: RESULTADOS FINANCIEROS DEL PROPONENTE | D45: RESULTADOS DE LA EVALUACIÓN
A46: Liquidez ≥ | B46: 2 | C46: =+C33 -> 8.7998906 | D46: =IF(C46>=B46,"HABILITADO","NO HABILITADO") -> HABILITADO
A47: Endeudamiento ≤ | B47: 0.5 | C47: =+C34 -> 0.1133246 | D47: =IF(C47<=B47,"HABILITADO","NO HABILITADO") -> HABILITADO
A48: Razon Cobertura de Intereses ≥ | B48: 1.5 | C48: =+C35 -> INDETERMINADO | D48: =+IF(C48=0,"HABILITADO",IF(C48>=B48,"HABILITADO","NO HABILITADO")) -> HABILITADO
A49: Capital de Trabajo ≥ | B49: 0.58 | C49: =+C36 -> 1.8028575 | D49: =IF(C49>B49,"HABILITADO","NO HABILITADO") -> HABILITADO
A50: Patrimonio Lote ≥ | B50: 0.24 | C50: =+C37 -> 1.8084784 | D50: =IF(C50>B50,"HABILITADO","NO HABILITADO") -> HABILITADO
...

Sheet 09.CONSORCIO ARQ SENA
A1: DIRECCION ADMINISTRATIVA Y FINANCIERA
A3: =+'RESULTADOS FINAL'!A4 -> PROCESO No. CM-DG-DAF-0003-2024
A4: =+'RESULTADOS FINAL'!A6 -> INTERVENTORÍA INTEGRAL TÉCNICA, ADMINISTRATIVA, FINANCIERA, JURÍDICA, CONTABLE Y AMBIENTAL PARA LAS CONSULTORÍAS DE DISEÑOS Y ESTUDIOS TÉCNICOS, TRÁMITES Y OBTENCIÓN DE PERMISOS Y LICENCIAS NECESARIOS PARA LOS PROYECTOS DE CONSTRUCCIÓN DE LAS NUEVAS SEDES DEL SENA, A PRECIO GLOBAL FIJO SIN REAJUSTES PARA CINCO (5) SEDES (CIÉNAGA DE ORO, PUERTO BOYACÁ, TUNJA, IPIALES Y KENNEDY)
A6: VERIFICACIÓN CAPACIDAD FINANCIERA Y ORGANIZACIONAL
A8: LOTE 1 | D8: 482738680
A9: LOTE 2 | D9: 237634335
A10: LOTE 3 | D10: 237634335
C11: LOTE 4 | D11: 482738680
C12: LOTE 5 | D12: 482738680
A13: VALOR PRESUPUESTO OFICIAL | D13: =+SUM(D8:D12) -> 1923484710
A15: PROPONENTE 09 | B15: =+'RESULTADOS FINAL'!B21 -> CONSORCIO ARQ SENA
A17: DATOS FINANCIEROS RUP
A19: INTEGRANTES | B19: =+'RESULTADOS FINAL'!D21 -> ARQ SAS | C19: =+'RESULTADOS FINAL'!D22 -> ARQ CONSULTORIA SAS BIC | D19: RESULTADOS FINANCIEROS DEL PROPONENTE
A20: PARTICIPACIÓN | B20: 0.6 | C20: 0.4 | D20: =+B20+C20 -> 1
A21: NIT: | B21: 800.168.477-3 | C21: 901.843.784-1
A22: Cámara de Comercio | B22: BOGOTÁ | C22: BOGOTÁ
A23: Fecha RUP | B23: 45673 | C23: 28/1/2025
A24: Fecha inscripción y/o actualización RUP | B24: 45422 | C24: 13/9/2024
A25: Fecha corte información financiera RUP | B25: 45291 | C25: 24/6/2024
A27: INFORMACIÓN FINANCIERA | B27: Integrante 1 | C27: Integrante 2 | D27: Total (1+2 % Part)
A28: Activo corriente | B28: 10796952340 | C28: 1000000000 | D28: =(B28*$B$20)+(C28*$C$20) -> 6878171404
A29: Activo total | B29: 10913241120 | C29: 1000000000 | D29: =(B29*$B$20)+(C29*$C$20) -> 6947944672
A30: Pasivo corriente | B30: 1028626675 | C30: 0 | D30: =(B30*$B$20)+(C30*$C$20) -> 617176005
A31: Pasivo total | B31: 2876745914 | C31: 0 | D31: =(B31*$B$20)+(C31*$C$20) -> 1.7260475e+09
A32: Patrimonio expresado en $ | B32: 8036495206 | C32: 1000000000 | D32: =(B32*$B$20)+(C32*$C$20) -> 5.2218971e+09
A33: Utilidad / Pérdida Operacional | B33: 1578635726 | C33: 0 | D33: =(B33*$B$20)+(C33*$C$20) -> 9.4718144e+08
A34: Gastos Financieros Intereses | B34: 3914000 | C34: 0 | D34: =(B34*$B$20)+(C34*$C$20) -> 2348400
A36: CAPACIDAD FINANCIERA
A37: Liquidez (AC/PC) | B37: =+B28/B30 -> 10.496473 | C37: =+IFERROR(C28/C30,"INDETERMINADO") -> INDETERMINADO | D37: =+D28/D30 -> 11.144587
A38: Endeudamiento (PT/AT) | B38: =+B31/B29 -> 0.26360143 | C38: =+C31/C29 -> 0 | D38: =+D31/D29 -> 0.24842563
A39: Razon Cobertura de Intereses (UO/GI) | B39: =+IFERROR(B33/B34,"INDETERMINADO") -> 403.33054 | C39: =+IFERROR(C33/C34,"INDETERMINADO") -> INDETERMINADO | D39: =+IFERROR(D33/D34,"INDETERMINADO") -> 403.33054
A40: Capital de Trabajo (AC-PC) | B40: =(B28-B30) -> 9768325665 | C40: =(C28-C30) -> 1000000000 | D40: =+(B40+C40)/(D13) -> 5.5983422
A41: Patrmonio (AT-PT/Pres. Of) | B41: =+(B29-B31) -> 8036495206 | C41: =+(C29-C31) -> 1000000000 | D41: =+(B41+C41)/(D13) -> 4.6979813
A42: CAPACIDAD ORGANIZACIONAL
A43: Rentabilidad Sobre Patrimonio (UO/PAT) | B43: =+B33/B32 -> 0.19643336 | C43: =+C33/C32 -> 0 | D43: =+D33/D32 -> 0.18138646
A44: Rentabilidad Sobre Activos (UO/AT) | B44: =+B33/B29 -> 0.14465324 | C44: =+C33/C29 -> 0 | D44: =+D33/D29 -> 0.13632541
A46: EVALUACIÓN FINANCIERA DEFINITIVA
A48: INDICADORES PROPUESTOS | B48: =+B15 -> CONSORCIO ARQ SENA
B49: INDICES PROPUESTOS POR EL SENA | C49: RESULTADOS FINANCIEROS DEL PROPONENTE | D49: RESULTADOS DE LA EVALUACIÓN
A50: Liquidez ≥ | B50: 2 | C50: =+D37 -> 11.144587 | D50: =IF(C50>=B50,"HABILITADO","NO HABILITADO") -> HABILITADO
...

Sheet 10.CONSORCIO ARAGON
A1: DIRECCION ADMINISTRATIVA Y FINANCIERA
A3: =+'RESULTADOS FINAL'!A4 -> PROCESO No. CM-DG-DAF-0003-2024
A4: =+'RESULTADOS FINAL'!A6 -> INTERVENTORÍA INTEGRAL TÉCNICA, ADMINISTRATIVA, FINANCIERA, JURÍDICA, CONTABLE Y AMBIENTAL PARA LAS CONSULTORÍAS DE DISEÑOS Y ESTUDIOS TÉCNICOS, TRÁMITES Y OBTENCIÓN DE PERMISOS Y LICENCIAS NECESARIOS PARA LOS PROYECTOS DE CONSTRUCCIÓN DE LAS NUEVAS SEDES DEL SENA, A PRECIO GLOBAL FIJO SIN REAJUSTES PARA CINCO (5) SEDES (CIÉNAGA DE ORO, PUERTO BOYACÁ, TUNJA, IPIALES Y KENNEDY)
A6: VERIFICACIÓN CAPACIDAD FINANCIERA Y ORGANIZACIONAL
A8: LOTE 1 | D8: 482738680
A9: LOTE 2 | D9: 237634335
A10: LOTE 3 | D10: 237634335
C11: LOTE 4 | D11: 482738680
A12: VALOR PRESUPUESTO OFICIAL | D12: =+SUM(D8:D11) -> 1440746030
A14: PROPONENTE 10 | B14: =+'RESULTADOS FINAL'!B23 -> CONSORCIO ARAGON
A16: DATOS FINANCIEROS RUP
A18: INTEGRANTES | B18: =+'RESULTADOS FINAL'!D23 -> ARQUITECTURA Y URBANISMO SXXI S.A.S. | C18: =+'RESULTADOS FINAL'!D24 -> MYV CONSULTORES ASOCIADOS S.A.S. | D18: RESULTADOS FINANCIEROS DEL PROPONENTE
A19: PARTICIPACIÓN | B19: 0.5 | C19: 0.5 | D19: =+B19+C19 -> 1
A20: NIT: | B20: 901183827-7 | C20: 900232123-8
A21: Cámara de Comercio | B21: BOGOTA | C21: BOGOTA
A22: Fecha RUP | B22: 22/1/2025 | C22: 45901
A23: Fecha inscripción y/o actualización RUP | B23: 45356 | C23: 45448
A24: Fecha corte información financiera RUP | B24: 31/12/2023 | C24: 31/12/2023
A26: INFORMACIÓN FINANCIERA | B26: Integrante 1 | C26: Integrante 2 | D26: Total (1+2 % Part)
A27: Activo corriente | B27: 1277603217 | C27: 1907048322 | D27: =(B27*$B$19)+(C27*$C$19) -> 1.5923258e+09
A28: Activo total | B28: 1858453217 | C28: 2098704461 | D28: =(B28*$B$19)+(C28*$C$19) -> 1978578839
A29: Pasivo corriente | B29: 122770000 | C29: 196326839 | D29: =(B29*$B$19)+(C29*$C$19) -> 1.5954842e+08
A30: Pasivo total | B30: 272770000 | C30: 461039781 | D30: =(B30*$B$19)+(C30*$C$19) -> 3.6690489e+08
A31: Patrimonio expresado en $ | B31: 1585683217 | C31: 1637664680 | D31: =(B31*$B$19)+(C31*$C$19) -> 1.6116739e+09
A32: Utilidad / Pérdida Operacional | B32: 759529969 | C32: 291878151 | D32: =(B32*$B$19)+(C32*$C$19) -> 525704060
A33: Gastos Financieros Intereses | B33: 35940000 | C33: 7344908 | D33: =(B33*$B$19)+(C33*$C$19) -> 21642454
A35: CAPACIDAD FINANCIERA
A36: Liquidez (AC/PC) | B36: =+B27/B29 -> 10.406477 | C36: =+IFERROR(C27/C29,"INDETERMINADO") -> 9.7136404 | D36: =+D27/D29 -> 9.980204
A37: Endeudamiento (PT/AT) | B37: =+B30/B28 -> 0.14677259 | C37: =+C30/C28 -> 0.21967828 | D37: =+D30/D28 -> 0.1854386
A38: Razon Cobertura de Intereses (UO/GI) | B38: =+IFERROR(B32/B33,"INDETERMINADO") -> 21.133277 | C38: =+IFERROR(C32/C33,"INDETERMINADO") -> 39.738844 | D38: =+IFERROR(D32/D33,"INDETERMINADO") -> 24.290409
A39: Capital de Trabajo (AC-PC) | B39: =(B27-B29) -> 1154833217 | C39: =(C27-C29) -> 1710721483 | D39: =+(B39+C39)/(D12) -> 1.9889381
A40: Patrmonio (AT-PT/Pres. Of) | B40: =+(B28-B30) -> 1585683217 | C40: =+(C28-C30) -> 1637664680 | D40: =+(B40+C40)/(D12) -> 2.237277
A41: CAPACIDAD ORGANIZACIONAL
A42: Rentabilidad Sobre Patrimonio (UO/PAT) | B42: =+B32/B31 -> 0.47899225 | C42: =+C32/C31 -> 0.17822828 | D42: =+D32/D31 -> 0.32618512
A43: Rentabilidad Sobre Activos (UO/AT) | B43: =+B32/B28 -> 0.40868931 | C43: =+C32/C28 -> 0.13907539 | D43: =+D32/D28 -> 0.26569781
A45: EVALUACIÓN FINANCIERA DEFINITIVA
A47: INDICADORES PROPUESTOS | B47: =+B14 -> CONSORCIO ARAGON
B48: INDICES PROPUESTOS POR EL SENA | C48: RESULTADOS FINANCIEROS DEL PROPONENTE | D48: RESULTADOS DE LA EVALUACIÓN
A49: Liquidez ≥ | B49: 2 | C49: =+D36 -> 9.980204 | D49: =IF(C49>=B49,"HABILITADO","NO HABILITADO") -> HABILITADO
A50: Endeudamiento ≤ | B50: 0.5 | C50: =+D37 -> 0.1854386 | D50: =IF(C50<=B50,"HABILITADO","NO HABILITADO") -> HABILITADO
...
