Workbook

Sheet Resumen
A1: INFORMACIÓN Y ESTUDIO DE COSTOS PARA LA ADICIÓN 03 DE LOS CONTRATOS PAE
A4: Resumen valores de adición a los contratos PAE 2024 | H4: Adición 03
A5: Decripción | B5: Valor contrato inicial | C5: Valor adición 01 | D5: Porcentaje de adición 01 | E5: Valor adición 02 | F5: Porcentaje de adición 02 | G5: Porcentaje total de adiciones 01 y 02 | H5: Valor adición 03 | I5: Porcentaje de adición 03 | J5: Porcentaje total de adiciones 01, 02 y 03 | K5: Fecha de terminación
A6: Valor adición lote 1 | B6: 52987384907 | C6: 18508710092 | D6: =+C6/B13 -> 0.34930409 | E6: =+H13 -> 962911408 | F6: =+I13/E13 -> 0.016595859 | G6: =+D6+F6 -> 0.36589995 | H6: =+P13 -> 7522438493 | I6: =+R13 -> 0.12964986 | J6: =+D6+F6+I6 -> 0.4955498 | K6: 31 de marzo | M6: =+N13-H6 -> 2.5820578e+08
A7: Valor adición lote 2 | B7: 52552576546 | C7: 19189069952 | D7: =+C7/B14 -> 0.36514042 | E7: =+H14 -> 2321219880 | F7: =+I14/E14 -> 0.040337423 | G7: =+D7+F7 -> 0.40547784 | H7: =+P14 -> 5435577625 | I7: =+R14 -> 0.094457744 | J7: =+D7+F7+I7 -> 0.49993559 | K7: 27 de marzo | M7: =+N14-H7 -> 3706556.5
A8: Valor adición lote 3 | B8: 58669447513 | C8: 24511312245 | D8: =+C8/B15 -> 0.41778666 | E8: =+H15 -> 4.9956464e+09 | F8: =+I15/E15 -> 0.077761668 | G8: =+D8+F8 -> 0.49554832 | H8: =ROUND(P15,0) -> 285977283 | I8: =+R15 -> 0.0044514902 | J8: =+D8+F8+I8 -> 0.49999981 | K8: 07 de marzo
A9: Valor total adiciones | B9: =SUM(B6:B8) -> 164209408966 | C9: =SUM(C6:C8) -> 62209092289 | E9: =SUM(E6:E8) -> 8.2797776e+09 | H9: =SUM(H6:H8) -> 13243993401
A11: Resumen información necesaria para la adición 03 a los contratos PAE 2024
A12: Contrato | B12: Valor contrato | C12: Valor adición 01 | D12: Fecha terminación contrato | E12: Valor contrato en SMMLV | F12: Valor adición 01 en SMMLV | G12: Valor disponible en SMMLV | H12: Valor adición 02 | I12: Valor adición 02 en SMMLV | J12: Porcentaje de adición 02 | K12: Fecha terminación con la adición 02 | L12: 50% de adición en SMMLV | M12: Capacidad de adición 03 en SMMLV | N12: Capacidad de posible adición 03 en valor | O12: Capacidad Porcentaje adición 03 | P12: Valor adición 03 | Q12: Valor adición 03 en SMMLV | R12: Porcentaje de adición 03 | S12: Días de atención correspondientes al valor de adición 3
A13: 4600101036 - Lote 1 | B13: 52987384907 | C13: 18508710092 | D13: 45656 | E13: =+B13/(1300000) -> 40759.527 | F13: =C13/1300000 -> 14237.469 | G13: =+(E13/2)-F13 -> 6142.2941 | H13: 962911408 | I13: =+H13/1423500 -> 676.43935 | J13: =+I13/E13 -> 0.016595859 | K13: 45716 | L13: =+E13/2 -> 20379.763 | M13: =+L13-F13-I13 -> 5465.8548 | N13: =+M13*1423500 -> 7.7806443e+09 | O13: =+M13/E13 -> 0.13410005 | P13: =+Adición_Lote_1!F24 -> 7522438493 | Q13: =+P13/1423500 -> 5284.4668 | R13: =+Q13/E13 -> 0.12964986 | S13: 16
A14: 4600101037 - Lote 2 | B14: 52552576546 | C14: 19189069952 | D14: 45656 | E14: =+B14/(1300000) -> 40425.059 | F14: =C14/1300000 -> 14760.823 | G14: =+(E14/2)-F14 -> 5451.7064 | H14: 2321219880 | I14: =+H14/1423500 -> 1630.6427 | J14: =+I14/E14 -> 0.040337423 | K14: 45716 | L14: =+E14/2 -> 20212.529 | M14: =+L14-F14-I14 -> 3821.0637 | N14: =+M14*1423500 -> 5.4392842e+09 | O14: =+M14/E14 -> 0.094522156 | P14: =+Adición_Lote_2!F24 -> 5435577625 | Q14: =+P14/1423500 -> 3818.4599 | R14: =+Q14/E14 -> 0.094457744 | S14: 12
A15: 4600101038 - Lote 3 | B15: 58669447513 | C15: 24511312245 | D15: 45656 | E15: =+B15/(1300000) -> 45130.344 | F15: =C15/1300000 -> 18854.856 | G15: =+(E15/2)-F15 -> 3710.3165 | H15: 4.9956464e+09 | I15: =+H15/1423500 -> 3509.4109 | J15: =+I15/E15 -> 0.077761668 | K15: 45716 | L15: =+E15/2 -> 22565.172 | M15: =+L15-F15-I15 -> 200.90569 | N15: =+M15*1423500 -> 2.8598925e+08 | O15: =+M15/E15 -> 0.0044516764 | P15: =ROUND(Adición_Lote_3!F19,0) -> 285977283 | Q15: =+P15/1423500 -> 200.89728 | R15: =+Q15/E15 -> 0.0044514902 | S15: 1
A16: Totales | B16: =SUM(B13:B15) -> 164209408966 | C16: =SUM(C13:C15) -> 62209092289 | H16: =SUM(H13:H15) -> 8.2797776e+09 | N16: =SUM(N13:N15) -> 1.3505918e+10 | P16: =SUM(P13:P15) -> 13243993401
A18: Contrato | B18: Valor día proyectado | C18: Valor proyectado de inejecuciones | D18: Días de inejecución | E18: Fecha terminación
A19: 4600101036 - Lote 1 | B19: 468483756 | C19: 1718555980 | D19: =+C19/B19 -> 3.6683363 | E19: Hasta 6 marzo
A20: 4600101037 - Lote 2 | B20: 468313618 | C20: 2652306168 | D20: =+C20/B20 -> 5.6635256 | E20: Hasta 10 marzo
A21: 4600101038 - Lote 3 | B21: 531757931 | C21: 2338978063 | D21: =+C21/B21 -> 4.3985767 | E21: Hasta 6 marzo | L21: =SUM(L18:L20) -> 0
A22: Totales | B22: =SUM(B19:B21) -> 1468555305 | C22: =SUM(C19:C21) -> 6709840211 | D22: =SUM(D19:D21) -> 13.730439
A25: Descripción | C25: Enero | D25: Febrero | E25: Marzo
A26: Cantidad de cupos por mes | C26: 232000 | D26: 232000 | E26: 232000

Sheet Cronograma actividades adición
C2: 2025
F3: =+C2 -> 2025 | M3: =+F3 -> 2025 | T3: =+M3 -> 2025 | AA3: =+T3 -> 2025 | AH3: =+AA3 -> 2025 | AO3: =+AH3 -> 2025 | AV3: =+AO3 -> 2025 | BC3: =+AV3 -> 2025 | BJ3: =+BC3 -> 2025
F4: enero | G4: enero | H4: enero | I4: enero | J4: enero | K4: enero | L4: enero | M4: enero | N4: enero | O4: enero | P4: enero | Q4: enero | R4: enero | S4: enero | T4: enero | U4: enero | V4: enero | W4: enero | X4: enero | Y4: enero | Z4: enero | AA4: enero | AB4: enero | AC4: enero | AD4: enero | AE4: enero | AF4: enero | AG4: enero | AH4: enero | AI4: enero | AJ4: enero | AK4: febrero | AL4: febrero | AM4: febrero | AN4: febrero | AO4: febrero | AP4: febrero | AQ4: febrero | AR4: febrero | AS4: febrero | AT4: febrero | AU4: febrero | AV4: febrero | AW4: febrero | AX4: febrero | AY4: febrero | AZ4: febrero | BA4: febrero | BB4: febrero | BC4: febrero | BD4: febrero | BE4: febrero | BF4: febrero | BG4: febrero | BH4: febrero | BI4: febrero | BJ4: febrero | BK4: febrero | BL4: febrero | BM4: marzo | BN4: marzo | BO4: marzo | BP4: marzo | BQ4: marzo | BR4: marzo | BS4: marzo | BT4: marzo | BU4: marzo | BV4: marzo | BW4: marzo | BX4: marzo | BY4: marzo | BZ4: marzo | CA4: marzo | CB4: marzo | CC4: marzo | CD4: marzo | CE4: marzo | CF4: marzo | CG4: marzo | CH4: marzo | CI4: marzo | CJ4: marzo | CK4: marzo | CL4: marzo | CM4: marzo | CN4: marzo | CO4: marzo | CP4: marzo | CQ4: marzo
F5: MI | G5: JU | H5: VI | I5: SÁ | J5: DO | K5: LU | L5: MA | M5: MI | N5: JU | O5: VI | P5: SÁ | Q5: DO | R5: LU | S5: MA | T5: MI | U5: JU | V5: VI | W5: SÁ | X5: DO | Y5: LU | Z5: MA | AA5: MI | AB5: JU | AC5: VI | AD5: SÁ | AE5: DO | AF5: LU | AG5: MA | AH5: MI | AI5: JU | AJ5: VI | AK5: SÁ | AL5: DO | AM5: LU | AN5: MA | AO5: MI | AP5: JU | AQ5: VI | AR5: SÁ | AS5: DO | AT5: LU | AU5: MA | AV5: MI | AW5: JU | AX5: VI | AY5: SÁ | AZ5: DO | BA5: LU | BB5: MA | BC5: MI | BD5: JU | BE5: VI | BF5: SÁ | BG5: DO | BH5: LU | BI5: MA | BJ5: MI | BK5: JU | BL5: VI | BM5: SÁ | BN5: DO | BO5: LU. | BP5: MA. | BQ5: MI. | BR5: JU. | BS5: VI. | BT5: SÁ. | BU5: DO. | BV5: LU. | BW5: MA. | BX5: MI. | BY5: JU. | BZ5: VI. | CA5: SÁ. | CB5: DO. | CC5: LU. | CD5: MA. | CE5: MI. | CF5: JU. | CG5: VI. | CH5: SÁ. | CI5: DO. | CJ5: LU. | CK5: MA. | CL5: MI. | CM5: JU. | CN5: VI. | CO5: SÁ. | CP5: DO. | CQ5: LU.
F6: 45658 | G6: 45659 | H6: 45660 | I6: 45661 | J6: 45662 | K6: 45663 | L6: 45664 | M6: 45665 | N6: 45666 | O6: 45667 | P6: 45668 | Q6: 45669 | R6: 45670 | S6: 45671 | T6: 45672 | U6: 45673 | V6: 45674 | W6: 45675 | X6: 45676 | Y6: 45677 | Z6: 45678 | AA6: 45679 | AB6: 45680 | AC6: 45681 | AD6: 45682 | AE6: 45683 | AF6: 45684 | AG6: 45685 | AH6: 45686 | AI6: 45687 | AJ6: 45688 | AK6: 45689 | AL6: 45690 | AM6: 45691 | AN6: 45692 | AO6: 45693 | AP6: 45694 | AQ6: 45695 | AR6: 45696 | AS6: 45697 | AT6: 45698 | AU6: 45699 | AV6: 45700 | AW6: 45701 | AX6: 45702 | AY6: 45703 | AZ6: 45704 | BA6: 45705 | BB6: 45706 | BC6: 45707 | BD6: 45708 | BE6: 45709 | BF6: 45710 | BG6: 45711 | BH6: 45712 | BI6: 45713 | BJ6: 45714 | BK6: 45715 | BL6: 45716 | BM6: 45717 | BN6: 45718 | BO6: 45719 | BP6: 45720 | BQ6: 45721 | BR6: 45722 | BS6: 45723 | BT6: 45724 | BU6: 45725 | BV6: 45726 | BW6: 45727 | BX6: 45728 | BY6: 45729 | BZ6: 45730 | CA6: 45731 | CB6: 45732 | CC6: 45733 | CD6: 45734 | CE6: 45735 | CF6: 45736 | CG6: 45737 | CH6: 45738 | CI6: 45739 | CJ6: 45740 | CK6: 45741 | CL6: 45742 | CM6: 45743 | CN6: 45744 | CO6: 45745 | CP6: 45746 | CQ6: 45747
E7: DIAS CALENDARIO | F7: 1 | G7: 1 | H7: 1 | I7: 1 | J7: 1 | K7: 1 | L7: 1 | M7: 1 | N7: 1 | O7: 1 | P7: 1 | Q7: 1 | R7: 1 | S7: 1 | T7: 1 | U7: 1 | V7: 1 | W7: 1 | X7: 1 | Y7: 1 | Z7: 1 | AA7: 1 | AB7: 1 | AC7: 1 | AD7: 1 | AE7: 1 | AF7: 1 | AG7: 1 | AH7: 1 | AI7: 1 | AJ7: 1 | AK7: 1 | AL7: 1 | AM7: 1 | AN7: 1 | AO7: 1 | AP7: 1 | AQ7: 1 | AR7: 1 | AS7: 1 | AT7: 1 | AU7: 1 | AV7: 1 | AW7: 1 | AX7: 1 | AY7: 1 | AZ7: 1 | BA7: 1 | BB7: 1 | BC7: 1 | BD7: 1 | BE7: 1 | BF7: 1 | BG7: 1 | BH7: 1 | BI7: 1 | BJ7: 1 | BK7: 1 | BL7: 1 | BM7: 1 | BN7: 1 | BO7: 1 | BP7: 1 | BQ7: 1 | BR7: 1 | BS7: 1 | BV7: 1 | BW7: 1 | BX7: 1 | BY7: 1 | BZ7: 1 | CC7: 1 | CD7: 1 | CE7: 1 | CF7: 1 | CG7: 1 | CK7: 1 | CL7: 1 | CM7: 1 | CN7: 1 | CQ7: 1
E8: DIAS HABILES | G8: 1 | H8: 1 | L8: 1 | M8: 1 | N8: 1 | O8: 1 | R8: 1 | S8: 1 | T8: 1 | U8: 1 | V8: 1 | Y8: 1 | Z8: 1 | AA8: 1 | AB8: 1 | AC8: 1 | AF8: 1 | AG8: 1 | AH8: 1 | AI8: 1 | AJ8: 1 | AM8: 1 | AN8: 1 | AO8: 1 | AP8: 1 | AQ8: 1 | AT8: 1 | AU8: 1 | AV8: 1 | AW8: 1 | AX8: 1 | BA8: 1 | BB8: 1 | BC8: 1 | BD8: 1 | BE8: 1 | BH8: 1 | BI8: 1 | BJ8: 1 | BK8: 1 | BL8: 1 | BO8: 1 | BP8: 1 | BQ8: 1 | BR8: 1 | BS8: 1 | BV8: 1 | BW8: 1 | BX8: 1 | BY8: 1 | BZ8: 1 | CC8: 1 | CD8: 1 | CE8: 1 | CF8: 1 | CG8: 1 | CK8: 1 | CL8: 1 | CM8: 1 | CN8: 1 | CQ8: 1
E9: DÍAS ATENCIÓN - ADICIÓN LOTE 1 | BS9: X | BV9: X | BW9: X | BX9: X | BY9: X | BZ9: X | CC9: X | CD9: X | CE9: X | CF9: X | CG9: X | CK9: X | CL9: X | CM9: X | CN9: X | CQ9: X
E10: DÍAS ATENCIÓN - ADICIÓN LOTE 2 | BW10: X | BX10: X | BY10: X | BZ10: X | CC10: X | CD10: X | CE10: X | CF10: X | CG10: X | CK10: X | CL10: X | CM10: X
E11: DÍAS ATENCIÓN - ADICIÓN LOTE 3 | BS11: X
E13: Dias de prestación del servicio con recursos de inejecución
E14: Dias de prestación del servicio para la adición | F14: X
E15: Dias sabado - No hay prestación del servicio
E16: Dias dominicales y festivos - No hay prestación del servicio
E19: Dias de atención por mes | G19: Marzo | M19: Total
E20: DÍAS ATENCIÓN - ADICIÓN 3 LOTE 1 | F20: X | G20: 16 | M20: =SUM(F20:L20) -> 16
E21: DÍAS ATENCIÓN - ADICIÓN 3 LOTE 2 | F21: X | G21: 12 | M21: =SUM(F21:L21) -> 12
E22: DÍAS ATENCIÓN - ADICIÓN 3 LOTE 3 | F22: X | G22: 1 | M22: =SUM(F22:L22) -> 1

Sheet Adición_Lote_1
A4: Valor Adición 03 Lote 1
B5: Marzo | F5: Total Adición proyectada
A6: TIPO | B6: Cupos Licitacion Ajustados | C6: Costo Ración Proyectada Ajustado | D6: Dias De Adición Mes | E6: Adición Proyectada
A7: RPS_ Transición (3 a 5 años 11 meses) | B7: 5045 | C7: 5761 | D7: 16 | E7: =+B7*C7*D7 -> 465027920 | F7: =E7 -> 465027920
A8: RPS_Primaria 1°-2°-3° (6 a 8 años 11 meses) | B8: 15353 | C8: 6161 | D8: =+D7 -> 16 | E8: =+B8*C8*D8 -> 1513437328 | F8: =E8 -> 1513437328
A9: RPS_Primaria 4°-5° (9 a 10 años 11 meses) | B9: 9688 | C9: 6412 | D9: =+D8 -> 16 | E9: =+B9*C9*D9 -> 993911296 | F9: =E9 -> 993911296
A10: RPS_Secundaria 6°-7°-8°-9° (11 a 14 años 11 meses) | B10: 11039 | C10: 6952 | D10: =+D9 -> 16 | E10: =+B10*C10*D10 -> 1227890048 | F10: =E10 -> 1227890048
A11: RPS_Media y Complemetario 10°-11° (15 a 17 años 11 meses) | B11: 8057 | C11: 7235 | D11: =+D10 -> 16 | E11: =+B11*C11*D11 -> 932678320 | F11: =E11 -> 932678320
A12: Ración de Contingencia Transición (3 a 5 años 11 meses) | B12: 1365 | C12: 4620 | D12: =+D11 -> 16 | E12: =+B12*C12*D12 -> 100900800 | F12: =E12 -> 100900800
A13: Ración de Contingencia Primaria 1°-2°-3° (6 a 8 años 11 meses) | B13: 3989 | C13: 5185 | D13: =+D12 -> 16 | E13: =+B13*C13*D13 -> 330927440 | F13: =E13 -> 330927440
A14: Ración de Contingencia Primaria 4°-5° (9 a 10 años 11 meses) | B14: 2333 | C14: 6216 | D14: =+D13 -> 16 | E14: =+B14*C14*D14 -> 232030848 | F14: =E14 -> 232030848
A15: Ración de Contingencia Secundaria 6°-7°-8°-9° (11 a 14 años 11 meses) | B15: 3053 | C15: 6553 | D15: =+D14 -> 16 | E15: =+B15*C15*D15 -> 320100944 | F15: =E15 -> 320100944
A16: Ración de Contingencia Media y Complemetario 10°-11° (15 a 17 años 11 meses) | B16: 1209 | C16: 6742 | D16: =+D15 -> 16 | E16: =+B16*C16*D16 -> 130417248 | F16: =E16 -> 130417248
A17: Vaso de Leche (3 a 5 años 11 meses) | B17: =1150 -> 1150 | C17: 4640 | D17: =+D16 -> 16 | E17: =+B17*C17*D17 -> 85376000 | F17: =E17 -> 85376000
A18: Vaso de Leche 1°-2°-3° (6 a 8 años 11 meses) | B18: =3352 -> 3352 | C18: 5205 | D18: =+D17 -> 16 | E18: =+B18*C18*D18 -> 279154560 | F18: =E18 -> 279154560
A19: Vaso de Leche 4°-5° (9 a 10 años 11 meses) | B19: =2813 -> 2813 | C19: 6236 | D19: =+D18 -> 16 | E19: =+B19*C19*D19 -> 280669888 | F19: =E19 -> 280669888
A20: Vaso de Leche 6°-7°-8°-9° (11 a 14 años 11 meses) | B20: =4510 -> 4510 | C20: 6574 | D20: =+D19 -> 16 | E20: =+B20*C20*D20 -> 474379840 | F20: =E20 -> 474379840
A21: vaso de Leche 10°-11° (15 a 17 años 11 meses) | B21: =1191 -> 1191 | C21: 6761 | D21: =+D20 -> 16 | E21: =+B21*C21*D21 -> 128837616 | F21: =E21 -> 128837616
A22: Total Adición Raciones | B22: =SUM(B7:B21) -> 74147 | F22: =SUM(F7:F21) -> 7495740096
A23: Total Adición mantenimiento correctivo | F23: =+F28 -> 26698397
A24: Valor Total Adición 03 - Lote 1 | F24: =ROUND((F22+F23),0) -> 7522438493
A26: Mantenimientos correctivos
A27: VALOR CORRECTIVOS TOTALES | B27: VALOR TOTAL EJECUTADO A 30 NOV | C27: VALOR DIA MTTO | D27: FECHA EN QUE SE AGOTA EL RECURSO | E27: DIAS NECESARIOS ADICIÓN 03 | F27: VALOR NECESARIO ADICIÓN 03
A28: 308700213 | B28: 259405883 | C28: 1668649.8 | D28: 45716 | E28: 16 | F28: =ROUND(C28*E28,0) -> 26698397
A29: 196900677
A30: =+A28-A29 -> 111799536

Sheet Adición_Lote_2
A4: Valor adición 03 Lote 2
B5: Marzo | F5: Total Adición proyectada
A6: TIPO | B6: Cupos Licitacion Ajustados | C6: Costo Ración Proyectada Ajustado | D6: Dias De Adición Mes | E6: Adición Proyectada
A7: RPS_ Transición (3 a 5 años 11 meses) | B7: 2407 | C7: 6736 | D7: 11.6 | E7: =+B7*C7*D7 -> 1.880772e+08 | F7: =E7 -> 1.880772e+08
A8: RPS_Primaria 1°-2°-3° (6 a 8 años 11 meses) | B8: 6680 | C8: 7091 | D8: =+D7 -> 11.6 | E8: =+B8*C8*D8 -> 549467408 | F8: =E8 -> 549467408
A9: RPS_Primaria 4°-5° (9 a 10 años 11 meses) | B9: 4915 | C9: 7596 | D9: =+D8 -> 11.6 | E9: =+B9*C9*D9 -> 433078344 | F9: =E9 -> 433078344
A10: RPS_Secundaria 6°-7°-8°-9° (11 a 14 años 11 meses) | B10: 6869 | C10: 8010 | D10: =+D9 -> 11.6 | E10: =+B10*C10*D10 -> 638240004 | F10: =E10 -> 638240004
A11: RPS_Media y Complemetario 10°-11° (15 a 17 años 11 meses) | B11: 6796 | C11: 8521 | D11: =+D10 -> 11.6 | E11: =+B11*C11*D11 -> 6.7174111e+08 | F11: =E11 -> 6.7174111e+08
A12: Ración de Contingencia Transición (3 a 5 años 11 meses) | B12: 591 | C12: 5356 | D12: =+D11 -> 11.6 | E12: =+B12*C12*D12 -> 36718594 | F12: =E12 -> 36718594
A13: Ración de Contingencia Primaria 1°-2°-3° (6 a 8 años 11 meses) | B13: 2157 | C13: 5865 | D13: =+D12 -> 11.6 | E13: =+B13*C13*D13 -> 146749338 | F13: =E13 -> 146749338
A14: Ración de Contingencia Primaria 4°-5° (9 a 10 años 11 meses) | B14: 1481 | C14: 6893 | D14: =+D13 -> 11.6 | E14: =+B14*C14*D14 -> 1.1841898e+08 | F14: =E14 -> 1.1841898e+08
A15: Ración de Contingencia Secundaria 6°-7°-8°-9° (11 a 14 años 11 meses) | B15: 1288 | C15: 7227 | D15: =+D14 -> 11.6 | E15: =+B15*C15*D15 -> 1.0797716e+08 | F15: =E15 -> 1.0797716e+08
A16: Ración de Contingencia Media y Complemetario 10°-11° (15 a 17 años 11 meses) | B16: 1388 | C16: 7971 | D16: =+D15 -> 11.6 | E16: =+B16*C16*D16 -> 1.2833948e+08 | F16: =E16 -> 1.2833948e+08
A17: Vaso de Leche (3 a 5 años 11 meses) | B17: =2281 -> 2281 | C17: 4264 | D17: =+D16 -> 11.6 | E17: =+B17*C17*D17 -> 1.1282373e+08 | F17: =E17 -> 1.1282373e+08
A18: Vaso de Leche 1°-2°-3° (6 a 8 años 11 meses) | B18: =7516 -> 7516 | C18: 4774 | D18: =+D17 -> 11.6 | E18: =+B18*C18*D18 -> 4.1622405e+08 | F18: =E18 -> 4.1622405e+08
A19: Vaso de Leche 4°-5° (9 a 10 años 11 meses) | B19: =7161 -> 7161 | C19: 5802 | D19: =+D18 -> 11.6 | E19: =+B19*C19*D19 -> 4.8195822e+08 | F19: =E19 -> 4.8195822e+08
A20: Vaso de Leche 6°-7°-8°-9° (11 a 14 años 11 meses) | B20: =14857 -> 14857 | C20: 6136 | D20: =+D19 -> 11.6 | E20: =+B20*C20*D20 -> 1.0574856e+09 | F20: =E20 -> 1.0574856e+09
A21: vaso de Leche 10°-11° (15 a 17 años 11 meses) | B21: =4500 -> 4500 | C21: 6672 | D21: =+D20 -> 11.6 | E21: =+B21*C21*D21 -> 348278400 | F21: =E21 -> 348278400
A22: Total Adición Raciones | B22: =SUM(B7:B21) -> 70887 | F22: =SUM(F7:F21) -> 5.4355776e+09
A23: Total Adición mantenimiento correctivo | F23: 0
A24: Valor Total Adición 03 - Lote 2 | F24: =ROUND((F22+F23),0) -> 5435577625
A27: VALOR CORRECTIVOS TOTALES | B27: VALOR TOTAL EJECUTADO A 20 ENERO | C27: VALOR PENDIENTE POR EJECUTAR CORRECTIVOS A NOV 30 | D27: FECHA EN QUE SE AGOTA EL RECURSO
A28: 244673250 | B28: 168098035 | C28: =+A28-B28 -> 76575215 | D28: 45743

Sheet Adición_Lote_3
A4: Valor adición 02 Lote 3
B5: Octubre | F5: Total Adición proyectada | I5: EJERCICIO DE INEJECUCIÓN AL 24 DE ENERO 2025
A6: TIPO | B6: Cupos Licitacion Ajustados | C6: Costo Ración Proyectada Ajustado | D6: Dias De Adición Mes | E6: Adición Proyectada | I6: Cantidad cupos planeados | J6: cupos planeados de 20 al 24 | K6: cantidad cupos solicitados (pedidos) del 20 al 24 de enero | L6: Cantidad de cupos inejecutados | M6: valor inejecución
A7: RPS_ Transición (3 a 5 años 11 meses) | B7: 6158 | C7: 4822 | D7: 0.53779599 | E7: =+B7*C7*D7 -> 15969247 | F7: =E7 -> 15969247 | I7: =+B7 -> 6158 | J7: =+I7*15 -> 92370 | K7: =+'Semana 1'!D31+'Semana 2'!D31+'Semana 3'!D31 -> 88822 | L7: =+J7-K7 -> 3548 | M7: =+L7*C7 -> 17108456
A8: RPS_Primaria 1°-2°-3° (6 a 8 años 11 meses) | B8: 20704 | C8: 5245 | D8: =+D7 -> 0.53779599 | E8: =+B8*C8*D8 -> 58400600 | F8: =E8 -> 58400600 | I8: =+B8 -> 20704 | J8: =+I8*15 -> 310560 | K8: =+'Semana 1'!D32+'Semana 2'!D32+'Semana 3'!D32 -> 292264 | L8: =+J8-K8 -> 18296 | M8: =+L8*C8 -> 95962520
A9: RPS_Primaria 4°-5° (9 a 10 años 11 meses) | B9: 15176 | C9: 6209 | D9: =+D8 -> 0.53779599 | E9: =+B9*C9*D9 -> 50675324 | F9: =E9 -> 50675324 | I9: =+B9 -> 15176 | J9: =+I9*15 -> 227640 | K9: =+'Semana 1'!D33+'Semana 2'!D33+'Semana 3'!D33 -> 192737 | L9: =+J9-K9 -> 34903 | M9: =+L9*C9 -> 216712727
A10: RPS_Secundaria 6°-7°-8°-9° (11 a 14 años 11 meses) | B10: 26477 | C10: 6526 | D10: =+D9 -> 0.53779599 | E10: =+B10*C10*D10 -> 92925179 | F10: =E10 -> 92925179 | I10: =+B10 -> 26477 | J10: =+I10*15 -> 397155 | K10: =+'Semana 1'!D34+'Semana 2'!D34+'Semana 3'!D34 -> 325171 | L10: =+J10-K10 -> 71984 | M10: =+L10*C10 -> 469767584
A11: RPS_Media y Complemetario 10°-11° (15 a 17 años 11 meses) | B11: 11512 | C11: 7394 | D11: =+D10 -> 0.53779599 | E11: =+B11*C11*D11 -> 45777048 | F11: =E11 -> 45777048 | I11: =+B11 -> 11512 | J11: =+I11*15 -> 172680 | K11: =+'Semana 1'!D35+'Semana 2'!D35+'Semana 3'!D35 -> 141786 | L11: =+J11-K11 -> 30894 | M11: =+L11*C11 -> 228430236
A12: Vaso de Leche (3 a 5 años 11 meses) | B12: 417 | C12: 4360 | D12: =+D11 -> 0.53779599 | E12: =+B12*C12*D12 -> 977777.65 | F12: =E12 -> 977777.65 | I12: =+B12 -> 417 | J12: =+I12*15 -> 6255 | K12: =+'Semana 1'!D41+'Semana 2'!D41+'Semana 3'!D41 -> 6892 | L12: =+J12-K12 -> -637 | M12: =+L12*C12 -> -2777320
A13: Vaso de Leche 1°-2°-3° (6 a 8 años 11 meses) | B13: 1113 | C13: 4861 | D13: =+D12 -> 0.53779599 | E13: =+B13*C13*D13 -> 2909633.9 | F13: =E13 -> 2909633.9 | I13: =+B13 -> 1113 | J13: =+I13*15 -> 16695 | K13: =+'Semana 1'!D42+'Semana 2'!D42+'Semana 3'!D42 -> 17274 | L13: =+J13-K13 -> -579 | M13: =+L13*C13 -> -2814519
A14: Vaso de Leche 4°-5° (9 a 10 años 11 meses) | B14: 733 | C14: 5891 | D14: =+D13 -> 0.53779599 | E14: =+B14*C14*D14 -> 2322258.5 | F14: =E14 -> 2322258.5 | I14: =+B14 -> 733 | J14: =+I14*15 -> 10995 | K14: =+'Semana 1'!D43+'Semana 2'!D43+'Semana 3'!D43 -> 10660 | L14: =+J14-K14 -> 335 | M14: =+L14*C14 -> 1973485
A15: Vaso de Leche 6°-7°-8°-9° (11 a 14 años 11 meses) | B15: 3191 | C15: 6200 | D15: =+D14 -> 0.53779599 | E15: =+B15*C15*D15 -> 10639863 | F15: =E15 -> 10639863 | I15: =+B15 -> 3191 | J15: =+I15*15 -> 47865 | K15: =+'Semana 1'!D44+'Semana 2'!D44+'Semana 3'!D44 -> 36571 | L15: =+J15-K15 -> 11294 | M15: =+L15*C15 -> 70022800
A16: vaso de Leche 10°-11° (15 a 17 años 11 meses) | B16: 1485 | C16: 6737 | D16: =+D15 -> 0.53779599 | E16: =+B16*C16*D16 -> 5380350.4 | F16: =E16 -> 5380350.4 | I16: =+B16 -> 1485 | J16: =+I16*15 -> 22275 | K16: =+'Semana 1'!D45+'Semana 2'!D45+'Semana 3'!D45 -> 13231 | L16: =+J16-K16 -> 9044 | M16: =+L16*C16 -> 60929428
A17: Total Adición Raciones | B17: =SUM(B7:B16) -> 86966 | F17: =SUM(F7:F16) -> 2.8597728e+08 | I17: =SUM(I7:I16) -> 86966 | J17: =SUM(J7:J16) -> 1304490 | K17: =SUM(K7:K16) -> 1125408 | L17: =SUM(L7:L16) -> 179082 | M17: =SUM(M7:M16) -> 1155315397
A18: Total Adición mantenimiento correctivo | F18: 0
A19: Valor Total Adición 02 Lote 3 | F19: =+F17+F18 -> 2.8597728e+08
E20: Valor disponible | F20: 2.8598925e+08
A21: VALOR CORRECTIVOS TOTALES | B21: VALOR TOTAL EJECUTADO A 20 ENERO | C21: VALOR PENDIENTE POR EJECUTAR CORRECTIVOS A NOV 30 | D21: FECHA EN QUE SE AGOTA EL RECURSO
A22: 57036661 | B22: 33124934 | C22: =+A22-B22 -> 23911727 | D22: 45722

Sheet Semana 1
C1: Fecha Pedido | D1: Modalidad
C2: 45677 | H2: Total 20/01/2025 | I2: 45678 | N2: Total 21/01/2025 | O2: 45679 | T2: Total 22/01/2025 | U2: 45680 | Z2: Total 23/01/2025 | AA2: 45681 | AC2: Total 24/01/2025 | AD2: Total general
A3: Contratista | B3: Valores | C3: RACION INDUSTRIALIZADA | D3: VASO DE LECHE | E3: COMPLEMENTOS AM/PM | F3: COMPLEMENTOS TIPO ALMUERZO | G3: RACION CONTINGENCIA | I3: RACION INDUSTRIALIZADA | J3: VASO DE LECHE | K3: COMPLEMENTOS AM/PM | L3: COMPLEMENTOS TIPO ALMUERZO | M3: RACION CONTINGENCIA | O3: RACION INDUSTRIALIZADA | P3: VASO DE LECHE | Q3: COMPLEMENTOS AM/PM | R3: COMPLEMENTOS TIPO ALMUERZO | S3: RACION CONTINGENCIA | U3: RACION INDUSTRIALIZADA | V3: VASO DE LECHE | W3: COMPLEMENTOS AM/PM | X3: COMPLEMENTOS TIPO ALMUERZO | Y3: RACION CONTINGENCIA | AA3: RACION INDUSTRIALIZADA | AB3: VASO DE LECHE | AC3: COMPLEMENTOS AM/PM | AD3: COMPLEMENTOS TIPO ALMUERZO | AE3: RACION CONTINGENCIA
A4: AGG | B4: Suma de Total Cupos Solicitados | D4: 28021 | F4: 21858 | G4: 7102 | H4: 56981 | J4: 29495 | L4: 20690 | M4: 9058 | N4: 59243 | P4: 30174 | R4: 17795 | S4: 10580 | T4: 58549 | V4: 31128 | X4: 16736 | Y4: 11557 | Z4: 59421 | AB4: 29578 | AD4: 15535 | AE4: 10829
B5: Suma de T2 | D5: 2034 | F5: 1831 | G5: 661 | H5: 4526 | J5: 1785 | L5: 1666 | M5: 796 | N5: 4247 | P5: 2169 | R5: 1366 | S5: 939 | T5: 4474 | V5: 2278 | X5: 1269 | Y5: 991 | Z5: 4538 | AB5: 1993 | AD5: 1287 | AE5: 804
B6: Suma de 1 A 32 | D6: 5878 | F6: 5010 | G6: 2363 | H6: 13251 | J6: 6084 | L6: 4689 | M6: 2707 | N6: 13480 | P6: 6518 | R6: 4034 | S6: 3230 | T6: 13782 | V6: 6602 | X6: 3886 | Y6: 3213 | Z6: 13701 | AB6: 6328 | AD6: 3944 | AE6: 2892
B7: Suma de 4 A 52 | D7: 5222 | F7: 3457 | G7: 1457 | H7: 10136 | J7: 5558 | L7: 3236 | M7: 1542 | N7: 10336 | P7: 5452 | R7: 3008 | S7: 1838 | T7: 10298 | V7: 5500 | X7: 2674 | Y7: 1883 | Z7: 10057 | AB7: 5419 | AD7: 2596 | AE7: 1879
B8: Suma de 6 A 92 | D8: 11775 | F8: 5967 | G8: 1277 | H8: 19019 | J8: 12593 | L8: 5785 | M8: 1600 | N8: 19978 | P8: 13026 | R8: 5336 | S8: 2108 | T8: 20470 | V8: 13417 | X8: 5222 | Y8: 2592 | Z8: 21231 | AB8: 12813 | AD8: 4731 | AE8: 2371
B9: Suma de 10 A 112 | D9: 3112 | F9: 5593 | G9: 1344 | H9: 10049 | J9: 3475 | L9: 5314 | M9: 2413 | N9: 11202 | P9: 3009 | R9: 4051 | S9: 2465 | T9: 9525 | V9: 3331 | X9: 3685 | Y9: 2878 | Z9: 9894 | AB9: 3025 | AD9: 2977 | AE9: 2883
A10: NUTRISER | B10: Suma de Total Cupos Solicitados | C10: 59093 | D10: 4482 | H10: 63575 | I10: 69074 | J10: 4707 | N10: 73781 | O10: 69063 | P10: 5706 | T10: 74769 | U10: 71501 | V10: 5040 | Z10: 76541 | AA10: 68383 | AB10: 4464
B11: Suma de T2 | C11: 5011 | D11: 387 | H11: 5398 | I11: 5685 | J11: 427 | N11: 6112 | O11: 6039 | P11: 508 | T11: 6547 | U11: 6327 | V11: 362 | Z11: 6689 | AA11: 6221 | AB11: 362
B12: Suma de 1 A 32 | C12: 17332 | D12: 1040 | H12: 18372 | I12: 19562 | J12: 1040 | N12: 20602 | O12: 19040 | P12: 1260 | T12: 20300 | U12: 20719 | V12: 1040 | Z12: 21759 | AA12: 19321 | AB12: 1040
B13: Suma de 4 A 52 | C13: 11136 | D13: 594 | H13: 11730 | I13: 12789 | J13: 714 | N13: 13503 | O13: 12106 | P13: 773 | T13: 12879 | U13: 13275 | V13: 714 | Z13: 13989 | AA13: 12500 | AB13: 698
B14: Suma de 6 A 92 | C14: 17870 | D14: 2187 | H14: 20057 | I14: 21396 | J14: 2103 | N14: 23499 | O14: 22438 | P14: 2691 | T14: 25129 | U14: 22330 | V14: 2450 | Z14: 24780 | AA14: 21732 | AB14: 1991
B15: Suma de 10 A 112 | C15: 7744 | D15: 274 | H15: 8018 | I15: 9642 | J15: 423 | N15: 10065 | O15: 9440 | P15: 474 | T15: 9914 | U15: 8850 | V15: 474 | Z15: 9324 | AA15: 8609 | AB15: 373
A16: GR Logistica | B16: Suma de Total Cupos Solicitados | D16: 8374 | E16: 38801 | G16: 13839 | H16: 61014 | J16: 9422 | K16: 39101 | M16: 16344 | N16: 64867 | P16: 10302 | Q16: 35081 | S16: 15463 | T16: 60846 | V16: 9805 | W16: 31153 | Y16: 16355 | Z16: 57313 | AB16: 9391 | AC16: 30007 | AE16: 15179
B17: Suma de T2 | D17: 889 | E17: 3669 | G17: 1653 | H17: 6211 | J17: 1001 | K17: 3669 | M17: 1651 | N17: 6321 | P17: 1017 | Q17: 3509 | S17: 1656 | T17: 6182 | V17: 1016 | W17: 3325 | Y17: 1611 | Z17: 5952 | AB17: 906 | AC17: 3155 | AE17: 1545
B18: Suma de 1 A 32 | D18: 2386 | E18: 11108 | G18: 5022 | H18: 18516 | J18: 2461 | K18: 11108 | M18: 5693 | N18: 19262 | P18: 2709 | Q18: 10318 | S18: 5483 | T18: 18510 | V18: 2594 | W18: 9446 | Y18: 5545 | Z18: 17585 | AB18: 2360 | AC18: 9093 | AE18: 4944
B19: Suma de 4 A 52 | D19: 1753 | E19: 8172 | G19: 2312 | H19: 12237 | J19: 1756 | K19: 8172 | M19: 2983 | N19: 12911 | P19: 1718 | Q19: 6786 | S19: 2939 | T19: 11443 | V19: 1670 | W19: 5950 | Y19: 3005 | Z19: 10625 | AB19: 1631 | AC19: 6126 | AE19: 2826
B20: Suma de 6 A 92 | D20: 2798 | E20: 9273 | G20: 2877 | H20: 14948 | J20: 3346 | K20: 9423 | M20: 3667 | N20: 16436 | P20: 3798 | Q20: 8411 | S20: 3436 | T20: 15645 | V20: 3512 | W20: 7475 | Y20: 3555 | Z20: 14542 | AB20: 3602 | AC20: 6996 | AE20: 3520
B21: Suma de 10 A 112 | D21: 548 | E21: 6579 | G21: 1975 | H21: 9102 | J21: 858 | K21: 6729 | M21: 2350 | N21: 9937 | P21: 1060 | Q21: 6057 | S21: 1949 | T21: 9066 | V21: 1013 | W21: 4957 | Y21: 2639 | Z21: 8609 | AB21: 892 | AC21: 4637 | AE21: 2344
A22: Total Suma de Total Cupos Solicitados | C22: 59093 | D22: 40877 | E22: 38801 | F22: 21858 | G22: 20941 | H22: 181570 | I22: 69074 | J22: 43624 | K22: 39101 | L22: 20690 | M22: 25402 | N22: 197891 | O22: 69063 | P22: 46182 | Q22: 35081 | R22: 17795 | S22: 26043 | T22: 194164 | U22: 71501 | V22: 45973 | W22: 31153 | X22: 16736 | Y22: 27912 | Z22: 193275 | AA22: 68383 | AB22: 43433 | AC22: 30007 | AD22: 15535 | AE22: 26008 | AF22: 183366
A23: Total Suma de T2 | C23: 5011 | D23: 3310 | E23: 3669 | F23: 1831 | G23: 2314 | H23: 16135 | I23: 5685 | J23: 3213 | K23: 3669 | L23: 1666 | M23: 2447 | N23: 16680 | O23: 6039 | P23: 3694 | Q23: 3509 | R23: 1366 | S23: 2595 | T23: 17203 | U23: 6327 | V23: 3656 | W23: 3325 | X23: 1269 | Y23: 2602 | Z23: 17179 | AA23: 6221 | AB23: 3261 | AC23: 3155 | AD23: 1287 | AE23: 2349 | AF23: 16273
A24: Total Suma de 1 A 32 | C24: 17332 | D24: 9304 | E24: 11108 | F24: 5010 | G24: 7385 | H24: 50139 | I24: 19562 | J24: 9585 | K24: 11108 | L24: 4689 | M24: 8400 | N24: 53344 | O24: 19040 | P24: 10487 | Q24: 10318 | R24: 4034 | S24: 8713 | T24: 52592 | U24: 20719 | V24: 10236 | W24: 9446 | X24: 3886 | Y24: 8758 | Z24: 53045 | AA24: 19321 | AB24: 9728 | AC24: 9093 | AD24: 3944 | AE24: 7836 | AF24: 49922
A25: Total Suma de 4 A 52 | C25: 11136 | D25: 7569 | E25: 8172 | F25: 3457 | G25: 3769 | H25: 34103 | I25: 12789 | J25: 8028 | K25: 8172 | L25: 3236 | M25: 4525 | N25: 36750 | O25: 12106 | P25: 7943 | Q25: 6786 | R25: 3008 | S25: 4777 | T25: 34620 | U25: 13275 | V25: 7884 | W25: 5950 | X25: 2674 | Y25: 4888 | Z25: 34671 | AA25: 12500 | AB25: 7748 | AC25: 6126 | AD25: 2596 | AE25: 4705 | AF25: 33675
A26: Total Suma de 6 A 92 | C26: 17870 | D26: 16760 | E26: 9273 | F26: 5967 | G26: 4154 | H26: 54024 | I26: 21396 | J26: 18042 | K26: 9423 | L26: 5785 | M26: 5267 | N26: 59913 | O26: 22438 | P26: 19515 | Q26: 8411 | R26: 5336 | S26: 5544 | T26: 61244 | U26: 22330 | V26: 19379 | W26: 7475 | X26: 5222 | Y26: 6147 | Z26: 60553 | AA26: 21732 | AB26: 18406 | AC26: 6996 | AD26: 4731 | AE26: 5891 | AF26: 57756
A27: Total Suma de 10 A 112 | C27: 7744 | D27: 3934 | E27: 6579 | F27: 5593 | G27: 3319 | H27: 27169 | I27: 9642 | J27: 4756 | K27: 6729 | L27: 5314 | M27: 4763 | N27: 31204 | O27: 9440 | P27: 4543 | Q27: 6057 | R27: 4051 | S27: 4414 | T27: 28505 | U27: 8850 | V27: 4818 | W27: 4957 | X27: 3685 | Y27: 5517 | Z27: 27827 | AA27: 8609 | AB27: 4290 | AC27: 4637 | AD27: 2977 | AE27: 5227 | AF27: 25740
B30: ampm | C30: almuerzo | D30: RI
A31: RPS_ Transición (3 a 5 años 11 meses) | B31: =+E17+K17+Q17+W17+AC17 -> 17327 | C31: =+F5+L5+R5+X5+AD5 -> 7419 | D31: =+C11+I11+O11+U11+AA11 -> 29283
A32: RPS_Primaria 1°-2°-3° (6 a 8 años 11 meses) | B32: =+E18+K18+Q18+W18+AC18 -> 51073 | C32: =+F6+L6+R6+X6+AD6 -> 21563 | D32: =+C12+I12+O12+U12+AA12 -> 95974
A33: RPS_Primaria 4°-5° (9 a 10 años 11 meses) | B33: =+E19+K19+Q19+W19+AC19 -> 35206 | C33: =+F7+L7+R7+X7+AD7 -> 14971 | D33: =+C13+I13+O13+U13+AA13 -> 61806
A34: RPS_Secundaria 6°-7°-8°-9° (11 a 14 años 11 meses) | B34: =+E20+K20+Q20+W20+AC20 -> 41578 | C34: =+F8+L8+R8+X8+AD8 -> 27041 | D34: =+C14+I14+O14+U14+AA14 -> 105766
A35: RPS_Media y Complemetario 10°-11° (15 a 17 años 11 meses) | B35: =+E21+K21+Q21+W21+AC21 -> 28959 | C35: =+F9+L9+R9+X9+AD9 -> 21620 | D35: =+C15+I15+O15+U15+AA15 -> 44285
A36: Ración de Contingencia Transición (3 a 5 años 11 meses) | B36: =+G17+M17+S17+Y17+AE17 -> 8116 | C36: =+G5+M5+S5+Y5+AE5 -> 4191
A37: Ración de Contingencia Primaria 1°-2°-3° (6 a 8 años 11 meses) | B37: =+G18+M18+S18+Y18+AE18 -> 26687 | C37: =+G6+M6+S6+Y6+AE6 -> 14405
A38: Ración de Contingencia Primaria 4°-5° (9 a 10 años 11 meses) | B38: =+G19+M19+S19+Y19+AE19 -> 14065 | C38: =+G7+M7+S7+Y7+AE7 -> 8599
A39: Ración de Contingencia Secundaria 6°-7°-8°-9° (11 a 14 años 11 meses) | B39: =+G20+M20+S20+Y20+AE20 -> 17055 | C39: =+G8+M8+S8+Y8+AE8 -> 9948
A40: Ración de Contingencia Media y Complemetario 10°-11° (15 a 17 años 11 meses) | B40: =+G21+M21+S21+Y21+AE21 -> 11257 | C40: =+G9+M9+S9+Y9+AE9 -> 11983
A41: Vaso de Leche (3 a 5 años 11 meses) | B41: =+D17+J17+P17+V17+AB17 -> 4829 | C41: =+D5+J5+P5+V5+AB5 -> 10259 | D41: =+D11+J11+P11+V11+AB11 -> 2046
A42: Vaso de Leche 1°-2°-3° (6 a 8 años 11 meses) | B42: =+D18+J18+P18+V18+AB18 -> 12510 | C42: =+D6+J6+P6+V6+AB6 -> 31410 | D42: =+D12+J12+P12+V12+AB12 -> 5420
A43: Vaso de Leche 4°-5° (9 a 10 años 11 meses) | B43: =+D19+J19+P19+V19+AB19 -> 8528 | C43: =+D7+J7+P7+V7+AB7 -> 27151 | D43: =+D13+J13+P13+V13+AB13 -> 3493
A44: Vaso de Leche 6°-7°-8°-9° (11 a 14 años 11 meses) | B44: =+D20+J20+P20+V20+AB20 -> 17056 | C44: =+D8+J8+P8+V8+AB8 -> 63624 | D44: =+D14+J14+P14+V14+AB14 -> 11422
A45: vaso de Leche 10°-11° (15 a 17 años 11 meses) | B45: =+D21+J21+P21+V21+AB21 -> 4371 | C45: =+D9+J9+P9+V9+AB9 -> 15952 | D45: =+D15+J15+P15+V15+AB15 -> 2018
B46: =SUM(B31:B45) -> 298617 | C46: =SUM(C31:C45) -> 290136 | D46: =SUM(D31:D45) -> 361513 | E46: =SUM(B46:D46) -> 950266
B48: =+B46+'Semana 2'!B46+'Semana 3'!B46 -> 890906 | C48: =+C46+'Semana 2'!C46+'Semana 3'!C46 -> 867764 | D48: =+D46+'Semana 2'!D46+'Semana 3'!D46 -> 1125408

Sheet Semana 2
C1: Fecha Pedido | D1: Modalidad
C2: 45677 | H2: Total 20/01/2025 | I2: 45678 | N2: Total 21/01/2025 | O2: 45679 | T2: Total 22/01/2025 | U2: 45680 | Z2: Total 23/01/2025 | AA2: 45681 | AC2: Total 24/01/2025 | AD2: Total general
A3: Contratista | B3: Valores | C3: RACION INDUSTRIALIZADA | D3: VASO DE LECHE | E3: COMPLEMENTOS AM/PM | F3: COMPLEMENTOS TIPO ALMUERZO | G3: RACION CONTINGENCIA | I3: RACION INDUSTRIALIZADA | J3: VASO DE LECHE | K3: COMPLEMENTOS AM/PM | L3: COMPLEMENTOS TIPO ALMUERZO | M3: RACION CONTINGENCIA | O3: RACION INDUSTRIALIZADA | P3: VASO DE LECHE | Q3: COMPLEMENTOS AM/PM | R3: COMPLEMENTOS TIPO ALMUERZO | S3: RACION CONTINGENCIA | U3: RACION INDUSTRIALIZADA | V3: VASO DE LECHE | W3: COMPLEMENTOS AM/PM | X3: COMPLEMENTOS TIPO ALMUERZO | Y3: RACION CONTINGENCIA | AA3: RACION INDUSTRIALIZADA | AB3: VASO DE LECHE | AC3: COMPLEMENTOS AM/PM | AD3: COMPLEMENTOS TIPO ALMUERZO | AE3: RACION CONTINGENCIA
A4: AGG | B4: Suma de Total Cupos Solicitados | D4: 33243 | F4: 15003 | G4: 12587 | H4: 60833 | J4: 33002 | L4: 16418 | M4: 12232 | N4: 61652 | P4: 30419 | R4: 17492 | S4: 12409 | T4: 60320 | V4: 6408 | X4: 19606 | Y4: 2969 | Z4: 28983 | AB4: 30816 | AD4: 20212 | AE4: 9591
B5: Suma de T2 | D5: 2132 | F5: 1251 | G5: 1066 | H5: 4449 | J5: 2225 | L5: 1428 | M5: 1029 | N5: 4682 | P5: 1955 | R5: 1407 | S5: 1048 | T5: 4410 | V5: 468 | X5: 1521 | Y5: 248 | Z5: 2237 | AB5: 1930 | AD5: 1693 | AE5: 637
B6: Suma de 1 A 32 | D6: 7437 | F6: 4057 | G6: 3731 | H6: 15225 | J6: 7457 | L6: 4165 | M6: 3610 | N6: 15232 | P6: 7141 | R6: 4252 | S6: 3719 | T6: 15112 | V6: 1346 | X6: 4833 | Y6: 1628 | Z6: 7807 | AB6: 6849 | AD6: 4999 | AE6: 2461
B7: Suma de 4 A 52 | D7: 6262 | F7: 2638 | G7: 2126 | H7: 11026 | J7: 6256 | L7: 2749 | M7: 2055 | N7: 11060 | P7: 6026 | R7: 2934 | S7: 2094 | T7: 11054 | V7: 1100 | X7: 3214 | Y7: 412 | Z7: 4726 | AB7: 5857 | AD7: 3316 | AE7: 1513
B8: Suma de 6 A 92 | D8: 14043 | F8: 4210 | G8: 2759 | H8: 21012 | J8: 13823 | L8: 4578 | M8: 2700 | N8: 21101 | P8: 12100 | R8: 4801 | S8: 2728 | T8: 19629 | V8: 3074 | X8: 5529 | Y8: 480 | Z8: 9083 | AB8: 12902 | AD8: 5299 | AE8: 2524
B9: Suma de 10 A 112 | D9: 3369 | F9: 2847 | G9: 2905 | H9: 9121 | J9: 3241 | L9: 3498 | M9: 2838 | N9: 9577 | P9: 3197 | R9: 4098 | S9: 2820 | T9: 10115 | V9: 420 | X9: 4509 | Y9: 201 | Z9: 5130 | AB9: 3278 | AD9: 4905 | AE9: 2456
A10: NUTRISER | B10: Suma de Total Cupos Solicitados | C10: 78979 | D10: 6465 | H10: 85444 | I10: 78605 | J10: 6473 | N10: 85078 | O10: 78640 | P10: 6527 | T10: 85167 | U10: 16811 | V10: 1236 | Z10: 18047 | AA10: 66592 | AB10: 6537
B11: Suma de T2 | C11: 6666 | D11: 508 | H11: 7174 | I11: 6524 | J11: 508 | N11: 7032 | O11: 6649 | P11: 508 | T11: 7157 | U11: 1591 | V11: 280 | Z11: 1871 | AA11: 6045 | AB11: 508
B12: Suma de 1 A 32 | C12: 21907 | D12: 1260 | H12: 23167 | I12: 22007 | J12: 1260 | N12: 23267 | O12: 21764 | P12: 1260 | T12: 23024 | U12: 5917 | V12: 573 | Z12: 6490 | AA12: 18967 | AB12: 1260
B13: Suma de 4 A 52 | C13: 14616 | D13: 789 | H13: 15405 | I13: 14692 | J13: 789 | N13: 15481 | O13: 14764 | P13: 794 | T13: 15558 | U13: 3758 | V13: 138 | Z13: 3896 | AA13: 12432 | AB13: 794
B14: Suma de 6 A 92 | C14: 24889 | D14: 2696 | H14: 27585 | I14: 24705 | J14: 2696 | N14: 27401 | O14: 24614 | P14: 2733 | T14: 27347 | U14: 3675 | V14: 245 | Z14: 3920 | AA14: 20046 | AB14: 2743
B15: Suma de 10 A 112 | C15: 10901 | D15: 1212 | H15: 12113 | I15: 10677 | J15: 1220 | N15: 11897 | O15: 10849 | P15: 1232 | T15: 12081 | U15: 1870 | V15: 0 | Z15: 1870 | AA15: 9102 | AB15: 1232
A16: GR Logistica | B16: Suma de Total Cupos Solicitados | D16: 12360 | E16: 30923 | G16: 17352 | H16: 60635 | J16: 12629 | K16: 32573 | M16: 16969 | N16: 62171 | P16: 12425 | Q16: 34239 | S16: 15423 | T16: 62087 | V16: 2408 | W16: 35866 | Y16: 2991 | Z16: 41265 | AB16: 12071 | AC16: 35222 | AE16: 14187
B17: Suma de T2 | D17: 1180 | E17: 2879 | G17: 1947 | H17: 6006 | J17: 1214 | K17: 3099 | M17: 1887 | N17: 6200 | P17: 1090 | Q17: 3290 | S17: 1795 | T17: 6175 | V17: 228 | W17: 3325 | Y17: 227 | Z17: 3780 | AB17: 1065 | AC17: 3190 | AE17: 1487
B18: Suma de 1 A 32 | D18: 3290 | E18: 8058 | G18: 5645 | H18: 16993 | J18: 3468 | K18: 8623 | M18: 5441 | N18: 17532 | P18: 3466 | Q18: 9119 | S18: 5191 | T18: 17776 | V18: 853 | W18: 9555 | Y18: 1617 | Z18: 12025 | AB18: 3418 | AC18: 9486 | AE18: 4627
B19: Suma de 4 A 52 | D19: 2237 | E19: 6429 | G19: 3328 | H19: 11994 | J19: 2391 | K19: 6788 | M19: 3262 | N19: 12441 | P19: 2312 | Q19: 6935 | S19: 2994 | T19: 12241 | V19: 355 | W19: 7241 | Y19: 349 | Z19: 7945 | AB19: 2101 | AC19: 7059 | AE19: 2617
B20: Suma de 6 A 92 | D20: 4483 | E20: 8235 | G20: 3707 | H20: 16425 | J20: 4419 | K20: 8453 | M20: 3797 | N20: 16669 | P20: 4314 | Q20: 8877 | S20: 3396 | T20: 16587 | V20: 945 | W20: 9136 | Y20: 570 | Z20: 10651 | AB20: 4290 | AC20: 9097 | AE20: 3304
B21: Suma de 10 A 112 | D21: 1170 | E21: 5322 | G21: 2725 | H21: 9217 | J21: 1137 | K21: 5610 | M21: 2582 | N21: 9329 | P21: 1243 | Q21: 6018 | S21: 2047 | T21: 9308 | V21: 27 | W21: 6609 | Y21: 228 | Z21: 6864 | AB21: 1197 | AC21: 6390 | AE21: 2152
A22: Total Suma de Total Cupos Solicitados | C22: 78979 | D22: 52068 | E22: 30923 | F22: 15003 | G22: 29939 | H22: 206912 | I22: 78605 | J22: 52104 | K22: 32573 | L22: 16418 | M22: 29201 | N22: 208901 | O22: 78640 | P22: 49371 | Q22: 34239 | R22: 17492 | S22: 27832 | T22: 207574 | U22: 16811 | V22: 10052 | W22: 35866 | X22: 19606 | Y22: 5960 | Z22: 88295 | AA22: 66592 | AB22: 49424 | AC22: 35222 | AD22: 20212 | AE22: 23778
A23: Total Suma de T2 | C23: 6666 | D23: 3820 | E23: 2879 | F23: 1251 | G23: 3013 | H23: 17629 | I23: 6524 | J23: 3947 | K23: 3099 | L23: 1428 | M23: 2916 | N23: 17914 | O23: 6649 | P23: 3553 | Q23: 3290 | R23: 1407 | S23: 2843 | T23: 17742 | U23: 1591 | V23: 976 | W23: 3325 | X23: 1521 | Y23: 475 | Z23: 7888 | AA23: 6045 | AB23: 3503 | AC23: 3190 | AD23: 1693 | AE23: 2124
A24: Total Suma de 1 A 32 | C24: 21907 | D24: 11987 | E24: 8058 | F24: 4057 | G24: 9376 | H24: 55385 | I24: 22007 | J24: 12185 | K24: 8623 | L24: 4165 | M24: 9051 | N24: 56031 | O24: 21764 | P24: 11867 | Q24: 9119 | R24: 4252 | S24: 8910 | T24: 55912 | U24: 5917 | V24: 2772 | W24: 9555 | X24: 4833 | Y24: 3245 | Z24: 26322 | AA24: 18967 | AB24: 11527 | AC24: 9486 | AD24: 4999 | AE24: 7088
A25: Total Suma de 4 A 52 | C25: 14616 | D25: 9288 | E25: 6429 | F25: 2638 | G25: 5454 | H25: 38425 | I25: 14692 | J25: 9436 | K25: 6788 | L25: 2749 | M25: 5317 | N25: 38982 | O25: 14764 | P25: 9132 | Q25: 6935 | R25: 2934 | S25: 5088 | T25: 38853 | U25: 3758 | V25: 1593 | W25: 7241 | X25: 3214 | Y25: 761 | Z25: 16567 | AA25: 12432 | AB25: 8752 | AC25: 7059 | AD25: 3316 | AE25: 4130
A26: Total Suma de 6 A 92 | C26: 24889 | D26: 21222 | E26: 8235 | F26: 4210 | G26: 6466 | H26: 65022 | I26: 24705 | J26: 20938 | K26: 8453 | L26: 4578 | M26: 6497 | N26: 65171 | O26: 24614 | P26: 19147 | Q26: 8877 | R26: 4801 | S26: 6124 | T26: 63563 | U26: 3675 | V26: 4264 | W26: 9136 | X26: 5529 | Y26: 1050 | Z26: 23654 | AA26: 20046 | AB26: 19935 | AC26: 9097 | AD26: 5299 | AE26: 5828
A27: Total Suma de 10 A 112 | C27: 10901 | D27: 5751 | E27: 5322 | F27: 2847 | G27: 5630 | H27: 30451 | I27: 10677 | J27: 5598 | K27: 5610 | L27: 3498 | M27: 5420 | N27: 30803 | O27: 10849 | P27: 5672 | Q27: 6018 | R27: 4098 | S27: 4867 | T27: 31504 | U27: 1870 | V27: 447 | W27: 6609 | X27: 4509 | Y27: 429 | Z27: 13864 | AA27: 9102 | AB27: 5707 | AC27: 6390 | AD27: 4905 | AE27: 4608
B30: ampm | C30: almuerzo | D30: RI
A31: RPS_ Transición (3 a 5 años 11 meses) | B31: =+E17+K17+Q17+W17+AC17 -> 15783 | C31: =+F5+L5+R5+X5+AD5 -> 7300 | D31: =+C11+I11+O11+U11+AA11 -> 27475
A32: RPS_Primaria 1°-2°-3° (6 a 8 años 11 meses) | B32: =+E18+K18+Q18+W18+AC18 -> 44841 | C32: =+F6+L6+R6+X6+AD6 -> 22306 | D32: =+C12+I12+O12+U12+AA12 -> 90562
A33: RPS_Primaria 4°-5° (9 a 10 años 11 meses) | B33: =+E19+K19+Q19+W19+AC19 -> 34452 | C33: =+F7+L7+R7+X7+AD7 -> 14851 | D33: =+C13+I13+O13+U13+AA13 -> 60262
A34: RPS_Secundaria 6°-7°-8°-9° (11 a 14 años 11 meses) | B34: =+E20+K20+Q20+W20+AC20 -> 43798 | C34: =+F8+L8+R8+X8+AD8 -> 24417 | D34: =+C14+I14+O14+U14+AA14 -> 97929
A35: RPS_Media y Complemetario 10°-11° (15 a 17 años 11 meses) | B35: =+E21+K21+Q21+W21+AC21 -> 29949 | C35: =+F9+L9+R9+X9+AD9 -> 19857 | D35: =+C15+I15+O15+U15+AA15 -> 43399
A36: Ración de Contingencia Transición (3 a 5 años 11 meses) | B36: =+G17+M17+S17+Y17+AE17 -> 7343 | C36: =+G5+M5+S5+Y5+AE5 -> 4028
A37: Ración de Contingencia Primaria 1°-2°-3° (6 a 8 años 11 meses) | B37: =+G18+M18+S18+Y18+AE18 -> 22521 | C37: =+G6+M6+S6+Y6+AE6 -> 15149
A38: Ración de Contingencia Primaria 4°-5° (9 a 10 años 11 meses) | B38: =+G19+M19+S19+Y19+AE19 -> 12550 | C38: =+G7+M7+S7+Y7+AE7 -> 8200
A39: Ración de Contingencia Secundaria 6°-7°-8°-9° (11 a 14 años 11 meses) | B39: =+G20+M20+S20+Y20+AE20 -> 14774 | C39: =+G8+M8+S8+Y8+AE8 -> 11191
A40: Ración de Contingencia Media y Complemetario 10°-11° (15 a 17 años 11 meses) | B40: =+G21+M21+S21+Y21+AE21 -> 9734 | C40: =+G9+M9+S9+Y9+AE9 -> 11220
A41: Vaso de Leche (3 a 5 años 11 meses) | B41: =+D17+J17+P17+V17+AB17 -> 4777 | C41: =+D5+J5+P5+V5+AB5 -> 8710 | D41: =+D11+J11+P11+V11+AB11 -> 2312
A42: Vaso de Leche 1°-2°-3° (6 a 8 años 11 meses) | B42: =+D18+J18+P18+V18+AB18 -> 14495 | C42: =+D6+J6+P6+V6+AB6 -> 30230 | D42: =+D12+J12+P12+V12+AB12 -> 5613
A43: Vaso de Leche 4°-5° (9 a 10 años 11 meses) | B43: =+D19+J19+P19+V19+AB19 -> 9396 | C43: =+D7+J7+P7+V7+AB7 -> 25501 | D43: =+D13+J13+P13+V13+AB13 -> 3304
A44: Vaso de Leche 6°-7°-8°-9° (11 a 14 años 11 meses) | B44: =+D20+J20+P20+V20+AB20 -> 18451 | C44: =+D8+J8+P8+V8+AB8 -> 55942 | D44: =+D14+J14+P14+V14+AB14 -> 11113
A45: vaso de Leche 10°-11° (15 a 17 años 11 meses) | B45: =+D21+J21+P21+V21+AB21 -> 4774 | C45: =+D9+J9+P9+V9+AB9 -> 13505 | D45: =+D15+J15+P15+V15+AB15 -> 4896
B46: =SUM(B31:B45) -> 287638 | C46: =SUM(C31:C45) -> 272407 | D46: =SUM(D31:D45) -> 346865 | E46: =SUM(B46:D46) -> 906910

Sheet Semana 3
C1: Fecha Pedido | D1: Modalidad
C2: 45677 | H2: Total 20/01/2025 | I2: 45678 | N2: Total 21/01/2025 | O2: 45679 | T2: Total 22/01/2025 | U2: 45680 | Z2: Total 23/01/2025 | AA2: 45681 | AC2: Total 24/01/2025 | AD2: Total general
A3: Contratista | B3: Valores | C3: RACION INDUSTRIALIZADA | D3: VASO DE LECHE | E3: COMPLEMENTOS AM/PM | F3: COMPLEMENTOS TIPO ALMUERZO | G3: RACION CONTINGENCIA | I3: RACION INDUSTRIALIZADA | J3: VASO DE LECHE | K3: COMPLEMENTOS AM/PM | L3: COMPLEMENTOS TIPO ALMUERZO | M3: RACION CONTINGENCIA | O3: RACION INDUSTRIALIZADA | P3: VASO DE LECHE | Q3: COMPLEMENTOS AM/PM | R3: COMPLEMENTOS TIPO ALMUERZO | S3: RACION CONTINGENCIA | U3: RACION INDUSTRIALIZADA | V3: VASO DE LECHE | W3: COMPLEMENTOS AM/PM | X3: COMPLEMENTOS TIPO ALMUERZO | Y3: RACION CONTINGENCIA | AA3: RACION INDUSTRIALIZADA | AB3: VASO DE LECHE | AC3: COMPLEMENTOS AM/PM | AD3: COMPLEMENTOS TIPO ALMUERZO | AE3: RACION CONTINGENCIA
A4: AGG | B4: Suma de Total Cupos Solicitados | D4: 32642 | F4: 20498 | G4: 10201 | H4: 63341 | J4: 33755 | L4: 18208 | M4: 11110 | N4: 63073 | P4: 32307 | R4: 16369 | S4: 10840 | T4: 59516 | V4: 34479 | X4: 16332 | Y4: 11226 | Z4: 62037 | AB4: 30775 | AD4: 16108 | AE4: 10371
B5: Suma de T2 | D5: 2211 | F5: 1595 | G5: 751 | H5: 4557 | J5: 2329 | L5: 1345 | M5: 853 | N5: 4527 | P5: 2185 | R5: 1360 | S5: 833 | T5: 4378 | V5: 2304 | X5: 1689 | Y5: 893 | Z5: 4886 | AB5: 2158 | AD5: 1574 | AE5: 912
B6: Suma de 1 A 32 | D6: 7405 | F6: 4813 | G6: 2908 | H6: 15126 | J6: 7617 | L6: 4117 | M6: 3286 | N6: 15020 | P6: 7104 | R6: 3713 | S6: 3201 | T6: 14018 | V6: 7616 | X6: 4288 | Y6: 3386 | Z6: 15290 | AB6: 6701 | AD6: 4237 | AE6: 3023
B7: Suma de 4 A 52 | D7: 6178 | F7: 3371 | G7: 1644 | H7: 11193 | J7: 6484 | L7: 2916 | M7: 1925 | N7: 11325 | P7: 6104 | R7: 2801 | S7: 1850 | T7: 10755 | V7: 6531 | X7: 2637 | Y7: 1891 | Z7: 11059 | AB7: 5837 | AD7: 2753 | AE7: 1658
B8: Suma de 6 A 92 | D8: 13141 | F8: 5710 | G8: 2411 | H8: 21262 | J8: 13619 | L8: 5055 | M8: 2563 | N8: 21237 | P8: 13623 | R8: 4949 | S8: 2429 | T8: 21001 | V8: 14236 | X8: 4290 | Y8: 2463 | Z8: 20989 | AB8: 12687 | AD8: 4029 | AE8: 2295
B9: Suma de 10 A 112 | D9: 3707 | F9: 5009 | G9: 2487 | H9: 11203 | J9: 3706 | L9: 4775 | M9: 2483 | N9: 10964 | P9: 3291 | R9: 3546 | S9: 2527 | T9: 9364 | V9: 3792 | X9: 3428 | Y9: 2593 | Z9: 9813 | AB9: 3392 | AD9: 3515 | AE9: 2483
A10: NUTRISER | B10: Suma de Total Cupos Solicitados | C10: 78312 | D10: 6637 | H10: 84949 | I10: 77524 | J10: 6465 | N10: 83989 | O10: 77523 | P10: 6537 | T10: 84060 | U10: 79144 | V10: 6571 | Z10: 85715 | AA10: 71536 | AB10: 6781
B11: Suma de T2 | C11: 6573 | D11: 508 | H11: 7081 | I11: 6447 | J11: 508 | N11: 6955 | O11: 6565 | P11: 508 | T11: 7073 | U11: 6546 | V11: 502 | Z11: 7048 | AA11: 5933 | AB11: 508
B12: Suma de 1 A 32 | C12: 21711 | D12: 1260 | H12: 22971 | I12: 21152 | J12: 1260 | N12: 22412 | O12: 21158 | P12: 1260 | T12: 22418 | U12: 21694 | V12: 1201 | Z12: 22895 | AA12: 20013 | AB12: 1260
B13: Suma de 4 A 52 | C13: 14663 | D13: 794 | H13: 15457 | I13: 14292 | J13: 734 | N13: 15026 | O13: 14339 | P13: 794 | T13: 15133 | U13: 14694 | V13: 748 | Z13: 15442 | AA13: 12681 | AB13: 793
B14: Suma de 6 A 92 | C14: 24437 | D14: 2828 | H14: 27265 | I14: 24860 | J14: 2716 | N14: 27576 | O14: 24669 | P14: 2743 | T14: 27412 | U14: 25048 | V14: 2832 | Z14: 27880 | AA14: 22462 | AB14: 2917
B15: Suma de 10 A 112 | C15: 10928 | D15: 1247 | H15: 12175 | I15: 10773 | J15: 1247 | N15: 12020 | O15: 10792 | P15: 1232 | T15: 12024 | U15: 11162 | V15: 1288 | Z15: 12450 | AA15: 10447 | AB15: 1303
A16: GR Logistica | B16: Suma de Total Cupos Solicitados | D16: 12890 | E16: 35204 | G16: 15724 | H16: 63818 | J16: 13290 | K16: 37683 | M16: 17411 | N16: 68384 | P16: 12199 | Q16: 28430 | S16: 15975 | T16: 56604 | V16: 12639 | W16: 28920 | Y16: 17666 | Z16: 59225 | AB16: 12434 | AC16: 27846 | AE16: 16340
B17: Suma de T2 | D17: 1180 | E17: 3349 | G17: 1782 | H17: 6311 | J17: 1180 | K17: 3560 | M17: 1917 | N17: 6657 | P17: 1008 | Q17: 2680 | S17: 1780 | T17: 5468 | V17: 1078 | W17: 2974 | Y17: 2137 | Z17: 6189 | AB17: 1088 | AC17: 2678 | AE17: 1846
B18: Suma de 1 A 32 | D18: 3464 | E18: 9736 | G18: 4940 | H18: 18140 | J18: 3731 | K18: 10221 | M18: 5789 | N18: 19741 | P18: 3464 | Q18: 7843 | S18: 5228 | T18: 16535 | V18: 3524 | W18: 8245 | Y18: 5895 | Z18: 17664 | AB18: 3627 | AC18: 7554 | AE18: 5294
B19: Suma de 4 A 52 | D19: 2358 | E19: 7333 | G19: 2972 | H19: 12663 | J19: 2491 | K19: 7658 | M19: 3250 | N19: 13399 | P19: 2231 | Q19: 5734 | S19: 2978 | T19: 10943 | V19: 2348 | W19: 5796 | Y19: 3316 | Z19: 11460 | AB19: 2371 | AC19: 5861 | AE19: 3080
B20: Suma de 6 A 92 | D20: 4617 | E20: 8356 | G20: 3626 | H20: 16599 | J20: 4644 | K20: 9377 | M20: 3908 | N20: 17929 | P20: 4341 | Q20: 7074 | S20: 3583 | T20: 14998 | V20: 4463 | W20: 7144 | Y20: 3821 | Z20: 15428 | AB20: 4141 | AC20: 6783 | AE20: 3682
B21: Suma de 10 A 112 | D21: 1271 | E21: 6430 | G21: 2404 | H21: 10105 | J21: 1244 | K21: 6867 | M21: 2547 | N21: 10658 | P21: 1155 | Q21: 5099 | S21: 2406 | T21: 8660 | V21: 1226 | W21: 4761 | Y21: 2497 | Z21: 8484 | AB21: 1207 | AC21: 4970 | AE21: 2438
A22: Total Suma de Total Cupos Solicitados | C22: 78312 | D22: 52169 | E22: 35204 | F22: 20498 | G22: 25925 | H22: 212108 | I22: 77524 | J22: 53510 | K22: 37683 | L22: 18208 | M22: 28521 | N22: 215446 | O22: 77523 | P22: 51043 | Q22: 28430 | R22: 16369 | S22: 26815 | T22: 200180 | U22: 79144 | V22: 53689 | W22: 28920 | X22: 16332 | Y22: 28892 | Z22: 206977 | AA22: 71536 | AB22: 49990 | AC22: 27846 | AD22: 16108 | AE22: 26711
A23: Total Suma de T2 | C23: 6573 | D23: 3899 | E23: 3349 | F23: 1595 | G23: 2533 | H23: 17949 | I23: 6447 | J23: 4017 | K23: 3560 | L23: 1345 | M23: 2770 | N23: 18139 | O23: 6565 | P23: 3701 | Q23: 2680 | R23: 1360 | S23: 2613 | T23: 16919 | U23: 6546 | V23: 3884 | W23: 2974 | X23: 1689 | Y23: 3030 | Z23: 18123 | AA23: 5933 | AB23: 3754 | AC23: 2678 | AD23: 1574 | AE23: 2758
A24: Total Suma de 1 A 32 | C24: 21711 | D24: 12129 | E24: 9736 | F24: 4813 | G24: 7848 | H24: 56237 | I24: 21152 | J24: 12608 | K24: 10221 | L24: 4117 | M24: 9075 | N24: 57173 | O24: 21158 | P24: 11828 | Q24: 7843 | R24: 3713 | S24: 8429 | T24: 52971 | U24: 21694 | V24: 12341 | W24: 8245 | X24: 4288 | Y24: 9281 | Z24: 55849 | AA24: 20013 | AB24: 11588 | AC24: 7554 | AD24: 4237 | AE24: 8317
A25: Total Suma de 4 A 52 | C25: 14663 | D25: 9330 | E25: 7333 | F25: 3371 | G25: 4616 | H25: 39313 | I25: 14292 | J25: 9709 | K25: 7658 | L25: 2916 | M25: 5175 | N25: 39750 | O25: 14339 | P25: 9129 | Q25: 5734 | R25: 2801 | S25: 4828 | T25: 36831 | U25: 14694 | V25: 9627 | W25: 5796 | X25: 2637 | Y25: 5207 | Z25: 37961 | AA25: 12681 | AB25: 9001 | AC25: 5861 | AD25: 2753 | AE25: 4738
A26: Total Suma de 6 A 92 | C26: 24437 | D26: 20586 | E26: 8356 | F26: 5710 | G26: 6037 | H26: 65126 | I26: 24860 | J26: 20979 | K26: 9377 | L26: 5055 | M26: 6471 | N26: 66742 | O26: 24669 | P26: 20707 | Q26: 7074 | R26: 4949 | S26: 6012 | T26: 63411 | U26: 25048 | V26: 21531 | W26: 7144 | X26: 4290 | Y26: 6284 | Z26: 64297 | AA26: 22462 | AB26: 19745 | AC26: 6783 | AD26: 4029 | AE26: 5977
A27: Total Suma de 10 A 112 | C27: 10928 | D27: 6225 | E27: 6430 | F27: 5009 | G27: 4891 | H27: 33483 | I27: 10773 | J27: 6197 | K27: 6867 | L27: 4775 | M27: 5030 | N27: 33642 | O27: 10792 | P27: 5678 | Q27: 5099 | R27: 3546 | S27: 4933 | T27: 30048 | U27: 11162 | V27: 6306 | W27: 4761 | X27: 3428 | Y27: 5090 | Z27: 30747 | AA27: 10447 | AB27: 5902 | AC27: 4970 | AD27: 3515 | AE27: 4921
B30: ampm | C30: almuerzo | D30: RI
A31: RPS_ Transición (3 a 5 años 11 meses) | B31: =+E17+K17+Q17+W17+AC17 -> 15241 | C31: =+F5+L5+R5+X5+AD5 -> 7563 | D31: =+C11+I11+O11+U11+AA11 -> 32064
A32: RPS_Primaria 1°-2°-3° (6 a 8 años 11 meses) | B32: =+E18+K18+Q18+W18+AC18 -> 43599 | C32: =+F6+L6+R6+X6+AD6 -> 21168 | D32: =+C12+I12+O12+U12+AA12 -> 105728
A33: RPS_Primaria 4°-5° (9 a 10 años 11 meses) | B33: =+E19+K19+Q19+W19+AC19 -> 32382 | C33: =+F7+L7+R7+X7+AD7 -> 14478 | D33: =+C13+I13+O13+U13+AA13 -> 70669
A34: RPS_Secundaria 6°-7°-8°-9° (11 a 14 años 11 meses) | B34: =+E20+K20+Q20+W20+AC20 -> 38734 | C34: =+F8+L8+R8+X8+AD8 -> 24033 | D34: =+C14+I14+O14+U14+AA14 -> 121476
A35: RPS_Media y Complemetario 10°-11° (15 a 17 años 11 meses) | B35: =+E21+K21+Q21+W21+AC21 -> 28127 | C35: =+F9+L9+R9+X9+AD9 -> 20273 | D35: =+C15+I15+O15+U15+AA15 -> 54102
A36: Ración de Contingencia Transición (3 a 5 años 11 meses) | B36: =+G17+M17+S17+Y17+AE17 -> 9462 | C36: =+G5+M5+S5+Y5+AE5 -> 4242
A37: Ración de Contingencia Primaria 1°-2°-3° (6 a 8 años 11 meses) | B37: =+G18+M18+S18+Y18+AE18 -> 27146 | C37: =+G6+M6+S6+Y6+AE6 -> 15804
A38: Ración de Contingencia Primaria 4°-5° (9 a 10 años 11 meses) | B38: =+G19+M19+S19+Y19+AE19 -> 15596 | C38: =+G7+M7+S7+Y7+AE7 -> 8968
A39: Ración de Contingencia Secundaria 6°-7°-8°-9° (11 a 14 años 11 meses) | B39: =+G20+M20+S20+Y20+AE20 -> 18620 | C39: =+G8+M8+S8+Y8+AE8 -> 12161
A40: Ración de Contingencia Media y Complemetario 10°-11° (15 a 17 años 11 meses) | B40: =+G21+M21+S21+Y21+AE21 -> 12292 | C40: =+G9+M9+S9+Y9+AE9 -> 12573
A41: Vaso de Leche (3 a 5 años 11 meses) | B41: =+D17+J17+P17+V17+AB17 -> 5534 | C41: =+D5+J5+P5+V5+AB5 -> 11187 | D41: =+D11+J11+P11+V11+AB11 -> 2534
A42: Vaso de Leche 1°-2°-3° (6 a 8 años 11 meses) | B42: =+D18+J18+P18+V18+AB18 -> 17810 | C42: =+D6+J6+P6+V6+AB6 -> 36443 | D42: =+D12+J12+P12+V12+AB12 -> 6241
A43: Vaso de Leche 4°-5° (9 a 10 años 11 meses) | B43: =+D19+J19+P19+V19+AB19 -> 11799 | C43: =+D7+J7+P7+V7+AB7 -> 31134 | D43: =+D13+J13+P13+V13+AB13 -> 3863
A44: Vaso de Leche 6°-7°-8°-9° (11 a 14 años 11 meses) | B44: =+D20+J20+P20+V20+AB20 -> 22206 | C44: =+D8+J8+P8+V8+AB8 -> 67306 | D44: =+D14+J14+P14+V14+AB14 -> 14036
A45: vaso de Leche 10°-11° (15 a 17 años 11 meses) | B45: =+D21+J21+P21+V21+AB21 -> 6103 | C45: =+D9+J9+P9+V9+AB9 -> 17888 | D45: =+D15+J15+P15+V15+AB15 -> 6317
B46: =SUM(B31:B45) -> 304651 | C46: =SUM(C31:C45) -> 305221 | D46: =SUM(D31:D45) -> 417030 | E46: =SUM(B46:D46) -> 1026902
A49: CUPOS SOLICITADOS ATENCIÓN PAE
A50: Semana del 20 al 24 de Enero de 2024
A51: MODALIDAD | B51: 45677 | C51: 45678 | D51: 45679 | E51: 45680 | F51: 45681 | G51: Total raciones solicitadas | H51: Promedio dia programado
A52: COMPLEMENTOS AM/PM | B52: 38801 | C52: 39101 | D52: 35081 | E52: 31153 | F52: 30007 | G52: 174143 | H52: 34828.6
A53: COMPLEMENTO / ALMUERZO | B53: 21938 | C53: 20770 | D53: 17875 | E53: 16816 | F53: 15615 | G53: 93014 | H53: 18602.8
A54: RACIÓN INDUSTRIALIZADA | B54: 59093 | C54: 69074 | D54: 69063 | E54: 71540 | G54: 268770 | H54: 67192.5
A55: VASO DE LECHE | B55: 40877 | C55: 43624 | D55: 46290 | E55: 46171 | G55: 176962 | H55: 44240.5
A56: RACION DE CONTINGENCIA | B56: 20941 | C56: 25402 | D56: 26043 | E56: 28215 | G56: 100601 | H56: 25150.25
A57: TOTAL | B57: 181650 | C57: 197971 | D57: 194352 | E57: 193895 | F57: 45622 | G57: 813490 | H57: 162698

Sheet Escen_Nuevo
A1: Lote 1 RPS_RC_VL
A2: Costo Ración Proyectado Junio
A3: TIPO | B3: Escenario_3 | C3: Escenario_Nuevo | D3: Diferencia
A4: RPS_ Transición (3 a 5 años 11 meses) | B4: 5732 | C4: 5717 | D4: =+B4-C4 -> 15
A5: RPS_Primaria 1°-2°-3° (6 a 8 años 11 meses) | B5: 6156 | C5: 6138 | D5: =+B5-C5 -> 18
A6: RPS_Primaria 4°-5° (9 a 10 años 11 meses) | B6: 6418 | C6: 6399 | D6: =+B6-C6 -> 19
A7: RPS_Secundaria 6°-7°-8°-9° (11 a 14 años 11 meses) | B7: 6986 | C7: 6963 | D7: =+B7-C7 -> 23
A8: RPS_Media y Complemetario 10°-11° (15 a 17 años 11 meses) | B8: 7287 | C8: 7262 | D8: =+B8-C8 -> 25
A9: Ración de Contingencia Transición (3 a 5 años 11 meses) | B9: 4696 | C9: 4685 | D9: =+B9-C9 -> 11
A10: Ración de Contingencia Primaria 1°-2°-3° (6 a 8 años 11 meses) | B10: 5272 | C10: 5262 | D10: =+B10-C10 -> 10
A11: Ración de Contingencia Primaria 4°-5° (9 a 10 años 11 meses) | B11: 6335 | C11: 6322 | D11: =+B11-C11 -> 13
A12: Ración de Contingencia Secundaria 6°-7°-8°-9° (11 a 14 años 11 meses) | B12: 6679 | C12: 6666 | D12: =+B12-C12 -> 13
A13: Ración de Contingencia Media y Complemetario 10°-11° (15 a 17 años 11 meses) | B13: 6870 | C13: 6857 | D13: =+B13-C13 -> 13
A14: Vaso de Leche (3 a 5 años 11 meses) | B14: 4692 | C14: 4682 | D14: =+B14-C14 -> 10
A15: Vaso de Leche 1°-2°-3° (6 a 8 años 11 meses) | B15: 5269 | C15: 5259 | D15: =+B15-C15 -> 10
... A18: vaso de Leche 10°-11° (15 a 17 años 11 meses) | B18: 6865 | C18: 6853 | D18: =+B18-C18 -> 12

Sheet Lote_1 (2)
A2: Lote 1 RPS_RC_VL
A3: Costo Ración Proyectado Junio | D3: REVISION
A4: TIPO | B4: Escenario_3 | D4: Valor racion febrero | E4: Valor racion Marzo | H4: valor ración Abril | K4: Valor racion Mayo (valores reportados por la interventoria) | N4: Valor ración proyección montes Junio
A5: RPS_ Transición (3 a 5 años 11 meses) | B5: 5732 | D5: 5684 | E5: 5687 | F5: =+E5-D5 -> 3 | G5: =+F5/D5 -> 0.00052779733 | H5: 5695 | I5: =+H5-E5 -> 8 | J5: =+I5/E5 -> 0.0014067171 | K5: 5684 | L5: =+K5-H5 -> -11 | M5: =+L5/H5 -> -0.0019315189 | N5: =+B5 -> 5732 | O5: =+N5-K5 -> 48 | P5: =+O5/K5 -> 0.0084447572 | Q5: Montes revisar nuevamente porque el porcentaje se incrementa mucho para junio. Yo entiendo el ejercicio que me mostraste ayer, pero al comparar con los meses anteriores el porcentaje es muy alto, incluso supera el porcentaje del ipa por alimento + la constante
A6: RPS_Primaria 1°-2°-3° (6 a 8 años 11 meses) | B6: 6156 | D6: 6101 | E6: 6105 | F6: =+E6-D6 -> 4 | G6: =+F6/D6 -> 0.00065563022 | H6: 6114 | I6: =+H6-E6 -> 9 | J6: =+I6/E6 -> 0.0014742015 | K6: 6101 | L6: =+K6-H6 -> -13 | M6: =+L6/H6 -> -0.0021262676 | N6: =+B6 -> 6156 | O6: =+N6-K6 -> 55 | P6: =+O6/K6 -> 0.0090149156
A7: RPS_Primaria 4°-5° (9 a 10 años 11 meses) | B7: 6418 | D7: 6363 | E7: 6366 | F7: =+E7-D7 -> 3 | G7: =+F7/D7 -> 0.00047147572 | H7: 6375 | I7: =+H7-E7 -> 9 | J7: =+I7/E7 -> 0.0014137606 | K7: 6360 | L7: =+K7-H7 -> -15 | M7: =+L7/H7 -> -0.0023529412 | N7: =+B7 -> 6418 | O7: =+N7-K7 -> 58 | P7: =+O7/K7 -> 0.0091194969
A8: RPS_Secundaria 6°-7°-8°-9° (11 a 14 años 11 meses) | B8: 6986 | D8: 6924 | E8: 6928 | F8: =+E8-D8 -> 4 | G8: =+F8/D8 -> 0.00057770075 | H8: 6937 | I8: =+H8-E8 -> 9 | J8: =+I8/E8 -> 0.0012990762 | K8: 6919 | L8: =+K8-H8 -> -18 | M8: =+L8/H8 -> -0.0025947816 | N8: =+B8 -> 6986 | O8: =+N8-K8 -> 67 | P8: =+O8/K8 -> 0.0096834803
A9: RPS_Media y Complemetario 10°-11° (15 a 17 años 11 meses) | B9: 7287 | D9: 7220 | E9: 7224 | F9: =+E9-D9 -> 4 | G9: =+F9/D9 -> 0.00055401662 | H9: 7234 | I9: =+H9-E9 -> 10 | J9: =+I9/E9 -> 0.0013842746 | K9: 7214 | L9: =+K9-H9 -> -20 | M9: =+L9/H9 -> -0.0027647221 | N9: =+B9 -> 7287 | O9: =+N9-K9 -> 73 | P9: =+O9/K9 -> 0.010119213
A10: Ración de Contingencia Transición (3 a 5 años 11 meses) | B10: 4696 | D10: 4616 | E10: 4629 | F10: =+E10-D10 -> 13 | G10: =+F10/D10 -> 0.0028162912 | H10: 4645 | I10: =+H10-E10 -> 16 | J10: =+I10/E10 -> 0.0034564701 | K10: 4638 | L10: =+K10-H10 -> -7 | M10: =+L10/H10 -> -0.0015069968 | N10: =+B10 -> 4696 | O10: =+N10-K10 -> 58 | P10: =+O10/K10 -> 0.01250539
A11: Ración de Contingencia Primaria 1°-2°-3° (6 a 8 años 11 meses) | B11: 5272 | D11: 5174 | E11: 5190 | F11: =+E11-D11 -> 16 | G11: =+F11/D11 -> 0.003092385 | H11: 5210 | I11: =+H11-E11 -> 20 | J11: =+I11/E11 -> 0.0038535645 | K11: 5204 | L11: =+K11-H11 -> -6 | M11: =+L11/H11 -> -0.0011516315 | N11: =+B11 -> 5272 | O11: =+N11-K11 -> 68 | P11: =+O11/K11 -> 0.013066872
A12: Ración de Contingencia Primaria 4°-5° (9 a 10 años 11 meses) | B12: 6335 | D12: 6201 | E12: 6224 | F12: =+E12-D12 -> 23 | G12: =+F12/D12 -> 0.0037090792 | H12: 6250 | I12: =+H12-E12 -> 26 | J12: =+I12/E12 -> 0.0041773779 | K12: 6247 | L12: =+K12-H12 -> -3 | M12: =+L12/H12 -> -0.00048 | N12: =+B12 -> 6335 | O12: =+N12-K12 -> 88 | P12: =+O12/K12 -> 0.014086762
A13: Ración de Contingencia Secundaria 6°-7°-8°-9° (11 a 14 años 11 meses) | B13: 6679 | D13: 6535 | E13: 6560 | F13: =+E13-D13 -> 25 | G13: =+F13/D13 -> 0.0038255547 | H13: 6588 | I13: =+H13-E13 -> 28 | J13: =+I13/E13 -> 0.0042682927 | K13: 6585 | L13: =+K13-H13 -> -3 | M13: =+L13/H13 -> -0.00045537341 | N13: =+B13 -> 6679 | O13: =+N13-K13 -> 94 | P13: =+O13/K13 -> 0.014274867
A14: Ración de Contingencia Media y Complemetario 10°-11° (15 a 17 años 11 meses) | B14: 6870 | D14: 6725 | E14: 6750 | F14: =+E14-D14 -> 25 | G14: =+F14/D14 -> 0.0037174721 | H14: 6778 | I14: =+H14-E14 -> 28 | J14: =+I14/E14 -> 0.0041481481 | K14: 6776 | L14: =+K14-H14 -> -2 | M14: =+L14/H14 -> -0.00029507229 | N14: =+B14 -> 6870 | O14: =+N14-K14 -> 94 | P14: =+O14/K14 -> 0.013872491
A15: Vaso de Leche (3 a 5 años 11 meses) | B15: 4692 | D15: 4615 | E15: 4628 | F15: =+E15-D15 -> 13 | G15: =+F15/D15 -> 0.0028169014 | H15: 4643 | I15: =+H15-E15 -> 15 | J15: =+I15/E15 -> 0.0032411409 | K15: 4636 | L15: =+K15-H15 -> -7 | M15: =+L15/H15 -> -0.0015076459 | N15: =+B15 -> 4692 | O15: =+N15-K15 -> 56 | P15: =+O15/K15 -> 0.012079379
A16: Vaso de Leche 1°-2°-3° (6 a 8 años 11 meses) | B16: 5269 | D16: 5173 | E16: 5189 | F16: =+E16-D16 -> 16 | G16: =+F16/D16 -> 0.0030929828 | H16: 5208 | I16: =+H16-E16 -> 19 | J16: =+I16/E16 -> 0.0036615918 | K16: 5203 | L16: =+K16-H16 -> -5 | M16: =+L16/H16 -> -0.00096006144 | N16: =+B16 -> 5269 | O16: =+N16-K16 -> 66 | P16: =+O16/K16 -> 0.012684989
A17: Vaso de Leche 4°-5° (9 a 10 años 11 meses) | B17: 6332 | D17: 6202 | E17: 6224 | F17: =+E17-D17 -> 22 | G17: =+F17/D17 -> 0.0035472428 | H17: 6250 | I17: =+H17-E17 -> 26 | J17: =+I17/E17 -> 0.0041773779 | K17: 6246 | L17: =+K17-H17 -> -4 | M17: =+L17/H17 -> -0.00064 | N17: =+B17 -> 6332 | O17: =+N17-K17 -> 86 | P17: =+O17/K17 -> 0.013768812
... A19: vaso de Leche 10°-11° (15 a 17 años 11 meses) | B19: 6865 | D19: 6723 | E19: 6747 | F19: =+E19-D19 -> 24 | G19: =+F19/D19 -> 0.0035698349 | H19: 6775 | I19: =+H19-E19 -> 28 | J19: =+I19/E19 -> 0.0041499926 | K19: 6773 | L19: =+K19-H19 -> -2 | M19: =+L19/H19 -> -0.00029520295 | N19: =+B19 -> 6865 | O19: =+N19-K19 -> 92 | P19: =+O19/K19 -> 0.013583346
A22: Costo Ración Proyectado Julio
A23: TIPO | B23: Escenario_3
A24: RPS_ Transición (3 a 5 años 11 meses) | B24: 5792
A25: RPS_Primaria 1°-2°-3° (6 a 8 años 11 meses) | B25: 6226
A26: RPS_Primaria 4°-5° (9 a 10 años 11 meses) | B26: 6492
A27: RPS_Secundaria 6°-7°-8°-9° (11 a 14 años 11 meses) | B27: 7073
A28: RPS_Media y Complemetario 10°-11° (15 a 17 años 11 meses) | B28: 7383
A29: Ración de Contingencia Transición (3 a 5 años 11 meses) | B29: 4762
A30: Ración de Contingencia Primaria 1°-2°-3° (6 a 8 años 11 meses) | B30: 5350
A31: Ración de Contingencia Primaria 4°-5° (9 a 10 años 11 meses) | B31: 6436
A32: Ración de Contingencia Secundaria 6°-7°-8°-9° (11 a 14 años 11 meses) | B32: 6786
A33: Ración de Contingencia Media y Complemetario 10°-11° (15 a 17 años 11 meses) | B33: 6977
A34: Vaso de Leche (3 a 5 años 11 meses) | B34: 4757
A35: Vaso de Leche 1°-2°-3° (6 a 8 años 11 meses) | B35: 5344
... A38: vaso de Leche 10°-11° (15 a 17 años 11 meses) | B38: 6970
A41: Costo Ración Proyectado Agosto
A42: TIPO | B42: Escenario_3
A43: RPS_ Transición (3 a 5 años 11 meses) | B43: 5853
A44: RPS_Primaria 1°-2°-3° (6 a 8 años 11 meses) | B44: 6299
A45: RPS_Primaria 4°-5° (9 a 10 años 11 meses) | B45: 6567
A46: RPS_Secundaria 6°-7°-8°-9° (11 a 14 años 11 meses) | B46: 7164
A47: RPS_Media y Complemetario 10°-11° (15 a 17 años 11 meses) | B47: 7484
A48: Ración de Contingencia Transición (3 a 5 años 11 meses) | B48: 4821
A49: Ración de Contingencia Primaria 1°-2°-3° (6 a 8 años 11 meses) | B49: 5418
A50: Ración de Contingencia Primaria 4°-5° (9 a 10 años 11 meses) | B50: 6526
A51: Ración de Contingencia Secundaria 6°-7°-8°-9° (11 a 14 años 11 meses) | B51: 6883
A52: Ración de Contingencia Media y Complemetario 10°-11° (15 a 17 años 11 meses) | B52: 7073
A53: Vaso de Leche (3 a 5 años 11 meses) | B53: 4813
A54: Vaso de Leche 1°-2°-3° (6 a 8 años 11 meses) | B54: 5411
... A57: vaso de Leche 10°-11° (15 a 17 años 11 meses) | B57: 7064
A60: Costo Ración Proyectado Septiembre
A61: TIPO | B61: Escenario_3
A62: RPS_ Transición (3 a 5 años 11 meses) | B62: 5925
A63: RPS_Primaria 1°-2°-3° (6 a 8 años 11 meses) | B63: 6386
A64: RPS_Primaria 4°-5° (9 a 10 años 11 meses) | B64: 6658
A65: RPS_Secundaria 6°-7°-8°-9° (11 a 14 años 11 meses) | B65: 7273
A66: RPS_Media y Complemetario 10°-11° (15 a 17 años 11 meses) | B66: 7608
A67: Ración de Contingencia Transición (3 a 5 años 11 meses) | B67: 4881
A68: Ración de Contingencia Primaria 1°-2°-3° (6 a 8 años 11 meses) | B68: 5488
A69: Ración de Contingencia Primaria 4°-5° (9 a 10 años 11 meses) | B69: 6619
A70: Ración de Contingencia Secundaria 6°-7°-8°-9° (11 a 14 años 11 meses) | B70: 6982
A71: Ración de Contingencia Media y Complemetario 10°-11° (15 a 17 años 11 meses) | B71: 7172
A72: Vaso de Leche (3 a 5 años 11 meses) | B72: 4872
A73: Vaso de Leche 1°-2°-3° (6 a 8 años 11 meses) | B73: 5479
... A76: vaso de Leche 10°-11° (15 a 17 años 11 meses) | B76: 7161
