Workbook

Sheet PF 2010.2021 HECaa
B1: 2019 | F1: 2020 | J1: 2021 | N1: 2022 | V1: 2023 (Corte a Octubre 2023) | AD1: 2024 (Corte a Diciembre 2024)
B2: PLANTILLAS OPERATIVAS | C2: PF | F2: PLANTILLAS OPERATIVAS | G2: PF | J2: PLANTILLAS OPERATIVAS | K2: PF | M2: No. | N2: PLANTILLAS OPERATIVAS | O2: PF | U2: No. | V2: PLANTILLAS OPERATIVAS | W2: PF | AC2: No. | AD2: PLANTILLAS OPERATIVAS | AE2: PF
A3: 1 | B3: Actividad Cultural | C3: 0.5 | E3: 1 | F3: Actividad Cultural | G3: 0.5 | I3: 1 | J3: Actividad Cultural | K3: 0.5 | M3: 1 | N3: Actividad cultural | O3: 0.5 | U3: 1 | V3: Actividad cultural | W3: 0.5 | AC3: 1 | AD3: Actividad cultural | AE3: 0.5
A4: 2 | B4: Actividad de Bienestar | C4: 0.5 | E4: 2 | F4: Actividad de Bienestar | G4: 0.5 | I4: 2 | J4: Actividad de Bienestar | K4: 0.5 | M4: 2 | N4: Actividad de bienestar | O4: 0.5 | U4: 2 | V4: Actividad de bienestar | W4: 0.5 | AC4: 2 | AD4: Actividad de bienestar | AE4: 0.5
A5: 3 | B5: Actualizar documento inscritos | C5: 0.5 | E5: 3 | F5: Actualizar documento inscritos | G5: 0.5 | I5: 3 | J5: Actualizar documento inscritos | K5: 0.5 | M5: 3 | N5: Actualizar documento inscritos | O5: 0.5 | U5: 3 | V5: Actualizar documento inscritos | W5: 0.5 | AC5: 3 | AD5: Actualizar documento inscritos | AE5: 0.5
A6: 4 | B6: Actualizar documento participante | C6: 0.5 | E6: 4 | F6: Actualizar documento participante | G6: 0.5 | I6: 4 | J6: Actualizar documento participante | K6: 0.5 | M6: 4 | N6: Actualizar documento participante | O6: 0.5 | U6: 4 | V6: Actualizar documento participante | W6: 0.5 | AC6: 4 | AD6: Actualizar documento participante | AE6: 0.5
A7: 5 | B7: Actualizar participante MEN - MDM | C7: 0.5 | E7: 5 | F7: Actualizar participante MEN - MDM | G7: 0.5 | I7: 5 | J7: Actualizar participante MEN - MDM | K7: 0.5 | M7: 5 | N7: Actualizar participante MEN - MDM | O7: 0.5 | U7: 5 | V7: Actualizar participante MEN - MDM | W7: 0.5 | AC7: 5 | AD7: Actualizar participante MEN - MDM | AE7: 0.5
A8: 6 | B8: Admitidos | C8: 0.5 | E8: 6 | F8: Admitidos | G8: 0.5 | I8: 6 | J8: Admitidos | K8: 0.5 | M8: 6 | N8: Admitidos | O8: 0.5 | U8: 6 | V8: Admitidos | W8: 0.5 | AC8: 6 | AD8: Admitidos | AE8: 0.5
A9: 7 | B9: Apoyos financieros, académicos u otros | C9: 0.5 | E9: 7 | F9: Apoyos financieros, académicos u otros | G9: 0.5 | I9: 7 | J9: Apoyos financieros, académicos u otros | K9: 0.5 | M9: 7 | N9: Apoyos financieros, académicos u otros | O9: 0.5 | U9: 7 | V9: Apoyos financieros, académicos u otros | W9: 0.5 | AC9: 7 | AD9: Apoyos financieros, académicos u otros | AE9: 0.5
A10: 8 | B10: Autoridades | C10: 0.5 | E10: 8 | F10: Aprobados Equidad | G10: 0.5 | I10: 8 | J10: Aprobados equidad | K10: 0.5 | M10: 8 | N10: Aprobados equidad | O10: 0.5 | U10: 8 | V10: Aprobados equidad | W10: 0.5 | AC10: 8 | AD10: Aprobados equidad | AE10: 0.5
A11: 9 | B11: Balance General y Estado de Resultado | C11: 0.5 | E11: 9 | F11: Aprobados Excelencia | G11: 0.5 | I11: 9 | J11: Aprobados excelencia | K11: 0.5 | M11: 9 | N11: Aprobados excelencia | O11: 0.5 | U11: 9 | V11: Aprobados excelencia | W11: 0.5 | AC11: 9 | AD11: Aprobados excelencia | AE11: 0.5
A12: 10 | B12: Centros de Investigación | C12: 0.5 | E12: 10 | F12: Audiencia de campañas | G12: 0.5 | I12: 10 | J12: Audiencia de campañas | K12: 0.5 | M12: 10 | N12: Audiencia de campañas | O12: 0.5 | U12: 10 | V12: Aprobados extemporáneos FSE | W12: 1 | AC12: 10 | AD12: Aprobados extemporáneos FSE | AE12: 1
A13: 11 | B13: Consultoría | C13: 0.5 | E13: 11 | F13: Autoridades | G13: 0.5 | I13: 11 | J13: Autoridades | K13: 0.5 | M13: 11 | N13: Autoridades | O13: 0.5 | U13: 11 | V13: Audiencia de campañas | W13: 0.5 | AC13: 11 | AD13: Audiencia de campañas | AE13: 0.5
A14: 12 | B14: Convenios Internacionales | C14: 0.5 | E14: 12 | F14: Balance General y Estado de Resultado | G14: 0.5 | I14: 12 | J14: Balance General y Estado de Resultado | K14: 0.5 | M14: 12 | N14: Balance general y estado de resultado | O14: 0.5 | U14: 12 | V14: Autoridades | W14: 0.5 | AC14: 12 | AD14: Autoridades | AE14: 0.5
... A76: 74 | B76: Valores de Matrícula IES Públicas desde 2018 | C76: 0.5 | E76: 74 | F76: Programas presenciales ofrecidos en el exterior | G76: 0.5 | I76: 74 | J76: Plan Único de Cuentas desde 2018 | K76: 0.5 | M76: 74 | N76: Otros derechos pecuniarios ies públicas desde 2018 | O76: 0.5 | U76: 74 | V76: Otras actividades de investigación | W76: 0.5 | AC76: 74 | AD76: Otras actividades de investigación | AE76: 0.5
E77: 75 | F77: Programas Ser Pilo Paga | G77: 0.5 | I77: 75 | J77: Productos de Investigación | K77: 0.5 | M77: 75 | N77: Participante | O77: 0.5 | U77: 75 | V77: Otros derechos pecuniarios ies privadas desde 2018 | W77: 0.5 | AC77: 75 | AD77: Otros derechos pecuniarios ies privadas desde 2018 | AE77: 0.5
E78: 76 | F78: Proyecto de Extensión | G78: 0.5 | I78: 76 | J78: Programas presenciales ofrecidos en el exterior | K78: 0.5 | M78: 76 | N78: Participante MEN | O78: 0.5 | U78: 76 | V78: Otros derechos pecuniarios ies públicas desde 2018 | W78: 0.5 | AC78: 76 | AD78: Otros derechos pecuniarios ies públicas desde 2018 | AE78: 0.5
E79: 77 | F79: Proyectos de Inversión | G79: 0.5 | I79: 77 | J79: Programas Ser Pilo Paga | K79: 0.5 | M79: 77 | N79: Personal administrativo | O79: 0.5 | U79: 77 | V79: Participante | W79: 0.5 | AC79: 77 | AD79: Participante | AE79: 0.5
E80: 78 | F80: Proyectos de Investigación | G80: 0.5 | I80: 78 | J80: Proyecto de Extensión | K80: 0.5 | M80: 78 | N80: Plan unico de cuentas (aplica hasta 2017) | O80: 0.5 | U80: 78 | V80: Participante MEN | W80: 0.5 | AC80: 78 | AD80: Participante MEN | AE80: 0.5
E81: 79 | F81: Recursos histórico | G81: 0.5 | I81: 79 | J81: Proyectos de Inversión | K81: 0.5 | M81: 79 | N81: Plan Único de Cuentas desde 2018 | O81: 0.5 | U81: 80 | V81: Plan unico de cuentas (aplica hasta 2017) | W81: 0.5 | AC81: 80 | AD81: Plan unico de cuentas (aplica hasta 2017) | AE81: 0.5
E82: 80 | F82: Redes de Investigación | G82: 0.5 | I82: 80 | J82: Proyectos de Investigación | K82: 0.5 | M82: 80 | N82: Productos de investigación | O82: 0.5 | U82: 81 | V82: Plan Único de Cuentas desde 2018 | W82: 0.5 | AC82: 81 | AD82: Plan Único de Cuentas desde 2018 | AE82: 0.5
E83: 81 | F83: Retiros Estudiantiles | G83: 0.5 | I83: 81 | J83: Recursos histórico | K83: 0.5 | M83: 81 | N83: Programas presenciales ofrecidos en el exterior | O83: 0.5 | U83: 82 | V83: Productos de investigación | W83: 0.5 | AC83: 82 | AD83: Productos de investigación | AE83: 0.5
E84: 82 | F84: Servicios de Extensión | G84: 0.5 | I84: 82 | J84: Redes de Investigación | K84: 0.5 | M84: 82 | N84: Programas ser pilo paga | O84: 0.5 | U84: 83 | V84: Programas medidas transitorias - decreto 1174 | W84: 0.5 | AC84: 83 | AD84: Programas medidas transitorias - decreto 1174 | AE84: 0.5
E85: 83 | F85: Unidad Organizacional | G85: 0.5 | I85: 83 | J85: Reporte especializaciones médico quirúrgicas | K85: 0.5 | M85: 83 | N85: Proyecto de extensión | O85: 0.5 | U85: 84 | V85: Programas presenciales ofrecidos en el exterior | W85: 0.5 | AC85: 84 | AD85: Programas presenciales ofrecidos en el exterior | AE85: 0.5
E86: 84 | F86: Valor Matrícula por programa hasta 2017 | G86: 0.5 | I86: 84 | J86: Retiros Estudiantiles | K86: 0.5 | M86: 84 | N86: Proyectos de inversión | O86: 0.5 | U86: 85 | V86: Programas ser pilo paga | W86: 0.5 | AC86: 85 | AD86: Programas ser pilo paga | AE86: 0.5
E87: 85 | F87: Valores de Matrícula IES Privadas desde 2018 | G87: 0.5 | I87: 85 | J87: Servicios de Extensión | K87: 0.5 | M87: 85 | N87: Proyectos de investigación | O87: 0.5 | U87: 86 | V87: Proyecto de extensión | W87: 0.5 | AC87: 86 | AD87: Proyecto de extensión | AE87: 0.5
E88: 86 | F88: Valores de Matrícula IES Públicas desde 2018 | G88: 0.5 | I88: 86 | J88: Unidad Organizacional | K88: 0.5 | M88: 86 | N88: Recursos histórico | O88: 0.5 | U88: 87 | V88: Proyectos de inversión | W88: 0.5 | AC88: 87 | AD88: Proyectos de inversión | AE88: 0.5
I89: 87 | J89: Vacunación | K89: 0.5 | M89: 87 | N89: Redes de investigación | O89: 0.5 | U89: 88 | V89: Proyectos de investigación | W89: 0.5 | AC89: 88 | AD89: Proyectos de investigación | AE89: 0.5
I90: 88 | J90: Valor Matrícula por programa hasta 2017 | K90: 0.5 | M90: 88 | N90: Reporte especializaciones médico quirúrgicas | O90: 0.5 | U90: 89 | V90: Recursos histórico | W90: 0.5 | AC90: 89 | AD90: Recursos histórico | AE90: 0.5
I91: 89 | J91: Valores de Matrícula IES Privadas desde 2018 | K91: 0.5 | M91: 89 | N91: Retiros estudiantiles | O91: 0.5 | U91: 90 | V91: Redes de investigación | W91: 0.5 | AC91: 90 | AD91: Redes de investigación | AE91: 0.5
I92: 90 | J92: Valores de Matrícula IES Públicas desde 2018 | K92: 0.5 | M92: 90 | N92: Servicios de extensión | O92: 0.5 | U92: 91 | V92: Reporte especializaciones médico quirúrgicas | W92: 0.5 | AC92: 91 | AD92: Reporte especializaciones médico quirúrgicas | AE92: 0.5
I93: 91 | J93: Vigencia Extendida | K93: 0.5 | M93: 91 | N93: Unidad organizacional | O93: 0.5 | U93: 92 | V93: Retiros estudiantiles | W93: 0.5 | AC93: 92 | AD93: Retiros estudiantiles | AE93: 0.5
M94: 92 | N94: Vacunación | O94: 0 | U94: 93 | V94: Servicios de extensión | W94: 0.5 | AC94: 93 | AD94: Servicios de extensión | AE94: 0.5
B95: REPORTES GENERALES | C95: PF | F95: REPORTES GENERALES | G95: PF | J95: REPORTES GENERALES | K95: PF | M95: 93 | N95: Valor matrícula por programa hasta 2017 | O95: 0.5 | U95: 94 | V95: Unidad organizacional | W95: 0.5 | AC95: 94 | AD95: Unidad organizacional | AE95: 0.5
A96: 1 | B96: Actividad Bienestar | C96: 0.5 | E96: 1 | F96: Actividad Bienestar | G96: 0.5 | I96: 1 | J96: Actividad Bienestar | K96: 0.5 | M96: 94 | N96: Valores de matrícula IES privadas desde 2018 | O96: 0.5 | U96: 95 | V96: Valor matrícula por programa hasta 2017 | W96: 0.5 | AC96: 95 | AD96: Valor matrícula por programa hasta 2017 | AE96: 0.5
A97: 2 | B97: Actividad Cultural | C97: 0.5 | E97: 2 | F97: Actividad Cultural | G97: 0.5 | I97: 2 | J97: Actividad Cultural | K97: 0.5 | M97: 95 | N97: Valores de matrícula IES públicas desde 2018 | O97: 0.5 | U97: 96 | V97: Valores de matrícula IES privadas desde 2018 | W97: 0.5 | AC97: 96 | AD97: Valores de matrícula IES privadas desde 2018 | AE97: 0.5
A98: 3 | B98: Admitidos | C98: 0.5 | E98: 3 | F98: Admitidos | G98: 0.5 | I98: 3 | J98: Administrativos | K98: 0.5 | M98: 96 | N98: Vigencia Extendida | O98: 0.5 | U98: 97 | V98: Valores de matrícula IES públicas desde 2018 | W98: 0.5 | AC98: 97 | AD98: Valores de matrícula IES públicas desde 2018 | AE98: 0.5
A99: 4 | B99: Apoyos de Estudiantes | C99: 0.5 | E99: 4 | F99: Apoyos de Estudiantes | G99: 0.5 | I99: 4 | J99: Admitidos | K99: 0.5 | U99: 98 | V99: Vigencia Extendida | W99: 0.5 | AC99: 98 | AD99: Vigencia Extendida | AE99: 0.5
A100: 5 | B100: Autoridades | C100: 0.5 | E100: 5 | F100: Autoridades | G100: 0.5 | I100: 5 | J100: Apoyos de Estudiantes | K100: 0.5 | M100: No. | N100: REPORTES GENERALES | O100: PF | AC100: 99 | AD100: Formato actualizar novedades gratuidad periodos cerrados ( cin 9 tipos de novedad) | AE100: 9
A101: 6 | B101: Balance General y Estado de Resultados | C101: 0.5 | E101: 6 | F101: Balance General y Estado de Resultados | G101: 0.5 | I101: 6 | J101: Autoridades | K101: 0.5 | M101: 1 | N101: Actividad Bienestar | O101: 0.5 | U101: No. | V101: REPORTES GENERALES | W101: PF
...

Sheet Resumen
D2: PLANTILLAS OPERATIVAS | F2: REPORTES GENERALES | H2: REPORTES DE INFORMACIÓN TOTAL POR SOLICITUD 1 A 1 (24) | J2: REPORTES SEGUIMIENTO, FINANCIEROS, GRATUIDAD Y OTROS | L2: TABLEROS, CONSULTAS ESPECIALES Y COMPONENTES ASOCIADOS | N2: MODULOS Y PROCESO ESPECIALES
D3: CANTIDAD | E3: PUNTOS DE FUNCIÓN | F3: CANTIDAD | G3: PUNTOS DE FUNCIÓN | H3: CANTIDAD | I3: PUNTOS DE FUNCIÓN | J3: CANTIDAD | K3: PUNTOS DE FUNCIÓN | L3: CANTIDAD | M3: PUNTOS DE FUNCIÓN | N3: CANTIDAD | O3: PUNTOS DE FUNCIÓN
C4: 2019 | D4: 74 | E4: =SUM('PF 2010.2021 HECaa'!C3:C76) -> 37 | F4: 58 | G4: =SUM('PF 2010.2021 HECaa'!C96:C153) -> 29 | H4: 10 | I4: =SUM('PF 2010.2021 HECaa'!C169:C178) -> 10 | J4: 38 | K4: =SUM('PF 2010.2021 HECaa'!C196:C254) -> 28 | L4: 10 | M4: =SUM('PF 2010.2021 HECaa'!C257:C266) -> 38 | N4: N/a | O4: N/a
C5: 2020 | D5: 86 | E5: =SUM('PF 2010.2021 HECaa'!G3:G88) -> 43 | F5: 69 | G5: =SUM('PF 2010.2021 HECaa'!G96:G164) -> 34.5 | H5: 24 | I5: =SUM('PF 2010.2021 HECaa'!G169:G192) -> 24 | J5: 39 | K5: =SUM('PF 2010.2021 HECaa'!G196:G253) -> 28.5 | L5: 9 | M5: =SUM('PF 2010.2021 HECaa'!G257:G266) -> 22 | N5: 12 | O5: =SUM('PF 2010.2021 HECaa'!G273:G287) -> 49
C6: 2021 | D6: 91 | E6: =SUM('PF 2010.2021 HECaa'!K3:K93) -> 45.5 | F6: 71 | G6: =SUM('PF 2010.2021 HECaa'!K96:K166) -> 35.5 | H6: 24 | I6: =SUM('PF 2010.2021 HECaa'!K169:K192) -> 24 | J6: 52 | K6: =SUM('PF 2010.2021 HECaa'!K196:K253) -> 35.5 | L6: 14 | M6: =SUM('PF 2010.2021 HECaa'!K257:K270) -> 29 | N6: 28 | O6: =SUM('PF 2010.2021 HECaa'!K273:K300) -> 103
C7: 2022 | D7: 96 | E7: 46.5 | F7: 78 | G7: 37.5 | H7: 24 | I7: 24 | J7: =12+15+12+12+8 -> 59 | K7: 46 | L7: 15 | M7: 29 | N7: 30 | O7: 133
C8: 2023 | D8: 98 | E8: 49.5 | F8: 79 | G8: 39.5 | H8: 24 | I8: 24 | J8: 65 | K8: 50 | L8: 15 | M8: 36 | N8: 30 | O8: 156
C9: 2024 | D9: 99 | E9: 58.5 | F9: 79 | G9: 39.5 | H9: 24 | I9: 24 | J9: 65 | K9: 50 | L9: 17 | M9: 50 | N9: 31 | O9: 188
D13: FUNCIONALIDADE DEL SNIES | F13: 2019 | G13: 2020 | H13: 2021 | I13: 2022 | J13: 2023 | K13: 2024
D14: PLANTILLAS OPERATIVAS | F14: =E4 -> 37 | G14: =E5 -> 43 | H14: =E6 -> 45.5 | I14: =E7 -> 46.5 | J14: =E8 -> 49.5 | K14: =E9 -> 58.5 | N14: VIGENCIA | O14: Tamaño de Software | P14: % crecimiento | Q14: Incremento para el siguiente año
D15: REPORTES GENERALES | F15: =G4 -> 29 | G15: =G5 -> 34.5 | H15: =G6 -> 35.5 | I15: =G7 -> 37.5 | J15: =G8 -> 39.5 | K15: =G9 -> 39.5 | N15: Año 2019 | O15: =SUM(F14:F19) -> 142 | P15: N/A
D16: REPORTES DE INFORMACIÓN TOTAL POR SOLICITUD 1 A 1 (24) | F16: =I4 -> 10 | G16: =I5 -> 24 | H16: =I6 -> 24 | I16: =I7 -> 24 | J16: =I8 -> 24 | K16: =I9 -> 24 | N16: Año 2020 | O16: =SUM(G14:G19) -> 201 | P16: =O16/O15-1 -> 0.41549296
D17: REPORTES SEGUIMIENTO, FINANCIEROS, GRATUIDAD Y OTROS | F17: =K4 -> 28 | G17: =K5 -> 28.5 | H17: =K6 -> 35.5 | I17: =K7 -> 46 | J17: =K8 -> 50 | K17: =K9 -> 50 | N17: Año 2021 | O17: =SUM(H14:H19) -> 272.5 | P17: =O17/O16-1 -> 0.35572139
D18: TABLEROS, CONSULTAS ESPECIALES Y COMPONENTES ASOCIADOS | F18: =M4 -> 38 | G18: =M5 -> 22 | H18: =M6 -> 29 | I18: =M7 -> 29 | J18: =M8 -> 36 | K18: =M9 -> 50 | N18: Año 2022 | O18: =SUM(I14:I19) -> 316 | P18: =O18/O17-1 -> 0.15963303 | Q18: 0.035
D19: MODULOS Y PROCESOS ESPECIALES | F19: =O4 -> N/a | G19: =O5 -> 49 | H19: =O6 -> 103 | I19: =O7 -> 133 | J19: =O8 -> 156 | K19: =O9 -> 188 | N19: Año 2023 | O19: =SUM(J14:J19) -> 355 | P19: =O19/O18-1 -> 0.12341772 | Q19: 0.045
D20: TOTAL | F20: =SUM(F14:F19) -> 142 | G20: =SUM(G14:G19) -> 201 | H20: =SUM(H14:H19) -> 272.5 | I20: =SUM(I14:I19) -> 316 | J20: =SUM(J14:J19) -> 355 | K20: =SUM(K14:K19) -> 410 | N20: Año 2024 | O20: =SUM(K14:K19) -> 410 | P20: =O20/O19-1 -> 0.15492958 | Q20: 0.092
