Workbook

Sheet PRESUPUESTO
C3: Formulario 1 - Propuesta económica - Documento tipo de licitación de obra pública de infraestructura de transporte - versión 4
C4: Código | D4: CCE-EICP-FM-14 | E4: Versión | F4: 4
C5: FORMULARIO 1
C6: PRESUPUESTO OFICIAL
C7: [La entidad puede utilizar este formulario de detalle del presupuesto oficial para determinar las condiciones bajo las cuales los proponentes analizarán y presentarán su propuesta económica de forma detallada, sin perjuicio que la entidad pueda modificarlo o establecer la presentación de la oferta económica con un formulario distinto al indicado.]
C9: Adicionalmente, cuando el proceso de contratación es estructurado por precios unitarios, la Entidad debe aplicar las notas 1, 2, 3,4 Y 5 del presente formulario y las casillas de "Descripción", "Porcentaje" de la Administración, Imprevisto, Utilidad y total A.I.U. resaltadas en color amarillo. Tratándose de otras modalidades de precio, la Entidad puede o no configurar los mismos aspectos.
C10: MANTENIMIENTO Y REHABILITACIÓN DE LA INFRAESTRUCTURA VIAL URBANA, MEDIANTE LA REPARACIÓN Y CONSTRUCCION DE PAVIMENTOS Y PEATONALES, SOBRE LAS AVENIDAS Y VÍAS DE MAYOR CIRCULACIÓN DE LA CIUDAD DE MANIZALES POR EL SISTEMA DE MONTO AGOTABLE
C12: Nº | D12: ÍTEM DE PAGO | E12: DESCRIPCIÓN | F12: UND. | G12: CANTIDAD | H12: VALOR UNITARIO | I12: VALOR TOTAL
C14: PRELIMINARES
C15: 1 | D15: =+APU!A5 -> 001.044 | E15: =+APU!C5 -> DESCAPOTE MANUAL e=0.20 m. | F15: =+APU!E5 -> M2 | G15: 1 | H15: =+APU!K5 -> 3863 | I15: =+ROUND(G15*H15,0) -> 3863
C16: 2 | D16: 001,049 | E16: =+APU!C10 -> SUMINISTRO, TRANSPORTE E INSTALACIÓN CERRAMIENTO EN YUTE H= 2 M | F16: =+APU!E10 -> ML | G16: 1 | H16: =+APU!K10 -> 19194 | I16: =+ROUND(G16*H16,0) -> 19194
C17: 3 | D17: 001.060 | E17: =+APU!C17 -> SUMINISTRO, TRANSPORTE E INSTALACION TECHADO MOVIBLE EN GUADUA Y PLÁSTICO | F17: M2 | G17: 1 | H17: =+APU!K17 -> 14735 | I17: =+ROUND(G17*H17,0) -> 14735
C18: 4 | D18: 001.085 | E18: =+APU!C25 -> LOCALIZACION Y REPLANTEO DE VIAS incluye eje de via y laterales con andenes | F18: ML | G18: 1 | H18: =+APU!K25 -> 6423 | I18: =+ROUND(G18*H18,0) -> 6423
C19: 5 | D19: 029.007 | E19: =+APU!C40 -> DEMOLICIÓN DE ANDENES Y SARDINELES EN CONCRETO HIDRÁULICO - INCLUYE CARGUE A MANO, RETIRO Y DISPOSICIÓN EN BOTADERO | F19: M3 | G19: 1 | H19: =+APU!K40 -> 158032 | I19: =+ROUND(G19*H19,0) -> 158032
C20: 6 | D20: 029.013 | E20: =+APU!C32 -> DEMOLICION MECANICA DE PAVIMENTO CONCRETO ASFALTICO. INCLUYE RETIRO Y DISPOSICION EN SITIO AUTORIZADO | F20: M3 | G20: 1 | H20: =+APU!K32 -> 139924 | I20: =+ROUND(G20*H20,0) -> 139924
C21: 7 | D21: 029.014 | E21: =+APU!C47 -> DEMOLICION MECANICA DE PAVIMENTO EN CONCRETO HIDRAULICO. INCLUYE RETIRO Y DISPOSICION EN SITIO AUTORIZADO | F21: M3 | G21: 1 | H21: =+APU!K47 -> 163897 | I21: =+ROUND(G21*H21,0) -> 163897
C22: 8 | D22: 032.389 | E22: =+APU!C54 -> FRESADO PAVIMENTO ASFÁLTICO, INCLUYE CARGUE MECÁNICO Y RETIRO HASTA 15KM | F22: M3-SUELTO | G22: 1 | H22: =+APU!K54 -> 141936 | I22: =+ROUND(G22*H22,0) -> 141936
C23: 9 | D23: 002.001 | E23: =+APU!C62 -> EXCAVACIÓN EN ZANJA - MATERIAL COMÚN - 0.0 A 2.0 M | F23: M3 | G23: 1 | H23: =+APU!K62 -> 49858 | I23: =+ROUND(G23*H23,0) -> 49858
C24: 10 | D24: 002.015 | E24: =+APU!C68 -> EXCAVACIÓN MECANIZADA P/ESTRUCTURAS-MATER COMÚN/CONGLOM 0.0 A 6.0 M. | F24: M3 | G24: 1 | H24: =+APU!K68 -> 16586 | I24: =+ROUND(G24*H24,0) -> 16586
C25: 11 | D25: 002.016 | E25: =+APU!C73 -> EXCAVACIÓN A CIELO ABIERTO - MATERIAL COMÚN - 0.0 A 2.0 M | F25: M3 | G25: 1 | H25: =+APU!K73 -> 54131 | I25: =+ROUND(G25*H25,0) -> 54131
C26: 12 | D26: 002.017 | E26: =+APU!C79 -> EXCAVACIÓN A CIELO ABIERTO - CONGLOMERADO - 0.0 A 2.0 M | F26: M3 | G26: 1 | H26: =+APU!K79 -> 78346 | I26: =+ROUND(G26*H26,0) -> 78346
C27: 13 | D27: 002.050 | E27: =+APU!C85 -> RELLENO EN MATERIAL SELECCIONADO PROVENIENTE DE LA EXCAVACION (CANGURO) | F27: M3 | G27: 1 | H27: =+APU!K85 -> 49395 | I27: =+ROUND(G27*H27,0) -> 49395
C28: 14 | D28: 033.098 | E28: =+APU!C91 -> SUMINISTRO, TRANSPORTE E INSTALACION FILTRO DRENAJE (0.60 x 0.60 m) Tubo Drenaje Corrugado de 4" con filtro. Incluye relleno piedra filtro, Geotextil NT 3000 | F28: ML | G28: 1 | H28: =+APU!K91 -> 185738 | I28: =+ROUND(G28*H28,0) -> 185738
C29: 15 | D29: 002.086 | E29: =+APU!C100 -> RETIRO DE MATERIAL SOBRANTE EN VOLQUETA, CARGUE MECANICO, DISPOSICIÓN EN BOTADERO (HASTA 25 KM) | F29: =+APU!E100 -> M3-Suelto | G29: 1 | H29: =+APU!K100 -> 45027 | I29: =+ROUND(G29*H29,0) -> 45027
C30: 16 | D30: 002.089 | E30: =+APU!C106 -> RETIRO DE MATERIAL SOBRANTE EN VOLQUETA, CARGUE MANUAL, DISPOSICIÓN EN BOTADERO (HASTA 25 KM) | F30: =+APU!E106 -> M3-Suelto | G30: 1 | H30: =+APU!K106 -> 55139 | I30: =+ROUND(G30*H30,0) -> 55139
C31: Subtotal | I31: =SUM(I15:I30) -> 1182224
C32: BASES
C33: 17 | D33: =+APU!A112 -> 023.008 | E33: =+APU!C112 -> SUMINISTRO, TRANSPORTE E INSTALACION AFIRMADO PARA ANDENES | F33: M3 | G33: 1 | H33: =+APU!K112 -> 155007 | I33: =ROUND(G33*H33,0) -> 155007
C34: 18 | D34: 023.009 | E34: =+APU!C119 -> SUMINISTRO, TRANSPORTE E INSTALACION BASE COMPACTADA CON CILINDRO | F34: M3 | G34: 1 | H34: =+APU!K119 -> 263598 | I34: =ROUND(G34*H34,0) -> 263598
C35: 19 | D35: =+APU!A128 -> 023.010 | E35: =+APU!C128 -> SUMINISTRO, TRANSPORTE E INSTALACION BASE COMPACTADA CON RANA | F35: M3 | G35: 1 | H35: =+APU!K128 -> 270613 | I35: =ROUND(G35*H35,0) -> 270613
C36: 20 | D36: =+APU!A137 -> 023.011 | E36: =+APU!C137 -> SUMINISTRO, TRANSPORTE E INSTALACION SUB BASE COMPACTADA CON RANA | F36: M3 | G36: 1 | H36: =+APU!K137 -> 266429 | I36: =ROUND(G36*H36,0) -> 266429
C37: 21 | D37: =+APU!A146 -> 023.012 | E37: =+APU!C146 -> SUMINISTRO, TRANSPORTE E INSTALACION SUB BASE COMPACTADA CON CILINDRO | F37: M3 | G37: 1 | H37: =+APU!K146 -> 259414 | I37: =ROUND(G37*H37,0) -> 259414
C38: Subtotal | I38: =SUM(I33:I37) -> 1215061
C39: CAPA DE RODADURA
C40: 22 | D40: 023.001 | E40: =+APU!C155 -> SUMINISTRO, TRANSPORTE E INSTALACION DE PAVIMENTO EN CONCRETO PREMEZCLADO FAST TRACK | F40: M3 | G40: 1 | H40: =+APU!K155 -> 1633140 | I40: =ROUND(G40*H40,0) -> 1633140
C41: 23 | D41: 033.117 | E41: =+APU!C168 -> SUMINISTRO, TRANSPORTE E INSTALACION PAVIMENTO EN CONCRETO PREMEZCLADO MR 42 | F41: =+APU!E168 -> M3 | G41: 1 | H41: =+APU!K168 -> 1419298 | I41: =ROUND(G41*H41,0) -> 1419298
C42: 24 | D42: =+APU!A182 -> 023.028 | E42: =+APU!C182 -> SUMINISTRO, TRANSPORTE E INSTALACION PAVIMENTO EN CONCRETO MR 42 HECHO EN OBRA | F42: M3 | G42: 1 | H42: =+APU!K182 -> 1134989 | I42: =ROUND(G42*H42,0) -> 1134989
C43: 25 | D43: =+APU!A195 -> 023.037 | E43: =+APU!C195 -> SUMINISTRO, TRANSPORTE E INSTALACIÓN DE ACELERANTE PARA CONCRETOS Y PAVIMENTOS RIGIDOS | F43: KG | G43: 1 | H43: =+APU!K195 -> 33823 | I43: =ROUND(G43*H43,0) -> 33823
C44: 26 | D44: =+APU!A201 -> 023.002 | E44: =+APU!C201 -> SUMINISTRO, TRANSPORTE E INSTALACION IMPRIMACION CON EMULSION ASFALTICA según norma INVIAS. | F44: M2 | G44: 1 | H44: =+APU!K201 -> 8163 | I44: =ROUND(G44*H44,0) -> 8163
C45: 27 | D45: =+APU!A210 -> 023.004 | E45: =+APU!C210 -> SUMINISTRO, TRANSPORTE E INSTALACION MEZCLA ASFALTICA TIPO MDC-19 según norma INVIAS. Extendido y compactado | F45: M3 | G45: 1 | H45: =+APU!K210 -> 1799366 | I45: =ROUND(G45*H45,0) -> 1799366
...

Sheet APU
J4: AIU
A5: 001.044 | B5: - | C5: DESCAPOTE MANUAL e=0.20 m. | D5: Actividad | E5: M2 | I5: 2857 | J5: =+ROUND(AIU!J54,4) -> 0.3522 | K5: =ROUND(+I5*(1+J5),0) -> 3863
A6: 001.044 | B6: C44 | C6: CUADRILLA AA (2 AYUDANTES) | D6: Cuadrilla | E6: HR | F6: 0.1 | G6: 23678 | H6: 2368
A7: 001.044 | B7: H2 | C7: EQUIPO BASICO (HERRAMIENTA MENOR) | D7: Herramienta | E7: UND | F7: 0.09 | G7: 3484 | H7: 314
A8: 001.044 | B8: I1565 | C8: ACARREO INTERNO | D8: Insumos | E8: UND | F8: 0.096 | G8: 1824 | H8: 175
A10: 001.049 | B10: - | C10: SUMINISTRO, TRANSPORTE E INSTALACIÓN CERRAMIENTO EN YUTE H= 2 M | D10: Actividad | E10: ML | I10: 14195 | J10: =+$J$5 -> 0.3522 | K10: =ROUND(+I10*(1+J10),0) -> 19194
A11: 001.049 | B11: C1 | C11: CUADRILLA AA TIPO 1 (1 OFICIAL + 1 AYUDANTE) (Albañileria) | D11: Cuadrilla | E11: HR | F11: 0.16 | G11: 30782 | H11: 4925
A12: 001.049 | B12: H2 | C12: EQUIPO BASICO (HERRAMIENTA MENOR) | D12: Herramienta | E12: UND | F12: 0.16 | G12: 3484 | H12: 557
A13: 001.049 | B13: I425 | C13: PUNTILLA CON CABEZA 2" | D13: Insumos | E13: LB | F13: 0.2 | G13: 5100 | H13: 1020
A14: 001.049 | B14: I447 | C14: FIBRA PARA CERRAMIENTO PROVISIONAL H=2,1M | D14: Insumos | E14: M | F14: 1 | G14: 4332 | H14: 4332
A15: 001.049 | B15: I986 | C15: GUADUA CEPA DE 5 VARAS | D15: Insumos | E15: UND | F15: 0.35 | G15: 9603 | H15: 3361
A17: 001.060 | B17: - | C17: SUMINISTRO, TRANSPORTE E INSTALACION TECHADO MOVIBLE EN GUADUA Y PLÁSTICO | D17: Actividad | E17: M2 | I17: 10897 | J17: =+$J$5 -> 0.3522 | K17: =ROUND(+I17*(1+J17),0) -> 14735
A18: 001.060 | B18: C22 | C18: CUADRILLA AA TIPO 4 (1 OFICIAL + 4 AYUDANTE) (Albañileria) | D18: Cuadrilla | E18: HR | F18: 0.08 | G18: 66299 | H18: 5304
A19: 001.060 | B19: E12 | C19: EQUIPO DE TRANSPORTE | D19: Equipos | E19: DIA | F19: 0.00052 | G19: 180217 | H19: 94
A20: 001.060 | B20: H2 | C20: EQUIPO BASICO (HERRAMIENTA MENOR) | D20: Herramienta | E20: UND | F20: 0.15 | G20: 3484 | H20: 523
A21: 001.060 | B21: I1565 | C21: ACARREO INTERNO | D21: Insumos | E21: UND | F21: 0.159 | G21: 1824 | H21: 290
A22: 001.060 | B22: I455 | C22: ESTRUCTURA EN GUADUA | D22: Insumos | E22: M2 | F22: 0.25 | G22: 3151 | H22: 788
A23: 001.060 | B23: I456 | C23: PLÁSTICO TRANSPARENTE CALIBRE 6 | D23: Insumos | E23: M2 | F23: 1.1 | G23: 3544 | H23: 3898
A25: 001.085 | B25: - | C25: LOCALIZACION Y REPLANTEO DE VIAS incluye eje de via y laterales con andenes | D25: Actividad | E25: ML | I25: 4750 | J25: =+$J$5 -> 0.3522 | K25: =ROUND(+I25*(1+J25),0) -> 6423
A26: 001.085 | B26: H2 | C26: EQUIPO BASICO (HERRAMIENTA MENOR) | D26: Herramienta | E26: UND | F26: 0.05 | G26: 3484 | H26: 174
A27: 001.085 | B27: I1015 | C27: PINTURA ACRILICA PARA TRAFICO TIPO PINTUCO (PINTUTRÁFICO) O SIMILAR - COLORES: BLANCO, AMARILLO O NEGRO SEGÚN DISEÑO. | D27: Insumos | E27: GAL | F27: 0.008 | G27: 151470 | H27: 1212
A28: 001.085 | B28: I1562 | C28: COMISION TOPOGRAFICA (INCLUYE TOPOGRAFO, CADENERO Y EQUIPO TOPOGRAFÍA (ESTACIÓN Y NIVEL)). | D28: Insumos | E28: DIA | F28: 0.004 | G28: 692001 | H28: 2768
A29: 001.085 | B29: I425 | C29: PUNTILLA CON CABEZA 2" | D29: Insumos | E29: LB | F29: 0.01 | G29: 5100 | H29: 51
A30: 001.085 | B30: I998 | C30: LATA DE GUADUA | D30: Insumos | E30: UND | F30: 1 | G30: 545 | H30: 545
A32: 029.013 | B32: - | C32: DEMOLICION MECANICA DE PAVIMENTO CONCRETO ASFALTICO. INCLUYE RETIRO Y DISPOSICION EN SITIO AUTORIZADO | D32: Actividad | E32: M3 | I32: 103479 | J32: =+$J$5 -> 0.3522 | K32: =ROUND(+I32*(1+J32),0) -> 139924
A33: 029.013 | B33: C44 | C33: CUADRILLA AA (2 AYUDANTES) | D33: Cuadrilla | E33: HR | F33: 0.35 | G33: 23678 | H33: 8287
A34: 029.013 | B34: E24 | C34: VOLQUETA 6M3 (CARGUE A MANO) - INCLUYE DISPOSICION EN BOTADERO | D34: Equipos | E34: VJE | F34: 0.16666667 | G34: 310000 | H34: 51667
A35: 029.013 | B35: E139 | C35: Minicargador (CAT -D236)(Bobcat S570) con PALA | D35: Equipos | E35: HR | F35: 0.14285714 | G35: 116620 | H35: 16660
A36: 029.013 | B36: E140 | C36: Minicargador (CAT -D236)(Bobcat S570) con MARTILLO | D36: Equipos | E36: HR | F36: 0.14285714 | G36: 171360 | H36: 24480
A37: 029.013 | B37: H2 | C37: EQUIPO BASICO (HERRAMIENTA MENOR) | D37: Herramienta | E37: UND | F37: 0.35 | G37: 3484 | H37: 1219
A38: 029.013 | B38: I1565 | C38: ACARREO INTERNO | D38: Insumos | E38: UND | F38: 0.639 | G38: 1824 | H38: 1166
A40: 029.007 | B40: - | C40: DEMOLICIÓN DE ANDENES Y SARDINELES EN CONCRETO HIDRÁULICO - INCLUYE CARGUE A MANO, RETIRO Y DISPOSICIÓN EN BOTADERO | D40: Actividad | E40: M3 | I40: 116870 | J40: =+$J$5 -> 0.3522 | K40: =ROUND(+I40*(1+J40),0) -> 158032
A41: 029.007 | B41: C1 | C41: CUADRILLA AA TIPO 1 (1 OFICIAL + 1 AYUDANTE) (Albañileria) | D41: Cuadrilla | E41: HR | F41: 0.78 | G41: 30782 | H41: 24010
A42: 029.007 | B42: E7 | C42: COMPRESOR 1 MARTILLO 1 OPERARIO | D42: Equipos | E42: HR | F42: 0.5 | G42: 76160 | H42: 38080
A43: 029.007 | B43: E24 | C43: VOLQUETA 6M3 (CARGUE A MANO) - INCLUYE DISPOSICION EN BOTADERO | D43: Equipos | E43: VJE | F43: 0.1625 | G43: 310000 | H43: 50375
A44: 029.007 | B44: H2 | C44: EQUIPO BASICO (HERRAMIENTA MENOR) | D44: Herramienta | E44: UND | F44: 0.78 | G44: 3484 | H44: 2718
A45: 029.007 | B45: I1565 | C45: ACARREO INTERNO | D45: Insumos | E45: UND | F45: 0.925 | G45: 1824 | H45: 1687
A47: 029.014 | B47: - | C47: DEMOLICION MECANICA DE PAVIMENTO EN CONCRETO HIDRAULICO. INCLUYE RETIRO Y DISPOSICION EN SITIO AUTORIZADO | D47: Actividad | E47: M3 | I47: 121208 | J47: =+$J$5 -> 0.3522 | K47: =ROUND(+I47*(1+J47),0) -> 163897
A48: 029.014 | B48: C44 | C48: CUADRILLA AA (2 AYUDANTES) | D48: Cuadrilla | E48: HR | F48: 0.4 | G48: 23678 | H48: 9471
A49: 029.014 | B49: E24 | C49: VOLQUETA 6M3 (CARGUE A MANO) - INCLUYE DISPOSICION EN BOTADERO | D49: Equipos | E49: VJE | F49: 0.16666667 | G49: 310000 | H49: 51667
...

Sheet AIU
A1: ANALISIS DEL AIU
L2: 2000000000
A3: Valor estimado de la Obra (Costo Directo). | D3: Valor | E3: 1479073185 | L3: =ROUND(L2/(1+J54),0) -> 1479073185 | M3: =+E3-L3 -> 0
A4: Plazo estimado de ejecución. | D4: Meses | E4: 4
A5: Contratista Persona Natural (SI o NO) | E5: no
E6: =+E4*30 -> 120 | L6: =ROUND(L3*(1+J54),0) -> 1999999999
A7: CAPITULO | B7: TIPO DE GASTO | C7: UN | D7: CANTIDAD. | E7: DEDICACION | F7: VLOR UNITARIO (mes) | G7: FACTOR PRESTACIONAL O FACTOR AIU (PARA INDIRECTOS) | H7: VALOR TOTAL | I7: SUMA | J7: PORCENTAJE
A8: 1 | B8: GASTOS GENERALES. | J8: =+J9 -> 0.08736258
A9: 1.1 | B9: MANO DE OBRA Y GASTOS DE OFICINA | I9: =SUM(H10:H29) -> 1.2921565e+08 | J9: =+I9/$E$3 -> 0.08736258
B10: Contratista (solo aplica para personas naturales) | C10: Un | D10: =+IF(E5="SI",1,0) -> 0 | E10: 0.25 | F10: 15400000 | G10: 0.6556 | H10: =+D10*E10*$E$4*F10*(1+G10) -> 0 | J10: =+H10/$E$3 -> 0
B11: Ingeniero Director | C11: Un | D11: 1 | E11: 0 | F11: 6500000 | G11: 0.5483 | H11: =+D11*E11*$E$4*F11*(1+G11) -> 0 | J11: =+H11/$E$3 -> 0
B12: Director de obra | C12: un | D12: 1 | E12: 0.2 | F12: 6710444 | G12: 0.6556 | H12: =+D12*E12*$E$4*F12*(1+G12) -> 8887848.9 | J12: =+H12/$E$3 -> 0.0060090663
B13: Ingeniero Residente | C13: Un | D13: 1 | E13: 1 | F13: 4446382 | G13: 0.6556 | H13: =+D13*E13*$E$4*F13*(1+G13) -> 29445720 | J13: =+H13/$E$3 -> 0.019908224
B14: Maestro de Obra | C14: Un | D14: 2 | E14: 1 | F14: 3600000 | G14: 0.6556 | H14: =+D14*E14*$E$4*F14*(1+G14) -> 47681280 | J14: =+H14/$E$3 -> 0.032237269
B15: Residente de Salud Ocupacional | C15: Un | D15: 1 | E15: 0.5 | F15: 3600000 | G15: 0.6556 | H15: =+D15*E15*$E$4*F15*(1+G15) -> 11920320 | J15: =+H15/$E$3 -> 0.0080593172
B16: Trabajador social | C16: Un | D16: 1 | E16: 0.5 | F16: 3600000 | G16: 0.6556 | H16: =+D16*E16*$E$4*F16*(1+G16) -> 11920320 | J16: =+H16/$E$3 -> 0.0080593172
B17: Almacenista | C17: Un | D17: 1 | E17: 0 | F17: 1460000 | G17: 0.6995 | H17: =+D17*E17*$E$4*F17*(1+G17) -> 0 | J17: =+H17/$E$3 -> 0
B18: Celador con prestaciones | C18: Un | D18: 1 | E18: 0 | F18: 1460000 | G18: 0.6995 | H18: =+D18*E18*$E$4*F18*(1+G18) -> 0 | J18: =+H18/$E$3 -> 0
B19: Secretaria con prestaciones | C19: Un | D19: 1 | E19: 0 | F19: 2000000 | G19: 0.6995 | H19: =+D19*E19*$E$4*F19*(1+G19) -> 0 | J19: =+H19/$E$3 -> 0
B20: Contador | C20: Un | D20: 1 | E20: 0 | F20: 1500000 | G20: 0.6995 | H20: =+D20*E20*$E$4*F20*(1+G20) -> 0 | J20: =+H20/$E$3 -> 0
B21: Profesional ambiental | C21: Un | D21: 1 | E21: 0.25 | F21: 3600000 | G21: 0.6556 | H21: =+D21*E21*$E$4*F21*(1+G21) -> 5960160 | J21: =+H21/$E$3 -> 0.0040296586
B22: Oficina y/o campamento (Incluye Equipo de Oficina, Escritorio, pc, impresora, sillas, papeleria, consumo servicios publicos etc) | C22: Mes | D22: 1 | E22: 1 | F22: 800000 | H22: =+D22*E22*$E$4*F22*(1+G22) -> 3200000 | J22: =+H22/$E$3 -> 0.002163517
B23: Elaboracion de PMTs | C23: GL | F23: 1000000 | H23: =+F23 -> 1000000 | J23: =+H23/$E$3 -> 0.00067609907
B24: Señalizacion de obra | C24: GL | D24: 1 | E24: 1 | F24: 5000000 | H24: =+F24 -> 5000000 | J24: =+H24/$E$3 -> 0.0033804953
B25: Vallas (18 m2) | C25: GL | D25: 1 | E25: 1 | F25: 1000000 | H25: =+F25 -> 1000000 | J25: =+H25/$E$3 -> 0.00067609907
B26: Sistema de gestion ambiental | C26: Mes | D26: 1 | E26: 0 | F26: 300000 | H26: =+F26 -> 300000 | J26: =+H26/$E$3 -> 0.00020282972
B27: Sistema de gestion de calidad | C27: Mes | D27: 1 | E27: 0 | F27: 600000 | H27: =+F27 -> 600000 | J27: =+H27/$E$3 -> 0.00040565944
B28: Costos financiero | C28: Mes | D28: 1 | E28: 0 | F28: 300000 | H28: =+F28 -> 300000 | J28: =+H28/$E$3 -> 0.00020282972
B29: Ensayos de laboratorio | C29: GL | D29: 1 | E29: 1 | F29: 2000000 | H29: =+F29 -> 2000000 | J29: =+H29/$E$3 -> 0.0013521981
A30: 2 | B30: GASTOS INDIRECTOS. | J30: =+J31+J33+J41 -> 0.20483555
A31: 2.1 | B31: LEGALIZACION. | I31: =SUM(H32:H32) -> 0 | J31: =+I31/$E$3 -> 0
B32: AIU ITERACION | G32: 1.3522 | H32: =+F32*D32*G32 -> 0 | J32: =+H32/$E$3 -> 0
A33: 2.2 | B33: POLIZAS | I33: =SUM(H34:H39) -> 17566380 | J33: =+I33/$E$3 -> 0.011876613
B34: Seriedad de la Propuesta. | C34: % | D34: 0 | F34: =+$E$3 -> 1479073185 | G34: =+$G$32 -> 1.3522 | H34: =+F34*D34*G34 -> 0 | J34: =+H34/$E$3 -> 0
B35: Anticipo | C35: % | D35: 0 | F35: =+$E$3 -> 1479073185 | G35: =+$G$32 -> 1.3522 | H35: =+F35*D35*G35 -> 0 | J35: =+H35/$E$3 -> 0
B36: Cumplimiento | C36: % | D36: 0.0006 | F36: =+$E$3 -> 1479073185 | G36: =+$G$32 -> 1.3522 | H36: =+(((F36*G36*D36)/365)*($E$6+120))*1.19 -> 938960.2 | J36: =+H36/$E$3 -> 0.00063483012
B37: Estabilidad | C37: % | D37: 0.0009 | F37: =+$E$3 -> 1479073185 | G37: =+$G$32 -> 1.3522 | H37: =+(((F37*G37*D37)/365)*(1825))*1.19 -> 10710015 | J37: =+H37/$E$3 -> 0.007241031
B38: Prestaciones Sociales | C38: % | D38: 0.0005 | F38: =+$E$3 -> 1479073185 | G38: =+$G$32 -> 1.3522 | H38: =+(((F38*G38*D38)/365)*($E$6+1095))*1.19 -> 3961238.3 | J38: =+H38/$E$3 -> 0.0026781895
B39: Responsabilidad Civil | C39: % | D39: 0.0025 | F39: =+$E$3 -> 1479073185 | G39: =+$G$32 -> 1.3522 | H39: =+(((F39*G39*D39)/365)*($E$6+0))*1.19 -> 1956167.1 | J39: =+H39/$E$3 -> 0.0013225627
B40: Todo riesgo | C40: % | D40: 0 | F40: =+$E$3 -> 1479073185 | G40: =+$G$32 -> 1.3522 | H40: =+F40*D40*G40 -> 0 | J40: =+H40/$E$3 -> 0
...

Sheet PROPUESTA (PROPONENTE)
C3: Formulario 1 - Propuesta económica - Documento tipo de licitación de obra pública de infraestructura de transporte - versión 4
C4: Código | D4: CCE-EICP-FM-14 | E4: Versión | F4: 4
C5: FORMULARIO 1
C6: PROPUESTA ECONÓMICA
C7: [La entidad puede utilizar este formulario de presentación de propuesta económica de forma detallada, sin perjuicio que la entidad pueda modificarlo o establecer la presentación de la oferta económica con un formulario distinto al indicado.] [Los proponentes emplearán el formulario establecido por la entidad para determinar su propuesta económica conforme al Formulario 1 - Presupuesto Oficial publicado por la Entidad]
C9: Cuando el proceso de contratación es estructurado por precios unitarios, la Entidad debe aplicar las notas 1, 2 y 3 del presente formato y las casillas de "Descripción", "Porcentaje" de la Administración, Imprevisto, Utilidad y total A.I.U. resaltadas en color amarillo.
C11: Nº | D11: ÍTEM DE PAGO | E11: ESPECIFICACIONES | G11: DESCRIPCIÓN | H11: UND. | I11: CANTIDAD | J11: VALOR UNITARIO | K11: VALOR TOTAL
E12: GENERAL | F12: PARTICULAR
C15: Subtotal
C21: Subtotal
C31: Subtotal
C36: Subtotal
C39: Subtotal
C40: SUBTOTAL OBRAS
G45: SUBTOTAL OBRAS (INCLUYE IVA)
G49: VALOR TOTAL
C52: NOTA 1: Se debe tener en cuenta que el PRECIO UNITARIO incluye el valor de A.I.U. | H52: DESCRIPCIÓN | K52: PORCENTAJE
C53: NOTA 2: Cuando la fracción decimal del peso sea igual o superior a 5 se aproximara por exceso al número entero siguiente del peso y cuando la fracción decimal del peso sea inferior a 5 se aproximará por defecto al número entero del peso. | H53: ADMINISTRACIÓN | J53: A= | K53: [Ofrecimiento del Proponente]
C54: NOTA 3: El A.I.U y su discriminación deben estar en porcentaje (%). | H54: IMPREVISTO | J54: I= | K54: [Ofrecimiento del Proponente]
H55: UTILIDAD | J55: U= | K55: [Ofrecimiento del Proponente]
H56: TOTAL A.I.U | J56: A.I.U.= | K56: [Ofrecimiento del Proponente]
G59: Firma del Proponente o de su Representante Legal
