Workbook

Sheet EVALUACIONES
B1: PROCESO No. | C1: MC-010-2025
B2: OBJETO GENERAL: | C2: CONTRATAR LA REHABILITACIÓN DE LA INFRAESTRUCTURA VIAL A TRAVÉS DE LA REMOCIÓN DE DERRUMBES, PERFILADO DE TALUDES, RETIRO DE MATERIAL, CAPA VEGETAL Y ESCOMBROS, Y DEMÁS ACTIVIDADES QUE SE REQUIERAN PARA LA ATENCIÓN DE EMERGENCIAS DE MANERA INMEDIATA EN EL MUNICIPIO DE CHINCHINÁ, CALDAS POR EL SISTEMA DE MONTO AGOTABLE
B3: PRESUPUESTO OFICIAL | C3: 39858000
B4: FECHA APERTURA SOBRE ECONOMICO | C4: 45716
B6: NOMBRE | C6: CC/NIT | D6: VALOR PROPUESTA | E6: CRITERIO | F6: OBSERVACIONES
A7: 1 | B7: =+PROMEDIO!J1 -> EDIFICANDO INGENIEROS S.A.S | D7: =+PROMEDIO!J6 -> 222648 | E7: CUMPLE
B14: ANA MARÍA GÓMEZ URIBE
B15: SECRETARIA ADMINISTRATIVA Y FINANCIERA
B16: MIEMBRO DEL COMITÉ EVALUADOR
B18: Proyectó: Cristian Leyton Mejia, Asesor Financiero - Contratista

Sheet VLRMINIMO
B1: PROCESO No. | C1: =+EVALUACIONES!C1 -> MC-010-2025
B2: OBJETO GENERAL: | C2: =+EVALUACIONES!C2 -> CONTRATAR LA REHABILITACIÓN DE LA INFRAESTRUCTURA VIAL A TRAVÉS DE LA REMOCIÓN DE DERRUMBES, PERFILADO DE TALUDES, RETIRO DE MATERIAL, CAPA VEGETAL Y ESCOMBROS, Y DEMÁS ACTIVIDADES QUE SE REQUIERAN PARA LA ATENCIÓN DE EMERGENCIAS DE MANERA INMEDIATA EN EL MUNICIPIO DE CHINCHINÁ, CALDAS POR EL SISTEMA DE MONTO AGOTABLE
B3: PRESUPUESTO OFICIAL | C3: =+EVALUACIONES!C3 -> 39858000
B4: FECHA APERTURA SOBRE ECONOMICO | C4: =+EVALUACIONES!C4 -> 45716
B5: VALOR MÍNIMO ACEPTABLE
B7: NOMBRE | C7: VALOR | D7: CRITERIO
A8: 1 | B8: =+PROMEDIO!J1 -> EDIFICANDO INGENIEROS S.A.S | C8: =+PROMEDIO!J6 -> 222648 | D8: =IF(C13<=C8,"CUMPLE","NO CUMPLE") -> CUMPLE
B13: VALOR MÍNIMO ACEPTABLE | C13: =+C14*0.8 -> 202387.6
B14: PRESUPUESTO OFICIAL | C14: =+PROMEDIO!G6 -> 252984.5
B17: ANA MARÍA GÓMEZ URIBE
B18: SECRETARIA ADMINISTRATIVA Y FINANCIERA
B19: MIEMBRO DEL COMITÉ EVALUADOR
B21: =+EVALUACIONES!B18 -> Proyectó: Cristian Leyton Mejia, Asesor Financiero - Contratista

Sheet 01 EDIFICANDO
A1: PROCESO No. | B1: =+EVALUACIONES!C1 -> MC-010-2025
A2: OBJETO GENERAL: | B2: =+EVALUACIONES!C2 -> CONTRATAR LA REHABILITACIÓN DE LA INFRAESTRUCTURA VIAL A TRAVÉS DE LA REMOCIÓN DE DERRUMBES, PERFILADO DE TALUDES, RETIRO DE MATERIAL, CAPA VEGETAL Y ESCOMBROS, Y DEMÁS ACTIVIDADES QUE SE REQUIERAN PARA LA ATENCIÓN DE EMERGENCIAS DE MANERA INMEDIATA EN EL MUNICIPIO DE CHINCHINÁ, CALDAS POR EL SISTEMA DE MONTO AGOTABLE
A3: PRESUPUESTO OFICIAL | B3: =+EVALUACIONES!C3 -> 39858000
A4: FECHA APERTURA SOBRE ECONOMICO | B4: =+EVALUACIONES!C4 -> 45716
A5: PROPONENTE | B5: =+EVALUACIONES!B7 -> EDIFICANDO INGENIEROS S.A.S
A6: NIT | B6: =+EVALUACIONES!C7 -> 0
A8: ITEM | B8: CANT | C8: Unidad de medida | D8: PRODUCTO | E8: DESCRIPCION | F8: VALOR UNITARIO OFERTA | G8: VALOR TOTAL OFERTA | H8: VALOR UNITARIO PROCESO | I8: VALOR TOTAL PROCESO | J8: VALOR TOTAL PROCESO
A9: 1 | B9: 1 | D9: =+PROMEDIO!C2 -> Alquiler de retrocargador para remoción de derrumbes | E9: =+D9 -> Alquiler de retrocargador para remoción de derrumbes | F9: =+PROMEDIO!J2 -> 130028 | G9: =+B9*F9 -> 130028 | H9: =+PROMEDIO!G2 -> 144959 | I9: =+B9*H9 -> 144959 | J9: =IF(G9<=I9,"CUMPLE","NO CUMPLE") -> CUMPLE
A10: 1 | B10: 1 | D10: =+PROMEDIO!C3 -> Transporte y disposición en volquetas para retiro de material (medido en cajón de volqueta) - incluye disposición adecuada de escombrera | E10: =+D10 -> Transporte y disposición en volquetas para retiro de material (medido en cajón de volqueta) - incluye disposición adecuada de escombrera | F10: =+PROMEDIO!J3 -> 41088 | G10: =+B10*F10 -> 41088 | H10: =+PROMEDIO!G3 -> 48339 | I10: =+B10*H10 -> 48339 | J10: =IF(G10<=I10,"CUMPLE","NO CUMPLE") -> CUMPLE
A11: 1 | B11: 1 | D11: =+PROMEDIO!C4 -> Cargue manual de material (medido en cajón de volqueta) | E11: =+D11 -> Cargue manual de material (medido en cajón de volqueta) | F11: =+PROMEDIO!J4 -> 20827 | G11: =+B11*F11 -> 20827 | H11: =+PROMEDIO!G4 -> 24794 | I11: =+B11*H11 -> 24794 | J11: =IF(G11<=I11,"CUMPLE","NO CUMPLE") -> CUMPLE
A12: 1 | B12: 1 | D12: =+PROMEDIO!C5 -> Perfilado manual de taludes (medido en banco) | E12: =+D12 -> Perfilado manual de taludes (medido en banco) | F12: =+PROMEDIO!J5 -> 30705 | G12: =+B12*F12 -> 30705 | H12: =+PROMEDIO!G5 -> 34892.5 | I12: =+B12*H12 -> 34892.5 | J12: =IF(G12<=I12,"CUMPLE","NO CUMPLE") -> CUMPLE
G13: =SUM(G9:G12) -> 222648 | I13: =SUM(I9:I12) -> 252984.5

Sheet PROMEDIO
A1: N° | B1: Cant | D1: Descripción | E1: 1 | F1: 2 | G1: PROMEDIO | I1: GomPro Ingeniería SAS | J1: EDIFICANDO INGENIEROS S.A.S
A2: 1 | B2: 1 | C2: Alquiler de retrocargador para remoción de derrumbes | D2: =+C2 -> Alquiler de retrocargador para remoción de derrumbes | E2: 144959 | G2: =AVERAGE(E2:F2) -> 144959 | I2: 140146 | J2: 130028
A3: 1 | B3: 1 | C3: Transporte y disposición en volquetas para retiro de material (medido en cajón de volqueta) - incluye disposición adecuada de escombrera | D3: =+C3 -> Transporte y disposición en volquetas para retiro de material (medido en cajón de volqueta) - incluye disposición adecuada de escombrera | E3: 48339 | G3: =AVERAGE(E3:F3) -> 48339 | I3: 46734 | J3: 41088
A4: 1 | B4: 1 | C4: Cargue manual de material (medido en cajón de volqueta) | D4: =+C4 -> Cargue manual de material (medido en cajón de volqueta) | E4: 24794 | G4: =AVERAGE(E4:F4) -> 24794 | I4: 23971 | J4: 20827
A5: 1 | B5: 1 | C5: Perfilado manual de taludes (medido en banco) | D5: =+C5 -> Perfilado manual de taludes (medido en banco) | E5: 34892.5 | G5: =AVERAGE(E5:F5) -> 34892.5 | I5: 33734 | J5: 30705
E6: =SUM(E2:E5) -> 252984.5 | F6: =SUM(F2:F5) -> 0 | G6: =SUM(G2:G5) -> 252984.5 | I6: =SUM(I2:I5) -> 244585 | J6: =SUM(J2:J5) -> 222648
D8: A | E8: 0.22 | G8: =+$G$6*$E$8 -> 55656.59 | I8: =+$G$6*$E$8 -> 55656.59 | J8: =+$G$6*$E$8 -> 55656.59
D9: I | E9: 0 | G9: =+$G$6*$E$9 -> 0 | I9: =+$G$6*$E$9 -> 0 | J9: =+$G$6*$E$9 -> 0
D10: U | E10: 0.07 | G10: =+$G$6*$E$10 -> 17708.915 | I10: =+$G$6*$E$10 -> 17708.915 | J10: =+$G$6*$E$10 -> 17708.915
D11: TOTAL | G11: =+G6+G8+G9+G10 -> 326350.01 | I11: =+I6+I8+I9+I10 -> 317950.51 | J11: =+J6+J8+J9+J10 -> 296013.51
I13: Minimo | J13: =MIN(I6:J6) -> 222648
