Workbook
Name AÑOS: '[1]mes,diaaño'!$C$2
Name dias: '[1]mes,diaaño'!$A$2:$A$32
Name MES: '[1]mes,diaaño'!$B$2:$B$13

Sheet 1. Disponibilidad
D2: SECRETARIA DE EDUCACIÓN | L2: Código:
D3: FONDO DE SERVICIOS EDUCATIVOS | L3: Versión:
D4: CERTIFICADO DISPONIBILIDAD PRESUPUESTAL (CDP) | L4: Fecha de aprobación:
B5: FONDO DE SERVICIOS EDUCATIVOS | F5: INSTITUCION EDUCATIVA ANTONIO ROLDAN BETANCUR
B6: MUNICIPIO | F6: BRICEÑO
J7: SOLICITUD | K7: 2 | L7: CONSECUTIVO: | M7: 2
B8: Fecha de Elaboración: | D8: 19 | E8: Febrero | F8: 2024
D9: dia | E9: mes | F9: año
B12: CERTIFICO DISPONIBILIDAD PRESUPUESTAL POR:
I14: Valor | J14: =+M24 -> 9999610
B15: A la fecha de expedición del presente documento existe apropiación con saldo disponible contra el cual se puede ordenar gastos en el rubro y valor que se detalla a continuación:
B17: RUBRO | E17: FUENTE | H17: CENTRO DE COSTOS | J17: VALOR DISPONIBILIDAD | K17: ADICION A DISPONIBILIDAD | L17: REDUCCION A DISPONIBILIDAD | M17: VALOR ($)
B18: 2.1.2.02.02.008.02 Mantenimiento y Reparación | E18: 03 - Otras Transferencias | H18: ASOCIADO | I18: C.E.R MORRON | J18: 9999610 | K18: 0 | L18: 0 | M18: =+J18+K18-L18 -> 9999610
M19: =+J19+K19-L19 -> 0
M20: =+J20+K20-L20 -> 0
M21: =+J21+K21-L21 -> 0
M22: =+J22+K22-L22 -> 0
M23: =+J23+K23-L23 -> 0
B24: TOTAL | J24: =SUM(J18:J23) -> 9999610 | K24: =SUM(K18:K23) -> 0 | L24: =SUM(L18:L23) -> 0 | M24: =+J24+K24-L24 -> 9999610
B26: Dentro del presupuesto de Egresos de la vigencia: | F26: 2024
B27: Por concepto de: | F27: ADECUACIONES MENORES DE LA INFRAESTRUCTURA EDUCATIVA PARA INTERVENIR LA SEDE EL RESPALDO DEL C.E.R MORRON.
H33: Firma Tesorero (a)
H34: Nombre: | I34: JHON JAIRO ALVAREZ AGUDELO
B61: Día | C61: Mes | D61: Año
B62: 01 | C62: Enero | D62: 2024 | E62: 2.1.2.02.02.008.01 Honorarios y servicios Técnicos
B63: 02 | C63: Febrero | E63: 2.1.2.02.02.008.01.02 Muebles y Enseres y Equipos De oficina
B64: 03 | C64: Marzo | E64: 2.1.2.02.02.008.02 Mantenimiento y Reparación
B65: 04 | C65: Abril | E65: 2.1.2.02.02.008.03 Materiales y Suministros
B66: 05 | C66: Mayo | E66: 2.1.2.02.02.008.04 Combustibles y lubricantes
B67: 06 | C67: Junio | E67: 2.1.2.02.02.008.05 Arrendamientos de bienes muebles e inmuebles
B68: 07 | C68: Julio | E68: 2.1.2.02.02.008.06 Impresos y publicaciones
B69: 08 | C69: Agosto | E69: 2.1.2.02.02.008.07 Servicios Públicos
B70: 09 | C70: Septiembre | E70: 2.1.2.02.02.008.08 Primas y Seguros
B71: 10 | C71: Octubre | E71: 2.1.2.02.02.008.09 Comunicaciones y Transportes
B72: 11 | C72: Noviembre | E72: 2.1.2.02.02.008.10 Actividades Pedagógicas, Cientificas, Culturales y Deportivas
B73: 12 | C73: Diciembre | E73: 2.1.2.02.02.008.11 Inscripción y Participación en Competencias Deportivas, Culturales, Pedagógicas y Científicas
B74: 13 | E74: 2.1.2.02.02.008.12 Gastos de viajes
B75: 14 | E75: 2.1.2.02.02.008.04.01 Horas catedra
B76: 15 | E76: 2.1.2.02.02.008.04.02 Dotación pedagogica
B77: 16 | E77: 2.1.2.02.02.008.04.03 Gastos de viaje
...

Sheet 2. Compromiso 
D2: SECRETARIA DE EDUCACIÓN | J2: Código:
D3: FONDO DE SERVICIOS EDUCATIVOS | J3: Versión:
D4: REGISTRO COMPROMISO PRESUPUESTAL (RPC) | J4: Fecha de aprobación:
B5: FONDO DE SERVICIOS EDUCATIVOS | E5: INSTITUCION EDUCATIVA ANTONIO ROLDAN BETANCUR
B6: MUNICIPIO | E6: BRICEÑO
G7: CDP | H7: =+'1. Disponibilidad'!M7:M8 -> 2 | J7: CONSECUTIVO: | K7: 2
B9: Fecha de Elaboración: | D9: 22 | E9: Febrero | F9: 2024
D10: dia | E10: mes | F10: año
B12: CERTIFICO COMPROMISO PRESUPUESTAL POR:
B14: VALOR CDP | C14: =+'1. Disponibilidad'!J14 -> 9999610 | G14: Valor: | H14: =+K25 -> 9999610
B16: CON CARGO A:
B18: No. CDP | C18: RUBRO | E18: FUENTE | F18: C. COSTOS | H18: VALOR COMPROMISO | I18: ADICION DE COMPROMISO | J18: REDUCCION DE COMPROMISO | K18: VALOR
B19: =+'1. Disponibilidad'!M7 -> 2 | C19: ='1. Disponibilidad'!B18 -> 2.1.2.02.02.008.02 Mantenimiento y Reparación | E19: ='1. Disponibilidad'!E18 -> 03 - Otras Transferencias | F19: =+'1. Disponibilidad'!H18 -> ASOCIADO | G19: =+'1. Disponibilidad'!I18 -> C.E.R MORRON | H19: ='1. Disponibilidad'!J18 -> 9999610 | K19: =+H19+I19-J19 -> 9999610
C20: ='1. Disponibilidad'!B19 -> 0 | E20: ='1. Disponibilidad'!E19 -> 0 | F20: =+'1. Disponibilidad'!H19 -> 0 | G20: =+'1. Disponibilidad'!I19 -> 0 | K20: =+H20+I20-J20 -> 0
C21: ='1. Disponibilidad'!B20 -> 0 | E21: ='1. Disponibilidad'!E20 -> 0 | F21: =+'1. Disponibilidad'!H20 -> 0 | G21: =+'1. Disponibilidad'!I20 -> 0 | K21: =+H21+I21-J21 -> 0
C22: ='1. Disponibilidad'!B21 -> 0 | E22: ='1. Disponibilidad'!E21 -> 0 | F22: =+'1. Disponibilidad'!H21 -> 0 | G22: =+'1. Disponibilidad'!I21 -> 0 | K22: =+H22+I22-J22 -> 0
C23: ='1. Disponibilidad'!B22 -> 0 | E23: ='1. Disponibilidad'!E22 -> 0 | F23: =+'1. Disponibilidad'!H22 -> 0 | G23: =+'1. Disponibilidad'!I22 -> 0 | K23: =+H23+I23-J23 -> 0
C24: ='1. Disponibilidad'!B23 -> 0 | E24: ='1. Disponibilidad'!E23 -> 0 | F24: =+'1. Disponibilidad'!H23 -> 0 | G24: =+'1. Disponibilidad'!I23 -> 0 | K24: =+H24+I24-J24 -> 0
B25: TOTAL | H25: =SUM(H19:H24) -> 9999610 | I25: =SUM(I19:I24) -> 0 | J25: =SUM(J19:J24) -> 0 | K25: =+H25+I25-J25 -> 9999610
B27: Dentro del presupuesto de Egresos de la vigencia: | E27: ='1. Disponibilidad'!F26 -> 2024
B28: A favor de: | C28: Nombre: | D28: ILDA MILENA GOMEZ MENDOZA
C29: Cédula / NIT: | D29: 21.816.802-1
B30: Por concepto de: | D30: =+'1. Disponibilidad'!F27 -> ADECUACIONES MENORES DE LA INFRAESTRUCTURA EDUCATIVA PARA INTERVENIR LA SEDE EL RESPALDO DEL C.E.R MORRON.
C36: Firma Ordenador del Gasto | G36: Firma Tesorero (a)
C37: Nombre:RURICO FERNANDO MENA PEREA | G37: Nombre: JHON JAIRO ALVAREZ AGUDELO
B76: Día | C76: Mes | D76: Año
B77: 01 | C77: Enero | D77: 2024
B78: 02 | C78: Febrero
B79: 03 | C79: Marzo
B80: 04 | C80: Abril
B81: 05 | C81: Mayo
B82: 06 | C82: Junio
B83: 07 | C83: Julio
B84: 08 | C84: Agosto
B85: 09 | C85: Septiembre
B86: 10 | C86: Octubre
B87: 11 | C87: Noviembre
B88: 12 | C88: Diciembre
B89: 13
B90: 14
...

Sheet 3. Comprobante de egresos 
E2: SECRETARIA DE EDUCACIÓN | K2: Código:
E3: FONDO DE SERVICIOS EDUCATIVOS | K3: Versión:
E4: COMPROBANTE DE EGRESO CON AFECTACION | K4: Fecha de aprobación:
B5: FONDO DE SERVICIOS EDUCATIVOS | F5: INSTITUCION EDUCATIVA ANTONIO ROLDAN BETANCUR
B6: MUNICIPIO | F6: BRICEÑO
J7: CONSECUTIVO: | K7: 5
B8: Fecha de Elaboración:
D9: dia | E9: mes | F9: año
D11: CDP | E11: RPC
D12: =+'2. Compromiso '!H7:H8 -> #VALUE! | E12: =+'2. Compromiso '!K7:K8 -> #VALUE!
B13: fecha: | D13: =+CONCATENATE('1. Disponibilidad'!D8,'1. Disponibilidad'!E8,'1. Disponibilidad'!F8) -> 19Febrero2024 | E13: =+CONCATENATE('2. Compromiso '!D9,'2. Compromiso '!E9,'2. Compromiso '!F9) -> 22Febrero2024
B16: A favor de: | C16: =+'2. Compromiso '!D28:K28 -> #VALUE! | G16: CÉDULA/NIT: | H16: =+'2. Compromiso '!D29:K29 -> 0
B19: Concepto:
B23: RUBRO | C23: FUENTE FINANCIACION | D23: VALOR BRUTO | E23: RETEFUENTE | G23: RETEIVA | H23: RETEICA | I23: OTRAS RETENCIONES | J23: TOTAL RETENCIONES | K23: TOTAL A PAGAR
E24: Concepto | F24: Valor
J25: =+F35+G35+H35+I35 -> 0 | K25: =+D35-J25 -> 0
B35: TOTAL | D35: =SUM(D25:D34) -> 0 | F35: =SUM(F25:F34) -> 0 | G35: =SUM(G25:G34) -> 0 | H35: =SUM(H25:H34) -> 0 | I35: =SUM(I25:I34) -> 0
D39: Nombre de la cuenta | E39: No. Cuenta | F39: Tipo Cuenta | G39: Nombre Banco | H39: No. Cheque /Transacción | I39: Valor a Pagar
I40: =+K25 -> 0
G42: TOTAL | I42: =+I40 -> 0
B46: FIRMA ORDENADOR DEL GASTO | D46: FIRMA TESORERO (A) | G46: FIRMA BENEFICIARIO | J46: FIRMA CONTADOR
B47: Nombre: | D47: Nombre: | G47: Nombre: | J47: Nombre:
B100: Día | D100: Mes | E100: Año
B101: 01 | D101: Enero | E101: 2024 | G101: 2.1.2.02.02.008.01 Honorarios y servicios Técnicos
B102: 02 | D102: Febrero | G102: 2.1.2.02.02.008.01.02 Muebles y Enseres y Equipos De oficina
B103: 03 | D103: Marzo | G103: 2.1.2.02.02.008.02 Mantenimiento y Reparación
B104: 04 | D104: Abril | G104: 2.1.2.02.02.008.03 Materiales y Suministros
B105: 05 | D105: Mayo | G105: 2.1.2.02.02.008.04 Combustibles y lubricantes
B106: 06 | D106: Junio | G106: 2.1.2.02.02.008.05 Arrendamientos de bienes muebles e inmuebles
B107: 07 | D107: Julio | G107: 2.1.2.02.02.008.06 Impresos y publicaciones
B108: 08 | D108: Agosto | G108: 2.1.2.02.02.008.07 Servicios Públicos
B109: 09 | D109: Septiembre | G109: 2.1.2.02.02.008.08 Primas y Seguros
B110: 10 | D110: Octubre | G110: 2.1.2.02.02.008.09 Comunicaciones y Transportes
B111: 11 | D111: Noviembre | G111: 2.1.2.02.02.008.10 Actividades Pedagógicas, Cientificas, Culturales y Deportivas
B112: 12 | D112: Diciembre | G112: 2.1.2.02.02.008.11 Inscripción y Participación en Competencias Deportivas, Culturales, Pedagógicas y Científicas
B113: 13 | G113: 2.1.2.02.02.008.12 Gastos de viajes
B114: 14 | G114: 2.1.2.02.02.008.04.01 Horas catedra
B115: 15 | G115: 2.1.2.02.02.008.04.02 Dotación pedagogica
B116: 16 | G116: 2.1.2.02.02.008.04.03 Gastos de viaje
B117: 17 | D117: Honorarios | G117: 2.1.2.02.02.008.04.04 Actividades Pedagógicas, Cientificas, Culturales y Deportivas
...
