Workbook

Sheet MATRIZ GENERAL
A3: CENTRO ZONAL | B3: ZONA | C3: SITCO | D3: PACCO | E3: CDP | F3: RP | G3: MUNICIPIO | H3: SERVICIO 2025 | I3: NOMBRE DEL SERVICIO SIM (INFORMATIVO) | J3: OBJETO | K3: RUBRO | L3: RECURSO | M3: NIT | N3: EAS | O3: PLAZO DE EJECUCION | P3: UDS | Q3: CUPOS | R3: VALOR 2025 | S3: VALOR APORTE ICBF POR CONTRATO | T3: VALOR CONTRAPARTIDA | U3: VALOR TOTAL CONTRATO | V3: FEBRERO | W3: MARZO | X3: ABRIL | Y3: MAYO | Z3: JUNIO | AA3: JULIO | AB3: AGOSTO | AC3: SEPTIEMBRE | AD3: VALOR TOTAL | AE3: VALIDACION
A4: CZ BARBACOAS | B4: 1310 | G4: Barbacoas | H4: CENTRO DE DESARROLLO INFANTIL A SIN RACION - INSTITUCIONAL | I4: Centro de Desarrollo Infantil - A – Institucional | J4: Prestar los servicios de educación inicial en el marco de la atención Integral a la primera infancia de conformidad con los Manuales Técnicos, Guías Operativas para la Atención a la Primera Infancia y los lineamientos establecidos por el ICBF, en armonía con la Política de Estado para el Desarrollo Integral de la Primera Infancia de “Cero a Siempre. | K4: C-4602-1500-9-704020-4602020-02 | L4: 10 | M4: 901086934 | N4: FUNDACIÓN NIÑOS DEL PACIFICO | O4: 45930 | P4: 2 | Q4: 140 | R4: 413938840 | S4: =IF(B4=B3,0,SUMIFS($R$4:$R$95,$B$4:$B$95,B4)) -> 2238760381 | T4: =ROUND((S4*2%),0) -> 44775208 | U4: =S4+T4 -> 2283535589 | V4: =VLOOKUP(H4,'PARAMETRIZACION '!$A$4:$F$15,4,FALSE)*Q4+(VLOOKUP(H4,'PARAMETRIZACION '!$A$4:$F$15,6,FALSE)*Q4) -> 71732640 | W4: =VLOOKUP(H4,'PARAMETRIZACION '!$A$4:$F$15,6,FALSE)*Q4 -> 48886600 | X4: =VLOOKUP(H4,'PARAMETRIZACION '!$A$4:$F$15,6,FALSE)*Q4 -> 48886600 | Y4: =VLOOKUP(H4,'PARAMETRIZACION '!$A$4:$F$15,6,FALSE)*Q4 -> 48886600 | Z4: =VLOOKUP(H4,'PARAMETRIZACION '!$A$4:$F$15,6,FALSE)*Q4 -> 48886600 | AA4: =VLOOKUP(H4,'PARAMETRIZACION '!$A$4:$F$15,6,FALSE)*Q4 -> 48886600 | AB4: =VLOOKUP(H4,'PARAMETRIZACION '!$A$4:$F$15,6,FALSE)*Q4 -> 48886600 | AC4: =VLOOKUP(H4,'PARAMETRIZACION '!$A$4:$F$15,6,FALSE)*Q4 -> 48886600 | AD4: =SUM(V4:AC4) -> 413938840 | AE4: =R4-AD4 -> 0
A5: CZ BARBACOAS | B5: 1310 | G5: Barbacoas | H5: EDUCACIÓN INICIAL CAMPESINA A SIN RACION - PROPIA E INTERCULTURAL | I5: Educación Inicial Campesina - A - Propia e Intercultural | J5: Prestar los servicios de educación inicial en el marco de la atención Integral a la primera infancia de conformidad con los Manuales Técnicos, Guías Operativas para la Atención a la Primera Infancia y los lineamientos establecidos por el ICBF, en armonía con la Política de Estado para el Desarrollo Integral de la Primera Infancia de “Cero a Siempre. | K5: C-4602-1500-9-704020-4602020-02 | L5: 10 | M5: 901086934 | N5: FUNDACIÓN NIÑOS DEL PACIFICO | O5: 45930 | P5: 17 | Q5: 837 | R5: 1824821541 | S5: =IF(B5=B4,0,SUMIFS($R$4:$R$95,$B$4:$B$95,B5)) -> 0 | T5: =ROUND((S5*2%),0) -> 0 | U5: =S5+T5 -> 0 | V5: =VLOOKUP(H5,'PARAMETRIZACION '!$A$4:$F$15,4,FALSE)*Q5+(VLOOKUP(H5,'PARAMETRIZACION '!$A$4:$F$15,6,FALSE)*Q5) -> 315625167 | W5: =VLOOKUP(H5,'PARAMETRIZACION '!$A$4:$F$15,6,FALSE)*Q5 -> 215599482 | X5: =VLOOKUP(H5,'PARAMETRIZACION '!$A$4:$F$15,6,FALSE)*Q5 -> 215599482 | Y5: =VLOOKUP(H5,'PARAMETRIZACION '!$A$4:$F$15,6,FALSE)*Q5 -> 215599482 | Z5: =VLOOKUP(H5,'PARAMETRIZACION '!$A$4:$F$15,6,FALSE)*Q5 -> 215599482 | AA5: =VLOOKUP(H5,'PARAMETRIZACION '!$A$4:$F$15,6,FALSE)*Q5 -> 215599482 | AB5: =VLOOKUP(H5,'PARAMETRIZACION '!$A$4:$F$15,6,FALSE)*Q5 -> 215599482 | AC5: =VLOOKUP(H5,'PARAMETRIZACION '!$A$4:$F$15,6,FALSE)*Q5 -> 215599482 | AD5: =SUM(V5:AC5) -> 1824821541 | AE5: =R5-AD5 -> 0
A6: CZ BARBACOAS | B6: 1347 | G6: Roberto Payan | H6: CENTRO DE DESARROLLO INFANTIL A SIN RACION - INSTITUCIONAL | I6: Centro de Desarrollo Infantil - A – Institucional | J6: Prestar los servicios de educación inicial en el marco de la atención Integral a la primera infancia de conformidad con los Manuales Técnicos, Guías Operativas para la Atención a la Primera Infancia y los lineamientos establecidos por el ICBF, en armonía con la Política de Estado para el Desarrollo Integral de la Primera Infancia de “Cero a Siempre. | K6: C-4602-1500-9-704020-4602020-02 | L6: 10 | M6: 805029466 | N6: ASOCIACION EMPRESARIAL DE SUMINISTROS Y SERVICIOS VARIOS | O6: 45930 | P6: 5 | Q6: 134 | R6: 396198604 | S6: =IF(B6=B5,0,SUMIFS($R$4:$R$95,$B$4:$B$95,B6)) -> 941246854 | T6: =ROUND((S6*2%),0) -> 18824937 | U6: =S6+T6 -> 960071791 | V6: =VLOOKUP(H6,'PARAMETRIZACION '!$A$4:$F$15,4,FALSE)*Q6+(VLOOKUP(H6,'PARAMETRIZACION '!$A$4:$F$15,6,FALSE)*Q6) -> 68658384 | W6: =VLOOKUP(H6,'PARAMETRIZACION '!$A$4:$F$15,6,FALSE)*Q6 -> 46791460 | X6: =VLOOKUP(H6,'PARAMETRIZACION '!$A$4:$F$15,6,FALSE)*Q6 -> 46791460 | Y6: =VLOOKUP(H6,'PARAMETRIZACION '!$A$4:$F$15,6,FALSE)*Q6 -> 46791460 | Z6: =VLOOKUP(H6,'PARAMETRIZACION '!$A$4:$F$15,6,FALSE)*Q6 -> 46791460 | AA6: =VLOOKUP(H6,'PARAMETRIZACION '!$A$4:$F$15,6,FALSE)*Q6 -> 46791460 | AB6: =VLOOKUP(H6,'PARAMETRIZACION '!$A$4:$F$15,6,FALSE)*Q6 -> 46791460 | AC6: =VLOOKUP(H6,'PARAMETRIZACION '!$A$4:$F$15,6,FALSE)*Q6 -> 46791460 | AD6: =SUM(V6:AC6) -> 396198604 | AE6: =R6-AD6 -> 0
A7: CZ BARBACOAS | B7: 1347 | G7: Roberto Payan | H7: EDUCACIÓN INICIAL CAMPESINA A SIN RACION - PROPIA E INTERCULTURAL | I7: Educación Inicial Campesina - A - Propia e Intercultural | J7: Prestar los servicios de educación inicial en el marco de la atención Integral a la primera infancia de conformidad con los Manuales Técnicos, Guías Operativas para la Atención a la Primera Infancia y los lineamientos establecidos por el ICBF, en armonía con la Política de Estado para el Desarrollo Integral de la Primera Infancia de “Cero a Siempre. | K7: C-4602-1500-9-704020-4602020-02 | L7: 10 | M7: 805029466 | N7: ASOCIACION EMPRESARIAL DE SUMINISTROS Y SERVICIOS VARIOS | O7: 45930 | P7: 5 | Q7: 250 | R7: 545048250 | S7: =IF(B7=B6,0,SUMIFS($R$4:$R$95,$B$4:$B$95,B7)) -> 0 | T7: =ROUND((S7*2%),0) -> 0 | U7: =S7+T7 -> 0 | V7: =VLOOKUP(H7,'PARAMETRIZACION '!$A$4:$F$15,4,FALSE)*Q7+(VLOOKUP(H7,'PARAMETRIZACION '!$A$4:$F$15,6,FALSE)*Q7) -> 94272750 | W7: =VLOOKUP(H7,'PARAMETRIZACION '!$A$4:$F$15,6,FALSE)*Q7 -> 64396500 | X7: =VLOOKUP(H7,'PARAMETRIZACION '!$A$4:$F$15,6,FALSE)*Q7 -> 64396500 | Y7: =VLOOKUP(H7,'PARAMETRIZACION '!$A$4:$F$15,6,FALSE)*Q7 -> 64396500 | Z7: =VLOOKUP(H7,'PARAMETRIZACION '!$A$4:$F$15,6,FALSE)*Q7 -> 64396500 | AA7: =VLOOKUP(H7,'PARAMETRIZACION '!$A$4:$F$15,6,FALSE)*Q7 -> 64396500 | AB7: =VLOOKUP(H7,'PARAMETRIZACION '!$A$4:$F$15,6,FALSE)*Q7 -> 64396500 | AC7: =VLOOKUP(H7,'PARAMETRIZACION '!$A$4:$F$15,6,FALSE)*Q7 -> 64396500 | AD7: =SUM(V7:AC7) -> 545048250 | AE7: =R7-AD7 -> 0
A8: CZ IPIALES | B8: 1308 | G8: Aldana | H8: CENTRO DE DESARROLLO INFANTIL A - INSTITUCIONAL | I8: Centro de Desarrollo Infantil - A – Institucional | J8: Prestar los servicios de educación inicial en el marco de la atención Integral a la primera infancia de conformidad con los Manuales Técnicos, Guías Operativas para la Atención a la Primera Infancia y los lineamientos establecidos por el ICBF, en armonía con la Política de Estado para el Desarrollo Integral de la Primera Infancia de “Cero a Siempre. | K8: C-4602-1500-9-704020-4602020-02 | L8: 10 | M8: 900032891 | N8: ASOCIACIÓN DE CABILDOS Y/O AUTORIDADES INDIGENAS DEL NUDO DE LOS PASTOS -SHAQUIÑAN | O8: 45930 | P8: 1 | Q8: 45 | R8: 188498250 | S8: =IF(B8=B7,0,SUMIFS($R$4:$R$95,$B$4:$B$95,B8)) -> 966076276 | T8: =ROUND((S8*2%),0) -> 19321526 | U8: =S8+T8 -> 985397802 | V8: =VLOOKUP(H8,'PARAMETRIZACION '!$A$4:$F$15,4,FALSE)*Q8+(VLOOKUP(H8,'PARAMETRIZACION '!$A$4:$F$15,6,FALSE)*Q8) -> 29987730 | W8: =VLOOKUP(H8,'PARAMETRIZACION '!$A$4:$F$15,6,FALSE)*Q8 -> 22644360 | X8: =VLOOKUP(H8,'PARAMETRIZACION '!$A$4:$F$15,6,FALSE)*Q8 -> 22644360 | Y8: =VLOOKUP(H8,'PARAMETRIZACION '!$A$4:$F$15,6,FALSE)*Q8 -> 22644360 | Z8: =VLOOKUP(H8,'PARAMETRIZACION '!$A$4:$F$15,6,FALSE)*Q8 -> 22644360 | AA8: =VLOOKUP(H8,'PARAMETRIZACION '!$A$4:$F$15,6,FALSE)*Q8 -> 22644360 | AB8: =VLOOKUP(H8,'PARAMETRIZACION '!$A$4:$F$15,6,FALSE)*Q8 -> 22644360 | AC8: =VLOOKUP(H8,'PARAMETRIZACION '!$A$4:$F$15,6,FALSE)*Q8 -> 22644360 | AD8: =SUM(V8:AC8) -> 188498250 | AE8: =R8-AD8 -> 0
A9: CZ IPIALES | B9: 1308 | G9: Aldana | H9: CENTRO DE DESARROLLO INFANTIL CON ARRIENDO - INSTITUCIONAL | I9: Centro de Desarrollo Infantil - A – Institucional | J9: Prestar los servicios de educación inicial en el marco de la atención Integral a la primera infancia de conformidad con los Manuales Técnicos, Guías Operativas para la Atención a la Primera Infancia y los lineamientos establecidos por el ICBF, en armonía con la Política de Estado para el Desarrollo Integral de la Primera Infancia de “Cero a Siempre. | K9: C-4602-1500-9-704020-4602020-02 | L9: 10 | M9: 900032891 | N9: ASOCIACIÓN DE CABILDOS Y/O AUTORIDADES INDIGENAS DEL NUDO DE LOS PASTOS -SHAQUIÑAN | O9: 45930 | P9: 1 | Q9: 32 | R9: 138540864 | S9: =IF(B9=B8,0,SUMIFS($R$4:$R$95,$B$4:$B$95,B9)) -> 0 | T9: =ROUND((S9*2%),0) -> 0 | U9: =S9+T9 -> 0 | V9: =VLOOKUP(H9,'PARAMETRIZACION '!$A$4:$F$15,4,FALSE)*Q9+(VLOOKUP(H9,'PARAMETRIZACION '!$A$4:$F$15,6,FALSE)*Q9) -> 21886816 | W9: =VLOOKUP(H9,'PARAMETRIZACION '!$A$4:$F$15,6,FALSE)*Q9 -> 16664864 | X9: =VLOOKUP(H9,'PARAMETRIZACION '!$A$4:$F$15,6,FALSE)*Q9 -> 16664864 | Y9: =VLOOKUP(H9,'PARAMETRIZACION '!$A$4:$F$15,6,FALSE)*Q9 -> 16664864 | Z9: =VLOOKUP(H9,'PARAMETRIZACION '!$A$4:$F$15,6,FALSE)*Q9 -> 16664864 | AA9: =VLOOKUP(H9,'PARAMETRIZACION '!$A$4:$F$15,6,FALSE)*Q9 -> 16664864 | AB9: =VLOOKUP(H9,'PARAMETRIZACION '!$A$4:$F$15,6,FALSE)*Q9 -> 16664864 | AC9: =VLOOKUP(H9,'PARAMETRIZACION '!$A$4:$F$15,6,FALSE)*Q9 -> 16664864 | AD9: =SUM(V9:AC9) -> 138540864 | AE9: =R9-AD9 -> 0
A10: CZ IPIALES | B10: 1308 | G10: Guachucal | H10: CENTRO DE DESARROLLO INFANTIL A - INSTITUCIONAL | I10: Centro de Desarrollo Infantil - A – Institucional | J10: Prestar los servicios de educación inicial en el marco de la atención Integral a la primera infancia de conformidad con los Manuales Técnicos, Guías Operativas para la Atención a la Primera Infancia y los lineamientos establecidos por el ICBF, en armonía con la Política de Estado para el Desarrollo Integral de la Primera Infancia de “Cero a Siempre. | K10: C-4602-1500-9-704020-4602020-02 | L10: 10 | M10: 900032891 | N10: ASOCIACIÓN DE CABILDOS Y/O AUTORIDADES INDIGENAS DEL NUDO DE LOS PASTOS -SHAQUIÑAN | O10: 45930 | P10: 1 | Q10: 43 | R10: 180120550 | S10: =IF(B10=B9,0,SUMIFS($R$4:$R$95,$B$4:$B$95,B10)) -> 0 | T10: =ROUND((S10*2%),0) -> 0 | U10: =S10+T10 -> 0 | V10: =VLOOKUP(H10,'PARAMETRIZACION '!$A$4:$F$15,4,FALSE)*Q10+(VLOOKUP(H10,'PARAMETRIZACION '!$A$4:$F$15,6,FALSE)*Q10) -> 28654942 | W10: =VLOOKUP(H10,'PARAMETRIZACION '!$A$4:$F$15,6,FALSE)*Q10 -> 21637944 | X10: =VLOOKUP(H10,'PARAMETRIZACION '!$A$4:$F$15,6,FALSE)*Q10 -> 21637944 | Y10: =VLOOKUP(H10,'PARAMETRIZACION '!$A$4:$F$15,6,FALSE)*Q10 -> 21637944 | Z10: =VLOOKUP(H10,'PARAMETRIZACION '!$A$4:$F$15,6,FALSE)*Q10 -> 21637944 | AA10: =VLOOKUP(H10,'PARAMETRIZACION '!$A$4:$F$15,6,FALSE)*Q10 -> 21637944 | AB10: =VLOOKUP(H10,'PARAMETRIZACION '!$A$4:$F$15,6,FALSE)*Q10 -> 21637944 | AC10: =VLOOKUP(H10,'PARAMETRIZACION '!$A$4:$F$15,6,FALSE)*Q10 -> 21637944 | AD10: =SUM(V10:AC10) -> 180120550 | AE10: =R10-AD10 -> 0
A11: CZ IPIALES | B11: 1308 | G11: Guachucal | H11: CENTRO DE DESARROLLO INFANTIL CON ARRIENDO - INSTITUCIONAL | I11: Centro de Desarrollo Infantil - A – Institucional | J11: Prestar los servicios de educación inicial en el marco de la atención Integral a la primera infancia de conformidad con los Manuales Técnicos, Guías Operativas para la Atención a la Primera Infancia y los lineamientos establecidos por el ICBF, en armonía con la Política de Estado para el Desarrollo Integral de la Primera Infancia de “Cero a Siempre. | K11: C-4602-1500-9-704020-4602020-02 | L11: 10 | M11: 900032891 | N11: ASOCIACIÓN DE CABILDOS Y/O AUTORIDADES INDIGENAS DEL NUDO DE LOS PASTOS -SHAQUIÑAN | O11: 45930 | P11: 3 | Q11: 106 | R11: 458916612 | S11: =IF(B11=B10,0,SUMIFS($R$4:$R$95,$B$4:$B$95,B11)) -> 0 | T11: =ROUND((S11*2%),0) -> 0 | U11: =S11+T11 -> 0 | V11: =VLOOKUP(H11,'PARAMETRIZACION '!$A$4:$F$15,4,FALSE)*Q11+(VLOOKUP(H11,'PARAMETRIZACION '!$A$4:$F$15,6,FALSE)*Q11) -> 72500078 | W11: =VLOOKUP(H11,'PARAMETRIZACION '!$A$4:$F$15,6,FALSE)*Q11 -> 55202362 | X11: =VLOOKUP(H11,'PARAMETRIZACION '!$A$4:$F$15,6,FALSE)*Q11 -> 55202362 | Y11: =VLOOKUP(H11,'PARAMETRIZACION '!$A$4:$F$15,6,FALSE)*Q11 -> 55202362 | Z11: =VLOOKUP(H11,'PARAMETRIZACION '!$A$4:$F$15,6,FALSE)*Q11 -> 55202362 | AA11: =VLOOKUP(H11,'PARAMETRIZACION '!$A$4:$F$15,6,FALSE)*Q11 -> 55202362 | AB11: =VLOOKUP(H11,'PARAMETRIZACION '!$A$4:$F$15,6,FALSE)*Q11 -> 55202362 | AC11: =VLOOKUP(H11,'PARAMETRIZACION '!$A$4:$F$15,6,FALSE)*Q11 -> 55202362 | AD11: =SUM(V11:AC11) -> 458916612 | AE11: =R11-AD11 -> 0
A12: CZ IPIALES | B12: 1315 | G12: Contadero | H12: CENTRO DE DESARROLLO INFANTIL A - INSTITUCIONAL | I12: Centro de Desarrollo Infantil - A – Institucional | J12: Prestar los servicios de educación inicial en el marco de la atención Integral a la primera infancia de conformidad con los Manuales Técnicos, Guías Operativas para la Atención a la Primera Infancia y los lineamientos establecidos por el ICBF, en armonía con la Política de Estado para el Desarrollo Integral de la Primera Infancia de “Cero a Siempre. | K12: C-4602-1500-9-704020-4602020-02 | L12: 10 | M12: 900032891 | N12: ASOCIACIÓN DE CABILDOS Y/O AUTORIDADES INDIGENAS DEL NUDO DE LOS PASTOS -SHAQUIÑAN | O12: 45930 | P12: 1 | Q12: 55 | R12: 230386750 | S12: =IF(B12=B11,0,SUMIFS($R$4:$R$95,$B$4:$B$95,B12)) -> 968756250 | T12: =ROUND((S12*2%),0) -> 19375125 | U12: =S12+T12 -> 988131375 | V12: =VLOOKUP(H12,'PARAMETRIZACION '!$A$4:$F$15,4,FALSE)*Q12+(VLOOKUP(H12,'PARAMETRIZACION '!$A$4:$F$15,6,FALSE)*Q12) -> 36651670 | W12: =VLOOKUP(H12,'PARAMETRIZACION '!$A$4:$F$15,6,FALSE)*Q12 -> 27676440 | X12: =VLOOKUP(H12,'PARAMETRIZACION '!$A$4:$F$15,6,FALSE)*Q12 -> 27676440 | Y12: =VLOOKUP(H12,'PARAMETRIZACION '!$A$4:$F$15,6,FALSE)*Q12 -> 27676440 | Z12: =VLOOKUP(H12,'PARAMETRIZACION '!$A$4:$F$15,6,FALSE)*Q12 -> 27676440 | AA12: =VLOOKUP(H12,'PARAMETRIZACION '!$A$4:$F$15,6,FALSE)*Q12 -> 27676440 | AB12: =VLOOKUP(H12,'PARAMETRIZACION '!$A$4:$F$15,6,FALSE)*Q12 -> 27676440 | AC12: =VLOOKUP(H12,'PARAMETRIZACION '!$A$4:$F$15,6,FALSE)*Q12 -> 27676440 | AD12: =SUM(V12:AC12) -> 230386750 | AE12: =R12-AD12 -> 0
A13: CZ IPIALES | B13: 1315 | G13: Cordoba | H13: CENTRO DE DESARROLLO INFANTIL A - INSTITUCIONAL | I13: Centro de Desarrollo Infantil - A – Institucional | J13: Prestar los servicios de educación inicial en el marco de la atención Integral a la primera infancia de conformidad con los Manuales Técnicos, Guías Operativas para la Atención a la Primera Infancia y los lineamientos establecidos por el ICBF, en armonía con la Política de Estado para el Desarrollo Integral de la Primera Infancia de “Cero a Siempre. | K13: C-4602-1500-9-704020-4602020-02 | L13: 10 | M13: 900032891 | N13: ASOCIACIÓN DE CABILDOS Y/O AUTORIDADES INDIGENAS DEL NUDO DE LOS PASTOS -SHAQUIÑAN | O13: 45930 | P13: 2 | Q13: 140 | R13: 586439000 | S13: =IF(B13=B12,0,SUMIFS($R$4:$R$95,$B$4:$B$95,B13)) -> 0 | T13: =ROUND((S13*2%),0) -> 0 | U13: =S13+T13 -> 0 | V13: =VLOOKUP(H13,'PARAMETRIZACION '!$A$4:$F$15,4,FALSE)*Q13+(VLOOKUP(H13,'PARAMETRIZACION '!$A$4:$F$15,6,FALSE)*Q13) -> 93295160 | W13: =VLOOKUP(H13,'PARAMETRIZACION '!$A$4:$F$15,6,FALSE)*Q13 -> 70449120 | X13: =VLOOKUP(H13,'PARAMETRIZACION '!$A$4:$F$15,6,FALSE)*Q13 -> 70449120 | Y13: =VLOOKUP(H13,'PARAMETRIZACION '!$A$4:$F$15,6,FALSE)*Q13 -> 70449120 | Z13: =VLOOKUP(H13,'PARAMETRIZACION '!$A$4:$F$15,6,FALSE)*Q13 -> 70449120 | AA13: =VLOOKUP(H13,'PARAMETRIZACION '!$A$4:$F$15,6,FALSE)*Q13 -> 70449120 | AB13: =VLOOKUP(H13,'PARAMETRIZACION '!$A$4:$F$15,6,FALSE)*Q13 -> 70449120 | AC13: =VLOOKUP(H13,'PARAMETRIZACION '!$A$4:$F$15,6,FALSE)*Q13 -> 70449120 | AD13: =SUM(V13:AC13) -> 586439000 | AE13: =R13-AD13 -> 0
A14: CZ IPIALES | B14: 1315 | G14: Cordoba | H14: EDUCACIÓN INICIAL EN EL HOGAR A SIN RACION - FAMILIAR Y COMUNITARIA | I14: Educación Inicial en el Hogar - A - Familiar y Comunitaria | J14: Prestar los servicios de educación inicial en el marco de la atención Integral a la primera infancia de conformidad con los Manuales Técnicos, Guías Operativas para la Atención a la Primera Infancia y los lineamientos establecidos por el ICBF, en armonía con la Política de Estado para el Desarrollo Integral de la Primera Infancia de “Cero a Siempre. | K14: C-4602-1500-9-704020-4602020-02 | L14: 10 | M14: 900032891 | N14: ASOCIACIÓN DE CABILDOS Y/O AUTORIDADES INDIGENAS DEL NUDO DE LOS PASTOS -SHAQUIÑAN | O14: 45930 | P14: 4 | Q14: 100 | R14: 151930500 | S14: =IF(B14=B13,0,SUMIFS($R$4:$R$95,$B$4:$B$95,B14)) -> 0 | T14: =ROUND((S14*2%),0) -> 0 | U14: =S14+T14 -> 0 | V14: =VLOOKUP(H14,'PARAMETRIZACION '!$A$4:$F$15,4,FALSE)*Q14+(VLOOKUP(H14,'PARAMETRIZACION '!$A$4:$F$15,6,FALSE)*Q14) -> 26392500 | W14: =VLOOKUP(H14,'PARAMETRIZACION '!$A$4:$F$15,6,FALSE)*Q14 -> 17934000 | X14: =VLOOKUP(H14,'PARAMETRIZACION '!$A$4:$F$15,6,FALSE)*Q14 -> 17934000 | Y14: =VLOOKUP(H14,'PARAMETRIZACION '!$A$4:$F$15,6,FALSE)*Q14 -> 17934000 | Z14: =VLOOKUP(H14,'PARAMETRIZACION '!$A$4:$F$15,6,FALSE)*Q14 -> 17934000 | AA14: =VLOOKUP(H14,'PARAMETRIZACION '!$A$4:$F$15,6,FALSE)*Q14 -> 17934000 | AB14: =VLOOKUP(H14,'PARAMETRIZACION '!$A$4:$F$15,6,FALSE)*Q14 -> 17934000 | AC14: =VLOOKUP(H14,'PARAMETRIZACION '!$A$4:$F$15,6,FALSE)*Q14 -> 17934000 | AD14: =SUM(V14:AC14) -> 151930500 | AE14: =R14-AD14 -> 0
A15: CZ IPIALES | B15: 1316 | G15: Cuaspud | H15: CENTRO DE DESARROLLO INFANTIL A - INSTITUCIONAL | I15: Centro de Desarrollo Infantil - A – Institucional | J15: Prestar los servicios de educación inicial en el marco de la atención Integral a la primera infancia de conformidad con los Manuales Técnicos, Guías Operativas para la Atención a la Primera Infancia y los lineamientos establecidos por el ICBF, en armonía con la Política de Estado para el Desarrollo Integral de la Primera Infancia de “Cero a Siempre. | K15: C-4602-1500-9-704020-4602020-02 | L15: 10 | M15: 900032891 | N15: ASOCIACIÓN DE CABILDOS Y/O AUTORIDADES INDIGENAS DEL NUDO DE LOS PASTOS -SHAQUIÑAN | O15: 45930 | P15: 1 | Q15: 63 | R15: 263897550 | S15: =IF(B15=B14,0,SUMIFS($R$4:$R$95,$B$4:$B$95,B15)) -> 1231521900 | T15: =ROUND((S15*2%),0) -> 24630438 | U15: =S15+T15 -> 1256152338 | V15: =VLOOKUP(H15,'PARAMETRIZACION '!$A$4:$F$15,4,FALSE)*Q15+(VLOOKUP(H15,'PARAMETRIZACION '!$A$4:$F$15,6,FALSE)*Q15) -> 41982822 | W15: =VLOOKUP(H15,'PARAMETRIZACION '!$A$4:$F$15,6,FALSE)*Q15 -> 31702104 | X15: =VLOOKUP(H15,'PARAMETRIZACION '!$A$4:$F$15,6,FALSE)*Q15 -> 31702104 | Y15: =VLOOKUP(H15,'PARAMETRIZACION '!$A$4:$F$15,6,FALSE)*Q15 -> 31702104 | Z15: =VLOOKUP(H15,'PARAMETRIZACION '!$A$4:$F$15,6,FALSE)*Q15 -> 31702104 | AA15: =VLOOKUP(H15,'PARAMETRIZACION '!$A$4:$F$15,6,FALSE)*Q15 -> 31702104 | AB15: =VLOOKUP(H15,'PARAMETRIZACION '!$A$4:$F$15,6,FALSE)*Q15 -> 31702104 | AC15: =VLOOKUP(H15,'PARAMETRIZACION '!$A$4:$F$15,6,FALSE)*Q15 -> 31702104 | AD15: =SUM(V15:AC15) -> 263897550 | AE15: =R15-AD15 -> 0
... A44: CZ PASTO 1 | B44: 1306 | G44: Funes | H44: EDUCACIÓN INICIAL EN EL HOGAR A SIN RACION - FAMILIAR Y COMUNITARIA | I44: Educación Inicial en el Hogar - A - Familiar y Comunitaria | J44: Prestar los servicios de educación inicial en el marco de la atención Integral a la primera infancia de conformidad con los Manuales Técnicos, Guías Operativas para la Atención a la Primera Infancia y los lineamientos establecidos por el ICBF, en armonía con la Política de Estado para el Desarrollo Integral de la Primera Infancia de “Cero a Siempre. | K44: C-4602-1500-9-704020-4602020-02 | L44: 10 | M44: 901345939 | N44: FUNDACION ALMA DE VIDA | O44: 45930 | P44: 3 | Q44: 48 | R44: 72926640 | S44: =IF(B44=B43,0,SUMIFS($R$4:$R$95,$B$4:$B$95,B44)) -> 0 | T44: =ROUND((S44*2%),0) -> 0 | U44: =S44+T44 -> 0 | V44: =VLOOKUP(H44,'PARAMETRIZACION '!$A$4:$F$15,4,FALSE)*Q44+(VLOOKUP(H44,'PARAMETRIZACION '!$A$4:$F$15,6,FALSE)*Q44) -> 12668400 | W44: =VLOOKUP(H44,'PARAMETRIZACION '!$A$4:$F$15,6,FALSE)*Q44 -> 8608320 | X44: =VLOOKUP(H44,'PARAMETRIZACION '!$A$4:$F$15,6,FALSE)*Q44 -> 8608320 | Y44: =VLOOKUP(H44,'PARAMETRIZACION '!$A$4:$F$15,6,FALSE)*Q44 -> 8608320 | Z44: =VLOOKUP(H44,'PARAMETRIZACION '!$A$4:$F$15,6,FALSE)*Q44 -> 8608320 | AA44: =VLOOKUP(H44,'PARAMETRIZACION '!$A$4:$F$15,6,FALSE)*Q44 -> 8608320 | AB44: =VLOOKUP(H44,'PARAMETRIZACION '!$A$4:$F$15,6,FALSE)*Q44 -> 8608320 | AC44: =VLOOKUP(H44,'PARAMETRIZACION '!$A$4:$F$15,6,FALSE)*Q44 -> 8608320 | AD44: =SUM(V44:AC44) -> 72926640 | AE44: =R44-AD44 -> 0
A45: CZ PASTO 1 | B45: 1306 | G45: Tangua | H45: EDUCACIÓN INICIAL EN EL HOGAR A - FAMILIAR Y COMUNITARIA | I45: Educación Inicial en el Hogar - A - Familiar y Comunitaria | J45: Prestar los servicios de educación inicial en el marco de la atención Integral a la primera infancia de conformidad con los Manuales Técnicos, Guías Operativas para la Atención a la Primera Infancia y los lineamientos establecidos por el ICBF, en armonía con la Política de Estado para el Desarrollo Integral de la Primera Infancia de “Cero a Siempre. | K45: C-4602-1500-9-704020-4602020-02 | L45: 10 | M45: 901345939 | N45: FUNDACION ALMA DE VIDA | O45: 45930 | P45: 1 | Q45: 11 | R45: 33284603 | S45: =IF(B45=B44,0,SUMIFS($R$4:$R$95,$B$4:$B$95,B45)) -> 0 | T45: =ROUND((S45*2%),0) -> 0 | U45: =S45+T45 -> 0 | V45: =VLOOKUP(H45,'PARAMETRIZACION '!$A$4:$F$18,4,FALSE)*Q45+(VLOOKUP(H45,'PARAMETRIZACION '!$A$4:$F$18,6,FALSE)*Q45) -> 4974706 | W45: =VLOOKUP(H45,'PARAMETRIZACION '!$A$4:$F$18,6,FALSE)*Q45 -> 4044271 | X45: =VLOOKUP(H45,'PARAMETRIZACION '!$A$4:$F$18,6,FALSE)*Q45 -> 4044271 | Y45: =VLOOKUP(H45,'PARAMETRIZACION '!$A$4:$F$18,6,FALSE)*Q45 -> 4044271 | Z45: =VLOOKUP(H45,'PARAMETRIZACION '!$A$4:$F$18,6,FALSE)*Q45 -> 4044271 | AA45: =VLOOKUP(H45,'PARAMETRIZACION '!$A$4:$F$18,6,FALSE)*Q45 -> 4044271 | AB45: =VLOOKUP(H45,'PARAMETRIZACION '!$A$4:$F$18,6,FALSE)*Q45 -> 4044271 | AC45: =VLOOKUP(H45,'PARAMETRIZACION '!$A$4:$F$18,6,FALSE)*Q45 -> 4044271 | AD45: =SUM(V45:AC45) -> 33284603 | AE45: =R45-AD45 -> 0
A46: CZ PASTO 1 | B46: 1306 | G46: Tangua | H46: CENTRO DE DESARROLLO INFANTIL A - INSTITUCIONAL | I46: Centro de Desarrollo Infantil - A – Institucional | J46: Prestar los servicios de educación inicial en el marco de la atención Integral a la primera infancia de conformidad con los Manuales Técnicos, Guías Operativas para la Atención a la Primera Infancia y los lineamientos establecidos por el ICBF, en armonía con la Política de Estado para el Desarrollo Integral de la Primera Infancia de “Cero a Siempre. | K46: C-4602-1500-9-704020-4602020-02 | L46: 10 | M46: 901345939 | N46: FUNDACION ALMA DE VIDA | O46: 45930 | P46: 1 | Q46: 35 | R46: 146609750 | S46: =IF(B46=B45,0,SUMIFS($R$4:$R$95,$B$4:$B$95,B46)) -> 0 | T46: =ROUND((S46*2%),0) -> 0 | U46: =S46+T46 -> 0 | V46: =VLOOKUP(H46,'PARAMETRIZACION '!$A$4:$F$15,4,FALSE)*Q46+(VLOOKUP(H46,'PARAMETRIZACION '!$A$4:$F$15,6,FALSE)*Q46) -> 23323790 | W46: =VLOOKUP(H46,'PARAMETRIZACION '!$A$4:$F$15,6,FALSE)*Q46 -> 17612280 | X46: =VLOOKUP(H46,'PARAMETRIZACION '!$A$4:$F$15,6,FALSE)*Q46 -> 17612280 | Y46: =VLOOKUP(H46,'PARAMETRIZACION '!$A$4:$F$15,6,FALSE)*Q46 -> 17612280 | Z46: =VLOOKUP(H46,'PARAMETRIZACION '!$A$4:$F$15,6,FALSE)*Q46 -> 17612280 | AA46: =VLOOKUP(H46,'PARAMETRIZACION '!$A$4:$F$15,6,FALSE)*Q46 -> 17612280 | AB46: =VLOOKUP(H46,'PARAMETRIZACION '!$A$4:$F$15,6,FALSE)*Q46 -> 17612280 | AC46: =VLOOKUP(H46,'PARAMETRIZACION '!$A$4:$F$15,6,FALSE)*Q46 -> 17612280 | AD46: =SUM(V46:AC46) -> 146609750 | AE46: =R46-AD46 -> 0
A47: CZ PASTO 1 | B47: 1306 | G47: Tangua | H47: EDUCACIÓN INICIAL EN EL HOGAR A SIN RACION - FAMILIAR Y COMUNITARIA | I47: Educación Inicial en el Hogar - A - Familiar y Comunitaria | J47: Prestar los servicios de educación inicial en el marco de la atención Integral a la primera infancia de conformidad con los Manuales Técnicos, Guías Operativas para la Atención a la Primera Infancia y los lineamientos establecidos por el ICBF, en armonía con la Política de Estado para el Desarrollo Integral de la Primera Infancia de “Cero a Siempre. | K47: C-4602-1500-9-704020-4602020-02 | L47: 10 | M47: 901345939 | N47: FUNDACION ALMA DE VIDA | O47: 45930 | P47: 2 | Q47: 45 | R47: 68368725 | S47: =IF(B47=B46,0,SUMIFS($R$4:$R$95,$B$4:$B$95,B47)) -> 0 | T47: =ROUND((S47*2%),0) -> 0 | U47: =S47+T47 -> 0 | V47: =VLOOKUP(H47,'PARAMETRIZACION '!$A$4:$F$15,4,FALSE)*Q47+(VLOOKUP(H47,'PARAMETRIZACION '!$A$4:$F$15,6,FALSE)*Q47) -> 11876625 | W47: =VLOOKUP(H47,'PARAMETRIZACION '!$A$4:$F$15,6,FALSE)*Q47 -> 8070300 | X47: =VLOOKUP(H47,'PARAMETRIZACION '!$A$4:$F$15,6,FALSE)*Q47 -> 8070300 | Y47: =VLOOKUP(H47,'PARAMETRIZACION '!$A$4:$F$15,6,FALSE)*Q47 -> 8070300 | Z47: =VLOOKUP(H47,'PARAMETRIZACION '!$A$4:$F$15,6,FALSE)*Q47 -> 8070300 | AA47: =VLOOKUP(H47,'PARAMETRIZACION '!$A$4:$F$15,6,FALSE)*Q47 -> 8070300 | AB47: =VLOOKUP(H47,'PARAMETRIZACION '!$A$4:$F$15,6,FALSE)*Q47 -> 8070300 | AC47: =VLOOKUP(H47,'PARAMETRIZACION '!$A$4:$F$15,6,FALSE)*Q47 -> 8070300 | AD47: =SUM(V47:AC47) -> 68368725 | AE47: =R47-AD47 -> 0
A48: CZ PASTO 1 | B48: 1307 | G48: Alban | H48: CENTRO DE DESARROLLO INFANTIL A SIN RACION - INSTITUCIONAL | I48: Centro de Desarrollo Infantil - A – Institucional | J48: Prestar los servicios de educación inicial en el marco de la atención Integral a la primera infancia de conformidad con los Manuales Técnicos, Guías Operativas para la Atención a la Primera Infancia y los lineamientos establecidos por el ICBF, en armonía con la Política de Estado para el Desarrollo Integral de la Primera Infancia de “Cero a Siempre. | K48: C-4602-1500-9-704020-4602020-02 | L48: 10 | M48: 900782430 | N48: FUNDACION NUEVA ALIANZA FUTURO | O48: 45930 | P48: 1 | Q48: 76 | R48: 224709656 | S48: =IF(B48=B47,0,SUMIFS($R$4:$R$95,$B$4:$B$95,B48)) -> 476914286 | T48: =ROUND((S48*2%),0) -> 9538286 | U48: =S48+T48 -> 486452572 | V48: =VLOOKUP(H48,'PARAMETRIZACION '!$A$4:$F$15,4,FALSE)*Q48+(VLOOKUP(H48,'PARAMETRIZACION '!$A$4:$F$15,6,FALSE)*Q48) -> 38940576 | W48: =VLOOKUP(H48,'PARAMETRIZACION '!$A$4:$F$15,6,FALSE)*Q48 -> 26538440 | X48: =VLOOKUP(H48,'PARAMETRIZACION '!$A$4:$F$15,6,FALSE)*Q48 -> 26538440 | Y48: =VLOOKUP(H48,'PARAMETRIZACION '!$A$4:$F$15,6,FALSE)*Q48 -> 26538440 | Z48: =VLOOKUP(H48,'PARAMETRIZACION '!$A$4:$F$15,6,FALSE)*Q48 -> 26538440 | AA48: =VLOOKUP(H48,'PARAMETRIZACION '!$A$4:$F$15,6,FALSE)*Q48 -> 26538440 | AB48: =VLOOKUP(H48,'PARAMETRIZACION '!$A$4:$F$15,6,FALSE)*Q48 -> 26538440 | AC48: =VLOOKUP(H48,'PARAMETRIZACION '!$A$4:$F$15,6,FALSE)*Q48 -> 26538440 | AD48: =SUM(V48:AC48) -> 224709656 | AE48: =R48-AD48 -> 0
A49: CZ PASTO 1 | B49: 1307 | G49: Alban | H49: EDUCACIÓN INICIAL EN EL HOGAR A SIN RACION - FAMILIAR Y COMUNITARIA | I49: Educación Inicial en el Hogar - A - Familiar y Comunitaria | J49: Prestar los servicios de educación inicial en el marco de la atención Integral a la primera infancia de conformidad con los Manuales Técnicos, Guías Operativas para la Atención a la Primera Infancia y los lineamientos establecidos por el ICBF, en armonía con la Política de Estado para el Desarrollo Integral de la Primera Infancia de “Cero a Siempre. | K49: C-4602-1500-9-704020-4602020-02 | L49: 10 | M49: 900782430 | N49: FUNDACION NUEVA ALIANZA FUTURO | O49: 45930 | P49: 11 | Q49: 166 | R49: 252204630 | S49: =IF(B49=B48,0,SUMIFS($R$4:$R$95,$B$4:$B$95,B49)) -> 0 | T49: =ROUND((S49*2%),0) -> 0 | U49: =S49+T49 -> 0 | V49: =VLOOKUP(H49,'PARAMETRIZACION '!$A$4:$F$15,4,FALSE)*Q49+(VLOOKUP(H49,'PARAMETRIZACION '!$A$4:$F$15,6,FALSE)*Q49) -> 43811550 | W49: =VLOOKUP(H49,'PARAMETRIZACION '!$A$4:$F$15,6,FALSE)*Q49 -> 29770440 | X49: =VLOOKUP(H49,'PARAMETRIZACION '!$A$4:$F$15,6,FALSE)*Q49 -> 29770440 | Y49: =VLOOKUP(H49,'PARAMETRIZACION '!$A$4:$F$15,6,FALSE)*Q49 -> 29770440 | Z49: =VLOOKUP(H49,'PARAMETRIZACION '!$A$4:$F$15,6,FALSE)*Q49 -> 29770440 | AA49: =VLOOKUP(H49,'PARAMETRIZACION '!$A$4:$F$15,6,FALSE)*Q49 -> 29770440 | AB49: =VLOOKUP(H49,'PARAMETRIZACION '!$A$4:$F$15,6,FALSE)*Q49 -> 29770440 | AC49: =VLOOKUP(H49,'PARAMETRIZACION '!$A$4:$F$15,6,FALSE)*Q49 -> 29770440 | AD49: =SUM(V49:AC49) -> 252204630 | AE49: =R49-AD49 -> 0
A50: CZ PASTO 1 | B50: 1312 | G50: Buesaco | H50: CENTRO DE DESARROLLO INFANTIL A SIN RACION - INSTITUCIONAL | I50: Centro de Desarrollo Infantil - A – Institucional | J50: Prestar los servicios de educación inicial en el marco de la atención Integral a la primera infancia de conformidad con los Manuales Técnicos, Guías Operativas para la Atención a la Primera Infancia y los lineamientos establecidos por el ICBF, en armonía con la Política de Estado para el Desarrollo Integral de la Primera Infancia de “Cero a Siempre. | K50: C-4602-1500-9-704020-4602020-02 | L50: 10 | M50: 900782430 | N50: FUNDACION NUEVA ALIANZA FUTURO | O50: 45930 | P50: 1 | Q50: 100 | R50: 295670600 | S50: =IF(B50=B49,0,SUMIFS($R$4:$R$95,$B$4:$B$95,B50)) -> 477987200 | T50: =ROUND((S50*2%),0) -> 9559744 | U50: =S50+T50 -> 487546944 | V50: =VLOOKUP(H50,'PARAMETRIZACION '!$A$4:$F$15,4,FALSE)*Q50+(VLOOKUP(H50,'PARAMETRIZACION '!$A$4:$F$15,6,FALSE)*Q50) -> 51237600 | W50: =VLOOKUP(H50,'PARAMETRIZACION '!$A$4:$F$15,6,FALSE)*Q50 -> 34919000 | X50: =VLOOKUP(H50,'PARAMETRIZACION '!$A$4:$F$15,6,FALSE)*Q50 -> 34919000 | Y50: =VLOOKUP(H50,'PARAMETRIZACION '!$A$4:$F$15,6,FALSE)*Q50 -> 34919000 | Z50: =VLOOKUP(H50,'PARAMETRIZACION '!$A$4:$F$15,6,FALSE)*Q50 -> 34919000 | AA50: =VLOOKUP(H50,'PARAMETRIZACION '!$A$4:$F$15,6,FALSE)*Q50 -> 34919000 | AB50: =VLOOKUP(H50,'PARAMETRIZACION '!$A$4:$F$15,6,FALSE)*Q50 -> 34919000 | AC50: =VLOOKUP(H50,'PARAMETRIZACION '!$A$4:$F$15,6,FALSE)*Q50 -> 34919000 | AD50: =SUM(V50:AC50) -> 295670600 | AE50: =R50-AD50 -> 0
A51: CZ PASTO 1 | B51: 1312 | G51: Buesaco | H51: EDUCACIÓN INICIAL EN EL HOGAR A SIN RACION - FAMILIAR Y COMUNITARIA | I51: Educación Inicial en el Hogar - A - Familiar y Comunitaria | J51: Prestar los servicios de educación inicial en el marco de la atención Integral a la primera infancia de conformidad con los Manuales Técnicos, Guías Operativas para la Atención a la Primera Infancia y los lineamientos establecidos por el ICBF, en armonía con la Política de Estado para el Desarrollo Integral de la Primera Infancia de “Cero a Siempre. | K51: C-4602-1500-9-704020-4602020-02 | L51: 10 | M51: 900782430 | N51: FUNDACION NUEVA ALIANZA FUTURO | O51: 45930 | P51: 8 | Q51: 120 | R51: 182316600 | S51: =IF(B51=B50,0,SUMIFS($R$4:$R$95,$B$4:$B$95,B51)) -> 0 | T51: =ROUND((S51*2%),0) -> 0 | U51: =S51+T51 -> 0 | V51: =VLOOKUP(H51,'PARAMETRIZACION '!$A$4:$F$15,4,FALSE)*Q51+(VLOOKUP(H51,'PARAMETRIZACION '!$A$4:$F$15,6,FALSE)*Q51) -> 31671000 | W51: =VLOOKUP(H51,'PARAMETRIZACION '!$A$4:$F$15,6,FALSE)*Q51 -> 21520800 | X51: =VLOOKUP(H51,'PARAMETRIZACION '!$A$4:$F$15,6,FALSE)*Q51 -> 21520800 | Y51: =VLOOKUP(H51,'PARAMETRIZACION '!$A$4:$F$15,6,FALSE)*Q51 -> 21520800 | Z51: =VLOOKUP(H51,'PARAMETRIZACION '!$A$4:$F$15,6,FALSE)*Q51 -> 21520800 | AA51: =VLOOKUP(H51,'PARAMETRIZACION '!$A$4:$F$15,6,FALSE)*Q51 -> 21520800 | AB51: =VLOOKUP(H51,'PARAMETRIZACION '!$A$4:$F$15,6,FALSE)*Q51 -> 21520800 | AC51: =VLOOKUP(H51,'PARAMETRIZACION '!$A$4:$F$15,6,FALSE)*Q51 -> 21520800 | AD51: =SUM(V51:AC51) -> 182316600 | AE51: =R51-AD51 -> 0
A52: CZ PASTO 1 | B52: 1313 | G52: Chachagüi | H52: CENTRO DE DESARROLLO INFANTIL A SIN RACION - INSTITUCIONAL | I52: Centro de Desarrollo Infantil - A – Institucional | J52: Prestar los servicios de educación inicial en el marco de la atención Integral a la primera infancia de conformidad con los Manuales Técnicos, Guías Operativas para la Atención a la Primera Infancia y los lineamientos establecidos por el ICBF, en armonía con la Política de Estado para el Desarrollo Integral de la Primera Infancia de “Cero a Siempre. | K52: C-4602-1500-9-704020-4602020-02 | L52: 10 | M52: 901345939 | N52: FUNDACION ALMA DE VIDA | O52: 45930 | P52: 1 | Q52: 125 | R52: 369588250 | S52: =IF(B52=B51,0,SUMIFS($R$4:$R$95,$B$4:$B$95,B52)) -> 639459374 | T52: =ROUND((S52*2%),0) -> 12789187 | U52: =S52+T52 -> 652248561 | V52: =VLOOKUP(H52,'PARAMETRIZACION '!$A$4:$F$15,4,FALSE)*Q52+(VLOOKUP(H52,'PARAMETRIZACION '!$A$4:$F$15,6,FALSE)*Q52) -> 64047000 | W52: =VLOOKUP(H52,'PARAMETRIZACION '!$A$4:$F$15,6,FALSE)*Q52 -> 43648750 | X52: =VLOOKUP(H52,'PARAMETRIZACION '!$A$4:$F$15,6,FALSE)*Q52 -> 43648750 | Y52: =VLOOKUP(H52,'PARAMETRIZACION '!$A$4:$F$15,6,FALSE)*Q52 -> 43648750 | Z52: =VLOOKUP(H52,'PARAMETRIZACION '!$A$4:$F$15,6,FALSE)*Q52 -> 43648750 | AA52: =VLOOKUP(H52,'PARAMETRIZACION '!$A$4:$F$15,6,FALSE)*Q52 -> 43648750 | AB52: =VLOOKUP(H52,'PARAMETRIZACION '!$A$4:$F$15,6,FALSE)*Q52 -> 43648750 | AC52: =VLOOKUP(H52,'PARAMETRIZACION '!$A$4:$F$15,6,FALSE)*Q52 -> 43648750 | AD52: =SUM(V52:AC52) -> 369588250 | AE52: =R52-AD52 -> 0
A53: CZ PASTO 1 | B53: 1313 | G53: Chachagüi | H53: EDUCACIÓN INICIAL EN EL HOGAR A SIN RACION - FAMILIAR Y COMUNITARIA | I53: Educación Inicial en el Hogar - A - Familiar y Comunitaria | J53: Prestar los servicios de educación inicial en el marco de la atención Integral a la primera infancia de conformidad con los Manuales Técnicos, Guías Operativas para la Atención a la Primera Infancia y los lineamientos establecidos por el ICBF, en armonía con la Política de Estado para el Desarrollo Integral de la Primera Infancia de “Cero a Siempre. | K53: C-4602-1500-9-704020-4602020-02 | L53: 10 | M53: 901345939 | N53: FUNDACION ALMA DE VIDA | O53: 45930 | P53: 6 | Q53: 92 | R53: 139776060 | S53: =IF(B53=B52,0,SUMIFS($R$4:$R$95,$B$4:$B$95,B53)) -> 0 | T53: =ROUND((S53*2%),0) -> 0 | U53: =S53+T53 -> 0 | V53: =VLOOKUP(H53,'PARAMETRIZACION '!$A$4:$F$15,4,FALSE)*Q53+(VLOOKUP(H53,'PARAMETRIZACION '!$A$4:$F$15,6,FALSE)*Q53) -> 24281100 | W53: =VLOOKUP(H53,'PARAMETRIZACION '!$A$4:$F$15,6,FALSE)*Q53 -> 16499280 | X53: =VLOOKUP(H53,'PARAMETRIZACION '!$A$4:$F$15,6,FALSE)*Q53 -> 16499280 | Y53: =VLOOKUP(H53,'PARAMETRIZACION '!$A$4:$F$15,6,FALSE)*Q53 -> 16499280 | Z53: =VLOOKUP(H53,'PARAMETRIZACION '!$A$4:$F$15,6,FALSE)*Q53 -> 16499280 | AA53: =VLOOKUP(H53,'PARAMETRIZACION '!$A$4:$F$15,6,FALSE)*Q53 -> 16499280 | AB53: =VLOOKUP(H53,'PARAMETRIZACION '!$A$4:$F$15,6,FALSE)*Q53 -> 16499280 | AC53: =VLOOKUP(H53,'PARAMETRIZACION '!$A$4:$F$15,6,FALSE)*Q53 -> 16499280 | AD53: =SUM(V53:AC53) -> 139776060 | AE53: =R53-AD53 -> 0
A54: CZ PASTO 1 | B54: 1313 | G54: El Tablon De Gomez | H54: CENTRO DE DESARROLLO INFANTIL A SIN RACION - INSTITUCIONAL | I54: Centro de Desarrollo Infantil - A – Institucional | J54: Prestar los servicios de educación inicial en el marco de la atención Integral a la primera infancia de conformidad con los Manuales Técnicos, Guías Operativas para la Atención a la Primera Infancia y los lineamientos establecidos por el ICBF, en armonía con la Política de Estado para el Desarrollo Integral de la Primera Infancia de “Cero a Siempre. | K54: C-4602-1500-9-704020-4602020-02 | L54: 10 | M54: 901345939 | N54: FUNDACION ALMA DE VIDA | O54: 45930 | P54: 1 | Q54: 44 | R54: 130095064 | S54: =IF(B54=B53,0,SUMIFS($R$4:$R$95,$B$4:$B$95,B54)) -> 0 | T54: =ROUND((S54*2%),0) -> 0 | U54: =S54+T54 -> 0 | V54: =VLOOKUP(H54,'PARAMETRIZACION '!$A$4:$F$15,4,FALSE)*Q54+(VLOOKUP(H54,'PARAMETRIZACION '!$A$4:$F$15,6,FALSE)*Q54) -> 22544544 | W54: =VLOOKUP(H54,'PARAMETRIZACION '!$A$4:$F$15,6,FALSE)*Q54 -> 15364360 | X54: =VLOOKUP(H54,'PARAMETRIZACION '!$A$4:$F$15,6,FALSE)*Q54 -> 15364360 | Y54: =VLOOKUP(H54,'PARAMETRIZACION '!$A$4:$F$15,6,FALSE)*Q54 -> 15364360 | Z54: =VLOOKUP(H54,'PARAMETRIZACION '!$A$4:$F$15,6,FALSE)*Q54 -> 15364360 | AA54: =VLOOKUP(H54,'PARAMETRIZACION '!$A$4:$F$15,6,FALSE)*Q54 -> 15364360 | AB54: =VLOOKUP(H54,'PARAMETRIZACION '!$A$4:$F$15,6,FALSE)*Q54 -> 15364360 | AC54: =VLOOKUP(H54,'PARAMETRIZACION '!$A$4:$F$15,6,FALSE)*Q54 -> 15364360 | AD54: =SUM(V54:AC54) -> 130095064 | AE54: =R54-AD54 -> 0
A55: CZ PASTO 1 | B55: 1337 | G55: Pasto | H55: CENTRO DE DESARROLLO INFANTIL CON ARRIENDO - INSTITUCIONAL | I55: Centro de Desarrollo Infantil - A – Institucional | J55: Prestar los servicios de educación inicial en el marco de la atención Integral a la primera infancia de conformidad con los Manuales Técnicos, Guías Operativas para la Atención a la Primera Infancia y los lineamientos establecidos por el ICBF, en armonía con la Política de Estado para el Desarrollo Integral de la Primera Infancia de “Cero a Siempre. | K55: C-4602-1500-9-704020-4602020-02 | L55: 10 | M55: 891200304 | N55: HOGAR INFANTIL NIÑA MARIA | O55: 45930 | P55: 3 | Q55: 608 | R55: 2632276416 | S55: =IF(B55=B54,0,SUMIFS($R$4:$R$95,$B$4:$B$95,B55)) -> 2632276416 | T55: =ROUND((S55*2%),0) -> 52645528 | U55: =S55+T55 -> 2684921944 | V55: =VLOOKUP(H55,'PARAMETRIZACION '!$A$4:$F$15,4,FALSE)*Q55+(VLOOKUP(H55,'PARAMETRIZACION '!$A$4:$F$15,6,FALSE)*Q55) -> 415849504 | W55: =VLOOKUP(H55,'PARAMETRIZACION '!$A$4:$F$15,6,FALSE)*Q55 -> 316632416 | X55: =VLOOKUP(H55,'PARAMETRIZACION '!$A$4:$F$15,6,FALSE)*Q55 -> 316632416 | Y55: =VLOOKUP(H55,'PARAMETRIZACION '!$A$4:$F$15,6,FALSE)*Q55 -> 316632416 | Z55: =VLOOKUP(H55,'PARAMETRIZACION '!$A$4:$F$15,6,FALSE)*Q55 -> 316632416 | AA55: =VLOOKUP(H55,'PARAMETRIZACION '!$A$4:$F$15,6,FALSE)*Q55 -> 316632416 | AB55: =VLOOKUP(H55,'PARAMETRIZACION '!$A$4:$F$15,6,FALSE)*Q55 -> 316632416 | AC55: =VLOOKUP(H55,'PARAMETRIZACION '!$A$4:$F$15,6,FALSE)*Q55 -> 316632416 | AD55: =SUM(V55:AC55) -> 2632276416 | AE55: =R55-AD55 -> 0
A56: CZ PASTO 1 | B56: 1339 | G56: Pasto | H56: CENTRO DE DESARROLLO INFANTIL A - INSTITUCIONAL | I56: Centro de Desarrollo Infantil - A – Institucional | J56: Prestar los servicios de educación inicial en el marco de la atención Integral a la primera infancia de conformidad con los Manuales Técnicos, Guías Operativas para la Atención a la Primera Infancia y los lineamientos establecidos por el ICBF, en armonía con la Política de Estado para el Desarrollo Integral de la Primera Infancia de “Cero a Siempre. | K56: C-4602-1500-9-704020-4602020-02 | L56: 10 | M56: 901086483 | N56: FUNDACION LIDERA Y EMPRENDE COLOMBIA | O56: 45930 | P56: 1 | Q56: 85 | R56: 356052250 | S56: =IF(B56=B55,0,SUMIFS($R$4:$R$95,$B$4:$B$95,B56)) -> 2572706074 | T56: =ROUND((S56*2%),0) -> 51454121 | U56: =S56+T56 -> 2624160195 | V56: =VLOOKUP(H56,'PARAMETRIZACION '!$A$4:$F$15,4,FALSE)*Q56+(VLOOKUP(H56,'PARAMETRIZACION '!$A$4:$F$15,6,FALSE)*Q56) -> 56643490 | W56: =VLOOKUP(H56,'PARAMETRIZACION '!$A$4:$F$15,6,FALSE)*Q56 -> 42772680 | X56: =VLOOKUP(H56,'PARAMETRIZACION '!$A$4:$F$15,6,FALSE)*Q56 -> 42772680 | Y56: =VLOOKUP(H56,'PARAMETRIZACION '!$A$4:$F$15,6,FALSE)*Q56 -> 42772680 | Z56: =VLOOKUP(H56,'PARAMETRIZACION '!$A$4:$F$15,6,FALSE)*Q56 -> 42772680 | AA56: =VLOOKUP(H56,'PARAMETRIZACION '!$A$4:$F$15,6,FALSE)*Q56 -> 42772680 | AB56: =VLOOKUP(H56,'PARAMETRIZACION '!$A$4:$F$15,6,FALSE)*Q56 -> 42772680 | AC56: =VLOOKUP(H56,'PARAMETRIZACION '!$A$4:$F$15,6,FALSE)*Q56 -> 42772680 | AD56: =SUM(V56:AC56) -> 356052250 | AE56: =R56-AD56 -> 0
A57: CZ PASTO 1 | B57: 1339 | G57: Pasto | H57: CENTRO DE DESARROLLO INFANTIL CON ARRIENDO - INSTITUCIONAL | I57: Centro de Desarrollo Infantil - A – Institucional | J57: Prestar los servicios de educación inicial en el marco de la atención Integral a la primera infancia de conformidad con los Manuales Técnicos, Guías Operativas para la Atención a la Primera Infancia y los lineamientos establecidos por el ICBF, en armonía con la Política de Estado para el Desarrollo Integral de la Primera Infancia de “Cero a Siempre. | K57: C-4602-1500-9-704020-4602020-02 | L57: 10 | M57: 901086483 | N57: FUNDACION LIDERA Y EMPRENDE COLOMBIA | O57: 45930 | P57: 6 | Q57: 512 | R57: 2216653824 | S57: =IF(B57=B56,0,SUMIFS($R$4:$R$95,$B$4:$B$95,B57)) -> 0 | T57: =ROUND((S57*2%),0) -> 0 | U57: =S57+T57 -> 0 | V57: =VLOOKUP(H57,'PARAMETRIZACION '!$A$4:$F$15,4,FALSE)*Q57+(VLOOKUP(H57,'PARAMETRIZACION '!$A$4:$F$15,6,FALSE)*Q57) -> 350189056 | W57: =VLOOKUP(H57,'PARAMETRIZACION '!$A$4:$F$15,6,FALSE)*Q57 -> 266637824 | X57: =VLOOKUP(H57,'PARAMETRIZACION '!$A$4:$F$15,6,FALSE)*Q57 -> 266637824 | Y57: =VLOOKUP(H57,'PARAMETRIZACION '!$A$4:$F$15,6,FALSE)*Q57 -> 266637824 | Z57: =VLOOKUP(H57,'PARAMETRIZACION '!$A$4:$F$15,6,FALSE)*Q57 -> 266637824 | AA57: =VLOOKUP(H57,'PARAMETRIZACION '!$A$4:$F$15,6,FALSE)*Q57 -> 266637824 | AB57: =VLOOKUP(H57,'PARAMETRIZACION '!$A$4:$F$15,6,FALSE)*Q57 -> 266637824 | AC57: =VLOOKUP(H57,'PARAMETRIZACION '!$A$4:$F$15,6,FALSE)*Q57 -> 266637824 | AD57: =SUM(V57:AC57) -> 2216653824 | AE57: =R57-AD57 -> 0
... A63: CZ PASTO 2 | B63: 1320 | G63: Sandona | H63: EDUCACIÓN INICIAL EN EL HOGAR A SIN RACION - FAMILIAR Y COMUNITARIA | I63: Educación Inicial en el Hogar - A - Familiar y Comunitaria | J63: Prestar los servicios de educación inicial en el marco de la atención Integral a la primera infancia de conformidad con los Manuales Técnicos, Guías Operativas para la Atención a la Primera Infancia y los lineamientos establecidos por el ICBF, en armonía con la Política de Estado para el Desarrollo Integral de la Primera Infancia de “Cero a Siempre. | K63: C-4602-1500-9-704020-4602020-02 | L63: 10 | M63: 814000792 | N63: FUNDACION PARA LA EDUCACION LA AUTOGESTION Y EL PROGRESO | O63: 45930 | P63: 6 | Q63: 100 | R63: 151930500 | S63: =IF(B63=B62,0,SUMIFS($R$4:$R$95,$B$4:$B$95,B63)) -> 0 | T63: =ROUND((S63*2%),0) -> 0 | U63: =S63+T63 -> 0 | V63: =VLOOKUP(H63,'PARAMETRIZACION '!$A$4:$F$15,4,FALSE)*Q63+(VLOOKUP(H63,'PARAMETRIZACION '!$A$4:$F$15,6,FALSE)*Q63) -> 26392500 | W63: =VLOOKUP(H63,'PARAMETRIZACION '!$A$4:$F$15,6,FALSE)*Q63 -> 17934000 | X63: =VLOOKUP(H63,'PARAMETRIZACION '!$A$4:$F$15,6,FALSE)*Q63 -> 17934000 | Y63: =VLOOKUP(H63,'PARAMETRIZACION '!$A$4:$F$15,6,FALSE)*Q63 -> 17934000 | Z63: =VLOOKUP(H63,'PARAMETRIZACION '!$A$4:$F$15,6,FALSE)*Q63 -> 17934000 | AA63: =VLOOKUP(H63,'PARAMETRIZACION '!$A$4:$F$15,6,FALSE)*Q63 -> 17934000 | AB63: =VLOOKUP(H63,'PARAMETRIZACION '!$A$4:$F$15,6,FALSE)*Q63 -> 17934000 | AC63: =VLOOKUP(H63,'PARAMETRIZACION '!$A$4:$F$15,6,FALSE)*Q63 -> 17934000 | AD63: =SUM(V63:AC63) -> 151930500 | AE63: =R63-AD63 -> 0
A64: CZ PASTO 2 | B64: 1332 | G64: Los Andes | H64: CENTRO DE DESARROLLO INFANTIL A - INSTITUCIONAL | I64: Centro de Desarrollo Infantil - A – Institucional | J64: Prestar los servicios de educación inicial en el marco de la atención Integral a la primera infancia de conformidad con los Manuales Técnicos, Guías Operativas para la Atención a la Primera Infancia y los lineamientos establecidos por el ICBF, en armonía con la Política de Estado para el Desarrollo Integral de la Primera Infancia de “Cero a Siempre. | K64: C-4602-1500-9-704020-4602020-02 | L64: 10 | M64: 900631966-1 | N64: FUNDACION FUNPERS | O64: 45930 | P64: 2 | Q64: 152 | R64: 636705200 | S64: =IF(B64=B63,0,SUMIFS($R$4:$R$95,$B$4:$B$95,B64)) -> 969481748 | T64: =ROUND((S64*2%),0) -> 19389635 | U64: =S64+T64 -> 988871383 | V64: =VLOOKUP(H64,'PARAMETRIZACION '!$A$4:$F$15,4,FALSE)*Q64+(VLOOKUP(H64,'PARAMETRIZACION '!$A$4:$F$15,6,FALSE)*Q64) -> 101291888 | W64: =VLOOKUP(H64,'PARAMETRIZACION '!$A$4:$F$15,6,FALSE)*Q64 -> 76487616 | X64: =VLOOKUP(H64,'PARAMETRIZACION '!$A$4:$F$15,6,FALSE)*Q64 -> 76487616 | Y64: =VLOOKUP(H64,'PARAMETRIZACION '!$A$4:$F$15,6,FALSE)*Q64 -> 76487616 | Z64: =VLOOKUP(H64,'PARAMETRIZACION '!$A$4:$F$15,6,FALSE)*Q64 -> 76487616 | AA64: =VLOOKUP(H64,'PARAMETRIZACION '!$A$4:$F$15,6,FALSE)*Q64 -> 76487616 | AB64: =VLOOKUP(H64,'PARAMETRIZACION '!$A$4:$F$15,6,FALSE)*Q64 -> 76487616 | AC64: =VLOOKUP(H64,'PARAMETRIZACION '!$A$4:$F$15,6,FALSE)*Q64 -> 76487616 | AD64: =SUM(V64:AC64) -> 636705200 | AE64: =R64-AD64 -> 0
A65: CZ PASTO 2 | B65: 1332 | G65: Los Andes | H65: EDUCACIÓN INICIAL CAMPESINA A SIN RACION - PROPIA E INTERCULTURAL | I65: Educación Inicial Campesina - A - Propia e Intercultural | J65: Prestar los servicios de educación inicial en el marco de la atención Integral a la primera infancia de conformidad con los Manuales Técnicos, Guías Operativas para la Atención a la Primera Infancia y los lineamientos establecidos por el ICBF, en armonía con la Política de Estado para el Desarrollo Integral de la Primera Infancia de “Cero a Siempre. | K65: C-4602-1500-9-704020-4602020-02 | L65: 10 | M65: 900631966-1 | N65: FUNDACION FUNPERS | O65: 45930 | P65: 5 | Q65: 69 | R65: 150433317 | S65: =IF(B65=B64,0,SUMIFS($R$4:$R$95,$B$4:$B$95,B65)) -> 0 | T65: =ROUND((S65*2%),0) -> 0 | U65: =S65+T65 -> 0 | V65: =VLOOKUP(H65,'PARAMETRIZACION '!$A$4:$F$15,4,FALSE)*Q65+(VLOOKUP(H65,'PARAMETRIZACION '!$A$4:$F$15,6,FALSE)*Q65) -> 26019279 | W65: =VLOOKUP(H65,'PARAMETRIZACION '!$A$4:$F$15,6,FALSE)*Q65 -> 17773434 | X65: =VLOOKUP(H65,'PARAMETRIZACION '!$A$4:$F$15,6,FALSE)*Q65 -> 17773434 | Y65: =VLOOKUP(H65,'PARAMETRIZACION '!$A$4:$F$15,6,FALSE)*Q65 -> 17773434 | Z65: =VLOOKUP(H65,'PARAMETRIZACION '!$A$4:$F$15,6,FALSE)*Q65 -> 17773434 | AA65: =VLOOKUP(H65,'PARAMETRIZACION '!$A$4:$F$15,6,FALSE)*Q65 -> 17773434 | AB65: =VLOOKUP(H65,'PARAMETRIZACION '!$A$4:$F$15,6,FALSE)*Q65 -> 17773434 | AC65: =VLOOKUP(H65,'PARAMETRIZACION '!$A$4:$F$15,6,FALSE)*Q65 -> 17773434 | AD65: =SUM(V65:AC65) -> 150433317 | AE65: =R65-AD65 -> 0
A66: CZ PASTO 2 | B66: 1332 | G66: Los Andes | H66: EDUCACIÓN INICIAL CAMPESINA B SIN RACION - PROPIA E INTERCULTURAL | I66: Educación Inicial Campesina - B - Propia e Intercultural | J66: Prestar los servicios de educación inicial en el marco de la atención Integral a la primera infancia de conformidad con los Manuales Técnicos, Guías Operativas para la Atención a la Primera Infancia y los lineamientos establecidos por el ICBF, en armonía con la Política de Estado para el Desarrollo Integral de la Primera Infancia de “Cero a Siempre. | K66: C-4602-1500-9-704020-4602020-02 | L66: 10 | M66: 900631966-1 | N66: FUNDACION FUNPERS | O66: 45930 | P66: 5 | Q66: 81 | R66: 182343231 | S66: =IF(B66=B65,0,SUMIFS($R$4:$R$95,$B$4:$B$95,B66)) -> 0 | T66: =ROUND((S66*2%),0) -> 0 | U66: =S66+T66 -> 0 | V66: =VLOOKUP(H66,'PARAMETRIZACION '!$A$4:$F$15,4,FALSE)*Q66+(VLOOKUP(H66,'PARAMETRIZACION '!$A$4:$F$15,6,FALSE)*Q66) -> 31558653 | W66: =VLOOKUP(H66,'PARAMETRIZACION '!$A$4:$F$15,6,FALSE)*Q66 -> 21540654 | X66: =VLOOKUP(H66,'PARAMETRIZACION '!$A$4:$F$15,6,FALSE)*Q66 -> 21540654 | Y66: =VLOOKUP(H66,'PARAMETRIZACION '!$A$4:$F$15,6,FALSE)*Q66 -> 21540654 | Z66: =VLOOKUP(H66,'PARAMETRIZACION '!$A$4:$F$15,6,FALSE)*Q66 -> 21540654 | AA66: =VLOOKUP(H66,'PARAMETRIZACION '!$A$4:$F$15,6,FALSE)*Q66 -> 21540654 | AB66: =VLOOKUP(H66,'PARAMETRIZACION '!$A$4:$F$15,6,FALSE)*Q66 -> 21540654 | AC66: =VLOOKUP(H66,'PARAMETRIZACION '!$A$4:$F$15,6,FALSE)*Q66 -> 21540654 | AD66: =SUM(V66:AC66) -> 182343231 | AE66: =R66-AD66 -> 0
A67: CZ PASTO 2 | B67: 1336 | G67: Pasto | H67: CENTRO DE DESARROLLO INFANTIL A - INSTITUCIONAL | I67: Centro de Desarrollo Infantil - A – Institucional | J67: Prestar los servicios de educación inicial en el marco de la atención Integral a la primera infancia de conformidad con los Manuales Técnicos, Guías Operativas para la Atención a la Primera Infancia y los lineamientos establecidos por el ICBF, en armonía con la Política de Estado para el Desarrollo Integral de la Primera Infancia de “Cero a Siempre. | K67: C-4602-1500-9-704020-4602020-02 | L67: 10 | M67: 900511039 | N67: FUNDACION ITZAYANA QUE SIGNIFICA REGALO DE DIOS | O67: 45930 | P67: 1 | Q67: 250 | R67: 1047212500 | S67: =IF(B67=B66,0,SUMIFS($R$4:$R$95,$B$4:$B$95,B67)) -> 1843822468 | T67: =ROUND((S67*2%),0) -> 36876449 | U67: =S67+T67 -> 1880698917 | V67: =VLOOKUP(H67,'PARAMETRIZACION '!$A$4:$F$15,4,FALSE)*Q67+(VLOOKUP(H67,'PARAMETRIZACION '!$A$4:$F$15,6,FALSE)*Q67) -> 166598500 | W67: =VLOOKUP(H67,'PARAMETRIZACION '!$A$4:$F$15,6,FALSE)*Q67 -> 125802000 | X67: =VLOOKUP(H67,'PARAMETRIZACION '!$A$4:$F$15,6,FALSE)*Q67 -> 125802000 | Y67: =VLOOKUP(H67,'PARAMETRIZACION '!$A$4:$F$15,6,FALSE)*Q67 -> 125802000 | Z67: =VLOOKUP(H67,'PARAMETRIZACION '!$A$4:$F$15,6,FALSE)*Q67 -> 125802000 | AA67: =VLOOKUP(H67,'PARAMETRIZACION '!$A$4:$F$15,6,FALSE)*Q67 -> 125802000 | AB67: =VLOOKUP(H67,'PARAMETRIZACION '!$A$4:$F$15,6,FALSE)*Q67 -> 125802000 | AC67: =VLOOKUP(H67,'PARAMETRIZACION '!$A$4:$F$15,6,FALSE)*Q67 -> 125802000 | AD67: =SUM(V67:AC67) -> 1047212500 | AE67: =R67-AD67 -> 0
A68: CZ PASTO 2 | B68: 1336 | G68: Pasto | H68: CENTRO DE DESARROLLO INFANTIL CON ARRIENDO - INSTITUCIONAL | I68: Centro de Desarrollo Infantil - A – Institucional | J68: Prestar los servicios de educación inicial en el marco de la atención Integral a la primera infancia de conformidad con los Manuales Técnicos, Guías Operativas para la Atención a la Primera Infancia y los lineamientos establecidos por el ICBF, en armonía con la Política de Estado para el Desarrollo Integral de la Primera Infancia de “Cero a Siempre. | K68: C-4602-1500-9-704020-4602020-02 | L68: 10 | M68: 900511039 | N68: FUNDACION ITZAYANA QUE SIGNIFICA REGALO DE DIOS | O68: 45930 | P68: 1 | Q68: 184 | R68: 796609968 | S68: =IF(B68=B67,0,SUMIFS($R$4:$R$95,$B$4:$B$95,B68)) -> 0 | T68: =ROUND((S68*2%),0) -> 0 | U68: =S68+T68 -> 0 | V68: =VLOOKUP(H68,'PARAMETRIZACION '!$A$4:$F$15,4,FALSE)*Q68+(VLOOKUP(H68,'PARAMETRIZACION '!$A$4:$F$15,6,FALSE)*Q68) -> 125849192 | W68: =VLOOKUP(H68,'PARAMETRIZACION '!$A$4:$F$15,6,FALSE)*Q68 -> 95822968 | X68: =VLOOKUP(H68,'PARAMETRIZACION '!$A$4:$F$15,6,FALSE)*Q68 -> 95822968 | Y68: =VLOOKUP(H68,'PARAMETRIZACION '!$A$4:$F$15,6,FALSE)*Q68 -> 95822968 | Z68: =VLOOKUP(H68,'PARAMETRIZACION '!$A$4:$F$15,6,FALSE)*Q68 -> 95822968 | AA68: =VLOOKUP(H68,'PARAMETRIZACION '!$A$4:$F$15,6,FALSE)*Q68 -> 95822968 | AB68: =VLOOKUP(H68,'PARAMETRIZACION '!$A$4:$F$15,6,FALSE)*Q68 -> 95822968 | AC68: =VLOOKUP(H68,'PARAMETRIZACION '!$A$4:$F$15,6,FALSE)*Q68 -> 95822968 | AD68: =SUM(V68:AC68) -> 796609968 | AE68: =R68-AD68 -> 0
A69: CZ PASTO 2 | B69: 1338 | G69: Pasto | H69: CENTRO DE DESARROLLO INFANTIL A - INSTITUCIONAL | I69: Centro de Desarrollo Infantil - A – Institucional | J69: Prestar los servicios de educación inicial en el marco de la atención Integral a la primera infancia de conformidad con los Manuales Técnicos, Guías Operativas para la Atención a la Primera Infancia y los lineamientos establecidos por el ICBF, en armonía con la Política de Estado para el Desarrollo Integral de la Primera Infancia de “Cero a Siempre. | K69: C-4602-1500-9-704020-4602020-02 | L69: 10 | M69: 900511039 | N69: FUNDACION ITZAYANA QUE SIGNIFICA REGALO DE DIOS | O69: 45930 | P69: 2 | Q69: 188 | R69: 787503800 | S69: =IF(B69=B68,0,SUMIFS($R$4:$R$95,$B$4:$B$95,B69)) -> 2185900646 | T69: =ROUND((S69*2%),0) -> 43718013 | U69: =S69+T69 -> 2229618659 | V69: =VLOOKUP(H69,'PARAMETRIZACION '!$A$4:$F$15,4,FALSE)*Q69+(VLOOKUP(H69,'PARAMETRIZACION '!$A$4:$F$15,6,FALSE)*Q69) -> 125282072 | W69: =VLOOKUP(H69,'PARAMETRIZACION '!$A$4:$F$15,6,FALSE)*Q69 -> 94603104 | X69: =VLOOKUP(H69,'PARAMETRIZACION '!$A$4:$F$15,6,FALSE)*Q69 -> 94603104 | Y69: =VLOOKUP(H69,'PARAMETRIZACION '!$A$4:$F$15,6,FALSE)*Q69 -> 94603104 | Z69: =VLOOKUP(H69,'PARAMETRIZACION '!$A$4:$F$15,6,FALSE)*Q69 -> 94603104 | AA69: =VLOOKUP(H69,'PARAMETRIZACION '!$A$4:$F$15,6,FALSE)*Q69 -> 94603104 | AB69: =VLOOKUP(H69,'PARAMETRIZACION '!$A$4:$F$15,6,FALSE)*Q69 -> 94603104 | AC69: =VLOOKUP(H69,'PARAMETRIZACION '!$A$4:$F$15,6,FALSE)*Q69 -> 94603104 | AD69: =SUM(V69:AC69) -> 787503800 | AE69: =R69-AD69 -> 0
A70: CZ PASTO 2 | B70: 1338 | G70: Pasto | H70: CENTRO DE DESARROLLO INFANTIL CON ARRIENDO - INSTITUCIONAL | I70: Centro de Desarrollo Infantil - A – Institucional | J70: Prestar los servicios de educación inicial en el marco de la atención Integral a la primera infancia de conformidad con los Manuales Técnicos, Guías Operativas para la Atención a la Primera Infancia y los lineamientos establecidos por el ICBF, en armonía con la Política de Estado para el Desarrollo Integral de la Primera Infancia de “Cero a Siempre. | K70: C-4602-1500-9-704020-4602020-02 | L70: 10 | M70: 900511039 | N70: FUNDACION ITZAYANA QUE SIGNIFICA REGALO DE DIOS | O70: 45930 | P70: 3 | Q70: 323 | R70: 1398396846 | S70: =IF(B70=B69,0,SUMIFS($R$4:$R$95,$B$4:$B$95,B70)) -> 0 | T70: =ROUND((S70*2%),0) -> 0 | U70: =S70+T70 -> 0 | V70: =VLOOKUP(H70,'PARAMETRIZACION '!$A$4:$F$15,4,FALSE)*Q70+(VLOOKUP(H70,'PARAMETRIZACION '!$A$4:$F$15,6,FALSE)*Q70) -> 220920049 | W70: =VLOOKUP(H70,'PARAMETRIZACION '!$A$4:$F$15,6,FALSE)*Q70 -> 168210971 | X70: =VLOOKUP(H70,'PARAMETRIZACION '!$A$4:$F$15,6,FALSE)*Q70 -> 168210971 | Y70: =VLOOKUP(H70,'PARAMETRIZACION '!$A$4:$F$15,6,FALSE)*Q70 -> 168210971 | Z70: =VLOOKUP(H70,'PARAMETRIZACION '!$A$4:$F$15,6,FALSE)*Q70 -> 168210971 | AA70: =VLOOKUP(H70,'PARAMETRIZACION '!$A$4:$F$15,6,FALSE)*Q70 -> 168210971 | AB70: =VLOOKUP(H70,'PARAMETRIZACION '!$A$4:$F$15,6,FALSE)*Q70 -> 168210971 | AC70: =VLOOKUP(H70,'PARAMETRIZACION '!$A$4:$F$15,6,FALSE)*Q70 -> 168210971 | AD70: =SUM(V70:AC70) -> 1398396846 | AE70: =R70-AD70 -> 0
A71: CZ PASTO 2 | B71: 1341 | G71: Pasto | H71: EDUCACIÓN INICIAL EN EL HOGAR A SIN RACION - FAMILIAR Y COMUNITARIA | I71: Educación Inicial en el Hogar - A - Familiar y Comunitaria | J71: Prestar los servicios de educación inicial en el marco de la atención Integral a la primera infancia de conformidad con los Manuales Técnicos, Guías Operativas para la Atención a la Primera Infancia y los lineamientos establecidos por el ICBF, en armonía con la Política de Estado para el Desarrollo Integral de la Primera Infancia de “Cero a Siempre. | K71: C-4602-1500-9-704020-4602020-02 | L71: 10 | M71: 814005633 | N71: ICTUS - REMANDO JUNTOS | O71: 45930 | P71: 20 | Q71: 300 | R71: 455791500 | S71: =IF(B71=B70,0,SUMIFS($R$4:$R$95,$B$4:$B$95,B71)) -> 455791500 | T71: =ROUND((S71*2%),0) -> 9115830 | U71: =S71+T71 -> 464907330 | V71: =VLOOKUP(H71,'PARAMETRIZACION '!$A$4:$F$15,4,FALSE)*Q71+(VLOOKUP(H71,'PARAMETRIZACION '!$A$4:$F$15,6,FALSE)*Q71) -> 79177500 | W71: =VLOOKUP(H71,'PARAMETRIZACION '!$A$4:$F$15,6,FALSE)*Q71 -> 53802000 | X71: =VLOOKUP(H71,'PARAMETRIZACION '!$A$4:$F$15,6,FALSE)*Q71 -> 53802000 | Y71: =VLOOKUP(H71,'PARAMETRIZACION '!$A$4:$F$15,6,FALSE)*Q71 -> 53802000 | Z71: =VLOOKUP(H71,'PARAMETRIZACION '!$A$4:$F$15,6,FALSE)*Q71 -> 53802000 | AA71: =VLOOKUP(H71,'PARAMETRIZACION '!$A$4:$F$15,6,FALSE)*Q71 -> 53802000 | AB71: =VLOOKUP(H71,'PARAMETRIZACION '!$A$4:$F$15,6,FALSE)*Q71 -> 53802000 | AC71: =VLOOKUP(H71,'PARAMETRIZACION '!$A$4:$F$15,6,FALSE)*Q71 -> 53802000 | AD71: =SUM(V71:AC71) -> 455791500 | AE71: =R71-AD71 -> 0
A72: CZ REMOLINO | B72: 1305 | G72: Leiva | H72: CENTRO DE DESARROLLO INFANTIL A - INSTITUCIONAL | I72: Centro de Desarrollo Infantil - A – Institucional | J72: Prestar los servicios de educación inicial en el marco de la atención Integral a la primera infancia de conformidad con los Manuales Técnicos, Guías Operativas para la Atención a la Primera Infancia y los lineamientos establecidos por el ICBF, en armonía con la Política de Estado para el Desarrollo Integral de la Primera Infancia de “Cero a Siempre. | K72: C-4602-1500-9-704020-4602020-02 | L72: 10 | M72: 901097975 | N72: FUNDACION NARIÑO VERDE | O72: 45930 | P72: 1 | Q72: 105 | R72: 439829250 | S72: =IF(B72=B71,0,SUMIFS($R$4:$R$95,$B$4:$B$95,B72)) -> 1230502180 | T72: =ROUND((S72*2%),0) -> 24610044 | U72: =S72+T72 -> 1255112224 | V72: =VLOOKUP(H72,'PARAMETRIZACION '!$A$4:$F$15,4,FALSE)*Q72+(VLOOKUP(H72,'PARAMETRIZACION '!$A$4:$F$15,6,FALSE)*Q72) -> 69971370 | W72: =VLOOKUP(H72,'PARAMETRIZACION '!$A$4:$F$15,6,FALSE)*Q72 -> 52836840 | X72: =VLOOKUP(H72,'PARAMETRIZACION '!$A$4:$F$15,6,FALSE)*Q72 -> 52836840 | Y72: =VLOOKUP(H72,'PARAMETRIZACION '!$A$4:$F$15,6,FALSE)*Q72 -> 52836840 | Z72: =VLOOKUP(H72,'PARAMETRIZACION '!$A$4:$F$15,6,FALSE)*Q72 -> 52836840 | AA72: =VLOOKUP(H72,'PARAMETRIZACION '!$A$4:$F$15,6,FALSE)*Q72 -> 52836840 | AB72: =VLOOKUP(H72,'PARAMETRIZACION '!$A$4:$F$15,6,FALSE)*Q72 -> 52836840 | AC72: =VLOOKUP(H72,'PARAMETRIZACION '!$A$4:$F$15,6,FALSE)*Q72 -> 52836840 | AD72: =SUM(V72:AC72) -> 439829250 | AE72: =R72-AD72 -> 0
A73: CZ REMOLINO | B73: 1305 | G73: Leiva | H73: EDUCACIÓN INICIAL CAMPESINA A - PROPIA E INTERCULTURAL | I73: Educación Inicial Campesina - A - Propia e Intercultural | J73: Prestar los servicios de educación inicial en el marco de la atención Integral a la primera infancia de conformidad con los Manuales Técnicos, Guías Operativas para la Atención a la Primera Infancia y los lineamientos establecidos por el ICBF, en armonía con la Política de Estado para el Desarrollo Integral de la Primera Infancia de “Cero a Siempre. | K73: C-4602-1500-9-704020-4602020-02 | L73: 10 | M73: 901097975 | N73: FUNDACION NARIÑO VERDE | O73: 45930 | P73: 1 | Q73: 1 | R73: 3623257 | S73: =IF(B73=B72,0,SUMIFS($R$4:$R$95,$B$4:$B$95,B73)) -> 0 | T73: =ROUND((S73*2%),0) -> 0 | U73: =S73+T73 -> 0 | V73: =VLOOKUP(H73,'PARAMETRIZACION '!$A$4:$F$15,4,FALSE)*Q73+(VLOOKUP(H73,'PARAMETRIZACION '!$A$4:$F$15,6,FALSE)*Q73) -> 557474 | W73: =VLOOKUP(H73,'PARAMETRIZACION '!$A$4:$F$15,6,FALSE)*Q73 -> 437969 | X73: =VLOOKUP(H73,'PARAMETRIZACION '!$A$4:$F$15,6,FALSE)*Q73 -> 437969 | Y73: =VLOOKUP(H73,'PARAMETRIZACION '!$A$4:$F$15,6,FALSE)*Q73 -> 437969 | Z73: =VLOOKUP(H73,'PARAMETRIZACION '!$A$4:$F$15,6,FALSE)*Q73 -> 437969 | AA73: =VLOOKUP(H73,'PARAMETRIZACION '!$A$4:$F$15,6,FALSE)*Q73 -> 437969 | AB73: =VLOOKUP(H73,'PARAMETRIZACION '!$A$4:$F$15,6,FALSE)*Q73 -> 437969 | AC73: =VLOOKUP(H73,'PARAMETRIZACION '!$A$4:$F$15,6,FALSE)*Q73 -> 437969 | AD73: =SUM(V73:AC73) -> 3623257 | AE73: =R73-AD73 -> 0
A74: CZ REMOLINO | B74: 1305 | G74: Leiva | H74: EDUCACIÓN INICIAL CAMPESINA A SIN RACION - PROPIA E INTERCULTURAL | I74: Educación Inicial Campesina - A - Propia e Intercultural | J74: Prestar los servicios de educación inicial en el marco de la atención Integral a la primera infancia de conformidad con los Manuales Técnicos, Guías Operativas para la Atención a la Primera Infancia y los lineamientos establecidos por el ICBF, en armonía con la Política de Estado para el Desarrollo Integral de la Primera Infancia de “Cero a Siempre. | K74: C-4602-1500-9-704020-4602020-02 | L74: 10 | M74: 901097975 | N74: FUNDACION NARIÑO VERDE | O74: 45930 | P74: 28 | Q74: 361 | R74: 787049673 | S74: =IF(B74=B73,0,SUMIFS($R$4:$R$95,$B$4:$B$95,B74)) -> 0 | T74: =ROUND((S74*2%),0) -> 0 | U74: =S74+T74 -> 0 | V74: =VLOOKUP(H74,'PARAMETRIZACION '!$A$4:$F$15,4,FALSE)*Q74+(VLOOKUP(H74,'PARAMETRIZACION '!$A$4:$F$15,6,FALSE)*Q74) -> 136129851 | W74: =VLOOKUP(H74,'PARAMETRIZACION '!$A$4:$F$15,6,FALSE)*Q74 -> 92988546 | X74: =VLOOKUP(H74,'PARAMETRIZACION '!$A$4:$F$15,6,FALSE)*Q74 -> 92988546 | Y74: =VLOOKUP(H74,'PARAMETRIZACION '!$A$4:$F$15,6,FALSE)*Q74 -> 92988546 | Z74: =VLOOKUP(H74,'PARAMETRIZACION '!$A$4:$F$15,6,FALSE)*Q74 -> 92988546 | AA74: =VLOOKUP(H74,'PARAMETRIZACION '!$A$4:$F$15,6,FALSE)*Q74 -> 92988546 | AB74: =VLOOKUP(H74,'PARAMETRIZACION '!$A$4:$F$15,6,FALSE)*Q74 -> 92988546 | AC74: =VLOOKUP(H74,'PARAMETRIZACION '!$A$4:$F$15,6,FALSE)*Q74 -> 92988546 | AD74: =SUM(V74:AC74) -> 787049673 | AE74: =R74-AD74 -> 0
