Workbook
Name CM001EEM1: PARAMETROS!$M$9
Name CM001EMM1: PARAMETROS!$K$9
Name CM001LM1: PARAMETROS!$I$9
Name CM001M1: PARAMETROS!$G$9
Name CM007EMM1: [1]PARAMETROS!$K$11
Name data: 'PROM EUR MES'!$A$1:$K$217
Name data_1: 'PROM EUR MES'!$A$1:$K$228
Name Datos: 'SH EURO'!$A$1:$K$6714
Name Datos_1: 'SH EURO'!$A$1:$K$6714

Sheet PARAMETROS
A1: Proyecto (Interventoría) | B1: Concurso | C1: Presupuesto Oficial | D1: Año | E1: Presupuesto Oficial (SMMLV) | F1: Parametros | P1: Fecha de cierre según Adendas | Q1: Fecha de cierre según Pliego | R1: Fecha de Adjudicación
F2: Experiencia General | L2: Experiencia Especifica | N2: Desempate
F3: Sumatoria Exp. General | H3: Exp. Min por el Lider | J3: Exp. Min por contrato | L3: Exp. Min por contrato
F4: Porcentaje Requerido P.O. | G4: Valor | H4: Porcentaje Requerido P.O. | I4: Valor | J4: Porcentaje Requerido P.O. | K4: Valor | L4: Criterio | M4: Valor | N4: Criterio | O4: Valor
A5: AUTOPISTA AL MAR 2 | B5: VJ-VGC-CM-019-2015 | C5: 32213938131 | D5: 2013 | E5: =+C5/VLOOKUP(D5,$A$53:$B$79,2,FALSE) -> 54646.205 | F5: 0.4 | G5: =E5*F5 -> 21858.482 | H5: 0.204 | I5: =E5*H5 -> 11147.826 | J5: 0.04 | K5: =E5*J5 -> 2185.8482 | L5: 0.05 | M5: =E5*L5 -> 2732.3103 | N5: 0.15 | O5: =E5*N5 -> 8196.9308 | P5: 42023 | Q5: 42023
A6: VÍAS DEL NUS | B6: VJ-VGC-CM-023-2015 | C6: 28458744093 | D6: 2013 | E6: =+C6/VLOOKUP(D6,$A$53:$B$79,2,FALSE) -> 48276.071 | F6: 0.4 | G6: =E6*F6 -> 19310.429 | H6: 0.204 | I6: =E6*H6 -> 9848.3186 | J6: 0.04 | K6: =E6*J6 -> 1931.0429 | L6: 0.05 | M6: =E6*L6 -> 2413.8036 | N6: 0.15 | O6: =E6*N6 -> 7241.4107 | P6: 42401 | Q6: 42401
A7: ÁREA METROPOLITANA DE CÚCUTA Y NORTE DE SANTANDER | B7: VJ-VGC-CM-001-2016 | C7: 7241052994 | D7: 2015 | E7: =+C7/VLOOKUP(D7,$A$53:$B$79,2,FALSE) -> 11237.764 | F7: 0.5 | G7: =E7*F7 -> 5618.8818 | H7: 0.255 | I7: =E7*H7 -> 2865.6297 | J7: 0.15 | K7: =E7*J7 -> 1685.6645 | L7: 0.3 | M7: =E7*L7 -> 3371.3291 | N7: 0.425 | O7: =E7*N7 -> 4776.0495 | P7: 42417 | Q7: 42417
A8: RED FÉRREA DEL PACÍFICO | B8: VJ-VGC-CM-003-2016 | C8: 5593590000 | D8: 2015 | E8: =+C8/VLOOKUP(D8,$A$53:$B$79,2,FALSE) -> 8680.9808 | F8: 1 | G8: =E8*F8 -> 8680.9808 | H8: 0.51 | I8: =E8*H8 -> 4427.3002 | J8: 0.2 | K8: =E8*J8 -> 1736.1962 | L8: 0.2 | M8: =E8*L8 -> 1736.1962 | N8: 0.45 | O8: =E8*N8 -> 3906.4414 | P8: NA | Q8: 42472
A9: CONTRATACIÓN DE LA INTERVENTORÍA INTEGRAL QUE INCLUYE, PERO NO SE LIMITA A LA INTERVENTORÍA TÉCNICA, ECONÓMICA, FINANCIERA, CONTABLE, JURÍDICA, ADMINISTRATIVA, OPERATIVA, MEDIO AMBIENTAL Y SOCIO PREDIAL DEL CONTRATO DE CONCESIÓN No 007 del 13 DE AGOSTO DE 2007; CORRESPONDIENTE AL CORREDOR DENOMINADO “GIRARDOT-IBAGUE-CAJAMARCA” | B9: VJ-VGC-CM-002-2018 | C9: 14804704243 | D9: 2018 | E9: =ROUND(C9/$B$81,0) -> 18950 | F9: 0.5 | G9: =+E9*F9 -> 9475 | H9: 0.51 | I9: =G9*H9 -> 4832.25 | J9: 0.3 | K9: =G9*J9 -> 2842.5 | L9: 0.15 | M9: =E9*L9 -> 2842.5 | N9: =25%*(F9+(4*L9)) -> 0.275 | O9: =N9*E9 -> 5211.25 | P9: N/A | Q9: 43199 | R9: 43216
A11: MÓDULO 1: CONTRATOS DE CONCESIÓN PORTUARIA No. 010 DE 2007, 012 DE 1994, 010 DE 1994 | B11: VJ-VGC-CM-005-2016 | C11: 891660000 | D11: 2016 | E11: =+C11/VLOOKUP(D11,$A$53:$B$79,2,FALSE) -> 1293.2824 | F11: 1 | G11: =E11*F11 -> 1293.2824 | H11: 0.51 | I11: =E11*H11 -> 659.57401 | J11: 0.2 | K11: =E11*J11 -> 258.65648 | L11: 0.2 | M11: =E11*L11 -> 258.65648 | N11: 0.45 | O11: =E11*N11 -> 581.97707
A12: MÓDULO 2: CONTRATOS DE CONCESIÓN PORTUARIA No. 010 DE 1994, 010 DE 2010, 007 DE 1993 | C12: 909360000 | D12: 2016 | E12: =+C12/VLOOKUP(D12,$A$53:$B$79,2,FALSE) -> 1318.9548 | F12: 1 | G12: =E12*F12 -> 1318.9548 | H12: 0.51 | I12: =E12*H12 -> 672.66696 | J12: 0.2 | K12: =E12*J12 -> 263.79097 | L12: 0.2 | M12: =E12*L12 -> 263.79097 | N12: 0.45 | O12: =E12*N12 -> 593.52967
A13: MÓDULO 3: CONTRATOS DE CONCESIÓN PORTUARIA No. 001 DE 2007, 008 DE 2004, 021 DE 1997 Y 001 DE 2009 | C13: 909360000 | D13: 2016 | E13: =+C13/VLOOKUP(D13,$A$53:$B$79,2,FALSE) -> 1318.9548 | F13: 1 | G13: =E13*F13 -> 1318.9548 | H13: 0.51 | I13: =E13*H13 -> 672.66696 | J13: 0.2 | K13: =E13*J13 -> 263.79097 | L13: 0.2 | M13: =E13*L13 -> 263.79097 | N13: 0.45 | O13: =E13*N13 -> 593.52967
K14: 2842.5
A51: SERIE SMLMV
A52: AÑO | B52: VALOR (COP)
A53: 1990 | B53: 41025
A54: 1991 | B54: 51716
A55: 1992 | B55: 65190
A56: 1993 | B56: 81510
A57: 1994 | B57: 98700
A58: 1995 | B58: 118933.5
A59: 1996 | B59: 142125
A60: 1997 | B60: 172005
A61: 1998 | B61: 203826
A62: 1999 | B62: 236460
A63: 2000 | B63: 260100
A64: 2001 | B64: 286000
... A81: 2018 | B81: 781242

Sheet CONSOLIDADO
A1: CONCURSO DE MÉRITOS ABIERTO No.VJ-VGC-CM-002-2018 | I1: CRITERIOS DE DESEMPATE
A2: EVALUACIÓN DEFINITIVA CONSOLIDADO
A3: N° | B3: PROPONENTE | C3: REQUISITOS HABILITANTES | F3: CRITERIOS DE CALIFICACION
C4: CAPACIDAD JURÍDICA | D4: CAPACIDAD FINANCIERA Y ORGANIZACIONAL | E4: EXPERIENCIA GENERAL | F4: PUNTAJE EXPERIENCIA ESPECÍFICA | G4: PUNTAJE APOYO A LA INDUSTRIA | H4: PUNTAJE TOTAL | I4: Numeral 5.2 Sub num 1 | J4: Numeral 5.2 Literal 4 | K4: Numeral 5.2 Literal 5 | L4: Numeral 5.2 Sub num 4
A6: P01 | B6: CONSORCIO MAB | C6: HÁBIL | D6: HÁBIL | E6: =+'EXP GEN.'!AO3 -> HÁBIL | F6: =+'EXP ESPEC.'!AG3 -> 90 | G6: 10 | H6: =+F6+G6 -> 100 | I6: =+DESEMPATE!F3 -> SI | L6: =+DESEMPATE!N3 -> SI
A7: P02 | B7: CONSORCIO INFRAESTRUCTURA A&I | C7: HÁBIL | D7: HÁBIL | E7: =+'EXP GEN.'!AO9 -> HÁBIL | F7: =+'EXP ESPEC.'!AG7 -> 90 | G7: 10 | H7: =+F7+G7 -> 100 | I7: =+DESEMPATE!F5 -> SI | L7: =+DESEMPATE!N5 -> SI
A8: P03 | B8: INCGROUP SAS | C8: HÁBIL | D8: HÁBIL | E8: =+'EXP GEN.'!AO15 -> HÁBIL | F8: =+'EXP ESPEC.'!AG11 -> 90 | G8: 10 | H8: =+F8+G8 -> 100 | I8: =+DESEMPATE!F7 -> SI | L8: =+DESEMPATE!N7 -> SI
A9: P04 | B9: CONSORCIO SERVINC – ECG | C9: HÁBIL | D9: HÁBIL | E9: =+'EXP GEN.'!AO21 -> HÁBIL | F9: =+'EXP ESPEC.'!AG15 -> 90 | G9: 10 | H9: =+F9+G9 -> 100 | I9: =+DESEMPATE!F8 -> SI | L9: =+DESEMPATE!N8 -> SI
A10: P05 | B10: GESTION INTEGRAL DEL SUELO SL COLOMBIA "GIS" | C10: HÁBIL | D10: HÁBIL | E10: =+'EXP GEN.'!AO27 -> HÁBIL | F10: =+'EXP ESPEC.'!AG19 -> 90 | G10: 10 | H10: =+F10+G10 -> 100 | I10: =+DESEMPATE!F10 -> SI | L10: =+DESEMPATE!N10 -> SI
A11: P06 | B11: CONSORCIO VIAL TOLIMA | C11: HÁBIL | D11: HÁBIL | E11: =+'EXP GEN.'!AO33 -> HÁBIL | F11: =+'EXP ESPEC.'!AG23 -> 90 | G11: 10 | H11: =+F11+G11 -> 100 | I11: =+DESEMPATE!F11 -> SI | L11: =+DESEMPATE!N11 -> SI
A12: P07 | B12: CONSORCIO INTERCONCESIONES | C12: HÁBIL | D12: HÁBIL | E12: =+'EXP GEN.'!AO39 -> HÁBIL | F12: =+'EXP ESPEC.'!AG27 -> 90 | G12: 10 | H12: =+F12+G12 -> 100 | I12: =+DESEMPATE!F13 -> SI | L12: =+DESEMPATE!N13 -> SI
A13: P08 | B13: CONSORCIO INTERVENTORIA GIC | C13: RECHAZADO | D13: RECHAZADO | E13: =+'EXP GEN.'!AO45 -> RECHAZADO | F13: =+'EXP ESPEC.'!AG31 -> 0 | G13: 0 | H13: =+F13+G13 -> 0 | I13: - | L13: -
A14: P09 | B14: CONSORCIO GIC | C14: HÁBIL | D14: HÁBIL | E14: =+'EXP GEN.'!AO51 -> HÁBIL | F14: =+'EXP ESPEC.'!AG35 -> 90 | G14: 10 | H14: =+F14+G14 -> 100 | I14: =+DESEMPATE!F17 -> SI | L14: =+DESEMPATE!N17 -> SI
A15: P10 | B15: AFA CONSULTORES Y CONSTRUCTORES SA | C15: HÁBIL | D15: HÁBIL | E15: =+'EXP GEN.'!AO57 -> HÁBIL | F15: =+'EXP ESPEC.'!AG39 -> 90 | G15: 10 | H15: =+F15+G15 -> 100 | I15: =+DESEMPATE!F19 -> SI | L15: =+DESEMPATE!N19 -> SI
A16: P11 | B16: CONSORCIO SEG - PLANES | C16: HÁBIL | D16: HÁBIL | E16: =+'EXP GEN.'!AO63 -> HÁBIL | F16: =+'EXP ESPEC.'!AG43 -> 90 | G16: 10 | H16: =+F16+G16 -> 100 | I16: =+DESEMPATE!F20 -> SI | L16: =+DESEMPATE!N20 -> SI
A17: P12 | B17: JORGE PIDDO SEGUIDO DE LA EXPRESION SUCURSAL COLOMBIA | C17: HÁBIL | D17: HÁBIL | E17: =+'EXP GEN.'!AO69 -> HÁBIL | F17: =+'EXP ESPEC.'!AG47 -> 90 | G17: 10 | H17: =+F17+G17 -> 100 | I17: =+DESEMPATE!F22 -> SI | L17: =+DESEMPATE!N22 -> SI
A18: P13 | B18: CANO JIMÉNEZ ESTUDIOS S.A. | C18: HÁBIL | D18: HÁBIL | E18: =+'EXP GEN.'!AO75 -> HÁBIL | F18: =+'EXP ESPEC.'!AG51 -> 90 | G18: 10 | H18: =+F18+G18 -> 100 | I18: =+DESEMPATE!F23 -> SI | L18: =+DESEMPATE!N23 -> SI
A19: P14 | B19: CONSORCIO CORREDOR VIAL 2018 | C19: HÁBIL | D19: HÁBIL | E19: =+'EXP GEN.'!AO81 -> HÁBIL | F19: =+'EXP ESPEC.'!AG55 -> 90 | G19: 10 | H19: =+F19+G19 -> 100 | I19: =+DESEMPATE!F24 -> SI | L19: =+DESEMPATE!N24 -> SI
A20: P15 | B20: CONSORCIO GIC* | C20: HÁBIL | D20: HÁBIL | E20: =+'EXP GEN.'!AO87 -> HÁBIL | F20: =+'EXP ESPEC.'!AG59 -> 90 | G20: 10 | H20: =+F20+G20 -> 100 | I20: =+DESEMPATE!F27 -> SI | L20: =+DESEMPATE!N27 -> SI
A21: P16 | B21: CONSORCIO CR CONCESIÓN | C21: HÁBIL | D21: HÁBIL | E21: =+'EXP GEN.'!AO93 -> HÁBIL | F21: =+'EXP ESPEC.'!AG63 -> 90 | G21: 10 | H21: =+F21+G21 -> 100 | I21: =+DESEMPATE!F29 -> SI | L21: =+DESEMPATE!N29 -> SI
A22: P17 | B22: CONSORCIO GC&Q - METRO | C22: RECHAZADO | D22: RECHAZADO | E22: =+'EXP GEN.'!AO99 -> RECHAZADO | F22: =+'EXP ESPEC.'!AG67 -> 0 | G22: 0 | H22: =+F22+G22 -> 0 | I22: - | L22: -
A23: P18 | B23: CONSORCIO PEB-PROGIN 002 | C23: HÁBIL | D23: HÁBIL | E23: =+'EXP GEN.'!AO105 -> HÁBIL | F23: =+'EXP ESPEC.'!AG71 -> 90 | G23: 10 | H23: =+F23+G23 -> 100 | I23: =+DESEMPATE!F33 -> SI | L23: =+DESEMPATE!N33 -> SI
A24: P19 | B24: CONSORCIO ID-2 | C24: HÁBIL | D24: HÁBIL | E24: =+'EXP GEN.'!AO111 -> HÁBIL | F24: =+'EXP ESPEC.'!AG75 -> 90 | G24: 10 | H24: =+F24+G24 -> 100 | I24: =+DESEMPATE!F35 -> SI | L24: =+DESEMPATE!N35 -> SI
A25: P20 | B25: CONSORCIO CORREDORES VIALES | C25: HÁBIL | D25: HÁBIL | E25: =+'EXP GEN.'!AO117 -> HÁBIL | F25: =+'EXP ESPEC.'!AG79 -> 90 | G25: 10 | H25: =+F25+G25 -> 100 | I25: =+DESEMPATE!F37 -> SI | L25: =+DESEMPATE!N37 -> SI
A26: P21 | B26: CONSORCIO CORREDOR VIAL 2018* | C26: HÁBIL | D26: HÁBIL | E26: =+'EXP GEN.'!AO123 -> HÁBIL | F26: =+'EXP ESPEC.'!AG83 -> 90 | G26: 10 | H26: =+F26+G26 -> 100 | I26: =+DESEMPATE!F39 -> SI | L26: =+DESEMPATE!N39 -> SI
A27: P22 | B27: CONSORCIO REGION CENTRAL | C27: HÁBIL | D27: HÁBIL | E27: =+'EXP GEN.'!AO129 -> HÁBIL | F27: =+'EXP ESPEC.'!AG87 -> 90 | G27: 10 | H27: =+F27+G27 -> 100 | I27: =+DESEMPATE!F41 -> SI | L27: =+DESEMPATE!N41 -> SI
A28: P23 | B28: CONSORCIO EPSILON TOLIMA | C28: HÁBIL | D28: HÁBIL | E28: =+'EXP GEN.'!AO135 -> HÁBIL | F28: =+'EXP ESPEC.'!AG91 -> 90 | G28: 10 | H28: =+F28+G28 -> 100 | I28: =+DESEMPATE!F43 -> SI | L28: =+DESEMPATE!N43 -> SI
A29: P24 | B29: CONSORCIO INTERVENTORES CAJAMARCA | C29: HÁBIL | D29: HÁBIL | E29: =+'EXP GEN.'!AO141 -> HÁBIL | F29: =+'EXP ESPEC.'!AG95 -> 90 | G29: 10 | H29: =+F29+G29 -> 100 | I29: =+DESEMPATE!F45 -> SI | L29: =+DESEMPATE!N45 -> SI
A30: P25 | B30: CONSORCIO INTER CAJAMARCA | C30: HÁBIL | D30: HÁBIL | E30: =+'EXP GEN.'!AO147 -> HÁBIL | F30: =+'EXP ESPEC.'!AG99 -> 90 | G30: 10 | H30: =+F30+G30 -> 100 | I30: =+DESEMPATE!F48 -> SI | L30: =+DESEMPATE!N48 -> SI
A31: P26 | B31: JOYCO SAS | C31: HÁBIL | D31: HÁBIL | E31: =+'EXP GEN.'!AO153 -> HÁBIL | F31: =+'EXP ESPEC.'!AG103 -> 90 | G31: 10 | H31: =+F31+G31 -> 100 | I31: =+DESEMPATE!F50 -> SI | L31: =+DESEMPATE!N50 -> SI
A32: P27 | B32: CONSORCIO CORREDOR VIAL SYS | C32: HÁBIL | D32: HÁBIL | E32: ='EXP GEN.'!AO159 -> HÁBIL | F32: =+'EXP ESPEC.'!AG107 -> 90 | G32: 10 | H32: =+F32+G32 -> 100 | I32: =+DESEMPATE!F51 -> SI | L32: =+DESEMPATE!N51 -> SI
A33: P28 | B33: CONSORCIO VIAL I-S | C33: HÁBIL | D33: HÁBIL | E33: =+'EXP GEN.'!AO165 -> HÁBIL | F33: =+'EXP ESPEC.'!AG111 -> 90 | G33: 10 | H33: =+F33+G33 -> 100 | I33: =+DESEMPATE!F53 -> SI | L33: =+DESEMPATE!N53 -> SI
A34: P29 | B34: CONSORCIO COBA-INGENIERIA DF. SAS | C34: RECHAZADO | D34: RECHAZADO | E34: =+'EXP GEN.'!AO171 -> RECHAZADO | F34: =+'EXP ESPEC.'!AG115 -> 0 | G34: 0 | H34: =+F34+G34 -> 0 | I34: - | L34: -
A35: P30 | B35: CONSORCIO VIAL ALAS | C35: HÁBIL | D35: HÁBIL | E35: =+'EXP GEN.'!AO177 -> HÁBIL | F35: =+'EXP ESPEC.'!AG119 -> 90 | G35: 10 | H35: =+F35+G35 -> 100 | I35: =+DESEMPATE!F57 -> SI | L35: =+DESEMPATE!N57 -> SI
A36: P31 | B36: CONSORCIO INTERVENTOR CORREDOR CAJAMARCA | C36: HÁBIL | D36: HÁBIL | E36: =+'EXP GEN.'!AO183 -> HÁBIL | F36: =+'EXP ESPEC.'!AG123 -> 90 | G36: 10 | H36: =+F36+G36 -> 100 | I36: =+DESEMPATE!F59 -> SI | L36: =+DESEMPATE!N59 -> SI
A37: P32 | B37: CONSORCIO VIAL DE COLOMBIA | C37: HÁBIL | D37: HÁBIL | E37: =+'EXP GEN.'!AO189 -> HÁBIL | F37: =+'EXP ESPEC.'!AG127 -> 90 | G37: 10 | H37: =+F37+G37 -> 100 | I37: =+DESEMPATE!F61 -> SI | L37: =+DESEMPATE!N61 -> SI
A38: P33 | B38: CONSORCIO CEMOSA 2018 | C38: HÁBIL | D38: HÁBIL | E38: =+'EXP GEN.'!AO195 -> HÁBIL | F38: =+'EXP ESPEC.'!AG131 -> 90 | G38: 10 | H38: =+F38+G38 -> 100 | I38: =+DESEMPATE!F63 -> SI | L38: =+DESEMPATE!N63 -> SI
A39: P34 | B39: CONSORCIO TOLIMA 2018 | C39: RECHAZADO | D39: RECHAZADO | E39: =+'EXP GEN.'!AO201 -> RECHAZADO | F39: =+'EXP ESPEC.'!AG135 -> 0 | G39: 0 | H39: =+F39+G39 -> 0 | I39: - | L39: -
A40: P35 | B40: CONSORCIO CONCESION TP | C40: HÁBIL | D40: HÁBIL | E40: =+'EXP GEN.'!AO207 -> HÁBIL | F40: =+'EXP ESPEC.'!AG139 -> 90 | G40: 10 | H40: =+F40+G40 -> 100 | I40: =+DESEMPATE!F67 -> SI | L40: =+DESEMPATE!N67 -> SI
A41: P36 | B41: CONSORCIO RUTAS DEL TOLIMA GRANDE | C41: HÁBIL | D41: HÁBIL | E41: =+'EXP GEN.'!AO213 -> HÁBIL | F41: =+'EXP ESPEC.'!AG143 -> 90 | G41: 10 | H41: =+F41+G41 -> 100 | I41: =+DESEMPATE!F69 -> SI | L41: =+DESEMPATE!N69 -> SI
...

Sheet EXP GEN.
A1: IDN1 | B1: IDN2 | C1: FOLIO CONTRATO | D1: INTEGRANTE | E1: EXPERIENCIA DEL LÍDER (SI/NO/NO APLICA) | F1: MÓDULO 1 (SI/NO) | G1: ENTIDAD | H1: PAÍS DE EJECUCIÓN | I1: No. Contrato | J1: OBJETO DEL CONTRATO | K1: CONTRATO VÁLIDO PARA ACREDITAR EXPERIENCIA (SI/NO) | L1: Contratos de Interventoría en proyectos de Infraestructura de Transporte | M1: Vigencia del contrato posterior a 01/01/90 | N1: PORCENTAJE DE PARTICIPACIÓN | O1: Fecha de inicio del contrato | P1: Fecha de terminación del contrato | Q1: Año de Finalización/ última facturación | R1: SMMLV Finalización / última facturación | S1: Valor del contrato incluido IVA | T1: MONEDA | U1: Tasa USD | V1: Valor del contrato USD | W1: Tasa COP | X1: Valor del contrato en Pesos incluido IVA (Ejecución) | Y1: SMMLV Valor del Cto. Ejecución (o) Inscrito en RUP | Z1: SMMLV finalización del contrato PONDERADO | AA1: SUMATORIA EXPERIENCIA GENERAL | AB1: EXPERIENCIA MINIMA POR EL LIDER | AC1: EXPERIENCIA MINIMA POR CONTRATO | AD1: Nº CONSECUTIVO DEL RUP / MATRIZ / EN EJECUCIÓN | AE1: Gerencia de Proyectos | AH1: Ingeniería Civil | AK1: Ingeniería de Transporte | AN1: ACTIVIDADES RUP, FORMATO 2, MATRIZ O EJECUCIÓN | AO1: CALIFICACIÓN EXPERIENCIA GENERAL | AP1: NOTAS | AR1: SI | AS1: NO
AE2: Segmento 80 | AF2: Familia 10 | AG2: Clase 16 | AH2: Segmento 81 | AI2: Familia 10 | AJ2: Clase 15 | AK2: Segmento 81 | AL2: Familia 10 | AM2: Clase 22 | AR2: HÁBIL | AS2: NO HÁBIL | AT2: RECHAZADO | AU2: PENDIENTE
A3: P01 | B3: P01-01 | D3: =IFERROR(INDEX(DESEMPATE!$D$3:$D$63,MATCH('EXP GEN.'!B3,DESEMPATE!$C$3:$C$63,0)),"") -> MAB INGENIERÍA DE VALOR S.A. | E3: =IFERROR(IF(D3="","",IF(VLOOKUP(D3,DESEMPATE!D$3:$E$19,2,FALSE)=1,"N/A",IF(VLOOKUP(D3,DESEMPATE!D$3:$E$19,2,FALSE)>=0.51,"SI","NO"))),"") -> SI | F3: SI | G3: IDU | H3: COLOMBIA | I3: 172 DE 2007 | J3: INTERVENTORIA TECNICA ADMINISTRATIVA LEGAL FINANCIERA AMBIENTAL Y SOCIAL PARA LA EJECUCION DE LAS OBRAS DE CONSTRUCCION Y TODAS LAS OBRAS NECESARIAS PARA LA ADECUACION DE LA CALLE 26 (AV JORGE ELIECER GAITAN) Y DE LA CARRERA 10ª 8AV FERNANDO MAZUREN) | K3: SI | L3: SI | M3: =IFERROR(IF(O3="","",IF(O3>=DATE(1990,1,1),"SI","NO")),"") -> SI | N3: 0.7 | O3: 39615 | P3: 40406 | Q3: =IF(P3="","",YEAR(P3)) -> 2010 | R3: =IFERROR(INDEX(PARAMETROS!$B$53:$B$101,MATCH(Q3,PARAMETROS!$A$53:$A$101,0)),"") -> 515000 | S3: N/A | T3: COP | U3: =IFERROR(IF(T3="","",IF(T3="COP","N/A",IF(OR(T3="USD",T3="US"),1,IF(T3="EUR",VLOOKUP(P3,'SH EURO'!$A$6:$B$10372,2,FALSE),"INGRESAR TASA")))),"") -> N/A | V3: =IFERROR(IF(S3="","",IF(U3="INGRESAR TASA","INGRESAR TASA USD",IF(U3="N/A","N/A",U3*S3))),"") -> N/A | W3: =IFERROR(IF(T3="","",IF(T3="COP",1,IF(U3<>"N/A",VLOOKUP(P3,'SH TRM'!$A$9:$B$100372,2,FALSE),"REVISAR"))),"") -> 1 | X3: =IFERROR(IF(W3<>"",IF(T3<>"COP",V3*W3,S3),""),"") -> N/A | Y3: 50224.35 | Z3: =IFERROR(IF(OR(K3="",K3="NO"),"",IF(F3="SI",IFERROR(Y3*N3,""),"")),"") -> 35157.045 | AA3: =IFERROR(IF(COUNTIF(Z3:Z8,"")=6,"",IF(SUM(Z3:Z8)>=CM001M1,"CUMPLE","NO CUMPLE")),"") -> CUMPLE | AB3: =IFERROR(IF(COUNTIF(Z3:Z8,"")=6,"",IF(COUNTIF(E3:E8,"N/A")>0,IF(SUMIF(E3:E8,"N/A",Z3:Z8)>=CM001LM1,"CUMPLE","NO CUMPLE"),IF(SUMIF(E3:E8,"SI",Z3:Z8)>=CM001LM1,"CUMPLE","NO CUMPLE"))),"") -> CUMPLE | AC3: =IFERROR(IF(Z3="","",IF(Z3>=CM001EMM1,"CUMPLE","NO CUMPLE")),"") -> CUMPLE | AD3: 1 | AE3: SI | AH3: SI | AK3: SI | AN3: =IFERROR(IF(AD3="","",IF(ISNUMBER(AD3),IF(COUNTIF(AE3:AM3,"SI")>0,"SI","NO"),AD3)),"") -> SI | AO3: HÁBIL
B4: P01-02 | D4: =IFERROR(INDEX(DESEMPATE!$D$3:$D$63,MATCH('EXP GEN.'!B4,DESEMPATE!$C$3:$C$63,0)),"") -> MAB SERVICIOS S.A.S. | E4: =IFERROR(IF(D4="","",IF(VLOOKUP(D4,DESEMPATE!D$3:$E$19,2,FALSE)=1,"N/A",IF(VLOOKUP(D4,DESEMPATE!D$3:$E$19,2,FALSE)>=0.51,"SI","NO"))),"") -> NO | F4: SI | G4: INVIAS | H4: COLOMBIA | I4: 3606 DE 2008 | J4: INTERVENTORIA PARA EL MEJORAMIENTO Y MANTENIMIENTO DE LAS CARRETERAS MEDIACANOA - ANSERMONUEVO - LA VIRGINIA CODIGO 2302 Y MIRANDA - RIO DESBARATADO - PRADERA - PALMIRA CODIGO 3105, MODULO 1 | K4: SI | L4: SI | M4: =IFERROR(IF(O4="","",IF(O4>=DATE(1990,1,1),"SI","NO")),"") -> SI | N4: 0.55 | O4: 39856 | P4: 40979 | Q4: =IF(P4="","",YEAR(P4)) -> 2012 | R4: =IFERROR(INDEX(PARAMETROS!$B$53:$B$101,MATCH(Q4,PARAMETROS!$A$53:$A$101,0)),"") -> 566700 | S4: N/A | T4: COP | U4: =IFERROR(IF(T4="","",IF(T4="COP","N/A",IF(OR(T4="USD",T4="US"),1,IF(T4="EUR",VLOOKUP(P4,'SH EURO'!$A$6:$B$10372,2,FALSE),"INGRESAR TASA")))),"") -> N/A | V4: =IFERROR(IF(S4="","",IF(U4="INGRESAR TASA","INGRESAR TASA USD",IF(U4="N/A","N/A",U4*S4))),"") -> N/A | W4: =IFERROR(IF(T4="","",IF(T4="COP",1,IF(U4<>"N/A",VLOOKUP(P4,'SH TRM'!$A$9:$B$100372,2,FALSE),"REVISAR"))),"") -> 1 | X4: =IFERROR(IF(W4<>"",IF(T4<>"COP",V4*W4,S4),""),"") -> N/A | Y4: 6565.94 | Z4: =IFERROR(IF(OR(K4="",K4="NO"),"",IF(F4="SI",IFERROR(Y4*N4,""),"")),"") -> 3611.267 | AC4: =IFERROR(IF(Z4="","",IF(Z4>=CM001EMM1,"CUMPLE","NO CUMPLE")),"") -> CUMPLE | AD4: 2 | AE4: SI | AH4: SI | AK4: SI | AN4: =IFERROR(IF(AD4="","",IF(ISNUMBER(AD4),IF(COUNTIF(AE4:AM4,"SI")>0,"SI","NO"),AD4)),"") -> SI
B5: P01-02 | D5: =IFERROR(INDEX(DESEMPATE!$D$3:$D$63,MATCH('EXP GEN.'!B5,DESEMPATE!$C$3:$C$63,0)),"") -> MAB SERVICIOS S.A.S. | E5: =IFERROR(IF(D5="","",IF(VLOOKUP(D5,DESEMPATE!D$3:$E$19,2,FALSE)=1,"N/A",IF(VLOOKUP(D5,DESEMPATE!D$3:$E$19,2,FALSE)>=0.51,"SI","NO"))),"") -> NO | F5: SI | G5: CONCESION AUTOPISTA BOGOTA - GIRARDOT | H5: COLOMBIA | I5: CABG-012-11 | J5: REALIZAR LA INTERVENTORIA TECNICA INTEGRAL DE LAS ACTIVIDADES EJECUTADAS POR LA CABG REFERENTES AL DISEÑO CONSTRUCCION,MANTENIMIENTO,OPERACIÓN Y GESTION AMBIENTAL,ENCAMINADAS AL CUMPLIMIENTO DEL CONTRATO DE CONCESION. | K5: SI | L5: SI | M5: =IFERROR(IF(O5="","",IF(O5>=DATE(1990,1,1),"SI","NO")),"") -> SI | N5: 1 | O5: 40617 | P5: 42400 | Q5: =IF(P5="","",YEAR(P5)) -> 2016 | R5: =IFERROR(INDEX(PARAMETROS!$B$53:$B$101,MATCH(Q5,PARAMETROS!$A$53:$A$101,0)),"") -> 689455 | S5: N/A | T5: COP | U5: =IFERROR(IF(T5="","",IF(T5="COP","N/A",IF(OR(T5="USD",T5="US"),1,IF(T5="EUR",VLOOKUP(P5,'SH EURO'!$A$6:$B$10372,2,FALSE),"INGRESAR TASA")))),"") -> N/A | V5: =IFERROR(IF(S5="","",IF(U5="INGRESAR TASA","INGRESAR TASA USD",IF(U5="N/A","N/A",U5*S5))),"") -> N/A | W5: =IFERROR(IF(T5="","",IF(T5="COP",1,IF(U5<>"N/A",VLOOKUP(P5,'SH TRM'!$A$9:$B$100372,2,FALSE),"REVISAR"))),"") -> 1 | X5: =IFERROR(IF(W5<>"",IF(T5<>"COP",V5*W5,S5),""),"") -> N/A | Y5: 10818.393 | Z5: =IFERROR(IF(OR(K5="",K5="NO"),"",IF(F5="SI",IFERROR(Y5*N5,""),"")),"") -> 10818.393 | AC5: =IFERROR(IF(Z5="","",IF(Z5>=CM001EMM1,"CUMPLE","NO CUMPLE")),"") -> CUMPLE | AD5: 60 | AE5: SI | AH5: SI | AK5: SI | AN5: =IFERROR(IF(AD5="","",IF(ISNUMBER(AD5),IF(COUNTIF(AE5:AM5,"SI")>0,"SI","NO"),AD5)),"") -> SI
D6: =IFERROR(INDEX(DESEMPATE!$D$3:$D$63,MATCH('EXP GEN.'!B6,DESEMPATE!$C$3:$C$63,0)),"") | E6: =IFERROR(IF(D6="","",IF(VLOOKUP(D6,DESEMPATE!D$3:$E$19,2,FALSE)=1,"N/A",IF(VLOOKUP(D6,DESEMPATE!D$3:$E$19,2,FALSE)>=0.51,"SI","NO"))),"") | F6: SI | U6: =IFERROR(IF(T6="","",IF(T6="COP","N/A",IF(OR(T6="USD",T6="US"),1,IF(T6="EUR",VLOOKUP(P6,'SH EURO'!$A$6:$B$10372,2,FALSE),"INGRESAR TASA")))),"") | V6: =IFERROR(IF(S6="","",IF(U6="INGRESAR TASA","INGRESAR TASA USD",IF(U6="N/A","N/A",U6*S6))),"") | W6: =IFERROR(IF(T6="","",IF(T6="COP",1,IF(U6<>"N/A",VLOOKUP(P6,'SH TRM'!$A$9:$B$100372,2,FALSE),"REVISAR"))),"") | X6: =IFERROR(IF(W6<>"",IF(T6<>"COP",V6*W6,S6),""),"") | Y6: =IFERROR(X6/R6,"") | Z6: =IFERROR(IF(OR(K6="",K6="NO"),"",IF(F6="SI",IFERROR(Y6*N6,""),"")),"") | AC6: =IFERROR(IF(Z6="","",IF(Z6>=CM001EMM1,"CUMPLE","NO CUMPLE")),"") | AN6: =IFERROR(IF(AD6="","",IF(ISNUMBER(AD6),IF(COUNTIF(AE6:AM6,"SI")>0,"SI","NO"),AD6)),"")
D7: =IFERROR(INDEX(DESEMPATE!$D$3:$D$63,MATCH('EXP GEN.'!B7,DESEMPATE!$C$3:$C$63,0)),"") | E7: =IFERROR(IF(D7="","",IF(VLOOKUP(D7,DESEMPATE!D$3:$E$19,2,FALSE)=1,"N/A",IF(VLOOKUP(D7,DESEMPATE!D$3:$E$19,2,FALSE)>=0.51,"SI","NO"))),"") | F7: SI | U7: =IFERROR(IF(T7="","",IF(T7="COP","N/A",IF(OR(T7="USD",T7="US"),1,IF(T7="EUR",VLOOKUP(P7,'SH EURO'!$A$6:$B$10372,2,FALSE),"INGRESAR TASA")))),"") | V7: =IFERROR(IF(S7="","",IF(U7="INGRESAR TASA","INGRESAR TASA USD",IF(U7="N/A","N/A",U7*S7))),"") | W7: =IFERROR(IF(T7="","",IF(T7="COP",1,IF(U7<>"N/A",VLOOKUP(P7,'SH TRM'!$A$9:$B$100372,2,FALSE),"REVISAR"))),"") | X7: =IFERROR(IF(W7<>"",IF(T7<>"COP",V7*W7,S7),""),"") | Y7: =IFERROR(X7/R7,"") | Z7: =IFERROR(IF(OR(K7="",K7="NO"),"",IF(F7="SI",IFERROR(Y7*N7,""),"")),"") | AC7: =IFERROR(IF(Z7="","",IF(Z7>=CM001EMM1,"CUMPLE","NO CUMPLE")),"") | AN7: =IFERROR(IF(AD7="","",IF(ISNUMBER(AD7),IF(COUNTIF(AE7:AM7,"SI")>0,"SI","NO"),AD7)),"")
D8: =IFERROR(INDEX(DESEMPATE!$D$3:$D$63,MATCH('EXP GEN.'!B8,DESEMPATE!$C$3:$C$63,0)),"") | E8: =IFERROR(IF(D8="","",IF(VLOOKUP(D8,DESEMPATE!D$3:$E$19,2,FALSE)=1,"N/A",IF(VLOOKUP(D8,DESEMPATE!D$3:$E$19,2,FALSE)>=0.51,"SI","NO"))),"") | F8: SI | M8: =IFERROR(IF(O8="","",IF(O8>=DATE(1990,1,1),"SI","NO")),"") | U8: =IFERROR(IF(T8="","",IF(T8="COP","N/A",IF(OR(T8="USD",T8="US"),1,IF(T8="EUR",VLOOKUP(P8,'SH EURO'!$A$6:$B$10372,2,FALSE),"INGRESAR TASA")))),"") | V8: =IFERROR(IF(S8="","",IF(U8="INGRESAR TASA","INGRESAR TASA USD",IF(U8="N/A","N/A",U8*S8))),"") | W8: =IFERROR(IF(T8="","",IF(T8="COP",1,IF(U8<>"N/A",VLOOKUP(P8,'SH TRM'!$A$9:$B$100372,2,FALSE),"REVISAR"))),"") | X8: =IFERROR(IF(W8<>"",IF(T8<>"COP",V8*W8,S8),""),"") | Y8: =IFERROR(X8/R8,"") | Z8: =IFERROR(IF(OR(K8="",K8="NO"),"",IF(F8="SI",IFERROR(Y8*N8,""),"")),"") | AC8: =IFERROR(IF(Z8="","",IF(Z8>=CM001EMM1,"CUMPLE","NO CUMPLE")),"") | AN8: =IFERROR(IF(AD8="","",IF(ISNUMBER(AD8),IF(COUNTIF(AE8:AM8,"SI")>0,"SI","NO"),AD8)),"")
A9: P02 | B9: P02-01 | D9: =IFERROR(INDEX(DESEMPATE!$D$3:$D$63,MATCH('EXP GEN.'!B9,DESEMPATE!$C$3:$C$63,0)),"") -> AYESA INGENIERIA Y ARQUITECTURA SAU SUCURSAL COLOMBIA | E9: =IFERROR(IF(D9="","",IF(VLOOKUP(D9,DESEMPATE!D$3:$E$19,2,FALSE)=1,"N/A",IF(VLOOKUP(D9,DESEMPATE!D$3:$E$19,2,FALSE)>=0.51,"SI","NO"))),"") -> SI | F9: SI | G9: DGC DEMARCACION DE CARRETERAS DEL ESTADO EN ANDALUCIA ORIENTAL | H9: ESPAÑA | I9: AT 12-GR-2850 | J9: CONTROL Y VGILANCIA DE LAS OBRAS AUTOVIA DEL MEDITERRANEO CN-340 DE CADIZ Y GIBRALTAR A BARCELONA. TRAMO: ALMUÑECAR (LA HERRADURA) - ALMUÑECAR (TARAMAY). PROVINCIA DE GRANADA | K9: SI | L9: SI | M9: =IFERROR(IF(O9="","",IF(O9>=DATE(1990,1,1),"SI","NO")),"") -> SI | N9: 1 | O9: 37591 | P9: 40117 | Q9: =IF(P9="","",YEAR(P9)) -> 2009 | R9: =IFERROR(INDEX(PARAMETROS!$B$53:$B$101,MATCH(Q9,PARAMETROS!$A$53:$A$101,0)),"") -> 496900 | S9: N/A | T9: EUR | U9: =IFERROR(IF(T9="","",IF(T9="COP","N/A",IF(OR(T9="USD",T9="US"),1,IF(T9="EUR",VLOOKUP(P9,'SH EURO'!$A$6:$B$10372,2,FALSE),"INGRESAR TASA")))),"") -> 1.48045 | V9: N/A | W9: =IFERROR(IF(T9="","",IF(T9="COP",1,IF(U9<>"N/A",VLOOKUP(P9,'SH TRM'!$A$9:$B$100372,2,FALSE),"REVISAR"))),"") -> 1993.8 | X9: N/A | Y9: 19648.16 | Z9: =IFERROR(IF(OR(K9="",K9="NO"),"",IF(F9="SI",IFERROR(Y9*N9,""),"")),"") -> 19648.16 | AA9: =IFERROR(IF(COUNTIF(Z9:Z14,"")=6,"",IF(SUM(Z9:Z14)>=CM001M1,"CUMPLE","NO CUMPLE")),"") -> CUMPLE | AB9: =IFERROR(IF(COUNTIF(Z9:Z14,"")=6,"",IF(COUNTIF(E9:E14,"N/A")>0,IF(SUMIF(E9:E14,"N/A",Z9:Z14)>=CM001LM1,"CUMPLE","NO CUMPLE"),IF(SUMIF(E9:E14,"SI",Z9:Z14)>=CM001LM1,"CUMPLE","NO CUMPLE"))),"") -> CUMPLE | AC9: =IFERROR(IF(Z9="","",IF(Z9>=CM001EMM1,"CUMPLE","NO CUMPLE")),"") -> CUMPLE | AD9: 2 | AE9: SI | AH9: SI | AK9: SI | AN9: =IFERROR(IF(AD9="","",IF(ISNUMBER(AD9),IF(COUNTIF(AE9:AM9,"SI")>0,"SI","NO"),AD9)),"") -> SI | AO9: HÁBIL
B10: P02-02 | D10: =IFERROR(INDEX(DESEMPATE!$D$3:$D$63,MATCH('EXP GEN.'!B10,DESEMPATE!$C$3:$C$63,0)),"") -> INTERSA SA | E10: =IFERROR(IF(D10="","",IF(VLOOKUP(D10,DESEMPATE!D$3:$E$19,2,FALSE)=1,"N/A",IF(VLOOKUP(D10,DESEMPATE!D$3:$E$19,2,FALSE)>=0.51,"SI","NO"))),"") -> NO | F10: SI | G10: ANI | H10: COLOMBIA | I10: 062 DE 2005 | J10: INTERVENTORIA TECNICA, AMBIENTAL, LEGAL, ADMINISTRATIVA, PREDIAL, FINANCIERA, Y OPERATIVA EN LA ETAPA DE OPERACIÓN DEL CONTRATO DE CONCESION # 0849 DE 1995 DESARROLLO VIAL CARRETERA NEIVA-ESPINAL-GIRARDOT. | K10: SI | L10: SI | M10: =IFERROR(IF(O10="","",IF(O10>=DATE(1990,1,1),"SI","NO")),"") -> SI | N10: 0.5 | O10: 38772 | P10: 40656 | Q10: =IF(P10="","",YEAR(P10)) -> 2011 | R10: =IFERROR(INDEX(PARAMETROS!$B$53:$B$101,MATCH(Q10,PARAMETROS!$A$53:$A$101,0)),"") -> 535600 | S10: N/A | T10: COP | U10: =IFERROR(IF(T10="","",IF(T10="COP","N/A",IF(OR(T10="USD",T10="US"),1,IF(T10="EUR",VLOOKUP(P10,'SH EURO'!$A$6:$B$10372,2,FALSE),"INGRESAR TASA")))),"") -> N/A | V10: =IFERROR(IF(S10="","",IF(U10="INGRESAR TASA","INGRESAR TASA USD",IF(U10="N/A","N/A",U10*S10))),"") -> N/A | W10: =IFERROR(IF(T10="","",IF(T10="COP",1,IF(U10<>"N/A",VLOOKUP(P10,'SH TRM'!$A$9:$B$100372,2,FALSE),"REVISAR"))),"") -> 1 | X10: =IFERROR(IF(W10<>"",IF(T10<>"COP",V10*W10,S10),""),"") -> N/A | Y10: 8950.4 | Z10: =IFERROR(IF(OR(K10="",K10="NO"),"",IF(F10="SI",IFERROR(Y10*N10,""),"")),"") -> 4475.2 | AC10: =IFERROR(IF(Z10="","",IF(Z10>=CM001EMM1,"CUMPLE","NO CUMPLE")),"") -> CUMPLE | AD10: 21 | AE10: SI | AH10: SI | AK10: SI | AN10: =IFERROR(IF(AD10="","",IF(ISNUMBER(AD10),IF(COUNTIF(AE10:AM10,"SI")>0,"SI","NO"),AD10)),"") -> SI
B11: P02-02 | D11: =IFERROR(INDEX(DESEMPATE!$D$3:$D$63,MATCH('EXP GEN.'!B11,DESEMPATE!$C$3:$C$63,0)),"") -> INTERSA SA | E11: =IFERROR(IF(D11="","",IF(VLOOKUP(D11,DESEMPATE!D$3:$E$19,2,FALSE)=1,"N/A",IF(VLOOKUP(D11,DESEMPATE!D$3:$E$19,2,FALSE)>=0.51,"SI","NO"))),"") -> NO | F11: SI | G11: INVIAS | H11: COLOMBIA | I11: 928 DE 2001 | J11: INTERVENTORIA PARA EL MEJORAMIENTO Y PAVIMENTACION DE LA CARRETERA FUENTE DE ORO-PUERTO LLERAS-CRUCE PUERTO RICO-PUERTO ARTURO -SAN JOSE DEL GUAVIARE, SECTOR CRUCE DE PUERTO RICO-PUERTO ARTURO K62+000 AL K81+000. | K11: SI | L11: SI | M11: =IFERROR(IF(O11="","",IF(O11>=DATE(1990,1,1),"SI","NO")),"") -> SI | N11: 0.75 | O11: 37308 | P11: 37986 | Q11: =IF(P11="","",YEAR(P11)) -> 2003 | R11: =IFERROR(INDEX(PARAMETROS!$B$53:$B$101,MATCH(Q11,PARAMETROS!$A$53:$A$101,0)),"") -> 332000 | S11: N/A | T11: COP | U11: =IFERROR(IF(T11="","",IF(T11="COP","N/A",IF(OR(T11="USD",T11="US"),1,IF(T11="EUR",VLOOKUP(P11,'SH EURO'!$A$6:$B$10372,2,FALSE),"INGRESAR TASA")))),"") -> N/A | V11: =IFERROR(IF(S11="","",IF(U11="INGRESAR TASA","INGRESAR TASA USD",IF(U11="N/A","N/A",U11*S11))),"") -> N/A | W11: =IFERROR(IF(T11="","",IF(T11="COP",1,IF(U11<>"N/A",VLOOKUP(P11,'SH TRM'!$A$9:$B$100372,2,FALSE),"REVISAR"))),"") -> 1 | X11: =IFERROR(IF(W11<>"",IF(T11<>"COP",V11*W11,S11),""),"") -> N/A | Y11: 4023.32 | Z11: =IFERROR(IF(OR(K11="",K11="NO"),"",IF(F11="SI",IFERROR(Y11*N11,""),"")),"") -> 3017.49 | AC11: =IFERROR(IF(Z11="","",IF(Z11>=CM001EMM1,"CUMPLE","NO CUMPLE")),"") -> CUMPLE | AD11: 35 | AE11: NO | AH11: SI | AK11: SI | AN11: =IFERROR(IF(AD11="","",IF(ISNUMBER(AD11),IF(COUNTIF(AE11:AM11,"SI")>0,"SI","NO"),AD11)),"") -> SI
B12: P02-02 | D12: =IFERROR(INDEX(DESEMPATE!$D$3:$D$63,MATCH('EXP GEN.'!B12,DESEMPATE!$C$3:$C$63,0)),"") -> INTERSA SA | E12: =IFERROR(IF(D12="","",IF(VLOOKUP(D12,DESEMPATE!D$3:$E$19,2,FALSE)=1,"N/A",IF(VLOOKUP(D12,DESEMPATE!D$3:$E$19,2,FALSE)>=0.51,"SI","NO"))),"") -> NO | F12: SI | G12: INVIAS | H12: COLOMBIA | I12: 124 DE 2001 | J12: INTERVENTORIA PARA EL MEJORAMIENTO Y PAVIMENTACION DE LA CARRETERA FUENTE DE ORO-PUERTO LLERAS-CRUCE PUERTO RICO-PUERTO ARTURO-SAN JOSE DEL GUAVIARE, SECTOR FUENTE DE ORO-PUERTO LLERAS, K0+000 AL K20+000. | K12: SI | L12: SI | M12: =IFERROR(IF(O12="","",IF(O12>=DATE(1990,1,1),"SI","NO")),"") -> SI | N12: 1 | O12: 36992 | P12: 37539 | Q12: =IF(P12="","",YEAR(P12)) -> 2002 | R12: =IFERROR(INDEX(PARAMETROS!$B$53:$B$101,MATCH(Q12,PARAMETROS!$A$53:$A$101,0)),"") -> 309000 | S12: N/A | T12: COP | U12: =IFERROR(IF(T12="","",IF(T12="COP","N/A",IF(OR(T12="USD",T12="US"),1,IF(T12="EUR",VLOOKUP(P12,'SH EURO'!$A$6:$B$10372,2,FALSE),"INGRESAR TASA")))),"") -> N/A | V12: =IFERROR(IF(S12="","",IF(U12="INGRESAR TASA","INGRESAR TASA USD",IF(U12="N/A","N/A",U12*S12))),"") -> N/A | W12: =IFERROR(IF(T12="","",IF(T12="COP",1,IF(U12<>"N/A",VLOOKUP(P12,'SH TRM'!$A$9:$B$100372,2,FALSE),"REVISAR"))),"") -> 1 | X12: =IFERROR(IF(W12<>"",IF(T12<>"COP",V12*W12,S12),""),"") -> N/A | Y12: 3236.02 | Z12: =IFERROR(IF(OR(K12="",K12="NO"),"",IF(F12="SI",IFERROR(Y12*N12,""),"")),"") -> 3236.02 | AC12: =IFERROR(IF(Z12="","",IF(Z12>=CM001EMM1,"CUMPLE","NO CUMPLE")),"") -> CUMPLE | AD12: 44 | AE12: NO | AH12: SI | AK12: SI | AN12: =IFERROR(IF(AD12="","",IF(ISNUMBER(AD12),IF(COUNTIF(AE12:AM12,"SI")>0,"SI","NO"),AD12)),"") -> SI
D13: =IFERROR(INDEX(DESEMPATE!$D$3:$D$63,MATCH('EXP GEN.'!B13,DESEMPATE!$C$3:$C$63,0)),"") | E13: =IFERROR(IF(D13="","",IF(VLOOKUP(D13,DESEMPATE!D$3:$E$19,2,FALSE)=1,"N/A",IF(VLOOKUP(D13,DESEMPATE!D$3:$E$19,2,FALSE)>=0.51,"SI","NO"))),"") | F13: SI | M13: =IFERROR(IF(O13="","",IF(O13>=DATE(1990,1,1),"SI","NO")),"") | Q13: =IF(P13="","",YEAR(P13)) | R13: =IFERROR(INDEX(PARAMETROS!$B$53:$B$101,MATCH(Q13,PARAMETROS!$A$53:$A$101,0)),"") | U13: =IFERROR(IF(T13="","",IF(T13="COP","N/A",IF(OR(T13="USD",T13="US"),1,IF(T13="EUR",VLOOKUP(P13,'SH EURO'!$A$6:$B$10372,2,FALSE),"INGRESAR TASA")))),"") | V13: =IFERROR(IF(S13="","",IF(U13="INGRESAR TASA","INGRESAR TASA USD",IF(U13="N/A","N/A",U13*S13))),"") | W13: =IFERROR(IF(T13="","",IF(T13="COP",1,IF(U13<>"N/A",VLOOKUP(P13,'SH TRM'!$A$9:$B$100372,2,FALSE),"REVISAR"))),"") | X13: =IFERROR(IF(W13<>"",IF(T13<>"COP",V13*W13,S13),""),"") | Y13: =IFERROR(X13/R13,"") | Z13: =IFERROR(IF(OR(K13="",K13="NO"),"",IF(F13="SI",IFERROR(Y13*N13,""),"")),"") | AC13: =IFERROR(IF(Z13="","",IF(Z13>=CM001EMM1,"CUMPLE","NO CUMPLE")),"") | AN13: =IFERROR(IF(AD13="","",IF(ISNUMBER(AD13),IF(COUNTIF(AE13:AM13,"SI")>0,"SI","NO"),AD13)),"")
D14: =IFERROR(INDEX(DESEMPATE!$D$3:$D$63,MATCH('EXP GEN.'!B14,DESEMPATE!$C$3:$C$63,0)),"") | E14: =IFERROR(IF(D14="","",IF(VLOOKUP(D14,DESEMPATE!D$3:$E$19,2,FALSE)=1,"N/A",IF(VLOOKUP(D14,DESEMPATE!D$3:$E$19,2,FALSE)>=0.51,"SI","NO"))),"") | F14: SI | M14: =IFERROR(IF(O14="","",IF(O14>=DATE(1990,1,1),"SI","NO")),"") | Q14: =IF(P14="","",YEAR(P14)) | R14: =IFERROR(INDEX(PARAMETROS!$B$53:$B$101,MATCH(Q14,PARAMETROS!$A$53:$A$101,0)),"") | U14: =IFERROR(IF(T14="","",IF(T14="COP","N/A",IF(OR(T14="USD",T14="US"),1,IF(T14="EUR",VLOOKUP(P14,'SH EURO'!$A$6:$B$10372,2,FALSE),"INGRESAR TASA")))),"") | V14: =IFERROR(IF(S14="","",IF(U14="INGRESAR TASA","INGRESAR TASA USD",IF(U14="N/A","N/A",U14*S14))),"") | W14: =IFERROR(IF(T14="","",IF(T14="COP",1,IF(U14<>"N/A",VLOOKUP(P14,'SH TRM'!$A$9:$B$100372,2,FALSE),"REVISAR"))),"") | X14: =IFERROR(IF(W14<>"",IF(T14<>"COP",V14*W14,S14),""),"") | Y14: =IFERROR(X14/R14,"") | Z14: =IFERROR(IF(OR(K14="",K14="NO"),"",IF(F14="SI",IFERROR(Y14*N14,""),"")),"") | AC14: =IFERROR(IF(Z14="","",IF(Z14>=CM001EMM1,"CUMPLE","NO CUMPLE")),"") | AN14: =IFERROR(IF(AD14="","",IF(ISNUMBER(AD14),IF(COUNTIF(AE14:AM14,"SI")>0,"SI","NO"),AD14)),"")
A15: P03 | B15: P03-01 | D15: =IFERROR(INDEX(DESEMPATE!$D$3:$D$63,MATCH('EXP GEN.'!B15,DESEMPATE!$C$3:$C$63,0)),"") -> INCGROUP SAS | E15: =IFERROR(IF(D15="","",IF(VLOOKUP(D15,DESEMPATE!D$3:$E$19,2,FALSE)=1,"N/A",IF(VLOOKUP(D15,DESEMPATE!D$3:$E$19,2,FALSE)>=0.51,"SI","NO"))),"") -> N/A | F15: SI | G15: MINISTERIO DE FOMENTO | H15: ESPAÑA | I15: 588/06 | J15: CONSULTORIA Y ASISTENCIA PARA “INSPECCCIÓN DEL CONTRATO DE CONCESIÓN DE OBRAS PÚBLICAS PARA LA CONSERVACIÓN Y EXPLOTACIÓN DE AUTOVÍAS DE PRIMERA GENERACIÓN. AUTOVIA A-4 DEL SUR, DEL PK9.100 AL 67.500. TRAMO: MADRID-OCAÑA. RED DE CARRETERAS DEL ESTADO”. PROVINCIA DE MADRID | K15: SI | L15: SI | M15: =IFERROR(IF(O15="","",IF(O15>=DATE(1990,1,1),"SI","NO")),"") -> SI | N15: 1 | O15: 39434 | P15: 40894 | Q15: =IF(P15="","",YEAR(P15)) -> 2011 | R15: =IFERROR(INDEX(PARAMETROS!$B$53:$B$101,MATCH(Q15,PARAMETROS!$A$53:$A$101,0)),"") -> 535600 | S15: 2092531.7 | T15: EUR | U15: =IFERROR(IF(T15="","",IF(T15="COP","N/A",IF(OR(T15="USD",T15="US"),1,IF(T15="EUR",VLOOKUP(P15,'SH EURO'!$A$6:$B$10372,2,FALSE),"INGRESAR TASA")))),"") -> 1.30307 | V15: =IFERROR(IF(S15="","",IF(U15="INGRESAR TASA","INGRESAR TASA USD",IF(U15="N/A","N/A",U15*S15))),"") -> 2726715.3 | W15: =IFERROR(IF(T15="","",IF(T15="COP",1,IF(U15<>"N/A",VLOOKUP(P15,'SH TRM'!$A$9:$B$100372,2,FALSE),"REVISAR"))),"") -> 1935.64 | X15: =IFERROR(IF(W15<>"",IF(T15<>"COP",V15*W15,S15),""),"") -> 5.2779392e+09 | Y15: =IFERROR(X15/R15,"") -> 9854.2555 | Z15: =IFERROR(IF(OR(K15="",K15="NO"),"",IF(F15="SI",IFERROR(Y15*N15,""),"")),"") -> 9854.2555 | AA15: =IFERROR(IF(COUNTIF(Z15:Z20,"")=6,"",IF(SUM(Z15:Z20)>=CM001M1,"CUMPLE","NO CUMPLE")),"") -> CUMPLE | AB15: =IFERROR(IF(COUNTIF(Z15:Z20,"")=6,"",IF(COUNTIF(E15:E20,"N/A")>0,IF(SUMIF(E15:E20,"N/A",Z15:Z20)>=CM001LM1,"CUMPLE","NO CUMPLE"),IF(SUMIF(E15:E20,"SI",Z15:Z20)>=CM001LM1,"CUMPLE","NO CUMPLE"))),"") -> CUMPLE | AC15: =IFERROR(IF(Z15="","",IF(Z15>=CM001EMM1,"CUMPLE","NO CUMPLE")),"") -> CUMPLE | AD15: MATRIZ | AN15: =IFERROR(IF(AD15="","",IF(ISNUMBER(AD15),IF(COUNTIF(AE15:AM15,"SI")>0,"SI","NO"),AD15)),"") -> MATRIZ | AO15: HÁBIL
B16: P03-01 | D16: =IFERROR(INDEX(DESEMPATE!$D$3:$D$63,MATCH('EXP GEN.'!B16,DESEMPATE!$C$3:$C$63,0)),"") -> INCGROUP SAS | E16: =IFERROR(IF(D16="","",IF(VLOOKUP(D16,DESEMPATE!D$3:$E$19,2,FALSE)=1,"N/A",IF(VLOOKUP(D16,DESEMPATE!D$3:$E$19,2,FALSE)>=0.51,"SI","NO"))),"") -> N/A | F16: SI | G16: INSTITUTO DE DESARROLLO URBANO | H16: COLOMBIA | I16: 174 DE 2007 | J16: INTERVENTORIA TÉCNICA, ADMINISTRATIVA, FINANCIERA, AMBIENTAL Y SOCIAL PARA LA EJECUCIÓN DE LA TOTALIDAD DE LAS OBRAS DE CONSTRUCCIÓN Y TODAS LAS ACTIVIDADES NECESARIAS PARA LA ADECUACIÓN DE LA CALLE 26 (AVENIDA JORGE ELIÉCER GAITÁN) AL SISTEMA TRANSMILENIO, EN EL TRAMO 3 COMPRENDIDO ENTRE LA TRANSVERSAL 76 Y LA CARRERA 42B Y EN EL TRAMO 4 COPRENDIDO ENTRE LA CARRERA 42B Y LA CARRERA 19, GRUPO 4 DE LA LICITACIÓN NÚMERO IDU-LP-DG-022-2007, EN BOGOTÁ D.C. | K16: SI | L16: SI | M16: =IFERROR(IF(O16="","",IF(O16>=DATE(1990,1,1),"SI","NO")),"") -> SI | N16: 0.65 | O16: 39615 | P16: 41152 | Q16: =IF(P16="","",YEAR(P16)) -> 2012 | R16: =IFERROR(INDEX(PARAMETROS!$B$53:$B$101,MATCH(Q16,PARAMETROS!$A$53:$A$101,0)),"") -> 566700 | S16: 19784751256 | T16: COP | U16: =IFERROR(IF(T16="","",IF(T16="COP","N/A",IF(OR(T16="USD",T16="US"),1,IF(T16="EUR",VLOOKUP(P16,'SH EURO'!$A$6:$B$10372,2,FALSE),"INGRESAR TASA")))),"") -> N/A | V16: =IFERROR(IF(S16="","",IF(U16="INGRESAR TASA","INGRESAR TASA USD",IF(U16="N/A","N/A",U16*S16))),"") -> N/A | W16: =IFERROR(IF(T16="","",IF(T16="COP",1,IF(U16<>"N/A",VLOOKUP(P16,'SH TRM'!$A$9:$B$100372,2,FALSE),"REVISAR"))),"") -> 1 | X16: =IFERROR(IF(W16<>"",IF(T16<>"COP",V16*W16,S16),""),"") -> 19784751256 | Y16: =IFERROR(X16/R16,"") -> 34912.213 | Z16: =IFERROR(IF(OR(K16="",K16="NO"),"",IF(F16="SI",IFERROR(Y16*N16,""),"")),"") -> 22692.939 | AC16: =IFERROR(IF(Z16="","",IF(Z16>=CM001EMM1,"CUMPLE","NO CUMPLE")),"") -> CUMPLE | AD16: MATRIZ | AN16: =IFERROR(IF(AD16="","",IF(ISNUMBER(AD16),IF(COUNTIF(AE16:AM16,"SI")>0,"SI","NO"),AD16)),"") -> MATRIZ
B17: P03-01 | D17: =IFERROR(INDEX(DESEMPATE!$D$3:$D$63,MATCH('EXP GEN.'!B17,DESEMPATE!$C$3:$C$63,0)),"") -> INCGROUP SAS | E17: =IFERROR(IF(D17="","",IF(VLOOKUP(D17,DESEMPATE!D$3:$E$19,2,FALSE)=1,"N/A",IF(VLOOKUP(D17,DESEMPATE!D$3:$E$19,2,FALSE)>=0.51,"SI","NO"))),"") -> N/A | F17: SI | G17: MINISTERIO DE FOMENTO | H17: ESPAÑA | I17: 12-S-4500 | J17: CONSULTORÍA Y ASISTENCIA TÉCNICA PARA EL CONTROL Y VIGILANCIA DE LAS OBRAS DE CONSTRUCCIÓN: AUTOVÍA DEL CANTÁBRICO A LA MESETA. P.K. 161 AL 171. TRAMO CORRALES DE BUELNA (SUR)-MOLLEDO | K17: SI | L17: SI | M17: =IFERROR(IF(O17="","",IF(O17>=DATE(1990,1,1),"SI","NO")),"") -> SI | N17: 0.5 | O17: 37488 | P17: 38411 | Q17: =IF(P17="","",YEAR(P17)) -> 2005 | R17: =IFERROR(INDEX(PARAMETROS!$B$53:$B$101,MATCH(Q17,PARAMETROS!$A$53:$A$101,0)),"") -> 381500 | S17: 3204774.9 | T17: EUR | U17: =IFERROR(IF(T17="","",IF(T17="COP","N/A",IF(OR(T17="USD",T17="US"),1,IF(T17="EUR",VLOOKUP(P17,'SH EURO'!$A$6:$B$10372,2,FALSE),"INGRESAR TASA")))),"") -> 1.3239 | V17: =IFERROR(IF(S17="","",IF(U17="INGRESAR TASA","INGRESAR TASA USD",IF(U17="N/A","N/A",U17*S17))),"") -> 4242801.5 | W17: =IFERROR(IF(T17="","",IF(T17="COP",1,IF(U17<>"N/A",VLOOKUP(P17,'SH TRM'!$A$9:$B$100372,2,FALSE),"REVISAR"))),"") -> 2323.77 | X17: =IFERROR(IF(W17<>"",IF(T17<>"COP",V17*W17,S17),""),"") -> 9.8592947e+09 | Y17: =IFERROR(X17/R17,"") -> 25843.499 | Z17: =IFERROR(IF(OR(K17="",K17="NO"),"",IF(F17="SI",IFERROR(Y17*N17,""),"")),"") -> 12921.749 | AC17: =IFERROR(IF(Z17="","",IF(Z17>=CM001EMM1,"CUMPLE","NO CUMPLE")),"") -> CUMPLE | AD17: MATRIZ | AN17: =IFERROR(IF(AD17="","",IF(ISNUMBER(AD17),IF(COUNTIF(AE17:AM17,"SI")>0,"SI","NO"),AD17)),"") -> MATRIZ
B18: P03-01 | D18: =IFERROR(INDEX(DESEMPATE!$D$3:$D$63,MATCH('EXP GEN.'!B18,DESEMPATE!$C$3:$C$63,0)),"") -> INCGROUP SAS | E18: =IFERROR(IF(D18="","",IF(VLOOKUP(D18,DESEMPATE!D$3:$E$19,2,FALSE)=1,"N/A",IF(VLOOKUP(D18,DESEMPATE!D$3:$E$19,2,FALSE)>=0.51,"SI","NO"))),"") -> N/A | F18: SI | G18: MINISTERIO DE FOMENTO | H18: ESPAÑA | I18: 23-TO-2760 | J18: CONTROL Y VIGILANCIA DE LAS OBRAS DE CONSTRUCCIÓN: VARIANTE DE POBLACIÓN CN-401, DE MADRID A CIUDAD REAL POR TOLEDO. PK 79.5000 AL PK 81.800. TRAMO BURGUILLOS DE TOLEDO. PROVINCIA DE TOLEDO | K18: SI | L18: SI | M18: =IFERROR(IF(O18="","",IF(O18>=DATE(1990,1,1),"SI","NO")),"") -> SI | N18: 1 | O18: 38210 | P18: 38533 | Q18: =IF(P18="","",YEAR(P18)) -> 2005 | R18: =IFERROR(INDEX(PARAMETROS!$B$53:$B$101,MATCH(Q18,PARAMETROS!$A$53:$A$101,0)),"") -> 381500 | S18: 497582.16 | T18: EUR | U18: =IFERROR(IF(T18="","",IF(T18="COP","N/A",IF(OR(T18="USD",T18="US"),1,IF(T18="EUR",VLOOKUP(P18,'SH EURO'!$A$6:$B$10372,2,FALSE),"INGRESAR TASA")))),"") -> 1.2063 | V18: =IFERROR(IF(S18="","",IF(U18="INGRESAR TASA","INGRESAR TASA USD",IF(U18="N/A","N/A",U18*S18))),"") -> 600233.36 | W18: =IFERROR(IF(T18="","",IF(T18="COP",1,IF(U18<>"N/A",VLOOKUP(P18,'SH TRM'!$A$9:$B$100372,2,FALSE),"REVISAR"))),"") -> 2331.81 | X18: =IFERROR(IF(W18<>"",IF(T18<>"COP",V18*W18,S18),""),"") -> 1.3996302e+09 | Y18: =IFERROR(X18/R18,"") -> 3668.7553 | Z18: =IFERROR(IF(OR(K18="",K18="NO"),"",IF(F18="SI",IFERROR(Y18*N18,""),"")),"") -> 3668.7553 | AC18: =IFERROR(IF(Z18="","",IF(Z18>=CM001EMM1,"CUMPLE","NO CUMPLE")),"") -> CUMPLE | AD18: MATRIZ | AN18: =IFERROR(IF(AD18="","",IF(ISNUMBER(AD18),IF(COUNTIF(AE18:AM18,"SI")>0,"SI","NO"),AD18)),"") -> MATRIZ
D19: =IFERROR(INDEX(DESEMPATE!$D$3:$D$63,MATCH('EXP GEN.'!B19,DESEMPATE!$C$3:$C$63,0)),"") | E19: =IFERROR(IF(D19="","",IF(VLOOKUP(D19,DESEMPATE!D$3:$E$19,2,FALSE)=1,"N/A",IF(VLOOKUP(D19,DESEMPATE!D$3:$E$19,2,FALSE)>=0.51,"SI","NO"))),"") | F19: SI | M19: =IFERROR(IF(O19="","",IF(O19>=DATE(1990,1,1),"SI","NO")),"") | Q19: =IF(P19="","",YEAR(P19)) | R19: =IFERROR(INDEX(PARAMETROS!$B$53:$B$101,MATCH(Q19,PARAMETROS!$A$53:$A$101,0)),"") | U19: =IFERROR(IF(T19="","",IF(T19="COP","N/A",IF(OR(T19="USD",T19="US"),1,IF(T19="EUR",VLOOKUP(P19,'SH EURO'!$A$6:$B$10372,2,FALSE),"INGRESAR TASA")))),"") | V19: =IFERROR(IF(S19="","",IF(U19="INGRESAR TASA","INGRESAR TASA USD",IF(U19="N/A","N/A",U19*S19))),"") | W19: =IFERROR(IF(T19="","",IF(T19="COP",1,IF(U19<>"N/A",VLOOKUP(P19,'SH TRM'!$A$9:$B$100372,2,FALSE),"REVISAR"))),"") | X19: =IFERROR(IF(W19<>"",IF(T19<>"COP",V19*W19,S19),""),"") | Y19: =IFERROR(X19/R19,"") | Z19: =IFERROR(IF(OR(K19="",K19="NO"),"",IF(F19="SI",IFERROR(Y19*N19,""),"")),"") | AC19: =IFERROR(IF(Z19="","",IF(Z19>=CM001EMM1,"CUMPLE","NO CUMPLE")),"") | AN19: =IFERROR(IF(AD19="","",IF(ISNUMBER(AD19),IF(COUNTIF(AE19:AM19,"SI")>0,"SI","NO"),AD19)),"")
D20: =IFERROR(INDEX(DESEMPATE!$D$3:$D$63,MATCH('EXP GEN.'!B20,DESEMPATE!$C$3:$C$63,0)),"") | E20: =IFERROR(IF(D20="","",IF(VLOOKUP(D20,DESEMPATE!D$3:$E$19,2,FALSE)=1,"N/A",IF(VLOOKUP(D20,DESEMPATE!D$3:$E$19,2,FALSE)>=0.51,"SI","NO"))),"") | F20: SI | M20: =IFERROR(IF(O20="","",IF(O20>=DATE(1990,1,1),"SI","NO")),"") | Q20: =IF(P20="","",YEAR(P20)) | R20: =IFERROR(INDEX(PARAMETROS!$B$53:$B$101,MATCH(Q20,PARAMETROS!$A$53:$A$101,0)),"") | U20: =IFERROR(IF(T20="","",IF(T20="COP","N/A",IF(OR(T20="USD",T20="US"),1,IF(T20="EUR",VLOOKUP(P20,'SH EURO'!$A$6:$B$10372,2,FALSE),"INGRESAR TASA")))),"") | V20: =IFERROR(IF(S20="","",IF(U20="INGRESAR TASA","INGRESAR TASA USD",IF(U20="N/A","N/A",U20*S20))),"") | W20: =IFERROR(IF(T20="","",IF(T20="COP",1,IF(U20<>"N/A",VLOOKUP(P20,'SH TRM'!$A$9:$B$100372,2,FALSE),"REVISAR"))),"") | X20: =IFERROR(IF(W20<>"",IF(T20<>"COP",V20*W20,S20),""),"") | Y20: =IFERROR(X20/R20,"") | Z20: =IFERROR(IF(OR(K20="",K20="NO"),"",IF(F20="SI",IFERROR(Y20*N20,""),"")),"") | AC20: =IFERROR(IF(Z20="","",IF(Z20>=CM001EMM1,"CUMPLE","NO CUMPLE")),"") | AN20: =IFERROR(IF(AD20="","",IF(ISNUMBER(AD20),IF(COUNTIF(AE20:AM20,"SI")>0,"SI","NO"),AD20)),"")
A21: P04 | B21: P04-01 | D21: =IFERROR(INDEX(DESEMPATE!$D$3:$D$63,MATCH('EXP GEN.'!B21,DESEMPATE!$C$3:$C$63,0)),"") -> SERVICIOS DE INGENIERÍA Y CONSTRUCCIÓN LIMITADA “SERVINC LTDA | E21: =IFERROR(IF(D21="","",IF(VLOOKUP(D21,DESEMPATE!D$3:$E$19,2,FALSE)=1,"N/A",IF(VLOOKUP(D21,DESEMPATE!D$3:$E$19,2,FALSE)>=0.51,"SI","NO"))),"") -> SI | F21: SI | G21: ANI | H21: COLOMBIA | I21: SEA-016 | J21: INTERVENTORIA INTEGRAL DEL CONTRATO DE CONCESION ,QUE INCLUYE PERO NO SE LIMITA A LA INTERVENTORIA TECNICA ,FINANCIERA,CONTABLE , JURIDICA,MEDIOAMBIENTAL ,SOCIO-PREDIAL, ADMINISTRATIVA ,DE SEGUROS,OPERATIVA Y DE MANTENIIENTO DEL CONTRATO DE CONCESION ,EL CUAL HACE PARTE DEL PROYECTO VIAL RUTA DEL SOL Y QUE CORRESPONDE AL SECTOR 2 ENTRE PUERTO SALGAR- SAN ROQUE. | K21: SI | L21: SI | M21: =IFERROR(IF(O21="","",IF(O21>=DATE(1990,1,1),"SI","NO")),"") -> SI | N21: 0.4 | O21: 41075 | P21: 43100 | Q21: =IF(P21="","",YEAR(P21)) -> 2017 | R21: =IFERROR(INDEX(PARAMETROS!$B$53:$B$101,MATCH(Q21,PARAMETROS!$A$53:$A$101,0)),"") -> 737717 | S21: 51860535716 | T21: COP | U21: =IFERROR(IF(T21="","",IF(T21="COP","N/A",IF(OR(T21="USD",T21="US"),1,IF(T21="EUR",VLOOKUP(P21,'SH EURO'!$A$6:$B$10372,2,FALSE),"INGRESAR TASA")))),"") -> N/A | V21: =IFERROR(IF(S21="","",IF(U21="INGRESAR TASA","INGRESAR TASA USD",IF(U21="N/A","N/A",U21*S21))),"") -> N/A | W21: =IFERROR(IF(T21="","",IF(T21="COP",1,IF(U21<>"N/A",VLOOKUP(P21,'SH TRM'!$A$9:$B$100372,2,FALSE),"REVISAR"))),"") -> 1 | X21: =IFERROR(IF(W21<>"",IF(T21<>"COP",V21*W21,S21),""),"") -> 51860535716 | Y21: =IFERROR(X21/R21,"") -> 70298.686 | Z21: =IFERROR(IF(OR(K21="",K21="NO"),"",IF(F21="SI",IFERROR(Y21*N21,""),"")),"") -> 28119.474 | AA21: =IFERROR(IF(COUNTIF(Z21:Z26,"")=6,"",IF(SUM(Z21:Z26)>=CM001M1,"CUMPLE","NO CUMPLE")),"") -> CUMPLE | AB21: =IFERROR(IF(COUNTIF(Z21:Z26,"")=6,"",IF(COUNTIF(E21:E26,"N/A")>0,IF(SUMIF(E21:E26,"N/A",Z21:Z26)>=CM001LM1,"CUMPLE","NO CUMPLE"),IF(SUMIF(E21:E26,"SI",Z21:Z26)>=CM001LM1,"CUMPLE","NO CUMPLE"))),"") -> CUMPLE | AC21: =IFERROR(IF(Z21="","",IF(Z21>=CM001EMM1,"CUMPLE","NO CUMPLE")),"") -> CUMPLE | AD21: EJECUCION | AN21: =IFERROR(IF(AD21="","",IF(ISNUMBER(AD21),IF(COUNTIF(AE21:AM21,"SI")>0,"SI","NO"),AD21)),"") -> EJECUCION | AO21: HÁBIL
B22: P04-01 | D22: =IFERROR(INDEX(DESEMPATE!$D$3:$D$63,MATCH('EXP GEN.'!B22,DESEMPATE!$C$3:$C$63,0)),"") -> SERVICIOS DE INGENIERÍA Y CONSTRUCCIÓN LIMITADA “SERVINC LTDA | E22: =IFERROR(IF(D22="","",IF(VLOOKUP(D22,DESEMPATE!D$3:$E$19,2,FALSE)=1,"N/A",IF(VLOOKUP(D22,DESEMPATE!D$3:$E$19,2,FALSE)>=0.51,"SI","NO"))),"") -> SI | F22: SI | G22: ANI | H22: COLOMBIA | I22: 160 DE 2014 | J22: INTERVENTORIA TECNICA, ECONOMICA, FINANCIERA, CONTABLE, JURIDICA, ADMINISTRATIVA, OPERATIVA, MEDIO AMBIENTAL Y SOCIO PREDIAL DEL CONTRATO DE CONCESION BAJO UN ESQUEMA DE ASOCIACION PUBLICO PRIVADA DE IP QUE SE DERIVE DEL PROCESO LICITATORIO VE-IP-LP-007-2013 CORRESPONDIENTE AL CORREDOR DENOMINADO CONCESION AUTOPISTA CONEXION PACIFICO 1 DEL PROYECTO AUTOPISTAS PARA LA PROSPERIDAD" | K22: SI | L22: SI | M22: =IFERROR(IF(O22="","",IF(O22>=DATE(1990,1,1),"SI","NO")),"") -> SI | N22: 0.51 | O22: 41951 | P22: 43100 | Q22: =IF(P22="","",YEAR(P22)) -> 2017 | R22: =IFERROR(INDEX(PARAMETROS!$B$53:$B$101,MATCH(Q22,PARAMETROS!$A$53:$A$101,0)),"") -> 737717 | S22: 10941547103 | T22: COP | U22: =IFERROR(IF(T22="","",IF(T22="COP","N/A",IF(OR(T22="USD",T22="US"),1,IF(T22="EUR",VLOOKUP(P22,'SH EURO'!$A$6:$B$10372,2,FALSE),"INGRESAR TASA")))),"") -> N/A | V22: =IFERROR(IF(S22="","",IF(U22="INGRESAR TASA","INGRESAR TASA USD",IF(U22="N/A","N/A",U22*S22))),"") -> N/A | W22: =IFERROR(IF(T22="","",IF(T22="COP",1,IF(U22<>"N/A",VLOOKUP(P22,'SH TRM'!$A$9:$B$100372,2,FALSE),"REVISAR"))),"") -> 1 | X22: =IFERROR(IF(W22<>"",IF(T22<>"COP",V22*W22,S22),""),"") -> 10941547103 | Y22: =IFERROR(X22/R22,"") -> 14831.632 | Z22: =IFERROR(IF(OR(K22="",K22="NO"),"",IF(F22="SI",IFERROR(Y22*N22,""),"")),"") -> 7564.1323 | AC22: =IFERROR(IF(Z22="","",IF(Z22>=CM001EMM1,"CUMPLE","NO CUMPLE")),"") -> CUMPLE | AD22: EJECUCION | AN22: =IFERROR(IF(AD22="","",IF(ISNUMBER(AD22),IF(COUNTIF(AE22:AM22,"SI")>0,"SI","NO"),AD22)),"") -> EJECUCION
B23: P04-01 | D23: =IFERROR(INDEX(DESEMPATE!$D$3:$D$63,MATCH('EXP GEN.'!B23,DESEMPATE!$C$3:$C$63,0)),"") -> SERVICIOS DE INGENIERÍA Y CONSTRUCCIÓN LIMITADA “SERVINC LTDA | E23: =IFERROR(IF(D23="","",IF(VLOOKUP(D23,DESEMPATE!D$3:$E$19,2,FALSE)=1,"N/A",IF(VLOOKUP(D23,DESEMPATE!D$3:$E$19,2,FALSE)>=0.51,"SI","NO"))),"") -> SI | F23: SI | G23: ICCU | H23: COLOMBIA | I23: SOP-V-049-2006 | J23: INTERVENTORIA TECNICA,SOCIO AMBIENTAL,ADMINISTRATIVA Y FINANCIERA DE LOS SIGUIENTES PROYECTOS : 1. REHABILITACION DE LA VIA TENJO - LA PUNTA- SIBERIA-TEMJO-TABIO-CAJICA- MUNICIPIO DE TENJO. 2. MEJORAMIENTO DE LA VIA SUBACHOQUE. 3. ESTUDIOS,DISEÑOS Y PAVIMENTACION DELA VIA CASCO URBANO DE MADRID.- LOS ARBOLES PUENTE PIEDRA EN EL MUNICIPIO DE MADRID. 4......MUNICIPIO DE PACHO DPTO DE CUNDINAMARCA. | K23: SI | L23: SI | M23: =IFERROR(IF(O23="","",IF(O23>=DATE(1990,1,1),"SI","NO")),"") -> SI | N23: 1 | O23: 39021 | P23: 40480 | Q23: =IF(P23="","",YEAR(P23)) -> 2010 | R23: =IFERROR(INDEX(PARAMETROS!$B$53:$B$101,MATCH(Q23,PARAMETROS!$A$53:$A$101,0)),"") -> 515000 | S23: N/A | T23: COP | U23: =IFERROR(IF(T23="","",IF(T23="COP","N/A",IF(OR(T23="USD",T23="US"),1,IF(T23="EUR",VLOOKUP(P23,'SH EURO'!$A$6:$B$10372,2,FALSE),"INGRESAR TASA")))),"") -> N/A | V23: =IFERROR(IF(S23="","",IF(U23="INGRESAR TASA","INGRESAR TASA USD",IF(U23="N/A","N/A",U23*S23))),"") -> N/A | W23: =IFERROR(IF(T23="","",IF(T23="COP",1,IF(U23<>"N/A",VLOOKUP(P23,'SH TRM'!$A$9:$B$100372,2,FALSE),"REVISAR"))),"") -> 1 | X23: =IFERROR(IF(W23<>"",IF(T23<>"COP",V23*W23,S23),""),"") -> N/A | Y23: 10491.31 | Z23: =IFERROR(IF(OR(K23="",K23="NO"),"",IF(F23="SI",IFERROR(Y23*N23,""),"")),"") -> 10491.31 | AC23: =IFERROR(IF(Z23="","",IF(Z23>=CM001EMM1,"CUMPLE","NO CUMPLE")),"") -> CUMPLE | AD23: 19 | AE23: NO | AH23: SI | AK23: SI | AN23: =IFERROR(IF(AD23="","",IF(ISNUMBER(AD23),IF(COUNTIF(AE23:AM23,"SI")>0,"SI","NO"),AD23)),"") -> SI
B24: P04-01 | D24: =IFERROR(INDEX(DESEMPATE!$D$3:$D$63,MATCH('EXP GEN.'!B24,DESEMPATE!$C$3:$C$63,0)),"") -> SERVICIOS DE INGENIERÍA Y CONSTRUCCIÓN LIMITADA “SERVINC LTDA | E24: =IFERROR(IF(D24="","",IF(VLOOKUP(D24,DESEMPATE!D$3:$E$19,2,FALSE)=1,"N/A",IF(VLOOKUP(D24,DESEMPATE!D$3:$E$19,2,FALSE)>=0.51,"SI","NO"))),"") -> SI | F24: SI | G24: TRANSCARIBE | H24: COLOMBIA | I24: TC-CPN-001-2013 | J24: INTERVENTORIA TECNICA,ADMINISTRATIVA,FINANCIERA,CONTABLE,AMBIENTAL Y JURIDICA DEL CONTRATO DE OBRA CUYO OBJETO ES LA CONSTRUCCION DE LA PRIMERA ETAPA DE LAS OBRAS FALTANTES DEL TRAMO 5A,COMPRENDIDO ENTRE EL SECTOR DEL MERCADO DE BAZURTO HASTA LA SUBIDA....SIN FORMULA DE REAJUSTE. | K24: SI | L24: SI | M24: =IFERROR(IF(O24="","",IF(O24>=DATE(1990,1,1),"SI","NO")),"") -> SI | N24: 0.6 | O24: 41543 | P24: 42114 | Q24: =IF(P24="","",YEAR(P24)) -> 2015 | R24: =IFERROR(INDEX(PARAMETROS!$B$53:$B$101,MATCH(Q24,PARAMETROS!$A$53:$A$101,0)),"") -> 644350 | S24: N/A | T24: COP | U24: =IFERROR(IF(T24="","",IF(T24="COP","N/A",IF(OR(T24="USD",T24="US"),1,IF(T24="EUR",VLOOKUP(P24,'SH EURO'!$A$6:$B$10372,2,FALSE),"INGRESAR TASA")))),"") -> N/A | V24: =IFERROR(IF(S24="","",IF(U24="INGRESAR TASA","INGRESAR TASA USD",IF(U24="N/A","N/A",U24*S24))),"") -> N/A | W24: =IFERROR(IF(T24="","",IF(T24="COP",1,IF(U24<>"N/A",VLOOKUP(P24,'SH TRM'!$A$9:$B$100372,2,FALSE),"REVISAR"))),"") -> 1 | X24: =IFERROR(IF(W24<>"",IF(T24<>"COP",V24*W24,S24),""),"") -> N/A | Y24: 5687.45 | Z24: =IFERROR(IF(OR(K24="",K24="NO"),"",IF(F24="SI",IFERROR(Y24*N24,""),"")),"") -> 3412.47 | AC24: =IFERROR(IF(Z24="","",IF(Z24>=CM001EMM1,"CUMPLE","NO CUMPLE")),"") -> CUMPLE | AD24: 85 | AE24: NO | AH24: SI | AK24: SI | AN24: =IFERROR(IF(AD24="","",IF(ISNUMBER(AD24),IF(COUNTIF(AE24:AM24,"SI")>0,"SI","NO"),AD24)),"") -> SI
B25: P04-01 | D25: =IFERROR(INDEX(DESEMPATE!$D$3:$D$63,MATCH('EXP GEN.'!B25,DESEMPATE!$C$3:$C$63,0)),"") -> SERVICIOS DE INGENIERÍA Y CONSTRUCCIÓN LIMITADA “SERVINC LTDA | E25: =IFERROR(IF(D25="","",IF(VLOOKUP(D25,DESEMPATE!D$3:$E$19,2,FALSE)=1,"N/A",IF(VLOOKUP(D25,DESEMPATE!D$3:$E$19,2,FALSE)>=0.51,"SI","NO"))),"") -> SI | F25: SI | G25: INVIAS | H25: COLOMBIA | I25: 2083 DE 2014 | J25: INTERVENTORIA PARA EL MEJORAMIENTO Y REHABILITACION DE LA PRIMERA CALZADA DE LA VIA CIRCUNVALAR DE BARRANQUILLA | K25: SI | L25: SI | M25: =IFERROR(IF(O25="","",IF(O25>=DATE(1990,1,1),"SI","NO")),"") -> SI | N25: 1 | O25: 42004 | P25: 42755 | Q25: =IF(P25="","",YEAR(P25)) -> 2017 | R25: =IFERROR(INDEX(PARAMETROS!$B$53:$B$101,MATCH(Q25,PARAMETROS!$A$53:$A$101,0)),"") -> 737717 | S25: N/A | T25: COP | U25: =IFERROR(IF(T25="","",IF(T25="COP","N/A",IF(OR(T25="USD",T25="US"),1,IF(T25="EUR",VLOOKUP(P25,'SH EURO'!$A$6:$B$10372,2,FALSE),"INGRESAR TASA")))),"") -> N/A | V25: =IFERROR(IF(S25="","",IF(U25="INGRESAR TASA","INGRESAR TASA USD",IF(U25="N/A","N/A",U25*S25))),"") -> N/A | W25: =IFERROR(IF(T25="","",IF(T25="COP",1,IF(U25<>"N/A",VLOOKUP(P25,'SH TRM'!$A$9:$B$100372,2,FALSE),"REVISAR"))),"") -> 1 | X25: =IFERROR(IF(W25<>"",IF(T25<>"COP",V25*W25,S25),""),"") -> N/A | Y25: 3052.91 | Z25: =IFERROR(IF(OR(K25="",K25="NO"),"",IF(F25="SI",IFERROR(Y25*N25,""),"")),"") -> 3052.91 | AC25: =IFERROR(IF(Z25="","",IF(Z25>=CM001EMM1,"CUMPLE","NO CUMPLE")),"") -> CUMPLE | AD25: 108 | AE25: SI | AH25: SI | AK25: SI | AN25: =IFERROR(IF(AD25="","",IF(ISNUMBER(AD25),IF(COUNTIF(AE25:AM25,"SI")>0,"SI","NO"),AD25)),"") -> SI
B26: P04-02 | D26: =IFERROR(INDEX(DESEMPATE!$D$3:$D$63,MATCH('EXP GEN.'!B26,DESEMPATE!$C$3:$C$63,0)),"") -> ECG COLOMBIA S.A.S | E26: =IFERROR(IF(D26="","",IF(VLOOKUP(D26,DESEMPATE!D$3:$E$19,2,FALSE)=1,"N/A",IF(VLOOKUP(D26,DESEMPATE!D$3:$E$19,2,FALSE)>=0.51,"SI","NO"))),"") -> NO | F26: SI | G26: MINISTERIO DE FOMENTO DIRECCIÓN GENERAL DE CARRETERAS - DEMARCACION DE CARRETERAS DEL ESTADO DE CANTABRIA | H26: ESPAÑA | I26: AT-S-4080 | J26: ASISTENCIA TÉCNICA PARA EL CONTROL Y VIGILANCIA DE LAS OBRAS DE "DISTRIBUIDOR LA MARGA - LA ALBERICIA. TRAMO: CARRETERA N-611 - AUTOVÍA S-20, PROVINCIA DE CANTABRIA" | K26: SI | L26: SI | M26: =IFERROR(IF(O26="","",IF(O26>=DATE(1990,1,1),"SI","NO")),"") -> SI | N26: 1 | O26: 39268 | P26: 40968 | Q26: =IF(P26="","",YEAR(P26)) -> 2012 | R26: =IFERROR(INDEX(PARAMETROS!$B$53:$B$101,MATCH(Q26,PARAMETROS!$A$53:$A$101,0)),"") -> 566700 | S26: N/A | T26: EUR | U26: =IFERROR(IF(T26="","",IF(T26="COP","N/A",IF(OR(T26="USD",T26="US"),1,IF(T26="EUR",VLOOKUP(P26,'SH EURO'!$A$6:$B$10372,2,FALSE),"INGRESAR TASA")))),"") -> 1.34309 | V26: N/A | W26: =IFERROR(IF(T26="","",IF(T26="COP",1,IF(U26<>"N/A",VLOOKUP(P26,'SH TRM'!$A$9:$B$100372,2,FALSE),"REVISAR"))),"") -> 1767.83 | X26: N/A | Y26: 8975.45 | Z26: =IFERROR(IF(OR(K26="",K26="NO"),"",IF(F26="SI",IFERROR(Y26*N26,""),"")),"") -> 8975.45 | AC26: =IFERROR(IF(Z26="","",IF(Z26>=CM001EMM1,"CUMPLE","NO CUMPLE")),"") -> CUMPLE | AD26: 18 | AE26: SI | AH26: SI | AK26: NO | AN26: =IFERROR(IF(AD26="","",IF(ISNUMBER(AD26),IF(COUNTIF(AE26:AM26,"SI")>0,"SI","NO"),AD26)),"") -> SI
A27: P05 | B27: P05-01 | D27: =IFERROR(INDEX(DESEMPATE!$D$3:$D$63,MATCH('EXP GEN.'!B27,DESEMPATE!$C$3:$C$63,0)),"") -> GESTION INTEGRAL DEL SUELO SL COLOMBIA "GIS" | E27: =IFERROR(IF(D27="","",IF(VLOOKUP(D27,DESEMPATE!D$3:$E$19,2,FALSE)=1,"N/A",IF(VLOOKUP(D27,DESEMPATE!D$3:$E$19,2,FALSE)>=0.51,"SI","NO"))),"") -> N/A | F27: SI | G27: ADIF | H27: ESPAÑA | I27: CON 033/10 | J27: SERVICIOS DE ASISTENCIA PARA EL CONTROL DE LAS OBRAS DE PLATAFORMA DE LA LINEA DE ALTA VELOCIDAD - GRANADA. TRAMO: NUDO DE BOBADILLA - ANTEQUERA" | K27: SI | L27: SI | M27: =IFERROR(IF(O27="","",IF(O27>=DATE(1990,1,1),"SI","NO")),"") -> SI | N27: 0.4 | O27: 40735 | P27: 42350 | Q27: =IF(P27="","",YEAR(P27)) -> 2015 | R27: =IFERROR(INDEX(PARAMETROS!$B$53:$B$101,MATCH(Q27,PARAMETROS!$A$53:$A$101,0)),"") -> 644350 | S27: N/A | T27: EUR | U27: =IFERROR(IF(T27="","",IF(T27="COP","N/A",IF(OR(T27="USD",T27="US"),1,IF(T27="EUR",VLOOKUP(P27,'SH EURO'!$A$6:$B$10372,2,FALSE),"INGRESAR TASA")))),"") -> 1.09584 | V27: N/A | W27: =IFERROR(IF(T27="","",IF(T27="COP",1,IF(U27<>"N/A",VLOOKUP(P27,'SH TRM'!$A$9:$B$100372,2,FALSE),"REVISAR"))),"") -> 3299.36 | X27: N/A | Y27: 6702.6 | Z27: 6702.6 | AA27: =IFERROR(IF(COUNTIF(Z27:Z32,"")=6,"",IF(SUM(Z27:Z32)>=CM001M1,"CUMPLE","NO CUMPLE")),"") -> CUMPLE | AB27: =IFERROR(IF(COUNTIF(Z27:Z32,"")=6,"",IF(COUNTIF(E27:E32,"N/A")>0,IF(SUMIF(E27:E32,"N/A",Z27:Z32)>=CM001LM1,"CUMPLE","NO CUMPLE"),IF(SUMIF(E27:E32,"SI",Z27:Z32)>=CM001LM1,"CUMPLE","NO CUMPLE"))),"") -> CUMPLE | AC27: =IFERROR(IF(Z27="","",IF(Z27>=CM001EMM1,"CUMPLE","NO CUMPLE")),"") -> CUMPLE | AD27: 47 | AE27: NO | AH27: SI | AK27: NO | AN27: =IFERROR(IF(AD27="","",IF(ISNUMBER(AD27),IF(COUNTIF(AE27:AM27,"SI")>0,"SI","NO"),AD27)),"") -> SI | AO27: HÁBIL
B28: P05-01 | D28: =IFERROR(INDEX(DESEMPATE!$D$3:$D$63,MATCH('EXP GEN.'!B28,DESEMPATE!$C$3:$C$63,0)),"") -> GESTION INTEGRAL DEL SUELO SL COLOMBIA "GIS" | E28: =IFERROR(IF(D28="","",IF(VLOOKUP(D28,DESEMPATE!D$3:$E$19,2,FALSE)=1,"N/A",IF(VLOOKUP(D28,DESEMPATE!D$3:$E$19,2,FALSE)>=0.51,"SI","NO"))),"") -> N/A | F28: SI | G28: ANI | H28: COLOMBIA | I28: 469 DE 2015 | J28: REALIZAR LA INTERVENTORÍA INTEGRAL QUE INCLUYE PERO NO SE LIMITA A LA INTERVENTORÍA TÉCNICA, ECONÓMICA, FINANCIERA, CONTABLE, JURÍDICA, ADMINISTRATIVA, OPERATIVA, MEDIO AMBIENTAL Y SOCIO PREDIAL DEL CONTRATO DE CONCESIÓN BAJO EL ESQUEMA DE ASOCIACIÓN PÚBLICO PRIVADA DE LA INICIATIVA PRIVADA CUYO OBJETO ES "REALIZAR LOS ESTUDIOS Y DISEÑOS DEFINITIVOS, FINANCIACIÓN, GESTIÓN AMBIENTAL, PREDIAL Y SOCIAL, CONSTRUCCIÓN, MEJORAMIENTO, REHABILITACIÓN, OPERACIÓN, MANTENIMIENTO Y REVERSIÓN DEL CORREDOR VIAL BUCARAMANGA - BARRANCABERMEJA - YONDÓ. | K28: SI | L28: SI | M28: =IFERROR(IF(O28="","",IF(O28>=DATE(1990,1,1),"SI","NO")),"") -> SI | N28: 0.49 | O28: 42290 | P28: 43100 | Q28: =IF(P28="","",YEAR(P28)) -> 2017 | R28: =IFERROR(INDEX(PARAMETROS!$B$53:$B$101,MATCH(Q28,PARAMETROS!$A$53:$A$101,0)),"") -> 737717 | S28: 9747062981 | T28: COP | U28: =IFERROR(IF(T28="","",IF(T28="COP","N/A",IF(OR(T28="USD",T28="US"),1,IF(T28="EUR",VLOOKUP(P28,'SH EURO'!$A$6:$B$10372,2,FALSE),"INGRESAR TASA")))),"") -> N/A | V28: =IFERROR(IF(S28="","",IF(U28="INGRESAR TASA","INGRESAR TASA USD",IF(U28="N/A","N/A",U28*S28))),"") -> N/A | W28: =IFERROR(IF(T28="","",IF(T28="COP",1,IF(U28<>"N/A",VLOOKUP(P28,'SH TRM'!$A$9:$B$100372,2,FALSE),"REVISAR"))),"") -> 1 | X28: =IFERROR(IF(W28<>"",IF(T28<>"COP",V28*W28,S28),""),"") -> 9747062981 | Y28: =IFERROR(X28/R28,"") -> 13212.469 | Z28: =IFERROR(IF(OR(K28="",K28="NO"),"",IF(F28="SI",IFERROR(Y28*N28,""),"")),"") -> 6474.1098 | AC28: =IFERROR(IF(Z28="","",IF(Z28>=CM001EMM1,"CUMPLE","NO CUMPLE")),"") -> CUMPLE | AD28: EJECUCION | AN28: =IFERROR(IF(AD28="","",IF(ISNUMBER(AD28),IF(COUNTIF(AE28:AM28,"SI")>0,"SI","NO"),AD28)),"") -> EJECUCION
B29: P05-01 | D29: =IFERROR(INDEX(DESEMPATE!$D$3:$D$63,MATCH('EXP GEN.'!B29,DESEMPATE!$C$3:$C$63,0)),"") -> GESTION INTEGRAL DEL SUELO SL COLOMBIA "GIS" | E29: =IFERROR(IF(D29="","",IF(VLOOKUP(D29,DESEMPATE!D$3:$E$19,2,FALSE)=1,"N/A",IF(VLOOKUP(D29,DESEMPATE!D$3:$E$19,2,FALSE)>=0.51,"SI","NO"))),"") -> N/A | F29: SI | G29: AYUNTAMIENTO DE MADRID | H29: ESPAÑA | I29: SIN | J29: ASISTENCIA TÉCNICA PARA LA SUPERVISIÓN, CONTROL Y VIGILANCIA DE LAS OBRAS DE REHABILITACIÓN, MANTENIMIENTO Y REPAVIMENTACIÓN DE VÍAS URBANAS PRINCIPALES, TODAS ELLAS PAVIMENTADAS CON PAVIMENTO ASFÁLTICO, INCLUÍDAS SUS REDES SUBTERRANEAS DE SERVICIOS PÚBLICOS DOMICILIARIOS. | K29: SI | L29: SI | M29: =IFERROR(IF(O29="","",IF(O29>=DATE(1990,1,1),"SI","NO")),"") -> SI | N29: 1 | O29: 37573 | P29: 39407 | Q29: =IF(P29="","",YEAR(P29)) -> 2007 | R29: =IFERROR(INDEX(PARAMETROS!$B$53:$B$101,MATCH(Q29,PARAMETROS!$A$53:$A$101,0)),"") -> 433700 | S29: N/A | T29: EUR | U29: =IFERROR(IF(T29="","",IF(T29="COP","N/A",IF(OR(T29="USD",T29="US"),1,IF(T29="EUR",VLOOKUP(P29,'SH EURO'!$A$6:$B$10372,2,FALSE),"INGRESAR TASA")))),"") -> 1.47229 | V29: N/A | W29: =IFERROR(IF(T29="","",IF(T29="COP",1,IF(U29<>"N/A",VLOOKUP(P29,'SH TRM'!$A$9:$B$100372,2,FALSE),"REVISAR"))),"") -> 2056.28 | X29: N/A | Y29: 6597.06 | Z29: =IFERROR(IF(OR(K29="",K29="NO"),"",IF(F29="SI",IFERROR(Y29*N29,""),"")),"") -> 6597.06 | AC29: =IFERROR(IF(Z29="","",IF(Z29>=CM001EMM1,"CUMPLE","NO CUMPLE")),"") -> CUMPLE | AD29: 7 | AE29: NO | AH29: SI | AK29: NO | AN29: =IFERROR(IF(AD29="","",IF(ISNUMBER(AD29),IF(COUNTIF(AE29:AM29,"SI")>0,"SI","NO"),AD29)),"") -> SI
B30: P05-01 | D30: =IFERROR(INDEX(DESEMPATE!$D$3:$D$63,MATCH('EXP GEN.'!B30,DESEMPATE!$C$3:$C$63,0)),"") -> GESTION INTEGRAL DEL SUELO SL COLOMBIA "GIS" | E30: =IFERROR(IF(D30="","",IF(VLOOKUP(D30,DESEMPATE!D$3:$E$19,2,FALSE)=1,"N/A",IF(VLOOKUP(D30,DESEMPATE!D$3:$E$19,2,FALSE)>=0.51,"SI","NO"))),"") -> N/A | F30: SI | G30: AYUNTAMIENTO DE MADRID | H30: ESPAÑA | I30: SIN | J30: SUPERVISIÓN, CONTROL Y VIGILANCIA DE LAS OBRAS DE REHABILITACIÓN, MANTENIMIENTO Y REPARACIÓN DE VÍAS URBANAS PRINCIPALES, TODAS ELLAS PAVIMENTADAS CON PAVIMENTO ASFÁLTICO, INCLUIDAS SUS REDES SUBTERRÁNEAS DE SERVICIOS PÚBLICOS DOMICILIARIOS. | K30: SI | L30: SI | M30: =IFERROR(IF(O30="","",IF(O30>=DATE(1990,1,1),"SI","NO")),"") -> SI | N30: 1 | O30: 38260 | P30: 39043 | Q30: =IF(P30="","",YEAR(P30)) -> 2006 | R30: =IFERROR(INDEX(PARAMETROS!$B$53:$B$101,MATCH(Q30,PARAMETROS!$A$53:$A$101,0)),"") -> 408000 | S30: N/A | T30: EUR | U30: =IFERROR(IF(T30="","",IF(T30="COP","N/A",IF(OR(T30="USD",T30="US"),1,IF(T30="EUR",VLOOKUP(P30,'SH EURO'!$A$6:$B$10372,2,FALSE),"INGRESAR TASA")))),"") -> 1.28182 | V30: N/A | W30: =IFERROR(IF(T30="","",IF(T30="COP",1,IF(U30<>"N/A",VLOOKUP(P30,'SH TRM'!$A$9:$B$100372,2,FALSE),"REVISAR"))),"") -> 2282.67 | X30: N/A | Y30: 12333.21 | Z30: =IFERROR(IF(OR(K30="",K30="NO"),"",IF(F30="SI",IFERROR(Y30*N30,""),"")),"") -> 12333.21 | AC30: =IFERROR(IF(Z30="","",IF(Z30>=CM001EMM1,"CUMPLE","NO CUMPLE")),"") -> CUMPLE | AD30: 15 | AE30: NO | AH30: SI | AK30: NO | AN30: =IFERROR(IF(AD30="","",IF(ISNUMBER(AD30),IF(COUNTIF(AE30:AM30,"SI")>0,"SI","NO"),AD30)),"") -> SI
