Workbook

Sheet Costeo_Seleccionados_IP004
J2: SERVICIO | K2: FORMA DE CONTRATACIÓN | L2: COSTO MES ATENCIÓN 2025 | M2: TIEMPO ATENCION 2025 | N2: FASE PREPARATORIA ALISTAMIENTO 2025 | O2: FASE PREPARATORIA DE CIERRE 2025 | P2: JORNADAS PEDAGOGICAS | Q2: DOTACIÓN ÚNICA | R2: COSTOS 2025 | S2: ALIMENTACION | T2: FECHA DE EJECUCIÓN | U2: OBSERVACION | V2: CANASTA
J3: CENTRO DE DESARROLLO INFANTIL A SIN RACION - INSTITUCIONAL | L3: 349190 | M3: 8 | N3: 88143 | O3: 75043 | P3: 8 | R3: =(L3*M3)+N3+O3 -> 2956706 | S3: 154018 | T3: 45930 | V3: 2025 | W3: 8
J4: CENTRO DE DESARROLLO INFANTIL A - INSTITUCIONAL | L4: 503208 | M4: 8 | N4: 88143 | O4: 75043 | P4: 8 | R4: =(L4*M4)+N4+O4 -> 4188850 | T4: 45930 | V4: 2025
J5: CENTRO DE DESARROLLO INFANTIL CON ARRIENDO - INSTITUCIONAL | L5: 520777 | M5: 8 | N5: 88143 | O5: 75043 | P5: 8 | R5: =(L5*M5)+N5+O5 -> 4329402 | T5: 45930 | V5: 2025
J6: EDUCACIÓN INICIAL PROPIA DIARIA - PROPIA E INTERCULTURAL | L6: 462016 | M6: 8 | N6: 73965 | O6: 32651 | P6: 8 | Q6: 29099 | R6: =(L6*M6)+N6+O6+Q6 -> 3831843 | T6: 45930 | V6: 2025
J7: EDUCACIÓN INICIAL PROPIA DIARIA SIN RACION - PROPIA E INTERCULTURAL | L7: 298914 | M7: 8 | N7: 73965 | O7: 32651 | P7: 8 | Q7: 29099 | R7: =(L7*M7)+N7+O7+Q7 -> 2527027 | S7: 163102 | T7: 45930 | V7: 2025
J8: EDUCACIÓN INICIAL CAMPESINA A SIN RACION - PROPIA E INTERCULTURAL | L8: 257586 | M8: 8 | N8: 49376 | O8: 41029 | P8: 8 | Q8: =27428+1672 -> 29100 | R8: =(L8*M8)+N8+O8+Q8 -> 2180193 | S8: 180383 | T8: 45930 | V8: 2025
J9: EDUCACIÓN INICIAL CAMPESINA B SIN RACION - PROPIA E INTERCULTURAL | L9: 265934 | M9: 8 | N9: 51463 | O9: 43116 | P9: 8 | Q9: =27428+1672 -> 29100 | R9: =(L9*M9)+N9+O9+Q9 -> 2251151 | S9: 180383 | T9: 45930 | V9: 2025
J10: EDUCACIÓN INICIAL EN EL HOGAR A - FAMILIAR Y COMUNITARIA | L10: 367661 | M10: 8 | N10: 46744 | O10: 37841 | P10: 8 | R10: =(L10*M10)+N10+O10+Q10 -> 3025873 | T10: 45930 | V10: 2025
J11: EDUCACIÓN INICIAL EN EL HOGAR A SIN RACION - FAMILIAR Y COMUNITARIA | L11: 179340 | M11: 8 | N11: 46744 | O11: 37841 | P11: 8 | R11: =(L11*M11)+N11+O11+Q11 -> 1519305 | S11: 188321 | T11: 45930 | V11: 2025
J12: HOGAR INFANTIL - INSTITUCIONAL | L12: 503208 | M12: 8 | N12: 88143 | O12: 75043 | P12: 8 | R12: =(L12*M12)+N12+O12+Q12 -> 4188850 | T12: 45930 | V12: 2025
J13: HOGAR INFANTIL SIN RACION - INSTITUCIONAL | L13: 349190 | M13: 8 | N13: 88143 | O13: 75043 | P13: 8 | R13: =(L13*M13)+N13+O13+Q13 -> 2956706 | S13: 154018 | T13: 45930 | V13: 2025
J14: JARDINES INTERCULTURALES DE EDUCACION INICIAL SIN RACION - PROPIA E INTERCULTURAL | L14: 310056 | M14: 8 | N14: 66244 | O14: 28221 | P14: 8 | Q14: 29099 | R14: =(L14*M14)+N14+O14+Q14 -> 2604012 | S14: 158339 | T14: 45930 | V14: 2025
L18: =SUBTOTAL(9,L112:L1313) -> 50478 | AL18: 1423500 | AT18: =SUBTOTAL(9,Tabla4[DESEMBOLSO 1]) -> 21960966873 | AU18: =SUBTOTAL(9,Tabla4[DESEMBOLSO 2]) -> 17865455658 | AV18: =SUBTOTAL(9,Tabla4[DESEMBOLSO 3]) -> 17865455658 | AW18: =SUBTOTAL(9,Tabla4[DESEMBOLSO 4]) -> 17865455658 | AX18: =SUBTOTAL(9,Tabla4[DESEMBOLSO 5]) -> 17865455658 | AY18: =SUBTOTAL(9,Tabla4[DESEMBOLSO 6]) -> 17865455658 | AZ18: =SUBTOTAL(9,Tabla4[DESEMBOLSO 7]) -> 17865455658 | BA18: =SUBTOTAL(9,Tabla4[DESEMBOLSO 8]) -> 20757201955 | BB18: =SUBTOTAL(9,Tabla4[TOTAL DESEMBOLSOS]) -> 149910902776 | BC18: =SUBTOTAL(9,Tabla4[VALOR COMPONENTE ALIMENTACION NO ASIGNADO]) -> 43549835284
A19: ZONA DEFINITIVO | B19: N° CONTRATO | C19: LOTE PROCESO 2025(ETAPA DEFINITIVOS) | D19: CENTRO ZONAL | E19: MUNICIPIO | F19: SERVICIO 2025 | G19: OBJETO | H19: DIRECCION UDS | I19: CÓDIGO UDS | J19: UNIDAD DE SERVICIO (UDS) | K19: UDS | L19: TOTAL COBERTURA | M19: DESPLAZADOS | N19: CONSECUTIVO MATRIZ | O19: FORMA DE CONTRATACION | P19: SECOP NUMERO DE ZONA | Q19: DE QUIEN ES LA INFRAESTRUCTURA | R19: RUBRO | S19: RECURSO | T19: NIT | U19: NOMBRE EAS | V19: SITCO | W19: PACCO | X19: CDP | Y19: Suma UDS X Invitación (Auto) | Z19: Cupos x Invitacion (Auto) | AA19: OBSERVACIÓN | AB19: VALOR ATENCIÓN (8 MESES) | AC19: % CONTRAPARTIDA | AD19: VALOR CONTRAPARTIDA | AE19: TASAS COMPENSATORIAS | AF19: AGRUPACIONES | AG19: TOTAL APORTES ICBF | AH19: TOTAL CONTRATO (ICBF+EAS) | AI19: TOTAL APORTES ICBF AGRUPADO | AJ19: TOTAL CONTRAPARTIDA AGRUPADO | AK19: VALOR TOTAL CONTRATO AGRUPADO | AL19: SMMLV | AM19: VALOR FASE PREPARATORIA DE ALISTAMIENTO | AN19: VALOR FASE PREPARATORIA DE CIERRE | AO19: DOTACIÓN ÚNICA | AP19: VALOR ATENCIÓN | AQ19: VALOR RACION PREPARADA | AR19: VALOR TOTAL | AS19: TOTAL AGRUPADO | AT19: DESEMBOLSO 1 | AU19: DESEMBOLSO 2 | AV19: DESEMBOLSO 3 | AW19: DESEMBOLSO 4 | AX19: DESEMBOLSO 5 | AY19: DESEMBOLSO 6 | AZ19: DESEMBOLSO 7 | BA19: DESEMBOLSO 8 | BB19: TOTAL DESEMBOLSOS | BC19: VALOR COMPONENTE ALIMENTACION NO ASIGNADO | BD19: UDS CON COMPONENTE DE ALIMENTACION EJECUTADO POR EL ICBF | BE19: VALIDADOR | BF19: DIFERENCIA | BG19: VALIDADOR DESEMBOLSOS | BH19: DIFERENCIA DESEMBOLSOS | BI19: RADICADO | BJ19: CRUCE MATRIZ
A20: 1887 | B20: 05005422025 | C20: LOTE 2 | D20: CZ ABURRA NORTE | E20: COPACABANA | F20: EDUCACIÓN INICIAL EN EL HOGAR A SIN RACION - FAMILIAR Y COMUNITARIA | G20: PRESTAR LOS SERVICIOS DE EDUCACIÓN INICIAL EN EL MARCO DE LA ATENCIÓN INTEGRAL A LA PRIMERA INFANCIA DE CONFORMIDAD CON LOS MANUALES TÉCNICOS, GUÍAS OPERATIVAS PARA LA ATENCIÓN A LA PRIMERA INFANCIA Y LOS LINEAMIENTOS ESTABLECIDOS POR EL ICBF, EN ARMONÍA CON LA POLÍTICA DE ESTADO PARA EL DESARROLLO INTEGRAL DE LA PRIMERA INFANCIA DE “CERO A SIEMPRE | H20: VEREDA CABUYAL | I20: 52121119066 | J20: C COMUNAL CABUYAL | K20: 1 | L20: 15 | N20: 1887 | O20: ARTÍCULO 34 CONTRATACIÓN CON EL REGISTRO ÚNICO DE OFERENTES | R20: C-4602-1500-9-704020-4602020-02-161 | S20: 10 | T20: 900194362 | U20: CORPORACION ARCA | V20: =VLOOKUP(Tabla4[[#This Row],[ZONA DEFINITIVO]],Hoja1!$A$1:$D$121,3,0) -> 228985 | W20: =VLOOKUP(Tabla4[[#This Row],[ZONA DEFINITIVO]],Hoja1!$A$1:$D$121,2,0) -> 15146 | X20: =VLOOKUP(Tabla4[[#This Row],[ZONA DEFINITIVO]],Hoja1!$A$1:$D$121,4,0) -> 90725 | Y20: =+IF(Tabla4[[#This Row],[AGRUPACIONES]]=1,SUMIFS(Tabla4[UDS],Tabla4[ZONA DEFINITIVO],Tabla4[[#This Row],[ZONA DEFINITIVO]])," ") -> 18 | Z20: =+IF(Tabla4[[#This Row],[AGRUPACIONES]]=1,SUMIFS(Tabla4[TOTAL COBERTURA],Tabla4[ZONA DEFINITIVO],Tabla4[[#This Row],[ZONA DEFINITIVO]])," ") -> 693 | AB20: 22789575 | AC20: 0.02 | AD20: =AB20*AC20 -> 455791.5 | AF20: =COUNTIF($A$20:A20,A20) -> 1 | AG20: 22789575 | AH20: =Tabla4[[#This Row],[VALOR CONTRAPARTIDA]]+Tabla4[[#This Row],[TOTAL APORTES ICBF]] -> 23245366 | AI20: =ROUND(+IF(Tabla4[[#This Row],[AGRUPACIONES]]=1,SUMIFS(Tabla4[TOTAL APORTES ICBF],Tabla4[ZONA DEFINITIVO],Tabla4[[#This Row],[ZONA DEFINITIVO]])," "),0) -> 1864420045 | AJ20: =ROUND(+IF(Tabla4[[#This Row],[AGRUPACIONES]]=1,SUMIFS(Tabla4[VALOR CONTRAPARTIDA],Tabla4[ZONA DEFINITIVO],Tabla4[[#This Row],[ZONA DEFINITIVO]])," "),0) -> 37288401 | AK20: =Tabla4[[#This Row],[TOTAL APORTES ICBF AGRUPADO]]+Tabla4[[#This Row],[TOTAL CONTRAPARTIDA AGRUPADO]] -> 1901708446 | AL20: =Tabla4[[#This Row],[TOTAL APORTES ICBF AGRUPADO]]/$AL$18 -> 1309.7436 | AM20: =VLOOKUP(Tabla4[[#This Row],[SERVICIO 2025]],$J$2:$V$14,5,0)*Tabla4[[#This Row],[TOTAL COBERTURA]] -> 701160 | AN20: =VLOOKUP(Tabla4[[#This Row],[SERVICIO 2025]],$J$2:$V$14,6,0)*Tabla4[[#This Row],[TOTAL COBERTURA]] -> 567615 | AO20: =VLOOKUP(Tabla4[[#This Row],[SERVICIO 2025]],$J$2:$V$14,8,0)*Tabla4[[#This Row],[TOTAL COBERTURA]] -> 0 | AP20: =VLOOKUP(Tabla4[[#This Row],[SERVICIO 2025]],$J$2:$V$14,3,0)*Tabla4[[#This Row],[TOTAL COBERTURA]]*8 -> 21520800 | AR20: =Tabla4[[#This Row],[VALOR FASE PREPARATORIA DE ALISTAMIENTO]]+Tabla4[[#This Row],[VALOR FASE PREPARATORIA DE CIERRE]]+Tabla4[[#This Row],[DOTACIÓN ÚNICA]]+Tabla4[[#This Row],[VALOR ATENCIÓN]]+Tabla4[[#This Row],[VALOR RACION PREPARADA]] -> 22789575 | AS20: =+IF(Tabla4[[#This Row],[AGRUPACIONES]]=1,SUMIFS(Tabla4[VALOR TOTAL],Tabla4[ZONA DEFINITIVO],Tabla4[[#This Row],[ZONA DEFINITIVO]])," ") -> 1864420045 | AT20: =(VLOOKUP(Tabla4[[#This Row],[SERVICIO 2025]],$J$2:$V$14,3,0)*Tabla4[[#This Row],[TOTAL COBERTURA]])+Tabla4[[#This Row],[VALOR FASE PREPARATORIA DE ALISTAMIENTO]]+Tabla4[[#This Row],[DOTACIÓN ÚNICA]] -> 3391260 | AU20: =(VLOOKUP(Tabla4[[#This Row],[SERVICIO 2025]],$J$2:$V$14,3,0)*Tabla4[[#This Row],[TOTAL COBERTURA]]) -> 2690100 | AV20: =(VLOOKUP(Tabla4[[#This Row],[SERVICIO 2025]],$J$2:$V$14,3,0)*Tabla4[[#This Row],[TOTAL COBERTURA]]) -> 2690100 | AW20: =(VLOOKUP(Tabla4[[#This Row],[SERVICIO 2025]],$J$2:$V$14,3,0)*Tabla4[[#This Row],[TOTAL COBERTURA]]) -> 2690100 | AX20: =(VLOOKUP(Tabla4[[#This Row],[SERVICIO 2025]],$J$2:$V$14,3,0)*Tabla4[[#This Row],[TOTAL COBERTURA]]) -> 2690100 | AY20: =(VLOOKUP(Tabla4[[#This Row],[SERVICIO 2025]],$J$2:$V$14,3,0)*Tabla4[[#This Row],[TOTAL COBERTURA]]) -> 2690100 | AZ20: =(VLOOKUP(Tabla4[[#This Row],[SERVICIO 2025]],$J$2:$V$14,3,0)*Tabla4[[#This Row],[TOTAL COBERTURA]]) -> 2690100 | BA20: =(VLOOKUP(Tabla4[[#This Row],[SERVICIO 2025]],$J$2:$V$14,3,0)*Tabla4[[#This Row],[TOTAL COBERTURA]])+Tabla4[[#This Row],[VALOR FASE PREPARATORIA DE CIERRE]] -> 3257715 | BB20: =SUM(Tabla4[[#This Row],[DESEMBOLSO 1]:[DESEMBOLSO 8]]) -> 22789575 | BD20: CONTRATACIÓN ALIMENTOS - DPI | BE20: =EXACT(Tabla4[[#This Row],[VALOR ATENCIÓN (8 MESES)]],Tabla4[[#This Row],[VALOR TOTAL]]) -> TRUE | BF20: =Tabla4[[#This Row],[VALOR ATENCIÓN (8 MESES)]]-Tabla4[[#This Row],[VALOR TOTAL]] -> 0 | BG20: =EXACT(Tabla4[[#This Row],[TOTAL DESEMBOLSOS]],Tabla4[[#This Row],[VALOR ATENCIÓN (8 MESES)]]) -> TRUE | BH20: =Tabla4[[#This Row],[TOTAL DESEMBOLSOS]]-Tabla4[[#This Row],[VALOR ATENCIÓN (8 MESES)]] -> 0 | BI20: RADICADAS
A21: 1887 | B21: 05005422025 | C21: LOTE 2 | D21: CZ ABURRA NORTE | E21: COPACABANA | F21: EDUCACIÓN INICIAL EN EL HOGAR A SIN RACION - FAMILIAR Y COMUNITARIA | G21: PRESTAR LOS SERVICIOS DE EDUCACIÓN INICIAL EN EL MARCO DE LA ATENCIÓN INTEGRAL A LA PRIMERA INFANCIA DE CONFORMIDAD CON LOS MANUALES TÉCNICOS, GUÍAS OPERATIVAS PARA LA ATENCIÓN A LA PRIMERA INFANCIA Y LOS LINEAMIENTOS ESTABLECIDOS POR EL ICBF, EN ARMONÍA CON LA POLÍTICA DE ESTADO PARA EL DESARROLLO INTEGRAL DE LA PRIMERA INFANCIA DE “CERO A SIEMPRE | H21: VEREDA ALVARADO | I21: 52121136513 | J21: CER VEREDA ALVARADO | K21: 1 | L21: 20 | N21: 1887 | O21: ARTÍCULO 34 CONTRATACIÓN CON EL REGISTRO ÚNICO DE OFERENTES | R21: C-4602-1500-9-704020-4602020-02-161 | S21: 10 | T21: 900194362 | U21: CORPORACION ARCA | V21: =VLOOKUP(Tabla4[[#This Row],[ZONA DEFINITIVO]],Hoja1!$A$1:$D$121,3,0) -> 228985 | W21: =VLOOKUP(Tabla4[[#This Row],[ZONA DEFINITIVO]],Hoja1!$A$1:$D$121,2,0) -> 15146 | X21: =VLOOKUP(Tabla4[[#This Row],[ZONA DEFINITIVO]],Hoja1!$A$1:$D$121,4,0) -> 90725 | Y21: =+IF(Tabla4[[#This Row],[AGRUPACIONES]]=1,SUMIFS(Tabla4[UDS],Tabla4[ZONA DEFINITIVO],Tabla4[[#This Row],[ZONA DEFINITIVO]])," ") | Z21: =+IF(Tabla4[[#This Row],[AGRUPACIONES]]=1,SUMIFS(Tabla4[TOTAL COBERTURA],Tabla4[ZONA DEFINITIVO],Tabla4[[#This Row],[ZONA DEFINITIVO]])," ") | AB21: 30386100 | AC21: 0.02 | AD21: =AB21*AC21 -> 607722 | AF21: =COUNTIF($A$20:A21,A21) -> 2 | AG21: 30386100 | AH21: =Tabla4[[#This Row],[VALOR CONTRAPARTIDA]]+Tabla4[[#This Row],[TOTAL APORTES ICBF]] -> 30993822 | AM21: =VLOOKUP(Tabla4[[#This Row],[SERVICIO 2025]],$J$2:$V$14,5,0)*Tabla4[[#This Row],[TOTAL COBERTURA]] -> 934880 | AN21: =VLOOKUP(Tabla4[[#This Row],[SERVICIO 2025]],$J$2:$V$14,6,0)*Tabla4[[#This Row],[TOTAL COBERTURA]] -> 756820 | AO21: =VLOOKUP(Tabla4[[#This Row],[SERVICIO 2025]],$J$2:$V$14,8,0)*Tabla4[[#This Row],[TOTAL COBERTURA]] -> 0 | AP21: =VLOOKUP(Tabla4[[#This Row],[SERVICIO 2025]],$J$2:$V$14,3,0)*Tabla4[[#This Row],[TOTAL COBERTURA]]*8 -> 28694400 | AR21: =Tabla4[[#This Row],[VALOR FASE PREPARATORIA DE ALISTAMIENTO]]+Tabla4[[#This Row],[VALOR FASE PREPARATORIA DE CIERRE]]+Tabla4[[#This Row],[DOTACIÓN ÚNICA]]+Tabla4[[#This Row],[VALOR ATENCIÓN]]+Tabla4[[#This Row],[VALOR RACION PREPARADA]] -> 30386100 | AS21: =+IF(Tabla4[[#This Row],[AGRUPACIONES]]=1,SUMIFS(Tabla4[VALOR TOTAL],Tabla4[ZONA DEFINITIVO],Tabla4[[#This Row],[ZONA DEFINITIVO]])," ") | AT21: =(VLOOKUP(Tabla4[[#This Row],[SERVICIO 2025]],$J$2:$V$14,3,0)*Tabla4[[#This Row],[TOTAL COBERTURA]])+Tabla4[[#This Row],[VALOR FASE PREPARATORIA DE ALISTAMIENTO]]+Tabla4[[#This Row],[DOTACIÓN ÚNICA]] -> 4521680 | AU21: =(VLOOKUP(Tabla4[[#This Row],[SERVICIO 2025]],$J$2:$V$14,3,0)*Tabla4[[#This Row],[TOTAL COBERTURA]]) -> 3586800 | AV21: =(VLOOKUP(Tabla4[[#This Row],[SERVICIO 2025]],$J$2:$V$14,3,0)*Tabla4[[#This Row],[TOTAL COBERTURA]]) -> 3586800 | AW21: =(VLOOKUP(Tabla4[[#This Row],[SERVICIO 2025]],$J$2:$V$14,3,0)*Tabla4[[#This Row],[TOTAL COBERTURA]]) -> 3586800 | AX21: =(VLOOKUP(Tabla4[[#This Row],[SERVICIO 2025]],$J$2:$V$14,3,0)*Tabla4[[#This Row],[TOTAL COBERTURA]]) -> 3586800 | AY21: =(VLOOKUP(Tabla4[[#This Row],[SERVICIO 2025]],$J$2:$V$14,3,0)*Tabla4[[#This Row],[TOTAL COBERTURA]]) -> 3586800 | AZ21: =(VLOOKUP(Tabla4[[#This Row],[SERVICIO 2025]],$J$2:$V$14,3,0)*Tabla4[[#This Row],[TOTAL COBERTURA]]) -> 3586800 | BA21: =(VLOOKUP(Tabla4[[#This Row],[SERVICIO 2025]],$J$2:$V$14,3,0)*Tabla4[[#This Row],[TOTAL COBERTURA]])+Tabla4[[#This Row],[VALOR FASE PREPARATORIA DE CIERRE]] -> 4343620 | BB21: =SUM(Tabla4[[#This Row],[DESEMBOLSO 1]:[DESEMBOLSO 8]]) -> 30386100 | BD21: CONTRATACIÓN ALIMENTOS - DPI | BE21: =EXACT(Tabla4[[#This Row],[VALOR ATENCIÓN (8 MESES)]],Tabla4[[#This Row],[VALOR TOTAL]]) -> TRUE | BF21: =Tabla4[[#This Row],[VALOR ATENCIÓN (8 MESES)]]-Tabla4[[#This Row],[VALOR TOTAL]] -> 0 | BG21: =EXACT(Tabla4[[#This Row],[TOTAL DESEMBOLSOS]],Tabla4[[#This Row],[VALOR ATENCIÓN (8 MESES)]]) -> TRUE | BH21: =Tabla4[[#This Row],[TOTAL DESEMBOLSOS]]-Tabla4[[#This Row],[VALOR ATENCIÓN (8 MESES)]] -> 0 | BI21: RADICADAS
A22: 1887 | B22: 05005422025 | C22: LOTE 2 | D22: CZ ABURRA NORTE | E22: COPACABANA | F22: EDUCACIÓN INICIAL EN EL HOGAR A SIN RACION - FAMILIAR Y COMUNITARIA | G22: PRESTAR LOS SERVICIOS DE EDUCACIÓN INICIAL EN EL MARCO DE LA ATENCIÓN INTEGRAL A LA PRIMERA INFANCIA DE CONFORMIDAD CON LOS MANUALES TÉCNICOS, GUÍAS OPERATIVAS PARA LA ATENCIÓN A LA PRIMERA INFANCIA Y LOS LINEAMIENTOS ESTABLECIDOS POR EL ICBF, EN ARMONÍA CON LA POLÍTICA DE ESTADO PARA EL DESARROLLO INTEGRAL DE LA PRIMERA INFANCIA DE “CERO A SIEMPRE | H22: ESCUELA RURAL QUEBRADA ARRIBA | I22: 52121136534 | J22: CER QUEBRADA ARRIBA | K22: 1 | L22: 15 | N22: 1887 | O22: ARTÍCULO 34 CONTRATACIÓN CON EL REGISTRO ÚNICO DE OFERENTES | R22: C-4602-1500-9-704020-4602020-02-161 | S22: 10 | T22: 900194362 | U22: CORPORACION ARCA | V22: =VLOOKUP(Tabla4[[#This Row],[ZONA DEFINITIVO]],Hoja1!$A$1:$D$121,3,0) -> 228985 | W22: =VLOOKUP(Tabla4[[#This Row],[ZONA DEFINITIVO]],Hoja1!$A$1:$D$121,2,0) -> 15146 | X22: =VLOOKUP(Tabla4[[#This Row],[ZONA DEFINITIVO]],Hoja1!$A$1:$D$121,4,0) -> 90725 | Y22: =+IF(Tabla4[[#This Row],[AGRUPACIONES]]=1,SUMIFS(Tabla4[UDS],Tabla4[ZONA DEFINITIVO],Tabla4[[#This Row],[ZONA DEFINITIVO]])," ") | Z22: =+IF(Tabla4[[#This Row],[AGRUPACIONES]]=1,SUMIFS(Tabla4[TOTAL COBERTURA],Tabla4[ZONA DEFINITIVO],Tabla4[[#This Row],[ZONA DEFINITIVO]])," ") | AB22: 22789575 | AC22: 0.02 | AD22: =AB22*AC22 -> 455791.5 | AF22: =COUNTIF($A$20:A22,A22) -> 3 | AG22: 22789575 | AH22: =Tabla4[[#This Row],[VALOR CONTRAPARTIDA]]+Tabla4[[#This Row],[TOTAL APORTES ICBF]] -> 23245366 | AM22: =VLOOKUP(Tabla4[[#This Row],[SERVICIO 2025]],$J$2:$V$14,5,0)*Tabla4[[#This Row],[TOTAL COBERTURA]] -> 701160 | AN22: =VLOOKUP(Tabla4[[#This Row],[SERVICIO 2025]],$J$2:$V$14,6,0)*Tabla4[[#This Row],[TOTAL COBERTURA]] -> 567615 | AO22: =VLOOKUP(Tabla4[[#This Row],[SERVICIO 2025]],$J$2:$V$14,8,0)*Tabla4[[#This Row],[TOTAL COBERTURA]] -> 0 | AP22: =VLOOKUP(Tabla4[[#This Row],[SERVICIO 2025]],$J$2:$V$14,3,0)*Tabla4[[#This Row],[TOTAL COBERTURA]]*8 -> 21520800 | AR22: =Tabla4[[#This Row],[VALOR FASE PREPARATORIA DE ALISTAMIENTO]]+Tabla4[[#This Row],[VALOR FASE PREPARATORIA DE CIERRE]]+Tabla4[[#This Row],[DOTACIÓN ÚNICA]]+Tabla4[[#This Row],[VALOR ATENCIÓN]]+Tabla4[[#This Row],[VALOR RACION PREPARADA]] -> 22789575 | AS22: =+IF(Tabla4[[#This Row],[AGRUPACIONES]]=1,SUMIFS(Tabla4[VALOR TOTAL],Tabla4[ZONA DEFINITIVO],Tabla4[[#This Row],[ZONA DEFINITIVO]])," ") | AT22: =(VLOOKUP(Tabla4[[#This Row],[SERVICIO 2025]],$J$2:$V$14,3,0)*Tabla4[[#This Row],[TOTAL COBERTURA]])+Tabla4[[#This Row],[VALOR FASE PREPARATORIA DE ALISTAMIENTO]]+Tabla4[[#This Row],[DOTACIÓN ÚNICA]] -> 3391260 | AU22: =(VLOOKUP(Tabla4[[#This Row],[SERVICIO 2025]],$J$2:$V$14,3,0)*Tabla4[[#This Row],[TOTAL COBERTURA]]) -> 2690100 | AV22: =(VLOOKUP(Tabla4[[#This Row],[SERVICIO 2025]],$J$2:$V$14,3,0)*Tabla4[[#This Row],[TOTAL COBERTURA]]) -> 2690100 | AW22: =(VLOOKUP(Tabla4[[#This Row],[SERVICIO 2025]],$J$2:$V$14,3,0)*Tabla4[[#This Row],[TOTAL COBERTURA]]) -> 2690100 | AX22: =(VLOOKUP(Tabla4[[#This Row],[SERVICIO 2025]],$J$2:$V$14,3,0)*Tabla4[[#This Row],[TOTAL COBERTURA]]) -> 2690100 | AY22: =(VLOOKUP(Tabla4[[#This Row],[SERVICIO 2025]],$J$2:$V$14,3,0)*Tabla4[[#This Row],[TOTAL COBERTURA]]) -> 2690100 | AZ22: =(VLOOKUP(Tabla4[[#This Row],[SERVICIO 2025]],$J$2:$V$14,3,0)*Tabla4[[#This Row],[TOTAL COBERTURA]]) -> 2690100 | BA22: =(VLOOKUP(Tabla4[[#This Row],[SERVICIO 2025]],$J$2:$V$14,3,0)*Tabla4[[#This Row],[TOTAL COBERTURA]])+Tabla4[[#This Row],[VALOR FASE PREPARATORIA DE CIERRE]] -> 3257715 | BB22: =SUM(Tabla4[[#This Row],[DESEMBOLSO 1]:[DESEMBOLSO 8]]) -> 22789575 | BD22: CONTRATACIÓN ALIMENTOS - DPI | BE22: =EXACT(Tabla4[[#This Row],[VALOR ATENCIÓN (8 MESES)]],Tabla4[[#This Row],[VALOR TOTAL]]) -> TRUE | BF22: =Tabla4[[#This Row],[VALOR ATENCIÓN (8 MESES)]]-Tabla4[[#This Row],[VALOR TOTAL]] -> 0 | BG22: =EXACT(Tabla4[[#This Row],[TOTAL DESEMBOLSOS]],Tabla4[[#This Row],[VALOR ATENCIÓN (8 MESES)]]) -> TRUE | BH22: =Tabla4[[#This Row],[TOTAL DESEMBOLSOS]]-Tabla4[[#This Row],[VALOR ATENCIÓN (8 MESES)]] -> 0 | BI22: RADICADAS
A23: 1887 | B23: 05005422025 | C23: LOTE 2 | D23: CZ ABURRA NORTE | E23: COPACABANA | F23: EDUCACIÓN INICIAL EN EL HOGAR A SIN RACION - FAMILIAR Y COMUNITARIA | G23: PRESTAR LOS SERVICIOS DE EDUCACIÓN INICIAL EN EL MARCO DE LA ATENCIÓN INTEGRAL A LA PRIMERA INFANCIA DE CONFORMIDAD CON LOS MANUALES TÉCNICOS, GUÍAS OPERATIVAS PARA LA ATENCIÓN A LA PRIMERA INFANCIA Y LOS LINEAMIENTOS ESTABLECIDOS POR EL ICBF, EN ARMONÍA CON LA POLÍTICA DE ESTADO PARA EL DESARROLLO INTEGRAL DE LA PRIMERA INFANCIA DE “CERO A SIEMPRE | H23: ESCUELA RURAL CARLOS MESA | I23: 52121144547 | J23: CER CARLOS MESA AGUADA | K23: 1 | L23: 20 | N23: 1887 | O23: ARTÍCULO 34 CONTRATACIÓN CON EL REGISTRO ÚNICO DE OFERENTES | R23: C-4602-1500-9-704020-4602020-02-161 | S23: 10 | T23: 900194362 | U23: CORPORACION ARCA | V23: =VLOOKUP(Tabla4[[#This Row],[ZONA DEFINITIVO]],Hoja1!$A$1:$D$121,3,0) -> 228985 | W23: =VLOOKUP(Tabla4[[#This Row],[ZONA DEFINITIVO]],Hoja1!$A$1:$D$121,2,0) -> 15146 | X23: =VLOOKUP(Tabla4[[#This Row],[ZONA DEFINITIVO]],Hoja1!$A$1:$D$121,4,0) -> 90725 | Y23: =+IF(Tabla4[[#This Row],[AGRUPACIONES]]=1,SUMIFS(Tabla4[UDS],Tabla4[ZONA DEFINITIVO],Tabla4[[#This Row],[ZONA DEFINITIVO]])," ") | Z23: =+IF(Tabla4[[#This Row],[AGRUPACIONES]]=1,SUMIFS(Tabla4[TOTAL COBERTURA],Tabla4[ZONA DEFINITIVO],Tabla4[[#This Row],[ZONA DEFINITIVO]])," ") | AB23: 30386100 | AC23: 0.02 | AD23: =AB23*AC23 -> 607722 | AF23: =COUNTIF($A$20:A23,A23) -> 4 | AG23: 30386100 | AH23: =Tabla4[[#This Row],[VALOR CONTRAPARTIDA]]+Tabla4[[#This Row],[TOTAL APORTES ICBF]] -> 30993822 | AM23: =VLOOKUP(Tabla4[[#This Row],[SERVICIO 2025]],$J$2:$V$14,5,0)*Tabla4[[#This Row],[TOTAL COBERTURA]] -> 934880 | AN23: =VLOOKUP(Tabla4[[#This Row],[SERVICIO 2025]],$J$2:$V$14,6,0)*Tabla4[[#This Row],[TOTAL COBERTURA]] -> 756820 | AO23: =VLOOKUP(Tabla4[[#This Row],[SERVICIO 2025]],$J$2:$V$14,8,0)*Tabla4[[#This Row],[TOTAL COBERTURA]] -> 0 | AP23: =VLOOKUP(Tabla4[[#This Row],[SERVICIO 2025]],$J$2:$V$14,3,0)*Tabla4[[#This Row],[TOTAL COBERTURA]]*8 -> 28694400 | AR23: =Tabla4[[#This Row],[VALOR FASE PREPARATORIA DE ALISTAMIENTO]]+Tabla4[[#This Row],[VALOR FASE PREPARATORIA DE CIERRE]]+Tabla4[[#This Row],[DOTACIÓN ÚNICA]]+Tabla4[[#This Row],[VALOR ATENCIÓN]]+Tabla4[[#This Row],[VALOR RACION PREPARADA]] -> 30386100 | AS23: =+IF(Tabla4[[#This Row],[AGRUPACIONES]]=1,SUMIFS(Tabla4[VALOR TOTAL],Tabla4[ZONA DEFINITIVO],Tabla4[[#This Row],[ZONA DEFINITIVO]])," ") | AT23: =(VLOOKUP(Tabla4[[#This Row],[SERVICIO 2025]],$J$2:$V$14,3,0)*Tabla4[[#This Row],[TOTAL COBERTURA]])+Tabla4[[#This Row],[VALOR FASE PREPARATORIA DE ALISTAMIENTO]]+Tabla4[[#This Row],[DOTACIÓN ÚNICA]] -> 4521680 | AU23: =(VLOOKUP(Tabla4[[#This Row],[SERVICIO 2025]],$J$2:$V$14,3,0)*Tabla4[[#This Row],[TOTAL COBERTURA]]) -> 3586800 | AV23: =(VLOOKUP(Tabla4[[#This Row],[SERVICIO 2025]],$J$2:$V$14,3,0)*Tabla4[[#This Row],[TOTAL COBERTURA]]) -> 3586800 | AW23: =(VLOOKUP(Tabla4[[#This Row],[SERVICIO 2025]],$J$2:$V$14,3,0)*Tabla4[[#This Row],[TOTAL COBERTURA]]) -> 3586800 | AX23: =(VLOOKUP(Tabla4[[#This Row],[SERVICIO 2025]],$J$2:$V$14,3,0)*Tabla4[[#This Row],[TOTAL COBERTURA]]) -> 3586800 | AY23: =(VLOOKUP(Tabla4[[#This Row],[SERVICIO 2025]],$J$2:$V$14,3,0)*Tabla4[[#This Row],[TOTAL COBERTURA]]) -> 3586800 | AZ23: =(VLOOKUP(Tabla4[[#This Row],[SERVICIO 2025]],$J$2:$V$14,3,0)*Tabla4[[#This Row],[TOTAL COBERTURA]]) -> 3586800 | BA23: =(VLOOKUP(Tabla4[[#This Row],[SERVICIO 2025]],$J$2:$V$14,3,0)*Tabla4[[#This Row],[TOTAL COBERTURA]])+Tabla4[[#This Row],[VALOR FASE PREPARATORIA DE CIERRE]] -> 4343620 | BB23: =SUM(Tabla4[[#This Row],[DESEMBOLSO 1]:[DESEMBOLSO 8]]) -> 30386100 | BD23: CONTRATACIÓN ALIMENTOS - DPI | BE23: =EXACT(Tabla4[[#This Row],[VALOR ATENCIÓN (8 MESES)]],Tabla4[[#This Row],[VALOR TOTAL]]) -> TRUE | BF23: =Tabla4[[#This Row],[VALOR ATENCIÓN (8 MESES)]]-Tabla4[[#This Row],[VALOR TOTAL]] -> 0 | BG23: =EXACT(Tabla4[[#This Row],[TOTAL DESEMBOLSOS]],Tabla4[[#This Row],[VALOR ATENCIÓN (8 MESES)]]) -> TRUE | BH23: =Tabla4[[#This Row],[TOTAL DESEMBOLSOS]]-Tabla4[[#This Row],[VALOR ATENCIÓN (8 MESES)]] -> 0 | BI23: RADICADAS
A24: 1887 | B24: 05005422025 | C24: LOTE 2 | D24: CZ ABURRA NORTE | E24: COPACABANA | F24: EDUCACIÓN INICIAL EN EL HOGAR A SIN RACION - FAMILIAR Y COMUNITARIA | G24: PRESTAR LOS SERVICIOS DE EDUCACIÓN INICIAL EN EL MARCO DE LA ATENCIÓN INTEGRAL A LA PRIMERA INFANCIA DE CONFORMIDAD CON LOS MANUALES TÉCNICOS, GUÍAS OPERATIVAS PARA LA ATENCIÓN A LA PRIMERA INFANCIA Y LOS LINEAMIENTOS ESTABLECIDOS POR EL ICBF, EN ARMONÍA CON LA POLÍTICA DE ESTADO PARA EL DESARROLLO INTEGRAL DE LA PRIMERA INFANCIA DE “CERO A SIEMPRE | H24: CASETA COMUNAL ZARZAL CURAZAO | I24: 52121144553 | J24: C COMUNAL ZARZAL CURAZAO | K24: 1 | L24: 20 | N24: 1887 | O24: ARTÍCULO 34 CONTRATACIÓN CON EL REGISTRO ÚNICO DE OFERENTES | R24: C-4602-1500-9-704020-4602020-02-161 | S24: 10 | T24: 900194362 | U24: CORPORACION ARCA | V24: =VLOOKUP(Tabla4[[#This Row],[ZONA DEFINITIVO]],Hoja1!$A$1:$D$121,3,0) -> 228985 | W24: =VLOOKUP(Tabla4[[#This Row],[ZONA DEFINITIVO]],Hoja1!$A$1:$D$121,2,0) -> 15146 | X24: =VLOOKUP(Tabla4[[#This Row],[ZONA DEFINITIVO]],Hoja1!$A$1:$D$121,4,0) -> 90725 | Y24: =+IF(Tabla4[[#This Row],[AGRUPACIONES]]=1,SUMIFS(Tabla4[UDS],Tabla4[ZONA DEFINITIVO],Tabla4[[#This Row],[ZONA DEFINITIVO]])," ") | Z24: =+IF(Tabla4[[#This Row],[AGRUPACIONES]]=1,SUMIFS(Tabla4[TOTAL COBERTURA],Tabla4[ZONA DEFINITIVO],Tabla4[[#This Row],[ZONA DEFINITIVO]])," ") | AB24: 30386100 | AC24: 0.02 | AD24: =AB24*AC24 -> 607722 | AF24: =COUNTIF($A$20:A24,A24) -> 5 | AG24: 30386100 | AH24: =Tabla4[[#This Row],[VALOR CONTRAPARTIDA]]+Tabla4[[#This Row],[TOTAL APORTES ICBF]] -> 30993822 | AM24: =VLOOKUP(Tabla4[[#This Row],[SERVICIO 2025]],$J$2:$V$14,5,0)*Tabla4[[#This Row],[TOTAL COBERTURA]] -> 934880 | AN24: =VLOOKUP(Tabla4[[#This Row],[SERVICIO 2025]],$J$2:$V$14,6,0)*Tabla4[[#This Row],[TOTAL COBERTURA]] -> 756820 | AO24: =VLOOKUP(Tabla4[[#This Row],[SERVICIO 2025]],$J$2:$V$14,8,0)*Tabla4[[#This Row],[TOTAL COBERTURA]] -> 0 | AP24: =VLOOKUP(Tabla4[[#This Row],[SERVICIO 2025]],$J$2:$V$14,3,0)*Tabla4[[#This Row],[TOTAL COBERTURA]]*8 -> 28694400 | AR24: =Tabla4[[#This Row],[VALOR FASE PREPARATORIA DE ALISTAMIENTO]]+Tabla4[[#This Row],[VALOR FASE PREPARATORIA DE CIERRE]]+Tabla4[[#This Row],[DOTACIÓN ÚNICA]]+Tabla4[[#This Row],[VALOR ATENCIÓN]]+Tabla4[[#This Row],[VALOR RACION PREPARADA]] -> 30386100 | AS24: =+IF(Tabla4[[#This Row],[AGRUPACIONES]]=1,SUMIFS(Tabla4[VALOR TOTAL],Tabla4[ZONA DEFINITIVO],Tabla4[[#This Row],[ZONA DEFINITIVO]])," ") | AT24: =(VLOOKUP(Tabla4[[#This Row],[SERVICIO 2025]],$J$2:$V$14,3,0)*Tabla4[[#This Row],[TOTAL COBERTURA]])+Tabla4[[#This Row],[VALOR FASE PREPARATORIA DE ALISTAMIENTO]]+Tabla4[[#This Row],[DOTACIÓN ÚNICA]] -> 4521680 | AU24: =(VLOOKUP(Tabla4[[#This Row],[SERVICIO 2025]],$J$2:$V$14,3,0)*Tabla4[[#This Row],[TOTAL COBERTURA]]) -> 3586800 | AV24: =(VLOOKUP(Tabla4[[#This Row],[SERVICIO 2025]],$J$2:$V$14,3,0)*Tabla4[[#This Row],[TOTAL COBERTURA]]) -> 3586800 | AW24: =(VLOOKUP(Tabla4[[#This Row],[SERVICIO 2025]],$J$2:$V$14,3,0)*Tabla4[[#This Row],[TOTAL COBERTURA]]) -> 3586800 | AX24: =(VLOOKUP(Tabla4[[#This Row],[SERVICIO 2025]],$J$2:$V$14,3,0)*Tabla4[[#This Row],[TOTAL COBERTURA]]) -> 3586800 | AY24: =(VLOOKUP(Tabla4[[#This Row],[SERVICIO 2025]],$J$2:$V$14,3,0)*Tabla4[[#This Row],[TOTAL COBERTURA]]) -> 3586800 | AZ24: =(VLOOKUP(Tabla4[[#This Row],[SERVICIO 2025]],$J$2:$V$14,3,0)*Tabla4[[#This Row],[TOTAL COBERTURA]]) -> 3586800 | BA24: =(VLOOKUP(Tabla4[[#This Row],[SERVICIO 2025]],$J$2:$V$14,3,0)*Tabla4[[#This Row],[TOTAL COBERTURA]])+Tabla4[[#This Row],[VALOR FASE PREPARATORIA DE CIERRE]] -> 4343620 | BB24: =SUM(Tabla4[[#This Row],[DESEMBOLSO 1]:[DESEMBOLSO 8]]) -> 30386100 | BD24: CONTRATACIÓN ALIMENTOS - DPI | BE24: =EXACT(Tabla4[[#This Row],[VALOR ATENCIÓN (8 MESES)]],Tabla4[[#This Row],[VALOR TOTAL]]) -> TRUE | BF24: =Tabla4[[#This Row],[VALOR ATENCIÓN (8 MESES)]]-Tabla4[[#This Row],[VALOR TOTAL]] -> 0 | BG24: =EXACT(Tabla4[[#This Row],[TOTAL DESEMBOLSOS]],Tabla4[[#This Row],[VALOR ATENCIÓN (8 MESES)]]) -> TRUE | BH24: =Tabla4[[#This Row],[TOTAL DESEMBOLSOS]]-Tabla4[[#This Row],[VALOR ATENCIÓN (8 MESES)]] -> 0 | BI24: RADICADAS
A25: 1887 | B25: 05005422025 | C25: LOTE 2 | D25: CZ ABURRA NORTE | E25: COPACABANA | F25: EDUCACIÓN INICIAL EN EL HOGAR A SIN RACION - FAMILIAR Y COMUNITARIA | G25: PRESTAR LOS SERVICIOS DE EDUCACIÓN INICIAL EN EL MARCO DE LA ATENCIÓN INTEGRAL A LA PRIMERA INFANCIA DE CONFORMIDAD CON LOS MANUALES TÉCNICOS, GUÍAS OPERATIVAS PARA LA ATENCIÓN A LA PRIMERA INFANCIA Y LOS LINEAMIENTOS ESTABLECIDOS POR EL ICBF, EN ARMONÍA CON LA POLÍTICA DE ESTADO PARA EL DESARROLLO INTEGRAL DE LA PRIMERA INFANCIA DE “CERO A SIEMPRE | H25: CASETA COMUNAL LA MARIA | I25: 52121144566 | J25: C COMUNAL LA MARIA_COPACABANA | K25: 1 | L25: 15 | N25: 1887 | O25: ARTÍCULO 34 CONTRATACIÓN CON EL REGISTRO ÚNICO DE OFERENTES | R25: C-4602-1500-9-704020-4602020-02-161 | S25: 10 | T25: 900194362 | U25: CORPORACION ARCA | V25: =VLOOKUP(Tabla4[[#This Row],[ZONA DEFINITIVO]],Hoja1!$A$1:$D$121,3,0) -> 228985 | W25: =VLOOKUP(Tabla4[[#This Row],[ZONA DEFINITIVO]],Hoja1!$A$1:$D$121,2,0) -> 15146 | X25: =VLOOKUP(Tabla4[[#This Row],[ZONA DEFINITIVO]],Hoja1!$A$1:$D$121,4,0) -> 90725 | Y25: =+IF(Tabla4[[#This Row],[AGRUPACIONES]]=1,SUMIFS(Tabla4[UDS],Tabla4[ZONA DEFINITIVO],Tabla4[[#This Row],[ZONA DEFINITIVO]])," ") | Z25: =+IF(Tabla4[[#This Row],[AGRUPACIONES]]=1,SUMIFS(Tabla4[TOTAL COBERTURA],Tabla4[ZONA DEFINITIVO],Tabla4[[#This Row],[ZONA DEFINITIVO]])," ") | AB25: 22789575 | AC25: 0.02 | AD25: =AB25*AC25 -> 455791.5 | AF25: =COUNTIF($A$20:A25,A25) -> 6 | AG25: 22789575 | AH25: =Tabla4[[#This Row],[VALOR CONTRAPARTIDA]]+Tabla4[[#This Row],[TOTAL APORTES ICBF]] -> 23245366 | AM25: =VLOOKUP(Tabla4[[#This Row],[SERVICIO 2025]],$J$2:$V$14,5,0)*Tabla4[[#This Row],[TOTAL COBERTURA]] -> 701160 | AN25: =VLOOKUP(Tabla4[[#This Row],[SERVICIO 2025]],$J$2:$V$14,6,0)*Tabla4[[#This Row],[TOTAL COBERTURA]] -> 567615 | AO25: =VLOOKUP(Tabla4[[#This Row],[SERVICIO 2025]],$J$2:$V$14,8,0)*Tabla4[[#This Row],[TOTAL COBERTURA]] -> 0 | AP25: =VLOOKUP(Tabla4[[#This Row],[SERVICIO 2025]],$J$2:$V$14,3,0)*Tabla4[[#This Row],[TOTAL COBERTURA]]*8 -> 21520800 | AR25: =Tabla4[[#This Row],[VALOR FASE PREPARATORIA DE ALISTAMIENTO]]+Tabla4[[#This Row],[VALOR FASE PREPARATORIA DE CIERRE]]+Tabla4[[#This Row],[DOTACIÓN ÚNICA]]+Tabla4[[#This Row],[VALOR ATENCIÓN]]+Tabla4[[#This Row],[VALOR RACION PREPARADA]] -> 22789575 | AS25: =+IF(Tabla4[[#This Row],[AGRUPACIONES]]=1,SUMIFS(Tabla4[VALOR TOTAL],Tabla4[ZONA DEFINITIVO],Tabla4[[#This Row],[ZONA DEFINITIVO]])," ") | AT25: =(VLOOKUP(Tabla4[[#This Row],[SERVICIO 2025]],$J$2:$V$14,3,0)*Tabla4[[#This Row],[TOTAL COBERTURA]])+Tabla4[[#This Row],[VALOR FASE PREPARATORIA DE ALISTAMIENTO]]+Tabla4[[#This Row],[DOTACIÓN ÚNICA]] -> 3391260 | AU25: =(VLOOKUP(Tabla4[[#This Row],[SERVICIO 2025]],$J$2:$V$14,3,0)*Tabla4[[#This Row],[TOTAL COBERTURA]]) -> 2690100 | AV25: =(VLOOKUP(Tabla4[[#This Row],[SERVICIO 2025]],$J$2:$V$14,3,0)*Tabla4[[#This Row],[TOTAL COBERTURA]]) -> 2690100 | AW25: =(VLOOKUP(Tabla4[[#This Row],[SERVICIO 2025]],$J$2:$V$14,3,0)*Tabla4[[#This Row],[TOTAL COBERTURA]]) -> 2690100 | AX25: =(VLOOKUP(Tabla4[[#This Row],[SERVICIO 2025]],$J$2:$V$14,3,0)*Tabla4[[#This Row],[TOTAL COBERTURA]]) -> 2690100 | AY25: =(VLOOKUP(Tabla4[[#This Row],[SERVICIO 2025]],$J$2:$V$14,3,0)*Tabla4[[#This Row],[TOTAL COBERTURA]]) -> 2690100 | AZ25: =(VLOOKUP(Tabla4[[#This Row],[SERVICIO 2025]],$J$2:$V$14,3,0)*Tabla4[[#This Row],[TOTAL COBERTURA]]) -> 2690100 | BA25: =(VLOOKUP(Tabla4[[#This Row],[SERVICIO 2025]],$J$2:$V$14,3,0)*Tabla4[[#This Row],[TOTAL COBERTURA]])+Tabla4[[#This Row],[VALOR FASE PREPARATORIA DE CIERRE]] -> 3257715 | BB25: =SUM(Tabla4[[#This Row],[DESEMBOLSO 1]:[DESEMBOLSO 8]]) -> 22789575 | BD25: CONTRATACIÓN ALIMENTOS - DPI | BE25: =EXACT(Tabla4[[#This Row],[VALOR ATENCIÓN (8 MESES)]],Tabla4[[#This Row],[VALOR TOTAL]]) -> TRUE | BF25: =Tabla4[[#This Row],[VALOR ATENCIÓN (8 MESES)]]-Tabla4[[#This Row],[VALOR TOTAL]] -> 0 | BG25: =EXACT(Tabla4[[#This Row],[TOTAL DESEMBOLSOS]],Tabla4[[#This Row],[VALOR ATENCIÓN (8 MESES)]]) -> TRUE | BH25: =Tabla4[[#This Row],[TOTAL DESEMBOLSOS]]-Tabla4[[#This Row],[VALOR ATENCIÓN (8 MESES)]] -> 0 | BI25: RADICADAS
A26: 1887 | B26: 05005422025 | C26: LOTE 2 | D26: CZ ABURRA NORTE | E26: COPACABANA | F26: EDUCACIÓN INICIAL EN EL HOGAR A SIN RACION - FAMILIAR Y COMUNITARIA | G26: PRESTAR LOS SERVICIOS DE EDUCACIÓN INICIAL EN EL MARCO DE LA ATENCIÓN INTEGRAL A LA PRIMERA INFANCIA DE CONFORMIDAD CON LOS MANUALES TÉCNICOS, GUÍAS OPERATIVAS PARA LA ATENCIÓN A LA PRIMERA INFANCIA Y LOS LINEAMIENTOS ESTABLECIDOS POR EL ICBF, EN ARMONÍA CON LA POLÍTICA DE ESTADO PARA EL DESARROLLO INTEGRAL DE LA PRIMERA INFANCIA DE “CERO A SIEMPRE | H26: ESCUELA RURAL JOAQUIN JIMENEZ EL LLANO | I26: 52121144569 | J26: CER JOAQUIN JIMENEZ EL LLANO | K26: 1 | L26: 15 | N26: 1887 | O26: ARTÍCULO 34 CONTRATACIÓN CON EL REGISTRO ÚNICO DE OFERENTES | R26: C-4602-1500-9-704020-4602020-02-161 | S26: 10 | T26: 900194362 | U26: CORPORACION ARCA | V26: =VLOOKUP(Tabla4[[#This Row],[ZONA DEFINITIVO]],Hoja1!$A$1:$D$121,3,0) -> 228985 | W26: =VLOOKUP(Tabla4[[#This Row],[ZONA DEFINITIVO]],Hoja1!$A$1:$D$121,2,0) -> 15146 | X26: =VLOOKUP(Tabla4[[#This Row],[ZONA DEFINITIVO]],Hoja1!$A$1:$D$121,4,0) -> 90725 | Y26: =+IF(Tabla4[[#This Row],[AGRUPACIONES]]=1,SUMIFS(Tabla4[UDS],Tabla4[ZONA DEFINITIVO],Tabla4[[#This Row],[ZONA DEFINITIVO]])," ") | Z26: =+IF(Tabla4[[#This Row],[AGRUPACIONES]]=1,SUMIFS(Tabla4[TOTAL COBERTURA],Tabla4[ZONA DEFINITIVO],Tabla4[[#This Row],[ZONA DEFINITIVO]])," ") | AB26: 22789575 | AC26: 0.02 | AD26: =AB26*AC26 -> 455791.5 | AF26: =COUNTIF($A$20:A26,A26) -> 7 | AG26: 22789575 | AH26: =Tabla4[[#This Row],[VALOR CONTRAPARTIDA]]+Tabla4[[#This Row],[TOTAL APORTES ICBF]] -> 23245366 | AM26: =VLOOKUP(Tabla4[[#This Row],[SERVICIO 2025]],$J$2:$V$14,5,0)*Tabla4[[#This Row],[TOTAL COBERTURA]] -> 701160 | AN26: =VLOOKUP(Tabla4[[#This Row],[SERVICIO 2025]],$J$2:$V$14,6,0)*Tabla4[[#This Row],[TOTAL COBERTURA]] -> 567615 | AO26: =VLOOKUP(Tabla4[[#This Row],[SERVICIO 2025]],$J$2:$V$14,8,0)*Tabla4[[#This Row],[TOTAL COBERTURA]] -> 0 | AP26: =VLOOKUP(Tabla4[[#This Row],[SERVICIO 2025]],$J$2:$V$14,3,0)*Tabla4[[#This Row],[TOTAL COBERTURA]]*8 -> 21520800 | AR26: =Tabla4[[#This Row],[VALOR FASE PREPARATORIA DE ALISTAMIENTO]]+Tabla4[[#This Row],[VALOR FASE PREPARATORIA DE CIERRE]]+Tabla4[[#This Row],[DOTACIÓN ÚNICA]]+Tabla4[[#This Row],[VALOR ATENCIÓN]]+Tabla4[[#This Row],[VALOR RACION PREPARADA]] -> 22789575 | AS26: =+IF(Tabla4[[#This Row],[AGRUPACIONES]]=1,SUMIFS(Tabla4[VALOR TOTAL],Tabla4[ZONA DEFINITIVO],Tabla4[[#This Row],[ZONA DEFINITIVO]])," ") | AT26: =(VLOOKUP(Tabla4[[#This Row],[SERVICIO 2025]],$J$2:$V$14,3,0)*Tabla4[[#This Row],[TOTAL COBERTURA]])+Tabla4[[#This Row],[VALOR FASE PREPARATORIA DE ALISTAMIENTO]]+Tabla4[[#This Row],[DOTACIÓN ÚNICA]] -> 3391260 | AU26: =(VLOOKUP(Tabla4[[#This Row],[SERVICIO 2025]],$J$2:$V$14,3,0)*Tabla4[[#This Row],[TOTAL COBERTURA]]) -> 2690100 | AV26: =(VLOOKUP(Tabla4[[#This Row],[SERVICIO 2025]],$J$2:$V$14,3,0)*Tabla4[[#This Row],[TOTAL COBERTURA]]) -> 2690100 | AW26: =(VLOOKUP(Tabla4[[#This Row],[SERVICIO 2025]],$J$2:$V$14,3,0)*Tabla4[[#This Row],[TOTAL COBERTURA]]) -> 2690100 | AX26: =(VLOOKUP(Tabla4[[#This Row],[SERVICIO 2025]],$J$2:$V$14,3,0)*Tabla4[[#This Row],[TOTAL COBERTURA]]) -> 2690100 | AY26: =(VLOOKUP(Tabla4[[#This Row],[SERVICIO 2025]],$J$2:$V$14,3,0)*Tabla4[[#This Row],[TOTAL COBERTURA]]) -> 2690100 | AZ26: =(VLOOKUP(Tabla4[[#This Row],[SERVICIO 2025]],$J$2:$V$14,3,0)*Tabla4[[#This Row],[TOTAL COBERTURA]]) -> 2690100 | BA26: =(VLOOKUP(Tabla4[[#This Row],[SERVICIO 2025]],$J$2:$V$14,3,0)*Tabla4[[#This Row],[TOTAL COBERTURA]])+Tabla4[[#This Row],[VALOR FASE PREPARATORIA DE CIERRE]] -> 3257715 | BB26: =SUM(Tabla4[[#This Row],[DESEMBOLSO 1]:[DESEMBOLSO 8]]) -> 22789575 | BD26: CONTRATACIÓN ALIMENTOS - DPI | BE26: =EXACT(Tabla4[[#This Row],[VALOR ATENCIÓN (8 MESES)]],Tabla4[[#This Row],[VALOR TOTAL]]) -> TRUE | BF26: =Tabla4[[#This Row],[VALOR ATENCIÓN (8 MESES)]]-Tabla4[[#This Row],[VALOR TOTAL]] -> 0 | BG26: =EXACT(Tabla4[[#This Row],[TOTAL DESEMBOLSOS]],Tabla4[[#This Row],[VALOR ATENCIÓN (8 MESES)]]) -> TRUE | BH26: =Tabla4[[#This Row],[TOTAL DESEMBOLSOS]]-Tabla4[[#This Row],[VALOR ATENCIÓN (8 MESES)]] -> 0 | BI26: RADICADAS
A27: 1887 | B27: 05005422025 | C27: LOTE 2 | D27: CZ ABURRA NORTE | E27: COPACABANA | F27: EDUCACIÓN INICIAL EN EL HOGAR A SIN RACION - FAMILIAR Y COMUNITARIA | G27: PRESTAR LOS SERVICIOS DE EDUCACIÓN INICIAL EN EL MARCO DE LA ATENCIÓN INTEGRAL A LA PRIMERA INFANCIA DE CONFORMIDAD CON LOS MANUALES TÉCNICOS, GUÍAS OPERATIVAS PARA LA ATENCIÓN A LA PRIMERA INFANCIA Y LOS LINEAMIENTOS ESTABLECIDOS POR EL ICBF, EN ARMONÍA CON LA POLÍTICA DE ESTADO PARA EL DESARROLLO INTEGRAL DE LA PRIMERA INFANCIA DE “CERO A SIEMPRE | H27: VEREDA EL NORAL | I27: 52121148719 | J27: TIENDA LA SUBIDITA EL NORAL | K27: 1 | L27: 20 | N27: 1887 | O27: ARTÍCULO 34 CONTRATACIÓN CON EL REGISTRO ÚNICO DE OFERENTES | R27: C-4602-1500-9-704020-4602020-02-161 | S27: 10 | T27: 900194362 | U27: CORPORACION ARCA | V27: =VLOOKUP(Tabla4[[#This Row],[ZONA DEFINITIVO]],Hoja1!$A$1:$D$121,3,0) -> 228985 | W27: =VLOOKUP(Tabla4[[#This Row],[ZONA DEFINITIVO]],Hoja1!$A$1:$D$121,2,0) -> 15146 | X27: =VLOOKUP(Tabla4[[#This Row],[ZONA DEFINITIVO]],Hoja1!$A$1:$D$121,4,0) -> 90725 | Y27: =+IF(Tabla4[[#This Row],[AGRUPACIONES]]=1,SUMIFS(Tabla4[UDS],Tabla4[ZONA DEFINITIVO],Tabla4[[#This Row],[ZONA DEFINITIVO]])," ") | Z27: =+IF(Tabla4[[#This Row],[AGRUPACIONES]]=1,SUMIFS(Tabla4[TOTAL COBERTURA],Tabla4[ZONA DEFINITIVO],Tabla4[[#This Row],[ZONA DEFINITIVO]])," ") | AB27: 30386100 | AC27: 0.02 | AD27: =AB27*AC27 -> 607722 | AF27: =COUNTIF($A$20:A27,A27) -> 8 | AG27: 30386100 | AH27: =Tabla4[[#This Row],[VALOR CONTRAPARTIDA]]+Tabla4[[#This Row],[TOTAL APORTES ICBF]] -> 30993822 | AM27: =VLOOKUP(Tabla4[[#This Row],[SERVICIO 2025]],$J$2:$V$14,5,0)*Tabla4[[#This Row],[TOTAL COBERTURA]] -> 934880 | AN27: =VLOOKUP(Tabla4[[#This Row],[SERVICIO 2025]],$J$2:$V$14,6,0)*Tabla4[[#This Row],[TOTAL COBERTURA]] -> 756820 | AO27: =VLOOKUP(Tabla4[[#This Row],[SERVICIO 2025]],$J$2:$V$14,8,0)*Tabla4[[#This Row],[TOTAL COBERTURA]] -> 0 | AP27: =VLOOKUP(Tabla4[[#This Row],[SERVICIO 2025]],$J$2:$V$14,3,0)*Tabla4[[#This Row],[TOTAL COBERTURA]]*8 -> 28694400 | AR27: =Tabla4[[#This Row],[VALOR FASE PREPARATORIA DE ALISTAMIENTO]]+Tabla4[[#This Row],[VALOR FASE PREPARATORIA DE CIERRE]]+Tabla4[[#This Row],[DOTACIÓN ÚNICA]]+Tabla4[[#This Row],[VALOR ATENCIÓN]]+Tabla4[[#This Row],[VALOR RACION PREPARADA]] -> 30386100 | AS27: =+IF(Tabla4[[#This Row],[AGRUPACIONES]]=1,SUMIFS(Tabla4[VALOR TOTAL],Tabla4[ZONA DEFINITIVO],Tabla4[[#This Row],[ZONA DEFINITIVO]])," ") | AT27: =(VLOOKUP(Tabla4[[#This Row],[SERVICIO 2025]],$J$2:$V$14,3,0)*Tabla4[[#This Row],[TOTAL COBERTURA]])+Tabla4[[#This Row],[VALOR FASE PREPARATORIA DE ALISTAMIENTO]]+Tabla4[[#This Row],[DOTACIÓN ÚNICA]] -> 4521680 | AU27: =(VLOOKUP(Tabla4[[#This Row],[SERVICIO 2025]],$J$2:$V$14,3,0)*Tabla4[[#This Row],[TOTAL COBERTURA]]) -> 3586800 | AV27: =(VLOOKUP(Tabla4[[#This Row],[SERVICIO 2025]],$J$2:$V$14,3,0)*Tabla4[[#This Row],[TOTAL COBERTURA]]) -> 3586800 | AW27: =(VLOOKUP(Tabla4[[#This Row],[SERVICIO 2025]],$J$2:$V$14,3,0)*Tabla4[[#This Row],[TOTAL COBERTURA]]) -> 3586800 | AX27: =(VLOOKUP(Tabla4[[#This Row],[SERVICIO 2025]],$J$2:$V$14,3,0)*Tabla4[[#This Row],[TOTAL COBERTURA]]) -> 3586800 | AY27: =(VLOOKUP(Tabla4[[#This Row],[SERVICIO 2025]],$J$2:$V$14,3,0)*Tabla4[[#This Row],[TOTAL COBERTURA]]) -> 3586800 | AZ27: =(VLOOKUP(Tabla4[[#This Row],[SERVICIO 2025]],$J$2:$V$14,3,0)*Tabla4[[#This Row],[TOTAL COBERTURA]]) -> 3586800 | BA27: =(VLOOKUP(Tabla4[[#This Row],[SERVICIO 2025]],$J$2:$V$14,3,0)*Tabla4[[#This Row],[TOTAL COBERTURA]])+Tabla4[[#This Row],[VALOR FASE PREPARATORIA DE CIERRE]] -> 4343620 | BB27: =SUM(Tabla4[[#This Row],[DESEMBOLSO 1]:[DESEMBOLSO 8]]) -> 30386100 | BD27: CONTRATACIÓN ALIMENTOS - DPI | BE27: =EXACT(Tabla4[[#This Row],[VALOR ATENCIÓN (8 MESES)]],Tabla4[[#This Row],[VALOR TOTAL]]) -> TRUE | BF27: =Tabla4[[#This Row],[VALOR ATENCIÓN (8 MESES)]]-Tabla4[[#This Row],[VALOR TOTAL]] -> 0 | BG27: =EXACT(Tabla4[[#This Row],[TOTAL DESEMBOLSOS]],Tabla4[[#This Row],[VALOR ATENCIÓN (8 MESES)]]) -> TRUE | BH27: =Tabla4[[#This Row],[TOTAL DESEMBOLSOS]]-Tabla4[[#This Row],[VALOR ATENCIÓN (8 MESES)]] -> 0 | BI27: RADICADAS
A28: 1887 | B28: 05005422025 | C28: LOTE 2 | D28: CZ ABURRA NORTE | E28: COPACABANA | F28: EDUCACIÓN INICIAL EN EL HOGAR A SIN RACION - FAMILIAR Y COMUNITARIA | G28: PRESTAR LOS SERVICIOS DE EDUCACIÓN INICIAL EN EL MARCO DE LA ATENCIÓN INTEGRAL A LA PRIMERA INFANCIA DE CONFORMIDAD CON LOS MANUALES TÉCNICOS, GUÍAS OPERATIVAS PARA LA ATENCIÓN A LA PRIMERA INFANCIA Y LOS LINEAMIENTOS ESTABLECIDOS POR EL ICBF, EN ARMONÍA CON LA POLÍTICA DE ESTADO PARA EL DESARROLLO INTEGRAL DE LA PRIMERA INFANCIA DE “CERO A SIEMPRE | H28: CL 49 N 26 130 | I28: 52121148724 | J28: JAC CASA AMBIENTAL COMUNITARIA Y SOCIAL | K28: 1 | L28: 16 | N28: 1887 | O28: ARTÍCULO 34 CONTRATACIÓN CON EL REGISTRO ÚNICO DE OFERENTES | R28: C-4602-1500-9-704020-4602020-02-161 | S28: 10 | T28: 900194362 | U28: CORPORACION ARCA | V28: =VLOOKUP(Tabla4[[#This Row],[ZONA DEFINITIVO]],Hoja1!$A$1:$D$121,3,0) -> 228985 | W28: =VLOOKUP(Tabla4[[#This Row],[ZONA DEFINITIVO]],Hoja1!$A$1:$D$121,2,0) -> 15146 | X28: =VLOOKUP(Tabla4[[#This Row],[ZONA DEFINITIVO]],Hoja1!$A$1:$D$121,4,0) -> 90725 | Y28: =+IF(Tabla4[[#This Row],[AGRUPACIONES]]=1,SUMIFS(Tabla4[UDS],Tabla4[ZONA DEFINITIVO],Tabla4[[#This Row],[ZONA DEFINITIVO]])," ") | Z28: =+IF(Tabla4[[#This Row],[AGRUPACIONES]]=1,SUMIFS(Tabla4[TOTAL COBERTURA],Tabla4[ZONA DEFINITIVO],Tabla4[[#This Row],[ZONA DEFINITIVO]])," ") | AB28: 24308880 | AC28: 0.02 | AD28: =AB28*AC28 -> 486177.6 | AF28: =COUNTIF($A$20:A28,A28) -> 9 | AG28: 24308880 | AH28: =Tabla4[[#This Row],[VALOR CONTRAPARTIDA]]+Tabla4[[#This Row],[TOTAL APORTES ICBF]] -> 24795058 | AM28: =VLOOKUP(Tabla4[[#This Row],[SERVICIO 2025]],$J$2:$V$14,5,0)*Tabla4[[#This Row],[TOTAL COBERTURA]] -> 747904 | AN28: =VLOOKUP(Tabla4[[#This Row],[SERVICIO 2025]],$J$2:$V$14,6,0)*Tabla4[[#This Row],[TOTAL COBERTURA]] -> 605456 | AO28: =VLOOKUP(Tabla4[[#This Row],[SERVICIO 2025]],$J$2:$V$14,8,0)*Tabla4[[#This Row],[TOTAL COBERTURA]] -> 0 | AP28: =VLOOKUP(Tabla4[[#This Row],[SERVICIO 2025]],$J$2:$V$14,3,0)*Tabla4[[#This Row],[TOTAL COBERTURA]]*8 -> 22955520 | AR28: =Tabla4[[#This Row],[VALOR FASE PREPARATORIA DE ALISTAMIENTO]]+Tabla4[[#This Row],[VALOR FASE PREPARATORIA DE CIERRE]]+Tabla4[[#This Row],[DOTACIÓN ÚNICA]]+Tabla4[[#This Row],[VALOR ATENCIÓN]]+Tabla4[[#This Row],[VALOR RACION PREPARADA]] -> 24308880 | AS28: =+IF(Tabla4[[#This Row],[AGRUPACIONES]]=1,SUMIFS(Tabla4[VALOR TOTAL],Tabla4[ZONA DEFINITIVO],Tabla4[[#This Row],[ZONA DEFINITIVO]])," ") | AT28: =(VLOOKUP(Tabla4[[#This Row],[SERVICIO 2025]],$J$2:$V$14,3,0)*Tabla4[[#This Row],[TOTAL COBERTURA]])+Tabla4[[#This Row],[VALOR FASE PREPARATORIA DE ALISTAMIENTO]]+Tabla4[[#This Row],[DOTACIÓN ÚNICA]] -> 3617344 | AU28: =(VLOOKUP(Tabla4[[#This Row],[SERVICIO 2025]],$J$2:$V$14,3,0)*Tabla4[[#This Row],[TOTAL COBERTURA]]) -> 2869440 | AV28: =(VLOOKUP(Tabla4[[#This Row],[SERVICIO 2025]],$J$2:$V$14,3,0)*Tabla4[[#This Row],[TOTAL COBERTURA]]) -> 2869440 | AW28: =(VLOOKUP(Tabla4[[#This Row],[SERVICIO 2025]],$J$2:$V$14,3,0)*Tabla4[[#This Row],[TOTAL COBERTURA]]) -> 2869440 | AX28: =(VLOOKUP(Tabla4[[#This Row],[SERVICIO 2025]],$J$2:$V$14,3,0)*Tabla4[[#This Row],[TOTAL COBERTURA]]) -> 2869440 | AY28: =(VLOOKUP(Tabla4[[#This Row],[SERVICIO 2025]],$J$2:$V$14,3,0)*Tabla4[[#This Row],[TOTAL COBERTURA]]) -> 2869440 | AZ28: =(VLOOKUP(Tabla4[[#This Row],[SERVICIO 2025]],$J$2:$V$14,3,0)*Tabla4[[#This Row],[TOTAL COBERTURA]]) -> 2869440 | BA28: =(VLOOKUP(Tabla4[[#This Row],[SERVICIO 2025]],$J$2:$V$14,3,0)*Tabla4[[#This Row],[TOTAL COBERTURA]])+Tabla4[[#This Row],[VALOR FASE PREPARATORIA DE CIERRE]] -> 3474896 | BB28: =SUM(Tabla4[[#This Row],[DESEMBOLSO 1]:[DESEMBOLSO 8]]) -> 24308880 | BD28: CONTRATACIÓN ALIMENTOS - DPI | BE28: =EXACT(Tabla4[[#This Row],[VALOR ATENCIÓN (8 MESES)]],Tabla4[[#This Row],[VALOR TOTAL]]) -> TRUE | BF28: =Tabla4[[#This Row],[VALOR ATENCIÓN (8 MESES)]]-Tabla4[[#This Row],[VALOR TOTAL]] -> 0 | BG28: =EXACT(Tabla4[[#This Row],[TOTAL DESEMBOLSOS]],Tabla4[[#This Row],[VALOR ATENCIÓN (8 MESES)]]) -> TRUE | BH28: =Tabla4[[#This Row],[TOTAL DESEMBOLSOS]]-Tabla4[[#This Row],[VALOR ATENCIÓN (8 MESES)]] -> 0 | BI28: RADICADAS
A29: 1887 | B29: 05005422025 | C29: LOTE 2 | D29: CZ ABURRA NORTE | E29: COPACABANA | F29: EDUCACIÓN INICIAL EN EL HOGAR A SIN RACION - FAMILIAR Y COMUNITARIA | G29: PRESTAR LOS SERVICIOS DE EDUCACIÓN INICIAL EN EL MARCO DE LA ATENCIÓN INTEGRAL A LA PRIMERA INFANCIA DE CONFORMIDAD CON LOS MANUALES TÉCNICOS, GUÍAS OPERATIVAS PARA LA ATENCIÓN A LA PRIMERA INFANCIA Y LOS LINEAMIENTOS ESTABLECIDOS POR EL ICBF, EN ARMONÍA CON LA POLÍTICA DE ESTADO PARA EL DESARROLLO INTEGRAL DE LA PRIMERA INFANCIA DE “CERO A SIEMPRE | H29: KR 57 47 26 HORIZONTES | I29: 52121152081 | J29: JAC HORIZONTES | K29: 1 | L29: 113 | N29: 1887 | O29: ARTÍCULO 34 CONTRATACIÓN CON EL REGISTRO ÚNICO DE OFERENTES | R29: C-4602-1500-9-704020-4602020-02-161 | S29: 10 | T29: 900194362 | U29: CORPORACION ARCA | V29: =VLOOKUP(Tabla4[[#This Row],[ZONA DEFINITIVO]],Hoja1!$A$1:$D$121,3,0) -> 228985 | W29: =VLOOKUP(Tabla4[[#This Row],[ZONA DEFINITIVO]],Hoja1!$A$1:$D$121,2,0) -> 15146 | X29: =VLOOKUP(Tabla4[[#This Row],[ZONA DEFINITIVO]],Hoja1!$A$1:$D$121,4,0) -> 90725 | Y29: =+IF(Tabla4[[#This Row],[AGRUPACIONES]]=1,SUMIFS(Tabla4[UDS],Tabla4[ZONA DEFINITIVO],Tabla4[[#This Row],[ZONA DEFINITIVO]])," ") | Z29: =+IF(Tabla4[[#This Row],[AGRUPACIONES]]=1,SUMIFS(Tabla4[TOTAL COBERTURA],Tabla4[ZONA DEFINITIVO],Tabla4[[#This Row],[ZONA DEFINITIVO]])," ") | AB29: 171681465 | AC29: 0.02 | AD29: =AB29*AC29 -> 3433629.3 | AF29: =COUNTIF($A$20:A29,A29) -> 10 | AG29: 171681465 | AH29: =Tabla4[[#This Row],[VALOR CONTRAPARTIDA]]+Tabla4[[#This Row],[TOTAL APORTES ICBF]] -> 1.7511509e+08 | AM29: =VLOOKUP(Tabla4[[#This Row],[SERVICIO 2025]],$J$2:$V$14,5,0)*Tabla4[[#This Row],[TOTAL COBERTURA]] -> 5282072 | AN29: =VLOOKUP(Tabla4[[#This Row],[SERVICIO 2025]],$J$2:$V$14,6,0)*Tabla4[[#This Row],[TOTAL COBERTURA]] -> 4276033 | AO29: =VLOOKUP(Tabla4[[#This Row],[SERVICIO 2025]],$J$2:$V$14,8,0)*Tabla4[[#This Row],[TOTAL COBERTURA]] -> 0 | AP29: =VLOOKUP(Tabla4[[#This Row],[SERVICIO 2025]],$J$2:$V$14,3,0)*Tabla4[[#This Row],[TOTAL COBERTURA]]*8 -> 162123360 | AR29: =Tabla4[[#This Row],[VALOR FASE PREPARATORIA DE ALISTAMIENTO]]+Tabla4[[#This Row],[VALOR FASE PREPARATORIA DE CIERRE]]+Tabla4[[#This Row],[DOTACIÓN ÚNICA]]+Tabla4[[#This Row],[VALOR ATENCIÓN]]+Tabla4[[#This Row],[VALOR RACION PREPARADA]] -> 171681465 | AS29: =+IF(Tabla4[[#This Row],[AGRUPACIONES]]=1,SUMIFS(Tabla4[VALOR TOTAL],Tabla4[ZONA DEFINITIVO],Tabla4[[#This Row],[ZONA DEFINITIVO]])," ") | AT29: =(VLOOKUP(Tabla4[[#This Row],[SERVICIO 2025]],$J$2:$V$14,3,0)*Tabla4[[#This Row],[TOTAL COBERTURA]])+Tabla4[[#This Row],[VALOR FASE PREPARATORIA DE ALISTAMIENTO]]+Tabla4[[#This Row],[DOTACIÓN ÚNICA]] -> 25547492 | AU29: =(VLOOKUP(Tabla4[[#This Row],[SERVICIO 2025]],$J$2:$V$14,3,0)*Tabla4[[#This Row],[TOTAL COBERTURA]]) -> 20265420 | AV29: =(VLOOKUP(Tabla4[[#This Row],[SERVICIO 2025]],$J$2:$V$14,3,0)*Tabla4[[#This Row],[TOTAL COBERTURA]]) -> 20265420 | AW29: =(VLOOKUP(Tabla4[[#This Row],[SERVICIO 2025]],$J$2:$V$14,3,0)*Tabla4[[#This Row],[TOTAL COBERTURA]]) -> 20265420 | AX29: =(VLOOKUP(Tabla4[[#This Row],[SERVICIO 2025]],$J$2:$V$14,3,0)*Tabla4[[#This Row],[TOTAL COBERTURA]]) -> 20265420 | AY29: =(VLOOKUP(Tabla4[[#This Row],[SERVICIO 2025]],$J$2:$V$14,3,0)*Tabla4[[#This Row],[TOTAL COBERTURA]]) -> 20265420 | AZ29: =(VLOOKUP(Tabla4[[#This Row],[SERVICIO 2025]],$J$2:$V$14,3,0)*Tabla4[[#This Row],[TOTAL COBERTURA]]) -> 20265420 | BA29: =(VLOOKUP(Tabla4[[#This Row],[SERVICIO 2025]],$J$2:$V$14,3,0)*Tabla4[[#This Row],[TOTAL COBERTURA]])+Tabla4[[#This Row],[VALOR FASE PREPARATORIA DE CIERRE]] -> 24541453 | BB29: =SUM(Tabla4[[#This Row],[DESEMBOLSO 1]:[DESEMBOLSO 8]]) -> 171681465 | BD29: CONTRATACIÓN ALIMENTOS - DPI | BE29: =EXACT(Tabla4[[#This Row],[VALOR ATENCIÓN (8 MESES)]],Tabla4[[#This Row],[VALOR TOTAL]]) -> TRUE | BF29: =Tabla4[[#This Row],[VALOR ATENCIÓN (8 MESES)]]-Tabla4[[#This Row],[VALOR TOTAL]] -> 0 | BG29: =EXACT(Tabla4[[#This Row],[TOTAL DESEMBOLSOS]],Tabla4[[#This Row],[VALOR ATENCIÓN (8 MESES)]]) -> TRUE | BH29: =Tabla4[[#This Row],[TOTAL DESEMBOLSOS]]-Tabla4[[#This Row],[VALOR ATENCIÓN (8 MESES)]] -> 0 | BI29: RADICADAS
A30: 1887 | B30: 05005422025 | C30: LOTE 2 | D30: CZ ABURRA NORTE | E30: COPACABANA | F30: EDUCACIÓN INICIAL EN EL HOGAR A SIN RACION - FAMILIAR Y COMUNITARIA | G30: PRESTAR LOS SERVICIOS DE EDUCACIÓN INICIAL EN EL MARCO DE LA ATENCIÓN INTEGRAL A LA PRIMERA INFANCIA DE CONFORMIDAD CON LOS MANUALES TÉCNICOS, GUÍAS OPERATIVAS PARA LA ATENCIÓN A LA PRIMERA INFANCIA Y LOS LINEAMIENTOS ESTABLECIDOS POR EL ICBF, EN ARMONÍA CON LA POLÍTICA DE ESTADO PARA EL DESARROLLO INTEGRAL DE LA PRIMERA INFANCIA DE “CERO A SIEMPRE | H30: A MANO DERECHA DE LA CHOZCA | I30: 52121152146 | J30: JAC ZARZAL LA LUZ | K30: 1 | L30: 14 | N30: 1887 | O30: ARTÍCULO 34 CONTRATACIÓN CON EL REGISTRO ÚNICO DE OFERENTES | R30: C-4602-1500-9-704020-4602020-02-161 | S30: 10 | T30: 900194362 | U30: CORPORACION ARCA | V30: =VLOOKUP(Tabla4[[#This Row],[ZONA DEFINITIVO]],Hoja1!$A$1:$D$121,3,0) -> 228985 | W30: =VLOOKUP(Tabla4[[#This Row],[ZONA DEFINITIVO]],Hoja1!$A$1:$D$121,2,0) -> 15146 | X30: =VLOOKUP(Tabla4[[#This Row],[ZONA DEFINITIVO]],Hoja1!$A$1:$D$121,4,0) -> 90725 | Y30: =+IF(Tabla4[[#This Row],[AGRUPACIONES]]=1,SUMIFS(Tabla4[UDS],Tabla4[ZONA DEFINITIVO],Tabla4[[#This Row],[ZONA DEFINITIVO]])," ") | Z30: =+IF(Tabla4[[#This Row],[AGRUPACIONES]]=1,SUMIFS(Tabla4[TOTAL COBERTURA],Tabla4[ZONA DEFINITIVO],Tabla4[[#This Row],[ZONA DEFINITIVO]])," ") | AB30: 21270270 | AC30: 0.02 | AD30: =AB30*AC30 -> 425405.4 | AF30: =COUNTIF($A$20:A30,A30) -> 11 | AG30: 21270270 | AH30: =Tabla4[[#This Row],[VALOR CONTRAPARTIDA]]+Tabla4[[#This Row],[TOTAL APORTES ICBF]] -> 21695675 | AM30: =VLOOKUP(Tabla4[[#This Row],[SERVICIO 2025]],$J$2:$V$14,5,0)*Tabla4[[#This Row],[TOTAL COBERTURA]] -> 654416 | AN30: =VLOOKUP(Tabla4[[#This Row],[SERVICIO 2025]],$J$2:$V$14,6,0)*Tabla4[[#This Row],[TOTAL COBERTURA]] -> 529774 | AO30: =VLOOKUP(Tabla4[[#This Row],[SERVICIO 2025]],$J$2:$V$14,8,0)*Tabla4[[#This Row],[TOTAL COBERTURA]] -> 0 | AP30: =VLOOKUP(Tabla4[[#This Row],[SERVICIO 2025]],$J$2:$V$14,3,0)*Tabla4[[#This Row],[TOTAL COBERTURA]]*8 -> 20086080 | AR30: =Tabla4[[#This Row],[VALOR FASE PREPARATORIA DE ALISTAMIENTO]]+Tabla4[[#This Row],[VALOR FASE PREPARATORIA DE CIERRE]]+Tabla4[[#This Row],[DOTACIÓN ÚNICA]]+Tabla4[[#This Row],[VALOR ATENCIÓN]]+Tabla4[[#This Row],[VALOR RACION PREPARADA]] -> 21270270 | AS30: =+IF(Tabla4[[#This Row],[AGRUPACIONES]]=1,SUMIFS(Tabla4[VALOR TOTAL],Tabla4[ZONA DEFINITIVO],Tabla4[[#This Row],[ZONA DEFINITIVO]])," ") | AT30: =(VLOOKUP(Tabla4[[#This Row],[SERVICIO 2025]],$J$2:$V$14,3,0)*Tabla4[[#This Row],[TOTAL COBERTURA]])+Tabla4[[#This Row],[VALOR FASE PREPARATORIA DE ALISTAMIENTO]]+Tabla4[[#This Row],[DOTACIÓN ÚNICA]] -> 3165176 | AU30: =(VLOOKUP(Tabla4[[#This Row],[SERVICIO 2025]],$J$2:$V$14,3,0)*Tabla4[[#This Row],[TOTAL COBERTURA]]) -> 2510760 | AV30: =(VLOOKUP(Tabla4[[#This Row],[SERVICIO 2025]],$J$2:$V$14,3,0)*Tabla4[[#This Row],[TOTAL COBERTURA]]) -> 2510760 | AW30: =(VLOOKUP(Tabla4[[#This Row],[SERVICIO 2025]],$J$2:$V$14,3,0)*Tabla4[[#This Row],[TOTAL COBERTURA]]) -> 2510760 | AX30: =(VLOOKUP(Tabla4[[#This Row],[SERVICIO 2025]],$J$2:$V$14,3,0)*Tabla4[[#This Row],[TOTAL COBERTURA]]) -> 2510760 | AY30: =(VLOOKUP(Tabla4[[#This Row],[SERVICIO 2025]],$J$2:$V$14,3,0)*Tabla4[[#This Row],[TOTAL COBERTURA]]) -> 2510760 | AZ30: =(VLOOKUP(Tabla4[[#This Row],[SERVICIO 2025]],$J$2:$V$14,3,0)*Tabla4[[#This Row],[TOTAL COBERTURA]]) -> 2510760 | BA30: =(VLOOKUP(Tabla4[[#This Row],[SERVICIO 2025]],$J$2:$V$14,3,0)*Tabla4[[#This Row],[TOTAL COBERTURA]])+Tabla4[[#This Row],[VALOR FASE PREPARATORIA DE CIERRE]] -> 3040534 | BB30: =SUM(Tabla4[[#This Row],[DESEMBOLSO 1]:[DESEMBOLSO 8]]) -> 21270270 | BD30: CONTRATACIÓN ALIMENTOS - DPI | BE30: =EXACT(Tabla4[[#This Row],[VALOR ATENCIÓN (8 MESES)]],Tabla4[[#This Row],[VALOR TOTAL]]) -> TRUE | BF30: =Tabla4[[#This Row],[VALOR ATENCIÓN (8 MESES)]]-Tabla4[[#This Row],[VALOR TOTAL]] -> 0 | BG30: =EXACT(Tabla4[[#This Row],[TOTAL DESEMBOLSOS]],Tabla4[[#This Row],[VALOR ATENCIÓN (8 MESES)]]) -> TRUE | BH30: =Tabla4[[#This Row],[TOTAL DESEMBOLSOS]]-Tabla4[[#This Row],[VALOR ATENCIÓN (8 MESES)]] -> 0 | BI30: RADICADAS
A31: 1887 | B31: 05005422025 | C31: LOTE 2 | D31: CZ ABURRA NORTE | E31: COPACABANA | F31: EDUCACIÓN INICIAL EN EL HOGAR A SIN RACION - FAMILIAR Y COMUNITARIA | G31: PRESTAR LOS SERVICIOS DE EDUCACIÓN INICIAL EN EL MARCO DE LA ATENCIÓN INTEGRAL A LA PRIMERA INFANCIA DE CONFORMIDAD CON LOS MANUALES TÉCNICOS, GUÍAS OPERATIVAS PARA LA ATENCIÓN A LA PRIMERA INFANCIA Y LOS LINEAMIENTOS ESTABLECIDOS POR EL ICBF, EN ARMONÍA CON LA POLÍTICA DE ESTADO PARA EL DESARROLLO INTEGRAL DE LA PRIMERA INFANCIA DE “CERO A SIEMPRE | H31: VEREDA LA VETA | I31: 52121152813 | J31: CAPILLA LA VETA | K31: 1 | L31: 10 | N31: 1887 | O31: ARTÍCULO 34 CONTRATACIÓN CON EL REGISTRO ÚNICO DE OFERENTES | R31: C-4602-1500-9-704020-4602020-02-161 | S31: 10 | T31: 900194362 | U31: CORPORACION ARCA | V31: =VLOOKUP(Tabla4[[#This Row],[ZONA DEFINITIVO]],Hoja1!$A$1:$D$121,3,0) -> 228985 | W31: =VLOOKUP(Tabla4[[#This Row],[ZONA DEFINITIVO]],Hoja1!$A$1:$D$121,2,0) -> 15146 | X31: =VLOOKUP(Tabla4[[#This Row],[ZONA DEFINITIVO]],Hoja1!$A$1:$D$121,4,0) -> 90725 | Y31: =+IF(Tabla4[[#This Row],[AGRUPACIONES]]=1,SUMIFS(Tabla4[UDS],Tabla4[ZONA DEFINITIVO],Tabla4[[#This Row],[ZONA DEFINITIVO]])," ") | Z31: =+IF(Tabla4[[#This Row],[AGRUPACIONES]]=1,SUMIFS(Tabla4[TOTAL COBERTURA],Tabla4[ZONA DEFINITIVO],Tabla4[[#This Row],[ZONA DEFINITIVO]])," ") | AB31: 15193050 | AC31: 0.02 | AD31: =AB31*AC31 -> 303861 | AF31: =COUNTIF($A$20:A31,A31) -> 12 | AG31: 15193050 | AH31: =Tabla4[[#This Row],[VALOR CONTRAPARTIDA]]+Tabla4[[#This Row],[TOTAL APORTES ICBF]] -> 15496911 | AM31: =VLOOKUP(Tabla4[[#This Row],[SERVICIO 2025]],$J$2:$V$14,5,0)*Tabla4[[#This Row],[TOTAL COBERTURA]] -> 467440 | AN31: =VLOOKUP(Tabla4[[#This Row],[SERVICIO 2025]],$J$2:$V$14,6,0)*Tabla4[[#This Row],[TOTAL COBERTURA]] -> 378410 | AO31: =VLOOKUP(Tabla4[[#This Row],[SERVICIO 2025]],$J$2:$V$14,8,0)*Tabla4[[#This Row],[TOTAL COBERTURA]] -> 0 | AP31: =VLOOKUP(Tabla4[[#This Row],[SERVICIO 2025]],$J$2:$V$14,3,0)*Tabla4[[#This Row],[TOTAL COBERTURA]]*8 -> 14347200 | AR31: =Tabla4[[#This Row],[VALOR FASE PREPARATORIA DE ALISTAMIENTO]]+Tabla4[[#This Row],[VALOR FASE PREPARATORIA DE CIERRE]]+Tabla4[[#This Row],[DOTACIÓN ÚNICA]]+Tabla4[[#This Row],[VALOR ATENCIÓN]]+Tabla4[[#This Row],[VALOR RACION PREPARADA]] -> 15193050 | AS31: =+IF(Tabla4[[#This Row],[AGRUPACIONES]]=1,SUMIFS(Tabla4[VALOR TOTAL],Tabla4[ZONA DEFINITIVO],Tabla4[[#This Row],[ZONA DEFINITIVO]])," ") | AT31: =(VLOOKUP(Tabla4[[#This Row],[SERVICIO 2025]],$J$2:$V$14,3,0)*Tabla4[[#This Row],[TOTAL COBERTURA]])+Tabla4[[#This Row],[VALOR FASE PREPARATORIA DE ALISTAMIENTO]]+Tabla4[[#This Row],[DOTACIÓN ÚNICA]] -> 2260840 | AU31: =(VLOOKUP(Tabla4[[#This Row],[SERVICIO 2025]],$J$2:$V$14,3,0)*Tabla4[[#This Row],[TOTAL COBERTURA]]) -> 1793400 | AV31: =(VLOOKUP(Tabla4[[#This Row],[SERVICIO 2025]],$J$2:$V$14,3,0)*Tabla4[[#This Row],[TOTAL COBERTURA]]) -> 1793400 | AW31: =(VLOOKUP(Tabla4[[#This Row],[SERVICIO 2025]],$J$2:$V$14,3,0)*Tabla4[[#This Row],[TOTAL COBERTURA]]) -> 1793400 | AX31: =(VLOOKUP(Tabla4[[#This Row],[SERVICIO 2025]],$J$2:$V$14,3,0)*Tabla4[[#This Row],[TOTAL COBERTURA]]) -> 1793400 | AY31: =(VLOOKUP(Tabla4[[#This Row],[SERVICIO 2025]],$J$2:$V$14,3,0)*Tabla4[[#This Row],[TOTAL COBERTURA]]) -> 1793400 | AZ31: =(VLOOKUP(Tabla4[[#This Row],[SERVICIO 2025]],$J$2:$V$14,3,0)*Tabla4[[#This Row],[TOTAL COBERTURA]]) -> 1793400 | BA31: =(VLOOKUP(Tabla4[[#This Row],[SERVICIO 2025]],$J$2:$V$14,3,0)*Tabla4[[#This Row],[TOTAL COBERTURA]])+Tabla4[[#This Row],[VALOR FASE PREPARATORIA DE CIERRE]] -> 2171810 | BB31: =SUM(Tabla4[[#This Row],[DESEMBOLSO 1]:[DESEMBOLSO 8]]) -> 15193050 | BD31: CONTRATACIÓN ALIMENTOS - DPI | BE31: =EXACT(Tabla4[[#This Row],[VALOR ATENCIÓN (8 MESES)]],Tabla4[[#This Row],[VALOR TOTAL]]) -> TRUE | BF31: =Tabla4[[#This Row],[VALOR ATENCIÓN (8 MESES)]]-Tabla4[[#This Row],[VALOR TOTAL]] -> 0 | BG31: =EXACT(Tabla4[[#This Row],[TOTAL DESEMBOLSOS]],Tabla4[[#This Row],[VALOR ATENCIÓN (8 MESES)]]) -> TRUE | BH31: =Tabla4[[#This Row],[TOTAL DESEMBOLSOS]]-Tabla4[[#This Row],[VALOR ATENCIÓN (8 MESES)]] -> 0 | BI31: RADICADAS
A32: 1887 | B32: 05005422025 | C32: LOTE 2 | D32: CZ ABURRA NORTE | E32: COPACABANA | F32: EDUCACIÓN INICIAL EN EL HOGAR A SIN RACION - FAMILIAR Y COMUNITARIA | G32: PRESTAR LOS SERVICIOS DE EDUCACIÓN INICIAL EN EL MARCO DE LA ATENCIÓN INTEGRAL A LA PRIMERA INFANCIA DE CONFORMIDAD CON LOS MANUALES TÉCNICOS, GUÍAS OPERATIVAS PARA LA ATENCIÓN A LA PRIMERA INFANCIA Y LOS LINEAMIENTOS ESTABLECIDOS POR EL ICBF, EN ARMONÍA CON LA POLÍTICA DE ESTADO PARA EL DESARROLLO INTEGRAL DE LA PRIMERA INFANCIA DE “CERO A SIEMPRE | H32: VEREDA EL SALADO | I32: 52121155788 | J32: LAZOS DE AMOR | K32: 1 | L32: 46 | N32: 1887 | O32: ARTÍCULO 34 CONTRATACIÓN CON EL REGISTRO ÚNICO DE OFERENTES | R32: C-4602-1500-9-704020-4602020-02-161 | S32: 10 | T32: 900194362 | U32: CORPORACION ARCA | V32: =VLOOKUP(Tabla4[[#This Row],[ZONA DEFINITIVO]],Hoja1!$A$1:$D$121,3,0) -> 228985 | W32: =VLOOKUP(Tabla4[[#This Row],[ZONA DEFINITIVO]],Hoja1!$A$1:$D$121,2,0) -> 15146 | X32: =VLOOKUP(Tabla4[[#This Row],[ZONA DEFINITIVO]],Hoja1!$A$1:$D$121,4,0) -> 90725 | Y32: =+IF(Tabla4[[#This Row],[AGRUPACIONES]]=1,SUMIFS(Tabla4[UDS],Tabla4[ZONA DEFINITIVO],Tabla4[[#This Row],[ZONA DEFINITIVO]])," ") | Z32: =+IF(Tabla4[[#This Row],[AGRUPACIONES]]=1,SUMIFS(Tabla4[TOTAL COBERTURA],Tabla4[ZONA DEFINITIVO],Tabla4[[#This Row],[ZONA DEFINITIVO]])," ") | AB32: 69888030 | AC32: 0.02 | AD32: =AB32*AC32 -> 1397760.6 | AF32: =COUNTIF($A$20:A32,A32) -> 13 | AG32: 69888030 | AH32: =Tabla4[[#This Row],[VALOR CONTRAPARTIDA]]+Tabla4[[#This Row],[TOTAL APORTES ICBF]] -> 71285791 | AM32: =VLOOKUP(Tabla4[[#This Row],[SERVICIO 2025]],$J$2:$V$14,5,0)*Tabla4[[#This Row],[TOTAL COBERTURA]] -> 2150224 | AN32: =VLOOKUP(Tabla4[[#This Row],[SERVICIO 2025]],$J$2:$V$14,6,0)*Tabla4[[#This Row],[TOTAL COBERTURA]] -> 1740686 | AO32: =VLOOKUP(Tabla4[[#This Row],[SERVICIO 2025]],$J$2:$V$14,8,0)*Tabla4[[#This Row],[TOTAL COBERTURA]] -> 0 | AP32: =VLOOKUP(Tabla4[[#This Row],[SERVICIO 2025]],$J$2:$V$14,3,0)*Tabla4[[#This Row],[TOTAL COBERTURA]]*8 -> 65997120 | AR32: =Tabla4[[#This Row],[VALOR FASE PREPARATORIA DE ALISTAMIENTO]]+Tabla4[[#This Row],[VALOR FASE PREPARATORIA DE CIERRE]]+Tabla4[[#This Row],[DOTACIÓN ÚNICA]]+Tabla4[[#This Row],[VALOR ATENCIÓN]]+Tabla4[[#This Row],[VALOR RACION PREPARADA]] -> 69888030 | AS32: =+IF(Tabla4[[#This Row],[AGRUPACIONES]]=1,SUMIFS(Tabla4[VALOR TOTAL],Tabla4[ZONA DEFINITIVO],Tabla4[[#This Row],[ZONA DEFINITIVO]])," ") | AT32: =(VLOOKUP(Tabla4[[#This Row],[SERVICIO 2025]],$J$2:$V$14,3,0)*Tabla4[[#This Row],[TOTAL COBERTURA]])+Tabla4[[#This Row],[VALOR FASE PREPARATORIA DE ALISTAMIENTO]]+Tabla4[[#This Row],[DOTACIÓN ÚNICA]] -> 10399864 | AU32: =(VLOOKUP(Tabla4[[#This Row],[SERVICIO 2025]],$J$2:$V$14,3,0)*Tabla4[[#This Row],[TOTAL COBERTURA]]) -> 8249640 | AV32: =(VLOOKUP(Tabla4[[#This Row],[SERVICIO 2025]],$J$2:$V$14,3,0)*Tabla4[[#This Row],[TOTAL COBERTURA]]) -> 8249640 | AW32: =(VLOOKUP(Tabla4[[#This Row],[SERVICIO 2025]],$J$2:$V$14,3,0)*Tabla4[[#This Row],[TOTAL COBERTURA]]) -> 8249640 | AX32: =(VLOOKUP(Tabla4[[#This Row],[SERVICIO 2025]],$J$2:$V$14,3,0)*Tabla4[[#This Row],[TOTAL COBERTURA]]) -> 8249640 | AY32: =(VLOOKUP(Tabla4[[#This Row],[SERVICIO 2025]],$J$2:$V$14,3,0)*Tabla4[[#This Row],[TOTAL COBERTURA]]) -> 8249640 | AZ32: =(VLOOKUP(Tabla4[[#This Row],[SERVICIO 2025]],$J$2:$V$14,3,0)*Tabla4[[#This Row],[TOTAL COBERTURA]]) -> 8249640 | BA32: =(VLOOKUP(Tabla4[[#This Row],[SERVICIO 2025]],$J$2:$V$14,3,0)*Tabla4[[#This Row],[TOTAL COBERTURA]])+Tabla4[[#This Row],[VALOR FASE PREPARATORIA DE CIERRE]] -> 9990326 | BB32: =SUM(Tabla4[[#This Row],[DESEMBOLSO 1]:[DESEMBOLSO 8]]) -> 69888030 | BD32: CONTRATACIÓN ALIMENTOS - DPI | BE32: =EXACT(Tabla4[[#This Row],[VALOR ATENCIÓN (8 MESES)]],Tabla4[[#This Row],[VALOR TOTAL]]) -> TRUE | BF32: =Tabla4[[#This Row],[VALOR ATENCIÓN (8 MESES)]]-Tabla4[[#This Row],[VALOR TOTAL]] -> 0 | BG32: =EXACT(Tabla4[[#This Row],[TOTAL DESEMBOLSOS]],Tabla4[[#This Row],[VALOR ATENCIÓN (8 MESES)]]) -> TRUE | BH32: =Tabla4[[#This Row],[TOTAL DESEMBOLSOS]]-Tabla4[[#This Row],[VALOR ATENCIÓN (8 MESES)]] -> 0 | BI32: RADICADAS
