Workbook

Sheet RESUMEN 
B1: SECRETARIA DE SEGURIDAD Y JUSTICIA LICITACION PUBLICA No. 4161.010.32.XXX
B2: “REALIZAR MANTENIMIENTO PREVENTIVO Y CORRECTIVO PARA LAS MOTOCICLETAS QUE HACEN PARTE DEL PARQUE AUTOMOTOR DEL BATALLON DE POLICIA MILITAR No. 3, LA ESCUELA MILITAR DE AVIACION, MIGRACION COLOMBIA Y DE LA POLICÍA METROPOLITANA DE CALI QUE PRESTAN EL SERVICIO DE VIGILANCIA EN LA CIUDAD DE SANTIAGO DE CALI”
A3: PROPONENTE
A4: RESUMEN DE OFERTA ECONOMICA ANEXO 6
A5: GRUPOS DE REPUESTOS | B5: VALOR SIN PONDERACION | C5: PART | D5: VALOR CON PONDERACION
A6: I. RESUMEN VEHICULOS MECAL
A7: REPUESTOS MOTOR | B7: =MECAL!V55 -> 0 | C7: 0.4 | D7: =+B7*C7 -> 0
A8: REPUESTOS SUSPENSIÓN | B8: =MECAL!V76 -> 0 | C8: 0.18 | D8: =+B8*C8 -> 0
A9: REPUESTOS FRENOS | B9: =MECAL!V95 -> 0 | C9: 0.1 | D9: =+B9*C9 -> 0
A10: INSUMOS Y SUMINISTROS | B10: =MECAL!V126 -> 0 | C10: 0.03 | D10: =+B10*C10 -> 0
A11: LLANTAS | B11: =MECAL!V134 -> 0 | C11: 0.05 | D11: =+B11*C11 -> 0
A12: PRECIOS MANO DE OBRA | B12: =MECAL!V182 -> 0 | C12: 0.24 | D12: =+B12*C12 -> 0
A13: TOTAL | B13: =SUM(B7:B12) -> 0 | C13: 1 | D13: =SUM(D7:D12) -> 0
A14: II. RESUMEN VEHICULOS BAPOM
A15: REPUESTOS MOTOR | B15: =BAPOM!G55 -> 0 | C15: 0.4 | D15: =+B15*C15 -> 0
A16: REPUESTOS SUSPENSIÓN | B16: =BAPOM!G76 -> 0 | C16: 0.18 | D16: =+B16*C16 -> 0
A17: REPUESTOS FRENOS | B17: =BAPOM!G95 -> 0 | C17: 0.1 | D17: =+B17*C17 -> 0
A18: INSUMOS Y SUMINISTROS | B18: =BAPOM!G126 -> 0 | C18: 0.03 | D18: =+B18*C18 -> 0
A19: LLANTAS | B19: =BAPOM!G134 -> 0 | C19: 0.05 | D19: =+B19*C19 -> 0
A20: PRECIOS MANO DE OBRA | B20: =BAPOM!G182 -> 0 | C20: 0.24 | D20: =+B20*C20 -> 0
A21: TOTAL | B21: =SUM(B15:B20) -> 0 | C21: 1 | D21: =SUM(D15:D20) -> 0
A22: III. RESUMEN VEHICULOS EMAVI
A23: REPUESTOS MOTOR | B23: =+EMAVI!J55 -> 0 | C23: 0.4 | D23: =+B23*C23 -> 0
A24: REPUESTOS SUSPENSIÓN | B24: =+EMAVI!J76 -> 0 | C24: 0.18 | D24: =+B24*C24 -> 0
A25: REPUESTOS FRENOS | B25: =+EMAVI!J95 -> 0 | C25: 0.1 | D25: =+B25*C25 -> 0
A26: INSUMOS Y SUMINISTROS | B26: =+EMAVI!J126 -> 0 | C26: 0.03 | D26: =+B26*C26 -> 0
A27: LLANTAS | B27: =+EMAVI!J134 -> 0 | C27: 0.05 | D27: =+B27*C27 -> 0
A28: PRECIOS MANO DE OBRA | B28: =+EMAVI!J182 -> 0 | C28: 0.24 | D28: =+B28*C28 -> 0
A29: TOTAL | B29: =SUM(B23:B28) -> 0 | C29: 1 | D29: =SUM(D23:D28) -> 0
A30: IV. RESUMEN VEHICULOS MIGRACION
A31: REPUESTOS MOTOR | B31: =+MIGRACION!D55 -> 0 | C31: 0.4 | D31: =+B31*C31 -> 0
A32: REPUESTOS SUSPENSIÓN | B32: =+MIGRACION!D76 -> 0 | C32: 0.18 | D32: =+B32*C32 -> 0
A33: REPUESTOS FRENOS | B33: =+MIGRACION!D95 -> 0 | C33: 0.1 | D33: =+B33*C33 -> 0
A34: INSUMOS Y SUMINISTROS | B34: =+MIGRACION!D126 -> 0 | C34: 0.03 | D34: =+B34*C34 -> 0
A35: LLANTAS | B35: =+MIGRACION!D134 -> 0 | C35: 0.05 | D35: =+B35*C35 -> 0
A36: PRECIOS MANO DE OBRA | B36: =+MIGRACION!D182 -> 0 | C36: 0.24 | D36: =+B36*C36 -> 0
A37: TOTAL | B37: =SUM(B31:B36) -> 0 | C37: 1 | D37: =SUM(D31:D36) -> 0
A41: VALOR TOTAL PROPUESTA | D41: =+D13+D21+D29+D37 -> 0
A43: RAZON SOCIAL DEL PROPONENTE
A44: REPRESENTANTE LEGAL DEL PROPONENTE (nombre y firma):

Sheet MECAL
A6: MARCA | B6: HONDA | H6: SUZUKI | O6: YAMAHA
A7: MODELO | B7: C 100 | C7: CB 125 | D7: XR 150L | E7: XR 250 | F7: XR 650 | G7: XRE 300 | H7: DR200 | I7: DR 650 | J7: DR X 200 | K7: GIXXER | L7: GN 125 | M7: GS 125 | N7: GSR/GSX 150 | O7: CRIPTON 115 | P7: FZ 150 | Q7: XT 660R | R7: XTZ 125 | S7: XTZ 250 | T7: YBR 125DX | U7: YD 110
B8: 2009-2010 | C8: 2012 | D8: 2018 | E8: 2009-2013 | F8: 2010 | G8: 2018 | H8: 2004-2014 | I8: 2009-2013 | J8: 2016-2017 | K8: 2017 | L8: 2008-2011 | M8: 2012 | N8: 2013-2014 | O8: 2019 | P8: 2018 | Q8: 2013 | R8: 2009-2012 | S8: 2010-2015 | T8: 2009-2013 | U8: 2010
A9: REPUESTOS MOTOR, ALIMENTACIÓN, TRANSMISIÓN Y SISTEMA DE EMBRAGUE
A10: Juego anillos
A11: Pistón
A12: Bulón del Pistón
A13: Kit Biela | E13: N/A | G13: N/A | K13: N/A | L13: N/A | N13: N/A
A14: Obturadores
A15: Resortes de Válvulas | N15: N/A
A16: Válvula de admisión
A17: Válvula de escape
A18: Balancín admisión | E18: N/A | G18: N/A
A19: Balancín escape | E19: N/A | G19: N/A
A20: Ejes de Balancines | E20: N/A | G20: N/A
A21: Empaquetadura motor
A22: Eje de Levas
A23: Rodamientos de Eje de Levas | C23: N/A | E23: N/A | G23: N/A | H23: N/A | I23: N/A | J23: N/A | L23: N/A | M23: N/A | N23: N/A | T23: N/A
A24: Piñón Dentado, Leva | C24: N/A | E24: N/A | G24: N/A
A25: Cadena de Levas
A26: Tensor, Cadena de Levas
A27: Guía, Cadena de Leva
A28: Rodamientos Cigüeñal | C28: N/A
A29: Piñón Dentado de Sincronización | C29: N/A | E29: N/A | G29: N/A | N29: N/A | S29: N/A
A30: Cigüeñal
A31: Kit disco del clutch
A32: Kit prensa del clutch
A33: Araña del clutch
A34: Tuerca de Cierre, Embrague | M34: N/A | N34: N/A
A35: Manigueta del embrague | B35: N/A
A36: Bomba de Aceite
A37: Base aguja carburador | E37: N/A | G37: N/A | K37: N/A | Q37: N/A | S37: N/A
A38: Empaquetadura Carburador | G38: N/A | Q38: N/A | S38: N/A
A39: Pistón aguja cortina del Carburador | E39: N/A | G39: N/A | M39: N/A | N39: N/A | Q39: N/A | S39: N/A
A40: Pulverizador | G40: N/A | Q40: N/A | S40: N/A
A41: Juego de Diafragma, (carburador) | G41: N/A | Q41: N/A | S41: N/A
A42: Chicler de Mínima | G42: N/A | Q42: N/A | S42: N/A
A43: Chicler de Alta | G43: N/A | Q43: N/A | S43: N/A
A44: volante
A45: Cremallera
A46: Engranaje, Loco | S46: N/A
A47: Motor de Arranque
A48: Inducido (bobinas)
A49: Escobillas | B49: N/A | H49: N/A | I49: N/A | J49: N/A | L49: N/A | U49: N/A
A50: Resorte Escobillas | C50: N/A | H50: N/A | I50: N/A | J50: N/A | K50: N/A | M50: N/A | N50: N/A | Q50: N/A | R50: N/A | S50: N/A | T50: N/A | U50: N/A
A51: C.D.I.
A52: Leva, Cambio de Velocidades
A53: Eje Principal, Transmisión
A54: Eje de cambios
A55: TOTALES | B55: =SUM(B10:B54) -> 0 | C55: =SUM(C10:C54) -> 0 | D55: =SUM(D10:D54) -> 0 | E55: =SUM(E10:E54) -> 0 | F55: =SUM(F10:F54) -> 0 | G55: =SUM(G10:G54) -> 0 | H55: =SUM(H10:H54) -> 0 | I55: =SUM(I10:I54) -> 0 | ... N55: =SUM(N10:N54) -> 0 | Q55: =SUM(Q10:Q54) -> 0 | R55: =SUM(R10:R54) -> 0 | S55: =SUM(S10:S54) -> 0 | T55: =SUM(T10:T54) -> 0 | U55: =SUM(U10:U54) -> 0 | V55: =SUM(B55:U55) -> 0 | W55: 0.417 | X55: =+V55*W55 -> 0
A56: REPUESTOS SUSPENSION, EJES Y DIRECCIÓN
A57: Kit cunas de dirección
A58: Tuerca Columna de Dirección | L58: N/A
A59: Eje de Rueda Delantera
A60: Collarín Rueda Delantera(buje) | M60: N/A | N60: N/A
A61: Caja, Engranaje de Velocímetro | B61: N/A | Q61: N/A | S61: N/A | U61: N/A
A62: Retenes de la Rueda Delantera | H62: N/A | J62: N/A | M62: N/A | N62: N/A
A63: Rodamientos Radial Delanteros
A64: Eje Trasero
A65: Espaciador de Rueda
A66: Pernos de Fijación del Piñón Dentado | L66: N/A | M66: N/A | N66: N/A
A67: Rodamientos Traseros
A68: Tijera
A69: Caja Cadena Mando | L69: N/A
A70: Ajustador Cadena (tensor)
A71: Amortiguador Trasero o (proling)
A72: Kit Bujes de tijera
A73: Kit de arrastre
A74: Kit fuelles delanteros | B74: N/A | C74: N/A | G74: N/A | K74: N/A | L74: N/A | M74: N/A | N74: N/A | Q74: N/A | T74: N/A | U74: N/A
A75: Retén de telescópico
A76: TOTALES | B76: =SUM(B57:B75) -> 0 | C76: =SUM(C57:C75) -> 0 | D76: =SUM(D57:D75) -> 0 | E76: =SUM(E57:E75) -> 0 | F76: =SUM(F57:F75) -> 0 | G76: =SUM(G57:G75) -> 0 | H76: =SUM(H57:H75) -> 0 | I76: =SUM(I57:I75) -> 0 | ... N76: =SUM(N57:N75) -> 0 | Q76: =SUM(Q57:Q75) -> 0 | R76: =SUM(R57:R75) -> 0 | S76: =SUM(S57:S75) -> 0 | T76: =SUM(T57:T75) -> 0 | U76: =SUM(U57:U75) -> 0 | V76: =SUM(B76:U76) -> 0 | W76: 0.18 | X76: =+V76*W76 -> 0
A77: REPUESTOS FRENOS
A78: Juego pastillas delanteras | B78: N/A | U78: N/A
A79: Juego pastillas traseras | B79: N/A | C79: N/A | E79: N/A | H79: N/A | J79: N/A | K79: N/A | L79: N/A | M79: N/A | N79: N/A | R79: N/A | T79: N/A | U79: N/A
A80: Juego discos delantero | B80: N/A | U80: N/A
A81: Juego discos trasero | B81: N/A | C81: N/A | E81: N/A | H81: N/A | J81: N/A | K81: N/A | L81: N/A | M81: N/A | N81: N/A | R81: N/A | T81: N/A | U81: N/A
A82: Leva, Freno Trasero | D82: N/A | F82: N/A | G82: N/A | I82: N/A | Q82: N/A | S82: N/A
A83: Manguera Freno | B83: N/A | T83: N/A | U83: N/A
A84: Juego bandas delanteras | C84: N/A | D84: N/A | E84: N/A | F84: N/A | G84: N/A | H84: N/A | I84: N/A | J84: N/A | K84: N/A | L84: N/A | M84: N/A | N84: N/A | Q84: N/A | R84: N/A | S84: N/A | T84: N/A
A85: Juego bandas traseras | D85: N/A | F85: N/A | G85: N/A | I85: N/A | Q85: N/A | S85: N/A
A86: Manzana delantera | K86: N/A | L86: N/A | M86: N/A | N86: N/A | T86: N/A
A87: Manzana trasera | K87: N/A | L87: N/A | M87: N/A | N87: N/A | T87: N/A
A88: Juego de chupas | B88: N/A | U88: N/A
A89: Tornillo, Purgador | B89: N/A | T89: N/A | U89: N/A
A90: Juego de Pistones de caliper | B90: N/A | L90: N/A | M90: N/A | N90: N/A | Q90: N/A | T90: N/A | U90: N/A
A91: Caliper delantero | B91: N/A | U91: N/A
A92: Caliper trasero | B92: N/A | C92: N/A | E92: N/A | H92: N/A | J92: N/A | K92: N/A | L92: N/A | M92: N/A | N92: N/A | R92: N/A | T92: N/A | U92: N/A
A93: Soporte Freno | C93: N/A | E93: N/A | H93: N/A | J93: N/A | K93: N/A | L93: N/A | M93: N/A | N93: N/A | S93: N/A | T93: N/A
A94: Manigueta del Freno
A95: TOTALES | B95: =SUM(B78:B94) -> 0 | C95: =SUM(C78:C94) -> 0 | D95: =SUM(D78:D94) -> 0 | E95: =SUM(E78:E94) -> 0 | F95: =SUM(F78:F94) -> 0 | G95: =SUM(G78:G94) -> 0 | H95: =SUM(H78:H94) -> 0 | I95: =SUM(I78:I94) -> 0 | ... N95: =SUM(N78:N94) -> 0 | Q95: =SUM(Q78:Q94) -> 0 | R95: =SUM(R78:R94) -> 0 | S95: =SUM(S78:S94) -> 0 | T95: =SUM(T78:T94) -> 0 | U95: =SUM(U78:U94) -> 0 | V95: =SUM(B95:U95) -> 0 | W95: 0.094 | X95: =+V95*W95 -> 0
A96: INSUMOS Y SUMINISTROS
A97: Aceite motor
A98: Aceite hidráulico
A99: Grasa
A100: Filtro aceite | C100: N/A
A101: Filtro aire
A102: Filtro Gasolina | M102: N/A | N102: N/A | Q102: N/A
A103: Batería
A104: Flasher | E104: N/A | K104: N/A
A105: Comando de luces
...

Sheet BAPOM
B1: SECRETARIA DE SEGURIDAD Y JUSTICIA LICITACION PUBLICA No. 4161.010.32.XXX
B3: “REALIZAR MANTENIMIENTO PREVENTIVO Y CORRECTIVO PARA LAS MOTOCICLETAS QUE HACEN PARTE DEL PARQUE AUTOMOTOR DEL BATALLON DE POLICIA MILITAR No. 3, LA ESCUELA MILITAR DE AVIACION, MIGRACION COLOMBIA Y DE LA POLICÍA METROPOLITANA DE CALI QUE PRESTAN EL SERVICIO DE VIGILANCIA EN LA CIUDAD DE SANTIAGO DE CALI”
B5: OFERTA BAPOM
A6: MARCA | B6: HONDA | F6: YAMAHA
A7: MODELO | B7: XL 125 | C7: C 100 | D7: XR 125 | E7: XR 250 | F7: XTZ 250
B8: 2015 | C8: 2009-2010 | D8: 2005 | E8: 2009-2013 | F8: 2010-2015
A9: REPUESTOS MOTOR, ALIMENTACIÓN, TRANSMISIÓN Y SISTEMA DE EMBRAGUE
A10: Juego anillos
A11: Pistón
A12: Bulón del Pistón
A13: Kit Biela | D13: N/A | E13: N/A
A14: Obturadores
A15: Resortes de Válvulas
A16: Válvula de admisión
A17: Válvula de escape
A18: Balancín admisión | D18: N/A | E18: N/A
A19: Balancín escape | D19: N/A | E19: N/A
A20: Ejes de Balancines | D20: N/A | E20: N/A
A21: Empaquetadura motor
A22: Eje de Levas
A23: Rodamientos de Eje de Levas | B23: N/A | D23: N/A | E23: N/A
A24: Piñón Dentado, Leva | B24: N/A | D24: N/A | E24: N/A
A25: Cadena de Levas | B25: N/A
A26: Tensor, Cadena de Levas | B26: N/A
A27: Guía, Cadena de Leva | B27: N/A
A28: Rodamientos Cigüeñal
A29: Piñón Dentado de Sincronización | D29: N/A | E29: N/A | F29: N/A
A30: Cigüeñal
A31: Kit disco del clutch
A32: Kit prensa del clutch
A33: Araña del clutch
A34: Tuerca de Cierre, Embrague
A35: Manigueta del embrague | C35: N/A
A36: Bomba de Aceite
A37: Base aguja carburador | D37: N/A | E37: N/A | F37: N/A
A38: Empaquetadura Carburador | F38: N/A
A39: Pistón aguja cortina del Carburador | D39: N/A | E39: N/A | F39: N/A
A40: Pulverizador | F40: N/A
A41: Juego de Diafragma, (carburador) | F41: N/A
A42: Chicler de Mínima | F42: N/A
A43: Chicler de Alta | F43: N/A
A44: volante
A45: Cremallera
A46: Engranaje, Loco | F46: N/A
A47: Motor de Arranque
A48: Inducido (bobinas)
A49: Escobillas | C49: N/A
A50: Resorte Escobillas | F50: N/A
A51: C.D.I.
A52: Leva, Cambio de Velocidades
A53: Eje Principal, Transmisión
A54: Eje de cambios
A55: TOTALES | B55: =SUM(B10:B54) -> 0 | C55: =SUM(C10:C54) -> 0 | D55: =SUM(D10:D54) -> 0 | E55: =SUM(E10:E54) -> 0 | F55: =SUM(F10:F54) -> 0 | G55: =SUM(B55:F55) -> 0 | H55: 0.417 | I55: =+G55*H55 -> 0
A56: REPUESTOS SUSPENSION, EJES Y DIRECCIÓN
A57: Kit cunas de dirección
A58: Tuerca Columna de Dirección
A59: Eje de Rueda Delantera
A60: Collarín Rueda Delantera(buje)
A61: Caja, Engranaje de Velocímetro | B61: N/A | C61: N/A | F61: N/A
A62: Retenes de la Rueda Delantera
A63: Rodamientos Radial Delanteros
A64: Eje Trasero
A65: Espaciador de Rueda
A66: Pernos de Fijación del Piñón Dentado
A67: Rodamientos Traseros
A68: Tijera
A69: Caja Cadena Mando
A70: Ajustador Cadena (tensor)
A71: Amortiguador Trasero o (proling)
A72: Kit Bujes de tijera
A73: Kit de arrastre
A74: Kit fuelles delanteros | B74: N/A | C74: N/A
A75: Retén de telescópico
A76: TOTALES | B76: =SUM(B57:B75) -> 0 | C76: =SUM(C57:C75) -> 0 | D76: =SUM(D57:D75) -> 0 | E76: =SUM(E57:E75) -> 0 | F76: =SUM(F57:F75) -> 0 | G76: =SUM(B76:F76) -> 0 | H76: 0.18 | I76: =+G76*H76 -> 0
A77: REPUESTOS FRENOS
A78: Juego pastillas delanteras | B78: N/A | C78: N/A
A79: Juego pastillas traseras | B79: N/A | C79: N/A | D79: N/A | E79: N/A
A80: Juego discos delantero | B80: N/A | C80: N/A
A81: Juego discos trasero | B81: N/A | C81: N/A | D81: N/A | E81: N/A
A82: Leva, Freno Trasero | F82: N/A
A83: Manguera Freno | B83: N/A | C83: N/A
A84: Juego bandas delanteras | D84: N/A | E84: N/A | F84: N/A
A85: Juego bandas traseras | F85: N/A
A86: Manzana delantera
A87: Manzana trasera
A88: Juego de chupas | B88: N/A | C88: N/A
A89: Tornillo, Purgador | B89: N/A | C89: N/A
A90: Juego de Pistones de caliper | B90: N/A | C90: N/A
A91: Caliper delantero | B91: N/A | C91: N/A
A92: Caliper trasero | B92: N/A | C92: N/A | D92: N/A | E92: N/A
A93: Soporte Freno | B93: N/A | D93: N/A | E93: N/A | F93: N/A
A94: Manigueta del Freno
A95: TOTALES | B95: =SUM(B78:B94) -> 0 | C95: =SUM(C78:C94) -> 0 | D95: =SUM(D78:D94) -> 0 | E95: =SUM(E78:E94) -> 0 | F95: =SUM(F78:F94) -> 0 | G95: =SUM(B95:F95) -> 0 | H95: 0.094 | I95: =+G95*H95 -> 0
A96: INSUMOS Y SUMINISTROS
A97: Aceite motor
A98: Aceite hidráulico
A99: Grasa
A100: Filtro aceite
A101: Filtro aire
A102: Filtro Gasolina
...

Sheet EMAVI
B1: SECRETARIA DE SEGURIDAD Y JUSTICIA LICITACION PUBLICA No. 4161.010.32.XXX
B3: “REALIZAR MANTENIMIENTO PREVENTIVO Y CORRECTIVO PARA LAS MOTOCICLETAS QUE HACEN PARTE DEL PARQUE AUTOMOTOR DEL BATALLON DE POLICIA MILITAR No. 3, LA ESCUELA MILITAR DE AVIACION, MIGRACION COLOMBIA Y DE LA POLICÍA METROPOLITANA DE CALI QUE PRESTAN EL SERVICIO DE VIGILANCIA EN LA CIUDAD DE SANTIAGO DE CALI”
B5: OFERTA EMAVI
A6: MARCA | B6: BAJAJ | C6: HONDA | G6: SUZUKI | H6: YAMAHA
A7: MODELO | B7: PULSAR 180 | C7: CB 125 SPORT | D7: CB500FAF | E7: XR 125 BRIO | F7: XR 250 TORNADO | G7: DR 650 | H7: XTZ 250 | I7: YBR 125 D
B8: 2010 | C8: 2015 | D8: 2015 | E8: 2014 | F8: 2015 | G8: 2013 | H8: 2012 | I8: 2016
A9: REPUESTOS MOTOR, ALIMENTACIÓN, TRANSMISIÓN Y SISTEMA DE EMBRAGUE
A10: Juego anillos
A11: Pistón
A12: Bulón del Pistón
A13: Kit Biela | B13: N/A | F13: N/A
A14: Obturadores
A15: Resortes de Válvulas
A16: Válvula de admisión
A17: Válvula de escape
A18: Balancín admisión | F18: N/A
A19: Balancín escape | F19: N/A
A20: Ejes de Balancines | F20: N/A
A21: Empaquetadura motor
A22: Eje de Levas
A23: Rodamientos de Eje de Levas | C23: N/A | D23: N/A | E23: N/A | F23: N/A | G23: N/A | I23: N/A
A24: Piñón Dentado, Leva | C24: N/A | D24: N/A | E24: N/A | F24: N/A
A25: Cadena de Levas | E25: N/A
A26: Tensor, Cadena de Levas | E26: N/A
A27: Guía, Cadena de Leva | E27: N/A
A28: Rodamientos Cigüeñal | C28: N/A | D28: N/A
A29: Piñón Dentado de Sincronización | C29: N/A | D29: N/A | F29: N/A | H29: N/A
A30: Cigüeñal
A31: Kit disco del clutch
A32: Kit prensa del clutch
A33: Araña del clutch
A34: Tuerca de Cierre, Embrague
A35: Manigueta del embrague
A36: Bomba de Aceite
A37: Base aguja carburador | D37: N/A | F37: N/A | H37: N/A
A38: Empaquetadura Carburador | D38: N/A | H38: N/A
A39: Pistón aguja cortina del Carburador | D39: N/A | F39: N/A | H39: N/A
A40: Pulverizador | D40: N/A | H40: N/A
A41: Juego de Diafragma, (carburador) | D41: N/A | H41: N/A
A42: Chicler de Mínima | D42: N/A | H42: N/A
A43: Chicler de Alta | D43: N/A | H43: N/A
A44: volante
A45: Cremallera
A46: Engranaje, Loco | H46: N/A
A47: Motor de Arranque
A48: Inducido (bobinas)
A49: Escobillas | G49: N/A
A50: Resorte Escobillas | C50: N/A | G50: N/A | H50: N/A | I50: N/A
A51: C.D.I.
A52: Leva, Cambio de Velocidades
A53: Eje Principal, Transmisión
A54: Eje de cambios
A55: TOTALES | B55: =SUM(B10:B54) -> 0 | C55: =SUM(C10:C54) -> 0 | D55: =SUM(D10:D54) -> 0 | E55: =SUM(E10:E54) -> 0 | F55: =SUM(F10:F54) -> 0 | G55: =SUM(G10:G54) -> 0 | H55: =SUM(H10:H54) -> 0 | I55: =SUM(I10:I54) -> 0 | J55: =SUM(B55:I55) -> 0 | K55: 0.417 | L55: =+J55*K55 -> 0
A56: REPUESTOS SUSPENSION, EJES Y DIRECCIÓN
A57: Kit cunas de dirección
A58: Tuerca Columna de Dirección
A59: Eje de Rueda Delantera
A60: Collarín Rueda Delantera(buje)
A61: Caja, Engranaje de Velocímetro | D61: N/A | E61: N/A | H61: N/A
A62: Retenes de la Rueda Delantera
A63: Rodamientos Radial Delanteros
A64: Eje Trasero
A65: Espaciador de Rueda
A66: Pernos de Fijación del Piñón Dentado
A67: Rodamientos Traseros
A68: Tijera
A69: Caja Cadena Mando
A70: Ajustador Cadena (tensor)
A71: Amortiguador Trasero o (proling)
A72: Kit Bujes de tijera
A73: Kit de arrastre
A74: Kit fuelles delanteros | B74: N/A | C74: N/A | D74: N/A | E74: N/A | I74: N/A
A75: Retén de telescópico
A76: TOTALES | B76: =SUM(B57:B75) -> 0 | C76: =SUM(C57:C75) -> 0 | D76: =SUM(D57:D75) -> 0 | E76: =SUM(E57:E75) -> 0 | F76: =SUM(F57:F75) -> 0 | G76: =SUM(G57:G75) -> 0 | H76: =SUM(H57:H75) -> 0 | I76: =SUM(I57:I75) -> 0 | J76: =SUM(B76:I76) -> 0 | K76: 0.18 | L76: =+J76*K76 -> 0
A77: REPUESTOS FRENOS
A78: Juego pastillas delanteras | E78: N/A
A79: Juego pastillas traseras | B79: N/A | C79: N/A | E79: N/A | F79: N/A | I79: N/A
A80: Juego discos delantero | E80: N/A
A81: Juego discos trasero | B81: N/A | C81: N/A | E81: N/A | F81: N/A | I81: N/A
A82: Leva, Freno Trasero | D82: N/A | G82: N/A | H82: N/A
A83: Manguera Freno | E83: N/A | I83: N/A
A84: Juego bandas delanteras | B84: N/A | C84: N/A | D84: N/A | F84: N/A | G84: N/A | H84: N/A | I84: N/A
A85: Juego bandas traseras | D85: N/A | G85: N/A | H85: N/A
A86: Manzana delantera | D86: N/A | I86: N/A
A87: Manzana trasera | D87: N/A | I87: N/A
A88: Juego de chupas | E88: N/A
A89: Tornillo, Purgador | E89: N/A | I89: N/A
A90: Juego de Pistones de caliper | E90: N/A | I90: N/A
A91: Caliper delantero | E91: N/A
A92: Caliper trasero | B92: N/A | C92: N/A | E92: N/A | F92: N/A | I92: N/A
A93: Soporte Freno | B93: N/A | C93: N/A | E93: N/A | F93: N/A | H93: N/A | I93: N/A
A94: Manigueta del Freno
A95: TOTALES | B95: =SUM(B78:B94) -> 0 | C95: =SUM(C78:C94) -> 0 | D95: =SUM(D78:D94) -> 0 | E95: =SUM(E78:E94) -> 0 | F95: =SUM(F78:F94) -> 0 | G95: =SUM(G78:G94) -> 0 | H95: =SUM(H78:H94) -> 0 | I95: =SUM(I78:I94) -> 0 | J95: =SUM(B95:I95) -> 0 | K95: 0.094 | L95: =+J95*K95 -> 0
A96: INSUMOS Y SUMINISTROS
A97: Aceite motor
A98: Aceite hidráulico
A99: Grasa
A100: Filtro aceite | C100: N/A
A101: Filtro aire
A102: Filtro Gasolina | D102: N/A
...

Sheet MIGRACION
A1: 3 | B1: SECRETARIA DE SEGURIDAD Y JUSTICIA LICITACION PUBLICA No. 4161.010.32.XXX
B3: “REALIZAR MANTENIMIENTO PREVENTIVO Y CORRECTIVO PARA LAS MOTOCICLETAS QUE HACEN PARTE DEL PARQUE AUTOMOTOR DEL BATALLON DE POLICIA MILITAR No. 3, LA ESCUELA MILITAR DE AVIACION, MIGRACION COLOMBIA Y DE LA POLICÍA METROPOLITANA DE CALI QUE PRESTAN EL SERVICIO DE VIGILANCIA EN LA CIUDAD DE SANTIAGO DE CALI”
B5: OFERTA BAPOM
A6: MARCA | B6: AKT | C6: SUZUKI
A7: MODELO | B7: TT250 ADVENTUOR | C7: DR200
B8: 2016 | C8: 2007
A9: REPUESTOS MOTOR, ALIMENTACIÓN, TRANSMISIÓN Y SISTEMA DE EMBRAGUE
A10: Juego anillos
A11: Pistón
A12: Bulón del Pistón
A13: Kit Biela
A14: Obturadores
A15: Resortes de Válvulas
A16: Válvula de admisión
A17: Válvula de escape
A18: Balancín admisión
A19: Balancín escape
A20: Ejes de Balancines
... A22: Eje de Levas
A23: Rodamientos de Eje de Levas | B23: N/A
A24: Piñón Dentado, Leva | B24: N/A
A25: Cadena de Levas | B25: N/A
A26: Tensor, Cadena de Levas | B26: N/A
A27: Guía, Cadena de Leva | B27: N/A
A28: Rodamientos Cigüeñal
A29: Piñón Dentado de Sincronización | C29: N/A
A30: Cigüeñal
A31: Kit disco del clutch
A32: Kit prensa del clutch
A33: Araña del clutch
A34: Tuerca de Cierre, Embrague
A35: Manigueta del embrague
A36: Bomba de Aceite
A37: Base aguja carburador | C37: N/A
A38: Empaquetadura Carburador | C38: N/A
A39: Pistón aguja cortina del Carburador | C39: N/A
A40: Pulverizador | C40: N/A
A41: Juego de Diafragma, (carburador) | C41: N/A
A42: Chicler de Mínima | C42: N/A
A43: Chicler de Alta | C43: N/A
A44: volante
A45: Cremallera
A46: Engranaje, Loco | C46: N/A
A47: Motor de Arranque
A48: Inducido (bobinas)
A49: Escobillas
A50: Resorte Escobillas | C50: N/A
A51: C.D.I.
A52: Leva, Cambio de Velocidades
A53: Eje Principal, Transmisión
A54: Eje de cambios
A55: TOTALES | B55: =SUM(B10:B54) -> 0 | C55: =SUM(C10:C54) -> 0 | D55: =SUM(B55:C55) -> 0 | E55: 0.417 | F55: =+D55*E55 -> 0
A56: REPUESTOS SUSPENSION, EJES Y DIRECCIÓN
A57: Kit cunas de dirección
A58: Tuerca Columna de Dirección
A59: Eje de Rueda Delantera
A60: Collarín Rueda Delantera(buje)
A61: Caja, Engranaje de Velocímetro | B61: N/A | C61: N/A
A62: Retenes de la Rueda Delantera
A63: Rodamientos Radial Delanteros
A64: Eje Trasero
A65: Espaciador de Rueda
A66: Pernos de Fijación del Piñón Dentado
A67: Rodamientos Traseros
A68: Tijera
A69: Caja Cadena Mando
A70: Ajustador Cadena (tensor)
A71: Amortiguador Trasero o (proling)
A72: Kit Bujes de tijera
A73: Kit de arrastre
A74: Kit fuelles delanteros | B74: N/A
A75: Retén de telescópico
A76: TOTALES | B76: =SUM(B57:B75) -> 0 | C76: =SUM(C57:C75) -> 0 | D76: =SUM(B76:C76) -> 0 | E76: 0.18 | F76: =+D76*E76 -> 0
A77: REPUESTOS FRENOS
A78: Juego pastillas delanteras | B78: N/A
A79: Juego pastillas traseras | B79: N/A
A80: Juego discos delantero | B80: N/A
A81: Juego discos trasero | B81: N/A
A82: Leva, Freno Trasero | C82: N/A
A83: Manguera Freno | B83: N/A
A84: Juego bandas delanteras | C84: N/A
A85: Juego bandas traseras | C85: N/A
A86: Manzana delantera
A87: Manzana trasera
A88: Juego de chupas | B88: N/A
A89: Tornillo, Purgador | B89: N/A
A90: Juego de Pistones de caliper | B90: N/A
A91: Caliper delantero | B91: N/A
A92: Caliper trasero | B92: N/A
A93: Soporte Freno | B93: N/A | C93: N/A
A94: Manigueta del Freno
A95: TOTALES | B95: =SUM(B78:B94) -> 0 | C95: =SUM(C78:C94) -> 0 | D95: =SUM(B95:C95) -> 0 | E95: 0.094 | F95: =+D95*E95 -> 0
A96: INSUMOS Y SUMINISTROS
A97: Aceite motor
A98: Aceite hidráulico
A99: Grasa
A100: Filtro aceite
A101: Filtro aire
A102: Filtro Gasolina
A103: Batería
...
