Workbook

Sheet RESUMEN 
B1: SECRETARIA DE SEGURIDAD Y JUSTICIA LICITACION PUBLICA No. 4161.010.32.XXX
B2: “REALIZAR MANTENIMIENTO PREVENTIVO Y CORRECTIVO PARA LAS MOTOCICLETAS QUE HACEN PARTE DEL PARQUE AUTOMOTOR DEL BATALLON DE POLICIA MILITAR No. 3, LA ESCUELA MILITAR DE AVIACION, MIGRACION COLOMBIA Y DE LA POLICÍA METROPOLITANA DE CALI QUE PRESTAN EL SERVICIO DE VIGILANCIA EN LA CIUDAD DE SANTIAGO DE CALI”
A3: PROPONENTE
A4: RESUMEN DE OFERTA ECONOMICA ANEXO 6
A5: GRUPOS DE REPUESTOS | B5: VALOR SIN PONDERACION | C5: PART | D5: VALOR CON PONDERACION
A6: I. RESUMEN VEHICULOS MECAL
A7: REPUESTOS MOTOR | B7: =MECAL!V55 -> 0 | C7: 0.4 | D7: =+B7*C7 -> 0
A8: REPUESTOS SUSPENSIÓN | B8: =MECAL!V76 -> 0 | C8: 0.18 | D8: =+B8*C8 -> 0
A9: REPUESTOS FRENOS | B9: =MECAL!V95 -> 0 | C9: 0.1 | D9: =+B9*C9 -> 0
A10: INSUMOS Y SUMINISTROS | B10: =MECAL!V126 -> 0 | C10: 0.03 | D10: =+B10*C10 -> 0
A11: LLANTAS | B11: =MECAL!V134 -> 0 | C11: 0.05 | D11: =+B11*C11 -> 0
A12: PRECIOS MANO DE OBRA | B12: =MECAL!V182 -> 0 | C12: 0.24 | D12: =+B12*C12 -> 0
A13: TOTAL | B13: =SUM(B7:B12) -> 0 | C13: 1 | D13: =SUM(D7:D12) -> 0
A14: II. RESUMEN VEHICULOS BAPOM
A15: REPUESTOS MOTOR | B15: =BAPOM!G55 -> 0 | C15: 0.4 | D15: =+B15*C15 -> 0
A16: REPUESTOS SUSPENSIÓN | B16: =BAPOM!G76 -> 0 | C16: 0.18 | D16: =+B16*C16 -> 0
A17: REPUESTOS FRENOS | B17: =BAPOM!G95 -> 0 | C17: 0.1 | D17: =+B17*C17 -> 0
A18: INSUMOS Y SUMINISTROS | B18: =BAPOM!G126 -> 0 | C18: 0.03 | D18: =+B18*C18 -> 0
A19: LLANTAS | B19: =BAPOM!G134 -> 0 | C19: 0.05 | D19: =+B19*C19 -> 0
A20: PRECIOS MANO DE OBRA | B20: =BAPOM!G182 -> 0 | C20: 0.24 | D20: =+B20*C20 -> 0
A21: TOTAL | B21: =SUM(B15:B20) -> 0 | C21: 1 | D21: =SUM(D15:D20) -> 0
A22: III. RESUMEN VEHICULOS EMAVI
A23: REPUESTOS MOTOR | B23: =+EMAVI!J55 -> 0 | C23: 0.4 | D23: =+B23*C23 -> 0
A24: REPUESTOS SUSPENSIÓN | B24: =+EMAVI!J76 -> 0 | C24: 0.18 | D24: =+B24*C24 -> 0
A25: REPUESTOS FRENOS | B25: =+EMAVI!J95 -> 0 | C25: 0.1 | D25: =+B25*C25 -> 0
A26: INSUMOS Y SUMINISTROS | B26: =+EMAVI!J126 -> 0 | C26: 0.03 | D26: =+B26*C26 -> 0
A27: LLANTAS | B27: =+EMAVI!J134 -> 0 | C27: 0.05 | D27: =+B27*C27 -> 0
A28: PRECIOS MANO DE OBRA | B28: =+EMAVI!J182 -> 0 | C28: 0.24 | D28: =+B28*C28 -> 0
A29: TOTAL | B29: =SUM(B23:B28) -> 0 | C29: 1 | D29: =SUM(D23:D28) -> 0
A30: IV. RESUMEN VEHICULOS MIGRACION
A31: REPUESTOS MOTOR | B31: =+MIGRACION!D55 -> 0 | C31: 0.4 | D31: =+B31*C31 -> 0
A32: REPUESTOS SUSPENSIÓN | B32: =+MIGRACION!D76 -> 0 | C32: 0.18 | D32: =+B32*C32 -> 0
A33: REPUESTOS FRENOS | B33: =+MIGRACION!D95 -> 0 | C33: 0.1 | D33: =+B33*C33 -> 0
A34: INSUMOS Y SUMINISTROS | B34: =+MIGRACION!D126 -> 0 | C34: 0.03 | D34: =+B34*C34 -> 0
A35: LLANTAS | B35: =+MIGRACION!D134 -> 0 | C35: 0.05 | D35: =+B35*C35 -> 0
A36: PRECIOS MANO DE OBRA | B36: =+MIGRACION!D182 -> 0 | C36: 0.24 | D36: =+B36*C36 -> 0
A37: TOTAL | B37: =SUM(B31:B36) -> 0 | C37: 1 | D37: =SUM(D31:D36) -> 0
A41: VALOR TOTAL PROPUESTA | D41: =+D13+D21+D29+D37 -> 0
A43: RAZON SOCIAL DEL PROPONENTE
A44: REPRESENTANTE LEGAL DEL PROPONENTE (nombre y firma):

Sheet MECAL
A6: MARCA | B6: HONDA | H6: SUZUKI | O6: YAMAHA
A7: MODELO | B7: C 100 | C7: CB 125 | D7: XR 150L | E7: XR 250 | F7: XR 650 | G7: XRE 300 | H7: DR200 | I7: DR 650 | J7: DR X 200 | K7: GIXXER | L7: GN 125 | M7: GS 125 | N7: GSR/GSX 150 | O7: CRIPTON 115 | P7: FZ 150 | Q7: XT 660R | R7: XTZ 125 | S7: XTZ 250 | T7: YBR 125DX | U7: YD 110
B8: 2009-2010 | C8: 2012 | D8: 2018 | E8: 2009-2013 | F8: 2010 | G8: 2018 | H8: 2004-2014 | I8: 2009-2013 | J8: 2016-2017 | K8: 2017 | L8: 2008-2011 | M8: 2012 | N8: 2013-2014 | O8: 2019 | P8: 2018 | Q8: 2013 | R8: 2009-2012 | S8: 2010-2015 | T8: 2009-2013 | U8: 2010
A9: REPUESTOS MOTOR, ALIMENTACIÓN, TRANSMISIÓN Y SISTEMA DE EMBRAGUE
A10: Juego anillos
A11: Pistón
A12: Bulón del Pistón
A13: Kit Biela | E13: N/A | G13: N/A | K13: N/A | L13: N/A | N13: N/A
A14: Obturadores
A15: Resortes de Válvulas | N15: N/A
A16: Válvula de admisión
A17: Válvula de escape
A18: Balancín admisión | E18: N/A | G18: N/A
A19: Balancín escape | E19: N/A | G19: N/A
A20: Ejes de Balancines | E20: N/A | G20: N/A
A21: Empaquetadura motor
A22: Eje de Levas
A23: Rodamientos de Eje de Levas | C23: N/A | E23: N/A | G23: N/A | H23: N/A | I23: N/A | J23: N/A | L23: N/A | M23: N/A | N23: N/A | T23: N/A
A24: Piñón Dentado, Leva | C24: N/A | E24: N/A | G24: N/A
A25: Cadena de Levas
A26: Tensor, Cadena de Levas
A27: Guía, Cadena de Leva
A28: Rodamientos Cigüeñal | C28: N/A
A29: Piñón Dentado de Sincronización | C29: N/A | E29: N/A | G29: N/A | N29: N/A | S29: N/A
A30: Cigüeñal
A31: Kit disco del clutch
A32: Kit prensa del clutch
A33: Araña del clutch
A34: Tuerca de Cierre, Embrague | M34: N/A | N34: N/A
A35: Manigueta del embrague | B35: N/A
A36: Bomba de Aceite
A37: Base aguja carburador | E37: N/A | G37: N/A | K37: N/A | Q37: N/A | S37: N/A
A38: Empaquetadura Carburador | G38: N/A | Q38: N/A | S38: N/A
A39: Pistón aguja cortina del Carburador | E39: N/A | G39: N/A | M39: N/A | N39: N/A | Q39: N/A | S39: N/A
A40: Pulverizador | G40: N/A | Q40: N/A | S40: N/A
A41: Juego de Diafragma, (carburador) | G41: N/A | Q41: N/A | S41: N/A
A42: Chicler de Mínima | G42: N/A | Q42: N/A | S42: N/A
A43: Chicler de Alta | G43: N/A | Q43: N/A | S43: N/A
A44: volante
A45: Cremallera
...

Sheet BAPOM
B1: SECRETARIA DE SEGURIDAD Y JUSTICIA LICITACION PUBLICA No. 4161.010.32.XXX
B3: “REALIZAR MANTENIMIENTO PREVENTIVO Y CORRECTIVO PARA LAS MOTOCICLETAS QUE HACEN PARTE DEL PARQUE AUTOMOTOR DEL BATALLON DE POLICIA MILITAR No. 3, LA ESCUELA MILITAR DE AVIACION, MIGRACION COLOMBIA Y DE LA POLICÍA METROPOLITANA DE CALI QUE PRESTAN EL SERVICIO DE VIGILANCIA EN LA CIUDAD DE SANTIAGO DE CALI”
B5: OFERTA BAPOM
A6: MARCA | B6: HONDA | F6: YAMAHA
A7: MODELO | B7: XL 125 | C7: C 100 | D7: XR 125 | E7: XR 250 | F7: XTZ 250
B8: 2015 | C8: 2009-2010 | D8: 2005 | E8: 2009-2013 | F8: 2010-2015
A9: REPUESTOS MOTOR, ALIMENTACIÓN, TRANSMISIÓN Y SISTEMA DE EMBRAGUE
A10: Juego anillos
A11: Pistón
A12: Bulón del Pistón
A13: Kit Biela | D13: N/A | E13: N/A
A14: Obturadores
A15: Resortes de Válvulas
A16: Válvula de admisión
A17: Válvula de escape
A18: Balancín admisión | D18: N/A | E18: N/A
A19: Balancín escape | D19: N/A | E19: N/A
A20: Ejes de Balancines | D20: N/A | E20: N/A
A21: Empaquetadura motor
A22: Eje de Levas
A23: Rodamientos de Eje de Levas | B23: N/A | D23: N/A | E23: N/A
A24: Piñón Dentado, Leva | B24: N/A | D24: N/A | E24: N/A
A25: Cadena de Levas | B25: N/A
A26: Tensor, Cadena de Levas | B26: N/A
A27: Guía, Cadena de Leva | B27: N/A
A28: Rodamientos Cigüeñal
A29: Piñón Dentado de Sincronización | D29: N/A | E29: N/A | F29: N/A
A30: Cigüeñal
A31: Kit disco del clutch
A32: Kit prensa del clutch
A33: Araña del clutch
A34: Tuerca de Cierre, Embrague
A35: Manigueta del embrague | C35: N/A
A36: Bomba de Aceite
A37: Base aguja carburador | D37: N/A | E37: N/A | F37: N/A
A38: Empaquetadura Carburador | F38: N/A
A39: Pistón aguja cortina del Carburador | D39: N/A | E39: N/A | F39: N/A
A40: Pulverizador | F40: N/A
A41: Juego de Diafragma, (carburador) | F41: N/A
A42: Chicler de Mínima | F42: N/A
...

Sheet EMAVI
B1: SECRETARIA DE SEGURIDAD Y JUSTICIA LICITACION PUBLICA No. 4161.010.32.XXX
B3: “REALIZAR MANTENIMIENTO PREVENTIVO Y CORRECTIVO PARA LAS MOTOCICLETAS QUE HACEN PARTE DEL PARQUE AUTOMOTOR DEL BATALLON DE POLICIA MILITAR No. 3, LA ESCUELA MILITAR DE AVIACION, MIGRACION COLOMBIA Y DE LA POLICÍA METROPOLITANA DE CALI QUE PRESTAN EL SERVICIO DE VIGILANCIA EN LA CIUDAD DE SANTIAGO DE CALI”
B5: OFERTA EMAVI
A6: MARCA | B6: BAJAJ | C6: HONDA | G6: SUZUKI | H6: YAMAHA
A7: MODELO | B7: PULSAR 180 | C7: CB 125 SPORT | D7: CB500FAF | E7: XR 125 BRIO | F7: XR 250 TORNADO | G7: DR 650 | H7: XTZ 250 | I7: YBR 125 D
B8: 2010 | C8: 2015 | D8: 2015 | E8: 2014 | F8: 2015 | G8: 2013 | H8: 2012 | I8: 2016
A9: REPUESTOS MOTOR, ALIMENTACIÓN, TRANSMISIÓN Y SISTEMA DE EMBRAGUE
A10: Juego anillos
A11: Pistón
A12: Bulón del Pistón
A13: Kit Biela | B13: N/A | F13: N/A
A14: Obturadores
A15: Resortes de Válvulas
A16: Válvula de admisión
A17: Válvula de escape
A18: Balancín admisión | F18: N/A
A19: Balancín escape | F19: N/A
A20: Ejes de Balancines | F20: N/A
A21: Empaquetadura motor
A22: Eje de Levas
A23: Rodamientos de Eje de Levas | C23: N/A | D23: N/A | E23: N/A | F23: N/A | G23: N/A | I23: N/A
A24: Piñón Dentado, Leva | C24: N/A | D24: N/A | E24: N/A | F24: N/A
A25: Cadena de Levas | E25: N/A
A26: Tensor, Cadena de Levas | E26: N/A
A27: Guía, Cadena de Leva | E27: N/A
A28: Rodamientos Cigüeñal | C28: N/A | D28: N/A
A29: Piñón Dentado de Sincronización | C29: N/A | D29: N/A | F29: N/A | H29: N/A
A30: Cigüeñal
A31: Kit disco del clutch
A32: Kit prensa del clutch
A33: Araña del clutch
A34: Tuerca de Cierre, Embrague
A35: Manigueta del embrague
A36: Bomba de Aceite
A37: Base aguja carburador | D37: N/A | F37: N/A | H37: N/A
A38: Empaquetadura Carburador | D38: N/A | H38: N/A
A39: Pistón aguja cortina del Carburador | D39: N/A | F39: N/A | H39: N/A
A40: Pulverizador | D40: N/A | H40: N/A
A41: Juego de Diafragma, (carburador) | D41: N/A | H41: N/A
A42: Chicler de Mínima | D42: N/A | H42: N/A
...

Sheet MIGRACION
A1: 3 | B1: SECRETARIA DE SEGURIDAD Y JUSTICIA LICITACION PUBLICA No. 4161.010.32.XXX
B3: “REALIZAR MANTENIMIENTO PREVENTIVO Y CORRECTIVO PARA LAS MOTOCICLETAS QUE HACEN PARTE DEL PARQUE AUTOMOTOR DEL BATALLON DE POLICIA MILITAR No. 3, LA ESCUELA MILITAR DE AVIACION, MIGRACION COLOMBIA Y DE LA POLICÍA METROPOLITANA DE CALI QUE PRESTAN EL SERVICIO DE VIGILANCIA EN LA CIUDAD DE SANTIAGO DE CALI”
B5: OFERTA BAPOM
A6: MARCA | B6: AKT | C6: SUZUKI
A7: MODELO | B7: TT250 ADVENTUOR | C7: DR200
B8: 2016 | C8: 2007
A9: REPUESTOS MOTOR, ALIMENTACIÓN, TRANSMISIÓN Y SISTEMA DE EMBRAGUE
A10: Juego anillos
A11: Pistón
A12: Bulón del Pistón
A13: Kit Biela
A14: Obturadores
A15: Resortes de Válvulas
A16: Válvula de admisión
A17: Válvula de escape
A18: Balancín admisión
A19: Balancín escape
A20: Ejes de Balancines
... A22: Eje de Levas
A23: Rodamientos de Eje de Levas | B23: N/A
A24: Piñón Dentado, Leva | B24: N/A
A25: Cadena de Levas | B25: N/A
A26: Tensor, Cadena de Levas | B26: N/A
A27: Guía, Cadena de Leva | B27: N/A
A28: Rodamientos Cigüeñal
A29: Piñón Dentado de Sincronización | C29: N/A
A30: Cigüeñal
A31: Kit disco del clutch
A32: Kit prensa del clutch
A33: Araña del clutch
A34: Tuerca de Cierre, Embrague
A35: Manigueta del embrague
A36: Bomba de Aceite
A37: Base aguja carburador | C37: N/A
A38: Empaquetadura Carburador | C38: N/A
A39: Pistón aguja cortina del Carburador | C39: N/A
A40: Pulverizador | C40: N/A
A41: Juego de Diafragma, (carburador) | C41: N/A
A42: Chicler de Mínima | C42: N/A
A43: Chicler de Alta | C43: N/A
...
