Workbook
Name _: #REF!
Name ____MON1: #REF!
Name ____MON2: #REF!
Name ____sub1: #REF!
Name ____sub2: #REF!
Name ____sub3: #REF!
Name ____sub4: #REF!
Name ____sub5: #REF!
Name ____sub6: #REF!
Name ____sub7: #REF!
Name ___sub1: #REF!
Name __1Sin_nombre: #REF!
Name __MON1: #REF!
Name __MON2: #REF!
Name __sub1: #REF!
Name __sub2: #REF!
Name __sub3: #REF!
Name __sub4: #REF!
Name __sub5: #REF!
Name __sub6: #REF!
Name __sub7: #REF!
Name _1: #REF!
Name _12as: #REF!
Name _13_1_6: #REF!
Name _14: #REF!
Name _1Sin_nombre: #REF!
Name _2_: #REF!
Name _a: #REF!
Name _ACT21: [4]ACTA21!$A$6:$U$37
Name _AFC1: [5]INV!$A$25:$D$28
Name _AFC3: [5]INV!$F$25:$I$28
Name _AFC5: [5]INV!$K$25:$N$28
Name _altavista: #REF!
Name _area_s: #REF!
Name _bbbb: #REF!
Name _BGC1: [5]INV!$A$5:$D$8
Name _BGC3: [5]INV!$F$5:$I$8
Name _BGC5: [5]INV!$K$5:$N$8
Name _CAC1: [5]INV!$A$19:$D$22
Name _CAC3: [5]INV!$F$19:$I$22
Name _CAC5: [5]INV!$K$19:$N$22
Name _calculo: #REF!
Name _Cod1: #REF!
Name _Cod11: #REF!
Name _da3: #REF!
Name _fill12: #REF!
Name _hola2: #REF!
Name _imp23: #REF!
Name _MA2: #REF!
Name _MON1: #REF!
Name _MON2: #REF!
Name _Pa1: '[9]Paral. 1'!$E:$E
Name _Pa2: '[9]Paral. 2'!$E:$E
Name _Pa3: '[9]Paral. 3'!$E:$E
Name _Pa4: [9]Paral.4!$E:$E
Name _S8: #REF!
Name _SBC1: [5]INV!$A$12:$D$15
Name _SBC3: [5]INV!$F$12:$I$15
Name _SBC5: [5]INV!$K$12:$N$15
Name _sub1: #REF!

Sheet VÍA
A2: OBRAS COMPLEMENTARIAS VIA CERRO NUTIBARA
A4: ACTIVIDADES | B4: INCLUYE (INFORMATIVO) | C4: UN | D4: VALOR DIRECTO (SIF) | E4: VALOR TOTAL DIRECTO (SIF)
A6: SEÑALIZACIÓN VERTICAL Y HORIZONTAL DE LA VÍA ACCESO. | B6: EL PORTÓN DE ACCESO 30 A | C6: KG | D6: 73662243 | E6: =D12 -> 5.1213e+08
B7: DEMARCACIONES DE CICLORUTA | C7: M2 | D7: 198377892
B8: DEMARCACIONES DE BULEVAR | C8: M2 | D8: 81148427
B9: SEÑALIZACION VERTICAL DEL PROYECTO | D9: 30141396
B10: DEMARCACIÓN VIAL HORIZONTAL DEL PROYECTO | C10: ML | D10: 97840040
B11: COLOCACIÓN DE ADOQUÍN TÁCTIL GUÍA O ALERTA 20 X 20 X 6 | C11: GL | D11: 30960000
B12: TOTAL | D12: =SUM(D6:D11) -> 5.1213e+08
A13: DOTACIÓN URBANA DE LA VÌA ACCESO. | B13: DEFENSA VIAL DE LA 32 D | C13: ML | D13: 36000000 | E13: =D17 -> 1.6842416e+08
B14: PASAMANOS | D14: 36236070
B15: BANCAS Y BASURERAS Y JARDINERAS | C15: GL | D15: 86838092
B16: PLETINA METALICA ALCORQUES CIRCULAR DE DIAMETRO DE 1.0M. | C16: GL | D16: 9350000
B17: TOTAL | D17: =SUM(D13:D16) -> 1.6842416e+08
A18: COMPLEMENTO A RED AGUA LLUVÍAS CERRO NUTIBARA DE LA DESCARGA DEL RÍO MEDELLÍN, ZANJA ABIERTA. | B18: PMT DE ALTO IMPACTO PARA LA DESCARGA AL RÍO MEDELLÍN | C18: GL | D18: 167931034 | E18: =D21 -> 5.5847944e+08
B19: TRAMO B DE LA DESCARGA AL RÍO MEDELLÍN (INTERVENCIÓN EN EL ÁREA DE LA AUTOPISTA) | C19: GL | D19: 3.638281e+08
B20: LOCALIZACION TRAZADO Y REPLANTEO | C20: DIA | D20: 26720310
B21: TOTAL | D21: =SUM(D18:D20) -> 5.5847944e+08
A22: RESTITUCIÓN ELEMENTOS CONSTITUTIVOS DE OPERACIÓN | B22: PORTERÍA 30 | C22: Gl | D22: 44881785 | E22: =D22 -> 44881785 | G22: OTRAS DEPENDENCIA S.S.S (BIENES)
B23: LOCAL COMERCIAL 30 A | C23: Gl | F23: 81930458 | G23: Local se encontraba vacío sin arrendatario, se demoliò para obras de la via, Anterior subsecretario de Bienes solicitaba reposición, ¿Se requiere? ¿Quién será responsable?
D25: SUBTOTAL COSTOS DIRECTOS OBRA | E25: =+E6+E13+E22+E18 -> 1.2839154e+09 | F25: 81930458
C27: 0.168 | D27: ADMINISTRACIÓN DE OBRA (Incluye protocolos bio) | E27: =+E25*C27+142862208 -> 3.5855999e+08 | F27: =+F25*C27 -> 13764317
C28: 0.05 | D28: UTILIDAD DE OBRA | E28: =+E25*C28 -> 64195769 | F28: =+F25*C28 -> 4096522.9
D30: COSTO TOTAL DE LA OBRA | E30: =SUM(E25:E29) -> 1.7066712e+09 | F30: =+F25+F27+F28 -> 99791298
D32: INTERVENTORÍA (7,5 MESES) | E32: 384491142
D33: COSTO TOTAL | E33: =+E30+E32 -> 2.0911623e+09 | F33: =F30 -> 99791298
E35: =+E33+F33 -> 2.1909536e+09
E51: =+E25*C27 -> 2.1569779e+08 | F51: ADMON 16,8%
E52: 142862208 | F52: PROTOCOLOS
E53: =SUM(E51:E52) -> 3.5855999e+08
F59: =+F30+#REF!+#REF! -> #REF! | G59: OTRAS DEPENDENCIAS

Sheet CIMA
A2: OBRAS COMPLEMENTARIAS CIMA DEL CERRO NUTIBARA
A4: ACTIVIDADES | B4: INCLUYE (INFORMATIVO) | C4: UN | D4: VALOR DIRECTO (SIF) | E4: OTRAS DEPENDENCIAS
A6: DOTACIÓN CON ESTRUCTURA METÁLICA LIVIANA COMPLEMENTARIOS A LA CONSTRUCCIÓN AMPLIACIÓN | B6: Incluye extracción del restaurante y mesones en acero inoxidable, divisiones de acero inoxidable de los baños. | C6: gl | D6: 1.6370465e+08
A7: COLOCACIÒN DE ADOQUÍN PEATONAL EN CIRCULACIÒN ZONA COMIDAS Y PLAZOLETA | B7: Adoquón tactil para circulación peatonal | C7: 723 m2 | D7: 1.3859829e+08
A8: DOTACIÓN AL URBANISMO CONSTRUIDO Y GRADERÍAS DE ESTANCIAS EN SITIOS ESPECIFICADOS. | B8: Bancas, alcorques, jardineras, puntos ecológicos, Gradería detrás del Pueblito Paisa, Cubierta de pérgola (policarbonato) | C8: gl | D8: 3.4165176e+08
A9: REDES EXTERNAS ELÉCTRICAS DE ALUMBRADO PUBLICO | B9: Alumbrado exterior zona de comidas A y B (zona de pérgola). | C9: gl | D9: 96869253 | H9: VALOR DIRECTO | I9: A.U | J9: 0.2073
A10: INSTALACIÓN DE 3 MÓDULOS COMERCIALES DE ESPACIO PÚBLICO TIPO 70 | B10: 3 comerciantes ubicados actualmente en el mirador | C10: 3 Und | E10: 1.0004805e+08 | F10: SUBSECRETARÌA ESPACIO PÚBLICO | H10: 82869253 | I10: =+H10*J9 -> 17178796
A11: CONSTRUCCIÓN DE (1) MODULO COMERCIAL (CERCA AL PUNTO DE INFORMACIÓN) | B11: Modulo para reubicar comerciante que se encuentra en la lista de arrendatarios | C11: 1 Und | E11: =+H11+I11 -> 32439250 | F11: S.S.S (Bienes) | H11: 26869253 | I11: =+H11*J9 -> 5569996.2
A12: MANTENIMIENTO DE 5 LOCALES EXTERIORES EN MADERA | B12: Locales ubicados cerca a la glorieta de la cima del Cerro Nutibara | C12: 5 Und | E12: =+H12+I12 -> 1.1815755e+08 | F12: S.S.S (Bienes) | H12: 97869253 | I12: =+H12*J9 -> 20288296
A14: PUESTA A PUNTO DE 5 LOCALES USO GUIÓN MUSEOGRAFICO Y FUENTE DEL PUEBLITO PAISA. | B14: Si se requiere hacer, el plazo del contrato interadministrativo se vería aumentado, por el traslado de los comerciantes | C14: 5 Und | E14: 55190047 | F14: SECRETARÍA CULTURA CIUDADANA | H14: 45713614 | I14: =+H14*J9 -> 9476432.3
B16: SUBTOTAL COSTOS DIRECTOS OBRA | D16: =+D6+D7+D8+D9 -> 7.4082395e+08
B18: ADMINISTRACIÓN DE OBRA (Incluye protocolos bio) | C18: 0.1573 | D18: =E44 -> 1.6903033e+08
B19: UTILIDAD DE OBRA | C19: 0.05 | D19: =+D16*C19 -> 37041197 | E19: SIN LOCALES PUEBLITO PAISA
B21: COSTO TOTAL DE LA OBRA | D21: =+D16+D18+D19 -> 9.4689548e+08 | E21: =SUM(E10:E12) -> 2.5064485e+08
B23: INTERVENTORÍA (4 MESES) | D23: 280000000
B24: COSTO TOTAL | D24: =+D21+D23 -> 1.2268955e+09 | E24: =+E21+E23 -> 2.5064485e+08
D26: =+D24+E24 -> 1.4775403e+09
E42: =+D16*C18 -> 1.1653161e+08 | F42: ADMON 15,73%
E43: 52498724 | F43: PROTOCOLOS BIOSEGURIDAD
E44: =SUM(E42:E43) -> 1.6903033e+08

Sheet CARLOS VIECO
A2: OBRAS COMPLEMENTARIAS TEATRO CARLOS VIECO ORTIZ
A4: ACTIVIDADES | B4: INCLUYE (INFORMATIVO) | C4: VALOR DIRECTO (SIF) | D4: VALOR TOTAL DIRECTO (SIF)
A6: ACABADOS EN PISOS Y REVOQUES TEATRO CARLOS VIECO ORTIZ | B6: REVOQUES/ENCHAPES/PINTURA | C6: 32301508 | D6: =C8 -> 75181056
B7: PISOS | C7: 42879548
B8: TOTAL | C8: =SUM(C6:C7) -> 75181056
A9: ACABADOS EN CARPINTERÍA METÁLICA Y ACERO INOXIDABLE | B9: APARATOS SANITARIOS | C9: 48294491 | D9: =C12 -> 3.7624591e+08
B10: ELEMENTOS ACERO INOXIDABLE | C10: 113054100
B11: CARPINTERÍA METÁLICA Y ACCESORIOS (PUERTAS- PASAMANOS- CORTINAS) | C11: 2.1489732e+08
B12: TOTAL | C12: =SUM(C9:C11) -> 3.7624591e+08
A13: INSTALACIÓN DE REDES | B13: INST. HIDROSANITARIAS INTERNAS | C13: 59604770 | D13: =C18 -> 6.2180132e+08
B14: INST. HIDROSANITARIAS EXTERNAS | C14: 96929156
B15: INST. ELECTRICAS INTERNAS | C15: 2.686828e+08
B16: INST. ELÉCTRICAS EXTERNAS | C16: 151966929
B17: RED DE INCENDIOS | C17: 44617665
B18: TOTAL | C18: =SUM(C13:C17) -> 6.2180132e+08
A19: CERRAMIENTO PERIMETRAL | B19: Cerramiento perimetral para paso y protección de fauna existente (requerimiento AMVA) | C19: 211015000 | D19: =C20 -> 211015000
B20: TOTAL | C20: =SUM(C19) -> 211015000
A21: IMPERMEABILIZACIONES | B21: ACABADO BLOQUE HIDROFUGO | C21: 12169200 | D21: =C23 -> 62033407
B22: FILTROS, IMPERMEABILIZACIONES | C22: 49864207
B23: TOTAL | C23: =SUM(C21:C22) -> 62033407
A24: DOTACIÓN EQUIPOS ELECTROACÚSTICO Y DE ILUMINACIÓN | B24: SISTEMA ELECTROACÚSTICO E ILUMINACION ESCÉNICA V1 Motor Chainmaster BGV-D8 1600KG / Arreglo lineal de parlantes / Amplificador / Poleas / Luminarias tipo Eurotruss / Consola digital audio / dotación sonido. | E24: =E34 -> 7.9143433e+08 | F24: SECRETARÍA CULTURA CIUDADANA
C26: SUBTOTAL COSTOS DIRECTOS OBRA | D26: =SUM(D6:D23) -> 1.3462767e+09 | E26: 656356222
B28: 0.1558 | C28: ADMINISTRACIÓN DE OBRA (Incluye protocolos bio) | D28: =D54 -> 2.2860271e+08 | E28: =+E26*B28 -> 1.022603e+08
B29: 0.05 | C29: UTILIDAD DE OBRA | D29: =+D26*B29 -> 67313835 | E29: =+E26*B29 -> 32817811
C31: COSTO TOTAL DE LA OBRA | D31: =SUM(D26:D30) -> 1.6421932e+09 | E31: =SUM(E26:E29) -> 7.9143433e+08
C33: INTERVENTORÍA (4 MESES) | D33: 2.805647e+08
C34: COSTO TOTAL | D34: =+D31+D33 -> 1.9227579e+09 | E34: =E31 -> 7.9143433e+08
D36: =+D34+E34 -> 2.7141923e+09
D52: =+D26*B28 -> 2.0974991e+08 | E52: ADMON 15,58%
D53: 18852800 | E53: AJUSTE PROTOCOLO BIOSEGURIDAD IMPLEMENTADO
D54: =SUM(D52:D53) -> 2.2860271e+08

Sheet RESUMEN OBRA
D6: TOTAL EJECUCIÓN OBRA | E6: =+E13+E17+E24 -> 6.3826862e+09
D7: TOTAL SIF | E7: =+E14+E18+E25 -> 5.2408157e+09
D8: TOTAL OTRAS DEPENDENCIAS | E8: =+E15+E19+E26 -> 1.1418705e+09
D9: S.S.S (Bienes) | E9: =+E15+E21+E22 -> 2.503881e+08
D10: SEC. CULTURA | E10: =E26 -> 7.9143433e+08
D11: SUB. ESPACIO PÚBLICO | E11: =E20 -> 1.0004805e+08
D13: VÍA | E13: =+E14+E15 -> 2.1909536e+09
D14: SIF | E14: =VÍA!E33 -> 2.0911623e+09
D15: OTRAS DEPENDENCIAS | E15: =VÍA!F33 -> 99791298 | F15: S.S.S (Bienes)
D17: CIMA | E17: =+E18+E19 -> 1.4775403e+09
D18: SIF | E18: =CIMA!D24 -> 1.2268955e+09
D19: OTRAS DEPENDENCIAS | E19: =SUM(E20:E22) -> 2.5064485e+08
E20: =CIMA!E10 -> 1.0004805e+08 | F20: SUBSECRETARÌA ESPACIO PÚBLICO
E21: =CIMA!E11 -> 32439250 | F21: S.S.S (Bienes)
E22: =CIMA!E12 -> 1.1815755e+08 | F22: S.S.S (Bienes)
D24: CARLOS VIECO | E24: =+E25+E26 -> 2.7141923e+09
D25: SIF | E25: ='CARLOS VIECO'!D34 -> 1.9227579e+09
D26: OTRAS DEPENDENCIAS | E26: ='CARLOS VIECO'!E34 -> 7.9143433e+08 | F26: SECRETARÍA CULTURA CIUDADANA
F31: =SUM(E9:E11) -> 1.1418705e+09

Sheet FICHA EDU - 
B1: FICHA TÉCNICO ECONÓMICA EMPRESA DE DESA RROLLO URBANO - EDU
A2: Codigo:FE-01-001 | B2: Version:0 | C2: Fecha: | F2: Pagina 1 de 1
A4: Tipo de Contrato: | B4: Mandato
A6: Contratante: | B6: SECRETARIA DE SALUD DE MEDELLIN
A7: Objeto Convenio: | B7: "CONTRATO INTERADMINISTRATIVO DE MANDATO SIN REPRESENTACIÓN PARA REALIZAR ESTUDIOS, DISEÑOS E INTERVENTORÍA INTEGRAL Y LICENCIAMIENTO DE LA UNIDAD HOSPITALARIA SANTA CRUZ"
A8: Duración (meses): | B8: 9 | C8: Fecha de inicio | F8: Fecha de terminación
A10: COMPONENTE DE PERSONAL
A11: Función en el proyecto | B11: Título (Formación) | C11: Dedicación (meses) | D11: Unidad | E11: % dedicación | F11: Cantidad de recursos | G11: Vr. Unitario | H11: Vr. Total
A12: Coordinación | B12: Coordinador | C12: 9 | D12: Mes | E12: 0.5 | F12: 1 | G12: 7279119 | H12: =C12*E12*F12*G12 -> 32756036
A13: Equipo Administrativo y Jurídico | B13: Administrativo | C13: 9 | D13: Mes | E13: 0.5 | F13: 1 | G13: 5610897 | H13: =C13*E13*F13*G13 -> 25249036
B14: Abogado | C14: 9 | D14: Mes | E14: 0.5 | F14: 1 | G14: 5610897 | H14: =C14*E14*F14*G14 -> 25249036
A15: Equipo Diseño | B15: Arquitecto Líder | C15: 7 | D15: Mes | E15: 1 | F15: 1 | G15: 6597206 | H15: =C15*E15*F15*G15 -> 46180442
B16: Arquitecto | C16: 7 | D16: Mes | E16: 1 | F16: 2 | G16: 5610897 | H16: =C16*E16*F16*G16 -> 78552558
A17: Equipo Estructuración | B17: Normativo | C17: 2 | D17: Mes | E17: 1 | F17: 1 | G17: 5610897 | H17: =C17*E17*F17*G17 -> 11221794
B18: Estructurador | C18: 8 | D18: Mes | E18: 0.5 | F18: 1 | G18: 5610897 | H18: =C18*E18*F18*G18 -> 22443588
B19: Profesional Ambiental /Forestal | C19: 5 | D19: Mes | E19: 1 | F19: 1 | G19: 5610897 | H19: =C19*E19*F19*G19 -> 28054485
B20: Presupuestador | C20: 2 | D20: Mes | E20: 1 | F20: 1 | G20: 5610897 | H20: =C20*E20*F20*G20 -> 11221794
B21: Ingeniero Estructural | C21: 2 | D21: Mes | E21: 1 | F21: 1 | G21: 5610897 | H21: =C21*E21*F21*G21 -> 11221794
B22: Ingeniero Eléctrico | C22: 2 | D22: Mes | E22: 1 | F22: 1 | G22: 5610897 | H22: =C22*E22*F22*G22 -> 11221794
B23: Ingeniero Hidrosanitario | C23: 2 | D23: Mes | E23: 1 | F23: 1 | G23: 5610897 | H23: =C23*E23*F23*G23 -> 11221794
A24: Equipo Gestión Social | B24: Profesional Social | D24: Mes | E24: 1 | F24: 1 | G24: 5610897 | H24: =C24*E24*F24*G24 -> 0
A25: Provisión cambio de año 2022 | C25: 0 | D25: Mes | E25: 0.08 | H25: =C25*E25*G25 -> 0
A26: SUB TOTAL COMPONENTE DE PERSONAL | H26: =SUM(H12:H25) -> 3.1459415e+08 | I26: =H26/L26 -> 0.13758015 | L26: 2.2866245e+09
A27: COMPONENTE DE ESTUDIOS Y DISEÑOS TECNICOS
A28: Estudios y diseños técnicos | H28: =#REF! -> #REF!
A29: SUB TOTAL COMPONENTE DE EDTUDIOS Y DISEÑOS TECNICOS | H29: =SUM(H28:H28) -> #REF!
A30: COMPONENTE DE EJECUCIÓN
A31: Proyecto | D31: Unidad | E31: Área (m2) | H31: Valor total
A32: Obra e interventoría | H32: 0
A33: SUB TOTAL COMPONENTE DE EJECUCIÓN | H33: =H32 -> 0 | I33: =H33/L26 -> 0
A34: COMPONENTE DE GESTION SOCIAL Y COMUNICACIONES
A35: Gestion social y de comunicaciones
A36: SUB TOTAL COMPONENTE DE GESTION SOCIAL Y COMUNICACIONES | H36: =SUM(H35:H35) -> 0 | I36: =H36/L26 -> 0
A37: COMPONENTE DE APOYO LOGÍSTICO
A38: Transporte | C38: 9 | D38: Mes | E38: 0.5 | F38: 1 | G38: 7560800 | H38: =G38*F38*C38*E38 -> 34023600
A39: Suministro de papelería especializada y tóner para impresora | C39: 7 | D39: Mes | E39: 0.5 | F39: 1 | G39: 500000 | H39: =G39*F39*C39*E39 -> 1750000
A40: Impresiones, copias, ploteos y heligraficas | C40: 7 | D40: Mes | E40: 0.5 | F40: 1 | G40: 500000 | H40: =G40*F40*C40*E40 -> 1750000
A41: Impresoras (Color - Blanco y negro) | C41: 7 | D41: Mes | E41: 0.5 | F41: 1 | G41: 500000 | H41: =G41*F41*C41*E41 -> 1750000
A42: Puestos de trabajo | C42: 9 | D42: =D12 -> Mes | E42: =E12 -> 0.5 | F42: 3 | G42: 481954 | H42: =G42*F42*C42*E42 -> 6506379
A43: Puestos de trabajo | C43: 7 | D43: =D13 -> Mes | E43: 1 | F43: 3 | G43: 481954 | H43: =G43*F43*C43*E43 -> 10121034
...

Sheet PROGRAMACIÓN GENERAL (2)
B2: CONVENIO | D2: DURACIÓN meses | E2: INICIO | F2: FIN | G2: VALOR TOTAL CONVENIO
B3: CONVENIO DE DESEMPEÑO 4600103274 de 2024 CONVENIO DE DESEMPEÑO PARA EL FORTALECIMIENTO DE LA RED PÚBLICA DE SERVICIOS DE SALUD DEL DISTRITO DE MEDELLÍN. | D3: 43 | E3: 45671 | F3: 46979 | G3: 44361600711
B5: HITOS PROYECTO | D5: DÍAS | E5: INICIO | F5: FIN | G5: 2025 | NH5: 2026 | ABI5: 2027 | APJ5: 2028
G6: ENE | AL6: FEB | BN6: MAR | CS6: ABR | DW6: MAY | FB6: JUN | GF6: JUL | HK6: AGO | IP6: SEP | JT6: OCT | KY6: NOV | MC6: DIC | NH6: ENE | OM6: FEB | PO6: MAR | QT6: ABR | RX6: MAY | TC6: JUN | UG6: JUL | VL6: AGO | WQ6: SEP | XU6: OCT | YZ6: NOV | AAD6: DIC | ABI6: ENE | ACN6: FEB | ADP6: MAR | AEU6: ABR | AFY6: MAY | AHD6: JUN | AIH6: JUL | AJM6: AGO | AKR6: SEP | ALV6: OCT | ANA6: NOV | AOE6: DIC | APJ6: ENE | AQO6: FEB | ARQ6: MAR | ASV6: ABR | ATZ6: MAY | AVE6: JUN | AWI6: JUL | AXN6: AGO | AYS6: SEP | AZW6: OCT | BBB6: NOV | BCF6: DIC
B8: 1 | C8: FASE PREOPERATIVA | D8: 170 | E8: 45671 | F8: =E32-1 -> 45958 | G8: 45658 | H8: 45659 | I8: 45660 | J8: 45661 | K8: 45662 | L8: 45663 | M8: 45664 | N8: 45665 | O8: 45666 | P8: 45667 | Q8: 45668 | R8: 45669 | S8: 45670 | T8: 45671 | U8: 45672 | V8: 45673 | W8: 45674 | X8: 45675 | Y8: 45676 | Z8: 45677 | AA8: 45678 | AB8: 45679 | AC8: 45680 | AD8: 45681 | AE8: 45682 | AF8: 45683 | AG8: 45684 | AH8: 45685 | AI8: 45686 | AJ8: 45687 | AK8: 45688 | AL8: 45689 | AM8: 45690 | AN8: 45691 | AO8: 45692 | AP8: 45693 | AQ8: 45694 | AR8: 45695 | AS8: 45696 | AT8: 45697 | AU8: 45698 | AV8: 45699 | AW8: 45700 | AX8: 45701 | AY8: 45702 | AZ8: 45703 | BA8: 45704 | BB8: 45705 | BC8: 45706 | BD8: 45707 | BE8: 45708 | BF8: 45709 | BG8: 45710 | BH8: 45711 | BI8: 45712 | BJ8: 45713 | BK8: 45714 | BL8: 45715 | BM8: 45716 | BN8: 45717 | BO8: 45718 | BP8: 45719 | BQ8: 45720 | BR8: 45721 | BS8: 45722 | BT8: 45723 | BU8: 45724 | BV8: 45725 | BW8: 45726 | BX8: 45727 | BY8: 45728 | BZ8: 45729 | CA8: 45730 | CB8: 45731 | CC8: 45732 | CD8: 45733 | CE8: 45734 | CF8: 45735 | CG8: 45736 | CH8: 45737 | CI8: 45738 | CJ8: 45739 | CK8: 45740 | CL8: 45741 | CM8: 45742 | CN8: 45743 | CO8: 45744 | CP8: 45745 | CQ8: 45746 | CR8: 45747 | CS8: 45748 | CT8: 45749 | CU8: 45750 | CV8: 45751 | CW8: 45752 | CX8: 45753 | CY8: 45754 | CZ8: 45755 | DA8: 45756 | DB8: 45757 | DC8: 45758 | DD8: 45759 | DE8: 45760 | DF8: 45761 | DG8: 45762 | DH8: 45763 | DI8: 45764 | DJ8: 45765 | DK8: 45766 | DL8: 45767 | DM8: 45768 | DN8: 45769 | DO8: 45770 | DP8: 45771 | DQ8: 45772 | DR8: 45773 | DS8: 45774 | DT8: 45775 | DU8: 45776 | DV8: 45777 | DW8: 45778 | DX8: 45779 | DY8: 45780 | DZ8: 45781 | EA8: 45782 | EB8: 45783 | EC8: 45784 | ED8: 45785 | EE8: 45786 | EF8: 45787 | EG8: 45788 | EH8: 45789 | EI8: 45790 | EJ8: 45791 | EK8: 45792 | EL8: 45793 | EM8: 45794 | EN8: 45795 | EO8: 45796 | EP8: 45797 | EQ8: 45798 | ER8: 45799 | ES8: 45800 | ET8: 45801 | EU8: 45802 | EV8: 45803 | EW8: 45804 | EX8: 45805 | EY8: 45806 | EZ8: 45807 | FA8: 45808 | FB8: 45809 | FC8: 45810 | FD8: 45811 | FE8: 45812 | FF8: 45813 | FG8: 45814 | FH8: 45815 | FI8: 45816 | FJ8: 45817 | FK8: 45818 | FL8: 45819 | FM8: 45820 | FN8: 45821 | FO8: 45822 | FP8: 45823 | FQ8: 45824 | FR8: 45825 | FS8: 45826 | FT8: 45827 | FU8: 45828 | FV8: 45829 | FW8: 45830 | FX8: 45831 | FY8: 45832 | FZ8: 45833 | GA8: 45834 | GB8: 45835 | GC8: 45836 | GD8: 45837 | GE8: 45838 | GF8: 45839 | GG8: 45840 | GH8: 45841 | GI8: 45842 | GJ8: 45843 | GK8: 45844 | GL8: 45845 | GM8: 45846 | GN8: 45847 | GO8: 45848 | GP8: 45849 | GQ8: 45850 | GR8: 45851 | GS8: 45852 | GT8: 45853 | GU8: 45854 | GV8: 45855 | GW8: 45856 | GX8: 45857 | GY8: 45858 | GZ8: 45859 | HA8: 45860 | HB8: 45861 | HC8: 45862 | HD8: 45863 | HE8: 45864 | HF8: 45865 | HG8: 45866 | HH8: 45867 | HI8: 45868 | HJ8: 45869 | HK8: 45870 | HL8: 45871 | HM8: 45872 | HN8: 45873 | HO8: 45874 | HP8: 45875 | HQ8: 45876 | HR8: 45877 | HS8: 45878 | HT8: 45879 | HU8: 45880 | HV8: 45881 | HW8: 45882 | HX8: 45883 | HY8: 45884 | HZ8: 45885 | IA8: 45886 | IB8: 45887 | IC8: 45888 | ID8: 45889 | IE8: 45890 | IF8: 45891 | IG8: 45892 | IH8: 45893 | II8: 45894 | IJ8: 45895 | IK8: 45896 | IL8: 45897 | IM8: 45898 | IN8: 45899 | IO8: 45900 | IP8: 45901 | IQ8: 45902 | IR8: 45903 | IS8: 45904 | IT8: 45905 | IU8: 45906 | IV8: 45907 | IW8: 45908 | IX8: 45909 | IY8: 45910 | IZ8: 45911 | JA8: 45912 | JB8: 45913 | JC8: 45914 | JD8: 45915 | JE8: 45916 | JF8: 45917 | JG8: 45918 | JH8: 45919 | JI8: 45920 | JJ8: 45921 | JK8: 45922 | JL8: 45923 | JM8: 45924 | JN8: 45925 | JO8: 45926 | JP8: 45927 | JQ8: 45928 | JR8: 45929 | JS8: 45930 | JT8: 45931 | JU8: 45932 | JV8: 45933 | JW8: 45934 | JX8: 45935 | JY8: 45936 | JZ8: 45937 | KA8: 45938 | KB8: 45939 | KC8: 45940 | KD8: 45941 | KE8: 45942 | KF8: 45943 | KG8: 45944 | KH8: 45945 | KI8: 45946 | KJ8: 45947 | KK8: 45948 | KL8: 45949 | KM8: 45950 | KN8: 45951 | KO8: 45952 | KP8: 45953 | KQ8: 45954 | KR8: 45955 | KS8: 45956 | KT8: 45957 | KU8: 45958 | KV8: 45959 | KW8: 45960 | KX8: 45961 | KY8: 45962 | KZ8: 45963 | LA8: 45964 | LB8: 45965 | LC8: 45966 | LD8: 45967 | LE8: 45968 | LF8: 45969 | LG8: 45970 | LH8: 45971 | LI8: 45972 | LJ8: 45973 | LK8: 45974 | LL8: 45975 | LM8: 45976 | LN8: 45977 | LO8: 45978 | LP8: 45979 | LQ8: 45980 | LR8: 45981 | LS8: 45982 | LT8: 45983 | LU8: 45984 | LV8: 45985 | LW8: 45986 | LX8: 45987 | LY8: 45988 | LZ8: 45989 | MA8: 45990 | MB8: 45991 | MC8: 45992 | MD8: 45993 | ME8: 45994 | MF8: 45995 | MG8: 45996 | MH8: 45997 | MI8: 45998 | MJ8: 45999 | MK8: 46000 | ML8: 46001 | MM8: 46002 | MN8: 46003 | MO8: 46004 | MP8: 46005 | MQ8: 46006 | MR8: 46007 | MS8: 46008 | MT8: 46009 | MU8: 46010 | MV8: 46011 | MW8: 46012 | MX8: 46013 | MY8: 46014 | MZ8: 46015 | NA8: 46016 | NB8: 46017 | NC8: 46018 | ND8: 46019 | NE8: 46020 | NF8: 46021 | NG8: 46022 | NH8: 46023 | NI8: 46024 | NJ8: 46025 | NK8: 46026 | NL8: 46027 | NM8: 46028 | NN8: 46029 | NO8: 46030 | NP8: 46031 | NQ8: 46032 | NR8: 46033 | NS8: 46034 | NT8: 46035 | NU8: 46036 | NV8: 46037 | NW8: 46038 | NX8: 46039 | NY8: 46040 | NZ8: 46041 | OA8: 46042 | OB8: 46043 | OC8: 46044 | OD8: 46045 | OE8: 46046 | OF8: 46047 | OG8: 46048 | OH8: 46049 | OI8: 46050 | OJ8: 46051 | OK8: 46052 | OL8: 46053 | OM8: 46054 | ON8: 46055 | OO8: 46056 | OP8: 46057 | OQ8: 46058 | OR8: 46059 | OS8: 46060 | OT8: 46061 | OU8: 46062 | OV8: 46063 | OW8: 46064 | OX8: 46065 | OY8: 46066 | OZ8: 46067 | PA8: 46068 | PB8: 46069 | PC8: 46070 | PD8: 46071 | PE8: 46072 | PF8: 46073 | PG8: 46074 | PH8: 46075 | PI8: 46076 | PJ8: 46077 | PK8: 46078 | PL8: 46079 | PM8: 46080 | PN8: 46081 | PO8: 46082 | PP8: 46083 | PQ8: 46084 | PR8: 46085 | PS8: 46086 | PT8: 46087 | PU8: 46088 | PV8: 46089 | PW8: 46090 | PX8: 46091 | PY8: 46092 | PZ8: 46093 | QA8: 46094 | QB8: 46095 | QC8: 46096 | QD8: 46097 | QE8: 46098 | QF8: 46099 | QG8: 46100 | QH8: 46101 | QI8: 46102 | QJ8: 46103 | QK8: 46104 | QL8: 46105 | QM8: 46106 | QN8: 46107 | QO8: 46108 | QP8: 46109 | QQ8: 46110 | QR8: 46111 | QS8: 46112 | QT8: 46113 | QU8: 46114 | QV8: 46115 | QW8: 46116 | QX8: 46117 | QY8: 46118 | QZ8: 46119 | RA8: 46120 | RB8: 46121 | RC8: 46122 | RD8: 46123 | RE8: 46124 | RF8: 46125 | RG8: 46126 | RH8: 46127 | RI8: 46128 | RJ8: 46129 | RK8: 46130 | RL8: 46131 | RM8: 46132 | RN8: 46133 | RO8: 46134 | RP8: 46135 | RQ8: 46136 | RR8: 46137 | RS8: 46138 | RT8: 46139 | RU8: 46140 | RV8: 46141 | RW8: 46142 | RX8: 46143 | RY8: 46144 | RZ8: 46145 | SA8: 46146 | SB8: 46147 | SC8: 46148 | SD8: 46149 | SE8: 46150 | SF8: 46151 | SG8: 46152 | SH8: 46153 | SI8: 46154 | SJ8: 46155 | SK8: 46156 | SL8: 46157 | SM8: 46158 | SN8: 46159 | SO8: 46160 | SP8: 46161 | SQ8: 46162 | SR8: 46163 | SS8: 46164 | ST8: 46165 | SU8: 46166 | SV8: 46167 | SW8: 46168 | SX8: 46169 | SY8: 46170 | SZ8: 46171 | TA8: 46172 | TB8: 46173 | TC8: 46174 | TD8: 46175 | TE8: 46176 | TF8: 46177 | TG8: 46178 | TH8: 46179 | TI8: 46180 | TJ8: 46181 | TK8: 46182 | TL8: 46183 | TM8: 46184 | TN8: 46185 | TO8: 46186 | TP8: 46187 | TQ8: 46188 | TR8: 46189 | TS8: 46190 | TT8: 46191 | TU8: 46192 | TV8: 46193 | TW8: 46194 | TX8: 46195 | TY8: 46196 | TZ8: 46197 | UA8: 46198 | UB8: 46199 | UC8: 46200 | UD8: 46201 | UE8: 46202 | UF8: 46203 | UG8: 46204 | UH8: 46205 | UI8: 46206 | UJ8: 46207 | UK8: 46208 | UL8: 46209 | UM8: 46210 | UN8: 46211 | UO8: 46212 | UP8: 46213 | UQ8: 46214 | UR8: 46215 | US8: 46216 | UT8: 46217 | UU8: 46218 | UV8: 46219 | UW8: 46220 | UX8: 46221 | UY8: 46222 | UZ8: 46223 | VA8: 46224 | VB8: 46225 | VC8: 46226 | VD8: 46227 | VE8: 46228 | VF8: 46229 | VG8: 46230 | VH8: 46231 | VI8: 46232 | VJ8: 46233 | VK8: 46234 | VL8: 46235 | VM8: 46236 | VN8: 46237 | VO8: 46238 | VP8: 46239 | VQ8: 46240 | VR8: 46241 | VS8: 46242 | VT8: 46243 | VU8: 46244 | VV8: 46245 | VW8: 46246 | VX8: 46247 | VY8: 46248 | VZ8: 46249 | WA8: 46250 | WB8: 46251 | WC8: 46252 | WD8: 46253 | WE8: 46254 | WF8: 46255 | WG8: 46256 | WH8: 46257 | WI8: 46258 | WJ8: 46259 | WK8: 46260 | WL8: 46261 | WM8: 46262 | WN8: 46263 | WO8: 46264 | WP8: 46265 | WQ8: 46266 | WR8: 46267 | WS8: 46268 | WT8: 46269 | WU8: 46270 | WV8: 46271 | WW8: 46272 | WX8: 46273 | WY8: 46274 | WZ8: 46275 | XA8: 46276 | XB8: 46277 | XC8: 46278 | XD8: 46279 | XE8: 46280 | XF8: 46281 | XG8: 46282 | XH8: 46283 | XI8: 46284 | XJ8: 46285 | XK8: 46286 | XL8: 46287 | XM8: 46288 | XN8: 46289 | XO8: 46290 | XP8: 46291 | XQ8: 46292 | XR8: 46293 | XS8: 46294 | XT8: 46295 | XU8: 46296 | XV8: 46297 | XW8: 46298 | XX8: 46299 | XY8: 46300 | XZ8: 46301 | YA8: 46302 | YB8: 46303 | YC8: 46304 | YD8: 46305 | YE8: 46306 | YF8: 46307 | YG8: 46308 | YH8: 46309 | YI8: 46310 | YJ8: 46311 | YK8: 46312 | YL8: 46313 | YM8: 46314 | YN8: 46315 | YO8: 46316 | YP8: 46317 | YQ8: 46318 | YR8: 46319 | YS8: 46320 | YT8: 46321 | YU8: 46322 | YV8: 46323 | YW8: 46324 | YX8: 46325 | YY8: 46326 | YZ8: 46327 | ZA8: 46328 | ZB8: 46329 | ZC8: 46330 | ZD8: 46331 | ZE8: 46332 | ZF8: 46333 | ZG8: 46334 | ZH8: 46335 | ZI8: 46336 | ZJ8: 46337 | ZK8: 46338 | ZL8: 46339 | ZM8: 46340 | ZN8: 46341 | ZO8: 46342 | ZP8: 46343 | ZQ8: 46344 | ZR8: 46345 | ZS8: 46346 | ZT8: 46347 | ZU8: 46348 | ZV8: 46349 | ZW8: 46350 | ZX8: 46351 | ZY8: 46352 | ZZ8: 46353 | AAA8: 46354 | AAB8: 46355 | AAC8: 46356 | AAD8: 46357 | AAE8: 46358 | AAF8: 46359 | AAG8: 46360 | AAH8: 46361 | AAI8: 46362 | AAJ8: 46363 | AAK8: 46364 | AAL8: 46365 | AAM8: 46366 | AAN8: 46367 | AAO8: 46368 | AAP8: 46369 | AAQ8: 46370 | AAR8: 46371 | AAS8: 46372 | AAT8: 46373 | AAU8: 46374 | AAV8: 46375 | AAW8: 46376 | AAX8: 46377 | AAY8: 46378 | AAZ8: 46379 | ABA8: 46380 | ABB8: 46381 | ABC8: 46382 | ABD8: 46383 | ABE8: 46384 | ABF8: 46385 | ABG8: 46386 | ABH8: 46387 | ABI8: 46388 | ABJ8: 46389 | ABK8: 46390 | ABL8: 46391 | ABM8: 46392 | ABN8: 46393 | ABO8: 46394 | ABP8: 46395 | ABQ8: 46396 | ABR8: 46397 | ABS8: 46398 | ABT8: 46399 | ABU8: 46400 | ABV8: 46401 | ABW8: 46402 | ABX8: 46403 | ABY8: 46404 | ABZ8: 46405 | ACA8: 46406 | ACB8: 46407 | ACC8: 46408 | ACD8: 46409 | ACE8: 46410 | ACF8: 46411 | ACG8: 46412 | ACH8: 46413 | ACI8: 46414 | ACJ8: 46415 | ACK8: 46416 | ACL8: 46417 | ACM8: 46418 | ACN8: 46419 | ACO8: 46420 | ACP8: 46421 | ACQ8: 46422 | ACR8: 46423 | ACS8: 46424 | ACT8: 46425 | ACU8: 46426 | ACV8: 46427 | ACW8: 46428 | ACX8: 46429 | ACY8: 46430 | ACZ8: 46431 | ADA8: 46432 | ADB8: 46433 | ADC8: 46434 | ADD8: 46435 | ADE8: 46436 | ADF8: 46437 | ADG8: 46438 | ADH8: 46439 | ADI8: 46440 | ADJ8: 46441 | ADK8: 46442 | ADL8: 46443 | ADM8: 46444 | ADN8: 46445 | ADO8: 46446 | ADP8: 46447 | ADQ8: 46448 | ADR8: 46449 | ADS8: 46450 | ADT8: 46451 | ADU8: 46452 | ADV8: 46453 | ADW8: 46454 | ADX8: 46455 | ADY8: 46456 | ADZ8: 46457 | AEA8: 46458 | AEB8: 46459 | AEC8: 46460 | AED8: 46461 | AEE8: 46462 | AEF8: 46463 | AEG8: 46464 | AEH8: 46465 | AEI8: 46466 | AEJ8: 46467 | AEK8: 46468 | AEL8: 46469 | AEM8: 46470 | AEN8: 46471 | AEO8: 46472 | AEP8: 46473 | AEQ8: 46474 | AER8: 46475 | AES8: 46476 | AET8: 46477 | AEU8: 46478 | AEV8: 46479 | AEW8: 46480 | AEX8: 46481 | AEY8: 46482 | AEZ8: 46483 | AFA8: 46484 | AFB8: 46485 | AFC8: 46486 | AFD8: 46487 | AFE8: 46488 | AFF8: 46489 | AFG8: 46490 | AFH8: 46491 | AFI8: 46492 | AFJ8: 46493 | AFK8: 46494 | AFL8: 46495 | AFM8: 46496 | AFN8: 46497 | AFO8: 46498 | AFP8: 46499 | AFQ8: 46500 | AFR8: 46501 | AFS8: 46502 | AFT8: 46503 | AFU8: 46504 | AFV8: 46505 | AFW8: 46506 | AFX8: 46507 | AFY8: 46508 | AFZ8: 46509 | AGA8: 46510 | AGB8: 46511 | AGC8: 46512 | AGD8: 46513 | AGE8: 46514 | AGF8: 46515 | AGG8: 46516 | AGH8: 46517 | AGI8: 46518 | AGJ8: 46519 | AGK8: 46520 | AGL8: 46521 | AGM8: 46522 | AGN8: 46523 | AGO8: 46524 | AGP8: 46525 | AGQ8: 46526 | AGR8: 46527 | AGS8: 46528 | AGT8: 46529 | AGU8: 46530 | AGV8: 46531 | AGW8: 46532 | AGX8: 46533 | AGY8: 46534 | AGZ8: 46535 | AHA8: 46536 | AHB8: 46537 | AHC8: 46538 | AHD8: 46539 | AHE8: 46540 | AHF8: 46541 | AHG8: 46542 | AHH8: 46543 | AHI8: 46544 | AHJ8: 46545 | AHK8: 46546 | AHL8: 46547 | AHM8: 46548 | AHN8: 46549 | AHO8: 46550 | AHP8: 46551 | AHQ8: 46552 | AHR8: 46553 | AHS8: 46554 | AHT8: 46555 | AHU8: 46556 | AHV8: 46557 | AHW8: 46558 | AHX8: 46559 | AHY8: 46560 | AHZ8: 46561 | AIA8: 46562 | AIB8: 46563 | AIC8: 46564 | AID8: 46565 | AIE8: 46566 | AIF8: 46567 | AIG8: 46568 | AIH8: 46569 | AII8: 46570 | AIJ8: 46571 | AIK8: 46572 | AIL8: 46573 | AIM8: 46574 | AIN8: 46575 | AIO8: 46576 | AIP8: 46577 | AIQ8: 46578 | AIR8: 46579 | AIS8: 46580 | AIT8: 46581 | AIU8: 46582 | AIV8: 46583 | AIW8: 46584 | AIX8: 46585 | AIY8: 46586 | AIZ8: 46587 | AJA8: 46588 | AJB8: 46589 | AJC8: 46590 | AJD8: 46591 | AJE8: 46592 | AJF8: 46593 | AJG8: 46594 | AJH8: 46595 | AJI8: 46596 | AJJ8: 46597 | AJK8: 46598 | AJL8: 46599 | AJM8: 46600 | AJN8: 46601 | AJO8: 46602 | AJP8: 46603 | AJQ8: 46604 | AJR8: 46605 | AJS8: 46606 | AJT8: 46607 | AJU8: 46608 | AJV8: 46609 | AJW8: 46610 | AJX8: 46611 | AJY8: 46612 | AJZ8: 46613 | AKA8: 46614 | AKB8: 46615 | AKC8: 46616 | AKD8: 46617 | AKE8: 46618 | AKF8: 46619 | AKG8: 46620 | AKH8: 46621 | AKI8: 46622 | AKJ8: 46623 | AKK8: 46624 | AKL8: 46625 | AKM8: 46626 | AKN8: 46627 | AKO8: 46628 | AKP8: 46629 | AKQ8: 46630 | AKR8: 46631 | AKS8: 46632 | AKT8: 46633 | AKU8: 46634 | AKV8: 46635 | AKW8: 46636 | AKX8: 46637 | AKY8: 46638 | AKZ8: 46639 | ALA8: 46640 | ALB8: 46641 | ALC8: 46642 | ALD8: 46643 | ALE8: 46644 | ALF8: 46645 | ALG8: 46646 | ALH8: 46647 | ALI8: 46648 | ALJ8: 46649 | ALK8: 46650 | ALL8: 46651 | ALM8: 46652 | ALN8: 46653 | ALO8: 46654 | ALP8: 46655 | ALQ8: 46656 | ALR8: 46657 | ALS8: 46658 | ALT8: 46659 | ALU8: 46660 | ALV8: 46661 | ALW8: 46662 | ALX8: 46663 | ALY8: 46664 | ALZ8: 46665 | AMA8: 46666 | AMB8: 46667 | AMC8: 46668 | AMD8: 46669 | AME8: 46670 | AMF8: 46671 | AMG8: 46672 | AMH8: 46673 | AMI8: 46674 | AMJ8: 46675 | AMK8: 46676 | AML8: 46677 | AMM8: 46678 | AMN8: 46679 | AMO8: 46680 | AMP8: 46681 | AMQ8: 46682 | AMR8: 46683 | AMS8: 46684 | AMT8: 46685 | AMU8: 46686 | AMV8: 46687 | AMW8: 46688 | AMX8: 46689 | AMY8: 46690 | AMZ8: 46691 | ANA8: 46692 | ANB8: 46693 | ANC8: 46694 | AND8: 46695 | ANE8: 46696 | ANF8: 46697 | ANG8: 46698 | ANH8: 46699 | ANI8: 46700 | ANJ8: 46701 | ANK8: 46702 | ANL8: 46703 | ANM8: 46704 | ANN8: 46705 | ANO8: 46706 | ANP8: 46707 | ANQ8: 46708 | ANR8: 46709 | ANS8: 46710 | ANT8: 46711 | ANU8: 46712 | ANV8: 46713 | ANW8: 46714 | ANX8: 46715 | ANY8: 46716 | ANZ8: 46717 | AOA8: 46718 | AOB8: 46719 | AOC8: 46720 | AOD8: 46721 | AOE8: 46722 | AOF8: 46723 | AOG8: 46724 | AOH8: 46725 | AOI8: 46726 | AOJ8: 46727 | AOK8: 46728 | AOL8: 46729 | AOM8: 46730 | AON8: 46731 | AOO8: 46732 | AOP8: 46733 | AOQ8: 46734 | AOR8: 46735 | AOS8: 46736 | AOT8: 46737 | AOU8: 46738 | AOV8: 46739 | AOW8: 46740 | AOX8: 46741 | AOY8: 46742 | AOZ8: 46743 | APA8: 46744 | APB8: 46745 | APC8: 46746 | APD8: 46747 | APE8: 46748 | APF8: 46749 | APG8: 46750 | APH8: 46751 | API8: 46752 | APJ8: 46753 | APK8: 46754 | APL8: 46755 | APM8: 46756 | APN8: 46757 | APO8: 46758 | APP8: 46759 | APQ8: 46760 | APR8: 46761 | APS8: 46762 | APT8: 46763 | APU8: 46764 | APV8: 46765 | APW8: 46766 | APX8: 46767 | APY8: 46768 | APZ8: 46769 | AQA8: 46770 | AQB8: 46771 | AQC8: 46772 | AQD8: 46773 | AQE8: 46774 | AQF8: 46775 | AQG8: 46776 | AQH8: 46777 | AQI8: 46778 | AQJ8: 46779 | AQK8: 46780 | AQL8: 46781 | AQM8: 46782 | AQN8: 46783 | AQO8: 46784 | AQP8: 46785 | AQQ8: 46786 | AQR8: 46787 | AQS8: 46788 | AQT8: 46789 | AQU8: 46790 | AQV8: 46791 | AQW8: 46792 | AQX8: 46793 | AQY8: 46794 | AQZ8: 46795 | ARA8: 46796 | ARB8: 46797 | ARC8: 46798 | ARD8: 46799 | ARE8: 46800 | ARF8: 46801 | ARG8: 46802 | ARH8: 46803 | ARI8: 46804 | ARJ8: 46805 | ARK8: 46806 | ARL8: 46807 | ARM8: 46808 | ARN8: 46809 | ARO8: 46810 | ARP8: 46811 | ARQ8: 46812 | ARR8: 46813 | ARS8: 46814 | ART8: 46815 | ARU8: 46816 | ARV8: 46817 | ARW8: 46818 | ARX8: 46819 | ARY8: 46820 | ARZ8: 46821 | ASA8: 46822 | ASB8: 46823 | ASC8: 46824 | ASD8: 46825 | ASE8: 46826 | ASF8: 46827 | ASG8: 46828 | ASH8: 46829 | ASI8: 46830 | ASJ8: 46831 | ASK8: 46832 | ASL8: 46833 | ASM8: 46834 | ASN8: 46835 | ASO8: 46836 | ASP8: 46837 | ASQ8: 46838 | ASR8: 46839 | ASS8: 46840 | AST8: 46841 | ASU8: 46842 | ASV8: 46843 | ASW8: 46844 | ASX8: 46845 | ASY8: 46846 | ASZ8: 46847 | ATA8: 46848 | ATB8: 46849 | ATC8: 46850 | ATD8: 46851 | ATE8: 46852 | ATF8: 46853 | ATG8: 46854 | ATH8: 46855 | ATI8: 46856 | ATJ8: 46857 | ATK8: 46858 | ATL8: 46859 | ATM8: 46860 | ATN8: 46861 | ATO8: 46862 | ATP8: 46863 | ATQ8: 46864 | ATR8: 46865 | ATS8: 46866 | ATT8: 46867 | ATU8: 46868 | ATV8: 46869 | ATW8: 46870 | ATX8: 46871 | ATY8: 46872 | ATZ8: 46873 | AUA8: 46874 | AUB8: 46875 | AUC8: 46876 | AUD8: 46877 | AUE8: 46878 | AUF8: 46879 | AUG8: 46880 | AUH8: 46881 | AUI8: 46882 | AUJ8: 46883 | AUK8: 46884 | AUL8: 46885 | AUM8: 46886 | AUN8: 46887 | AUO8: 46888 | AUP8: 46889 | AUQ8: 46890 | AUR8: 46891 | AUS8: 46892 | AUT8: 46893 | AUU8: 46894 | AUV8: 46895 | AUW8: 46896 | AUX8: 46897 | AUY8: 46898 | AUZ8: 46899 | AVA8: 46900 | AVB8: 46901 | AVC8: 46902 | AVD8: 46903 | AVE8: 46904 | AVF8: 46905 | AVG8: 46906 | AVH8: 46907 | AVI8: 46908 | AVJ8: 46909 | AVK8: 46910 | AVL8: 46911 | AVM8: 46912 | AVN8: 46913 | AVO8: 46914 | AVP8: 46915 | AVQ8: 46916 | AVR8: 46917 | AVS8: 46918 | AVT8: 46919 | AVU8: 46920 | AVV8: 46921 | AVW8: 46922 | AVX8: 46923 | AVY8: 46924 | AVZ8: 46925 | AWA8: 46926 | AWB8: 46927 | AWC8: 46928 | AWD8: 46929 | AWE8: 46930 | AWF8: 46931 | AWG8: 46932 | AWH8: 46933 | AWI8: 46934 | AWJ8: 46935 | AWK8: 46936 | AWL8: 46937 | AWM8: 46938 | AWN8: 46939 | AWO8: 46940 | AWP8: 46941 | AWQ8: 46942 | AWR8: 46943 | AWS8: 46944 | AWT8: 46945 | AWU8: 46946 | AWV8: 46947 | AWW8: 46948 | AWX8: 46949 | AWY8: 46950 | AWZ8: 46951 | AXA8: 46952 | AXB8: 46953 | AXC8: 46954 | AXD8: 46955 | AXE8: 46956 | AXF8: 46957 | AXG8: 46958 | AXH8: 46959 | AXI8: 46960 | AXJ8: 46961 | AXK8: 46962 | AXL8: 46963 | AXM8: 46964 | AXN8: 46965 | AXO8: 46966 | AXP8: 46967 | AXQ8: 46968 | AXR8: 46969 | AXS8: 46970 | AXT8: 46971 | AXU8: 46972 | AXV8: 46973 | AXW8: 46974 | AXX8: 46975 | AXY8: 46976 | AXZ8: 46977 | AYA8: 46978 | AYB8: 46979 | AYC8: 46980 | AYD8: 46981 | AYE8: 46982 | AYF8: 46983 | AYG8: 46984 | AYH8: 46985 | AYI8: 46986 | AYJ8: 46987 | AYK8: 46988 | AYL8: 46989 | AYM8: 46990 | AYN8: 46991 | AYO8: 46992 | AYP8: 46993 | AYQ8: 46994 | AYR8: 46995 | AYS8: 46996 | AYT8: 46997 | AYU8: 46998 | AYV8: 46999 | AYW8: 47000 | AYX8: 47001 | AYY8: 47002 | AYZ8: 47003 | AZA8: 47004 | AZB8: 47005 | AZC8: 47006 | AZD8: 47007 | AZE8: 47008 | AZF8: 47009 | AZG8: 47010 | AZH8: 47011 | AZI8: 47012 | AZJ8: 47013 | AZK8: 47014 | AZL8: 47015 | AZM8: 47016 | AZN8: 47017 | AZO8: 47018 | AZP8: 47019 | AZQ8: 47020 | AZR8: 47021 | AZS8: 47022 | AZT8: 47023 | AZU8: 47024 | AZV8: 47025 | AZW8: 47026 | AZX8: 47027 | AZY8: 47028 | AZZ8: 47029 | BAA8: 47030 | BAB8: 47031 | BAC8: 47032 | BAD8: 47033 | BAE8: 47034 | BAF8: 47035 | BAG8: 47036 | BAH8: 47037 | BAI8: 47038 | BAJ8: 47039 | BAK8: 47040 | BAL8: 47041 | BAM8: 47042 | BAN8: 47043 | BAO8: 47044 | BAP8: 47045 | BAQ8: 47046 | BAR8: 47047 | BAS8: 47048 | BAT8: 47049 | BAU8: 47050 | BAV8: 47051 | BAW8: 47052 | BAX8: 47053 | BAY8: 47054 | BAZ8: 47055 | BBA8: 47056 | BBB8: 47057 | BBC8: 47058 | BBD8: 47059 | BBE8: 47060 | BBF8: 47061 | BBG8: 47062 | BBH8: 47063 | BBI8: 47064 | BBJ8: 47065 | BBK8: 47066 | BBL8: 47067 | BBM8: 47068 | BBN8: 47069 | BBO8: 47070 | BBP8: 47071 | BBQ8: 47072 | BBR8: 47073 | BBS8: 47074 | BBT8: 47075 | BBU8: 47076 | BBV8: 47077 | BBW8: 47078 | BBX8: 47079 | BBY8: 47080 | BBZ8: 47081 | BCA8: 47082 | BCB8: 47083 | BCC8: 47084 | BCD8: 47085 | BCE8: 47086 | BCF8: 47087 | BCG8: 47088 | BCH8: 47089 | BCI8: 47090 | BCJ8: 47091 | BCK8: 47092 | BCL8: 47093 | BCM8: 47094 | BCN8: 47095 | BCO8: 47096 | BCP8: 47097 | BCQ8: 47098 | BCR8: 47099 | BCS8: 47100 | BCT8: 47101 | BCU8: 47102 | BCV8: 47103 | BCW8: 47104 | BCX8: 47105 | BCY8: 47106 | BCZ8: 47107 | BDA8: 47108 | BDB8: 47109 | BDC8: 47110 | BDD8: 47111 | BDE8: 47112 | BDF8: 47113 | BDG8: 47114 | BDH8: 47115 | BDI8: 47116 | BDJ8: 47117 | BDK8: 47118
B10: 1 | C10: REVISIÓN DOCUMENTACÓN ESE METROSALUD | D10: 60 | E10: 45671 | F10: =E10+D10-1 -> 45730 | G10: 45658 | H10: 45659 | I10: 45660 | J10: 45661 | K10: 45662 | L10: 45663 | M10: 45664 | N10: 45665 | O10: 45666 | P10: 45667 | Q10: 45668 | R10: 45669 | S10: 45670 | T10: 45671 | U10: 45672 | V10: 45673 | W10: 45674 | X10: 45675 | Y10: 45676 | Z10: 45677 | AA10: 45678 | AB10: 45679 | AC10: 45680 | AD10: 45681 | AE10: 45682 | AF10: 45683 | AG10: 45684 | AH10: 45685 | AI10: 45686 | AJ10: 45687 | AK10: 45688 | AL10: 45689 | AM10: 45690 | AN10: 45691 | AO10: 45692 | AP10: 45693 | AQ10: 45694 | AR10: 45695 | AS10: 45696 | AT10: 45697 | AU10: 45698 | AV10: 45699 | AW10: 45700 | AX10: 45701 | AY10: 45702 | AZ10: 45703 | BA10: 45704 | BB10: 45705 | BC10: 45706 | BD10: 45707 | BE10: 45708 | BF10: 45709 | BG10: 45710 | BH10: 45711 | BI10: 45712 | BJ10: 45713 | BK10: 45714 | BL10: 45715 | BM10: 45716 | BN10: 45717 | BO10: 45718 | BP10: 45719 | BQ10: 45720 | BR10: 45721 | BS10: 45722 | BT10: 45723 | BU10: 45724 | BV10: 45725 | BW10: 45726 | BX10: 45727 | BY10: 45728 | BZ10: 45729 | CA10: 45730 | CB10: 45731 | CC10: 45732 | CD10: 45733 | CE10: 45734 | CF10: 45735 | CG10: 45736 | CH10: 45737 | CI10: 45738 | CJ10: 45739 | CK10: 45740 | CL10: 45741 | CM10: 45742 | CN10: 45743 | CO10: 45744 | CP10: 45745 | CQ10: 45746 | CR10: 45747 | CS10: 45748 | CT10: 45749 | CU10: 45750 | CV10: 45751 | CW10: 45752 | CX10: 45753 | CY10: 45754 | CZ10: 45755 | DA10: 45756 | DB10: 45757 | DC10: 45758 | DD10: 45759 | DE10: 45760 | DF10: 45761 | DG10: 45762 | DH10: 45763 | DI10: 45764 | DJ10: 45765 | DK10: 45766 | DL10: 45767 | DM10: 45768 | DN10: 45769 | DO10: 45770 | DP10: 45771 | DQ10: 45772 | DR10: 45773 | DS10: 45774 | DT10: 45775 | DU10: 45776 | DV10: 45777 | DW10: 45778 | DX10: 45779 | DY10: 45780 | DZ10: 45781 | EA10: 45782 | EB10: 45783 | EC10: 45784 | ED10: 45785 | EE10: 45786 | EF10: 45787 | EG10: 45788 | EH10: 45789 | EI10: 45790 | EJ10: 45791 | EK10: 45792 | EL10: 45793 | EM10: 45794 | EN10: 45795 | EO10: 45796 | EP10: 45797 | EQ10: 45798 | ER10: 45799 | ES10: 45800 | ET10: 45801 | EU10: 45802 | EV10: 45803 | EW10: 45804 | EX10: 45805 | EY10: 45806 | EZ10: 45807 | FA10: 45808 | FB10: 45809 | FC10: 45810 | FD10: 45811 | FE10: 45812 | FF10: 45813 | FG10: 45814 | FH10: 45815 | FI10: 45816 | FJ10: 45817 | FK10: 45818 | FL10: 45819 | FM10: 45820 | FN10: 45821 | FO10: 45822 | FP10: 45823 | FQ10: 45824 | FR10: 45825 | FS10: 45826 | FT10: 45827 | FU10: 45828 | FV10: 45829 | FW10: 45830 | FX10: 45831 | FY10: 45832 | FZ10: 45833 | GA10: 45834 | GB10: 45835 | GC10: 45836 | GD10: 45837 | GE10: 45838 | GF10: 45839 | GG10: 45840 | GH10: 45841 | GI10: 45842 | GJ10: 45843 | GK10: 45844 | GL10: 45845 | GM10: 45846 | GN10: 45847 | GO10: 45848 | GP10: 45849 | GQ10: 45850 | GR10: 45851 | GS10: 45852 | GT10: 45853 | GU10: 45854 | GV10: 45855 | GW10: 45856 | GX10: 45857 | GY10: 45858 | GZ10: 45859 | HA10: 45860 | HB10: 45861 | HC10: 45862 | HD10: 45863 | HE10: 45864 | HF10: 45865 | HG10: 45866 | HH10: 45867 | HI10: 45868 | HJ10: 45869 | HK10: 45870 | HL10: 45871 | HM10: 45872 | HN10: 45873 | HO10: 45874 | HP10: 45875 | HQ10: 45876 | HR10: 45877 | HS10: 45878 | HT10: 45879 | HU10: 45880 | HV10: 45881 | HW10: 45882 | HX10: 45883 | HY10: 45884 | HZ10: 45885 | IA10: 45886 | IB10: 45887 | IC10: 45888 | ID10: 45889 | IE10: 45890 | IF10: 45891 | IG10: 45892 | IH10: 45893 | II10: 45894 | IJ10: 45895 | IK10: 45896 | IL10: 45897 | IM10: 45898 | IN10: 45899 | IO10: 45900 | IP10: 45901 | IQ10: 45902 | IR10: 45903 | IS10: 45904 | IT10: 45905 | IU10: 45906 | IV10: 45907 | IW10: 45908 | IX10: 45909 | IY10: 45910 | IZ10: 45911 | JA10: 45912 | JB10: 45913 | JC10: 45914 | JD10: 45915 | JE10: 45916 | JF10: 45917 | JG10: 45918 | JH10: 45919 | JI10: 45920 | JJ10: 45921 | JK10: 45922 | JL10: 45923 | JM10: 45924 | JN10: 45925 | JO10: 45926 | JP10: 45927 | JQ10: 45928 | JR10: 45929 | JS10: 45930 | JT10: 45931 | JU10: 45932 | JV10: 45933 | JW10: 45934 | JX10: 45935 | JY10: 45936 | JZ10: 45937 | KA10: 45938 | KB10: 45939 | KC10: 45940 | KD10: 45941 | KE10: 45942 | KF10: 45943 | KG10: 45944 | KH10: 45945 | KI10: 45946 | KJ10: 45947 | KK10: 45948 | KL10: 45949 | KM10: 45950 | KN10: 45951 | KO10: 45952 | KP10: 45953 | KQ10: 45954 | KR10: 45955 | KS10: 45956 | KT10: 45957 | KU10: 45958 | KV10: 45959 | KW10: 45960 | KX10: 45961 | KY10: 45962 | KZ10: 45963 | LA10: 45964 | LB10: 45965 | LC10: 45966 | LD10: 45967 | LE10: 45968 | LF10: 45969 | LG10: 45970 | LH10: 45971 | LI10: 45972 | LJ10: 45973 | LK10: 45974 | LL10: 45975 | LM10: 45976 | LN10: 45977 | LO10: 45978 | LP10: 45979 | LQ10: 45980 | LR10: 45981 | LS10: 45982 | LT10: 45983 | LU10: 45984 | LV10: 45985 | LW10: 45986 | LX10: 45987 | LY10: 45988 | LZ10: 45989 | MA10: 45990 | MB10: 45991 | MC10: 45992 | MD10: 45993 | ME10: 45994 | MF10: 45995 | MG10: 45996 | MH10: 45997 | MI10: 45998 | MJ10: 45999 | MK10: 46000 | ML10: 46001 | MM10: 46002 | MN10: 46003 | MO10: 46004 | MP10: 46005 | MQ10: 46006 | MR10: 46007 | MS10: 46008 | MT10: 46009 | MU10: 46010 | MV10: 46011 | MW10: 46012 | MX10: 46013 | MY10: 46014 | MZ10: 46015 | NA10: 46016 | NB10: 46017 | NC10: 46018 | ND10: 46019 | NE10: 46020 | NF10: 46021 | NG10: 46022 | NH10: 46023 | NI10: 46024 | NJ10: 46025 | NK10: 46026 | NL10: 46027 | NM10: 46028 | NN10: 46029 | NO10: 46030 | NP10: 46031 | NQ10: 46032 | NR10: 46033 | NS10: 46034 | NT10: 46035 | NU10: 46036 | NV10: 46037 | NW10: 46038 | NX10: 46039 | NY10: 46040 | NZ10: 46041 | OA10: 46042 | OB10: 46043 | OC10: 46044 | OD10: 46045 | OE10: 46046 | OF10: 46047 | OG10: 46048 | OH10: 46049 | OI10: 46050 | OJ10: 46051 | OK10: 46052 | OL10: 46053 | OM10: 46054 | ON10: 46055 | OO10: 46056 | OP10: 46057 | OQ10: 46058 | OR10: 46059 | OS10: 46060 | OT10: 46061 | OU10: 46062 | OV10: 46063 | OW10: 46064 | OX10: 46065 | OY10: 46066 | OZ10: 46067 | PA10: 46068 | PB10: 46069 | PC10: 46070 | PD10: 46071 | PE10: 46072 | PF10: 46073 | PG10: 46074 | PH10: 46075 | PI10: 46076 | PJ10: 46077 | PK10: 46078 | PL10: 46079 | PM10: 46080 | PN10: 46081 | PO10: 46082 | PP10: 46083 | PQ10: 46084 | PR10: 46085 | PS10: 46086 | PT10: 46087 | PU10: 46088 | PV10: 46089 | PW10: 46090 | PX10: 46091 | PY10: 46092 | PZ10: 46093 | QA10: 46094 | QB10: 46095 | QC10: 46096 | QD10: 46097 | QE10: 46098 | QF10: 46099 | QG10: 46100 | QH10: 46101 | QI10: 46102 | QJ10: 46103 | QK10: 46104 | QL10: 46105 | QM10: 46106 | QN10: 46107 | QO10: 46108 | QP10: 46109 | QQ10: 46110 | QR10: 46111 | QS10: 46112 | QT10: 46113 | QU10: 46114 | QV10: 46115 | QW10: 46116 | QX10: 46117 | QY10: 46118 | QZ10: 46119 | RA10: 46120 | RB10: 46121 | RC10: 46122 | RD10: 46123 | RE10: 46124 | RF10: 46125 | RG10: 46126 | RH10: 46127 | RI10: 46128 | RJ10: 46129 | RK10: 46130 | RL10: 46131 | RM10: 46132 | RN10: 46133 | RO10: 46134 | RP10: 46135 | RQ10: 46136 | RR10: 46137 | RS10: 46138 | RT10: 46139 | RU10: 46140 | RV10: 46141 | RW10: 46142 | RX10: 46143 | RY10: 46144 | RZ10: 46145 | SA10: 46146 | SB10: 46147 | SC10: 46148 | SD10: 46149 | SE10: 46150 | SF10: 46151 | SG10: 46152 | SH10: 46153 | SI10: 46154 | SJ10: 46155 | SK10: 46156 | SL10: 46157 | SM10: 46158 | SN10: 46159 | SO10: 46160 | SP10: 46161 | SQ10: 46162 | SR10: 46163 | SS10: 46164 | ST10: 46165 | SU10: 46166 | SV10: 46167 | SW10: 46168 | SX10: 46169 | SY10: 46170 | SZ10: 46171 | TA10: 46172 | TB10: 46173 | TC10: 46174 | TD10: 46175 | TE10: 46176 | TF10: 46177 | TG10: 46178 | TH10: 46179 | TI10: 46180 | TJ10: 46181 | TK10: 46182 | TL10: 46183 | TM10: 46184 | TN10: 46185 | TO10: 46186 | TP10: 46187 | TQ10: 46188 | TR10: 46189 | TS10: 46190 | TT10: 46191 | TU10: 46192 | TV10: 46193 | TW10: 46194 | TX10: 46195 | TY10: 46196 | TZ10: 46197 | UA10: 46198 | UB10: 46199 | UC10: 46200 | UD10: 46201 | UE10: 46202 | UF10: 46203 | UG10: 46204 | UH10: 46205 | UI10: 46206 | UJ10: 46207 | UK10: 46208 | UL10: 46209 | UM10: 46210 | UN10: 46211 | UO10: 46212 | UP10: 46213 | UQ10: 46214 | UR10: 46215 | US10: 46216 | UT10: 46217 | UU10: 46218 | UV10: 46219 | UW10: 46220 | UX10: 46221 | UY10: 46222 | UZ10: 46223 | VA10: 46224 | VB10: 46225 | VC10: 46226 | VD10: 46227 | VE10: 46228 | VF10: 46229 | VG10: 46230 | VH10: 46231 | VI10: 46232 | VJ10: 46233 | VK10: 46234 | VL10: 46235 | VM10: 46236 | VN10: 46237 | VO10: 46238 | VP10: 46239 | VQ10: 46240 | VR10: 46241 | VS10: 46242 | VT10: 46243 | VU10: 46244 | VV10: 46245 | VW10: 46246 | VX10: 46247 | VY10: 46248 | VZ10: 46249 | WA10: 46250 | WB10: 46251 | WC10: 46252 | WD10: 46253 | WE10: 46254 | WF10: 46255 | WG10: 46256 | WH10: 46257 | WI10: 46258 | WJ10: 46259 | WK10: 46260 | WL10: 46261 | WM10: 46262 | WN10: 46263 | WO10: 46264 | WP10: 46265 | WQ10: 46266 | WR10: 46267 | WS10: 46268 | WT10: 46269 | WU10: 46270 | WV10: 46271 | WW10: 46272 | WX10: 46273 | WY10: 46274 | WZ10: 46275 | XA10: 46276 | XB10: 46277 | XC10: 46278 | XD10: 46279 | XE10: 46280 | XF10: 46281 | XG10: 46282 | XH10: 46283 | XI10: 46284 | XJ10: 46285 | XK10: 46286 | XL10: 46287 | XM10: 46288 | XN10: 46289 | XO10: 46290 | XP10: 46291 | XQ10: 46292 | XR10: 46293 | XS10: 46294 | XT10: 46295 | XU10: 46296 | XV10: 46297 | XW10: 46298 | XX10: 46299 | XY10: 46300 | XZ10: 46301 | YA10: 46302 | YB10: 46303 | YC10: 46304 | YD10: 46305 | YE10: 46306 | YF10: 46307 | YG10: 46308 | YH10: 46309 | YI10: 46310 | YJ10: 46311 | YK10: 46312 | YL10: 46313 | YM10: 46314 | YN10: 46315 | YO10: 46316 | YP10: 46317 | YQ10: 46318 | YR10: 46319 | YS10: 46320 | YT10: 46321 | YU10: 46322 | YV10: 46323 | YW10: 46324 | YX10: 46325 | YY10: 46326 | YZ10: 46327 | ZA10: 46328 | ZB10: 46329 | ZC10: 46330 | ZD10: 46331 | ZE10: 46332 | ZF10: 46333 | ZG10: 46334 | ZH10: 46335 | ZI10: 46336 | ZJ10: 46337 | ZK10: 46338 | ZL10: 46339 | ZM10: 46340 | ZN10: 46341 | ZO10: 46342 | ZP10: 46343 | ZQ10: 46344 | ZR10: 46345 | ZS10: 46346 | ZT10: 46347 | ZU10: 46348 | ZV10: 46349 | ZW10: 46350 | ZX10: 46351 | ZY10: 46352 | ZZ10: 46353 | AAA10: 46354 | AAB10: 46355 | AAC10: 46356 | AAD10: 46357 | AAE10: 46358 | AAF10: 46359 | AAG10: 46360 | AAH10: 46361 | AAI10: 46362 | AAJ10: 46363 | AAK10: 46364 | AAL10: 46365 | AAM10: 46366 | AAN10: 46367 | AAO10: 46368 | AAP10: 46369 | AAQ10: 46370 | AAR10: 46371 | AAS10: 46372 | AAT10: 46373 | AAU10: 46374 | AAV10: 46375 | AAW10: 46376 | AAX10: 46377 | AAY10: 46378 | AAZ10: 46379 | ABA10: 46380 | ABB10: 46381 | ABC10: 46382 | ABD10: 46383 | ABE10: 46384 | ABF10: 46385 | ABG10: 46386 | ABH10: 46387 | ABI10: 46388 | ABJ10: 46389 | ABK10: 46390 | ABL10: 46391 | ABM10: 46392 | ABN10: 46393 | ABO10: 46394 | ABP10: 46395 | ABQ10: 46396 | ABR10: 46397 | ABS10: 46398 | ABT10: 46399 | ABU10: 46400 | ABV10: 46401 | ABW10: 46402 | ABX10: 46403 | ABY10: 46404 | ABZ10: 46405 | ACA10: 46406 | ACB10: 46407 | ACC10: 46408 | ACD10: 46409 | ACE10: 46410 | ACF10: 46411 | ACG10: 46412 | ACH10: 46413 | ACI10: 46414 | ACJ10: 46415 | ACK10: 46416 | ACL10: 46417 | ACM10: 46418 | ACN10: 46419 | ACO10: 46420 | ACP10: 46421 | ACQ10: 46422 | ACR10: 46423 | ACS10: 46424 | ACT10: 46425 | ACU10: 46426 | ACV10: 46427 | ACW10: 46428 | ACX10: 46429 | ACY10: 46430 | ACZ10: 46431 | ADA10: 46432 | ADB10: 46433 | ADC10: 46434 | ADD10: 46435 | ADE10: 46436 | ADF10: 46437 | ADG10: 46438 | ADH10: 46439 | ADI10: 46440 | ADJ10: 46441 | ADK10: 46442 | ADL10: 46443 | ADM10: 46444 | ADN10: 46445 | ADO10: 46446 | ADP10: 46447 | ADQ10: 46448 | ADR10: 46449 | ADS10: 46450 | ADT10: 46451 | ADU10: 46452 | ADV10: 46453 | ADW10: 46454 | ADX10: 46455 | ADY10: 46456 | ADZ10: 46457 | AEA10: 46458 | AEB10: 46459 | AEC10: 46460 | AED10: 46461 | AEE10: 46462 | AEF10: 46463 | AEG10: 46464 | AEH10: 46465 | AEI10: 46466 | AEJ10: 46467 | AEK10: 46468 | AEL10: 46469 | AEM10: 46470 | AEN10: 46471 | AEO10: 46472 | AEP10: 46473 | AEQ10: 46474 | AER10: 46475 | AES10: 46476 | AET10: 46477 | AEU10: 46478 | AEV10: 46479 | AEW10: 46480 | AEX10: 46481 | AEY10: 46482 | AEZ10: 46483 | AFA10: 46484 | AFB10: 46485 | AFC10: 46486 | AFD10: 46487 | AFE10: 46488 | AFF10: 46489 | AFG10: 46490 | AFH10: 46491 | AFI10: 46492 | AFJ10: 46493 | AFK10: 46494 | AFL10: 46495 | AFM10: 46496 | AFN10: 46497 | AFO10: 46498 | AFP10: 46499 | AFQ10: 46500 | AFR10: 46501 | AFS10: 46502 | AFT10: 46503 | AFU10: 46504 | AFV10: 46505 | AFW10: 46506 | AFX10: 46507 | AFY10: 46508 | AFZ10: 46509 | AGA10: 46510 | AGB10: 46511 | AGC10: 46512 | AGD10: 46513 | AGE10: 46514 | AGF10: 46515 | AGG10: 46516 | AGH10: 46517 | AGI10: 46518 | AGJ10: 46519 | AGK10: 46520 | AGL10: 46521 | AGM10: 46522 | AGN10: 46523 | AGO10: 46524 | AGP10: 46525 | AGQ10: 46526 | AGR10: 46527 | AGS10: 46528 | AGT10: 46529 | AGU10: 46530 | AGV10: 46531 | AGW10: 46532 | AGX10: 46533 | AGY10: 46534 | AGZ10: 46535 | AHA10: 46536 | AHB10: 46537 | AHC10: 46538 | AHD10: 46539 | AHE10: 46540 | AHF10: 46541 | AHG10: 46542 | AHH10: 46543 | AHI10: 46544 | AHJ10: 46545 | AHK10: 46546 | AHL10: 46547 | AHM10: 46548 | AHN10: 46549 | AHO10: 46550 | AHP10: 46551 | AHQ10: 46552 | AHR10: 46553 | AHS10: 46554 | AHT10: 46555 | AHU10: 46556 | AHV10: 46557 | AHW10: 46558 | AHX10: 46559 | AHY10: 46560 | AHZ10: 46561 | AIA10: 46562 | AIB10: 46563 | AIC10: 46564 | AID10: 46565 | AIE10: 46566 | AIF10: 46567 | AIG10: 46568 | AIH10: 46569 | AII10: 46570 | AIJ10: 46571 | AIK10: 46572 | AIL10: 46573 | AIM10: 46574 | AIN10: 46575 | AIO10: 46576 | AIP10: 46577 | AIQ10: 46578 | AIR10: 46579 | AIS10: 46580 | AIT10: 46581 | AIU10: 46582 | AIV10: 46583 | AIW10: 46584 | AIX10: 46585 | AIY10: 46586 | AIZ10: 46587 | AJA10: 46588 | AJB10: 46589 | AJC10: 46590 | AJD10: 46591 | AJE10: 46592 | AJF10: 46593 | AJG10: 46594 | AJH10: 46595 | AJI10: 46596 | AJJ10: 46597 | AJK10: 46598 | AJL10: 46599 | AJM10: 46600 | AJN10: 46601 | AJO10: 46602 | AJP10: 46603 | AJQ10: 46604 | AJR10: 46605 | AJS10: 46606 | AJT10: 46607 | AJU10: 46608 | AJV10: 46609 | AJW10: 46610 | AJX10: 46611 | AJY10: 46612 | AJZ10: 46613 | AKA10: 46614 | AKB10: 46615 | AKC10: 46616 | AKD10: 46617 | AKE10: 46618 | AKF10: 46619 | AKG10: 46620 | AKH10: 46621 | AKI10: 46622 | AKJ10: 46623 | AKK10: 46624 | AKL10: 46625 | AKM10: 46626 | AKN10: 46627 | AKO10: 46628 | AKP10: 46629 | AKQ10: 46630 | AKR10: 46631 | AKS10: 46632 | AKT10: 46633 | AKU10: 46634 | AKV10: 46635 | AKW10: 46636 | AKX10: 46637 | AKY10: 46638 | AKZ10: 46639 | ALA10: 46640 | ALB10: 46641 | ALC10: 46642 | ALD10: 46643 | ALE10: 46644 | ALF10: 46645 | ALG10: 46646 | ALH10: 46647 | ALI10: 46648 | ALJ10: 46649 | ALK10: 46650 | ALL10: 46651 | ALM10: 46652 | ALN10: 46653 | ALO10: 46654 | ALP10: 46655 | ALQ10: 46656 | ALR10: 46657 | ALS10: 46658 | ALT10: 46659 | ALU10: 46660 | ALV10: 46661 | ALW10: 46662 | ALX10: 46663 | ALY10: 46664 | ALZ10: 46665 | AMA10: 46666 | AMB10: 46667 | AMC10: 46668 | AMD10: 46669 | AME10: 46670 | AMF10: 46671 | AMG10: 46672 | AMH10: 46673 | AMI10: 46674 | AMJ10: 46675 | AMK10: 46676 | AML10: 46677 | AMM10: 46678 | AMN10: 46679 | AMO10: 46680 | AMP10: 46681 | AMQ10: 46682 | AMR10: 46683 | AMS10: 46684 | AMT10: 46685 | AMU10: 46686 | AMV10: 46687 | AMW10: 46688 | AMX10: 46689 | AMY10: 46690 | AMZ10: 46691 | ANA10: 46692 | ANB10: 46693 | ANC10: 46694 | AND10: 46695 | ANE10: 46696 | ANF10: 46697 | ANG10: 46698 | ANH10: 46699 | ANI10: 46700 | ANJ10: 46701 | ANK10: 46702 | ANL10: 46703 | ANM10: 46704 | ANN10: 46705 | ANO10: 46706 | ANP10: 46707 | ANQ10: 46708 | ANR10: 46709 | ANS10: 46710 | ANT10: 46711 | ANU10: 46712 | ANV10: 46713 | ANW10: 46714 | ANX10: 46715 | ANY10: 46716 | ANZ10: 46717 | AOA10: 46718 | AOB10: 46719 | AOC10: 46720 | AOD10: 46721 | AOE10: 46722 | AOF10: 46723 | AOG10: 46724 | AOH10: 46725 | AOI10: 46726 | AOJ10: 46727 | AOK10: 46728 | AOL10: 46729 | AOM10: 46730 | AON10: 46731 | AOO10: 46732 | AOP10: 46733 | AOQ10: 46734 | AOR10: 46735 | AOS10: 46736 | AOT10: 46737 | AOU10: 46738 | AOV10: 46739 | AOW10: 46740 | AOX10: 46741 | AOY10: 46742 | AOZ10: 46743 | APA10: 46744 | APB10: 46745 | APC10: 46746 | APD10: 46747 | APE10: 46748 | APF10: 46749 | APG10: 46750 | APH10: 46751 | API10: 46752 | APJ10: 46753 | APK10: 46754 | APL10: 46755 | APM10: 46756 | APN10: 46757 | APO10: 46758 | APP10: 46759 | APQ10: 46760 | APR10: 46761 | APS10: 46762 | APT10: 46763 | APU10: 46764 | APV10: 46765 | APW10: 46766 | APX10: 46767 | APY10: 46768 | APZ10: 46769 | AQA10: 46770 | AQB10: 46771 | AQC10: 46772 | AQD10: 46773 | AQE10: 46774 | AQF10: 46775 | AQG10: 46776 | AQH10: 46777 | AQI10: 46778 | AQJ10: 46779 | AQK10: 46780 | AQL10: 46781 | AQM10: 46782 | AQN10: 46783 | AQO10: 46784 | AQP10: 46785 | AQQ10: 46786 | AQR10: 46787 | AQS10: 46788 | AQT10: 46789 | AQU10: 46790 | AQV10: 46791 | AQW10: 46792 | AQX10: 46793 | AQY10: 46794 | AQZ10: 46795 | ARA10: 46796 | ARB10: 46797 | ARC10: 46798 | ARD10: 46799 | ARE10: 46800 | ARF10: 46801 | ARG10: 46802 | ARH10: 46803 | ARI10: 46804 | ARJ10: 46805 | ARK10: 46806 | ARL10: 46807 | ARM10: 46808 | ARN10: 46809 | ARO10: 46810 | ARP10: 46811 | ARQ10: 46812 | ARR10: 46813 | ARS10: 46814 | ART10: 46815 | ARU10: 46816 | ARV10: 46817 | ARW10: 46818 | ARX10: 46819 | ARY10: 46820 | ARZ10: 46821 | ASA10: 46822 | ASB10: 46823 | ASC10: 46824 | ASD10: 46825 | ASE10: 46826 | ASF10: 46827 | ASG10: 46828 | ASH10: 46829 | ASI10: 46830 | ASJ10: 46831 | ASK10: 46832 | ASL10: 46833 | ASM10: 46834 | ASN10: 46835 | ASO10: 46836 | ASP10: 46837 | ASQ10: 46838 | ASR10: 46839 | ASS10: 46840 | AST10: 46841 | ASU10: 46842 | ASV10: 46843 | ASW10: 46844 | ASX10: 46845 | ASY10: 46846 | ASZ10: 46847 | ATA10: 46848 | ATB10: 46849 | ATC10: 46850 | ATD10: 46851 | ATE10: 46852 | ATF10: 46853 | ATG10: 46854 | ATH10: 46855 | ATI10: 46856 | ATJ10: 46857 | ATK10: 46858 | ATL10: 46859 | ATM10: 46860 | ATN10: 46861 | ATO10: 46862 | ATP10: 46863 | ATQ10: 46864 | ATR10: 46865 | ATS10: 46866 | ATT10: 46867 | ATU10: 46868 | ATV10: 46869 | ATW10: 46870 | ATX10: 46871 | ATY10: 46872 | ATZ10: 46873 | AUA10: 46874 | AUB10: 46875 | AUC10: 46876 | AUD10: 46877 | AUE10: 46878 | AUF10: 46879 | AUG10: 46880 | AUH10: 46881 | AUI10: 46882 | AUJ10: 46883 | AUK10: 46884 | AUL10: 46885 | AUM10: 46886 | AUN10: 46887 | AUO10: 46888 | AUP10: 46889 | AUQ10: 46890 | AUR10: 46891 | AUS10: 46892 | AUT10: 46893 | AUU10: 46894 | AUV10: 46895 | AUW10: 46896 | AUX10: 46897 | AUY10: 46898 | AUZ10: 46899 | AVA10: 46900 | AVB10: 46901 | AVC10: 46902 | AVD10: 46903 | AVE10: 46904 | AVF10: 46905 | AVG10: 46906 | AVH10: 46907 | AVI10: 46908 | AVJ10: 46909 | AVK10: 46910 | AVL10: 46911 | AVM10: 46912 | AVN10: 46913 | AVO10: 46914 | AVP10: 46915 | AVQ10: 46916 | AVR10: 46917 | AVS10: 46918 | AVT10: 46919 | AVU10: 46920 | AVV10: 46921 | AVW10: 46922 | AVX10: 46923 | AVY10: 46924 | AVZ10: 46925 | AWA10: 46926 | AWB10: 46927 | AWC10: 46928 | AWD10: 46929 | AWE10: 46930 | AWF10: 46931 | AWG10: 46932 | AWH10: 46933 | AWI10: 46934 | AWJ10: 46935 | AWK10: 46936 | AWL10: 46937 | AWM10: 46938 | AWN10: 46939 | AWO10: 46940 | AWP10: 46941 | AWQ10: 46942 | AWR10: 46943 | AWS10: 46944 | AWT10: 46945 | AWU10: 46946 | AWV10: 46947 | AWW10: 46948 | AWX10: 46949 | AWY10: 46950 | AWZ10: 46951 | AXA10: 46952 | AXB10: 46953 | AXC10: 46954 | AXD10: 46955 | AXE10: 46956 | AXF10: 46957 | AXG10: 46958 | AXH10: 46959 | AXI10: 46960 | AXJ10: 46961 | AXK10: 46962 | AXL10: 46963 | AXM10: 46964 | AXN10: 46965 | AXO10: 46966 | AXP10: 46967 | AXQ10: 46968 | AXR10: 46969 | AXS10: 46970 | AXT10: 46971 | AXU10: 46972 | AXV10: 46973 | AXW10: 46974 | AXX10: 46975 | AXY10: 46976 | AXZ10: 46977 | AYA10: 46978 | AYB10: 46979 | AYC10: 46980 | AYD10: 46981 | AYE10: 46982 | AYF10: 46983 | AYG10: 46984 | AYH10: 46985 | AYI10: 46986 | AYJ10: 46987 | AYK10: 46988 | AYL10: 46989 | AYM10: 46990 | AYN10: 46991 | AYO10: 46992 | AYP10: 46993 | AYQ10: 46994 | AYR10: 46995 | AYS10: 46996 | AYT10: 46997 | AYU10: 46998 | AYV10: 46999 | AYW10: 47000 | AYX10: 47001 | AYY10: 47002 | AYZ10: 47003 | AZA10: 47004 | AZB10: 47005 | AZC10: 47006 | AZD10: 47007 | AZE10: 47008 | AZF10: 47009 | AZG10: 47010 | AZH10: 47011 | AZI10: 47012 | AZJ10: 47013 | AZK10: 47014 | AZL10: 47015 | AZM10: 47016 | AZN10: 47017 | AZO10: 47018 | AZP10: 47019 | AZQ10: 47020 | AZR10: 47021 | AZS10: 47022 | AZT10: 47023 | AZU10: 47024 | AZV10: 47025 | AZW10: 47026 | AZX10: 47027 | AZY10: 47028 | AZZ10: 47029 | BAA10: 47030 | BAB10: 47031 | BAC10: 47032 | BAD10: 47033 | BAE10: 47034 | BAF10: 47035 | BAG10: 47036 | BAH10: 47037 | BAI10: 47038 | BAJ10: 47039 | BAK10: 47040 | BAL10: 47041 | BAM10: 47042 | BAN10: 47043 | BAO10: 47044 | BAP10: 47045 | BAQ10: 47046 | BAR10: 47047 | BAS10: 47048 | BAT10: 47049 | BAU10: 47050 | BAV10: 47051 | BAW10: 47052 | BAX10: 47053 | BAY10: 47054 | BAZ10: 47055 | BBA10: 47056 | BBB10: 47057 | BBC10: 47058 | BBD10: 47059 | BBE10: 47060 | BBF10: 47061 | BBG10: 47062 | BBH10: 47063 | BBI10: 47064 | BBJ10: 47065 | BBK10: 47066 | BBL10: 47067 | BBM10: 47068 | BBN10: 47069 | BBO10: 47070 | BBP10: 47071 | BBQ10: 47072 | BBR10: 47073 | BBS10: 47074 | BBT10: 47075 | BBU10: 47076 | BBV10: 47077 | BBW10: 47078 | BBX10: 47079 | BBY10: 47080 | BBZ10: 47081 | BCA10: 47082 | BCB10: 47083 | BCC10: 47084 | BCD10: 47085 | BCE10: 47086 | BCF10: 47087 | BCG10: 47088 | BCH10: 47089 | BCI10: 47090 | BCJ10: 47091 | BCK10: 47092 | BCL10: 47093 | BCM10: 47094 | BCN10: 47095 | BCO10: 47096 | BCP10: 47097 | BCQ10: 47098 | BCR10: 47099 | BCS10: 47100 | BCT10: 47101 | BCU10: 47102 | BCV10: 47103 | BCW10: 47104 | BCX10: 47105 | BCY10: 47106 | BCZ10: 47107 | BDA10: 47108 | BDB10: 47109 | BDC10: 47110 | BDD10: 47111 | BDE10: 47112 | BDF10: 47113 | BDG10: 47114 | BDH10: 47115 | BDI10: 47116 | BDJ10: 47117 | BDK10: 47118
