Workbook

Sheet Anexo Tec _ PIC_25_WT
A1: ADICION _ ANEXO TÉCNICO DE PLANES DE INTERVENCIONES COLECTIVAS - PIC - 2024 _
A2: MUNICIPIO DE MAICAO - LA GUAJIRA
A3: FORTALECIMIENTO DE LA FORMULACION Y EJECUCION DEL PLAN DE SALUD PUBLICA DE INTERVENCIONES COLECTIVAS - PIC - EN LAS ACCIONES DE PROMOCION DE LA SALUD Y GESTION DEL RIESGO ENCAMINADAS A MODIFICAR POSITIVAMENTE LOS DETERMINANTES SOCIALES DE LA SALUD DEL MUNICIPIO DE MAICAO PARA VIGENCIA 2024.
A4: Objetivo Estrategico | B4: Eje Estrategico PDSP | C4: Resultado | D4: Valor apropiación año 2025 (en pesos) | E4: Fuente de Financiación Real | F4: Valor apropiación fuente año 2025 (en pesos) | G4: Id_Actividad | H4: CUPS - Resolucion 2641 / 2024 (Anexo Tecnico 5) | I4: DESCRIPCION | J4: SUBCODIGO | K4: Descripción de la Actividad | L4: Intervenciòn año 2025 | M4: Unidad de Medida | N4: Trimestre 1 | O4: Trimestre 2 | P4: Trimestre 3 | Q4: Trimestre 4 | R4: Código Rubro Presupuestal | S4: Línea Operativa PDSP | T4: Valor Unitario x Actividad | U4: Costos total | V4: Costos Directos_Talento Humano | W4: Costos Directos_ Transporte | X4: Costos Directos_ Gastos _Adtivo y Finac | Y4: Costos indirectos | AH4: Medio de Verificaciòn Soporte | AI4: Equipo Bàsico | AJ4: Perfiles Equipo Bàsico | AK4: Entorno | AL4: Poblaciòn Sujeto | AM4: Territorios | AN4: Microterritorio | AO4: No. Comunidades/Barrios | AP4: No. Familias priorizadas | AQ4: No. Personas | AR4: Resposable
Y5: Total, Costo Indirectos | Z5: Piezas Comunicativas Impresas | AC5: Piezas Comunicativas de Difucion | AE5: Logistica | AF5: Registros y Formatos (Papeleria) | AG5: Insumos y Elementos (Articulos de Oficina)
Z6: Volantes Full Color 10x14 Cm, x1000 Uni | AA6: Rotafolios 30Pg Full Color Propalcote 200Gr | AB6: Pendon 140x100 Cm, en Banner con Tubos | AC6: Cuñas Radiales x30 Sg | AD6: Perifoneo Informativo
A7: Contar con elementos para la acción que le permita aproximarse a las condiciones de vida y salud de las diferentes poblaciones de acuerdo con sus particularidades y necesidades, mediante el respeto a la integridad y la participación social, y como garante en la construcción conjunta de intervenciones desde el dialogo horizontal y respetuoso de sus saberes, prácticas y creencias. | B7: Pueblos y comunidades étnicas y campesinas, mujeres, sectores LGBTIQ+ y otras poblaciones por condición y/o situación | C7: Prácticas, saberes y conocimientos para la salud pública reconocidos y fortalecidos para Pueblos y comunidades étnicas, mujeres, población campesina, LBGTIQ+ y otras poblaciones por condición y/o situación | D7: 2.272106e+09 | E7: SGP-SALUD-SALUD PUBLICA | F7: 12836757 | G7: 305 | H7: I30204 | I7: CONFORMACIÓN Y FORTALECIMIENTO DE REDES FAMILIARES, COMUNITARIAS Y SOCIALES PARA LA PROMOCIÓN DE LOS COMPONENTES DE SALUD AMBIENTAL | J7: I302041 | K7: Implementar cuatro (4) estrategias pedagógicas, dirigidas a la población de los micro-territorios priorizados en el municipio de Maicao, a través de acciones para reducir la contaminación del aire y el uso adecuado del agua, con el fin de promover adecuadas prácticas ambientales. | L7: 4 | M7: numero | N7: 0 | O7: 2 | P7: 1 | Q7: 1 | R7: 1.1.02.06.001.02.02 | S7: cuidado de la salud en el territorio | T7: =U7/L7 -> 3769851.6 | U7: =SUM(V7:Y7) -> 15079406 | V7: =Cpte_Financiero_WT_PIC25!$H$19/75 -> 6126000 | W7: =Cpte_Financiero_WT_PIC25!$H$25/75 -> 4707000 | X7: =Cpte_Financiero_WT_PIC25!$E$58/75 -> 736552.18 | Y7: =SUM(Z7:AG7) -> 3509854.1 | Z7: ='Cadena de Valor'!$I$19*1 -> 169333.33 | AA7: ='Cadena de Valor'!$I$20*4 -> 378666.67 | AB7: ='Cadena de Valor'!$I$17*2 -> 290000 | AC7: ='Cadena de Valor'!$I$15*5 -> 373543.33 | AD7: ='Cadena de Valor'!$I$16*2 -> 788888.67 | AE7: 800000 | AF7: =24499365/75 -> 326658.2 | AG7: =28707293.67/75 -> 382763.92 | AH7: 0. Informe Tecnico-Operativo de Ejecucion PIC 1.Registro de Asistencia 2. Formato de Acta de Reunion-Formato Acta de Concertacion-Formato Acta de dialogo para Consesno o disenso 3. Formato de Registros Filmicos (Fotograficos/Videos). 4. Ficha de Caracterizacion Socio-Demografica. 5. Ficha de Monitoreo y Seguimiento. 6. Formato de monitoreo y seguimiento de la Adherencia a las Rutas integrales de atencion en salud. 7. Formato de Visita Domiciliaria 8. Formato de Canalizacion 9. Formato y oficio de Remision 10. Registro Individual de Prestacion de servicios-RIPS-Codigo unico de prestacion de servicios-CUPS 11.Formato de intervenciones Breves | AI7: EBS # 5 | AJ7: Medico General, Enfermero, Promotor de Salud, Auxiliar de Enfermeria | AK7: 1. Institucional 2. Laboral 3. Educativo 4. Comunitario 5. Familia Hogar | AL7: 1. Primera Infancia 2. Infancia 3. Adolescencia 4. Juventud 5. Adultez 6. Adulto mayor 7. Mujer Lactante-gestante 8. Etnicos: Indigenas, Afros, Negros, Raizales, Rrom 9. Victimas del conflicto Armado 10. Poblacion en situacion de discapacidad 11. Trabajador Informal: Estacionario-Ambulante 12. Comunidad LGTBIQ+ | AM7: T24 | AN7: MT01 MT05 MT03 | AO7: MT01. Ishain. MT05. Laguna de Oxidacion, Palasumana. MT03. Mi Ranchito | AP7: 200 200 200 | AQ7: 800 800 800 | AR7: Secretaria de Salud Municipal de Maicao-Autoridad Sanitaria
A8: Contar con elementos para la acción que le permita aproximarse a las condiciones de vida y salud de las diferentes poblaciones de acuerdo con sus particularidades y necesidades, mediante el respeto a la integridad y la participación social, y como garante en la construcción conjunta de intervenciones desde el dialogo horizontal y respetuoso de sus saberes, prácticas y creencias. | B8: Pueblos y comunidades étnicas y campesinas, mujeres, sectores LGBTIQ+ y otras poblaciones por condición y/o situación | C8: Prácticas, saberes y conocimientos para la salud pública reconocidos y fortalecidos para Pueblos y comunidades étnicas, mujeres, población campesina, LBGTIQ+ y otras poblaciones por condición y/o situación | D8: 2.272106e+09 | E8: SGP-SALUD-SALUD PUBLICA | F8: 12836757 | G8: 306 | H8: I11101 | I8: EDUCACIÓN Y COMUNICACIÓN PARA LA PROMOCIÓN DE LA SALUD MENTAL | J8: I111012 | K8: Efectuar dos (2) actividades informativas en español y Wayuunaiki, dirigidas a la población en general de la zona rural, que incluyan sesiones educativas, folletos, volantes y cuñas radiales, para conmemorar el día de la salud mental programada para el 02 de octubre de 2025. | L8: 2 | M8: numero | N8: 0 | O8: 1 | P8: 0 | Q8: 1 | R8: 1.1.02.06.001.02.02 | S8: cuidado de la salud en el territorio | T8: =U8/L8 -> 7608129.3 | U8: =SUM(V8:Y8) -> 15216259 | V8: =Cpte_Financiero_WT_PIC25!$H$19/75 -> 6126000 | W8: =Cpte_Financiero_WT_PIC25!$H$25/75 -> 4707000 | X8: =Cpte_Financiero_WT_PIC25!$E$58/75 -> 736552.18 | Y8: =SUM(Z8:AG8) -> 3646706.4 | Z8: ='Cadena de Valor'!$I$19*1 -> 169333.33 | AA8: ='Cadena de Valor'!I20*2 -> 189333.33 | AB8: ='Cadena de Valor'!$I$17*2 -> 290000 | AC8: ='Cadena de Valor'!I15*20 -> 1494173.3 | AD8: ='Cadena de Valor'!$I$16*1 -> 394444.33 | AE8: 400000 | AF8: =24499365/75 -> 326658.2 | AG8: =28707293.67/75 -> 382763.92 | AH8: 0. Informe Tecnico-Operativo de Ejecucion PIC 1.Registro de Asistencia 2. Formato de Acta de Reunion-Formato Acta de Concertacion-Formato Acta de dialogo para Consesno o disenso 3. Formato de Registros Filmicos (Fotograficos/Videos). 4. Ficha de Caracterizacion Socio-Demografica. 5. Ficha de Monitoreo y Seguimiento. 6. Formato de monitoreo y seguimiento de la Adherencia a las Rutas integrales de atencion en salud. 7. Formato de Visita Domiciliaria 8. Formato de Canalizacion 9. Formato y oficio de Remision 10. Registro Individual de Prestacion de servicios-RIPS-Codigo unico de prestacion de servicios-CUPS 11.Formato de intervenciones Breves | AI8: EBS # 5 | AJ8: Medico General, Enfermero, Promotor de Salud, Auxiliar de Enfermeria | AK8: 1. Institucional 2. Laboral 3. Educativo 4. Comunitario 5. Familia Hogar | AL8: 1. Primera Infancia 2. Infancia 3. Adolescencia 4. Juventud 5. Adultez 6. Adulto mayor 7. Mujer Lactante-gestante 8. Etnicos: Indigenas, Afros, Negros, Raizales, Rrom 9. Victimas del conflicto Armado 10. Poblacion en situacion de discapacidad 11. Trabajador Informal: Estacionario-Ambulante 12. Comunidad LGTBIQ+ | AM8: T11 T14 | AN8: comuna 3 comuna 5 | AO8: CM 3. 1 de diciembre CM 5. villa amelia 2 | AP8: 650 450 | AQ8: 3250 2250 | AR8: Secretaria de Salud Municipal de Maicao-Autoridad Sanitaria
A9: Contar con elementos para la acción que le permita aproximarse a las condiciones de vida y salud de las diferentes poblaciones de acuerdo con sus particularidades y necesidades, mediante el respeto a la integridad y la participación social, y como garante en la construcción conjunta de intervenciones desde el dialogo horizontal y respetuoso de sus saberes, prácticas y creencias. | B9: Pueblos y comunidades étnicas y campesinas, mujeres, sectores LGBTIQ+ y otras poblaciones por condición y/o situación | C9: Prácticas, saberes y conocimientos para la salud pública reconocidos y fortalecidos para Pueblos y comunidades étnicas, mujeres, población campesina, LBGTIQ+ y otras poblaciones por condición y/o situación | D9: 2.272106e+09 | E9: SGP-SALUD-SALUD PUBLICA | F9: 12836757 | G9: 307 | H9: I30304 | I9: CARACTERIZACIÓN DEL ENTORNO COMUNITARIO | J9: I303043 | K9: Captar y caracterizar al 100% los sabedores de prácticas medicinales ancestrales en la etnia wayuu residentes en Maicao, en el marco del Sistema Indígena de Salud Propia e Intercultural SISPI y el decreto 1953 de 2014. | L9: 100 | M9: porcentaje | N9: 0 | O9: 25 | P9: 50 | Q9: 25 | R9: 1.1.02.06.001.02.02 | S9: cuidado de la salud en el territorio | T9: =U9/L9 -> 139062.95 | U9: =SUM(V9:Y9) -> 13906295 | V9: =Cpte_Financiero_WT_PIC25!$H$19/75 -> 6126000 | W9: =Cpte_Financiero_WT_PIC25!$H$25/75 -> 4707000 | X9: =Cpte_Financiero_WT_PIC25!$E$58/75 -> 736552.18 | Y9: =SUM(Z9:AG9) -> 2336743.1 | Z9: ='Cadena de Valor'!$I$19*1 -> 169333.33 | AA9: 0 | AB9: ='Cadena de Valor'!$I$17*2 -> 290000 | AC9: ='Cadena de Valor'!I15*5 -> 373543.33 | AD9: ='Cadena de Valor'!I16*1 -> 394444.33 | AE9: 400000 | AF9: =24499365/75 -> 326658.2 | AG9: =28707293.67/75 -> 382763.92 | AH9: 0. Informe Tecnico-Operativo de Ejecucion PIC 1.Registro de Asistencia 2. Formato de Acta de Reunion-Formato Acta de Concertacion-Formato Acta de dialogo para Consesno o disenso 3. Formato de Registros Filmicos (Fotograficos/Videos). 4. Ficha de Caracterizacion Socio-Demografica. 5. Ficha de Monitoreo y Seguimiento. 6. Formato de monitoreo y seguimiento de la Adherencia a las Rutas integrales de atencion en salud. 7. Formato de Visita Domiciliaria 8. Formato de Canalizacion 9. Formato y oficio de Remision 10. Registro Individual de Prestacion de servicios-RIPS-Codigo unico de prestacion de servicios-CUPS 11.Formato de intervenciones Breves | AI9: EBS # 5 | AJ9: Medico General, Enfermero, Promotor de Salud, Auxiliar de Enfermeria | AK9: 1. Institucional 2. Laboral 3. Educativo 4. Comunitario 5. Familia Hogar | AL9: 1. Primera Infancia 2. Infancia 3. Adolescencia 4. Juventud 5. Adultez 6. Adulto mayor 7. Mujer Lactante-gestante 8. Etnicos: Indigenas, Afros, Negros, Raizales, Rrom 9. Victimas del conflicto Armado 10. Poblacion en situacion de discapacidad 11. Trabajador Informal: Estacionario-Ambulante 12. Comunidad LGTBIQ+ | AM9: T09, T10, T11, T13, T14 | AN9: no aplica | AO9: no aplica | AP9: no aplica | AQ9: no aplica | AR9: Secretaria de Salud Municipal de Maicao-Autoridad Sanitaria
A10: Contar con elementos para la acción que le permita aproximarse a las condiciones de vida y salud de las diferentes poblaciones de acuerdo con sus particularidades y necesidades, mediante el respeto a la integridad y la participación social, y como garante en la construcción conjunta de intervenciones desde el dialogo horizontal y respetuoso de sus saberes, prácticas y creencias. | B10: Pueblos y comunidades étnicas y campesinas, mujeres, sectores LGBTIQ+ y otras poblaciones por condición y/o situación | C10: Prácticas, saberes y conocimientos para la salud pública reconocidos y fortalecidos para Pueblos y comunidades étnicas, mujeres, población campesina, LBGTIQ+ y otras poblaciones por condición y/o situación | D10: 2.272106e+09 | E10: SGP-SALUD-SALUD PUBLICA | F10: 12836757 | G10: 308 | H10: I11107 | I10: EDUCACIÓN Y COMUNICACIÓN PARA LA PREVENCIÓN DE LA CONDUCTA SUICIDA | J10: I111074 | K10: Realizar una (1) movilización social, dirigida a la población en general del municipio de Maicao, para la conmemoración del día mundial para la prevención del suicidio, programado el 10 de septiembre de 2025. | L10: 1 | M10: numero | N10: 0 | O10: 0 | P10: 1 | Q10: 0 | R10: 1.1.02.06.001.02.02 | S10: cuidado de la salud en el territorio | T10: =U10/L10 -> 14548049 | U10: =SUM(V10:Y10) -> 14548049 | V10: =Cpte_Financiero_WT_PIC25!$H$19/75 -> 6126000 | W10: =Cpte_Financiero_WT_PIC25!$H$25/75 -> 4707000 | X10: =Cpte_Financiero_WT_PIC25!$E$58/75 -> 736552.18 | Y10: =SUM(Z10:AG10) -> 2978496.4 | Z10: ='Cadena de Valor'!$I$19*1 -> 169333.33 | AA10: ='Cadena de Valor'!I20*1 -> 94666.667 | AB10: ='Cadena de Valor'!$I$17*2 -> 290000 | AC10: ='Cadena de Valor'!I15*15 -> 1120630 | AD10: ='Cadena de Valor'!I16*1 -> 394444.33 | AE10: 200000 | AF10: =24499365/75 -> 326658.2 | AG10: =28707293.67/75 -> 382763.92 | AH10: 0. Informe Tecnico-Operativo de Ejecucion PIC 1.Registro de Asistencia 2. Formato de Acta de Reunion-Formato Acta de Concertacion-Formato Acta de dialogo para Consesno o disenso 3. Formato de Registros Filmicos (Fotograficos/Videos). 4. Ficha de Caracterizacion Socio-Demografica. 5. Ficha de Monitoreo y Seguimiento. 6. Formato de monitoreo y seguimiento de la Adherencia a las Rutas integrales de atencion en salud. 7. Formato de Visita Domiciliaria 8. Formato de Canalizacion 9. Formato y oficio de Remision 10. Registro Individual de Prestacion de servicios-RIPS-Codigo unico de prestacion de servicios-CUPS 11.Formato de intervenciones Breves | AI10: EBS # 5 | AJ10: Medico General, Enfermero, Promotor de Salud, Auxiliar de Enfermeria | AK10: 1. Institucional 2. Laboral 3. Educativo 4. Comunitario 5. Familia Hogar | AL10: 1. Primera Infancia 2. Infancia 3. Adolescencia 4. Juventud 5. Adultez 6. Adulto mayor 7. Mujer Lactante-gestante 8. Etnicos: Indigenas, Afros, Negros, Raizales, Rrom 9. Victimas del conflicto Armado 10. Poblacion en situacion de discapacidad 11. Trabajador Informal: Estacionario-Ambulante 12. Comunidad LGTBIQ+ | AM10: T11 T14 | AN10: comuna 3 comuna 5 | AO10: CM 3. 1 de diciembre, los laureles, 7 de agosto, 28 de noviembre, altos de parrantial, la bendición de Dios, san francisco. CM 5. villa amelia 2, villa urci, la bendición de Dios 2, Jorge arrieta, la victoria, santo domingo. | AP10: 650 450 | AQ10: 3250 2250 | AR10: Secretaria de Salud Municipal de Maicao-Autoridad Sanitaria
A11: Contar con elementos para la acción que le permita aproximarse a las condiciones de vida y salud de las diferentes poblaciones de acuerdo con sus particularidades y necesidades, mediante el respeto a la integridad y la participación social, y como garante en la construcción conjunta de intervenciones desde el dialogo horizontal y respetuoso de sus saberes, prácticas y creencias. | B11: Pueblos y comunidades étnicas y campesinas, mujeres, sectores LGBTIQ+ y otras poblaciones por condición y/o situación | C11: Prácticas, saberes y conocimientos para la salud pública reconocidos y fortalecidos para Pueblos y comunidades étnicas, mujeres, población campesina, LBGTIQ+ y otras poblaciones por condición y/o situación | D11: 2.272106e+09 | E11: SGP-SALUD-SALUD PUBLICA | F11: 12836757 | G11: 309 | H11: I11101 | I11: EDUCACIÓN Y COMUNICACIÓN PARA LA PROMOCIÓN DE LA SALUD MENTAL | J11: I111015 | K11: Efectuar dos (2) actividades educativas en español y Wayuunaiki, dirigidas a la población en general de la zona rural, que incluyan sesiones educativas, folletos, volantes y cuñas radiales, para conmemorar el día mundial de la salud mental programada para el 10 de octubre de 2025. | L11: 2 | M11: numero | N11: 0 | O11: 0 | P11: 0 | Q11: 2 | R11: 1.1.02.06.001.02.02 | S11: cuidado de la salud en el territorio | T11: =U11/L11 -> 7139919.3 | U11: =SUM(V11:Y11) -> 14279839 | V11: =Cpte_Financiero_WT_PIC25!$H$19/75 -> 6126000 | W11: =Cpte_Financiero_WT_PIC25!$H$25/75 -> 4707000 | X11: =Cpte_Financiero_WT_PIC25!$E$58/75 -> 736552.18 | Y11: =SUM(Z11:AG11) -> 2710286.4 | Z11: ='Cadena de Valor'!$I$19*1 -> 169333.33 | AA11: 0 | AB11: ='Cadena de Valor'!$I$17*2 -> 290000 | AC11: ='Cadena de Valor'!$I$15*10 -> 747086.67 | AD11: ='Cadena de Valor'!I16*1 -> 394444.33 | AE11: 400000 | AF11: =24499365/75 -> 326658.2 | AG11: =28707293.67/75 -> 382763.92 | AH11: 0. Informe Tecnico-Operativo de Ejecucion PIC 1.Registro de Asistencia 2. Formato de Acta de Reunion-Formato Acta de Concertacion-Formato Acta de dialogo para Consesno o disenso 3. Formato de Registros Filmicos (Fotograficos/Videos). 4. Ficha de Caracterizacion Socio-Demografica. 5. Ficha de Monitoreo y Seguimiento. 6. Formato de monitoreo y seguimiento de la Adherencia a las Rutas integrales de atencion en salud. 7. Formato de Visita Domiciliaria 8. Formato de Canalizacion 9. Formato y oficio de Remision 10. Registro Individual de Prestacion de servicios-RIPS-Codigo unico de prestacion de servicios-CUPS 11.Formato de intervenciones Breves | AI11: EBS # 5 | AJ11: Medico General, Enfermero, Promotor de Salud, Auxiliar de Enfermeria | AK11: 1. Institucional 2. Laboral 3. Educativo 4. Comunitario 5. Familia Hogar | AL11: 1. Primera Infancia 2. Infancia 3. Adolescencia 4. Juventud 5. Adultez 6. Adulto mayor 7. Mujer Lactante-gestante 8. Etnicos: Indigenas, Afros, Negros, Raizales, Rrom 9. Victimas del conflicto Armado 10. Poblacion en situacion de discapacidad 11. Trabajador Informal: Estacionario-Ambulante 12. Comunidad LGTBIQ+ | AM11: T23 | AN11: T23. MT01, MT03 | AO11: T23. MT01. Sarampiomana T23. MT03. Yotojoroshi | AP11: 200 200 | AQ11: 800 800 | AR11: Secretaria de Salud Municipal de Maicao-Autoridad Sanitaria
A12: Contar con elementos para la acción que le permita aproximarse a las condiciones de vida y salud de las diferentes poblaciones de acuerdo con sus particularidades y necesidades, mediante el respeto a la integridad y la participación social, y como garante en la construcción conjunta de intervenciones desde el dialogo horizontal y respetuoso de sus saberes, prácticas y creencias. | B12: Pueblos y comunidades étnicas y campesinas, mujeres, sectores LGBTIQ+ y otras poblaciones por condición y/o situación | C12: Prácticas, saberes y conocimientos para la salud pública reconocidos y fortalecidos para Pueblos y comunidades étnicas, mujeres, población campesina, LBGTIQ+ y otras poblaciones por condición y/o situación | D12: 2.272106e+09 | E12: SGP-SALUD-SALUD PUBLICA | F12: 12836757 | G12: 310 | H12: I11101 | I12: EDUCACIÓN Y COMUNICACIÓN PARA LA PROMOCIÓN DE LA SALUD MENTAL | J12: I111016 | K12: Efectuar cuatro (4) actividades educativas en español y Wayuunaiki, dirigidas a la población en general de la zona urbana, que incluyan sesiones educativas, folletos, volantes y cuñas radiales, para conmemorar el día mundial de la salud mental programada para el 10 de octubre de 2025. | L12: 4 | M12: numero | N12: 0 | O12: 0 | P12: 0 | Q12: 4 | R12: 1.1.02.06.001.02.02 | S12: cuidado de la salud en el territorio | T12: =U12/L12 -> 3956623.2 | U12: =SUM(V12:Y12) -> 15826493 | V12: =Cpte_Financiero_WT_PIC25!$H$19/75 -> 6126000 | W12: =Cpte_Financiero_WT_PIC25!$H$25/75 -> 4707000 | X12: =Cpte_Financiero_WT_PIC25!$E$58/75 -> 736552.18 | Y12: =SUM(Z12:AG12) -> 4256940.8 | Z12: ='Cadena de Valor'!$I$19*1 -> 169333.33 | AA12: ='Cadena de Valor'!$I$20*4 -> 378666.67 | AB12: ='Cadena de Valor'!$I$17*2 -> 290000 | AC12: ='Cadena de Valor'!$I$15*15 -> 1120630 | AD12: ='Cadena de Valor'!$I$16*2 -> 788888.67 | AE12: 800000 | AF12: =24499365/75 -> 326658.2 | AG12: =28707293.67/75 -> 382763.92 | AH12: 0. Informe Tecnico-Operativo de Ejecucion PIC 1.Registro de Asistencia 2. Formato de Acta de Reunion-Formato Acta de Concertacion-Formato Acta de dialogo para Consesno o disenso 3. Formato de Registros Filmicos (Fotograficos/Videos). 4. Ficha de Caracterizacion Socio-Demografica. 5. Ficha de Monitoreo y Seguimiento. 6. Formato de monitoreo y seguimiento de la Adherencia a las Rutas integrales de atencion en salud. 7. Formato de Visita Domiciliaria 8. Formato de Canalizacion 9. Formato y oficio de Remision 10. Registro Individual de Prestacion de servicios-RIPS-Codigo unico de prestacion de servicios-CUPS 11.Formato de intervenciones Breves | AI12: EBS # 5 | AJ12: Medico General, Enfermero, Promotor de Salud, Auxiliar de Enfermeria | AK12: 1. Institucional 2. Laboral 3. Educativo 4. Comunitario 5. Familia Hogar | AL12: 1. Primera Infancia 2. Infancia 3. Adolescencia 4. Juventud 5. Adultez 6. Adulto mayor 7. Mujer Lactante-gestante 8. Etnicos: Indigenas, Afros, Negros, Raizales, Rrom 9. Victimas del conflicto Armado 10. Poblacion en situacion de discapacidad 11. Trabajador Informal: Estacionario-Ambulante 12. Comunidad LGTBIQ+ | AM12: T11 T14 | AN12: comuna 3 comuna 5 | AO12: CM 3. 1 de diciembre, los laureles CM 5. villa amelia 2, villa urci | AP12: 650 450 | AQ12: 3250 2250 | AR12: Secretaria de Salud Municipal de Maicao-Autoridad Sanitaria
A13: Contar con elementos para la acción que le permita aproximarse a las condiciones de vida y salud de las diferentes poblaciones de acuerdo con sus particularidades y necesidades, mediante el respeto a la integridad y la participación social, y como garante en la construcción conjunta de intervenciones desde el dialogo horizontal y respetuoso de sus saberes, prácticas y creencias. | B13: Pueblos y comunidades étnicas y campesinas, mujeres, sectores LGBTIQ+ y otras poblaciones por condición y/o situación | C13: Prácticas, saberes y conocimientos para la salud pública reconocidos y fortalecidos para Pueblos y comunidades étnicas, mujeres, población campesina, LBGTIQ+ y otras poblaciones por condición y/o situación | D13: 2.272106e+09 | E13: SGP-SALUD-SALUD PUBLICA | F13: 12836757 | G13: 311 | H13: I11412 | I13: EDUCACIÓN Y COMUNICACIÓN PARA LA ADOPCIÓN DE ESTILOS DE VIDA SALUDABLE | J13: I114127 | K13: Desarrollar un (1) foro educativo, dirigido a la población adolescente y adulta del municipio, donde se eduque sobre el control en el consumo de alcohol, en celebración al día mundial sin alcohol, programado para el 15 de noviembre de 2025. | L13: 1 | M13: numero | N13: 0 | O13: 0 | P13: 0 | Q13: 1 | R13: 1.1.02.06.001.02.02 | S13: cuidado de la salud en el territorio | T13: =U13/L13 -> 14174505 | U13: =SUM(V13:Y13) -> 14174505 | V13: =Cpte_Financiero_WT_PIC25!$H$19/75 -> 6126000 | W13: =Cpte_Financiero_WT_PIC25!$H$25/75 -> 4707000 | X13: =Cpte_Financiero_WT_PIC25!$E$58/75 -> 736552.18 | Y13: =SUM(Z13:AG13) -> 2604953.1 | Z13: ='Cadena de Valor'!$I$19*1 -> 169333.33 | AA13: ='Cadena de Valor'!$I$20*1 -> 94666.667 | AB13: ='Cadena de Valor'!$I$17*2 -> 290000 | AC13: ='Cadena de Valor'!$I$15*10 -> 747086.67 | AD13: ='Cadena de Valor'!$I$16*1 -> 394444.33 | AE13: 200000 | AF13: =24499365/75 -> 326658.2 | AG13: =28707293.67/75 -> 382763.92 | AH13: 0. Informe Tecnico-Operativo de Ejecucion PIC 1.Registro de Asistencia 2. Formato de Acta de Reunion-Formato Acta de Concertacion-Formato Acta de dialogo para Consesno o disenso 3. Formato de Registros Filmicos (Fotograficos/Videos). 4. Ficha de Caracterizacion Socio-Demografica. 5. Ficha de Monitoreo y Seguimiento. 6. Formato de monitoreo y seguimiento de la Adherencia a las Rutas integrales de atencion en salud. 7. Formato de Visita Domiciliaria 8. Formato de Canalizacion 9. Formato y oficio de Remision 10. Registro Individual de Prestacion de servicios-RIPS-Codigo unico de prestacion de servicios-CUPS 11.Formato de intervenciones Breves | AI13: EBS # 5 | AJ13: Medico General, Enfermero, Promotor de Salud, Auxiliar de Enfermeria | AK13: 1. Institucional 2. Laboral 3. Educativo 4. Comunitario 5. Familia Hogar | AL13: 1. Primera Infancia 2. Infancia 3. Adolescencia 4. Juventud 5. Adultez 6. Adulto mayor 7. Mujer Lactante-gestante 8. Etnicos: Indigenas, Afros, Negros, Raizales, Rrom 9. Victimas del conflicto Armado 10. Poblacion en situacion de discapacidad 11. Trabajador Informal: Estacionario-Ambulante 12. Comunidad LGTBIQ+ | AM13: T11 T14 | AN13: comuna 3 comuna 5 | AO13: CM 3. 1 de diciembre, los laureles CM 5. villa amelia 2, villa urci | AP13: 650 450 | AQ13: 3250 2250 | AR13: Secretaria de Salud Municipal de Maicao-Autoridad Sanitaria
A14: Contar con elementos para la acción que le permita aproximarse a las condiciones de vida y salud de las diferentes poblaciones de acuerdo con sus particularidades y necesidades, mediante el respeto a la integridad y la participación social, y como garante en la construcción conjunta de intervenciones desde el dialogo horizontal y respetuoso de sus saberes, prácticas y creencias. | B14: Pueblos y comunidades étnicas y campesinas, mujeres, sectores LGBTIQ+ y otras poblaciones por condición y/o situación | C14: Prácticas, saberes y conocimientos para la salud pública reconocidos y fortalecidos para Pueblos y comunidades étnicas, mujeres, población campesina, LBGTIQ+ y otras poblaciones por condición y/o situación | D14: 2.272106e+09 | E14: SGP-SALUD-SALUD PUBLICA | F14: 12836757 | G14: 312 | H14: I11107 | I14: EDUCACIÓN Y COMUNICACIÓN PARA LA PREVENCIÓN DE LA CONDUCTA SUICIDA | J14: I111078 | K14: Realizar ocho (8) acciones pedagógicas con enfoque étnico, dirigido a la población adolescente de los micro-territorios y comunas priorizadas, donde se incluyan factores protectores frente a los trastornos mentales más comunes, con el fin de mitigar las conductas suicidas, el consumo de SPA y alteraciones en la salud mental de los jóvenes de las distintas etnias. | L14: 8 | M14: numero | N14: 0 | O14: 3 | P14: 3 | Q14: 2 | R14: 1.1.02.06.001.02.02 | S14: cuidado de la salud en el territorio | T14: =U14/L14 -> 2078952 | U14: =SUM(V14:Y14) -> 16631616 | V14: =Cpte_Financiero_WT_PIC25!$H$19/75 -> 6126000 | W14: =Cpte_Financiero_WT_PIC25!$H$25/75 -> 4707000 | X14: =Cpte_Financiero_WT_PIC25!$E$58/75 -> 736552.18 | Y14: =SUM(Z14:AG14) -> 5062064.1 | Z14: ='Cadena de Valor'!$I$19*1 -> 169333.33 | AA14: ='Cadena de Valor'!$I$20*8 -> 757333.33 | AB14: ='Cadena de Valor'!$I$17*2 -> 290000 | AC14: ='Cadena de Valor'!$I$15*10 -> 747086.67 | AD14: ='Cadena de Valor'!$I$16*2 -> 788888.67 | AE14: 1600000 | AF14: =24499365/75 -> 326658.2 | AG14: =28707293.67/75 -> 382763.92 | AH14: 0. Informe Tecnico-Operativo de Ejecucion PIC 1.Registro de Asistencia 2. Formato de Acta de Reunion-Formato Acta de Concertacion-Formato Acta de dialogo para Consesno o disenso 3. Formato de Registros Filmicos (Fotograficos/Videos). 4. Ficha de Caracterizacion Socio-Demografica. 5. Ficha de Monitoreo y Seguimiento. 6. Formato de monitoreo y seguimiento de la Adherencia a las Rutas integrales de atencion en salud. 7. Formato de Visita Domiciliaria 8. Formato de Canalizacion 9. Formato y oficio de Remision 10. Registro Individual de Prestacion de servicios-RIPS-Codigo unico de prestacion de servicios-CUPS 11.Formato de intervenciones Breves | AI14: EBS # 5 | AJ14: Medico General, Enfermero, Promotor de Salud, Auxiliar de Enfermeria | AK14: 1. Institucional 2. Laboral 3. Educativo 4. Comunitario 5. Familia Hogar | AL14: 1. Primera Infancia 2. Infancia 3. Adolescencia 4. Juventud 5. Adultez 6. Adulto mayor 7. Mujer Lactante-gestante 8. Etnicos: Indigenas, Afros, Negros, Raizales, Rrom 9. Victimas del conflicto Armado 10. Poblacion en situacion de discapacidad 11. Trabajador Informal: Estacionario-Ambulante 12. Comunidad LGTBIQ+ | AM14: T11 T14 T23 T24 | AN14: comuna 3 comuna 5 T23. MT01 T24. MT05 | AO14: CM3. 28 de Noviembre, Monte Bello CM5. Villa Amelia, la Victoria T23. MT01. Patillita, Sabaneta T24. MT05. Ekimana, Naranjito | AP14: 650 450 200 200 | AQ14: 3250 2250 800 800 | AR14: Secretaria de Salud Municipal de Maicao-Autoridad Sanitaria
A15: Contar con elementos para la acción que le permita aproximarse a las condiciones de vida y salud de las diferentes poblaciones de acuerdo con sus particularidades y necesidades, mediante el respeto a la integridad y la participación social, y como garante en la construcción conjunta de intervenciones desde el dialogo horizontal y respetuoso de sus saberes, prácticas y creencias. | B15: Pueblos y comunidades étnicas y campesinas, mujeres, sectores LGBTIQ+ y otras poblaciones por condición y/o situación | C15: Prácticas, saberes y conocimientos para la salud pública reconocidos y fortalecidos para Pueblos y comunidades étnicas, mujeres, población campesina, LBGTIQ+ y otras poblaciones por condición y/o situación | D15: 2.272106e+09 | E15: SGP-SALUD-SALUD PUBLICA | F15: 12836757 | G15: 313 | H15: I11405 | I15: EDUCACIÓN Y COMUNICACIÓN EN SALUD PARA LA PROMOCIÓN DE LA SALUD VISUAL | J15: I114059 | K15: Ejecutar una (1) estrategia informativa, dirigida a la población de los microterritorios priorizados, donde se promuevan las prácticas de salud visual, auditiva y comunicativa, con el fin de prevenir las alteraciones crónicas, no transmisibles. | L15: 1 | M15: numero | N15: 0 | O15: 0 | P15: 1 | Q15: 0 | R15: 1.1.02.06.001.02.02 | S15: cuidado de la salud en el territorio | T15: =U15/L15 -> 13884505 | U15: =SUM(V15:Y15) -> 13884505 | V15: =Cpte_Financiero_WT_PIC25!$H$19/75 -> 6126000 | W15: =Cpte_Financiero_WT_PIC25!$H$25/75 -> 4707000 | X15: =Cpte_Financiero_WT_PIC25!$E$58/75 -> 736552.18 | Y15: =SUM(Z15:AG15) -> 2314953.1 | Z15: ='Cadena de Valor'!$I$19*1 -> 169333.33 | AA15: ='Cadena de Valor'!$I$20*1 -> 94666.667 | AB15: 0 | AC15: ='Cadena de Valor'!$I$15*10 -> 747086.67 | AD15: ='Cadena de Valor'!$I$16*1 -> 394444.33 | AE15: 200000 | AF15: =24499365/75 -> 326658.2 | AG15: =28707293.67/75 -> 382763.92 | AH15: 0. Informe Tecnico-Operativo de Ejecucion PIC 1.Registro de Asistencia 2. Formato de Acta de Reunion-Formato Acta de Concertacion-Formato Acta de dialogo para Consesno o disenso 3. Formato de Registros Filmicos (Fotograficos/Videos). 4. Ficha de Caracterizacion Socio-Demografica. 5. Ficha de Monitoreo y Seguimiento. 6. Formato de monitoreo y seguimiento de la Adherencia a las Rutas integrales de atencion en salud. 7. Formato de Visita Domiciliaria 8. Formato de Canalizacion 9. Formato y oficio de Remision 10. Registro Individual de Prestacion de servicios-RIPS-Codigo unico de prestacion de servicios-CUPS 11.Formato de intervenciones Breves | AI15: EBS # 5 | AJ15: Medico General, Enfermero, Promotor de Salud, Auxiliar de Enfermeria | AK15: 1. Institucional 2. Laboral 3. Educativo 4. Comunitario 5. Familia Hogar | AL15: 1. Primera Infancia 2. Infancia 3. Adolescencia 4. Juventud 5. Adultez 6. Adulto mayor 7. Mujer Lactante-gestante 8. Etnicos: Indigenas, Afros, Negros, Raizales, Rrom 9. Victimas del conflicto Armado 10. Poblacion en situacion de discapacidad 11. Trabajador Informal: Estacionario-Ambulante 12. Comunidad LGTBIQ+ | AM15: T24 | AN15: T24. MT05 | AO15: T24. MT05. Laguna de Oxidacion | AP15: 200 | AQ15: 800 | AR15: Secretaria de Salud Municipal de Maicao-Autoridad Sanitaria
A16: Contar con elementos para la acción que le permita aproximarse a las condiciones de vida y salud de las diferentes poblaciones de acuerdo con sus particularidades y necesidades, mediante el respeto a la integridad y la participación social, y como garante en la construcción conjunta de intervenciones desde el dialogo horizontal y respetuoso de sus saberes, prácticas y creencias. | B16: Pueblos y comunidades étnicas y campesinas, mujeres, sectores LGBTIQ+ y otras poblaciones por condición y/o situación | C16: Prácticas, saberes y conocimientos para la salud pública reconocidos y fortalecidos para Pueblos y comunidades étnicas, mujeres, población campesina, LBGTIQ+ y otras poblaciones por condición y/o situación | D16: 2.272106e+09 | E16: SGP-SALUD-SALUD PUBLICA | F16: 12836757 | G16: 314 | H16: I30001 | I16: CARACTERIZACIÓN DEL INDIVIDUO Y SU ENTORNO FAMILIAR | J16: I3000110 | K16: Hacer entrega mensual al proceso de gestión de la SSMM, mediante un informe y copia de la base de datos, de los avances en el proceso de captación y caracterización poblacional, programados para la vigencia 2025. | L16: 9 | M16: numero | N16: 0 | O16: 3 | P16: 3 | Q16: 3 | R16: 1.1.02.06.001.02.02 | S16: cuidado de la salud en el territorio | T16: =U16/L16 -> 1405367.5 | U16: =SUM(V16:Y16) -> 12648308 | V16: =Cpte_Financiero_WT_PIC25!$H$19/75 -> 6126000 | W16: =Cpte_Financiero_WT_PIC25!$H$25/75 -> 4707000 | X16: =Cpte_Financiero_WT_PIC25!$E$58/75 -> 736552.18 | Y16: =SUM(Z16:AG16) -> 1078755.4 | Z16: ='Cadena de Valor'!$I$19*1 -> 169333.33 | AA16: 0 | AB16: 0 | AC16: 0 | AD16: 0 | AE16: 200000 | AF16: =24499365/75 -> 326658.2 | AG16: =28707293.67/75 -> 382763.92 | AH16: 0. Informe Tecnico-Operativo de Ejecucion PIC 1.Registro de Asistencia 2. Formato de Acta de Reunion-Formato Acta de Concertacion-Formato Acta de dialogo para Consesno o disenso 3. Formato de Registros Filmicos (Fotograficos/Videos). 4. Ficha de Caracterizacion Socio-Demografica. 5. Ficha de Monitoreo y Seguimiento. 6. Formato de monitoreo y seguimiento de la Adherencia a las Rutas integrales de atencion en salud. 7. Formato de Visita Domiciliaria 8. Formato de Canalizacion 9. Formato y oficio de Remision 10. Registro Individual de Prestacion de servicios-RIPS-Codigo unico de prestacion de servicios-CUPS 11.Formato de intervenciones Breves | AI16: EBS # 5 | AJ16: Medico General, Enfermero, Promotor de Salud, Auxiliar de Enfermeria | AK16: 1. Institucional 2. Laboral 3. Educativo 4. Comunitario 5. Familia Hogar | AL16: 1. Primera Infancia 2. Infancia 3. Adolescencia 4. Juventud 5. Adultez 6. Adulto mayor 7. Mujer Lactante-gestante 8. Etnicos: Indigenas, Afros, Negros, Raizales, Rrom 9. Victimas del conflicto Armado 10. Poblacion en situacion de discapacidad 11. Trabajador Informal: Estacionario-Ambulante 12. Comunidad LGTBIQ+ | AM16: no aplica | AN16: no aplica | AO16: no aplica | AP16: no aplica | AQ16: no aplica | AR16: Secretaria de Salud Municipal de Maicao-Autoridad Sanitaria
A17: Contar con elementos para la acción que le permita aproximarse a las condiciones de vida y salud de las diferentes poblaciones de acuerdo con sus particularidades y necesidades, mediante el respeto a la integridad y la participación social, y como garante en la construcción conjunta de intervenciones desde el dialogo horizontal y respetuoso de sus saberes, prácticas y creencias. | B17: Pueblos y comunidades étnicas y campesinas, mujeres, sectores LGBTIQ+ y otras poblaciones por condición y/o situación | C17: Prácticas, saberes y conocimientos para la salud pública reconocidos y fortalecidos para Pueblos y comunidades étnicas, mujeres, población campesina, LBGTIQ+ y otras poblaciones por condición y/o situación | D17: 2.272106e+09 | E17: SGP-SALUD-SALUD PUBLICA | F17: 12836757 | G17: 315 | H17: I11206 | I17: EDUCACIÓN Y COMUNICACIÓN PARA LA PREVENCIÓN DE ITS, VIH/SIDA Y HEPATITIS | J17: I1120611 | K17: Concertar con los actores sociales, la realización de una mesa de diálogo con enfoque étnico, en articulación con el proceso de gestión, en la que se informe y eduque sobre las acciones frente a casos de ITS, con el fin de capacitarlos en la identificación y notificación oportuna de los casos que se presenten en sus comunidades. | L17: 1 | M17: numero | N17: 0 | O17: 1 | P17: 0 | Q17: 0 | R17: 1.1.02.06.001.02.02 | S17: cuidado de la salud en el territorio | T17: =U17/L17 -> 14374505 | U17: =SUM(V17:Y17) -> 14374505 | V17: =Cpte_Financiero_WT_PIC25!$H$19/75 -> 6126000 | W17: =Cpte_Financiero_WT_PIC25!$H$25/75 -> 4707000 | X17: =Cpte_Financiero_WT_PIC25!$E$58/75 -> 736552.18 | Y17: =SUM(Z17:AG17) -> 2804953.1 | Z17: ='Cadena de Valor'!$I$19*1 -> 169333.33 | AA17: ='Cadena de Valor'!$I$20*1 -> 94666.667 | AB17: ='Cadena de Valor'!$I$17*2 -> 290000 | AC17: ='Cadena de Valor'!$I$15*10 -> 747086.67 | AD17: ='Cadena de Valor'!$I$16*1 -> 394444.33 | AE17: 400000 | AF17: =24499365/75 -> 326658.2 | AG17: =28707293.67/75 -> 382763.92 | AH17: 0. Informe Tecnico-Operativo de Ejecucion PIC 1.Registro de Asistencia 2. Formato de Acta de Reunion-Formato Acta de Concertacion-Formato Acta de dialogo para Consesno o disenso 3. Formato de Registros Filmicos (Fotograficos/Videos). 4. Ficha de Caracterizacion Socio-Demografica. 5. Ficha de Monitoreo y Seguimiento. 6. Formato de monitoreo y seguimiento de la Adherencia a las Rutas integrales de atencion en salud. 7. Formato de Visita Domiciliaria 8. Formato de Canalizacion 9. Formato y oficio de Remision 10. Registro Individual de Prestacion de servicios-RIPS-Codigo unico de prestacion de servicios-CUPS 11.Formato de intervenciones Breves | AI17: EBS # 5 | AJ17: Medico General, Enfermero, Promotor de Salud, Auxiliar de Enfermeria | AK17: 1. Institucional 2. Laboral 3. Educativo 4. Comunitario 5. Familia Hogar | AL17: 1. Primera Infancia 2. Infancia 3. Adolescencia 4. Juventud 5. Adultez 6. Adulto mayor 7. Mujer Lactante-gestante 8. Etnicos: Indigenas, Afros, Negros, Raizales, Rrom 9. Victimas del conflicto Armado 10. Poblacion en situacion de discapacidad 11. Trabajador Informal: Estacionario-Ambulante 12. Comunidad LGTBIQ+ | AM17: T09, T10, T11, T13, T14 | AN17: no aplica | AO17: no aplica | AP17: no aplica | AQ17: no aplica | AR17: Secretaria de Salud Municipal de Maicao-Autoridad Sanitaria
A18: Contar con elementos para la acción que le permita aproximarse a las condiciones de vida y salud de las diferentes poblaciones de acuerdo con sus particularidades y necesidades, mediante el respeto a la integridad y la participación social, y como garante en la construcción conjunta de intervenciones desde el dialogo horizontal y respetuoso de sus saberes, prácticas y creencias. | B18: Pueblos y comunidades étnicas y campesinas, mujeres, sectores LGBTIQ+ y otras poblaciones por condición y/o situación | C18: Prácticas, saberes y conocimientos para la salud pública reconocidos y fortalecidos para Pueblos y comunidades étnicas, mujeres, población campesina, LBGTIQ+ y otras poblaciones por condición y/o situación | D18: 2.272106e+09 | E18: SGP-SALUD-SALUD PUBLICA | F18: 12836757 | G18: 316 | H18: I11203 | I18: EDUCACIÓN Y COMUNICACIÓN PARA LA PREVENCIÓN DEL EMBARAZO EN LA INFANCIA Y ADOLESCENCIA | J18: I1120312 | K18: Concertar con la comunidad de las comunas priorizadas, un encuentro educativo, en articulación con el proceso de gestión, en el que se eduque sobre temas de sexualidad, tipos de violencia y embarazo en adolescentes. | L18: 1 | M18: numero | N18: 0 | O18: 0 | P18: 1 | Q18: 0 | R18: 1.1.02.06.001.02.02 | S18: cuidado de la salud en el territorio | T18: =U18/L18 -> 14084505 | U18: =SUM(V18:Y18) -> 14084505 | V18: =Cpte_Financiero_WT_PIC25!$H$19/75 -> 6126000 | W18: =Cpte_Financiero_WT_PIC25!$H$25/75 -> 4707000 | X18: =Cpte_Financiero_WT_PIC25!$E$58/75 -> 736552.18 | Y18: =SUM(Z18:AG18) -> 2514953.1 | Z18: ='Cadena de Valor'!$I$19*1 -> 169333.33 | AA18: ='Cadena de Valor'!$I$20*1 -> 94666.667 | AB18: 0 | AC18: ='Cadena de Valor'!$I$15*10 -> 747086.67 | AD18: ='Cadena de Valor'!$I$16*1 -> 394444.33 | AE18: 400000 | AF18: =24499365/75 -> 326658.2 | AG18: =28707293.67/75 -> 382763.92 | AH18: 0. Informe Tecnico-Operativo de Ejecucion PIC 1.Registro de Asistencia 2. Formato de Acta de Reunion-Formato Acta de Concertacion-Formato Acta de dialogo para Consesno o disenso 3. Formato de Registros Filmicos (Fotograficos/Videos). 4. Ficha de Caracterizacion Socio-Demografica. 5. Ficha de Monitoreo y Seguimiento. 6. Formato de monitoreo y seguimiento de la Adherencia a las Rutas integrales de atencion en salud. 7. Formato de Visita Domiciliaria 8. Formato de Canalizacion 9. Formato y oficio de Remision 10. Registro Individual de Prestacion de servicios-RIPS-Codigo unico de prestacion de servicios-CUPS 11.Formato de intervenciones Breves | AI18: EBS # 5 | AJ18: Medico General, Enfermero, Promotor de Salud, Auxiliar de Enfermeria | AK18: 1. Institucional 2. Laboral 3. Educativo 4. Comunitario 5. Familia Hogar | AL18: 1. Primera Infancia 2. Infancia 3. Adolescencia 4. Juventud 5. Adultez 6. Adulto mayor 7. Mujer Lactante-gestante 8. Etnicos: Indigenas, Afros, Negros, Raizales, Rrom 9. Victimas del conflicto Armado 10. Poblacion en situacion de discapacidad 11. Trabajador Informal: Estacionario-Ambulante 12. Comunidad LGTBIQ+ | AM18: T13 | AN18: comuna 4 | AO18: Cristo vive, Galán, Fonseca Siosi, Hary Fuminaya, Belén de Judea, La union, Los olivos. | AP18: 200 | AQ18: 1000 | AR18: Secretaria de Salud Municipal de Maicao-Autoridad Sanitaria
A19: Contar con elementos para la acción que le permita aproximarse a las condiciones de vida y salud de las diferentes poblaciones de acuerdo con sus particularidades y necesidades, mediante el respeto a la integridad y la participación social, y como garante en la construcción conjunta de intervenciones desde el dialogo horizontal y respetuoso de sus saberes, prácticas y creencias. | B19: Pueblos y comunidades étnicas y campesinas, mujeres, sectores LGBTIQ+ y otras poblaciones por condición y/o situación | C19: Prácticas, saberes y conocimientos para la salud pública reconocidos y fortalecidos para Pueblos y comunidades étnicas, mujeres, población campesina, LBGTIQ+ y otras poblaciones por condición y/o situación | D19: 2.272106e+09 | E19: SGP-SALUD-SALUD PUBLICA | F19: 12836757 | G19: 317 | H19: I11201 | I19: EDUCACIÓN Y COMUNICACIÓN EN SALUD SOBRE EL LIBRE EJERCICIO DE LA SEXUALIDAD, LA IDENTIDAD DE GÉNERO Y LA ORIENTACIÓN SEXUAL | J19: I1120113 | K19: Desarrollar una (1) estrategia informativa, dirigida a la población en general, a través de cuñas radiales con mensajes claros y sencillos, además del uso de volantes informativos y otros canales de comunicación, que sensibilice a la comunidad sobre la importancia de la educación sexual temprana y la prevención de abusos. | L19: 1 | M19: numero | N19: 0 | O19: 1 | P19: 0 | Q19: 0 | R19: 1.1.02.06.001.02.02 | S19: cuidado de la salud en el territorio | T19: =U19/L19 -> 13884505 | U19: =SUM(V19:Y19) -> 13884505 | V19: =Cpte_Financiero_WT_PIC25!$H$19/75 -> 6126000 | W19: =Cpte_Financiero_WT_PIC25!$H$25/75 -> 4707000 | X19: =Cpte_Financiero_WT_PIC25!$E$58/75 -> 736552.18 | Y19: =SUM(Z19:AG19) -> 2314953.1 | Z19: ='Cadena de Valor'!$I$19*1 -> 169333.33 | AA19: ='Cadena de Valor'!$I$20*1 -> 94666.667 | AB19: 0 | AC19: ='Cadena de Valor'!$I$15*10 -> 747086.67 | AD19: ='Cadena de Valor'!$I$16*1 -> 394444.33 | AE19: 200000 | AF19: =24499365/75 -> 326658.2 | AG19: =28707293.67/75 -> 382763.92 | AH19: 0. Informe Tecnico-Operativo de Ejecucion PIC 1.Registro de Asistencia 2. Formato de Acta de Reunion-Formato Acta de Concertacion-Formato Acta de dialogo para Consesno o disenso 3. Formato de Registros Filmicos (Fotograficos/Videos). 4. Ficha de Caracterizacion Socio-Demografica. 5. Ficha de Monitoreo y Seguimiento. 6. Formato de monitoreo y seguimiento de la Adherencia a las Rutas integrales de atencion en salud. 7. Formato de Visita Domiciliaria 8. Formato de Canalizacion 9. Formato y oficio de Remision 10. Registro Individual de Prestacion de servicios-RIPS-Codigo unico de prestacion de servicios-CUPS 11.Formato de intervenciones Breves | AI19: EBS # 5 | AJ19: Medico General, Enfermero, Promotor de Salud, Auxiliar de Enfermeria | AK19: 1. Institucional 2. Laboral 3. Educativo 4. Comunitario 5. Familia Hogar | AL19: 1. Primera Infancia 2. Infancia 3. Adolescencia 4. Juventud 5. Adultez 6. Adulto mayor 7. Mujer Lactante-gestante 8. Etnicos: Indigenas, Afros, Negros, Raizales, Rrom 9. Victimas del conflicto Armado 10. Poblacion en situacion de discapacidad 11. Trabajador Informal: Estacionario-Ambulante 12. Comunidad LGTBIQ+ | AM19: T13 | AN19: comuna 4 | AO19: La bendición de Dios, Somos Unidos, Brisas de Parrantial, Las torres de la majayura, San Francisco, Mareigua, San Francisco, La Pista. | AP19: 200 | AQ19: 1000 | AR19: Secretaria de Salud Municipal de Maicao-Autoridad Sanitaria
A20: Contar con elementos para la acción que le permita aproximarse a las condiciones de vida y salud de las diferentes poblaciones de acuerdo con sus particularidades y necesidades, mediante el respeto a la integridad y la participación social, y como garante en la construcción conjunta de intervenciones desde el dialogo horizontal y respetuoso de sus saberes, prácticas y creencias. | B20: Pueblos y comunidades étnicas y campesinas, mujeres, sectores LGBTIQ+ y otras poblaciones por condición y/o situación | C20: Prácticas, saberes y conocimientos para la salud pública reconocidos y fortalecidos para Pueblos y comunidades étnicas, mujeres, población campesina, LBGTIQ+ y otras poblaciones por condición y/o situación | D20: 2.272106e+09 | E20: SGP-SALUD-SALUD PUBLICA | F20: 12836757 | G20: 318 | H20: I10202 | I20: INFORMACIÓN EN SALUD PARA LA PREVENCIÓN DE VIOLENCIAS POR RAZONES DE GÉNERO Y VIOLENCIAS SEXUALES | J20: I1020214 | K20: Realizar una (1) estrategia educativa, dirigida a la población de los micro-territorios priorizados, a través pendones, talleres y sesiones educativas, en conmemoración del día internacional de la eliminación de la violencia contra la mujer, programada el día 25 de noviembre de 2025. | L20: 1 | M20: numero | N20: 0 | O20: 0 | P20: 0 | Q20: 1 | R20: 1.1.02.06.001.02.02 | S20: cuidado de la salud en el territorio | T20: =U20/L20 -> 14174505 | U20: =SUM(V20:Y20) -> 14174505 | V20: =Cpte_Financiero_WT_PIC25!$H$19/75 -> 6126000 | W20: =Cpte_Financiero_WT_PIC25!$H$25/75 -> 4707000 | X20: =Cpte_Financiero_WT_PIC25!$E$58/75 -> 736552.18 | Y20: =SUM(Z20:AG20) -> 2604953.1 | Z20: ='Cadena de Valor'!$I$19*1 -> 169333.33 | AA20: ='Cadena de Valor'!$I$20*1 -> 94666.667 | AB20: ='Cadena de Valor'!$I$17*2 -> 290000 | AC20: ='Cadena de Valor'!$I$15*10 -> 747086.67 | AD20: ='Cadena de Valor'!$I$16*1 -> 394444.33 | AE20: 200000 | AF20: =24499365/75 -> 326658.2 | AG20: =28707293.67/75 -> 382763.92 | AH20: 0. Informe Tecnico-Operativo de Ejecucion PIC 1.Registro de Asistencia 2. Formato de Acta de Reunion-Formato Acta de Concertacion-Formato Acta de dialogo para Consesno o disenso 3. Formato de Registros Filmicos (Fotograficos/Videos). 4. Ficha de Caracterizacion Socio-Demografica. 5. Ficha de Monitoreo y Seguimiento. 6. Formato de monitoreo y seguimiento de la Adherencia a las Rutas integrales de atencion en salud. 7. Formato de Visita Domiciliaria 8. Formato de Canalizacion 9. Formato y oficio de Remision 10. Registro Individual de Prestacion de servicios-RIPS-Codigo unico de prestacion de servicios-CUPS 11.Formato de intervenciones Breves | AI20: EBS # 5 | AJ20: Medico General, Enfermero, Promotor de Salud, Auxiliar de Enfermeria | AK20: 1. Institucional 2. Laboral 3. Educativo 4. Comunitario 5. Familia Hogar | AL20: 1. Primera Infancia 2. Infancia 3. Adolescencia 4. Juventud 5. Adultez 6. Adulto mayor 7. Mujer Lactante-gestante 8. Etnicos: Indigenas, Afros, Negros, Raizales, Rrom 9. Victimas del conflicto Armado 10. Poblacion en situacion de discapacidad 11. Trabajador Informal: Estacionario-Ambulante 12. Comunidad LGTBIQ+ | AM20: T24 | AN20: T24. MT05 | AO20: T24. MT05. Ekimana | AP20: 200 | AQ20: 800 | AR20: Secretaria de Salud Municipal de Maicao-Autoridad Sanitaria
A21: Contar con elementos para la acción que le permita aproximarse a las condiciones de vida y salud de las diferentes poblaciones de acuerdo con sus particularidades y necesidades, mediante el respeto a la integridad y la participación social, y como garante en la construcción conjunta de intervenciones desde el dialogo horizontal y respetuoso de sus saberes, prácticas y creencias. | B21: Pueblos y comunidades étnicas y campesinas, mujeres, sectores LGBTIQ+ y otras poblaciones por condición y/o situación | C21: Prácticas, saberes y conocimientos para la salud pública reconocidos y fortalecidos para Pueblos y comunidades étnicas, mujeres, población campesina, LBGTIQ+ y otras poblaciones por condición y/o situación | D21: 2.272106e+09 | E21: SGP-SALUD-SALUD PUBLICA | F21: 12836757 | G21: 319 | H21: I11201 | I21: EDUCACIÓN Y COMUNICACIÓN EN SALUD SOBRE EL LIBRE EJERCICIO DE LA SEXUALIDAD, LA IDENTIDAD DE GÉNERO Y LA ORIENTACIÓN SEXUAL | J21: I1120115 | K21: Implementar una (1) estrategia educativa, dirigida a los hombres y mujeres a cargo de los estudiantes de las instituciones educativas de los micro-territorios priorizados, donde se eduque sobre estrategias de comunicación abierta y natural entre padres e hijos, métodos de respuesta a las preguntas de los niños sobre sexualidad de manera clara y creación de ambientes de confianza, con el fin de sensibilizar al cuidador sobre la importancia de la sexualidad saludable y responsable, previniendo abusos y garantizando el desarrollo integral de los niños. | L21: 1 | M21: numero | N21: 0 | O21: 1 | P21: 0 | Q21: 0 | R21: 1.1.02.06.001.02.02 | S21: cuidado de la salud en el territorio | T21: =U21/L21 -> 14174505 | U21: =SUM(V21:Y21) -> 14174505 | V21: =Cpte_Financiero_WT_PIC25!$H$19/75 -> 6126000 | W21: =Cpte_Financiero_WT_PIC25!$H$25/75 -> 4707000 | X21: =Cpte_Financiero_WT_PIC25!$E$58/75 -> 736552.18 | Y21: =SUM(Z21:AG21) -> 2604953.1 | Z21: ='Cadena de Valor'!$I$19*1 -> 169333.33 | AA21: ='Cadena de Valor'!$I$20*1 -> 94666.667 | AB21: ='Cadena de Valor'!$I$17*2 -> 290000 | AC21: ='Cadena de Valor'!$I$15*10 -> 747086.67 | AD21: ='Cadena de Valor'!$I$16*1 -> 394444.33 | AE21: 200000 | AF21: =24499365/75 -> 326658.2 | AG21: =28707293.67/75 -> 382763.92 | AH21: 0. Informe Tecnico-Operativo de Ejecucion PIC 1.Registro de Asistencia 2. Formato de Acta de Reunion-Formato Acta de Concertacion-Formato Acta de dialogo para Consesno o disenso 3. Formato de Registros Filmicos (Fotograficos/Videos). 4. Ficha de Caracterizacion Socio-Demografica. 5. Ficha de Monitoreo y Seguimiento. 6. Formato de monitoreo y seguimiento de la Adherencia a las Rutas integrales de atencion en salud. 7. Formato de Visita Domiciliaria 8. Formato de Canalizacion 9. Formato y oficio de Remision 10. Registro Individual de Prestacion de servicios-RIPS-Codigo unico de prestacion de servicios-CUPS 11.Formato de intervenciones Breves | AI21: EBS # 5 | AJ21: Medico General, Enfermero, Promotor de Salud, Auxiliar de Enfermeria | AK21: 1. Institucional 2. Laboral 3. Educativo 4. Comunitario 5. Familia Hogar | AL21: 1. Primera Infancia 2. Infancia 3. Adolescencia 4. Juventud 5. Adultez 6. Adulto mayor 7. Mujer Lactante-gestante 8. Etnicos: Indigenas, Afros, Negros, Raizales, Rrom 9. Victimas del conflicto Armado 10. Poblacion en situacion de discapacidad 11. Trabajador Informal: Estacionario-Ambulante 12. Comunidad LGTBIQ+ | AM21: T24 | AN21: T24. MT05 | AO21: T24. MT05. I.E.I N°01 Sede Jonjoncito | AP21: 200 | AQ21: 800 | AR21: Secretaria de Salud Municipal de Maicao-Autoridad Sanitaria
A22: Contar con elementos para la acción que le permita aproximarse a las condiciones de vida y salud de las diferentes poblaciones de acuerdo con sus particularidades y necesidades, mediante el respeto a la integridad y la participación social, y como garante en la construcción conjunta de intervenciones desde el dialogo horizontal y respetuoso de sus saberes, prácticas y creencias. | B22: Pueblos y comunidades étnicas y campesinas, mujeres, sectores LGBTIQ+ y otras poblaciones por condición y/o situación | C22: Prácticas, saberes y conocimientos para la salud pública reconocidos y fortalecidos para Pueblos y comunidades étnicas, mujeres, población campesina, LBGTIQ+ y otras poblaciones por condición y/o situación | D22: 2.272106e+09 | E22: SGP-SALUD-SALUD PUBLICA | F22: 12836757 | G22: 320 | H22: I11101 | I22: EDUCACIÓN Y COMUNICACIÓN PARA LA PROMOCIÓN DE LA SALUD MENTAL | J22: I1110116 | K22: Desarrollar tres (3) talleres lúdicos con enfoque diferencial, dirigido a la población migrante con envejecimiento y vejez que residen en el municipio de Maicao, a través de talleres de estimulación cognitiva, como ejercicios de memoria, mente activa, juegos de mesa y lectura, con el fin de promover y mantener el bienestar mental, reduciendo el riesgo de enfermedades mentales, estrés y ansiedad en la vejez. | L22: 3 | M22: numero | N22: 0 | O22: 1 | P22: 1 | Q22: 1 | R22: 1.1.02.06.001.02.02 | S22: cuidado de la salud en el territorio | T22: =U22/L22 -> 4921279.5 | U22: =SUM(V22:Y22) -> 14763839 | V22: =Cpte_Financiero_WT_PIC25!$H$19/75 -> 6126000 | W22: =Cpte_Financiero_WT_PIC25!$H$25/75 -> 4707000 | X22: =Cpte_Financiero_WT_PIC25!$E$58/75 -> 736552.18 | Y22: =SUM(Z22:AG22) -> 3194286.4 | Z22: ='Cadena de Valor'!$I$19*1 -> 169333.33 | AA22: ='Cadena de Valor'!$I$20*3 -> 284000 | AB22: ='Cadena de Valor'!$I$17*2 -> 290000 | AC22: ='Cadena de Valor'!$I$15*10 -> 747086.67 | AD22: ='Cadena de Valor'!$I$16*1 -> 394444.33 | AE22: 600000 | AF22: =24499365/75 -> 326658.2 | AG22: =28707293.67/75 -> 382763.92 | AH22: 0. Informe Tecnico-Operativo de Ejecucion PIC 1.Registro de Asistencia 2. Formato de Acta de Reunion-Formato Acta de Concertacion-Formato Acta de dialogo para Consesno o disenso 3. Formato de Registros Filmicos (Fotograficos/Videos). 4. Ficha de Caracterizacion Socio-Demografica. 5. Ficha de Monitoreo y Seguimiento. 6. Formato de monitoreo y seguimiento de la Adherencia a las Rutas integrales de atencion en salud. 7. Formato de Visita Domiciliaria 8. Formato de Canalizacion 9. Formato y oficio de Remision 10. Registro Individual de Prestacion de servicios-RIPS-Codigo unico de prestacion de servicios-CUPS 11.Formato de intervenciones Breves | AI22: EBS # 5 | AJ22: Medico General, Enfermero, Promotor de Salud, Auxiliar de Enfermeria | AK22: 1. Institucional 2. Laboral 3. Educativo 4. Comunitario 5. Familia Hogar | AL22: 1. Primera Infancia 2. Infancia 3. Adolescencia 4. Juventud 5. Adultez 6. Adulto mayor 7. Mujer Lactante-gestante 8. Etnicos: Indigenas, Afros, Negros, Raizales, Rrom 9. Victimas del conflicto Armado 10. Poblacion en situacion de discapacidad 11. Trabajador Informal: Estacionario-Ambulante 12. Comunidad LGTBIQ+ | AM22: T11 T14 | AN22: comuna 3 comuna 5 | AO22: CM3. altos de parrantial CM 5. Jorge arrieta, la victoria | AP22: 650 450 | AQ22: 3250 2250 | AR22: Secretaria de Salud Municipal de Maicao-Autoridad Sanitaria
A23: Contar con elementos para la acción que le permita aproximarse a las condiciones de vida y salud de las diferentes poblaciones de acuerdo con sus particularidades y necesidades, mediante el respeto a la integridad y la participación social, y como garante en la construcción conjunta de intervenciones desde el dialogo horizontal y respetuoso de sus saberes, prácticas y creencias. | B23: Pueblos y comunidades étnicas y campesinas, mujeres, sectores LGBTIQ+ y otras poblaciones por condición y/o situación | C23: Prácticas, saberes y conocimientos para la salud pública reconocidos y fortalecidos para Pueblos y comunidades étnicas, mujeres, población campesina, LBGTIQ+ y otras poblaciones por condición y/o situación | D23: 2.272106e+09 | E23: SGP-SALUD-SALUD PUBLICA | F23: 12836757 | G23: 321 | H23: I30201 | I23: MAPEO Y CARACTERIZACIÓN DE ACTORES | J23: I3020117 | K23: Realizar cinco (5) campañas de atención integral, dirigida a los micro-territorios priorizados del municipio de Maicao, donde se identifique, capte y caracterice los eventos de interés en salud pública, que incluya activación de ruta y notificación oportuna del caso a los organismos interdisciplinares correspondientes. | L23: 5 | M23: numero | N23: 0 | O23: 2 | P23: 2 | Q23: 1 | R23: 1.1.02.06.001.02.02 | S23: cuidado de la salud en el territorio | T23: =U23/L23 -> 3149523.3 | U23: =SUM(V23:Y23) -> 15747616 | V23: =Cpte_Financiero_WT_PIC25!$H$19/75 -> 6126000 | W23: =Cpte_Financiero_WT_PIC25!$H$25/75 -> 4707000 | X23: =Cpte_Financiero_WT_PIC25!$E$58/75 -> 736552.18 | Y23: =SUM(Z23:AG23) -> 4178064.1 | Z23: ='Cadena de Valor'!$I$19*1 -> 169333.33 | AA23: ='Cadena de Valor'!$I$20*5 -> 473333.33 | AB23: ='Cadena de Valor'!$I$17*2 -> 290000 | AC23: ='Cadena de Valor'!$I$15*10 -> 747086.67 | AD23: ='Cadena de Valor'!$I$16*2 -> 788888.67 | AE23: 1000000 | AF23: =24499365/75 -> 326658.2 | AG23: =28707293.67/75 -> 382763.92 | AH23: 0. Informe Tecnico-Operativo de Ejecucion PIC 1.Registro de Asistencia 2. Formato de Acta de Reunion-Formato Acta de Concertacion-Formato Acta de dialogo para Consesno o disenso 3. Formato de Registros Filmicos (Fotograficos/Videos). 4. Ficha de Caracterizacion Socio-Demografica. 5. Ficha de Monitoreo y Seguimiento. 6. Formato de monitoreo y seguimiento de la Adherencia a las Rutas integrales de atencion en salud. 7. Formato de Visita Domiciliaria 8. Formato de Canalizacion 9. Formato y oficio de Remision 10. Registro Individual de Prestacion de servicios-RIPS-Codigo unico de prestacion de servicios-CUPS 11.Formato de intervenciones Breves | AI23: EBS # 5 | AJ23: Medico General, Enfermero, Promotor de Salud, Auxiliar de Enfermeria | AK23: 1. Institucional 2. Laboral 3. Educativo 4. Comunitario 5. Familia Hogar | AL23: 1. Primera Infancia 2. Infancia 3. Adolescencia 4. Juventud 5. Adultez 6. Adulto mayor 7. Mujer Lactante-gestante 8. Etnicos: Indigenas, Afros, Negros, Raizales, Rrom 9. Victimas del conflicto Armado 10. Poblacion en situacion de discapacidad 11. Trabajador Informal: Estacionario-Ambulante 12. Comunidad LGTBIQ+ | AM23: T23 | AN23: T23. MT03. | AO23: T23. MT03. Torinchen, Kalanshira, Apuamana, Botonamana, San Antonio de Wamayao | AP23: 400 | AQ23: 1600 | AR23: Secretaria de Salud Municipal de Maicao-Autoridad Sanitaria
