Workbook

Sheet CDP
A2: GI6.19.1905.1905019.2.3.2.02.02.009.197 | B2: Realizar la caracterización y seguimiento anual de 4500 hogares en el marco de la estrategia primaria en salud | C2: META 197
A3: GI6.19.1905.1905019.2.3.2.02.02.009.197 111105 | B3: R.P. LIBRE DESTINACION | C3: 111105 | D3: 147243233
A4: GI6.19.1905.1905019.2.3.2.02.02.009.197 121105 | B4: V.A. R.P. LIBRE DESTINACION | C4: 121105 | D4: 50000000
A5: GI6.19.1905.1905028.2.3.2.02.02.009.189 | B5: Realizar 1 estrategia anual para fortalecer el plan de recuperación nutricional Municipal | C5: META 189
A6: GI6.19.1905.1905028.2.3.2.02.02.009.189 11311022 | B6: S.G.P. SALUD - SALUD PUBLICA | C6: 11311022 | D6: 15201767
A7: CDP PIC | D7: =+D6+D4+D3 -> 212445000

Sheet ART-20
A1: Numero | B1: Fuente | C1: Rubro | D1: observaciones | E1: Fecha Comprobante | F1: Nit | G1: Razon Social | H1: Valor Credito | I1: Tipo Afectado | J1: Comprobante Afectado
A2: 2024000687 | B2: 111105 | C2: GI20226191903202325799000219030451382.3.2.02.02.009 | D2: CD-CI-ADM-217-2024 CONTRATO INTERADMINISTRATIVO PARA REALIZAR ACCIONES CONTENIDAS EN EL PLAN DE INTERVENCIONES COLECTIVAS EN EL MARCO DEL PLAN DE SALUD TERRITORIAL PARA LA VIGENCIA 2024 CONTENIDAS EN EL PLAN DE ACCION EN SALUD DEL MUNICIPIO DE TENJO | E2: 27/03/2024 | F2: 860037592 | G2: EMPRESA SOCIAL DEL ESTADO HOSPITAL SANTA ROSA DE Tenjo | H2: 62593067 | I2: CDP Afectado No: | J2: 2024000435
A3: 2024000687 | B3: 11311022 | C3: GI20226191905202325799000219050191252.3.2.02.02.009 | D3: CD-CI-ADM-217-2024 CONTRATO INTERADMINISTRATIVO PARA REALIZAR ACCIONES CONTENIDAS EN EL PLAN DE INTERVENCIONES COLECTIVAS EN EL MARCO DEL PLAN DE SALUD TERRITORIAL PARA LA VIGENCIA 2024 CONTENIDAS EN EL PLAN DE ACCION EN SALUD DEL MUNICIPIO DE TENJO | E3: 27/03/2024 | F3: 860037592 | G3: EMPRESA SOCIAL DEL ESTADO HOSPITAL SANTA ROSA DE Tenjo | H3: 96000000 | I3: CDP Afectado No: | J3: 2024000435
A4: 2024000687 | B4: 11311022 | C4: GI20226191905202325799000219050211302.3.2.02.02.009 | D4: CD-CI-ADM-217-2024 CONTRATO INTERADMINISTRATIVO PARA REALIZAR ACCIONES CONTENIDAS EN EL PLAN DE INTERVENCIONES COLECTIVAS EN EL MARCO DEL PLAN DE SALUD TERRITORIAL PARA LA VIGENCIA 2024 CONTENIDAS EN EL PLAN DE ACCION EN SALUD DEL MUNICIPIO DE TENJO | E4: 27/03/2024 | F4: 860037592 | G4: EMPRESA SOCIAL DEL ESTADO HOSPITAL SANTA ROSA DE Tenjo | H4: 21000000 | I4: CDP Afectado No: | J4: 2024000435
A5: 2024000687 | B5: 11311022 | C5: GI20226191905202325799000219050221262.3.2.02.02.009 | D5: CD-CI-ADM-217-2024 CONTRATO INTERADMINISTRATIVO PARA REALIZAR ACCIONES CONTENIDAS EN EL PLAN DE INTERVENCIONES COLECTIVAS EN EL MARCO DEL PLAN DE SALUD TERRITORIAL PARA LA VIGENCIA 2024 CONTENIDAS EN EL PLAN DE ACCION EN SALUD DEL MUNICIPIO DE TENJO | E5: 27/03/2024 | F5: 860037592 | G5: EMPRESA SOCIAL DEL ESTADO HOSPITAL SANTA ROSA DE Tenjo | H5: 14000000 | I5: CDP Afectado No: | J5: 2024000435
A6: 2024000687 | B6: 11311022 | C6: GI20226191905202325799000219050251342.3.2.02.02.009 | D6: CD-CI-ADM-217-2024 CONTRATO INTERADMINISTRATIVO PARA REALIZAR ACCIONES CONTENIDAS EN EL PLAN DE INTERVENCIONES COLECTIVAS EN EL MARCO DEL PLAN DE SALUD TERRITORIAL PARA LA VIGENCIA 2024 CONTENIDAS EN EL PLAN DE ACCION EN SALUD DEL MUNICIPIO DE TENJO | E6: 27/03/2024 | F6: 860037592 | G6: EMPRESA SOCIAL DEL ESTADO HOSPITAL SANTA ROSA DE Tenjo | H6: 12000000 | I6: CDP Afectado No: | J6: 2024000435
A7: 2024000687 | B7: 11311022 | C7: GI20226191905202325799000219050281272.3.2.02.02.009 | D7: CD-CI-ADM-217-2024 CONTRATO INTERADMINISTRATIVO PARA REALIZAR ACCIONES CONTENIDAS EN EL PLAN DE INTERVENCIONES COLECTIVAS EN EL MARCO DEL PLAN DE SALUD TERRITORIAL PARA LA VIGENCIA 2024 CONTENIDAS EN EL PLAN DE ACCION EN SALUD DEL MUNICIPIO DE TENJO | E7: 27/03/2024 | F7: 860037592 | G7: EMPRESA SOCIAL DEL ESTADO HOSPITAL SANTA ROSA DE Tenjo | H7: 16456505 | I7: CDP Afectado No: | J7: 2024000435
A8: 2024000687 | B8: 11311022 | C8: GI20226191905202325799000219050311312.3.2.02.02.009 | D8: CD-CI-ADM-217-2024 CONTRATO INTERADMINISTRATIVO PARA REALIZAR ACCIONES CONTENIDAS EN EL PLAN DE INTERVENCIONES COLECTIVAS EN EL MARCO DEL PLAN DE SALUD TERRITORIAL PARA LA VIGENCIA 2024 CONTENIDAS EN EL PLAN DE ACCION EN SALUD DEL MUNICIPIO DE TENJO | E8: 27/03/2024 | F8: 860037592 | G8: EMPRESA SOCIAL DEL ESTADO HOSPITAL SANTA ROSA DE Tenjo | H8: 15000000 | I8: CDP Afectado No: | J8: 2024000435
A9: 2024000687 | B9: 11311022 | C9: GI20226191905202325799000219050311352.3.2.02.02.009 | D9: CD-CI-ADM-217-2024 CONTRATO INTERADMINISTRATIVO PARA REALIZAR ACCIONES CONTENIDAS EN EL PLAN DE INTERVENCIONES COLECTIVAS EN EL MARCO DEL PLAN DE SALUD TERRITORIAL PARA LA VIGENCIA 2024 CONTENIDAS EN EL PLAN DE ACCION EN SALUD DEL MUNICIPIO DE TENJO | E9: 27/03/2024 | F9: 860037592 | G9: EMPRESA SOCIAL DEL ESTADO HOSPITAL SANTA ROSA DE Tenjo | H9: 37000000 | I9: CDP Afectado No: | J9: 2024000435
A10: 2024000687 | B10: 11311022 | C10: GI20226191905202325799000219050311362.3.2.02.02.009 | D10: CD-CI-ADM-217-2024 CONTRATO INTERADMINISTRATIVO PARA REALIZAR ACCIONES CONTENIDAS EN EL PLAN DE INTERVENCIONES COLECTIVAS EN EL MARCO DEL PLAN DE SALUD TERRITORIAL PARA LA VIGENCIA 2024 CONTENIDAS EN EL PLAN DE ACCION EN SALUD DEL MUNICIPIO DE TENJO | E10: 27/03/2024 | F10: 860037592 | G10: EMPRESA SOCIAL DEL ESTADO HOSPITAL SANTA ROSA DE Tenjo | H10: 5000000 | I10: CDP Afectado No: | J10: 2024000435
B13: =+B3 -> 11311022 | C13: =+H3+H4+H5+H6+H7+H8+H9+H10 -> 216456505 | D13: =+C13/C17 -> 0.59911137
B14: =+B4 -> 11311022 | C14: =+CDP!D6 -> 15201767
C15: =+C14+C13 -> 231658272 | D15: =+C15/C17 -> 0.64118703
B17: SICODIS | C17: 361295942

Sheet RESUMEN
A1: ESE HOSPITAL | C1: POR PERFIL | I1: TOTALES
A2: PERFIL | B2: TIEMPO - MES | C2: TOTAL POR PERFIL | D2: PROFESIONAL | F2: PROMEDIO MENSUAL | G2: COSTOS INDIRECTOS (HOSPITAL) + TRANSPORTE | H2: CANTIDAD | I2: TOTAL | J2: PROFESIONAL | K2: COSTOS INDIRECTOS (HOSPITAL) + TRANSPORTE | L2: POSIBLE CONTRATISTA
A4: AUXILIARES DE ENFERMERIA TECNICA | B4: 8 | C4: =+AUXILIARES!L2 -> 186462000 | D4: =+C4*0.85 -> 158492700 | E4: =+C4*0.15 -> 27969300 | F4: =+D4/H4/B4 -> 2201287.5 | G4: =+E4/B4/H4 -> 388462.5 | H4: 9 | I4: =+(F4+G4)*B4*H4 -> 186462000 | J4: =+I4*0.85 -> 158492700 | K4: =+I4*0.15 -> 27969300 | L4: HOSPITAL SANTA ROSA DE TENJO
A5: ENFERMERA JEFE PYD | B5: 9 | C5: =+'JEFE PYD'!M14 -> 33465900 | D5: =+C5*0.85 -> 28446015 | E5: =+C5*0.15 -> 5019885 | F5: =+D5/H5/B5 -> 3160668.3 | G5: =+E5/B5/H5 -> 557765 | H5: 1 | I5: =+(F5+G5)*B5*H5 -> 33465900 | J5: =+I5*0.85 -> 28446015 | K5: =+I5*0.15 -> 5019885
A6: ENFERMERA JEFE GR | B6: 9 | C6: =+'JEFE GR'!M10 -> 33466000 | D6: =+C6*0.85 -> 28446100 | E6: =+C6*0.15 -> 5019900 | F6: =+D6/H6/B6 -> 3160677.8 | G6: =+E6/B6/H6 -> 557766.67 | H6: 1 | I6: =+(F6+G6)*B6*H6 -> 33466000 | J6: =+I6*0.85 -> 28446100 | K6: =+I6*0.15 -> 5019900
A7: MEDICO GENERAL | B7: 8 | C7: =+MÉDICO!M7 -> 39294600 | D7: =+C7*0.85 -> 33400410 | E7: =+C7*0.15 -> 5894190 | F7: =+D7/H7/B7 -> 4175051.2 | G7: =+E7/B7/H7 -> 736773.75 | H7: 1 | I7: =+(F7+G7)*B7*H7 -> 39294600 | J7: =+I7*0.85 -> 33400410 | K7: =+I7*0.15 -> 5894190
A8: PSICOLOGO | B8: 8 | C8: =+'PSICOLOGA N.1'!M11 -> 34281800 | D8: =+C8*0.85 -> 29139530 | E8: =+C8*0.15 -> 5142270 | F8: =+D8/H8/B8 -> 3642441.2 | G8: =+E8/B8/H8 -> 642783.75 | H8: 1 | I8: =+(F8+G8)*B8*H8 -> 34281800 | J8: =+I8*0.85 -> 29139530 | K8: =+I8*0.15 -> 5142270
A9: PSICOLOGO | B9: 8 | C9: =+'PSICOLOGA N.2'!M11 -> 29621200 | D9: =+C9*0.85 -> 25178020 | E9: =+C9*0.15 -> 4443180 | F9: =+D9/H9/B9 -> 3147252.5 | G9: =+E9/B9/H9 -> 555397.5 | H9: 1 | I9: =+(F9+G9)*B9*H9 -> 29621200 | J9: =+I9*0.85 -> 25178020 | K9: =+I9*0.15 -> 4443180
A10: PROMOTOR 1 y 2 | B10: 9 | C10: =+'PROMOTORA 1-2-BLANCA y otra'!L8 -> 41940000 | D10: =+C10*0.85 -> 35649000 | E10: =+C10*0.15 -> 6291000 | F10: =+D10/H10/B10 -> 3961000 | G10: =+E10/B10/H10 -> 699000 | H10: 1 | I10: =+(F10+G10)*B10*H10 -> 41940000 | J10: =+I10*0.85 -> 35649000 | K10: =+I10*0.15 -> 6291000
A11: NUTRICIONISTA | B11: 8 | C11: =+NUTRICIÓN!M16 -> 30577700 | D11: =+C11*0.85 -> 25991045 | E11: =+C11*0.15 -> 4586655 | F11: =+D11/H11/B11 -> 3248880.6 | G11: =+E11/B11/H11 -> 573331.88 | H11: 1 | I11: =+(F11+G11)*B11*H11 -> 30577700 | J11: =+I11*0.85 -> 25991045 | K11: =+I11*0.15 -> 4586655
A12: HIGIENISTA | B12: 8 | C12: =+'SALUD ORAL'!M12 -> 15203400 | D12: =+C12*0.85 -> 12922890 | E12: =+C12*0.15 -> 2280510 | F12: =+D12/H12/B12 -> 1615361.2 | G12: =+E12/B12/H12 -> 285063.75 | H12: 1 | I12: =+(F12+G12)*B12*H12 -> 15203400 | J12: =+I12*0.85 -> 12922890 | K12: =+I12*0.15 -> 2280510
A13: PROFESIONAL DE SALUD LABORAL | B13: 8 | C13: =+'SALUD LABORAL'!M9 -> 17712500 | D13: =+C13*0.85 -> 15055625 | E13: =+C13*0.15 -> 2656875 | F13: =+D13/H13/B13 -> 1881953.1 | G13: =+E13/B13/H13 -> 332109.38 | H13: 1 | I13: =+(F13+G13)*B13*H13 -> 17712500 | J13: =+I13*0.85 -> 15055625 | K13: =+I13*0.15 -> 2656875
A14: TRABAJO SOCIAL | B14: 8 | C14: =+'TRABAJADORA SOCIAL'!M7 -> 24467000 | D14: =+C14*0.85 -> 20796950 | E14: =+C14*0.15 -> 3670050 | F14: =+D14/H14/B14 -> 2599618.8 | G14: =+E14/B14/H14 -> 458756.25 | H14: 1 | I14: =+(F14+G14)*B14*H14 -> 24467000 | J14: =+I14*0.85 -> 20796950 | K14: =+I14*0.15 -> 3670050
H15: =SUM(H4:H14) -> 19 | I15: =SUM(I4:I14) -> 486492100 | J15: =SUM(J4:J14) -> 413518285 | K15: =SUM(K4:K14) -> 72973815
A17: TOTAL -COSTOS ADMINISTRATIVOS Y OPERACIONES | B17: 0.15
A18: TRANSPORTE | B18: 0.05
A19: INDIRECTOS | B19: =+B17-B18 -> 0.1
B21: ADICION PARA AUXILIARES | C21: =+(F4+G4)*H4 -> 23307750 | F21: RECURSOS DE BALANCE

Sheet AUXILIARES
A1: ITEM | B1: ESTRATEGIA | C1: ACTIVIDAD | D1: PROFESIONALES | E1: NUMERO DE ACTIVIDADES POR AUXILIAR MENSUALES | F1: NUMERO DE ACTIVIDADES POR AUXILIAR DURANTE EL CONTRATO 8 MESES | G1: TOTAL ACTIVIDADES DEL CONTRATO POR 8 MESES X 9 AUXILIARES | H1: SOPORTE DE ENTREGA | I1: CANT ACT X TOTAL | J1: CANT ACT X MESES | K1: VALOR UN | L1: VALOR TOTAL | M1: VALOR UN AJUSTADO | N1: TOTAL
A2: 1 | B2: ES TIEMPO DE LA FAMILIA CON SALUD | C2: Realizar visitas en el entorno hogar, a través del diligenciamiento completo de la Ficha familiar en ArcGis Survey 123 que inclúyen caracterización y seguimiento a los integrantes de la familia de acuerdo con la asignación de la territorialización del municipio y la concentración geográfica. * Casco urbano- centro poblado: 40 viisitas caracterización Mensuales y 5 de seguimiento. | D2: 9 | E2: 45 | F2: =+E2*8 -> 360 | G2: =+F2*D2 -> 3240 | H2: 1.Ficha Familiar Plataforma SURVEY. 2. Formato de canalización Demanda Inducida y seguimiento a la demanda (medio físico y magnético) | I2: =360*9 -> 3240 | J2: 45 | K2: 57550 | L2: =+K2*I2 -> 186462000 | M2: =+ROUND(L2/100,0)*100 -> 186462000 | N2: =+M2 -> 186462000 | Y2: 186462000 | Z2: =+L2/9/8 -> 2589750 | AA2: =+Z2*0.85 -> 2201287.5 | AB2: =+AA2*0.15 -> 330193.12
A3: 2 | B3: ES TIEMPO DE LA FAMILIA CON SALUD | C3: Realizar y entregar planes de cuidado a 360 familias caracterizadas mediante la aplicación de la ficha familiar de acuerdo al riesgo identificado,con el objetivo de promover practicas de cuidado para la salud, en el entorno hogar De acuerdo con la identificación de riesgos de salud y sociales a fin de canalizar los usuarios a los servicios de salud, promotoras en salud, a los profesionales de equipos básicos (psicólogo, nutricionista, enfermera, vacunación, etc) y demás actores de competencia, con el fÍn de garantizar la atención individual requerida e impactar positivamente en su estado de salud y calidad de vida. | D3: 9 | E3: 45 | F3: =+E3*8 -> 360 | G3: =+F3*D3 -> 3240 | H3: 1.Ficha Familiar Plataforma SURVEY. 2. Planes de Cuidado | I3: 3240 | J3: =+I3/9/8 -> 45 | K3: =26500*1.1 -> 29150 | L3: =+K3*I3 -> 94446000 | M3: =+ROUND(L3/100,0)*100 -> 94446000 | N3: =+M3 -> 94446000 | V3: 3240 | W3: 40 | X3: 29150 | Z3: =+L2/360/8 -> 64743.75 | AA3: =+Z3/K2 -> 1.125 | AB3: =+AA3/8 -> 0.140625 | AH3: =+AG3*9*8 -> 0
A4: 3 | B4: ES TIEMPO DE LA FAMILIA CON SALUD | C4: Aplicar mensualmente al 100% de las familias visitadas (personas mayores de 18 años), el Test de FINDRICS y tablas de la OMS, por medio de plataforma virtual ArcGis Survey 123 ,entregada por Secretaria de Salud, para la identificación del riesgo cardiovascular (Hipertensión y Diabetes) del curso de vida, adolescencia, juventud, adultez y vejez, en el entorno hogar, comunitario, educativo y laboral, de los sectores priorizados del municipio. | D4: 9 | E4: 1 | F4: =+E4*8 -> 8 | G4: =+F4*D4 -> 72 | H4: 1. Base Excel Ficha Familiar Plataforma SURVEY. 2. Formato de Demanda Inducida y seguimiento de la efectividad- (medio físico y magnético) | I4: 3240 | J4: =+I4/9 -> 360 | K4: =11200*1.05 -> 11760 | L4: =+K4*I4 -> 38102400 | M4: =+ROUND(L4/100,0)*100 -> 38102400 | N4: =+M4 -> 38102400 | V4: 3240 | W4: 1080 | X4: 11760 | AB4: =+AB3/9 -> 0.015625
A5: 4 | B5: ES TIEMPO DE LA FAMILIA CON SALUD | C5: Realizar mensualmente canalizaciones (demanda inducida) de la población identificada en riesgo, acorde con su curso de vida a las intervenciones individuales y colectivas de la ruta de mantenimiento y promoción de la salud, ruta materno perinatal, y las demás rutas establecidas por la secretaria de protecciòn social, según las necesidades del Territorio ( enrutar a: gestantes a su control prenatal, gestantes para suministro de micronutrientes, gestantes para tamizaje de hepatitis B, sífilis, VIH, mujeres en edad fértil para planificación familiar, adultos para consulta, jóvenes para consulta, personas para control de placa bacteriana y personas para tamizaje de agudeza visual)soporte de la demanda efectiva con pantallazo de la cita. | D5: 9 | E5: 1 | F5: =+E5*8 -> 8 | G5: =+F5*D5 -> 72 | H5: 2. Formato de canalización Demanda Inducida y seguimiento a la demanda efectiva (medio físico y magnético) | I5: 9 | J5: 50 | K5: =+ROUND(R5,0) -> 73333 | L5: =+K5*I5 -> 659997 | M5: =+ROUND(L5/100,0)*100 -> 660000 | N5: =+M5 -> 660000 | O5: 600000 | P5: 66666.667 | Q5: 660000 | R5: 73333.333 | V5: 9 | W5: 50 | X5: 73333
A6: 5 | B6: ES TIEMPO DE LA FAMILIA CON SALUD | C6: Realizar mensualmente demanda inducida en población menor y /o mayor de 15 años canalizando efectivamente a los servicios de vacunación, con el biológico de VPH, DTaP acelular, Td, influenza, fiebre amarilla, sarampión, COVID-19 y rubeóla en caso de brotes o casos sospechosos y/o apoyar en monitoreos rápidos de vacunación.soporte de la demanda efectiva por parte de la ESE hospital santa rosa de Tenjo. | D6: 9 | E6: 1 | F6: =+E6*8 -> 8 | G6: =+F6*D6 -> 72 | H6: 2. Formato de canalización Demanda Inducida y seguimiento de la efectividad (medio físico y magnético). | I6: 9 | J6: 250 | K6: =+ROUND(R6,0) -> 518692 | L6: =+K6*I6 -> 4668228 | M6: =+ROUND(L6/100,0)*100 -> 4668200 | N6: =+M6 -> 4668200 | O6: 3200000 | P6: 355555.56 | Q6: 3520000 | R6: =391111+127581 -> 518692 | V6: 9 | W6: 250 | X6: 391111
A7: 6 | B7: ES TIEMPO DE LA FAMILIA CON SALUD | C7: Realizar mensualmente busqueda activa comunitaria de sintomáticos respiratorios identificados en visitas domiciliarias para promover la adopción de practicas de cuidado para la salud en el entorno hogar . | D7: 9 | E7: 1 | F7: =+E7*8 -> 8 | G7: =+F7*D7 -> 72 | H7: FORMATO BAC | I7: 90 | J7: 563 | K7: =+ROUND(R7,0) -> 82622 | L7: =+K7*I7 -> 7435980 | M7: =+ROUND(L7/100,0)*100 -> 7436000 | N7: =+M7 -> 7436000 | O7: 6760000 | P7: 75111.111 | Q7: 7436000 | R7: 82622.222 | V7: 90 | W7: 563 | X7: 82622
A8: 7 | B8: ES TIEMPO DE LA FAMILIA CON SALUD | C8: Identificar y caracterizar mensualmente a mujeres con riesgos asociados a Cáncer de Mama (Mujeres mayores de 50 años sin toma de Mamografía o menores sintomáticas) mediante la aplicación de ficha por medio de plataforma virtual entregada por Secretaria de Salud, del curso de vida, juventud, adultez y vejez, en el entorno hogar, comunitario, laboral, de las familias objeto de trabajo de los sectores priorizados del municipio. | D8: 9 | E8: 5 | F8: =+E8*8 -> 40 | G8: =+F8*D8 -> 360 | H8: 1. Ficha Familiar Plataforma SURVEY. 2.Formato de canalización , demanda Inducida y seguimiento de la efectividad (medio físico y magnético). | I8: =13*9 -> 117 | J8: 563 | K8: =+ROUND(R8,0) -> 63556 | L8: =+K8*I8 -> 7436052 | M8: =+ROUND(L8/100,0)*100 -> 7436100 | N8: =+M8 -> 7436100 | O8: 6760000 | P8: 57777.778 | Q8: 7436000 | R8: 63555.556 | V8: 117 | W8: 563 | X8: 63556
A9: 8 | B9: ES TIEMPO DE LA FAMILIA CON SALUD | C9: Identificar y caracterizar mensualmente a mujeres con riesgos asociados a Cáncer de Cuello Uterino ( Mujeres que nunca se hayan tomado la citología y/o mujeres que lleven mas de un año sin toma), mediante la aplicación de ficha por medio de plataforma virtual entregada por Secretaria de Salud, del curso de vida, adolescencia, juventud, adultez y vejez, en el entorno hogar, comunitario laboral, de las familias objeto de trabajo de los sectores priorizados del municipio | D9: 9 | E9: 5 | F9: =+E9*8 -> 40 | G9: =+F9*D9 -> 360 | H9: 1. Ficha Familiar Plataforma SURVEY. 2.Formato de canalización , demanda Inducida y seguimiento de la efectividad (medio físico y magnético). | I9: =20*9 -> 180 | J9: 250 | K9: =+ROUND(R9,0) -> 12222 | L9: =+K9*I9 -> 2199960 | M9: =+ROUND(L9/100,0)*100 -> 2200000 | N9: =+M9 -> 2200000 | O9: 2000000 | P9: 11111.111 | Q9: 2200000 | R9: 12222.222 | V9: 180 | W9: 250 | X9: 12222
A10: 9 | B10: ES TIEMPO DE LA FAMILIA CON SALUD | C10: Identificar y caracterizar mensualmente a hombres con riesgos asociados a cáncer de Próstata ( Hombres mayores de 50 a 75 años de edad). mediante la aplicación de ficha por medio de plataforma virtual entregada por Secretaria de Salud, del curso de vida, adultez y vejez, en el entorno hogar, comunitario, laboral, con el objeto de intervencion de los sectores priorizados por ell municipio. | D10: 9 | E10: 10 | F10: =+E10*8 -> 80 | G10: =+F10*D10 -> 720 | H10: 1. Ficha Familiar Plataforma SURVEY. 2.Formato de canalización , demanda Inducida y seguimiento de la efectividad (medio físico y magnético). | I10: =12*9 -> 108 | J10: 600 | K10: =+ROUND(R10,0) -> 73333 | L10: =+K10*I10 -> 7919964 | M10: =+ROUND(L10/100,0)*100 -> 7920000 | N10: =+M10 -> 7920000 | O10: 7200000 | P10: 66666.667 | Q10: 7920000 | R10: 73333.333 | V10: 108 | W10: 600 | X10: 73333
A11: 10 | B11: ES TIEMPO DE LA FAMILIA CON SALUD | C11: AIEPI Caracterizar en el entorno hogar a través de la ficha de Atención Integral de Enfermedades Prevalentes de la Infancia - AIEPI - Comunitario, al 70% de la población de infancia y primera infancia existente en el microterrirtorio asignado por el ente territorial (desde el primer día de nacido hasta los 11 años 11 meses y 29 días). | D11: 9 | E11: 5 | F11: =+E11*8 -> 40 | G11: =+F11*D11 -> 360 | H11: 1. Ficha Física AIEPI y /o Plataforma SURVEY AIEPI- 2. Base de datos AIEPI 3.Formato de canalización y seguimiento a la demanda efectiva físico y magnético | I11: =20*9 -> 180 | J11: 300 | K11: =+ROUND(R11,0) -> 22000 | L11: =+K11*I11 -> 3960000 | M11: =+ROUND(L11/100,0)*100 -> 3960000 | N11: =+M11 -> 3960000 | O11: 3600000 | P11: 20000 | Q11: 3960000 | R11: 22000 | V11: 180 | W11: 300 | X11: 22000
A12: 11 | B12: ES TIEMPO DE LA FAMILIA CON SALUD | C12: GESTANTES Realizar caracterizaciòn y seguimiento de manera mensual a las mujeres gestantes y puérperas a través de la plataforma ArcGIS survey 123 diligenciando el Kardex de gestantes y puérperas de acuerdo con la situación encontrada y apoyar la demanda inducida al curso psicoprofilactico. Se recomienda hacer busqueda activa de las gestantes antes de la semana 12. | D12: 9 | E12: 1 | F12: =+E12*8 -> 8 | G12: =+F12*D12 -> 72 | H12: 1. Ficha Familiar Plataforma SURVEY Gestantes o puerperas , 2. Plan Cuidado /o certificación de que no hay gestantes /puérperas | I12: =2*9 -> 18 | J12: 300 | K12: =+ROUND(R12,0) -> 605000 | L12: =+K12*I12 -> 10890000 | M12: =+ROUND(L12/100,0)*100 -> 10890000 | N12: =+M12 -> 10890000 | O12: 9900000 | P12: 550000 | Q12: 10890000 | R12: 605000 | V12: 18 | W12: 300 | X12: 605000
A13: 12 | B13: ES TIEMPO DE LA FAMILIA CON SALUD | C13: Identificar y canalizar mensualmente al área de salud publica y epidemiólogia municipal mediante el formato de demanda inducida todos los eventos de interés en salud publica de la población caracterizada mediante la aplicación de la ficha familiar establecida en el marco de la estrategia APS por medio de los instrumentos establecidos desde la secretaria de Salud municipal. | D13: 9 | E13: 1 | F13: =+E13*8 -> 8 | G13: =+F13*D13 -> 72 | H13: 1.Formato de canalización y seguimiento a la demanda efectiva físico y magnético (medio físico y magnético) | I13: =5*9 -> 45 | J13: 75 | K13: =+ROUND(R13,0) -> 90750 | L13: =+K13*I13 -> 4083750 | M13: =+ROUND(L13/100,0)*100 -> 4083800 | N13: =+M13 -> 4083800 | O13: 3712500 | P13: 82500 | Q13: 4083750 | R13: 90750 | V13: 45 | W13: 75 | X13: 90750
A14: 13 | B14: ES TIEMPO DE LA FAMILIA CON SALUD | C14: Realizar socialización (1 actividad mensual por el equipo) de resultados provenientes de la caracterización de hogares, con la comunidad en genral y lider comunal; con el fin de garantizar acciones instersectoriales que apoyen el mejoramiento de la calidad de vida de la población tenjana. | D14: 9 | E14: 1 | F14: =+E14*8 -> 8 | G14: =+F14*D14 -> 72 | H14: 1. Informe de actividad 2. Listado de asistencia 3. Registro fotográfico 4.Recurso Utilizado( Infografía , Volente , video, Folleto ) | I14: =1*90 -> 90 | J14: 44 | K14: =+ROUND(R14,0) -> 9680 | L14: =+K14*I14 -> 871200 | M14: =+ROUND(L14/100,0)*100 -> 871200 | N14: =+M14 -> 871200 | O14: 792000 | P14: 8800 | Q14: 871200 | R14: 9680 | S14: 20590444 | V14: 90 | W14: 44 | X14: 9680
A15: 14 | B15: ES TIEMPO DE LA FAMILIA CON SALUD | C15: Participar activamente en jornadas de salud municipales, en veredas priorizadas según el riesgo en salud identificado. | D15: 9 | E15: 1 | F15: 1 | G15: =+F15*D15 -> 9 | H15: 1. Informe de actividad 2. Listado de asistencia 3. Registro fotográfico 4.Recurso Utilizado( Infografía , Volente , video, Folleto ) | I15: 9 | J15: 1 | K15: 420941 | L15: =+K15*I15 -> 3788469 | M15: =+ROUND(L15/100,0)*100 -> 3788500 | N15: =+M15 -> 3788500 | O15: 2500000 | P15: 277777.78 | Q15: 2750000 | R15: 305555.56 | V15: 9 | W15: 1 | X15: 420941
C16: VALOR | L16: =SUM(L3:L15) -> 186462000 | M16: =SUM(M3:M15) -> 186462200 | N16: =SUM(N3:N15) -> 186462200 | O16: 185314000 | S16: #REF!
L17: =+L16-L2 -> 0
L18: =+L17/9 -> 0

Sheet JEFE PYD
A1: ITEM | B1: ESTRATEGIA | C1: ACTIVIDAD | D1: PROFESIONALES | E1: NUMERO DE ACTIVIDADES MENSUALES | F1: TOTAL ACTIVIDADES DEL CONTRATO POR 9 MESES X 1 JEFE | G1: SOPORTE DE ENTREGA | H1: CANT ACT X TOTAL | I1: CANT ACT X MESES | J1: VALOR UN | K1: VALOR TOTAL | L1: VALOR UN AJUSTADO | M1: TOTAL
A2: 1 | B2: ES TIEMPO DE LA VIDA SALUDABLE | C2: Realizar actividades de promoción de entornos 100% libres de humo y desestimulo del consumo de productos de tabaco a trabajadores, en establecimientos comerciales con el fin de verificar la Ley 1335 de 2009 "Protección personas no fumadoras y espacios 100% libres de humo" y el decreto 120 del 2010 Por el cual se adoptan medidas en relación con el consumo de alcohol, la prohibición a menores de edad, consumo responsable de bebidas alcohólicas. Elaborar material de reconocimiento (sticker) aprobado por la Secretaria de Proteccion Social el cual deberá ser distribuido y publicado en un lugar visible de cada establecimiento (material adhesivo) , en entorno laboral de los sectores rural y urbano del municipio de Tenjo. | D2: 1 | E2: 10 | F2: =+E2*9 -> 90 | G2: 1. Informe de actividad 2. Listado de asistencia 3. Registro fotográfico 4.Recurso Utilizado( Infografía , Volente , video, Folleto ) | H2: 90 | I2: 10 mensuales | J2: =176000*1.052 -> 185152 | K2: =+J2*H2 -> 16663680 | L2: =+ROUND(K2/100,0)*100 -> 16663700 | M2: =+L2 -> 16663700
A3: 2 | B3: ES TIEMPO DE LA VIDA SALUDABLE | C3: Realizar actividades en centro de cuidado y proteccion del adulto Mayor (Pinares, Atardecer, Canitas, Recreando Vida) y cada uno de los grupos de Centro dia que funcionan en el territorio para promocionar los Derechos Sexuales y Reproductivos, prevención de ITS ,prevención de infecciones respiratorias y tuberculosis en los sectores rural y urbano del municipio de Tenjo. Mínimo 20 personas y 1 hora de duracion . | D3: 1 | E3: 1 | F3: 4 | G3: 1. Informe de actividad 2. Listado de asistencia 3. Registro fotográfico 4.Recurso Utilizado( Infografía , Volente , video, Folleto ) | H3: 4 | I3: 1 trimestral | J3: =176000*1.052 -> 185152 | K3: =+J3*H3 -> 740608 | L3: =+ROUND(K3/100,0)*100 -> 740600 | M3: =+L3 -> 740600
A4: 3 | B4: ES TIEMPO DE LA SEXUALIDAD SANA | C4: Realizar actividades en articulación con la secretaría de la mujer, en lo referente a juegos de simulacion, analisis de caso, textos orientadores actividades de integracion ) sobre prevención de la violencia de género y sexuales y autocuidado. en el curso de vida ijuventud, adultez y vejez, en el entorno comunitario , de los sectores rural y urbano del municipio de Tenjo. Mínimo 30 personas y 1 hora de ejecucion. | D4: 1 | E4: 1 | F4: 4 | G4: 1. Informe de actividad 2. Listado de asistencia 3. Registro fotográfico 4.Recurso Utilizado( Infografía , Volente , video, Folleto ) | H4: 4 | I4: 1 trimestral | J4: =176000*1.052 -> 185152 | K4: =+J4*H4 -> 740608 | L4: =+ROUND(K4/100,0)*100 -> 740600 | M4: =+L4 -> 740600
A5: 4 | B5: ES TIEMPO DE LA SEXUALIDAD SANA | C5: Realizar 1 actividad en articulación con la secretaria de desarrollo educativo, abordando temas de derechos sexuales y reproductivos,prevención de ITS, prevención de Embarazo en adolescentes, métodos de Planificación familiar, en el curso de vida primra infancia,adolescencia y juventud en el entorno educativo. Mínimo 25 personas y 1 hora de actividad | D5: 1 | E5: 1 | F5: 4 | G5: 1. Informe de actividad 2. Listado de asistencia 3. Registro fotográfico 4.Recurso Utilizado( Infografía , Volente , video, Folleto ) | H5: 4 | I5: 1 trimestral | J5: =176000*1.052 -> 185152 | K5: =+J5*H5 -> 740608 | L5: =+ROUND(K5/100,0)*100 -> 740600 | M5: =+L5 -> 740600
A6: 5 | B6: ES TIEMPO DE LA SEXUALIDAD SANA | C6: Realizar actividades lúdico pedagógicas en temas de: Promoción y ejercicio de los DSDR, promoción de los derechos sexuales y reproductivos y equidad de género métodos anticonceptivos, prevención de ITS-VIH/SIDA, IVE, prevención de violencia física y sexual;prevención de infecciones respiratorias, tuberculosis, dirigido a beneficiarios de los programas sociales de la administración municipal. (PVCA, madres comunitarias, familias en acción, población migrante e Indigena ). en entorno comunitario, Mínimo 30 personas y 1 hora. | D6: 1 | E6: 1 | F6: =+E6*9 -> 9 | G6: 1. Informe de actividad 2. Listado de asistencia 3. Registro fotográfico 4.Recurso Utilizado( Infografía , Volente , video, Folleto ) | H6: 9 | I6: 1 mensual | J6: =176000*1.052 -> 185152 | K6: =+J6*H6 -> 1666368 | L6: =+ROUND(K6/100,0)*100 -> 1666400 | M6: =+L6 -> 1666400
A7: 6 | B7: ES TIEMPO DE LA SEXUALIDAD SANA | C7: Realizar actividades para promover en las empresas, la planificación familiar y los derechos sexuales y reproductivos, prevención de infecciones respiratorias y tuberculosis en entorno laboral formal e informal y comunitario por curso de vida, juventud, adultez, vejez. Mínimo 20 personas. | D7: 1 | E7: 1 | F7: =+E7*9 -> 9 | G7: 1. Informe de actividad 2. Listado de asistencia 3. Registro fotográfico 4.Recurso Utilizado( Infografía , Volente , video, Folleto ) | H7: 9 | I7: 1 mensual | J7: =176000*1.052 -> 185152 | K7: =+J7*H7 -> 1666368 | L7: =+ROUND(K7/100,0)*100 -> 1666400 | M7: =+L7 -> 1666400
A8: 7 | B8: ES TIEMPO DE LA SEXUALIDAD SANA | C8: Realizar actividades ludicas que fomente hábitos higiénicos con IEDs rurales y urbanas en el curso de vida de primera infancia, infancia y adolescencia en el entorno educativo de los sectores rural y urbano del municipio de Tenjo. Poblacion a impactar 400 personas de las instuciones publicas. | D8: 1 | E8: 1 | F8: 4 | G8: 1. Informe de actividad 2. Listado de asistencia 3. Registro fotográfico 4.Recurso Utilizado( Infografía , Volente , video, Folleto ) | H8: 4 | I8: 1 trimestral | J8: =176000*1.052 -> 185152 | K8: =+J8*H8 -> 740608 | L8: =+ROUND(K8/100,0)*100 -> 740600 | M8: =+L8 -> 740600
A9: 8 | B9: ES TIEMPO DE LA VIDA SALUDABLE | C9: Apoyar mensualmente Investigaciones de campo de eventos de salud pública tales como desnutrición, morbilidad materna, | D9: 1 | E9: 1 | F9: =+E9*9 -> 9 | G9: 1. Informe IEC 2. Listado de asistencia 3. Registro fotográfico | H9: 9 | I9: A demanda | J9: 250000 | K9: =+J9*H9 -> 2250000 | L9: =+ROUND(K9/100,0)*100 -> 2250000 | M9: =+L9 -> 2250000
A10: 9 | B10: ES TIEMPO DE LA VIDA SALUDABLE | C10: Participar mensualmente activamente en jornadas de salud municipales, en veredas priorizadas según el riesgo en salud identificado. | D10: 1 | E10: 1 | F10: =+E10*9 -> 9 | G10: 1. Informe de actividad 2. Listado de asistencia 3. Registro fotográfico 4.Recurso Utilizado( Infografía , Volente , video, Folleto ) | H10: 9 | I10: a demanda | J10: 250000 | K10: =+J10*H10 -> 2250000 | L10: =+ROUND(K10/100,0)*100 -> 2250000 | M10: =+L10 -> 2250000
A11: 10 | B11: ES TIEMPO DE LA FAMILIA CON SALUD | C11: Realizar una jornada de salud en articulación con las diferentes secretarias de la administración municipal , para la comunidad sobre acciones de promoción del respeto por la diversidad, el reconocimiento positivo a personas con orientaciones sexuales diversas (LGBTI), maternidad y paternidad, la anticoncepción y el ejercicio de la sexualidad y acciones de prevención de infecciones de transmisión sexual - VIH y la violencia de género y sexual, mediante el desarrollo de una "FERIA DE DERECHOS SEXUALES Y DERECHOS REPRODUCTIVOS" . Mínimo 80 personas y 3 horas. | D11: 1 | E11: 1 | F11: 1 | G11: 1. Informe de actividad 2. Listado de asistencia 3. Registro fotográfico 4.Recurso Utilizado( Infografía , Volente , video, Folleto ) | H11: 1 | I11: 1 jornada | J11: =45000*80 -> 3600000 | K11: =+J11*H11 -> 3600000 | L11: =+ROUND(K11/100,0)*100 -> 3600000 | M11: =+L11 -> 3600000
A12: 11 | B12: ES TIEMPO DE LA FAMILIA CON SALUD | C12: Realizar 4 actividades ludopedagogica por vereda en temas de: Prevención de la Infección Respiratoria Aguda- IRA (covid 19) y Enfermedad Diarreica Aguda -EDA- en niños, en el curso de vida juventud, adolescencia, adultez y vejez en el entorno comunitario y educativo de los sectores rural y urbano del municipio de Tenjo. Mínimo 20 personas y 1 hora de ejecucion hora. | D12: 1 | E12: 1 | F12: 4 | G12: 1. Informe de actividad 2. Listado de asistencia 3. Registro fotográfico 4.Recurso Utilizado( Infografía , Volente , video, Folleto ) | H12: 4 | I12: 1 trimestral | J12: =176000*1.052 -> 185152 | K12: =+J12*H12 -> 740608 | L12: =+ROUND(K12/100,0)*100 -> 740600 | M12: =+L12 -> 740600
A13: 12 | B13: ES TIEMPO DE LA FAMILIA CON SALUD | C13: Realizar mensualmente acciones de información y educación y acciones domiciliarias de p y p, en temas de seguridad salud sexual y reproductiva, realizada del proceso de gestacion, parto y puerperio, Sentencia 055 de2022 en el marco de la estrategia APS, a las familias remitidas por las gesbis, Canalizando efectivamente a correspondiente EAPB de acuerdo al riesgo identificado. | D13: 1 | E13: 1 | F13: 9 | G13: 1. Informe de actividad 2. Listado de asistencia 3. Registro fotográfico 4.Recurso Utilizado( Infografía , Volente , video, Folleto ) | H13: 9 | I13: 1 mensual | J13: =176000*1.052 -> 185152 | K13: =+J13*H13 -> 1666368 | L13: =+ROUND(K13/100,0)*100 -> 1666400 | M13: =+L13 -> 1666400
C14: VALOR | K14: =SUM(K2:K13) -> 33465824 | L14: =SUM(L2:L13) -> 33465900 | M14: =SUM(M2:M13) -> 33465900

Sheet JEFE GR
A1: ITEM | B1: ESTRATEGIA | C1: ACTIVIDAD | D1: PROFESIONALES | E1: NUMERO DE ACTIVIDADES MENSUALES | F1: TOTAL ACTIVIDADES DEL CONTRATO POR 9 MESES X 1 JEFE | G1: SOPORTE DE ENTREGA | H1: CANT ACT X TOTAL | I1: CANT ACT X MESES | J1: VALOR UN | K1: VALOR TOTAL | L1: VALOR UN AJUSTADO | M1: TOTAL
A2: 1 | B2: ES TIEMPO DE LA SEXUALIDAD SANA | C2: Realizar mensualmente gestion del riesgo en salud como resultado de las acciones domiciliarias del entorno hogar , en el marco de la estrategia APS, en lo relacionado a ENFERMERIA Y AIEPI entregar planes de cuidado a usuarios priorizados de las auxiliares de enfermeria de los sectores rural y urbano | D2: 1 | E2: 1 | F2: =+E2*9 -> 9 | G2: 1. Informe de actividad 2. Listado de asistencia 3. Registro fotográfico 4.Recurso Utilizado( Infografía , Volente , video, Folleto ) | H2: =56*9 -> 504 | I2: 56 | J2: 30170 | K2: =+J2*H2 -> 15205680 | L2: =+ROUND(K2/100,0)*100 -> 15205700 | M2: =+L2 -> 15205700
A3: 2 | B3: ES TIEMPO DE LA SEXUALIDAD SANA | C3: Realizar mensualmente acciones de información y educación comunitarias domiciliariaas como resultado de las caracterizaciones del entorno hogar en lo referente a enfermedades crónicas, en el marco de la estrategia APS, según canalizacion y al riesgo identificado en trabajo articulado con referente de gestión del riesgo del PIC. | D3: 1 | E3: 9 | F3: =+E3*9 -> 81 | G3: 1. Informe de actividad 2. Listado de asistencia 3. Registro fotográfico 4.Recurso Utilizado( Infografía , Volente , video, Folleto ) | H3: 81 | I3: 9 | J3: =176000*1.052*0.25 -> 46288 | K3: =+J3*H3 -> 3749328 | L3: =+ROUND(K3/100,0)*100 -> 3749300 | M3: =+L3 -> 3749300
A4: 3 | B4: ES TIEMPO DE LA SEXUALIDAD SANA | C4: Realizar acciones de información y educación comunitarias resultado de las acciones domiciliarias de p y p, en temas de aiepi, y poblaciones vulnerables, en el marco de la estrategia APS,en el marco de la estrategia APS, según canalizacion y al riesgo identificado según canalizacion y al riesgo identificado en trabajo articulado con referente de gestión del riesgo del PIC. | D4: 1 | E4: 18 | F4: =+E4*9 -> 162 | G4: 1. Informe de actividad 2. Listado de asistencia 3. Registro fotográfico 4.Recurso Utilizado( Infografía , Volente , video, Folleto ) | H4: 162 | I4: 9 | J4: =176000*1.052*0.25 -> 46288 | K4: =+J4*H4 -> 7498656 | L4: =+ROUND(K4/100,0)*100 -> 7498700 | M4: =+L4 -> 7498700
A5: 5 | B5: ES TIEMPO DE LA VIDA SALUDABLE - TB Y PAI | C5: Realizar capacitaciones al equipo de auxiliares de enfermeria en temáticas tales como ; AIEPI comunitario, manejo de signos y sintomas de riesgo en IRA, EDA, Plan ampliado de inmunización, gestión del riesgo en salud, demanda inducida, demanda efectiva,controles prenatales, curso de preparación para la maternidad y paternidad, Sintomaticos respiratorios y de piel, violencia intrafamiliar, derechos sexuales y reporductivos,manejo de residuos sólidos y dispocisión de los mismos en el hogar. | D5: 1 | E5: 1 | F5: =+E5*9 -> 9 | G5: 1. Informe de actividad 2. Listado de asistencia 3. Registro fotográfico 4.Recurso Utilizado( Infografía , Volente , video, Folleto ) | H5: 9 | I5: 1 mensual | J5: =176000*1.052 -> 185152 | K5: =+J5*H5 -> 1666368 | L5: =+ROUND(K5/100,0)*100 -> 1666400 | M5: =+L5 -> 1666400
A6: 6 | B6: ES TIEMPO DE LA VIDA SALUDABLE - TB Y PAI | C6: Realizar actividades educativas, por cada junta de accion comunal sobre la realidad del proceso de gestacion y puerperio ganancia de peso, parto natural y cesarea, depresion post parto, lactancia, sueño en el curso de vida, adolescencia, juventud, adultez, en el entorno comunitario , de los sectores rural y urbano del municipio de Tenjo. Mínimo 25 personas. | D6: 1 | E6: 1 | F6: 4 | G6: 1. Informe de actividad 2. Listado de asistencia 3. Registro fotográfico 4.Recurso Utilizado( Infografía , Volente , video, Folleto ) | H6: 4 | I6: 1 trimestral | J6: =176000*1.052 -> 185152 | K6: =+J6*H6 -> 740608 | L6: =+ROUND(K6/100,0)*100 -> 740600 | M6: =+L6 -> 740600
A7: 7 | B7: ES TIEMPO DE LA VIDA SALUDABLE - TB Y PAI | C7: Desarrollar actividades, enfocadas en la promoción sobre la importancia de la vacunación en el entorno comunitario (área urbana y rural) del municipio deTenjo, a través de medios masivos, que movilice a la población susceptible, de acuerdo al esquema nacional. | D7: 1 | E7: 1 | F7: 4 | G7: 1. Informe de actividad 2. Listado de asistencia 3. Registro fotográfico 4.Recurso Utilizado( Infografía , Volente , video, Folleto ) | H7: 4 | I7: 1trimestral | J7: =500000-33837 -> 466163 | K7: =+J7*H7 -> 1864652 | L7: =+ROUND(K7/100,0)*100 -> 1864700 | M7: =+L7 -> 1864700
A8: 9 | B8: ES TIEMPO DE LA VIDA SALUDABLE | C8: Realizar jornadas de caracterización y captación de la población objeto del PAI, en los centros educativos (públicos y privados) del área rural y urbana del municipio, donde se deberá realizar la programación de vacunación a la población cautiva; esto en articulación con los directivos y docentes de las instituciones, según lineamientos “PLAN DE CHOQUE PROGRAMA AMPLIADO DE INMUNIZACIONES 2024”. | D8: 1 | E8: 1 | F8: 4 | G8: 1. Informe de actividad 2. Listado de asistencia 3. Registro fotográfico 4.Recurso Utilizado( Infografía , Volente , video, Folleto ) | H8: 4 | I8: 4 jornadas | J8: 500000 | K8: =+J8*H8 -> 2000000 | L8: =+ROUND(K8/100,0)*100 -> 2000000 | M8: =+L8 -> 2000000
A9: 10 | B9: ES TIEMPO DE LA FAMILIA CON SALUD | C9: Realizar capacitaciones a actores sociales (madres comunitarias, COPACO, juntas de acción comunal de chince, la punta, chitasuga,poveda 2, Poveda 1, jacalito mas familias en acción, PVC) en la estrategia AIEPI con énfasis en el componente Comunitario. Mínimo 15 personas . en el curso de vida juventud, adultez y vejez en el entorno comunitario de los sectores rural y urbano del municipio de Tenjo. | D9: 1 | E9: 1 | F9: 4 | G9: 1. Informe de actividad 2. Listado de asistencia 3. Registro fotográfico 4.Recurso Utilizado( Infografía , Volente , video, Folleto ) | H9: 4 | I9: 1 trimestral | J9: =176000*1.052 -> 185152 | K9: =+J9*H9 -> 740608 | L9: =+ROUND(K9/100,0)*100 -> 740600 | M9: =+L9 -> 740600
C10: VALOR | K10: =SUM(K2:K9) -> 33465900 | L10: =SUM(L2:L9) -> 33466000 | M10: =SUM(M2:M9) -> 33466000

Sheet MÉDICO
A1: ITEM | B1: ESTRATEGIA | C1: ACTIVIDAD | D1: PROFESIONALES | E1: NUMERO DE ACTIVIDADES MENSUALES | F1: TOTAL ACTIVIDADES DEL CONTRATO POR 8 MESES X 1 MEDICO | G1: SOPORTE DE ENTREGA | H1: CANT ACT X TOTAL | I1: CANT ACT X MESES | J1: VALOR UN | K1: VALOR TOTAL | L1: VALOR UN AJUSTADO | M1: TOTAL
A2: 1 | B2: ES TIEMPO DE LA VIDA SALUDABLE | C2: Realizar acciones de información y educación comunitarias como resultado de las acciones domiciliarias de p y p, en temas enfermedades crónicas, en el marco de la estrategia APS, según canalizacion y al riesgo identificado en trabajo articulado con referente de gestión del riesgo del PIC. | D2: 1 | E2: 8 | F2: =+E2*8 -> 64 | G2: 1. Informe de actividad 2. Listado de asistencia 3. Registro fotográfico 4.Recurso Utilizado( Infografía , Volente , video, Folleto ) | H2: 64 | I2: 8 | J2: =18000*1.052 -> 18936 | K2: =+J2*H2 -> 1211904 | L2: =+ROUND(K2/100,0)*100 -> 1211900 | M2: =+L2 -> 1211900 | O2: =+K2/F2 -> 18936
A3: 2 | B3: ES TIEMPO DE LA VIDA SALUDABLE | C3: Realizar mensualmente acciones de información y educación comunitarias resultado de las acciones domiciliarias de p y p, en temas de AIEPI, y poblaciones vulnerables, en el marco de la estrategia APS,en el marco de la estrategia APS, según canalizacion y al riesgo identificado según canalizacion y al riesgo identificado en trabajo articulado con referente de gestión del riesgo del PIC. | D3: 1 | E3: 40 | F3: =+E3*8 -> 320 | G3: 1. Informe de actividad 2. Listado de asistencia 3. Registro fotográfico 4.Recurso Utilizado( Infografía , Volente , video, Folleto ) | H3: 320 | I3: =+H3/8 -> 40 | J3: =18000*1.052 -> 18936 | K3: =+J3*H3 -> 6059520 | L3: =+ROUND(K3/100,0)*100 -> 6059500 | M3: =+L3 -> 6059500 | O3: =+K3/F3 -> 18936
A4: 4 | B4: ES TIEMPO DE LA VIDA SALUDABLE | C4: Realizar mensualmente acciones de seguimientos a educación comunitarias resultados de las acciones domiciliarias de pyp en temas de AIEPI, población vulnerable y pacientes con enfermedades crónicas,en el marco de la estrategia APS, según canalizacion y al riesgo identificado según canalizacion y al riesgo identificado en trabajo articulado con referente de gestión del riesgo del PIC. | O4: =+K4/F4 -> #DIV/0!
A5: 5 | B5: ES TIEMPO DE LA FAMILIA CON SALUD | C5: Participar activamente en jornadas de salud municipales, en veredas priorizadas según el riesgo en salud identificado. | D5: 1 | E5: 1 | F5: =+E5*8 -> 8 | G5: 1. Informe de actividad 2. Listado de asistencia 3. Registro fotográfico 4.Recurso Utilizado( Infografía , Volente , video, Folleto ) | H5: 8 | I5: =+H5/9 -> 0.88888889 | J5: 715397 | K5: =+J5*H5 -> 5723176 | L5: =+ROUND(K5/100,0)*100 -> 5723200 | M5: =+L5 -> 5723200
A6: 6 | B6: ES TIEMPO DE LA FAMILIA CON SALUD | C6: Realizar planes de cuidado a familias caracterizadas en seguimiento mediante la aplicación de la ficha familiar establecida en el marco de la estrategia APS, con el objetivo de promover la adopción de practicas de cuidado para la salud, en el entorno hogar de los sectores rural y urbano priorizados. | D6: 1 | E6: 250 | F6: =+E6*8 -> 2000 | G6: 1. Planes de Cuidado 2. Listado de asistencia | H6: 2000 | I6: =+H6/8 -> 250 | J6: =12500*1.052 -> 13150 | K6: =+J6*H6 -> 26300000 | L6: =+ROUND(K6/100,0)*100 -> 26300000 | M6: =+L6 -> 26300000
C7: VALOR | K7: =SUM(K2:K6) -> 39294600 | L7: =SUM(L2:L6) -> 39294600 | M7: =SUM(M2:M6) -> 39294600
K8: =+K10-K7 -> 0
K9: =+K8/8 -> 0
K10: 39294600 | L10: 39294700 | M10: 39294700

Sheet PSICOLOGA N.1
A1: ITEM | B1: ESTRATEGIA | C1: ACTIVIDAD | D1: PROFESIONALES | E1: NUMERO DE ACTIVIDADES MENSUALES | F1: TOTAL ACTIVIDADES DEL CONTRATO POR 8 MESES X 1 PSICOLOGA | G1: SOPORTE DE ENTREGA | H1: CANT ACT X TOTAL | I1: CANT ACT X MESES | J1: VALOR UN | K1: VALOR TOTAL | L1: VALOR UN AJUSTADO | M1: TOTAL
A2: 1 | B2: ES TIEMPO DE LA SALUD MENTAL | C2: Realizar actividades asociadoas a la estrategia " LA FELICIDAD Y LA SALUD MENTAL dirigida a comunidad del municipio para brindarles herramientas para proteger la vida y disminuir el estigma. en todos los cursos de vida, en el entorno comunitario y hogar de los sectores rural y urbano del municipio de Tenjo. Mínimo 25 personas por cada actividad y 1 hora. | D2: 1 | E2: 1 | F2: 8 | G2: 1. Informe de actividad 2. Listado de asistencia 3. Registro fotográfico 4.Recurso Utilizado( Infografía , Volente , video, Folleto ) | H2: 8 | I2: 1 mensual | J2: =176000*1.052 -> 185152 | K2: =+J2*H2 -> 1481216 | L2: =+ROUND(K2/100,0)*100 -> 1481200 | M2: =+L2 -> 1481200
A3: 2 | B3: ES TIEMPO DE LA SALUD MENTAL | C3: Realizar actividades ludopedagogicas para promover la resolución de conflictos, así como el establecimiento de acuerdos en el marco de la legalidad, confianza interpersonal y el respeto mutuo en el curso de vida de adolescencia, juventud, adultez y vejez en el entorno comunitario y laboral de los sectores rural y urbano del municipio de Tenjo. Mínimo 15 personas y 1 hora. | D3: 1 | E3: 1 | F3: 8 | G3: 1. Informe de actividad 2. Listado de asistencia 3. Registro fotográfico 4.Recurso Utilizado( Infografía , Volente , video, Folleto ) | H3: 8 | I3: 1 trimestral total 8 veredas | J3: =176000*1.052 -> 185152 | K3: =+J3*H3 -> 1481216 | L3: =+ROUND(K3/100,0)*100 -> 1481200 | M3: =+L3 -> 1481200
A4: 3 | B4: ES TIEMPO DE LA SALUD MENTAL | C4: Realizar actividades para educar en derechos humanos y promover su pleno ejerció, en todos los cursos de vida en el entorno comunitario de los sectores rural y urbano del municipio de Tenjo. Mínimo 25 personas y 1 hora. | D4: 1 | E4: 1 | F4: 8 | G4: 1. Informe de actividad 2. Listado de asistencia 3. Registro fotográfico 4.Recurso Utilizado( Infografía , Volente , video, Folleto ) | H4: 8 | I4: 1 trimestral total 8 veredas | J4: =176000*1.052 -> 185152 | K4: =+J4*H4 -> 1481216 | L4: =+ROUND(K4/100,0)*100 -> 1481200 | M4: =+L4 -> 1481200
A5: 4 | B5: ES TIEMPO DE LA SALUD MENTAL | C5: Realizar actividades en detección temprana, señales de alarma, qué hacer y a quién acudir ante el riesgo de violencias en el curso de vida de infancia, adolescencia, juventud, adultez y vejez en el entorno comunitario de los sectores rural y urbano del municipio de Tenjo. Mínimo 20 personas y 1 hora. | D5: 1 | E5: 1 | F5: 8 | G5: 1. Informe de actividad 2. Listado de asistencia 3. Registro fotográfico 4.Recurso Utilizado( Infografía , Volente , video, Folleto ) | H5: 8 | I5: 1 trimestral total 8 veredas | J5: =176000*1.052+101.25 -> 185253.25 | K5: =+J5*H5 -> 1482026 | L5: =+ROUND(K5/100,0)*100 -> 1482000 | M5: =+L5 -> 1482000
A6: 5 | B6: ES TIEMPO DE LA SALUD MENTAL | C6: Realizar actividades de promocion de la salud a traves de la comunicacion (la importancia de hablar) , en temas de salud emocional, en el marco de la estrategia APS, Canalizando efectivamente a correspondiente EAPB de acuerdo al riesgo identificado. | D6: 1 | E6: 1 | F6: 8 | G6: 1. Informe de actividad 2. Listado de asistencia 3. Registro fotográfico 4.Recurso Utilizado( Infografía , Volente , video, Folleto ) | H6: 8 | I6: 1 mensual | J6: 500000 | K6: =+J6*H6 -> 4000000 | L6: =+ROUND(K6/100,0)*100 -> 4000000 | M6: =+L6 -> 4000000
A7: 6 | B7: ES TIEMPO DE LA SALUD MENTAL | C7: Realizar actividades relacionadas al fortalecimiento psicológico como implementación mensual de estrategia RBC Rehabilitación Basada en Comunidad y por esa vía, la articulación entre la familia, la comunidad y la institucionalidad Municipal | D7: 1 | E7: 1 | F7: 8 | G7: 1. Informe de actividad 2. Listado de asistencia 3. Registro fotográfico 4.Recurso Utilizado( Infografía , Volente , video, Folleto ) | H7: 280 | I7: 35 mensual | J7: =176000*1.052*0.25 -> 46288 | K7: =+J7*H7 -> 12960640 | L7: =+ROUND(K7/100,0)*100 -> 12960600 | M7: =+L7 -> 12960600 | O7: =35*8 -> 280
A8: 7 | B8: ES TIEMPO DE LA SALUD MENTAL PSICOLOGO EQUIPO BASICO | C8: Realizar jornadas de identificacion en articulacion con el programa de fortalecimiento de la Salud Mental, para población en riesgo, que involucre la defincion de factores protectores para el cuidado de la salud mental y la prevención de consumo de sustancias psicoactivas desde la estrategia del centro de escucha, en entorno comunitario del área rural y urbana. | D8: 1 | E8: 1 | F8: 6 | G8: 1. Informe de actividad 2. Listado de asistencia 3. Registro fotográfico 4.Recurso Utilizado( Infografía , Volente , video, Folleto ) | H8: 6 | I8: 6 | J8: 158000 | K8: =+J8*H8 -> 948000 | L8: =+ROUND(K8/100,0)*100 -> 948000 | M8: =+L8 -> 948000
A9: 8 | B9: ES TIEMPO DE LA SALUD MENTAL PSICOLOGO EQUIPO BASICO | C9: Realizar gestion del riesgo en salud (280) familias como resultado de la caracterizacion de las auxiliares de enfermeria en plataforma survey 123 y entregar planes de cuidado en el marco de la estrategia APS, en lo relacionado a PSICOLOGIA, de los sectores rural y urbano priorizados. | D9: 1 | E9: 35 | F9: =+E9*8 -> 280 | G9: 1. Informe de actividad 2. Listado de asistencia 3. Registro fotográfico 4.Recurso Utilizado( Infografía , Volente , video, Folleto ) | H9: 280 | I9: 35 | J9: 30170 | K9: =+J9*H9 -> 8447600 | L9: =+ROUND(K9/100,0)*100 -> 8447600 | M9: =+L9 -> 8447600
A10: 10 | B10: ES TIEMPO DE LA FAMILIA CON SALUD | C10: Participar Mensualmente de forma activa en las accciones programadas en la Estrategia de Salud complementaria de APS y/ o actividades propias de la Secretaria de Proteccion Social Canalizando poblacion de los diferentes cursos de vida a demanda | D10: 1 | E10: 1 | F10: 8 | G10: 1. Informe de actividad 2. Listado de asistencia 3. Registro fotográfico 4.. Formato de canalización Demanda Inducida y seguimiento a la demanda efectiva (medio físico y magnético) | H10: 8 | I10: a demanda | J10: 250000 | K10: =+J10*H10 -> 2000000 | L10: =+ROUND(K10/100,0)*100 -> 2000000 | M10: =+L10 -> 2000000
C11: VALOR | K11: =SUM(K2:K10) -> 34281914 | L11: =SUM(L2:L10) -> 34281800 | M11: =SUM(M2:M10) -> 34281800

Sheet PSICOLOGA N.2
A1: ITEM | B1: ESTRATEGIA | C1: ACTIVIDAD | D1: PROFESIONALES | E1: NUMERO DE ACTIVIDADES MENSUALES | F1: TOTAL ACTIVIDADES DEL CONTRATO POR 8 MESES X 1 PSICOLOGA | G1: SOPORTE DE ENTREGA | H1: CANT ACT X TOTAL | I1: CANT ACT X MESES | J1: VALOR UN | K1: VALOR TOTAL | L1: VALOR UN AJUSTADO | M1: TOTAL
A2: 1 | B2: ES TIEMPO DE LA SALUD MENTAL | C2: Realizar actividad para educar en derechos humanos y promover su pleno ejerció, en el curso de vida de infancia, adolescencia, juventud, adultez y vejez en el entorno educativo de los sectores rural y urbano del municipio de Tenjo. Mínimo 25 personas y 1 hora. | D2: 1 | E2: 1 | F2: 8 | G2: 1. Informe de actividad 2. Listado de asistencia 3. Registro fotográfico 4.Recurso Utilizado( Infografía , Volente , video, Folleto ) | H2: 8 | I2: 1 trimestral total 8 veredas | J2: =176000*1.052 -> 185152 | K2: =+J2*H2 -> 1481216 | L2: =+ROUND(K2/100,0)*100 -> 1481200 | M2: =+L2 -> 1481200
A3: 2 | B3: ES TIEMPO DE LA SALUD MENTAL | C3: Realizar actividades para educar en el desarrollo de habilidades sociales y emocionales para la promoción de la salud física y mental en el curso de vida juventud, adultez y vejez en el entorno laboral de los sectores rural y urbano del municipio de Tenjo. Mínimo 20 personas y 1 hora. | D3: 1 | E3: 1 | F3: 8 | G3: 1. Informe de actividad 2. Listado de asistencia 3. Registro fotográfico 4.Recurso Utilizado( Infografía , Volente , video, Folleto ) | H3: 8 | I3: 1 mensual total 8 veredas | J3: =176000*1.052 -> 185152 | K3: =+J3*H3 -> 1481216 | L3: =+ROUND(K3/100,0)*100 -> 1481200 | M3: =+L3 -> 1481200
A4: 3 | B4: ES TIEMPO DE LA SALUD MENTAL | C4: Participar activamente en el "Comité del Buen trato" y aportar soporte técnico en las temáticas solicitadas por la regerente de gestión del riesgo municipal. | D4: 1 | E4: 1 | F4: 4 | G4: 1. Informe de actividad 2. Listado de asistencia 3. Registro fotográfico 4.Recurso Utilizado( Infografía , Volente , video, Folleto ) | H4: 4 | I4: 4 | J4: 50000 | K4: =+J4*H4 -> 200000 | L4: =+ROUND(K4/100,0)*100 -> 200000 | M4: =+L4 -> 200000
A5: 4 | B5: ES TIEMPO DE LA SALUD MENTAL | C5: Realizar actividad educativa en cada uno de los CDI en manejo de emociones, Toma de decisiones, comunicación y el cumplimiento de acuerdos. con comunidad educativa de los sectores rural y urbano del municipio de Tenjo. Mínimo 25 personas y 1 hora por actividad. | D5: 1 | E5: 1 | F5: 4 | G5: 1. Informe de actividad 2. Listado de asistencia 3. Registro fotográfico 4.Recurso Utilizado( Infografía , Volente , video, Folleto ) | H5: 3 | I5: 3 | J5: 500000 | K5: =+J5*H5 -> 1500000 | L5: =+ROUND(K5/100,0)*100 -> 1500000 | M5: =+L5 -> 1500000
A6: 5 | B6: ES TIEMPO DE LA SALUD MENTAL | C6: Realizar actividades educativas "Orientando con amor y Limites" para desarrollar herramientas de formación en límites, normas, castigos a padres y/o cuidadores en integracion con escuela de padres en educativo de los sectores rural y urbano del municipio de Tenjo. Mínimo 30 personas y 1 hora por actividad. | D6: 1 | E6: 1 | F6: 8 | G6: 1. Informe de actividad 2. Listado de asistencia 3. Registro fotográfico 4.Recurso Utilizado( Infografía , Volente , video, Folleto ) | H6: 8 | I6: 1 trimestral total 8 veredas | J6: =176000*1.052 -> 185152 | K6: =+J6*H6 -> 1481216 | L6: =+ROUND(K6/100,0)*100 -> 1481200 | M6: =+L6 -> 1481200
A7: 6 | B7: ES TIEMPO DE LA SALUD MENTAL | C7: Implementar una estrategia trimestral de educación para promover el No Consumo de Tabaco, los espacios 100% Libres de Humo y el no consumo de alcohol, en las 3 instituciones educativas publicas y sus sedes llevando a cabo las actividades de la Estrategia Cundinamarca Vive Saludable, promoviendo cultura de auto cuidado. en el curso de vida de adolescencia, juventud, en el entorno educativo de los sectores rural y urbano del municipio de Tenjo. Mínimo 20 personas y 1 hora por actividad. | D7: 1 | E7: 1 | F7: 8 | G7: 1. Informe de actividad 2. Listado de asistencia 3. Registro fotográfico 4.Recurso Utilizado( Infografía , Volente , video, Folleto ) | H7: 8 | I7: 1 trimestral total 8 veredas | J7: =176000*1.052 -> 185152 | K7: =+J7*H7 -> 1481216 | L7: =+ROUND(K7/100,0)*100 -> 1481200 | M7: =+L7 -> 1481200
A8: 7 | B8: ES TIEMPO DE LA SALUD MENTAL | C8: Realizar actividades en detección temprana, señales de alarma, qué hacer y a quién acudir ante el riesgo de violencias en el curso de vida de infancia, adolescencia, en el entorno educativo de los sectores rural y urbano del municipio de Tenjo. Mínimo 20 personas y 1 hora. | D8: 1 | E8: 1 | F8: 8 | G8: 1. Informe de actividad 2. Listado de asistencia 3. Registro fotográfico 4.Recurso Utilizado( Infografía , Volente , video, Folleto ) | H8: 8 | I8: 1 mensual total 8 veredas | J8: =176000*1.052 -> 185152 | K8: =+J8*H8 -> 1481216 | L8: =+ROUND(K8/100,0)*100 -> 1481200 | M8: =+L8 -> 1481200
A9: 8 | B9: ES TIEMPO DE LA SALUD MENTAL PSICOLOGO EQUIPO BASICO | C9: Realizar gestion del riesgo en salud (400) como resultado de la caracterizacion de las auxiliares de enfermeria en plataforma survey 123 y entregar planes de cuidado a familias caracterizadas de las visitas realizadas en el marco de la estrategia APS, en lo relacionado a PSICOLOGIA, de los sectores rural y urbano priorizados. | D9: 1 | E9: 50 | F9: =+E9*8 -> 400 | G9: 1. Informe de actividad 2. Listado de asistencia 3. Registro fotográfico 4.Recurso Utilizado( Infografía , Volente , video, Folleto ) | H9: 400 | I9: 50 | J9: =176000*1.052*0.25 -> 46288 | K9: =+J9*H9 -> 18515200 | L9: =+ROUND(K9/100,0)*100 -> 18515200 | M9: =+L9 -> 18515200
A10: 9 | B10: ES TIEMPO DE LA FAMILIA CON SALUD | C10: Participar de forma activa en las accciones programadas en la Estrategia de Salud complementaria de APS y/ o actividades propias de la Secretaria de Proteccion Social Canalizando poblacion de los diferentes cursos de vida a demanda | D10: 1 | E10: 1 | F10: 8 | G10: 1. Informe de actividad 2. Listado de asistencia 3. Registro fotográfico 4.. Formato de canalización Demanda Inducida y seguimiento a la demanda efectiva (medio físico y magnético) | H10: 8 | I10: 8 | J10: 250000 | K10: =+J10*H10 -> 2000000 | L10: =+ROUND(K10/100,0)*100 -> 2000000 | M10: =+L10 -> 2000000
C11: VALOR | K11: =SUM(K2:K10) -> 29621280 | L11: =SUM(L2:L10) -> 29621200 | M11: =SUM(M2:M10) -> 29621200

Sheet PROMOTORA 1-2-BLANCA y otra
A1: ITEM | B1: ESTRATEGIA | C1: ACTIVIDAD | D1: PROFESIONALES | E1: NUMERO DE ACTIVIDADES POR AUXILIAR MENSUALES | F1: NUMERO DE ACTIVIDADES POR AUXILIAR DURANTE EL CONTRATO 9 MESES | G1: TOTAL ACTIVIDADES DEL CONTRATO POR 9 MESES X 2 AUXILIARES | H1: SOPORTE DE ENTREGA | I1: CANT ACT X TOTAL | J1: CANT ACT X MESES | K1: VALOR UN | L1: VALOR TOTAL | M1: VALOR UN AJUSTADO | N1: TOTAL
A2: 1 | B2: ES TIEMPO DE LA FAMILIA CON SALUD | C2: Apoyar en la construcciòn de la linea base municipal de poblaciòn diferencial (poblaciòn LGTBIQ+ - poblaciòn migrante y poblaciòn indigena) El contratista debe realizar la gestión pertinente para conseguir la población. Y hacer entrega de excel de las diferentes poplaciones | D2: 2 | E2: 1 | F2: =+E2*9 -> 9 | G2: =+F2*D2 -> 18 | H2: 1.Formato lineaBase en excel (medio físico y magnético) | I2: 18 | J2: 1 por mes/ C/U | K2: 300000 | L2: =+K2*I2 -> 5400000 | M2: =+ROUND(L2/100,0)*100 -> 5400000 | N2: =+M2 -> 5400000
A3: 2 | B3: ES TIEMPO DE LA FAMILIA CON SALUD | C3: Realizar 3 reuniones con lideres comunales que permitan la convocatoria de rev com , en las diferentes veredas municipales.El contratista debe realizar la gestión pertinente para conseguir la población. Presentar 3 actas | D3: 2 | E3: 1 | F3: 4 | G3: =+F3*D3 -> 8 | H3: 1. Informe de actividad 2. Listado de asistencia 3. Registro fotográfico 4.Recurso Utilizado( Infografía , Volente , video, Folleto ) | I3: 8 | J3: 1 trimestral/ C/U | K3: 300000 | L3: =+K3*I3 -> 2400000 | M3: =+ROUND(L3/100,0)*100 -> 2400000 | N3: =+M3 -> 2400000
A4: 3 | B4: ES TIEMPO DE LA FAMILIA CON SALUD | C4: Apoyar la busqueda activa comunitaria mediante la identificación de 20 casos asociados a vigilancia basada en la comunidad (Eventos de interés en salud pública, aseguramiento, saneamiento, personas en condición de discapacidad, tenencia responsable de mascotas, gestantes adolescentes, violencia intrafamiliar, desnutriciòn); consolidado de acta de reporte de vigilancia) | D4: 2 | E4: 20 | F4: =+E4*9 -> 180 | G4: =+F4*D4 -> 360 | H4: 1. Informe de actividad o acta 2. Listado de asistencia 3. Registro fotográfico | I4: 360 | J4: 20 casos mensuales/ C/U | K4: 24000 | L4: =+K4*I4 -> 8640000 | M4: =+ROUND(L4/100,0)*100 -> 8640000 | N4: =+M4 -> 8640000
A5: 4 | B5: ES TIEMPO DE LA FAMILIA CON SALUD | C5: Realizar visita de seguimiento de los 20 casos asociados a vigilancia basada en la comunidad Eventos de interés en salud pública, aseguramiento, saneamiento, personas en condición de discapacidad, tenencia responsable de mascotas, gestantes adolescentes, violencia intrafamiliar, desnutriciòn); consolidado de acta de cierre de vigilancia) | D5: 2 | E5: 20 | F5: =+E5*9 -> 180 | G5: =+F5*D5 -> 360 | H5: 1. acta de seguimiento 2. Listado de asistencia 3. Registro fotográfico | I5: 360 | J5: 20 seguimientos mensuales/ C/U | K5: 45000 | L5: =+K5*I5 -> 16200000 | M5: =+ROUND(L5/100,0)*100 -> 16200000 | N5: =+M5 -> 16200000
A6: 5 | B6: ES TIEMPO DE LA FAMILIA CON SALUD | C6: Realizar 8 sesiones educativas orientadas a la comunidad en el entorno comunitario mediante identificación de variables de riesgo asociadas a prevenciòn de infecciones respiratorias, enfermedad diarreica aguda,tècnicas adecuadas de recolecciòn de agua , con ánimo de mejorar las condiciones de los determinantes de la salud | D6: 2 | E6: 1 | F6: 8 | G6: =+F6*D6 -> 16 | H6: 1. Informe de actividad 2. Listado de asistencia 3. Registro fotográfico 4.Recurso Utilizado( Infografía , Volente , video, Folleto ) | I6: 16 | J6: 2 trimestrales/ C/U | K6: 300000 | L6: =+K6*I6 -> 4800000 | M6: =+ROUND(L6/100,0)*100 -> 4800000 | N6: =+M6 -> 4800000
A7: 6 | B7: ES TIEMPO DE LA FAMILIA CON SALUD | C7: Participar mensualmente de forma activa en las accciones programadas en la Estrategia de Salud complementaria de APS y/ o actividades propias de la Secretaria de Proteccion Social Canalizando poblacion de los diferentes cursos de vida a demanda | D7: 2 | E7: 1 | F7: =+E7*9 -> 9 | G7: =+F7*D7 -> 18 | H7: 1. Informe de actividad 2. Listado de asistencia 3. Registro fotográfico 4.Recurso Utilizado( Infografía , Volente , video, Folleto ) | I7: 18 | J7: 9/ C/U | K7: 250000 | L7: =+K7*I7 -> 4500000 | M7: =+ROUND(L7/100,0)*100 -> 4500000 | N7: =+M7 -> 4500000
C8: VALOR | L8: =SUM(L2:L7) -> 41940000 | M8: =SUM(M2:M7) -> 41940000 | N8: =SUM(N2:N7) -> 41940000

Sheet NUTRICIÓN
A1: ITEM | B1: ESTRATEGIA | C1: ACTIVIDAD | D1: PROFESIONALES | E1: NUMERO DE ACTIVIDADES MENSUALES | F1: TOTAL ACTIVIDADES DEL CONTRATO POR 8 MESES X 1 NUTRICIONISTA | G1: SOPORTE DE ENTREGA | H1: CANT ACT X TOTAL | I1: CANT ACT X MESES | J1: VALOR UN | K1: VALOR TOTAL | L1: VALOR UN AJUSTADO | M1: TOTAL
A2: 1 | B2: ES EL TIEMPO DE LA SANA ALIMENTACION | C2: Realizar 10 actividades lúdico pedagógicas sobre los riesgos para la salud cuando se consumen alimentos con alto contenido de sal/sodio, azúcar, grasas trans, fortaleciendo el conocimiento de factores protectores para la salud, como aumento consumo de frutas y verduras, agua, actividad física. en el curso de vida juventud, infancia, adolescencia, adultez y vejez en el entorno comunitario de los sectores rural y urbano del municipio de Tenjo. Mínimo 15 personas y 1 hora. | D2: 1 | E2: 1 | F2: =+E2*8 -> 8 | G2: 1. Informe de actividad 2. Listado de asistencia 3. Registro fotográfico 4.Recurso Utilizado( Infografía , Volente , video, Folleto ) | H2: 10 | I2: SEGÚN CRONOGRAMA | J2: 185152 | K2: =+J2*H2 -> 1851520 | L2: =+ROUND(K2/100,0)*100 -> 1851500 | M2: =+L2 -> 1851500
