Workbook
Name _: #REF!
Name _: #REF!
Name _: #REF!
Name _: #REF!
Name _: #REF!
Name _: #REF!
Name _: #REF!
Name ___AFC1: [1]INV!$A$25:$D$28
Name ___AFC3: [1]INV!$F$25:$I$28
Name ___AFC5: [1]INV!$K$25:$N$28
Name ___BGC1: [1]INV!$A$5:$D$8
Name ___BGC3: [1]INV!$F$5:$I$8
Name ___BGC5: [1]INV!$K$5:$N$8
Name ___CAC1: [1]INV!$A$19:$D$22
Name ___CAC3: [1]INV!$F$19:$I$22
Name ___CAC5: [1]INV!$K$19:$N$22
Name ___EST1: #REF!
Name ___EST1: #REF!
Name ___EST1: #REF!
Name ___EST1: #REF!
Name ___EST1: #REF!
Name ___EST1: #REF!
Name ___EST10: #REF!
Name ___EST10: #REF!
Name ___EST10: #REF!
Name ___EST10: #REF!
Name ___EST10: #REF!
Name ___EST10: #REF!
Name ___EST11: #REF!
Name ___EST11: #REF!
Name ___EST11: #REF!
Name ___EST11: #REF!
Name ___EST11: #REF!
Name ___EST11: #REF!
Name ___EST12: #REF!
Name ___EST12: #REF!
Name ___EST12: #REF!
Name ___EST12: #REF!
Name ___EST12: #REF!
Name ___EST12: #REF!
Name ___EST13: #REF!
Name ___EST13: #REF!
Name ___EST13: #REF!
Name ___EST13: #REF!
Name ___EST13: #REF!
Name ___EST13: #REF!
Name ___EST14: #REF!
Name ___EST14: #REF!
Name ___EST14: #REF!
Name ___EST14: #REF!
Name ___EST14: #REF!
Name ___EST14: #REF!
Name ___EST15: #REF!
Name ___EST15: #REF!
Name ___EST15: #REF!
Name ___EST15: #REF!
Name ___EST15: #REF!
Name ___EST15: #REF!
Name ___EST16: #REF!
Name ___EST16: #REF!

Sheet Conformación
A1: FONDO FINANCIERO DE PROYECTOS DE DESARROLLO FONADE DEPARTAMENTO PARA LA PROSPERIDAD SOCIAL -DPS CONVENIO INTERADMINISTRATIVO Nº 212080 INTERVENTORÍA TÉCNICA, ADMINISTRATIVA Y DE CONTROL PRESUPUESTAL PARA LA CONSTRUCCIÓN DEL CENTRO INTEGRADO COMUNITARIO CISCO SAN JOSÉ – FASE I, MUNICIPIO DE MANIZALES – CALDAS CONVOCATORIA SIMPLIFICADA CSI 005-2018
A4: No. | B4: NOMBRE DEL OFERENTE | C4: REPRESENTANTE LEGAL | D4: INTEGRANTES | E4: Integrante 1 | F4: % Int. 1 | G4: Integrante 2 | H4: % Int. 2 | I4: INTEGRANTE 3 | J4: % Int. 3 | K4: INTEGRANTE 4 | L4: % Int. 4 | M4: INTEGRANTE 5 | N4: % Int. 5 | O4: Telefono | P4: FAX | Q4: Direccion | R4: Email | S4: Ciudad | T4: APOYO INDUSTRIA NACIONAL
A5: 1 | B5: CONSULTORIA ESTRUCTURAL Y DE CONSTRUCCION S.A.S. - CEYCO INGENIERIA SAS | C5: GUILLERMO ANDRÉS CAMACHO OBREGÓN | D5: (CONSULTORIA ESTRUCTURAL Y DE CONSTRUCCION S.A.S. - CEYCO INGENIERIA SAS 100% - 0% - 0%- 0%- 0%) | E5: CONSULTORIA ESTRUCTURAL Y DE CONSTRUCCION S.A.S. - CEYCO INGENIERIA SAS | F5: 1 | O5: 7580765 3174396245 | Q5: Calle 171#56 A-05 | R5: ceycoingenieria@gmail.com | S5: Bogotá | T5: OK
A6: 2 | B6: NELSY LIDIA CRUZ SUAREZ | C6: NELSY LIDIA CRUZ SUAREZ | D6: (NELSY LIDIA CRUZ SUAREZ 100% - 0% - 0%- 0%- 0%) | E6: NELSY LIDIA CRUZ SUAREZ | F6: 1 | O6: 3576038 | Q6: Calle 122 No. 18 C 26 Of 203 | R6: nelsy.cruz@nc-ing.com | S6: Bogotá | T6: OK
A7: 3 | B7: CONSTRUCTORA JAIME URIBE S.A.S | C7: LUCIA MARGARITA CHACON PEREZ | D7: (CONSTRUCTORA JAIME URIBE S.A.S 100% - 0% - 0%- 0%- 0%) | E7: CONSTRUCTORA JAIME URIBE S.A.S | F7: 1 | O7: 3208864085 | Q7: Calle 59 # 13-52 Ofic 402 | R7: licitaciones.constructorajuj@gmail.com | S7: Bogotá | T7: OK
A8: 4 | B8: CONSORCIO INTER SAN JOSE | C8: YOHAN FAHIR BERMUDEZ PARRA | D8: (YOHAN FAHIR BERMUDEZ PARRA 65% - FEDERICO GARCIA ARBELAEZ 35% - 0%- 0%- 0%) | E8: YOHAN FAHIR BERMUDEZ PARRA | F8: 0.65 | G8: FEDERICO GARCIA ARBELAEZ | H8: 0.35 | O8: 4567970 | P8: 4567970 | Q8: Carrera 71B No. 55 – 15 | R8: johanfahir@gmail.com | S8: Bogotá | T8: OK
A9: 5 | B9: CIVING INGENIEROS CONTRATISTAS S.A.S. | C9: FABIAN OMAR VALLEJO OBANDO | D9: (CIVING INGENIEROS CONTRATISTAS S.A.S. 100% - 0% - 0%- 0%- 0%) | E9: CIVING INGENIEROS CONTRATISTAS S.A.S. | F9: 1 | O9: 2491147 | Q9: Transversal 24 # 59-07 | R9: ccivinging@gmail.com | S9: Bogotá | T9: OK
A10: 6 | B10: CONSORCIO CSI005-C&P | C10: BLANCA INES BUITRAGO FARAH | D10: (PROMOTORA VALORES S.A.S. 50% - CONSULTAR CON PROFESIONALES Y CIA LTDA 50% - 0%- 0%- 0%) | E10: PROMOTORA VALORES S.A.S. | F10: 0.5 | G10: CONSULTAR CON PROFESIONALES Y CIA LTDA | H10: 0.5 | O10: 6206908 | Q10: Carrera 7 No. 124.35 oficina 302 | R10: promotoravalores@gmail.com | S10: Bogotá | T10: OK
A11: 7 | B11: CONSTRUCTODO INGENIEROS CONTRATISTAS LTDA. | C11: HENRY ALBERTO CASTRO REINA | D11: (CONSTRUCTODO INGENIEROS CONTRATISTAS LTDA. 100% - 0% - 0%- 0%- 0%) | E11: CONSTRUCTODO INGENIEROS CONTRATISTAS LTDA. | F11: 1 | O11: 7589566 | P11: 7589566 | Q11: AVENIDA CARACAS No 34-86 OFICINA 408 | R11: electrónico constructodoltda@gmail.com | S11: Bogotá | T11: OK
A12: 8 | B12: ORTEGA ROLDAN Y CIA LTDA | C12: JAIME ANTONIO ORTEGA RESTREPO | D12: (ORTEGA ROLDAN Y CIA LTDA 100% - 0% - 0%- 0%- 0%) | E12: ORTEGA ROLDAN Y CIA LTDA | F12: 1 | O12: 2180969 | Q12: Calle 93 No. 14-20 OF 506 | R12: ortegaroldanltda@gmail.com | S12: Bogotá | T12: OK
A13: 9 | B13: PROYECTISTAS ASOCIADOS S.A.S. | C13: OSCAR ANDRÉS PLAZAS ROLDÁN | D13: (PROYECTISTAS ASOCIADOS S.A.S. 100% - 0% - 0%- 0%- 0%) | E13: PROYECTISTAS ASOCIADOS S.A.S. | F13: 1 | O13: 3907134 3228533677 | Q13: Carrera 7 # 156-10 oficina 1604 | R13: contacto@proyectistasasociados.co | S13: Bogotá | T13: OK
A14: 10 | B14: INGENIERIA DE PROYECTOS S.A.S. | C14: PEDRO ANTONIO GUTIERREZ BUSTILLO | D14: (INGENIERIA DE PROYECTOS S.A.S. 100% - 0% - 0%- 0%- 0%) | E14: INGENIERIA DE PROYECTOS S.A.S. | F14: 1 | O14: 3562690 3562691 | Q14: Avenida 19 120-71 of 104 | R14: eduardo.rodriguez@ingeco.com.co | S14: Bogotá | T14: OK

Sheet K-Kr Constructor
A1: FONDO FINANCIERO DE PROYECTOS DE DESARROLLO FONADE DEPARTAMENTO PARA LA PROSPERIDAD SOCIAL -DPS CONVENIO INTERADMINISTRATIVO Nº 212080 INTERVENTORÍA TÉCNICA, ADMINISTRATIVA Y DE CONTROL PRESUPUESTAL PARA LA CONSTRUCCIÓN DEL CENTRO INTEGRADO COMUNITARIO CISCO SAN JOSÉ – FASE I, MUNICIPIO DE MANIZALES – CALDAS CONVOCATORIA SIMPLIFICADA CSI 005-2018
A2: REQUISITOS MINIMOS DE CARÁCTER TECNICO
A4: SMMLV AÑO ACTUAL | B4: 781242
A5: PRESUPUESTO | B5: 160070650
A6: POE (SMMLV) | B6: =+B5/B4 -> 204.89253
A7: 150% POE (SMMLV) - Puntaje K adicional | B7: =+B6*150% -> 307.3388 | C7: (cuando aplique)
A8: 150% POE ($) - Puntaje K adicional | B8: =+B7*B4 -> 2.4010597e+08 | C8: (cuando aplique)
A10: Capacidad de Organización (CO) | D10: Cálculo de la Experiencia (E )
D11: Experiencia (E) =
D14: Mayor a | E14: Menor o igual a | F14: Puntaje
D15: 0 | E15: 3 | F15: 60
D16: 3 | E16: 6 | F16: 80
A17: DÓLAR | B17: MINIMO EN USD | C17: MINIMO EN PESOS | D17: 6 | E17: 10 | F17: 100
A18: 1853.3 | B18: 125000 | C18: =+B18*A18 -> 231662500 | D18: 10 | E18: Mayores | F18: 120
A21: Cálculo de la Capacidad Financiera (CF) | D21: Cálculo de la Capacidad Técnica (CT)
A22: Índice de liquidez = | D22: Capacidad técnica (CT) se asigna con base en la siguiente tabla:
A24: Mayor o igual a | B24: Menor a | C24: Puntaje | D24: Desde | E24: Hasta | F24: Puntaje
A25: 0 | B25: 0.5 | C25: 20 | D25: 1 | E25: 5 | F25: 20
A26: 0.5 | B26: 0.75 | C26: 25 | D26: 6 | E26: 10 | F26: 30
A27: 0.75 | B27: 1 | C27: 30 | D27: 11 | E27: Mayores | F27: 40
A28: 1 | B28: 1.5 | C28: 35
A29: 1.5 | B29: Mayores | C29: 40
A31: OFERENTE | B31: =VLOOKUP(A32,Conformación!$A$5:$N$131,2,FALSE) -> CONSULTORIA ESTRUCTURAL Y DE CONSTRUCCION S.A.S. - CEYCO INGENIERIA SAS
A32: 1 | B32: =VLOOKUP(A32,Conformación!$A$5:$N$131,4,FALSE) -> (CONSULTORIA ESTRUCTURAL Y DE CONSTRUCCION S.A.S. - CEYCO INGENIERIA SAS 100% - 0% - 0%- 0%- 0%)
A35: DESCRIPCIÓN | B35: INTEGRANTE 1 | C35: INTEGRANTE 2 | D35: INTEGRANTE 3 | E35: INTEGRANTE 4 | F35: OBSERVACIONES
B36: =VLOOKUP(A32,Conformación!$A$5:$N$131,5,FALSE) -> CONSULTORIA ESTRUCTURAL Y DE CONSTRUCCION S.A.S. - CEYCO INGENIERIA SAS | C36: =VLOOKUP(A32,Conformación!$A$5:$N$131,7,FALSE) -> 0 | D36: =VLOOKUP(A32,Conformación!$A$5:$N$131,9,FALSE) -> 0 | E36: =VLOOKUP(A32,Conformación!$A$5:$N$131,11,FALSE) -> 0
B37: =VLOOKUP(A32,Conformación!$A$5:$N$131,6,FALSE) -> 1 | C37: =VLOOKUP(A32,Conformación!$A$5:$N$131,8,FALSE) -> 0 | D37: =VLOOKUP(A32,Conformación!$A$5:$N$131,10,FALSE) -> 0 | E37: =VLOOKUP(A32,Conformación!$A$5:$N$131,12,FALSE) -> 0
A38: Capacidad de Organización (CO) | B38: =B39 -> 0 | C38: =+C39 -> 0
A39: Mayor ingreso operacional | G39: FORMATO 18
A40: Puntos * experiencia (E ) | B40: =+IF(AND(B42>$D$15,B42<=$E$15),$F$15,IF(AND(B42>$D$16,B42<=$E$16),$F$16,IF(AND(B42>$D$17,B42<=$E$17),$F$17,IF(B42>$D$18,$F$18,"N/A")))) -> N/A | C40: =+IF(AND(C42>$D$15,C42<=$E$15),$F$15,IF(AND(C42>$D$16,C42<=$E$16),$F$16,IF(AND(C42>$D$17,C42<=$E$17),$F$17,IF(C42>$D$18,$F$18,"N/A")))) -> #DIV/0! | D40: =+IF(AND(D42>$D$15,D42<=$E$15),$F$15,IF(AND(D42>$D$16,D42<=$E$16),$F$16,IF(AND(D42>$D$17,D42<=$E$17),$F$17,IF(D42>$D$18,$F$18,"N/A")))) -> #DIV/0! | E40: =+IF(AND(E42>$D$15,E42<=$E$15),$F$15,IF(AND(E42>$D$16,E42<=$E$16),$F$16,IF(AND(E42>$D$17,E42<=$E$17),$F$17,IF(E42>$D$18,$F$18,"N/A")))) -> #DIV/0!
A41: Valor Total de los contratos (RUP) | G41: FORMATO 15 VALOR TOTAL
A42: Calculo de la Experiencia | B42: =+(B41/($B$5*B37)) -> 0 | C42: =+(C41/($B$5*C37)) -> #DIV/0! | D42: =+(D41/($B$5*D37)) -> #DIV/0! | E42: =+(E41/($B$5*E37)) -> #DIV/0!
A43: Puntos * capacidad Financiera (CF) | B43: =+IF(AND(B44>=$A$25,B44<$B$25),$C$25,IF(AND(B44>=$A$26,B44<$B$26),$C$26,IF(AND(B44>=$A$27,B44<$B$27),$C$27,IF(AND(B44>=$A$28,B44<$B$28),$C$28,IF(B44>=$A$29,$C$29,"N/A"))))) -> 20 | C43: =+IF(AND(C44>=$A$25,C44<$B$25),$C$25,IF(AND(C44>=$A$26,C44<$B$26),$C$26,IF(AND(C44>=$A$27,C44<$B$27),$C$27,IF(AND(C44>=$A$28,C44<$B$28),$C$28,IF(C44>=$A$29,$C$29,"N/A"))))) -> 20 | D43: =+IF(AND(D44>=$A$25,D44<$B$25),$C$25,IF(AND(D44>=$A$26,D44<$B$26),$C$26,IF(AND(D44>=$A$27,D44<$B$27),$C$27,IF(AND(D44>=$A$28,D44<$B$28),$C$28,IF(D44>=$A$29,$C$29,"N/A"))))) -> 20 | E43: =+IF(AND(E44>=$A$25,E44<$B$25),$C$25,IF(AND(E44>=$A$26,E44<$B$26),$C$26,IF(AND(E44>=$A$27,E44<$B$27),$C$27,IF(AND(E44>=$A$28,E44<$B$28),$C$28,IF(E44>=$A$29,$C$29,"N/A"))))) -> 20
A44: Indice de Liquidez | G44: RUP
A45: Puntos * Capacidad Técnica (CT) | B45: =+IF(AND(B46>=$D$25,B46<=$E$25),$F$25,IF(AND(B46>=$D$26,B46<=$E$26),$F$26,IF(B46>=$D$27,$F$27,"N/A"))) -> N/A | C45: =+IF(AND(C46>=$D$25,C46<=$E$25),$F$25,IF(AND(C46>=$D$26,C46<=$E$26),$F$26,IF(C46>=$D$27,$F$27,"N/A"))) -> N/A | D45: =+IF(AND(D46>=$D$25,D46<=$E$25),$F$25,IF(AND(D46>=$D$26,D46<=$E$26),$F$26,IF(D46>=$D$27,$F$27,"N/A"))) -> N/A | E45: =+IF(AND(E46>=$D$25,E46<=$E$25),$F$25,IF(AND(E46>=$D$26,E46<=$E$26),$F$26,IF(E46>=$D$27,$F$27,"N/A"))) -> N/A
A46: Numero de Profesionales | G46: FORMATO 16
A47: Saldo de contratos en ejecución (SCE) | B47: =+'Saldos de contratos (SCE)'!H21 -> #DIV/0! | C47: =+'Saldos de contratos (SCE)'!H40 -> #DIV/0! | D47: =+'Saldos de contratos (SCE)'!H59 -> #DIV/0! | E47: =+'Saldos de contratos (SCE)'!H78 -> #DIV/0!
A48: CAPACIDAD RESIDUAL DEL OFERENTE | B48: =+((B38*((B40+B43+B45)/100))-B47) -> #VALUE! | C48: =+((C38*((C40+C43+C45)/100))-C47) -> #DIV/0! | D48: =+((D38*((D40+D43+D45)/100))-D47) -> #DIV/0! | E48: =+((E38*((E40+E43+E45)/100))-E47) -> #DIV/0!
E49: =SUM(B48:C48) -> #VALUE! | F49: =+IF(E49>=$B$5,"CUMPLE KR",IF(E49<$B$5,"NO CUMPLE KR")) -> #VALUE! | G49: =+IF($E$49>$B$8,"60","REVISAR PUNTAJE") -> #VALUE! | H49: Asignación puntaje factor técnico - puntaje por capacidad residual adicional a la mínima exigida
A52: OFERENTE | B52: =VLOOKUP(A53,Conformación!$A$5:$N$131,2,FALSE) -> NELSY LIDIA CRUZ SUAREZ
...

Sheet Saldos de contratos (SCE)
A1: =+'K-Kr Constructor'!A1:F1 -> FONDO FINANCIERO DE PROYECTOS DE DESARROLLO FONADE DEPARTAMENTO PARA LA PROSPERIDAD SOCIAL -DPS CONVENIO INTERADMINISTRATIVO Nº 212080 INTERVENTORÍA TÉCNICA, ADMINISTRATIVA Y DE CONTROL PRESUPUESTAL PARA LA CONSTRUCCIÓN DEL CENTRO INTEGRADO COMUNITARIO CISCO SAN JOSÉ – FASE I, MUNICIPIO DE MANIZALES – CALDAS CONVOCATORIA SIMPLIFICADA CSI 005-2018
A3: OFERENTE | B3: =VLOOKUP(A4,Conformación!$A$5:$N$131,2,FALSE) -> CONSULTORIA ESTRUCTURAL Y DE CONSTRUCCION S.A.S. - CEYCO INGENIERIA SAS
A4: 1 | B4: =VLOOKUP(A4,Conformación!$A$5:$N$131,4,FALSE) -> (CONSULTORIA ESTRUCTURAL Y DE CONSTRUCCION S.A.S. - CEYCO INGENIERIA SAS 100% - 0% - 0%- 0%- 0%)
A6: INTEGRANTE 1
A7: =VLOOKUP(A4,Conformación!$A$5:$N$131,5,FALSE) -> CONSULTORIA ESTRUCTURAL Y DE CONSTRUCCION S.A.S. - CEYCO INGENIERIA SAS
A8: =VLOOKUP(A4,Conformación!$A$5:$N$131,6,FALSE) -> 1
A9: DESCRIPCIÓN | B9: CONTRATO 1 | C9: CONTRATO 2 | D9: CONTRATO 3 | E9: CONTRATO 4 | F9: CONTRATO 5 | G9: CONTRATO 6 | H9: CONTRATO 7
A10: Plazo (MESES) | B10: 0
A11: Plazo (DIAS) | B11: =+B10*30 -> 0 | C11: =+C10*30 -> 0
A12: Valor
A13: Fecha de inicio | B13: 0
A14: Fecha de suspensión | B14: 0 | C14: 0
A15: Porcentaje de participación: | B15: 0
A16: Fecha de presentación de la oferta objeto del Proceso de Contratación | B16: 0 | I16: FECHA DE CIERRE
A17: Días ejecutados | B17: =IF(B14=0,DAYS360(B13,B16),DAYS360(B13,B14)) -> 0
A18: Días por ejecutar | B18: =+(B10*30)-B17 -> 0
A19: Saldo diario del contrato en ejecución | B19: =+(B12/(B10*30)) -> #DIV/0! | C19: =+(C12/(C10*30)) -> #DIV/0! | D19: 0 | E19: 0 | F19: 0 | G19: 0 | H19: 0
A20: SALDO DEL CONTRATO EN EJECUCIÓN | B20: =+B19*B18*B15 -> #DIV/0! | C20: =+C19*C18*C15 -> #DIV/0! | D20: =+D19*D18*D15 -> 0 | E20: =+E19*E18*E15 -> 0 | F20: =+F19*F18*F15 -> 0 | G20: =+G19*G18*G15 -> 0 | H20: =+H19*H18*H15 -> 0
A21: TOTAL DE SALDOS DE CONTRATOS EN EJECUCIÓN | H21: =SUM(B20:H20) -> #DIV/0!
A23: Nota: En la casilla de los dias por ejecutar que superen los 360 dias. Se debe incluir 360 dias
A25: INTEGRANTE 2
A26: =VLOOKUP(A4,Conformación!$A$5:$N$131,7,FALSE) -> 0
A27: =VLOOKUP(A4,Conformación!$A$5:$N$131,8,FALSE) -> 0
A28: DESCRIPCIÓN | B28: CONTRATO 1 | C28: CONTRATO 2 | D28: CONTRATO 3 | E28: CONTRATO 4 | F28: CONTRATO 5 | G28: CONTRATO 6 | H28: CONTRATO 7
A29: Plazo (MESES) | B29: 0 | C29: 5
A30: Plazo (DIAS) | B30: =+B29*30 -> 0 | C30: =+C29*30 -> 150
A31: Valor | C31: 3628111376
A32: Fecha de inicio | B32: 0 | C32: 42871
A33: Fecha de suspensión | B33: 0 | C33: 0
A34: Porcentaje de participación: | B34: 0 | C34: 0.25
A35: Fecha de presentación de la oferta objeto del Proceso de Contratación | B35: 0 | C35: 42901 | I35: FECHA DE CIERRE
A36: Días ejecutados | B36: =IF(B33=0,DAYS360(B32,B35),DAYS360(B32,B33)) -> 0 | C36: =IF(C33=0,DAYS360(C32,C35),DAYS360(C32,C33)) -> 29
A37: Días por ejecutar | B37: =+(B29*30)-B36 -> 0 | C37: =+(C29*30)-C36 -> 121
A38: Saldo diario del contrato en ejecución | B38: =+(B31/(B29*30)) -> #DIV/0! | C38: =+(C31/(C29*30)) -> 24187409 | D38: =+(D31/(D29*30)) -> #DIV/0! | E38: =+(E31/(E29*30)) -> #DIV/0! | F38: =+(F31/(F29*30)) -> #DIV/0! | G38: =+(G31/(G29*30)) -> #DIV/0! | H38: =+(H31/(H29*30)) -> #DIV/0!
A39: SALDO DEL CONTRATO EN EJECUCIÓN | B39: =+B38*B37*B34 -> #DIV/0! | C39: =+C38*C37*C34 -> 7.3166913e+08 | D39: =+D38*D37*D34 -> #DIV/0! | E39: =+E38*E37*E34 -> #DIV/0! | F39: =+F38*F37*F34 -> #DIV/0! | G39: =+G38*G37*G34 -> #DIV/0! | H39: =+H38*H37*H34 -> #DIV/0!
A40: TOTAL DE SALDOS DE CONTRATOS EN EJECUCIÓN | H40: =SUM(B39) -> #DIV/0!
A42: Nota: En la casilla de los dias por ejecutar que superen los 360 dias. Se debe incluir 360 dias
A43: Si el número de días por ejecutar en un contrato es superior a 12 meses, es decir 360 días, el Saldo del Contrato en Ejecución solo tendrá en cuenta la proporción lineal de 12 meses
A44: INTEGRANTE 3
A45: =VLOOKUP(A4,Conformación!$A$5:$N$131,9,FALSE) -> 0
...

Sheet Exp. oferente
A1: FONDO FINANCIERO DE PROYECTOS DE DESARROLLO FONADE DEPARTAMENTO PARA LA PROSPERIDAD SOCIAL -DPS CONVENIO INTERADMINISTRATIVO Nº 212080 INTERVENTORÍA TÉCNICA, ADMINISTRATIVA Y DE CONTROL PRESUPUESTAL PARA LA CONSTRUCCIÓN DEL CENTRO INTEGRADO COMUNITARIO CISCO SAN JOSÉ – FASE I, MUNICIPIO DE MANIZALES – CALDAS CONVOCATORIA SIMPLIFICADA CSI 005-2018
A3: EXPERIENCIA TÉCNICA DEL OFERENTE
A5: El oferente debe acreditar en su oferta, que cuenta con experiencia específica en:
A6: INTERVENTORÍA A LA CONSTRUCCIÓN Y/O AMPLIACIÓN DE EDIFICACIONES
A7: 1) La experiencia debe ser acreditada con la ejecución de MÁXIMO CINCO (05) contratos, cuya sumatoria del valor de sus contratos sea mayor o igual a 2.0 vez el valor del POE, expresado en SMMLV a la fecha de su terminación
A8: 2) Los contratos aportados deben incluir en su alcance u objeto, Interventoría a la construcción de una edificación institucional, con un valor mínimo de 1.0 veces el valor del POE, expresado en SMMLV a la fecha de su terminación.
J11: SMMLV
F12: Los contratos aportados deben incluir en su alcance u objeto, Interventoría a la construcción de una edificación institucional, con un valor mínimo de 1.0 veces el valor del POE, expresado en SMMLV a la fecha de su terminación | G12: 204.89253 | J12: 204.89253
H13: presup.of | I13: 160070650 | J13: SMMLV
H14: SMMLV 2018 | I14: 781242 | J14: 409.78506
B17: Oferente | C17: 1 | D17: CONSULTORIA ESTRUCTURAL Y DE CONSTRUCCION S.A.S. - CEYCO INGENIERIA SAS
D18: (CONSULTORIA ESTRUCTURAL Y DE CONSTRUCCION S.A.S. - CEYCO INGENIERIA SAS 100% - 0% - 0%- 0%- 0%)
A21: No | B21: PROPIETARIO O ENTIDAD CONTRATANTE | C21: APORTADA POR | D21: % en Cto | E21: CONSECUTIVO RUP | F21: OBJETO | G21: Fecha de Terminación | H21: Folio | I21: VALOR | J21: SMMLV | K21: OBSERVACIONES
A22: 1 | B22: UNIDAD DE SALUD DE IBAGUE E.S.E | C22: CONSULTORIA ESTRUCTURAL Y DE CONSTRUCCION S.A.S. - CEYCO INGENIERIA SAS | D22: 1 | E22: 5 | F22: Realizar la Interventoría técnica, administrativa y financiera de la construcción de la primera etapa de la unidad intermedia de Salud de los barrios del sur en el municipio de Ibagué, Departamento del Tolima | G22: 40515 | H22: N.A. | I22: 124782087 | J22: 242.29531 | K22: INSTITUCIONAL OK EN CERTIFICACION INDICA AREAS CUBIERTAS
A23: 2 | B23: MUNICIPIO DE EL RETORNO GUAVIARE | C23: CONSULTORIA ESTRUCTURAL Y DE CONSTRUCCION S.A.S. - CEYCO INGENIERIA SAS | D23: 0.99 | E23: 79 | F23: Interventoría técnica, administrativa y financiera para la construcción y dotación de un centro de desarrollo infantil en la inspección de la Libertad municipio de el RETORNO departamento del Guaviare | G23: 41936 | H23: N.A. | I23: 0 | J23: 0 | K23: NO CUMPLE LITERAL 2) 85,18 SMMLV
A24: 3 | B24: ALCALDIA MUNICIPAL DE ORTEGA | C24: CONSULTORIA ESTRUCTURAL Y DE CONSTRUCCION S.A.S. - CEYCO INGENIERIA SAS | D24: 1 | E24: 130 | F24: Contratar Interventoría técnica, administrativa, financiera, ambiental y jurídica a las obras que se generen en el cumplimiento del contrato de obra cuyo objeto es "Contratar la construcción de un polideportivo cubierto en el corregimiento Olaya herrera del municipio de Ortega, Tolima, en ejecución del convenio interadministrativo No. 695 de 2014 suscrito con Coldeportes | G24: 42449 | H24: N.A. | I24: 0 | J24: 0 | K24: NO CUMPLE LITERAL 2) NO CUMPLE EDIFICACIONES ES UN ESCENARIO DEPORTIVO 61,92 SMMLV
A25: 4 | B25: ALCALDÍA MUNICIPAL DE RIOBLANCO TOLIMA | C25: CONSULTORIA ESTRUCTURAL Y DE CONSTRUCCION S.A.S. - CEYCO INGENIERIA SAS | D25: 1 | E25: 136 | F25: Interventoría técnica, administrativa y financiera para la "construcción del centro de integración ciudadana en el sector urbano del municipio de rioblanco | G25: 42645 | H25: N.A. | I25: 0 | J25: 0 | K25: NO CUMPLE LITERAL 2) 60,05 SMMLV
A26: 5 | B26: UNIDAD DE SALUD DE IBAGUE E.S.E | C26: CONSULTORIA ESTRUCTURAL Y DE CONSTRUCCION S.A.S. - CEYCO INGENIERIA SAS | D26: 1 | E26: 22 | F26: Realizar la Interventoría técnica, administrativa y financiera de la construcción de la segunda etapa de la unidad intermedia de Salud de los barrios del sur en el municipio de Ibagué, Departamento del Tolima | G26: 41129 | H26: N.A. | I26: 132186100 | J26: 233.25587 | K26: INSTITUCIONAL OK (ACTIVIDADES DE OBRA pag. 63 archivo PERSONAL MINIMO REQUERIDO)
A27: 6 | J27: 0
A28: 7 | J28: 0
A29: 8 | J29: 0
A30: 9 | J30: 0
A31: 10 | J31: 0
I32: TOTAL | J32: 475.55118
G33: CUMPLE Los contratos aportados deben incluir en su alcance u objeto, Interventoría a la construcción de una edificación institucional, con un valor mínimo de 1.0 veces el valor del POE | K33: CUMPLE SUMATORIA DE TODOS 2,0 DEL POE
G34: CONSULTORIA ESTRUCTURAL Y DE CONSTRUCCION S.A.S. - CEYCO INGENIERIA SAS | H34: 1 | I34: 475.55118 | J34: V.Bo.
G35: 0 | H35: 0 | I35: 0
G36: 0 | H36: 0 | I36: 0
G37: 0 | H37: 0 | I37: 0
G38: 0 | H38: 0 | I38: 0
J39: 0
B41: Oferente | C41: 2 | D41: NELSY LIDIA CRUZ SUAREZ
D42: (NELSY LIDIA CRUZ SUAREZ 100% - 0% - 0%- 0%- 0%)
A45: No | B45: PROPIETARIO O ENTIDAD CONTRATANTE | C45: APORTADA POR | D45: % en Cto | E45: CONSECUTIVO RUP | F45: OBJETO | G45: Fecha de Terminación | H45: Folio | I45: VALOR | J45: SMMLV | K45: OBSERVACIONES
A46: 1 | B46: INCIPAL LTDA | C46: NELSY LIDIA CRUZ SUAREZ | D46: 1 | E46: 64 | F46: INTERVENTORÍA AL CONTRATO DE OBRA CUYO OBJETO ES LA CONSTRUCCIÓN DEL JARDÍN MANUELISTA - REGISTRO No. 3929 | G46: 42704 | H46: N.A. | I46: 620000000 | J46: 899.26231 | K46: INSTITUCIONAL OK
A47: 2 | B47: FUERZA AEREA COLOMBIANA | C47: NELSY LIDIA CRUZ SUAREZ | D47: 0.5 | E47: 77 | F47: INTERVENTORIA TÉCNICA FINANCIERA, ADMINISTRATIVA, JURÍDICA Y CONTABLE DEL PROYECTO AMPLIACIÓN, ADECUACIÓN Y DOTACIÓN DE EQUIPOS Y MUEBLES DEL ALMACÉN DE ARMAMENTO AÉREO Y LA TORRE DE SECADO DE PARACAÍDAS DEL COMANDO AÉREO DE COMBATE No 2 UBICADO EN LA CIUDAD DE VILLAVICENCIO- META. | G47: 42653 | H47: N.A. | J47: 0 | K47: NO CUMPLE LITERAL 2) 104,44 SMMLV ADICIONALMENTE, NO SE PUEDE EVIDENCIAR SI ES UNA EDIFICACION DE CONFORMIDAD CON LAS DEFINICIONES GENERALES DE TÉRMINOS APLICABLES A LOS PROCESOS DE FONADE
A48: 3 | J48: 0
A49: 4 | J49: 0
A50: 5 | J50: 0
A51: 6 | J51: 0
...

Sheet Resumen Evaluación
A1: =+'K-Kr Constructor'!A1:F1 -> FONDO FINANCIERO DE PROYECTOS DE DESARROLLO FONADE DEPARTAMENTO PARA LA PROSPERIDAD SOCIAL -DPS CONVENIO INTERADMINISTRATIVO Nº 212080 INTERVENTORÍA TÉCNICA, ADMINISTRATIVA Y DE CONTROL PRESUPUESTAL PARA LA CONSTRUCCIÓN DEL CENTRO INTEGRADO COMUNITARIO CISCO SAN JOSÉ – FASE I, MUNICIPIO DE MANIZALES – CALDAS CONVOCATORIA SIMPLIFICADA CSI 005-2018
B2: OFERENTE : | C2: 1 | D2: =VLOOKUP(C2,Conformación!$A$5:$N$131,2,FALSE) -> CONSULTORIA ESTRUCTURAL Y DE CONSTRUCCION S.A.S. - CEYCO INGENIERIA SAS | H2: OFERENTE : | I2: 2 | J2: =VLOOKUP(I2,Conformación!$A$5:$N$131,2,FALSE) -> NELSY LIDIA CRUZ SUAREZ | N2: OFERENTE : | O2: 3 | P2: =VLOOKUP(O2,Conformación!$A$5:$N$131,2,FALSE) -> CONSTRUCTORA JAIME URIBE S.A.S | T2: OFERENTE : | U2: 4 | V2: =VLOOKUP(U2,Conformación!$A$5:$N$131,2,FALSE) -> CONSORCIO INTER SAN JOSE | Z2: OFERENTE : | AA2: 5 | AB2: =VLOOKUP(AA2,Conformación!$A$5:$N$131,2,FALSE) -> CIVING INGENIEROS CONTRATISTAS S.A.S.
C3: =VLOOKUP(C2,Conformación!$A$5:$N$131,4,FALSE) -> (CONSULTORIA ESTRUCTURAL Y DE CONSTRUCCION S.A.S. - CEYCO INGENIERIA SAS 100% - 0% - 0%- 0%- 0%) | I3: =VLOOKUP(I2,Conformación!$A$5:$N$131,4,FALSE) -> (NELSY LIDIA CRUZ SUAREZ 100% - 0% - 0%- 0%- 0%) | O3: =VLOOKUP(O2,Conformación!$A$5:$N$131,4,FALSE) -> (CONSTRUCTORA JAIME URIBE S.A.S 100% - 0% - 0%- 0%- 0%) | U3: =VLOOKUP(U2,Conformación!$A$5:$N$131,4,FALSE) -> (YOHAN FAHIR BERMUDEZ PARRA 65% - FEDERICO GARCIA ARBELAEZ 35% - 0%- 0%- 0%) | AA3: =VLOOKUP(AA2,Conformación!$A$5:$N$131,4,FALSE) -> (CIVING INGENIEROS CONTRATISTAS S.A.S. 100% - 0% - 0%- 0%- 0%)
A6: DOCUMENTO | C6: SI | D6: NO | E6: Folio/fecha/valor/M2/SMMLV | F6: OBSERVACIONES | G6: DOCUMENTO | I6: SI | J6: NO | K6: Folio/fecha/valor/M2/SMMLV | L6: OBSERVACIONES | M6: DOCUMENTO | O6: SI | P6: NO | Q6: Folio/fecha/valor/M2/SMMLV | R6: OBSERVACIONES | S6: DOCUMENTO | U6: SI | V6: NO | W6: Folio/fecha/valor/M2/SMMLV | X6: OBSERVACIONES | Y6: DOCUMENTO | AA6: SI | AB6: NO | AC6: Folio/fecha/valor/M2/SMMLV | AD6: OBSERVACIONES
A7: REQUISITOS MÍNIMOS EXIGIDOS | G7: REQUISITOS MÍNIMOS EXIGIDOS | M7: REQUISITOS MÍNIMOS EXIGIDOS | S7: REQUISITOS MÍNIMOS EXIGIDOS | Y7: REQUISITOS MÍNIMOS EXIGIDOS
A8: 5,1,1 | B8: ASPECTOS JURIDICOS | G8: 5,1,1 | H8: ASPECTOS JURIDICOS | M8: 5,1,1 | N8: ASPECTOS JURIDICOS | S8: 5,1,1 | T8: ASPECTOS JURIDICOS | Y8: 5,1,1 | Z8: ASPECTOS JURIDICOS
A9: 5.1.1.1 | B9: Carta de Presentación de la Oferta | C9: X | E9: 2 A 4 | F9: =IF(C9="X","CUMPLE","NO CUMPLE") -> CUMPLE | G9: 5.1.1.1 | H9: Carta de Presentación de la Oferta | I9: X | K9: 1 A 3 | L9: =IF(I9="X","CUMPLE","NO CUMPLE") -> CUMPLE | M9: 5.1.1.1 | N9: Carta de Presentación de la Oferta | R9: =IF(O9="X","CUMPLE","NO CUMPLE") -> NO CUMPLE | S9: 5.1.1.1 | T9: Carta de Presentación de la Oferta | X9: =IF(U9="X","CUMPLE","NO CUMPLE") -> NO CUMPLE | Y9: 5.1.1.1 | Z9: Carta de Presentación de la Oferta | AD9: =IF(AA9="X","CUMPLE","NO CUMPLE") -> NO CUMPLE
A10: 5.1.1.2 | B10: Acreditación de la Existencia y Representación Legal | C10: X | E10: 10 A 21 | F10: =IF(C10="X","CUMPLE","NO CUMPLE") -> CUMPLE | G10: 5.1.1.2 | H10: Acreditación de la Existencia y Representación Legal | I10: X | K10: 8 A 12 | L10: =IF(I10="X","CUMPLE","NO CUMPLE") -> CUMPLE | M10: 5.1.1.2 | N10: Acreditación de la Existencia y Representación Legal | R10: =IF(O10="X","CUMPLE","NO CUMPLE") -> NO CUMPLE | S10: 5.1.1.2 | T10: Acreditación de la Existencia y Representación Legal | X10: =IF(U10="X","CUMPLE","NO CUMPLE") -> NO CUMPLE | Y10: 5.1.1.2 | Z10: Acreditación de la Existencia y Representación Legal | AD10: =IF(AA10="X","CUMPLE","NO CUMPLE") -> NO CUMPLE
A11: 5.1.1.3 | B11: Documento de Constitución del Consorcio o Unión Temporal | C11: X | E11: 22 A 23 | F11: =IF(C11="X","CUMPLE","NO CUMPLE") -> CUMPLE | G11: 5.1.1.3 | H11: Documento de Constitución del Consorcio o Unión Temporal | I11: X | K11: 13 A 14 | L11: =IF(I11="X","CUMPLE","NO CUMPLE") -> CUMPLE | M11: 5.1.1.3 | N11: Documento de Constitución del Consorcio o Unión Temporal | R11: =IF(O11="X","CUMPLE","NO CUMPLE") -> NO CUMPLE | S11: 5.1.1.3 | T11: Documento de Constitución del Consorcio o Unión Temporal | X11: =IF(U11="X","CUMPLE","NO CUMPLE") -> NO CUMPLE | Y11: 5.1.1.3 | Z11: Documento de Constitución del Consorcio o Unión Temporal | AD11: =IF(AA11="X","CUMPLE","NO CUMPLE") -> NO CUMPLE
A12: 5.1.1.4 | B12: RUP Registro Único del Proponente (30 Días) | C12: X | E12: 24 A 82 | F12: =IF(C12="X","CUMPLE","NO CUMPLE") -> CUMPLE | G12: 5.1.1.4 | H12: RUP Registro Único del Proponente (30 Días) | I12: X | K12: 15 A 39 | L12: =IF(I12="X","CUMPLE","NO CUMPLE") -> CUMPLE | M12: 5.1.1.4 | N12: RUP Registro Único del Proponente (30 Días) | R12: =IF(O12="X","CUMPLE","NO CUMPLE") -> NO CUMPLE | S12: 5.1.1.4 | T12: RUP Registro Único del Proponente (30 Días) | X12: =IF(U12="X","CUMPLE","NO CUMPLE") -> NO CUMPLE | Y12: 5.1.1.4 | Z12: RUP Registro Único del Proponente (30 Días) | AD12: =IF(AA12="X","CUMPLE","NO CUMPLE") -> NO CUMPLE
A13: 5.1.1.5 | B13: Garantia de Seriedad de la oferta | C13: X | E13: 84 A 90 | F13: =IF(C13="X","CUMPLE","NO CUMPLE") -> CUMPLE | G13: 5.1.1.5 | H13: Garantia de Seriedad de la oferta | I13: X | K13: 44 A 47 | L13: =IF(I13="X","CUMPLE","NO CUMPLE") -> CUMPLE | M13: 5.1.1.5 | N13: Garantia de Seriedad de la oferta | R13: =IF(O13="X","CUMPLE","NO CUMPLE") -> NO CUMPLE | S13: 5.1.1.5 | T13: Garantia de Seriedad de la oferta | X13: =IF(U13="X","CUMPLE","NO CUMPLE") -> NO CUMPLE | Y13: 5.1.1.5 | Z13: Garantia de Seriedad de la oferta | AD13: =IF(AA13="X","CUMPLE","NO CUMPLE") -> NO CUMPLE
A14: 5.1.1.6 | B14: Certificación de Pagos al Sistema de Seguridad Social y de Aportes Parafiscales | C14: X | E14: 92 A 96 | F14: =IF(C14="X","CUMPLE","NO CUMPLE") -> CUMPLE | G14: 5.1.1.6 | H14: Certificación de Pagos al Sistema de Seguridad Social y de Aportes Parafiscales | I14: X | K14: 40 A 43 | L14: =IF(I14="X","CUMPLE","NO CUMPLE") -> CUMPLE | M14: 5.1.1.6 | N14: Certificación de Pagos al Sistema de Seguridad Social y de Aportes Parafiscales | R14: =IF(O14="X","CUMPLE","NO CUMPLE") -> NO CUMPLE | S14: 5.1.1.6 | T14: Certificación de Pagos al Sistema de Seguridad Social y de Aportes Parafiscales | X14: =IF(U14="X","CUMPLE","NO CUMPLE") -> NO CUMPLE | Y14: 5.1.1.6 | Z14: Certificación de Pagos al Sistema de Seguridad Social y de Aportes Parafiscales | AD14: =IF(AA14="X","CUMPLE","NO CUMPLE") -> NO CUMPLE
A15: 5.1.1.8 | B15: Verificación de no inclusión en el boletín de responsables fiscales | C15: X | E15: 98 A 104 | F15: =IF(C15="X","CUMPLE","NO CUMPLE") -> CUMPLE | G15: 5.1.1.8 | H15: Verificación de no inclusión en el boletín de responsables fiscales | I15: X | K15: 48 A 49 | L15: =IF(I15="X","CUMPLE","NO CUMPLE") -> CUMPLE | M15: 5.1.1.8 | N15: Verificación de no inclusión en el boletín de responsables fiscales | R15: =IF(O15="X","CUMPLE","NO CUMPLE") -> NO CUMPLE | S15: 5.1.1.8 | T15: Verificación de no inclusión en el boletín de responsables fiscales | X15: =IF(U15="X","CUMPLE","NO CUMPLE") -> NO CUMPLE | Y15: 5.1.1.8 | Z15: Verificación de no inclusión en el boletín de responsables fiscales | AD15: =IF(AA15="X","CUMPLE","NO CUMPLE") -> NO CUMPLE
A16: 5.1.1.9 | B16: Verificación del sistema de información de registro de sanciones y causas de inhabilidad (SIRI) de la Procuraduría General De La Nación | C16: X | F16: =IF(C16="X","CUMPLE","NO CUMPLE") -> CUMPLE | G16: 5.1.1.9 | H16: Verificación del sistema de información de registro de sanciones y causas de inhabilidad (SIRI) de la Procuraduría General De La Nación | I16: X | L16: =IF(I16="X","CUMPLE","NO CUMPLE") -> CUMPLE | M16: 5.1.1.9 | N16: Verificación del sistema de información de registro de sanciones y causas de inhabilidad (SIRI) de la Procuraduría General De La Nación | R16: =IF(O16="X","CUMPLE","NO CUMPLE") -> NO CUMPLE | S16: 5.1.1.9 | T16: Verificación del sistema de información de registro de sanciones y causas de inhabilidad (SIRI) de la Procuraduría General De La Nación | X16: =IF(U16="X","CUMPLE","NO CUMPLE") -> NO CUMPLE | Y16: 5.1.1.9 | Z16: Verificación del sistema de información de registro de sanciones y causas de inhabilidad (SIRI) de la Procuraduría General De La Nación | AD16: =IF(AA16="X","CUMPLE","NO CUMPLE") -> NO CUMPLE
A17: 5.1.1.10 | B17: Verificación de antecedentes judiciales del Ministerio De Defensa Nacional – Policía Nacional. | C17: X | F17: =IF(C17="X","CUMPLE","NO CUMPLE") -> CUMPLE | G17: 5.1.1.10 | H17: Verificación de antecedentes judiciales del Ministerio De Defensa Nacional – Policía Nacional. | I17: X | L17: =IF(I17="X","CUMPLE","NO CUMPLE") -> CUMPLE | M17: 5.1.1.10 | N17: Verificación de antecedentes judiciales del Ministerio De Defensa Nacional – Policía Nacional. | R17: =IF(O17="X","CUMPLE","NO CUMPLE") -> NO CUMPLE | S17: 5.1.1.10 | T17: Verificación de antecedentes judiciales del Ministerio De Defensa Nacional – Policía Nacional. | X17: =IF(U17="X","CUMPLE","NO CUMPLE") -> NO CUMPLE | Y17: 5.1.1.10 | Z17: Verificación de antecedentes judiciales del Ministerio De Defensa Nacional – Policía Nacional. | AD17: =IF(AA17="X","CUMPLE","NO CUMPLE") -> NO CUMPLE
A18: DOCUMENTACIÓN ACLARATORIA ENTREGADA POR LOS OFERENTES DE LOS ASPECTOS JURÍDICOS | G18: DOCUMENTACIÓN ACLARATORIA ENTREGADA POR LOS OFERENTES DE LOS ASPECTOS JURÍDICOS | M18: DOCUMENTACIÓN ACLARATORIA ENTREGADA POR LOS OFERENTES DE LOS ASPECTOS JURÍDICOS | S18: DOCUMENTACIÓN ACLARATORIA ENTREGADA POR LOS OFERENTES DE LOS ASPECTOS JURÍDICOS | Y18: DOCUMENTACIÓN ACLARATORIA ENTREGADA POR LOS OFERENTES DE LOS ASPECTOS JURÍDICOS
A19: CONCLUSIÓN EVALUACION ASPECTOS JURÍDICOS | C19: =+IF(AND(F9="CUMPLE",F10="CUMPLE",F11="CUMPLE",F12="CUMPLE",F13="CUMPLE",F14="CUMPLE",F15="CUMPLE",F16="CUMPLE",F17="CUMPLE"),"CUMPLE","NO CUMPLE") -> CUMPLE | G19: CONCLUSIÓN EVALUACION ASPECTOS JURÍDICOS | I19: =+IF(AND(L9="CUMPLE",L10="CUMPLE",L11="CUMPLE",L12="CUMPLE",L13="CUMPLE",L14="CUMPLE",L15="CUMPLE",L16="CUMPLE",L17="CUMPLE"),"CUMPLE","NO CUMPLE") -> CUMPLE | M19: CONCLUSIÓN EVALUACION ASPECTOS JURÍDICOS | O19: =+IF(AND(R9="CUMPLE",R10="CUMPLE",R11="CUMPLE",R12="CUMPLE",R13="CUMPLE",R14="CUMPLE",R15="CUMPLE",R16="CUMPLE",R17="CUMPLE"),"CUMPLE","NO CUMPLE") -> NO CUMPLE | S19: CONCLUSIÓN EVALUACION ASPECTOS JURÍDICOS | U19: =+IF(AND(X9="CUMPLE",X10="CUMPLE",X11="CUMPLE",X12="CUMPLE",X13="CUMPLE",X14="CUMPLE",X15="CUMPLE",X16="CUMPLE",X17="CUMPLE"),"CUMPLE","NO CUMPLE") -> NO CUMPLE | Y19: CONCLUSIÓN EVALUACION ASPECTOS JURÍDICOS | AA19: =+IF(AND(AD9="CUMPLE",AD10="CUMPLE",AD11="CUMPLE",AD12="CUMPLE",AD13="CUMPLE",AD14="CUMPLE",AD15="CUMPLE",AD16="CUMPLE",AD17="CUMPLE"),"CUMPLE","NO CUMPLE") -> NO CUMPLE
A21: 5.1.2 | B21: REQUISITOS HABILITANTES FINANCIEROS | G21: 3.2.2. | H21: CAPACIDAD FINANCIERA | M21: 3.2.2. | N21: CAPACIDAD FINANCIERA | S21: 3.2.2. | T21: CAPACIDAD FINANCIERA | Y21: 3.2.2. | Z21: CAPACIDAD FINANCIERA
B22: RUP Registro Único del Proponente (30 Días) (FECHA DE CADA UNO DE LOS INTEGRANTES) | C22: X | E22: 42607 | F22: =IF(C22="X","CUMPLE","NO CUMPLE") -> CUMPLE | H22: RUP Registro Único del Proponente (30 Días) (FECHA DE CADA UNO DE LOS INTEGRANTES) | I22: X | K22: 03/08/2016 10/08/2016 | L22: =IF(I22="X","CUMPLE","NO CUMPLE") -> CUMPLE | N22: RUP Registro Único del Proponente (30 Días) (FECHA DE CADA UNO DE LOS INTEGRANTES) | R22: =IF(O22="X","CUMPLE","NO CUMPLE") -> NO CUMPLE | T22: RUP Registro Único del Proponente (30 Días) (FECHA DE CADA UNO DE LOS INTEGRANTES) | X22: =IF(U22="X","CUMPLE","NO CUMPLE") -> NO CUMPLE | Z22: RUP Registro Único del Proponente (30 Días) (FECHA DE CADA UNO DE LOS INTEGRANTES) | AD22: =IF(AA22="X","CUMPLE","NO CUMPLE") -> NO CUMPLE
B23: CT = ≥ 50% PEE (60% PEE SIN ANTICIPO) | C23: X | E23: SI | F23: =IF(E23="SI","CUMPLE","NO CUMPLE") -> CUMPLE | H23: CT = ≥ 50% PEE (60% PEE SIN ANTICIPO) | I23: x | K23: SI | L23: =IF(K23="SI","CUMPLE","NO CUMPLE") -> CUMPLE | N23: CT = ≥ 50% PEE (60% PEE SIN ANTICIPO) | O23: X | R23: =IF(Q23="SI","CUMPLE","NO CUMPLE") -> NO CUMPLE | T23: CT = ≥ 50% PEE (60% PEE SIN ANTICIPO) | U23: X | X23: =IF(W23="SI","CUMPLE","NO CUMPLE") -> NO CUMPLE | Z23: CT = ≥ 50% PEE (60% PEE SIN ANTICIPO) | AA23: X | AD23: =IF(AC23="SI","CUMPLE","NO CUMPLE") -> NO CUMPLE
B24: LIQ = AC / PC ≥ 2.0 | C24: X | E24: SI | F24: =IF(E24="SI","CUMPLE","NO CUMPLE") -> CUMPLE | H24: LIQ = AC / PC ≥ 2.0 | I24: x | K24: SI | L24: =IF(K24="SI","CUMPLE","NO CUMPLE") -> CUMPLE | N24: LIQ = AC / PC ≥ 2.0 | O24: X | R24: =IF(Q24="SI","CUMPLE","NO CUMPLE") -> NO CUMPLE | T24: LIQ = AC / PC ≥ 2.0 | U24: X | X24: =IF(W24="SI","CUMPLE","NO CUMPLE") -> NO CUMPLE | Z24: LIQ = AC / PC ≥ 1,0 | AA24: X | AD24: =IF(AC24="SI","CUMPLE","NO CUMPLE") -> NO CUMPLE
B25: NE = PT / AT ≤ 0.50 | C25: X | E25: SI | F25: =IF(E25="SI","CUMPLE","NO CUMPLE") -> CUMPLE | H25: NE = PT / AT ≤ 0.50 | I25: x | K25: SI | L25: =IF(K25="SI","CUMPLE","NO CUMPLE") -> CUMPLE | N25: NE = PT / AT ≤ 0.50 | O25: X | R25: =IF(Q25="SI","CUMPLE","NO CUMPLE") -> NO CUMPLE | T25: NE = PT / AT ≤ 0.50 | U25: X | X25: =IF(W25="SI","CUMPLE","NO CUMPLE") -> NO CUMPLE | Z25: NE = PT / AT ≤ 0,70 | AA25: X | AD25: =IF(AC25="SI","CUMPLE","NO CUMPLE") -> NO CUMPLE
B26: RCI = UO/GI ≥ 2.0 | C26: X | E26: SI | F26: =IF(E26="SI","CUMPLE","NO CUMPLE") -> CUMPLE | H26: RCI = UO/GI ≥ 2.0 | I26: x | K26: SI | L26: =IF(K26="SI","CUMPLE","NO CUMPLE") -> CUMPLE | N26: RCI = UO/GI ≥ 2.0 | O26: X | R26: =IF(Q26="SI","CUMPLE","NO CUMPLE") -> NO CUMPLE | T26: RCI = UO/GI ≥ 2.0 | U26: X | X26: =IF(W26="SI","CUMPLE","NO CUMPLE") -> NO CUMPLE | Z26: RCI = UO/GI ≥ 2.0 | AA26: X | AD26: =IF(AC26="SI","CUMPLE","NO CUMPLE") -> NO CUMPLE
B27: RP = UO/P ≥ 8% | C27: X | E27: SI | F27: =IF(E27="SI","CUMPLE","NO CUMPLE") -> CUMPLE | H27: RP = UO/P ≥ 8% | I27: x | K27: SI | L27: =IF(K27="SI","CUMPLE","NO CUMPLE") -> CUMPLE | N27: RP = UO/P ≥ 8% | O27: X | R27: =IF(Q27="SI","CUMPLE","NO CUMPLE") -> NO CUMPLE | T27: RP = UO/P ≥ 8% | U27: X | X27: =IF(W27="SI","CUMPLE","NO CUMPLE") -> NO CUMPLE | Z27: RP = UO/P ≥ 8% | AA27: X | AD27: =IF(AC27="SI","CUMPLE","NO CUMPLE") -> NO CUMPLE
B28: RA = UO/AT ≥ 5% | C28: X | E28: SI | F28: =IF(E28="SI","CUMPLE","NO CUMPLE") -> CUMPLE | H28: RA = UO/AT ≥ 5% | I28: x | K28: SI | L28: =IF(K28="SI","CUMPLE","NO CUMPLE") -> CUMPLE | N28: RA = UO/AT ≥ 5% | O28: X | R28: =IF(Q28="SI","CUMPLE","NO CUMPLE") -> NO CUMPLE | T28: RA = UO/AT ≥ 5% | U28: X | X28: =IF(W28="SI","CUMPLE","NO CUMPLE") -> NO CUMPLE | Z28: RA = UO/AT ≥ 5% | AA28: X | AD28: =IF(AC28="SI","CUMPLE","NO CUMPLE") -> NO CUMPLE
A29: DOCUMENTACIÓN ACLARATORIA ENTREGADA POR LOS OFERENTES DE LA CAPACIDAD FINANCIERA | C29: NO SE REQUIRIO | G29: DOCUMENTACIÓN ACLARATORIA ENTREGADA POR LOS OFERENTES DE LA CAPACIDAD FINANCIERA | M29: DOCUMENTACIÓN ACLARATORIA ENTREGADA POR LOS OFERENTES DE LA CAPACIDAD FINANCIERA | S29: DOCUMENTACIÓN ACLARATORIA ENTREGADA POR LOS OFERENTES DE LA CAPACIDAD FINANCIERA | Y29: DOCUMENTACIÓN ACLARATORIA ENTREGADA POR LOS OFERENTES DE LA CAPACIDAD FINANCIERA
A30: CONCLUSIÓN EVALUACION CAPACIDAD FINANCIERA | C30: =+IF(AND(F22="CUMPLE",F23="CUMPLE",F24="CUMPLE",F25="CUMPLE",F26="CUMPLE",F27="CUMPLE",F28="CUMPLE"),"CUMPLE","NO CUMPLE") -> CUMPLE | G30: CONCLUSIÓN EVALUACION CAPACIDAD FINANCIERA | I30: =+IF(AND(L22="CUMPLE",L23="CUMPLE",L24="CUMPLE",L25="CUMPLE",L26="CUMPLE",L27="CUMPLE",L28="CUMPLE"),"CUMPLE","NO CUMPLE") -> CUMPLE | M30: CONCLUSIÓN EVALUACION CAPACIDAD FINANCIERA | O30: =+IF(AND(R22="CUMPLE",R23="CUMPLE",R24="CUMPLE",R25="CUMPLE",R26="CUMPLE",R27="CUMPLE",R28="CUMPLE"),"CUMPLE","NO CUMPLE") -> NO CUMPLE | S30: CONCLUSIÓN EVALUACION CAPACIDAD FINANCIERA | U30: =+IF(AND(X22="CUMPLE",X23="CUMPLE",X24="CUMPLE",X25="CUMPLE",X26="CUMPLE",X27="CUMPLE",X28="CUMPLE"),"CUMPLE","NO CUMPLE") -> NO CUMPLE | Y30: CONCLUSIÓN EVALUACION CAPACIDAD FINANCIERA | AA30: =+IF(AND(AD22="CUMPLE",AD23="CUMPLE",AD24="CUMPLE",AD25="CUMPLE",AD26="CUMPLE",AD27="CUMPLE",AD28="CUMPLE"),"CUMPLE","NO CUMPLE") -> NO CUMPLE
B32: EXPERIENCIA ESPECÍFICA | G32: 3.2.3 | H32: EXPERIENCIA ESPECÍFICA | M32: 3.2.3 | N32: EXPERIENCIA ESPECÍFICA | S32: 3.2.3 | T32: EXPERIENCIA ESPECÍFICA | Y32: 3.2.3 | Z32: EXPERIENCIA ESPECÍFICA
A34: 3.2.3.3. | B34: Capacidad de contratación (K) y capacidad residual (Kr) – Formato 06 | G34: 3.2.3.3. | H34: Capacidad de contratación (K) y capacidad residual (Kr) – Formato 06 | M34: 3.2.3.3. | N34: Capacidad de contratación (K) y capacidad residual (Kr) – Formato 06 | S34: 3.2.3.3. | T34: Capacidad de contratación (K) y capacidad residual (Kr) – Formato 06 | Y34: 3.2.3.3. | Z34: Capacidad de contratación (K) y capacidad residual (Kr) – Formato 06
B35: 80% del valor del PEE (Para el caso que el oferente acepte el anticipo) 100% del valor del PEE (Para el caso que el oferente prescinda del anticipo) | C35: X | F35: =IF(C35="X","CUMPLE","NO CUMPLE") -> CUMPLE | H35: 80% del valor del PEE (Para el caso que el oferente acepte el anticipo) 100% del valor del PEE (Para el caso que el oferente prescinda del anticipo) | I35: X | L35: =IF(I35="X","CUMPLE","NO CUMPLE") -> CUMPLE | N35: 80% del valor del PEE (Para el caso que el oferente acepte el anticipo) 100% del valor del PEE (Para el caso que el oferente prescinda del anticipo) | R35: =IF(O35="X","CUMPLE","NO CUMPLE") -> NO CUMPLE | T35: 80% del valor del PEE (Para el caso que el oferente acepte el anticipo) 100% del valor del PEE (Para el caso que el oferente prescinda del anticipo) | X35: =IF(U35="X","CUMPLE","NO CUMPLE") -> NO CUMPLE | Z35: 80% del valor del PEE (Para el caso que el oferente acepte el anticipo) 100% del valor del PEE (Para el caso que el oferente prescinda del anticipo) | AD35: =IF(AA35="X","CUMPLE","NO CUMPLE") -> NO CUMPLE
A36: 5.1.3 | B36: EXPERIENCIA ESPECÍFICA DEL OFERENTE | H36: EXPERIENCIA ESPECÍFICA DEL OFERENTE | N36: EXPERIENCIA ESPECÍFICA DEL OFERENTE | T36: EXPERIENCIA ESPECÍFICA DEL OFERENTE | Z36: EXPERIENCIA ESPECÍFICA DEL OFERENTE
B37: =+'Exp. oferente'!A6 -> INTERVENTORÍA A LA CONSTRUCCIÓN Y/O AMPLIACIÓN DE EDIFICACIONES | F37: =+IF(AND(C38="X",C39="X",C40="X",C41="X",C42="X"),"CUMPLE","NO CUMPLE") -> CUMPLE | H37: =+'Exp. oferente'!A6 -> INTERVENTORÍA A LA CONSTRUCCIÓN Y/O AMPLIACIÓN DE EDIFICACIONES | L37: =+IF(AND(I38="X",I39="X",I40="X",I41="X",I42="X"),"CUMPLE","NO CUMPLE") -> CUMPLE | N37: =+'Exp. oferente'!A6 -> INTERVENTORÍA A LA CONSTRUCCIÓN Y/O AMPLIACIÓN DE EDIFICACIONES | R37: =+IF(AND(O38="X",O39="X",O40="X",O41="X",O42="X"),"CUMPLE","NO CUMPLE") -> NO CUMPLE | T37: =+'Exp. oferente'!A6 -> INTERVENTORÍA A LA CONSTRUCCIÓN Y/O AMPLIACIÓN DE EDIFICACIONES | X37: =+IF(AND(U38="X",U39="X",U40="X",U41="X",U42="X"),"CUMPLE","NO CUMPLE") -> NO CUMPLE | Z37: =+'Exp. oferente'!A6 -> INTERVENTORÍA A LA CONSTRUCCIÓN Y/O AMPLIACIÓN DE EDIFICACIONES | AD37: =+IF(AND(AA38="X",AA39="X",AA40="X",AA41="X",AA42="X"),"CUMPLE","NO CUMPLE") -> NO CUMPLE
B38: =+'Exp. oferente'!F22 -> Realizar la Interventoría técnica, administrativa y financiera de la construcción de la primera etapa de la unidad intermedia de Salud de los barrios del sur en el municipio de Ibagué, Departamento del Tolima | C38: X | E38: =+CONCATENATE('Exp. oferente'!H22,CHAR(10),TEXT('Exp. oferente'!G22,"DD"),"/",TEXT('Exp. oferente'!G22,"MMMM"),"/",TEXT('Exp. oferente'!G22,"YYYY"), CHAR(10),DOLLAR('Exp. oferente'!I22)) -> N.A. 03/diciembre/2010 XDR124,782,087.00 | H38: =+'Exp. oferente'!F46 -> INTERVENTORÍA AL CONTRATO DE OBRA CUYO OBJETO ES LA CONSTRUCCIÓN DEL JARDÍN MANUELISTA - REGISTRO No. 3929 | I38: X | K38: =+CONCATENATE('Exp. oferente'!H46,CHAR(10),TEXT('Exp. oferente'!G46,"DD"),"/",TEXT('Exp. oferente'!G46,"MMMM"),"/",TEXT('Exp. oferente'!G46,"YYYY"), CHAR(10),DOLLAR('Exp. oferente'!I46)) -> N.A. 30/noviembre/2016 XDR620,000,000.00 | N38: =+'Exp. oferente'!F69 -> INTERVENTORIA DE LAS OBRAS DE CONSTRUCCION DE LA INSTITUCION EDUCATIVA FREDONIA | Q38: =+CONCATENATE('Exp. oferente'!H69,CHAR(10),TEXT('Exp. oferente'!G69,"DD"),"/",TEXT('Exp. oferente'!G69,"MMMM"),"/",TEXT('Exp. oferente'!G69,"YYYY"), CHAR(10),DOLLAR('Exp. oferente'!I69)) -> N.A. 12/septiembre/2011 XDR180,673,118.00 | T38: =+'Exp. oferente'!#REF! -> #REF! | W38: =+CONCATENATE('Exp. oferente'!#REF!,CHAR(10),TEXT('Exp. oferente'!#REF!,"DD"),"/",TEXT('Exp. oferente'!#REF!,"MMMM"),"/",TEXT('Exp. oferente'!#REF!,"YYYY"), CHAR(10),DOLLAR('Exp. oferente'!#REF!)) -> #REF! | Z38: =+'Exp. oferente'!#REF! -> #REF! | AC38: =+CONCATENATE('Exp. oferente'!#REF!,CHAR(10),TEXT('Exp. oferente'!#REF!,"DD"),"/",TEXT('Exp. oferente'!#REF!,"MMMM"),"/",TEXT('Exp. oferente'!#REF!,"YYYY"), CHAR(10),DOLLAR('Exp. oferente'!#REF!)) -> #REF!
B39: =+'Exp. oferente'!F23 -> Interventoría técnica, administrativa y financiera para la construcción y dotación de un centro de desarrollo infantil en la inspección de la Libertad municipio de el RETORNO departamento del Guaviare | C39: X | E39: =+CONCATENATE('Exp. oferente'!H23,CHAR(10),TEXT('Exp. oferente'!G23,"DD"),"/",TEXT('Exp. oferente'!G23,"MMMM"),"/",TEXT('Exp. oferente'!G23,"YYYY"), CHAR(10),DOLLAR('Exp. oferente'!I23)) -> N.A. 24/octubre/2014 XDR0.00 | H39: =+'Exp. oferente'!F47 -> INTERVENTORIA TÉCNICA FINANCIERA, ADMINISTRATIVA, JURÍDICA Y CONTABLE DEL PROYECTO AMPLIACIÓN, ADECUACIÓN Y DOTACIÓN DE EQUIPOS Y MUEBLES DEL ALMACÉN DE ARMAMENTO AÉREO Y LA TORRE DE SECADO DE PARACAÍDAS DEL COMANDO AÉREO DE COMBATE No 2 UBICADO EN LA CIUDAD DE VILLAVICENCIO- META. | I39: X | K39: =+CONCATENATE('Exp. oferente'!H47,CHAR(10),TEXT('Exp. oferente'!G47,"DD"),"/",TEXT('Exp. oferente'!G47,"MMMM"),"/",TEXT('Exp. oferente'!G47,"YYYY"), CHAR(10),DOLLAR('Exp. oferente'!I47)) -> N.A. 10/octubre/2016 XDR0.00 | N39: =+'Exp. oferente'!F70 -> INTERVENTORIA TECNICA, ADMINISTRATIVA Y FINANCIERA AL CONTRATO DE EJECUCION DE LAS OBRAS NECESARIAS Y COMPLEMENTARIAS PARA LA TERMINACION DEL EDIFICIO DEL COSTADO NORTE EN EL COLEGIO VENECIA, DE LA LOCALIDAD 6a DE TUNJUELITO | Q39: =+CONCATENATE('Exp. oferente'!H70,CHAR(10),TEXT('Exp. oferente'!G70,"DD"),"/",TEXT('Exp. oferente'!G70,"MMMM"),"/",TEXT('Exp. oferente'!G70,"YYYY"), CHAR(10),DOLLAR('Exp. oferente'!I70)) -> N.A. 17/enero/2015 XDR0.00 | T39: =+'Exp. oferente'!#REF! -> #REF! | W39: =+CONCATENATE('Exp. oferente'!#REF!,CHAR(10),TEXT('Exp. oferente'!#REF!,"DD"),"/",TEXT('Exp. oferente'!#REF!,"MMMM"),"/",TEXT('Exp. oferente'!#REF!,"YYYY"), CHAR(10),DOLLAR('Exp. oferente'!#REF!)) -> #REF! | Z39: =+'Exp. oferente'!#REF! -> #REF! | AC39: =+CONCATENATE('Exp. oferente'!#REF!,CHAR(10),TEXT('Exp. oferente'!#REF!,"DD"),"/",TEXT('Exp. oferente'!#REF!,"MMMM"),"/",TEXT('Exp. oferente'!#REF!,"YYYY"), CHAR(10),DOLLAR('Exp. oferente'!#REF!)) -> #REF!
B40: =+'Exp. oferente'!F24 -> Contratar Interventoría técnica, administrativa, financiera, ambiental y jurídica a las obras que se generen en el cumplimiento del contrato de obra cuyo objeto es "Contratar la construcción de un polideportivo cubierto en el corregimiento Olaya herrera del municipio de Ortega, Tolima, en ejecución del convenio interadministrativo No. 695 de 2014 suscrito con Coldeportes | C40: X | E40: =+CONCATENATE('Exp. oferente'!H24,CHAR(10),TEXT('Exp. oferente'!G24,"DD"),"/",TEXT('Exp. oferente'!G24,"MMMM"),"/",TEXT('Exp. oferente'!G24,"YYYY"), CHAR(10),DOLLAR('Exp. oferente'!I24)) -> N.A. 20/marzo/2016 XDR0.00 | H40: =+'Exp. oferente'!F48 -> 0 | I40: X | K40: =+CONCATENATE('Exp. oferente'!H48,CHAR(10),TEXT('Exp. oferente'!G48,"DD"),"/",TEXT('Exp. oferente'!G48,"MMMM"),"/",TEXT('Exp. oferente'!G48,"YYYY"), CHAR(10),DOLLAR('Exp. oferente'!I48)) -> 00/enero/1900 XDR0.00 | N40: =+'Exp. oferente'!F71 -> 0 | Q40: =+CONCATENATE('Exp. oferente'!H71,CHAR(10),TEXT('Exp. oferente'!G71,"DD"),"/",TEXT('Exp. oferente'!G71,"MMMM"),"/",TEXT('Exp. oferente'!G71,"YYYY"), CHAR(10),DOLLAR('Exp. oferente'!I71)) -> 00/enero/1900 XDR0.00 | T40: =+'Exp. oferente'!#REF! -> #REF! | W40: =+CONCATENATE('Exp. oferente'!#REF!,CHAR(10),TEXT('Exp. oferente'!#REF!,"DD"),"/",TEXT('Exp. oferente'!#REF!,"MMMM"),"/",TEXT('Exp. oferente'!#REF!,"YYYY"), CHAR(10),DOLLAR('Exp. oferente'!#REF!)) -> #REF! | Z40: =+'Exp. oferente'!#REF! -> #REF! | AC40: =+CONCATENATE('Exp. oferente'!#REF!,CHAR(10),TEXT('Exp. oferente'!#REF!,"DD"),"/",TEXT('Exp. oferente'!#REF!,"MMMM"),"/",TEXT('Exp. oferente'!#REF!,"YYYY"), CHAR(10),DOLLAR('Exp. oferente'!#REF!)) -> #REF!
B41: =+'Exp. oferente'!F25 -> Interventoría técnica, administrativa y financiera para la "construcción del centro de integración ciudadana en el sector urbano del municipio de rioblanco | C41: X | E41: =+CONCATENATE('Exp. oferente'!H25,CHAR(10),TEXT('Exp. oferente'!G25,"DD"),"/",TEXT('Exp. oferente'!G25,"MMMM"),"/",TEXT('Exp. oferente'!G25,"YYYY"), CHAR(10),DOLLAR('Exp. oferente'!I25)) -> N.A. 02/octubre/2016 XDR0.00 | H41: =+'Exp. oferente'!F49 -> 0 | I41: X | K41: =+CONCATENATE('Exp. oferente'!H49,CHAR(10),TEXT('Exp. oferente'!G49,"DD"),"/",TEXT('Exp. oferente'!G49,"MMMM"),"/",TEXT('Exp. oferente'!G49,"YYYY"), CHAR(10),DOLLAR('Exp. oferente'!I49)) -> 00/enero/1900 XDR0.00 | N41: =+'Exp. oferente'!F72 -> 0 | Q41: =+CONCATENATE('Exp. oferente'!H72,CHAR(10),TEXT('Exp. oferente'!G72,"DD"),"/",TEXT('Exp. oferente'!G72,"MMMM"),"/",TEXT('Exp. oferente'!G72,"YYYY"), CHAR(10),DOLLAR('Exp. oferente'!I72)) -> 00/enero/1900 XDR0.00 | T41: =+'Exp. oferente'!#REF! -> #REF! | W41: =+CONCATENATE('Exp. oferente'!#REF!,CHAR(10),TEXT('Exp. oferente'!#REF!,"DD"),"/",TEXT('Exp. oferente'!#REF!,"MMMM"),"/",TEXT('Exp. oferente'!#REF!,"YYYY"), CHAR(10),DOLLAR('Exp. oferente'!#REF!)) -> #REF! | Z41: =+'Exp. oferente'!#REF! -> #REF! | AC41: =+CONCATENATE('Exp. oferente'!#REF!,CHAR(10),TEXT('Exp. oferente'!#REF!,"DD"),"/",TEXT('Exp. oferente'!#REF!,"MMMM"),"/",TEXT('Exp. oferente'!#REF!,"YYYY"),CHAR(10),DOLLAR('Exp. oferente'!#REF!)) -> #REF!
B42: =+'Exp. oferente'!F26 -> Realizar la Interventoría técnica, administrativa y financiera de la construcción de la segunda etapa de la unidad intermedia de Salud de los barrios del sur en el municipio de Ibagué, Departamento del Tolima | C42: X | E42: =+CONCATENATE('Exp. oferente'!H26,CHAR(10),TEXT('Exp. oferente'!G26,"DD"),"/",TEXT('Exp. oferente'!G26,"MMMM"),"/",TEXT('Exp. oferente'!G26,"YYYY"), CHAR(10),DOLLAR('Exp. oferente'!I26)) -> N.A. 08/agosto/2012 XDR132,186,100.00 | H42: =+'Exp. oferente'!F50 -> 0 | I42: X | K42: =+CONCATENATE('Exp. oferente'!H50,CHAR(10),TEXT('Exp. oferente'!G50,"DD"),"/",TEXT('Exp. oferente'!G50,"MMMM"),"/",TEXT('Exp. oferente'!G50,"YYYY"), CHAR(10),DOLLAR('Exp. oferente'!I50)) -> 00/enero/1900 XDR0.00 | N42: =+'Exp. oferente'!F73 -> 0 | Q42: =+CONCATENATE('Exp. oferente'!H73,CHAR(10),TEXT('Exp. oferente'!G73,"DD"),"/",TEXT('Exp. oferente'!G73,"MMMM"),"/",TEXT('Exp. oferente'!G73,"YYYY"), CHAR(10),DOLLAR('Exp. oferente'!I73)) -> 00/enero/1900 XDR0.00 | T42: =+'Exp. oferente'!#REF! -> #REF! | W42: =+CONCATENATE('Exp. oferente'!#REF!,CHAR(10),TEXT('Exp. oferente'!#REF!,"DD"),"/",TEXT('Exp. oferente'!#REF!,"MMMM"),"/",TEXT('Exp. oferente'!#REF!,"YYYY"), CHAR(10),DOLLAR('Exp. oferente'!#REF!)) -> #REF! | Z42: =+'Exp. oferente'!#REF! -> #REF! | AC42: =+CONCATENATE('Exp. oferente'!#REF!,CHAR(10),TEXT('Exp. oferente'!#REF!,"DD"),"/",TEXT('Exp. oferente'!#REF!,"MMMM"),"/",TEXT('Exp. oferente'!#REF!,"YYYY"), CHAR(10),DOLLAR('Exp. oferente'!#REF!)) -> #REF!
B43: =+'Exp. oferente'!A7 -> 1) La experiencia debe ser acreditada con la ejecución de MÁXIMO CINCO (05) contratos, cuya sumatoria del valor de sus contratos sea mayor o igual a 2.0 vez el valor del POE, expresado en SMMLV a la fecha de su terminación | F43: =+IF(AND(C44="X"),"CUMPLE","NO CUMPLE") -> CUMPLE | H43: =+'Exp. oferente'!A7 -> 1) La experiencia debe ser acreditada con la ejecución de MÁXIMO CINCO (05) contratos, cuya sumatoria del valor de sus contratos sea mayor o igual a 2.0 vez el valor del POE, expresado en SMMLV a la fecha de su terminación | L43: =+IF(AND(I44="X"),"CUMPLE","NO CUMPLE") -> CUMPLE | N43: =+'Exp. oferente'!A7 -> 1) La experiencia debe ser acreditada con la ejecución de MÁXIMO CINCO (05) contratos, cuya sumatoria del valor de sus contratos sea mayor o igual a 2.0 vez el valor del POE, expresado en SMMLV a la fecha de su terminación | R43: =+IF(AND(O44="X"),"CUMPLE","NO CUMPLE") -> NO CUMPLE | T43: =+'Exp. oferente'!A7 -> 1) La experiencia debe ser acreditada con la ejecución de MÁXIMO CINCO (05) contratos, cuya sumatoria del valor de sus contratos sea mayor o igual a 2.0 vez el valor del POE, expresado en SMMLV a la fecha de su terminación | X43: =+IF(AND(U44="X"),"CUMPLE","NO CUMPLE") -> NO CUMPLE | Z43: =+'Exp. oferente'!A7 -> 1) La experiencia debe ser acreditada con la ejecución de MÁXIMO CINCO (05) contratos, cuya sumatoria del valor de sus contratos sea mayor o igual a 2.0 vez el valor del POE, expresado en SMMLV a la fecha de su terminación | AD43: =+IF(AND(AA44="X"),"CUMPLE","NO CUMPLE") -> NO CUMPLE
C44: X | I44: X
B45: =+'Exp. oferente'!A8 -> 2) Los contratos aportados deben incluir en su alcance u objeto, Interventoría a la construcción de una edificación institucional, con un valor mínimo de 1.0 veces el valor del POE, expresado en SMMLV a la fecha de su terminación. | F45: =+IF(AND(C46="X"),"CUMPLE","NO CUMPLE") -> CUMPLE | H45: =+'Exp. oferente'!A8 -> 2) Los contratos aportados deben incluir en su alcance u objeto, Interventoría a la construcción de una edificación institucional, con un valor mínimo de 1.0 veces el valor del POE, expresado en SMMLV a la fecha de su terminación. | L45: =+IF(AND(I46="X"),"CUMPLE","NO CUMPLE") -> CUMPLE | N45: =+'Exp. oferente'!A8 -> 2) Los contratos aportados deben incluir en su alcance u objeto, Interventoría a la construcción de una edificación institucional, con un valor mínimo de 1.0 veces el valor del POE, expresado en SMMLV a la fecha de su terminación. | R45: =+IF(AND(O46="X"),"CUMPLE","NO CUMPLE") -> NO CUMPLE | T45: =+'Exp. oferente'!A8 -> 2) Los contratos aportados deben incluir en su alcance u objeto, Interventoría a la construcción de una edificación institucional, con un valor mínimo de 1.0 veces el valor del POE, expresado en SMMLV a la fecha de su terminación. | X45: =+IF(AND(U46="X"),"CUMPLE","NO CUMPLE") -> NO CUMPLE | Z45: =+'Exp. oferente'!A8 -> 2) Los contratos aportados deben incluir en su alcance u objeto, Interventoría a la construcción de una edificación institucional, con un valor mínimo de 1.0 veces el valor del POE, expresado en SMMLV a la fecha de su terminación. | AD45: =+IF(AND(AA46="X"),"CUMPLE","NO CUMPLE") -> NO CUMPLE
...

Sheet Exp. oferente ADICIONAL
A1: FONDO FINANCIERO DE PROYECTOS DE DESARROLLO FONADE DEPARTAMENTO PARA LA PROSPERIDAD SOCIAL -DPS CONVENIO INTERADMINISTRATIVO Nº 212080 INTERVENTORÍA TÉCNICA, ADMINISTRATIVA Y DE CONTROL PRESUPUESTAL PARA LA CONSTRUCCIÓN DEL CENTRO INTEGRADO COMUNITARIO CISCO SAN JOSÉ – FASE I, MUNICIPIO DE MANIZALES – CALDAS CONVOCATORIA SIMPLIFICADA CSI 005-2018
A3: EXPERIENCIA ADICIONAL TÉCNICA DEL OFERENTE
A5: El oferente debe acreditar en su oferta, que cuenta con experiencia específica en:
A6: INTERVENTORÍA A LA CONSTRUCCIÓN Y/O AMPLIACIÓN DE EDIFICACIONES INSTITUCIONALES
A7: Un (1) Contrato Adicional ≥ 0.5 veces el POE | G7: 25 puntos
A8: Dos (2) Contratos Adicionales cuya sumatoria sea ≥ 1. una vez el POE. | G8: 50 puntos
J11: SMMLV
F12: ≥ 0.5 veces el POE | G12: 102.44627 | J12: 204.89253
H13: presup.of | I13: 160070650 | J13: SMMLV
H14: SMMLV 2018 | I14: 781242 | J14: 204.89253
B17: Oferente | C17: 1 | D17: CONSULTORIA ESTRUCTURAL Y DE CONSTRUCCION S.A.S. - CEYCO INGENIERIA SAS
D18: (CONSULTORIA ESTRUCTURAL Y DE CONSTRUCCION S.A.S. - CEYCO INGENIERIA SAS 100% - 0% - 0%- 0%- 0%)
A21: No | B21: PROPIETARIO O ENTIDAD CONTRATANTE | C21: APORTADA POR | D21: % en Cto | E21: CONSECUTIVO RUP | F21: OBJETO | G21: Fecha de Terminación | H21: Folio | I21: VALOR | J21: SMMLV | K21: CALIFICACION
A22: 1 | H22: N.A. | J22: 0
A23: 2 | H23: N.A. | J23: 0
A24: 3 | J24: 0
A25: 4 | J25: 0
A26: 5 | J26: 0
A27: 6 | J27: 0
A28: 7 | J28: 0
A29: 8 | J29: 0
A30: 9 | J30: 0
A31: 10 | J31: 0
J32: TOTAL
B41: Oferente | C41: 2 | D41: NELSY LIDIA CRUZ SUAREZ
D42: (NELSY LIDIA CRUZ SUAREZ 100% - 0% - 0%- 0%- 0%)
A45: No | B45: PROPIETARIO O ENTIDAD CONTRATANTE | C45: APORTADA POR | D45: % en Cto | E45: CONSECUTIVO RUP | F45: OBJETO | G45: Fecha de Terminación | H45: Folio | I45: VALOR | J45: SMMLV | K45: CALIFICACION
A46: 1 | H46: N.A. | J46: 0
A47: 2 | H47: N.A. | J47: 0
A48: 3 | J48: 0
A49: 4 | J49: 0
A50: 5 | J50: 0
A51: 6 | J51: 0
A52: 7 | J52: 0
A53: 8 | J53: 0
A54: 9 | J54: 0
J55: TOTAL
B64: Oferente | C64: 3 | D64: CONSTRUCTORA JAIME URIBE S.A.S
D65: (CONSTRUCTORA JAIME URIBE S.A.S 100% - 0% - 0%- 0%- 0%)
A68: No | B68: PROPIETARIO O ENTIDAD CONTRATANTE | C68: APORTADA POR | D68: % en Cto | E68: CONSECUTIVO RUP | F68: OBJETO | G68: Fecha de Terminación | H68: Folio | I68: VALOR | J68: SMMLV | K68: CALIFICACION
...

Sheet Exp. profesionales
A1: FONDO FINANCIERO DE PROYECTOS DE DESARROLLO FONADE DEPARTAMENTO PARA LA PROSPERIDAD SOCIAL -DPS CONVENIO INTERADMINISTRATIVO Nº 212080 INTERVENTORÍA TÉCNICA, ADMINISTRATIVA Y DE CONTROL PRESUPUESTAL PARA LA CONSTRUCCIÓN DEL CENTRO INTEGRADO COMUNITARIO CISCO SAN JOSÉ – FASE I, MUNICIPIO DE MANIZALES – CALDAS CONVOCATORIA SIMPLIFICADA CSI 005-2018
A4: REQUISITOS MINIMOS - PERSONAL PRINCIPAL REQUERIDO - CUMPLE/ NO CUMPLE
A6: CARGO A DESEMPEÑAR | B6: FORMACIÓN ACADÉMICA | C6: TIEMPO MÍNIMO REQUERIDO DE HABER TERMINADO Y APROBADO ESTUDIOS (EN AÑOS) | E6: NUMERO DE PROYECTOS A ACREDITAR | F6: EXPERIENCIA ESPECÍFICA | I6: REQUERIMIENTO PARTICULAR | K6: REQUISITO MINIMO ENSMMLV
A7: Director de Interventoría | B7: Ingeniero Civil y/o Arquitecto | C7: 4 | D7: 41689 | E7: 3 | F7: Director o coordinador de interventoría en proyectos de construcción y/o ampliación de edificaciones | I7: Mínimo uno (1) de los proyectos acreditados deberán estar relacionados con la interventoría a la construcción y/o ampliación de una edificación y cuyo valor sea igual o mayor a 0.5 veces el valor del POE expresado en SMLMV a la fecha de su terminación. | K7: 102.44627
A19: OFERENTE | B19: 1 | C19: CONSULTORIA ESTRUCTURAL Y DE CONSTRUCCION S.A.S. - CEYCO INGENIERIA SAS
C20: (CONSULTORIA ESTRUCTURAL Y DE CONSTRUCCION S.A.S. - CEYCO INGENIERIA SAS 100% - 0% - 0%- 0%- 0%)
A23: CARGO | B23: NOMBRE | C23: TARJETA PROFESIONAL | D23: FECHA EXPEDICIÓN | F23: PROFESION | G23: POSGRADO | H23: OBJETO | I23: FECHA TERMINACIÓN CONTRATO | J23: VALOR | K23: SMMLV | L23: REQUERIMIENTO PARTICULAR QUE ACREDITA | M23: FOLIO | N23: OBSERVACIONES
A24: Director de Interventoría | B24: GUILLERMO ANDRES CAMACHO OBREGON | C24: 25202-105899 | D24: 38064 | E24: CUMPLE EL TIEMPO MÍNIMO REQUERIDO DE HABER TERMINADO Y APROBADO ESTUDIOS | F24: INGENIERO CIVIL | G24: MAGISTER EN INGENIERIA: AREA: CIVIL ESPECIALISTA EN GERENCIA DE PROYECTOS DE CONSTRUCCION E INFRAESTRUCTURA | H24: Realizar la Interventoría técnica, administrativa y financiera de la construcción de la primera etapa de la unidad intermedia de Salud de los barrios del sur en el municipio de Ibagué, Departamento del Tolima | I24: 40515 | J24: 124782087 | K24: 242.29531 | L24: CUMPLE | N24: CUMPLE
H25: Interventoría técnica, administrativa y financiera para la construcción y dotación de un centro de desarrollo infantil en la inspección de la Libertad municipio de el RETORNO departamento del Guaviare | I25: 41936 | J25: 52999008 | K25: 86.037351 | L25: 0
H26: Realizar la Interventoría técnica, administrativa y financiera de la construcción de la segunda etapa de la unidad intermedia de Salud de los barrios del sur en el municipio de Ibagué, Departamento del Tolima | I26: 41129 | J26: 132186100 | K26: 233.25587 | L26: CUMPLE
K27: 0 | L27: 0
K28: 0 | L28: 0
H29: TOTAL | K29: 561.58853
A32: OFERENTE | B32: 2 | C32: NELSY LIDIA CRUZ SUAREZ
C33: (NELSY LIDIA CRUZ SUAREZ 100% - 0% - 0%- 0%- 0%)
A35: CARGO | B35: NOMBRE | C35: TARJETA PROFESIONAL | D35: FECHA EXPEDICIÓN | F35: PROFESION | G35: POSGRADO | H35: OBJETO | I35: FECHA TERMINACIÓN CONTRATO | J35: VALOR | K35: SMMLV | L35: REQUERIMIENTO PARTICULAR QUE ACREDITA | M35: FOLIO | N35: OBSERVACIONES
A36: Director de Interventoría | B36: MAURICIO PERALTA MEJIA | C36: 25202-70063 | D36: 35845 | E36: CUMPLE EL TIEMPO MÍNIMO REQUERIDO DE HABER TERMINADO Y APROBADO ESTUDIOS | F36: INGENIERO CIVIL | H36: INTERVENTORIA DE OBRA A LA CONSTRUCCION DEL EDIFICIO CASANDRA DE LA CIUDAD DE BOGOTA D.C | K36: 0 | L36: 0 | N36: CUAL DE LOS 4 SERAN OBJETO DE EVALUACION
H37: INTERVENTORIA A LA CONSTRUCCION DEL EDIFICIO KOREL - APARTAMENTOS | J37: 389000000 | K37: NO SE EVIDENCIA FECHA DE TERMINACION | L37: 0 | N37: NO CUMPLE NO SE EVIDENCIA FECHA DE TERMINACION DEL PROYECTO SE EVIDENCIAN DOS FECHAS DE INICIO
H38: INTERVENTORIA A LA AMPLIACION ITACA APARTAMENTOS | J38: 269000000 | K38: NO SE EVIDENCIA FECHA DE TERMINACION | L38: 0
H39: INTERVENTORIA A LA CONSTRUCCION DEL EDIFICIO SABANETA | J39: 410000000 | K39: NO SE EVIDENCIA FECHA DE TERMINACION | L39: 0
K40: 0 | L40: 0
H41: TOTAL | K41: 0
A44: OFERENTE | B44: 3 | C44: CONSTRUCTORA JAIME URIBE S.A.S
C45: (CONSTRUCTORA JAIME URIBE S.A.S 100% - 0% - 0%- 0%- 0%)
A47: CARGO | B47: NOMBRE | C47: TARJETA PROFESIONAL | D47: FECHA EXPEDICIÓN | F47: PROFESION | G47: POSGRADO | H47: OBJETO | I47: FECHA TERMINACIÓN CONTRATO | J47: VALOR | K47: SMMLV | L47: REQUERIMIENTO PARTICULAR QUE ACREDITA | M47: FOLIO | N47: OBSERVACIONES
A48: Director de Interventoría | B48: IVÁN GABRIEL LIZARAZO TOBÍAS | C48: 25525-289826 | D48: 37273 | E48: CUMPLE EL TIEMPO MÍNIMO REQUERIDO DE HABER TERMINADO Y APROBADO ESTUDIOS | F48: INGENIERO CIVIL | G48: MAESTRÍA EN INGENIERÍA CIVIL EN EL ÁREA DE PROFUNDIZACIÓN INGENIERÍA Y GERENCIA DE LA CONSTRUCCIÓN | H48: INTERVENTORÍA TÉCNICA JURÍDICA ADMINISTRATIVA FINANCIERA Y CONTABLE PARA LA CONSTRUCCIÓN DE OBRAS DE INFRAESTRUCTURA EN EL BATINF 45 PROSPERO PINZÓN Y BILUD BATALLON LUCIANO DE HUYER | I48: 39646 | J48: 232834567 | K48: 504.51694 | L48: CUMPLE | N48: CUMPLE
H49: INTERVENTORÍA TÉCNICA JURIDA FINANCIERA Y CONTABLE PARA LAS OBRAS DE CONSTRUCCIÓN DE LAS INSTALACIONES DE LA BRIGADA MÓVIL EN QUIBDÓ CHOCO | I49: 39217 | J49: 205670800 | K49: 474.22366 | L49: CUMPLE | N49: ACLARÓ CUMPLE
H50: INTERVENTORÍA PARA LA CONSTRUCCIÓN BLOQUE DE APARTAMENTOS EN EL BARRIO SOTO DEL PARRAL MUNICIPIO DE CALDAS – ANTIOQUIA | I50: 38523 | J50: 52000000 | K50: 136.30406 | L50: CUMPLE | N50: ACLARÓ CUMPLE
K51: 0 | L51: 0
K52: 0 | L52: 0
H53: TOTAL | K53: 1115.0447
A56: OFERENTE | B56: 4 | C56: CONSORCIO INTER SAN JOSE
C57: (YOHAN FAHIR BERMUDEZ PARRA 65% - FEDERICO GARCIA ARBELAEZ 35% - 0%- 0%- 0%)
A59: CARGO | B59: NOMBRE | C59: TARJETA PROFESIONAL | D59: FECHA EXPEDICIÓN | F59: PROFESION | G59: POSGRADO | H59: OBJETO | I59: FECHA TERMINACIÓN CONTRATO | J59: VALOR | K59: SMMLV | L59: REQUERIMIENTO PARTICULAR QUE ACREDITA | M59: FOLIO | N59: OBSERVACIONES
