Workbook

Sheet PRESUPUESTO 
B1: PRESUPUESTO
B3: ALMUERZO CCT
B4: GRUPO | C4: VALOR PROMEDIO | D4: CANTIDAD | E4: TOTAL
B5: GRUPO A | C5: ='ALMUERZO (A)'!N294 -> 7699 | D5: 1787 | E5: =+D5*C5 -> 13758113
B6: GRUPO B | C6: ='ALMUERZO (B)'!N294 -> 8715 | D6: 2178 | E6: =+D6*C6 -> 18981270
B7: GRUPO C | C7: ='ALMUERZO (C)'!N294 -> 9430 | D7: 1706 | E7: =+D7*C7 -> 16087580
B8: GRUPO D | C8: ='ALMUERZO (D)'!N294 -> 10081 | D8: 1474 | E8: =+D8*C8 -> 14859394
B9: GRUPO E | C9: ='ALMUERZO (E)'!N294 -> 10827 | D9: 3061 | E9: =+D9*C9 -> 33141447
C10: SUBTOTAL | D10: =SUM(D5:D9) -> 10206 | E10: =SUM(E5:E9) -> 96827804
B11: ALMUERZO PS
B12: GRUPO | C12: VALOR PROMEDIO | D12: CANTIDAD | E12: TOTAL
B13: GRUPO A | C13: ='ALMUERZO (A)'!O294 -> 8272 | D13: 1486 | E13: =C13*D13 -> 12292192
B14: GRUPO B | C14: ='ALMUERZO (B)'!O294 -> 9526 | D14: 3869 | E14: =C14*D14 -> 36856094
B15: GRUPO C | C15: ='ALMUERZO (C)'!O294 -> 9477 | D15: 2700 | E15: =C15*D15 -> 25587900
B16: GRUPO D | C16: ='ALMUERZO (D)'!O294 -> 10925 | D16: 9392 | E16: =C16*D16 -> 102607600
B17: GRUPO E | C17: ='ALMUERZO (E)'!O294 -> 11688 | D17: 6229 | E17: =C17*D17 -> 72804552
C18: SUBTOTAL | D18: =SUM(D13:D17) -> 23676 | E18: =SUM(E13:E17) -> 250148338
B19: COMPLEMENTOS CCT
B20: GRUPO | C20: VALOR PROMEDIO | D20: CANTIDAD | E20: TOTAL
B21: GRUPO A | C21: ='COMPLEMENTO (A)'!O249 -> 6385 | D21: 3202 | E21: =D21*C21 -> 20444770
B22: GRUPO B | C22: ='COMPLEMENTO (B)'!O249 -> 6802 | D22: 0 | E22: =D22*C22 -> 0
B23: GRUPO C | C23: ='COMPLEMENTO (C)'!O249 -> 7346 | D23: 0 | E23: =D23*C23 -> 0
B24: GRUPO D | C24: ='COMPLEMENTO (D)'!O249 -> 7721 | D24: 0 | E24: =D24*C24 -> 0
B25: GRUPO E | C25: ='COMPLEMENTO (E)'!O249 -> 8118 | D25: 0 | E25: =D25*C25 -> 0
C26: SUBTOTAL | D26: =SUM(D21:D25) -> 3202 | E26: =SUM(E21:E25) -> 20444770
B27: COMPLEMENTOS PS
B28: GRUPO | C28: VALOR PROMEDIO | D28: CANTIDAD | E28: TOTAL
B29: GRUPO A | C29: ='COMPLEMENTO (A)'!P249 -> 6945 | D29: 323 | E29: =D29*C29 -> 2243235
B30: GRUPO B | C30: ='COMPLEMENTO (B)'!P249 -> 7165 | D30: 0 | E30: =D30*C30 -> 0
B31: GRUPO C | C31: ='COMPLEMENTO (C)'!P249 -> 7723 | D31: 0 | E31: =D31*C31 -> 0
B32: GRUPO D | C32: ='COMPLEMENTO (D)'!P249 -> 8082 | D32: 0 | E32: =D32*C32 -> 0
B33: GRUPO E | C33: ='COMPLEMENTO (E)'!P249 -> 8223 | D33: 0 | E33: =D33*C33 -> 0
C34: SUBTOTAL | D34: =SUM(D29:D33) -> 323 | E34: =SUM(E29:E33) -> 2243235
B35: RACION INDUSTRIAL
B36: GRUPO | C36: VALOR PROMEDIO | D36: CANTIDAD | E36: TOTAL
B37: GRUPO A | C37: ='RACION INDUS (A)'!J206 -> 6131 | D37: 633 | E37: =C37*D37 -> 3880923
B38: GRUPO B | C38: ='RACION INDUS (B)'!J206 -> 7035 | D38: 2484 | E38: =C38*D38 -> 17474940
B39: GRUPO C | C39: ='RACION INDUS (C)'!J206 -> 7423 | D39: 1013 | E39: =C39*D39 -> 7519499
B40: GRUPO D | C40: ='RACION INDUS (D)'!J206 -> 7886 | D40: 3322 | E40: =C40*D40 -> 26197292
B41: GRUPO E | C41: ='RACION INDUS (E)'!J206 -> 8957 | D41: 1678 | E41: =C41*D41 -> 15029846
...

Sheet ALMUERZO (A)
D1: GRUPO A
D2: SERVICIOS DE ALIMENTACIÓN QP | F2: FUNDACIÓN EDUCANDO A LA NIÑEZ | H2: FUNDACIÓN GARDEN | J2: FUNDACIÓN PARA EL PROGRESO TERRITORIAL | L2: SERVICIOS DE ALIMENTACION NP | N2: PROMEDIO
A3: ALMUERZO | D3: PRECIO PREPARADO EN SITIO | E3: PRECIO PREPARADO EN CCT | F3: PRECIO PREPARADO EN SITIO | G3: PRECIO PREPARADO EN CCT | H3: PRECIO PREPARADO EN SITIO | I3: PRECIO PREPARADO EN CCT | J3: PRECIO PREPARADO EN SITIO | K3: PRECIO PREPARADO EN CCT | L3: PRECIO PREPARADO EN SITIO | M3: PRECIO PREPARADO EN CCT | N3: PRECIO PREPARADO EN SITIO | O3: PRECIO PREPARADO EN CCT
A4: N° MENÚ | B4: GRUPO DE ALIMETOS | C4: PREPARACIÓN | D4: valor unitario. | E4: valor unitario. | F4: valor unitario. | G4: valor unitario. | H4: valor unitario. | I4: valor unitario. | J4: valor unitario. | K4: valor unitario. | L4: valor unitario. | M4: valor unitario. | N4: valor unitario. | O4: valor unitario.
A5: 1 | B5: ALIMENTO PROTEÍCO | C5: PECHUGA APANADA | D5: 1161.31 | E5: 1161.31 | F5: 1500 | G5: 1500 | H5: 2795.6201 | I5: 2795.6201 | J5: 3075.1821 | K5: 3075.1821 | L5: 1132.99 | M5: 1132.99 | N5: =ROUND(AVERAGE(D5,F5,J5,H5,L5),0) -> 1933 | O5: =ROUND(AVERAGE(E5,G5,K5,I5,M5),0) -> 1933
B6: AZÚCARES | C6: AZÚCARES | D6: 252.15 | E6: 252.15 | F6: 250 | G6: 250 | H6: 453.3438 | I6: 453.3438 | J6: 498.67818 | K6: 498.67818 | L6: 246 | M6: 246 | N6: =ROUND(AVERAGE(D6,F6,J6,H6,L6),0) -> 340 | O6: =ROUND(AVERAGE(E6,G6,K6,I6,M6),0) -> 340
B7: BEBIDA | C7: JUGO DE PIÑA | D7: 731.18 | E7: 731.18 | F7: 750 | G7: 750 | H7: 982.2449 | I7: 982.2449 | J7: 1080.4694 | K7: 1080.4694 | L7: 713.35 | M7: 713.35 | N7: =ROUND(AVERAGE(D7,F7,J7,H7,L7),0) -> 851 | O7: =ROUND(AVERAGE(E7,G7,K7,I7,M7),0) -> 851
B8: CEREAL | C8: ARROZ CON VERDURAS | D8: 367.5 | E8: 367.5 | F8: 370 | G8: 358.54 | H8: 483.56672 | I8: 483.56672 | J8: 531.92339 | K8: 531.92339 | L8: 358.54 | M8: 358.54 | N8: =ROUND(AVERAGE(D8,F8,J8,H8,L8),0) -> 422 | O8: =ROUND(AVERAGE(E8,G8,K8,I8,M8),0) -> 420
B9: GRASAS | C9: GRASAS | D9: 246.82 | E9: 246.82 | F9: 250 | G9: 250 | H9: 496.41146 | I9: 496.41146 | J9: 546.05261 | K9: 546.05261 | L9: 240.8 | M9: 240.8 | N9: =ROUND(AVERAGE(D9,F9,J9,H9,L9),0) -> 356 | O9: =ROUND(AVERAGE(E9,G9,K9,I9,M9),0) -> 356
B10: AGUA 180 cm3 - 200 cm3 | C10: VASO DE AGUA | D10: 216.48 | E10: 216.48 | F10: 220 | G10: 220 | H10: 453.3438 | I10: 453.3438 | J10: 498.67818 | K10: 498.67818 | L10: 211.2 | M10: 211.2 | N10: =ROUND(AVERAGE(D10,F10,J10,H10,L10),0) -> 320 | O10: =ROUND(AVERAGE(E10,G10,K10,I10,M10),0) -> 320
B11: MISCELANEOS | C11: MISCELANEOS | D11: 209.1 | E11: 209.1 | F11: 220 | G11: 220 | H11: 340.00785 | I11: 340.00785 | J11: 374.00863 | K11: 374.00863 | L11: 204 | M11: 204 | N11: =ROUND(AVERAGE(D11,F11,J11,H11,L11),0) -> 269 | O11: =ROUND(AVERAGE(E11,G11,K11,I11,M11),0) -> 269
B12: TUBÉRCULOS - RAÍCES - PLÁTANOS - DERIVADOS DE CEREAL | C12: TAJADAS DE GUINEO VERDE | D12: 215.34 | E12: 215.34 | F12: 220 | G12: 220 | H12: 506.23391 | I12: 506.23391 | J12: 556.8573 | K12: 556.8573 | L12: 210.09 | M12: 210.09 | N12: =ROUND(AVERAGE(D12,F12,J12,H12,L12),0) -> 342 | O12: =ROUND(AVERAGE(E12,G12,K12,I12,M12),0) -> 342
B13: VERDURA FRÍA O CALIENTE | C13: VERDURA FRÍA O CALIENTE | D13: 781.97 | E13: 781.97 | F13: 800 | G13: 800 | H13: 377.7865 | I13: 377.7865 | J13: 415.56515 | K13: 415.56515 | L13: 762.9 | M13: 762.9 | N13: =ROUND(AVERAGE(D13,F13,J13,H13,L13),0) -> 628 | O13: =ROUND(AVERAGE(E13,G13,K13,I13,M13),0) -> 628
B14: TRANSPORTE | C14: TRANSPORTE | D14: 803.62 | E14: 1055.75 | F14: 800 | G14: 1100 | H14: 680.0157 | I14: 680.0157 | J14: 748.01727 | K14: 748.01727 | L14: 784.02 | M14: 1030 | N14: =ROUND(AVERAGE(D14,F14,J14,H14,L14),0) -> 763 | O14: =ROUND(AVERAGE(E14,G14,K14,I14,M14),0) -> 923
B15: PERSONAL REQUERIDO | C15: PERSONAL REQUERIDO | D15: 1151.08 | E15: 1327.38 | F15: 1200 | G15: 1300 | H15: 1020.0236 | I15: 1020.0236 | J15: 1122.0259 | K15: 1122.0259 | L15: 1123 | M15: 1295 | N15: =ROUND(AVERAGE(D15,F15,J15,H15,L15),0) -> 1123 | O15: =ROUND(AVERAGE(E15,G15,K15,I15,M15),0) -> 1213
B16: SERVICIOS PUBLICOS | C16: SERVICIOS PUBLICOS | D16: 459 | E16: 642.59 | F16: 460 | G16: 650 | H16: 831.1303 | I16: 831.1303 | J16: 914.24333 | K16: 914.24333 | L16: 447.8 | M16: 626.92 | N16: =ROUND(AVERAGE(D16,F16,J16,H16,L16),0) -> 622 | O16: =ROUND(AVERAGE(E16,G16,K16,I16,M16),0) -> 733
B17: IMPLEMENTOS Y DOTACIÓN | C17: IMPLEMENTOS Y DOTACIÓN | D17: 613.67 | E17: 1017.52 | F17: 600 | G17: 1000 | H17: 604.4584 | I17: 604.4584 | J17: 664.90424 | K17: 664.90424 | L17: 598.7 | M17: 992.7 | N17: =ROUND(AVERAGE(D17,F17,J17,H17,L17),0) -> 616 | O17: =ROUND(AVERAGE(E17,G17,K17,I17,M17),0) -> 856
D18: =SUM(D5:D17) -> 7209.22 | E18: =SUM(E5:E17) -> 8225.09 | F18: =SUM(F5:F17) -> 7640 | G18: =SUM(G5:G17) -> 8618.54 | H18: =SUM(H5:H17) -> 10024.187 | I18: =SUM(I5:I17) -> 10024.187 | J18: =SUM(J5:J17) -> 11026.606 | K18: =SUM(K5:K17) -> 11026.606 | ... O18: =SUM(O5:O17) -> 9184
A19: 2 | B19: ALIMENTO PROTEÍCO | C19: CERDO EN BISTECK | D19: 992.53 | E19: 992.53 | F19: 1000 | G19: 1000 | H19: 3353.9885 | I19: 3353.9885 | J19: 3689.3874 | K19: 3689.3874 | L19: 968.32 | M19: 968.32 | N19: =ROUND(AVERAGE(D19,F19,J19,H19,L19),0) -> 2001 | O19: =ROUND(AVERAGE(E19,G19,K19,I19,M19),0) -> 2001
B20: AZÚCARES | C20: AZÚCARES | D20: 252.15 | E20: 252.15 | F20: 250 | G20: 250 | H20: 453.3438 | I20: 453.3438 | J20: 498.67818 | K20: 498.67818 | L20: 246 | M20: 246 | N20: =ROUND(AVERAGE(D20,F20,J20,H20,L20),0) -> 340 | O20: =ROUND(AVERAGE(E20,G20,K20,I20,M20),0) -> 340
B21: BEBIDA | C21: JUGO DE BANANO(CON LECHE) | D21: 689.38 | E21: 689.38 | F21: 700 | G21: 700 | H21: 944.46625 | I21: 944.46625 | J21: 1038.9129 | K21: 1038.9129 | L21: 672.57 | M21: 672.57 | N21: =ROUND(AVERAGE(D21,F21,J21,H21,L21),0) -> 809 | O21: =ROUND(AVERAGE(E21,G21,K21,I21,M21),0) -> 809
B22: CEREAL | C22: ARROZ DE FIDEO | D22: 167.62 | E22: 167.62 | F22: 200 | G22: 200 | H22: 408.00942 | I22: 408.00942 | J22: 448.81036 | K22: 448.81036 | L22: 163.53 | M22: 163.53 | N22: =ROUND(AVERAGE(D22,F22,J22,H22,L22),0) -> 278 | O22: =ROUND(AVERAGE(E22,G22,K22,I22,M22),0) -> 278
B23: GRASAS | C23: GRASAS | D23: 246.82 | E23: 246.82 | F23: 250 | G23: 250 | H23: 496.41146 | I23: 496.41146 | J23: 546.05261 | K23: 546.05261 | L23: 240.8 | M23: 240.8 | N23: =ROUND(AVERAGE(D23,F23,J23,H23,L23),0) -> 356 | O23: =ROUND(AVERAGE(E23,G23,K23,I23,M23),0) -> 356
B24: AGUA 180 cm3 - 200 cm3 | C24: VASO DE AGUA | D24: 216.48 | E24: 216.48 | F24: 220 | G24: 220 | H24: 453.3438 | I24: 453.3438 | J24: 498.67818 | K24: 498.67818 | L24: 211.2 | M24: 211.2 | N24: =ROUND(AVERAGE(D24,F24,J24,H24,L24),0) -> 320 | O24: =ROUND(AVERAGE(E24,G24,K24,I24,M24),0) -> 320
B25: MISCELANEOS | C25: MISCELANEOS | D25: 209.1 | E25: 209.1 | F25: 220 | G25: 220 | H25: 340.00785 | I25: 340.00785 | J25: 374.00863 | K25: 374.00863 | L25: 204 | M25: 204 | N25: =ROUND(AVERAGE(D25,F25,J25,H25,L25),0) -> 269 | O25: =ROUND(AVERAGE(E25,G25,K25,I25,M25),0) -> 269
B26: TUBÉRCULOS - RAÍCES - PLÁTANOS - DERIVADOS DE CEREAL | C26: PAPAS A LA FRANCESA | D26: 154.03 | E26: 154.03 | F26: 200 | G26: 200 | H26: 594.63595 | I26: 594.63595 | J26: 654.09955 | K26: 654.09955 | L26: 150.27 | M26: 150.27 | N26: =ROUND(AVERAGE(D26,F26,J26,H26,L26),0) -> 351 | O26: =ROUND(AVERAGE(E26,G26,K26,I26,M26),0) -> 351
B27: ENSALADA DE PAYASO | C27: ENSALADA DE PAYASO | D27: 387.15 | E27: 387.15 | F27: 400 | G27: 400 | H27: 491.12245 | I27: 491.12245 | J27: 540.2347 | K27: 540.2347 | L27: 377.71 | M27: 377.71 | N27: =ROUND(AVERAGE(D27,F27,J27,H27,L27),0) -> 439 | O27: =ROUND(AVERAGE(E27,G27,K27,I27,M27),0) -> 439
B28: TRANSPORTE | C28: TRANSPORTE | D28: 803.62 | E28: 1055.75 | F28: 800 | G28: 1100 | H28: 680.0157 | I28: 680.0157 | J28: 748.01727 | K28: 748.01727 | L28: 784.02 | M28: 1030 | N28: =ROUND(AVERAGE(D28,F28,J28,H28,L28),0) -> 763 | O28: =ROUND(AVERAGE(E28,G28,K28,I28,M28),0) -> 923
B29: PERSONAL REQUERIDO | C29: PERSONAL REQUERIDO | D29: 1151.08 | E29: 1327.38 | F29: 1200 | G29: 1300 | H29: 1020.0236 | I29: 1020.0236 | J29: 1122.0259 | K29: 1122.0259 | L29: 1123 | M29: 1295 | N29: =ROUND(AVERAGE(D29,F29,J29,H29,L29),0) -> 1123 | O29: =ROUND(AVERAGE(E29,G29,K29,I29,M29),0) -> 1213
B30: SERVICIOS PUBLICOS | C30: SERVICIOS PUBLICOS | D30: 459 | E30: 642.59 | F30: 460 | G30: 650 | H30: 831.1303 | I30: 831.1303 | J30: 914.24333 | K30: 914.24333 | L30: 447.8 | M30: 626.92 | N30: =ROUND(AVERAGE(D30,F30,J30,H30,L30),0) -> 622 | O30: =ROUND(AVERAGE(E30,G30,K30,I30,M30),0) -> 733
B31: IMPLEMENTOS Y DOTACIÓN | C31: IMPLEMENTOS Y DOTACIÓN | D31: 613.67 | E31: 1017.52 | F31: 600 | G31: 1000 | H31: 604.4584 | I31: 604.4584 | J31: 664.90424 | K31: 664.90424 | L31: 598.7 | M31: 992.7 | N31: =ROUND(AVERAGE(D31,F31,J31,H31,L31),0) -> 616 | O31: =ROUND(AVERAGE(E31,G31,K31,I31,M31),0) -> 856
D32: =SUM(D19:D31) -> 6342.63 | E32: =SUM(E19:E31) -> 7358.5 | F32: =SUM(F19:F31) -> 6500 | G32: =SUM(G19:G31) -> 7490 | H32: =SUM(H19:H31) -> 10670.957 | I32: =SUM(I19:I31) -> 10670.957 | J32: =SUM(J19:J31) -> 11738.053 | K32: =SUM(K19:K31) -> 11738.053 | ... O32: =SUM(O19:O31) -> 8888
A33: 3 | B33: ALIMENTO PROTEÍCO | C33: POLLO EN CUADRITOS | D33: 1057.66 | E33: 1057.66 | F33: 1200 | G33: 1200 | H33: 2417.8336 | I33: 2417.8336 | J33: 2659.617 | K33: 2659.617 | L33: 1031.87 | M33: 1031.87 | N33: =ROUND(AVERAGE(D33,F33,J33,H33,L33),0) -> 1673 | O33: =ROUND(AVERAGE(E33,G33,K33,I33,M33),0) -> 1673
B34: AZÚCARES | C34: AZÚCARES | D34: 252.15 | E34: 252.15 | F34: 250 | G34: 250 | H34: 453.3438 | I34: 453.3438 | J34: 498.67818 | K34: 498.67818 | L34: 246 | M34: 246 | N34: =ROUND(AVERAGE(D34,F34,J34,H34,L34),0) -> 340 | O34: =ROUND(AVERAGE(E34,G34,K34,I34,M34),0) -> 340
B35: BEBIDA | C35: JUGO DE GUAYABA(CON LECHE) | D35: 646.93 | E35: 646.93 | F35: 650 | G35: 650 | H35: 1284.4741 | I35: 1284.4741 | J35: 1412.9215 | K35: 1412.9215 | L35: 631.15 | M35: 631.15 | N35: =ROUND(AVERAGE(D35,F35,J35,H35,L35),0) -> 925 | O35: =ROUND(AVERAGE(E35,G35,K35,I35,M35),0) -> 925
B36: CEREAL | C36: PASTA GUISADA | D36: 395.78 | E36: 395.78 | F36: 400 | G36: 400 | H36: 453.3438 | I36: 453.3438 | J36: 498.67818 | K36: 498.67818 | L36: 386.12 | M36: 386.12 | N36: =ROUND(AVERAGE(D36,F36,J36,H36,L36),0) -> 427 | O36: =ROUND(AVERAGE(E36,G36,K36,I36,M36),0) -> 427
B37: GRASAS | C37: GRASAS | D37: 246.82 | E37: 246.82 | F37: 250 | G37: 250 | H37: 496.41146 | I37: 496.41146 | J37: 546.05261 | K37: 546.05261 | L37: 240.8 | M37: 240.8 | N37: =ROUND(AVERAGE(D37,F37,J37,H37,L37),0) -> 356 | O37: =ROUND(AVERAGE(E37,G37,K37,I37,M37),0) -> 356
B38: AGUA 180 cm3 - 200 cm3 | C38: VASO DE AGUA | D38: 216.48 | E38: 216.48 | F38: 220 | G38: 220 | H38: 453.3438 | I38: 453.3438 | J38: 498.67818 | K38: 498.67818 | L38: 211.2 | M38: 211.2 | N38: =ROUND(AVERAGE(D38,F38,J38,H38,L38),0) -> 320 | O38: =ROUND(AVERAGE(E38,G38,K38,I38,M38),0) -> 320
B39: MISCELANEOS | C39: MISCELANEOS | D39: 209.1 | E39: 209.1 | F39: 220 | G39: 220 | H39: 340.00785 | I39: 340.00785 | J39: 374.00863 | K39: 374.00863 | L39: 204 | M39: 204 | N39: =ROUND(AVERAGE(D39,F39,J39,H39,L39),0) -> 269 | O39: =ROUND(AVERAGE(E39,G39,K39,I39,M39),0) -> 269
B40: TUBÉRCULOS - RAÍCES - PLÁTANOS - DERIVADOS DE CEREAL | C40: PAN | D40: 371.95 | E40: 371.95 | F40: 400 | G40: 400 | H40: 453.3438 | I40: 453.3438 | J40: 498.67818 | K40: 498.67818 | L40: 362.88 | M40: 362.88 | N40: =ROUND(AVERAGE(D40,F40,J40,H40,L40),0) -> 417 | O40: =ROUND(AVERAGE(E40,G40,K40,I40,M40),0) -> 417
...

Sheet ALMUERZO (B)
D1: GRUPO B
D2: SERVICIOS DE ALIMENTACIÓN QP | F2: FUNDACIÓN EDUCANDO A LA NIÑEZ | H2: FUNDACIÓN GARDEN | J2: FUNDACIÓN PARA EL PROGRESO TERRITORIAL | L2: SERVICIOS DE ALIMENTACION NP | N2: PROMEDIO
A3: ALMUERZO | D3: PRECIO PREPARADO EN SITIO | E3: PRECIO PREPARADO EN CCT | F3: PRECIO PREPARADO EN SITIO | G3: PRECIO PREPARADO EN CCT | H3: PRECIO PREPARADO EN SITIO | I3: PRECIO PREPARADO EN CCT | J3: PRECIO PREPARADO EN SITIO | K3: PRECIO PREPARADO EN CCT | L3: PRECIO PREPARADO EN SITIO | M3: PRECIO PREPARADO EN CCT | N3: PRECIO PREPARADO EN SITIO | O3: PRECIO PREPARADO EN CCT
A4: N° MENÚ | B4: GRUPO DE ALIMETOS | C4: PREPARACIÓN | D4: valor unitario. | E4: valor unitario. | F4: valor unitario. | G4: valor unitario. | H4: valor unitario. | I4: valor unitario. | J4: valor unitario. | K4: valor unitario. | L4: valor unitario. | M4: valor unitario. | N4: valor unitario. | O4: valor unitario.
A5: 1 | B5: ALIMENTO PROTEÍCO | C5: PECHUGA APANADA | D5: 1394.24 | E5: 1394.24 | F5: 1500 | G5: 1500 | H5: 3072.11 | I5: 3072.11 | J5: 3379.321 | K5: 3379.321 | L5: 1360.23 | M5: 1360.23 | N5: =ROUND(AVERAGE(D5,F5,H5,J5,L5),0) -> 2141 | O5: =ROUND(AVERAGE(E5,G5,I5,K5,M5),0) -> 2141
B6: AZÚCARES | C6: AZÚCARES | D6: 289.05 | E6: 289.05 | F6: 300 | G6: 300 | H6: 498.18 | I6: 498.18 | J6: 547.998 | K6: 547.998 | L6: 282 | M6: 282 | N6: =ROUND(AVERAGE(D6,F6,H6,J6,L6),0) -> 383 | O6: =ROUND(AVERAGE(E6,G6,I6,K6,M6),0) -> 383
B7: BEBIDA | C7: JUGO DE PIÑA | D7: 731.18 | E7: 731.18 | F7: 750 | G7: 750 | H7: 1079.39 | I7: 1079.39 | J7: 1187.329 | K7: 1187.329 | L7: 713.35 | M7: 713.35 | N7: =ROUND(AVERAGE(D7,F7,H7,J7,L7),0) -> 892 | O7: =ROUND(AVERAGE(E7,G7,I7,K7,M7),0) -> 892
B8: CEREAL | C8: ARROZ CON VERDURAS | D8: 467.41 | E8: 467.41 | F8: 450 | G8: 450 | H8: 531.392 | I8: 531.392 | J8: 584.5312 | K8: 584.5312 | L8: 456.01 | M8: 456.01 | N8: =ROUND(AVERAGE(D8,F8,H8,J8,L8),0) -> 498 | O8: =ROUND(AVERAGE(E8,G8,I8,K8,M8),0) -> 498
B9: GRASAS | C9: GRASAS | D9: 283.84 | E9: 283.84 | F9: 290 | G9: 290 | H9: 545.5071 | I9: 545.5071 | J9: 600.05781 | K9: 600.05781 | L9: 276.92 | M9: 276.92 | N9: =ROUND(AVERAGE(D9,F9,H9,J9,L9),0) -> 399 | O9: =ROUND(AVERAGE(E9,G9,I9,K9,M9),0) -> 399
B10: AGUA 180 cm3 - 200 cm3 | C10: VASO DE AGUA | D10: 216.48 | E10: 216.48 | F10: 220 | G10: 220 | H10: 498.18 | I10: 498.18 | J10: 547.998 | K10: 547.998 | L10: 211.2 | M10: 211.2 | N10: =ROUND(AVERAGE(D10,F10,H10,J10,L10),0) -> 339 | O10: =ROUND(AVERAGE(E10,G10,I10,K10,M10),0) -> 339
B11: MISCELANEOS | C11: MISCELANEOS | D11: 209.1 | E11: 209.1 | F11: 220 | G11: 220 | H11: 373.635 | I11: 373.635 | J11: 410.9985 | K11: 410.9985 | L11: 204 | M11: 204 | N11: =ROUND(AVERAGE(D11,F11,H11,J11,L11),0) -> 284 | O11: =ROUND(AVERAGE(E11,G11,I11,K11,M11),0) -> 284
B12: TUBÉRCULOS - RAÍCES - PLÁTANOS - DERIVADOS DE CEREAL | C12: TAJADAS DE GUINEO VERDE | D12: 277.49 | E12: 277.49 | F12: 300 | G12: 300 | H12: 556.301 | I12: 556.301 | J12: 611.9311 | K12: 611.9311 | L12: 270.72 | M12: 270.72 | N12: =ROUND(AVERAGE(D12,F12,H12,J12,L12),0) -> 403 | O12: =ROUND(AVERAGE(E12,G12,I12,K12,M12),0) -> 403
B13: VERDURA FRÍA O CALIENTE | C13: VERDURA FRÍA O CALIENTE | D13: 785.21 | F13: 80 | H13: 415.15 | I13: 415.15 | J13: 456.665 | K13: 456.665 | L13: 766.06 | N13: =ROUND(AVERAGE(D13,F13,H13,J13,L13),0) -> 501 | O13: =ROUND(AVERAGE(E13,G13,I13,K13,M13),0) -> 436
B14: TRANSPORTE | C14: TRANSPORTE | D14: 803.62 | E14: 1055.75 | F14: 800 | G14: 1100 | H14: 747.27 | I14: 1079.39 | J14: 821.997 | K14: 1187.329 | L14: 784.02 | M14: 1030 | N14: =ROUND(AVERAGE(D14,F14,H14,J14,L14),0) -> 791 | O14: =ROUND(AVERAGE(E14,G14,I14,K14,M14),0) -> 1090
B15: PERSONAL REQUERIDO | C15: PERSONAL REQUERIDO | D15: 1151.08 | E15: 1327.38 | F15: 1200 | G15: 1300 | H15: 1120.905 | I15: 1120.905 | J15: 1232.9955 | K15: 1232.9955 | L15: 1123 | M15: 1295 | N15: =ROUND(AVERAGE(D15,F15,H15,J15,L15),0) -> 1166 | O15: =ROUND(AVERAGE(E15,G15,I15,K15,M15),0) -> 1255
B16: SERVICIOS PUBLICOS | C16: SERVICIOS PUBLICOS | D16: 459 | E16: 642.59 | F16: 460 | G16: 650 | H16: 913.33 | I16: 913.33 | J16: 1004.663 | K16: 1004.663 | L16: 447.8 | M16: 626.92 | N16: =ROUND(AVERAGE(D16,F16,H16,J16,L16),0) -> 657 | O16: =ROUND(AVERAGE(E16,G16,I16,K16,M16),0) -> 768
B17: IMPLEMENTOS Y DOTACIÓN | C17: IMPLEMENTOS Y DOTACIÓN | D17: 613.67 | E17: 1017.52 | F17: 600 | G17: 1000 | H17: 664.24 | I17: 896.724 | J17: 730.664 | K17: 986.3964 | L17: 598.7 | M17: 992.7 | N17: =ROUND(AVERAGE(D17,F17,H17,J17,L17),0) -> 641 | O17: =ROUND(AVERAGE(E17,G17,I17,K17,M17),0) -> 979
D18: =SUM(D5:D17) -> 7681.37 | E18: =SUM(E5:E17) -> 7912.03 | F18: =SUM(F5:F17) -> 7170 | G18: =SUM(G5:G17) -> 8080 | H18: =SUM(H5:H17) -> 11015.59 | I18: =SUM(I5:I17) -> 11580.194 | J18: =SUM(J5:J17) -> 12117.149 | K18: =SUM(K5:K17) -> 12738.214 | ... O18: =SUM(O5:O17) -> 9867
A19: 2 | B19: ALIMENTO PROTEÍCO | C19: CERDO EN BISTECK | D19: 1137.78 | E19: 1137.78 | F19: 1200 | G19: 1200 | H19: 3685.7017 | I19: 3685.7017 | J19: 4054.2719 | K19: 4054.2719 | L19: 1110.03 | M19: 1110.03 | N19: =ROUND(AVERAGE(D19,F19,H19,J19,L19),0) -> 2238 | O19: =ROUND(AVERAGE(E19,G19,I19,K19,M19),0) -> 2238
B20: AZÚCARES | C20: AZÚCARES | D20: 289.05 | E20: 289.05 | F20: 300 | G20: 300 | H20: 498.18 | I20: 498.18 | J20: 547.998 | K20: 547.998 | L20: 282 | M20: 282 | N20: =ROUND(AVERAGE(D20,F20,H20,J20,L20),0) -> 383 | O20: =ROUND(AVERAGE(E20,G20,I20,K20,M20),0) -> 383
B21: BEBIDA | C21: JUGO DE BANANO(CON LECHE) | D21: 689.38 | E21: 689.38 | F21: 700 | G21: 700 | H21: 1037.875 | I21: 1037.875 | J21: 1141.6625 | K21: 1141.6625 | L21: 672.57 | M21: 672.57 | N21: =ROUND(AVERAGE(D21,F21,H21,J21,L21),0) -> 848 | O21: =ROUND(AVERAGE(E21,G21,I21,K21,M21),0) -> 848
B22: CEREAL | C22: ARROZ DE FIDEO | D22: 243.02 | E22: 243.02 | F22: 240 | G22: 240 | H22: 448.362 | I22: 448.362 | J22: 493.1982 | K22: 493.1982 | L22: 237.09 | M22: 237.09 | N22: =ROUND(AVERAGE(D22,F22,H22,J22,L22),0) -> 332 | O22: =ROUND(AVERAGE(E22,G22,I22,K22,M22),0) -> 332
B23: GRASAS | C23: GRASAS | D23: 283.84 | E23: 283.84 | F23: 290 | G23: 290 | H23: 545.5071 | I23: 545.5071 | J23: 600.05781 | K23: 600.05781 | L23: 276.92 | M23: 276.92 | N23: =ROUND(AVERAGE(D23,F23,H23,J23,L23),0) -> 399 | O23: =ROUND(AVERAGE(E23,G23,I23,K23,M23),0) -> 399
B24: AGUA 180 cm3 - 200 cm3 | C24: VASO DE AGUA | D24: 216.48 | E24: 216.48 | F24: 220 | G24: 220 | H24: 498.18 | I24: 498.18 | J24: 547.998 | K24: 547.998 | L24: 211.2 | M24: 211.2 | N24: =ROUND(AVERAGE(D24,F24,H24,J24,L24),0) -> 339 | O24: =ROUND(AVERAGE(E24,G24,I24,K24,M24),0) -> 339
B25: MISCELANEOS | C25: MISCELANEOS | D25: 209.1 | E25: 209.1 | F25: 220 | G25: 220 | H25: 373.635 | I25: 373.635 | J25: 410.9985 | K25: 410.9985 | L25: 204 | M25: 204 | N25: =ROUND(AVERAGE(D25,F25,H25,J25,L25),0) -> 284 | O25: =ROUND(AVERAGE(E25,G25,I25,K25,M25),0) -> 284
B26: TUBÉRCULOS - RAÍCES - PLÁTANOS - DERIVADOS DE CEREAL | C26: PAPAS A LA FRANCESA | D26: 184.65 | E26: 184.65 | F26: 200 | G26: 200 | H26: 653.4461 | I26: 653.4461 | J26: 718.79071 | K26: 718.79071 | L26: 180.15 | M26: 180.15 | N26: =ROUND(AVERAGE(D26,F26,H26,J26,L26),0) -> 387 | O26: =ROUND(AVERAGE(E26,G26,I26,K26,M26),0) -> 387
B27: ENSALADA DE PAYASO | C27: ENSALADA DE PAYASO | D27: 389.53 | E27: 389.53 | F27: 400 | G27: 400 | H27: 539.695 | I27: 539.695 | J27: 593.6645 | K27: 593.6645 | L27: 380.03 | M27: 380.03 | N27: =ROUND(AVERAGE(D27,F27,H27,J27,L27),0) -> 461 | O27: =ROUND(AVERAGE(E27,G27,I27,K27,M27),0) -> 461
B28: TRANSPORTE | C28: TRANSPORTE | D28: 803.62 | E28: 1055.75 | F28: 800 | G28: 1100 | H28: 747.27 | I28: 1079.39 | J28: 821.997 | K28: 1187.329 | L28: 784.02 | M28: 1030 | N28: =ROUND(AVERAGE(D28,F28,H28,J28,L28),0) -> 791 | O28: =ROUND(AVERAGE(E28,G28,I28,K28,M28),0) -> 1090
B29: PERSONAL REQUERIDO | C29: PERSONAL REQUERIDO | D29: 1151.08 | E29: 1327.38 | F29: 1200 | G29: 1300 | H29: 1120.905 | I29: 1120.905 | J29: 1232.9955 | K29: 1232.9955 | L29: 1123 | M29: 1295 | N29: =ROUND(AVERAGE(D29,F29,H29,J29,L29),0) -> 1166 | O29: =ROUND(AVERAGE(E29,G29,I29,K29,M29),0) -> 1255
B30: SERVICIOS PUBLICOS | C30: SERVICIOS PUBLICOS | D30: 459 | E30: 642.59 | F30: 460 | G30: 650 | H30: 913.33 | I30: 913.33 | J30: 1004.663 | K30: 1004.663 | L30: 447.8 | M30: 626.92 | N30: =ROUND(AVERAGE(D30,F30,H30,J30,L30),0) -> 657 | O30: =ROUND(AVERAGE(E30,G30,I30,K30,M30),0) -> 768
B31: IMPLEMENTOS Y DOTACIÓN | C31: IMPLEMENTOS Y DOTACIÓN | D31: 613.67 | E31: 1017.52 | F31: 600 | G31: 1000 | H31: 664.24 | I31: 896.724 | J31: 730.664 | K31: 986.3964 | L31: 598.7 | M31: 992.7 | N31: =ROUND(AVERAGE(D31,F31,H31,J31,L31),0) -> 641 | O31: =ROUND(AVERAGE(E31,G31,I31,K31,M31),0) -> 979
D32: =SUM(D19:D31) -> 6670.2 | E32: =SUM(E19:E31) -> 7686.07 | F32: =SUM(F19:F31) -> 6830 | G32: =SUM(G19:G31) -> 7820 | H32: =SUM(H19:H31) -> 11726.327 | I32: =SUM(I19:I31) -> 12290.931 | J32: =SUM(J19:J31) -> 12898.96 | K32: =SUM(K19:K31) -> 13520.024 | ... O32: =SUM(O19:O31) -> 9763
A33: 3 | B33: ALIMENTO PROTEÍCO | C33: POLLO EN CUADRITOS | D33: 1357.51 | E33: 1357.51 | F33: 1300 | G33: 1300 | H33: 2656.96 | I33: 2656.96 | J33: 2922.656 | K33: 2922.656 | L33: 1324.4 | M33: 1324.4 | N33: =ROUND(AVERAGE(D33,F33,H33,J33,L33),0) -> 1912 | O33: =ROUND(AVERAGE(E33,G33,I33,K33,M33),0) -> 1912
B34: AZÚCARES | C34: AZÚCARES | D34: 289.05 | E34: 289.05 | F34: 300 | G34: 300 | H34: 498.18 | I34: 498.18 | J34: 547.998 | K34: 547.998 | L34: 282 | M34: 282 | N34: =ROUND(AVERAGE(D34,F34,H34,J34,L34),0) -> 383 | O34: =ROUND(AVERAGE(E34,G34,I34,K34,M34),0) -> 383
B35: BEBIDA | C35: JUGO DE GUAYABA(CON LECHE) | D35: 646.93 | E35: 646.93 | F35: 650 | G35: 650 | H35: 1411.51 | I35: 1411.51 | J35: 1552.661 | K35: 1552.661 | L35: 631.15 | M35: 631.15 | N35: =ROUND(AVERAGE(D35,F35,H35,J35,L35),0) -> 978 | O35: =ROUND(AVERAGE(E35,G35,I35,K35,M35),0) -> 978
B36: CEREAL | C36: PASTA GUISADA | D36: 446.86 | E36: 446.86 | F36: 450 | G36: 450 | H36: 498.18 | I36: 498.18 | J36: 547.998 | K36: 547.998 | L36: 435.96 | M36: 435.96 | N36: =ROUND(AVERAGE(D36,F36,H36,J36,L36),0) -> 476 | O36: =ROUND(AVERAGE(E36,G36,I36,K36,M36),0) -> 476
B37: GRASAS | C37: GRASAS | D37: 283.84 | E37: 283.84 | F37: 290 | G37: 290 | H37: 545.5071 | I37: 545.5071 | J37: 600.05781 | K37: 600.05781 | L37: 276.92 | M37: 276.92 | N37: =ROUND(AVERAGE(D37,F37,H37,J37,L37),0) -> 399 | O37: =ROUND(AVERAGE(E37,G37,I37,K37,M37),0) -> 399
B38: AGUA 180 cm3 - 200 cm3 | C38: VASO DE AGUA | D38: 216.48 | E38: 216.48 | F38: 220 | G38: 220 | H38: 498.18 | I38: 498.18 | J38: 547.998 | K38: 547.998 | L38: 211.2 | M38: 211.2 | N38: =ROUND(AVERAGE(D38,F38,H38,J38,L38),0) -> 339 | O38: =ROUND(AVERAGE(E38,G38,I38,K38,M38),0) -> 339
B39: MISCELANEOS | C39: MISCELANEOS | D39: 209.1 | E39: 209.1 | F39: 220 | G39: 220 | H39: 373.635 | I39: 373.635 | J39: 410.9985 | K39: 410.9985 | L39: 204 | M39: 204 | N39: =ROUND(AVERAGE(D39,F39,H39,J39,L39),0) -> 284 | O39: =ROUND(AVERAGE(E39,G39,I39,K39,M39),0) -> 284
B40: TUBÉRCULOS - RAÍCES - PLÁTANOS - DERIVADOS DE CEREAL | C40: PAN | D40: 464.94 | E40: 464.94 | F40: 500 | G40: 500 | H40: 498.18 | I40: 498.18 | J40: 547.998 | K40: 547.998 | L40: 453.6 | M40: 453.6 | N40: =ROUND(AVERAGE(D40,F40,H40,J40,L40),0) -> 493 | O40: =ROUND(AVERAGE(E40,G40,I40,K40,M40),0) -> 493
...

Sheet ALMUERZO (C)
D1: GRUPO C
D2: SERVICIOS DE ALIMENTACIÓN QP | F2: FUNDACIÓN EDUCANDO A LA NIÑEZ | H2: FUNDACIÓN GARDEN | J2: FUNDACIÓN PARA EL PROGRESO TERRITORIAL | L2: SERVICIOS DE ALIMENTACION NP | N2: PROMEDIO
A3: ALMUERZO | D3: PRECIO PREPARADO EN SITIO | E3: PRECIO PREPARADO EN CCT | F3: PRECIO PREPARADO EN SITIO | G3: PRECIO PREPARADO EN CCT | H3: PRECIO PREPARADO EN SITIO | I3: PRECIO PREPARADO EN CCT | J3: PRECIO PREPARADO EN SITIO | K3: PRECIO PREPARADO EN CCT | L3: PRECIO PREPARADO EN SITIO | M3: PRECIO PREPARADO EN CCT | N3: PRECIO PREPARADO EN SITIO | O3: PRECIO PREPARADO EN CCT
A4: N° MENÚ | B4: GRUPO DE ALIMETOS | C4: PREPARACIÓN | D4: valor unitario. | E4: valor unitario. | F4: valor unitario. | G4: valor unitario. | H4: valor unitario. | I4: valor unitario. | J4: valor unitario. | K4: valor unitario. | L4: valor unitario. | M4: valor unitario. | N4: valor unitario. | O4: valor unitario.
A5: 1 | B5: ALIMENTO PROTEÍCO | C5: PECHUGA APANADA | D5: 1698.64 | E5: 1698.64 | F5: 2000 | G5: 2000 | H5: 3339.25 | I5: 3339.25 | J5: 3673.175 | K5: 3673.175 | L5: 1657.21 | M5: 1657.21 | N5: =ROUND(AVERAGE(D5,F5,H5,J5,L5),0) -> 2474 | O5: =ROUND(AVERAGE(E5,G5,I5,M5),0) -> 2174
B6: AZÚCARES | C6: AZÚCARES | D6: 333.13 | E6: 333.13 | F6: 350 | G6: 350 | H6: 541.5 | I6: 541.5 | J6: 595.65 | K6: 595.65 | L6: 325 | M6: 325 | N6: =ROUND(AVERAGE(D6,F6,H6,J6,L6),0) -> 429 | O6: =ROUND(AVERAGE(E6,G6,I6,M6),0) -> 387
B7: BEBIDA | C7: JUGO DE PIÑA | D7: 731.18 | E7: 731.18 | F7: 750 | G7: 750 | H7: 1173.25 | I7: 1173.25 | J7: 1290.575 | K7: 1290.575 | L7: 713.35 | M7: 713.35 | N7: =ROUND(AVERAGE(D7,F7,H7,J7,L7),0) -> 932 | O7: =ROUND(AVERAGE(E7,G7,I7,M7),0) -> 842
B8: CEREAL | C8: ARROZ CON VERDURAS | D8: 759.12 | E8: 759.12 | F8: 750 | G8: 750 | H8: 577.6 | I8: 577.6 | J8: 635.36 | K8: 635.36 | L8: 740.6 | M8: 740.6 | N8: =ROUND(AVERAGE(D8,F8,H8,J8,L8),0) -> 693 | O8: =ROUND(AVERAGE(E8,G8,I8,M8),0) -> 707
B9: GRASAS | C9: GRASAS | D9: 326.42 | E9: 326.42 | F9: 330 | G9: 330 | H9: 592.9425 | I9: 592.9425 | J9: 652.23675 | K9: 652.23675 | L9: 318.46 | M9: 318.46 | N9: =ROUND(AVERAGE(D9,F9,H9,J9,L9),0) -> 444 | O9: =ROUND(AVERAGE(E9,G9,I9,M9),0) -> 392
B10: AGUA 180 cm3 - 200 cm3 | C10: VASO DE AGUA | D10: 216.48 | E10: 216.48 | F10: 220 | G10: 220 | H10: 541.5 | I10: 541.5 | J10: 595.65 | K10: 595.65 | L10: 211.2 | M10: 211.2 | N10: =ROUND(AVERAGE(D10,F10,H10,J10,L10),0) -> 357 | O10: =ROUND(AVERAGE(E10,G10,I10,M10),0) -> 297
B11: MISCELANEOS | C11: MISCELANEOS | D11: 209.1 | E11: 209.1 | F11: 220 | G11: 220 | H11: 406.125 | I11: 406.125 | J11: 446.7375 | K11: 446.7375 | L11: 204 | M11: 204 | N11: =ROUND(AVERAGE(D11,F11,H11,J11,L11),0) -> 297 | O11: =ROUND(AVERAGE(E11,G11,I11,M11),0) -> 260
B12: TUBÉRCULOS - RAÍCES - PLÁTANOS - DERIVADOS DE CEREAL | C12: TAJADAS DE GUINEO VERDE | D12: 277.49 | E12: 277.49 | F12: 300 | G12: 300 | H12: 604.675 | I12: 604.675 | J12: 665.1425 | K12: 665.1425 | L12: 270.72 | M12: 270.72 | N12: =ROUND(AVERAGE(D12,F12,H12,J12,L12),0) -> 424 | O12: =ROUND(AVERAGE(E12,G12,I12,M12),0) -> 363
B13: VERDURA FRÍA O CALIENTE | C13: VERDURA FRÍA O CALIENTE | D13: 785.21 | E13: 785.21 | F13: 800 | G13: 800 | H13: 451.25 | I13: 451.25 | J13: 496.375 | K13: 496.375 | L13: 766.06 | M13: 766.06 | N13: =ROUND(AVERAGE(D13,F13,H13,J13,L13),0) -> 660 | O13: =ROUND(AVERAGE(E13,G13,I13,M13),0) -> 701
B14: TRANSPORTE | C14: TRANSPORTE | D14: 803.62 | E14: 1055.75 | F14: 800 | G14: 1100 | H14: 812.25 | I14: 1173.25 | J14: 893.475 | K14: 1290.575 | L14: 784.02 | M14: 1030 | N14: =ROUND(AVERAGE(D14,F14,H14,J14,L14),0) -> 819 | O14: =ROUND(AVERAGE(E14,G14,I14,M14),0) -> 1090
B15: PERSONAL REQUERIDO | C15: PERSONAL REQUERIDO | D15: 1151.08 | E15: 1327.38 | F15: 1200 | G15: 1300 | H15: 1218.375 | I15: 1218.375 | J15: 1340.2125 | K15: 1340.2125 | L15: 1123 | M15: 1295 | N15: =ROUND(AVERAGE(D15,F15,H15,J15,L15),0) -> 1207 | O15: =ROUND(AVERAGE(E15,G15,I15,M15),0) -> 1285
B16: SERVICIOS PUBLICOS | C16: SERVICIOS PUBLICOS | D16: 459 | E16: 642.59 | F16: 460 | G16: 650 | H16: 992.75 | I16: 992.75 | J16: 1092.025 | K16: 1092.025 | L16: 447.8 | M16: 626.92 | N16: =ROUND(AVERAGE(D16,F16,H16,J16,L16),0) -> 690 | O16: =ROUND(AVERAGE(E16,G16,I16,M16),0) -> 728
B17: IMPLEMENTOS Y DOTACIÓN | C17: IMPLEMENTOS Y DOTACIÓN | D17: 613.67 | E17: 1017.52 | F17: 600 | G17: 1000 | H17: 722 | I17: 974.7 | J17: 794.2 | K17: 1072.17 | L17: 598.7 | M17: 992.7 | N17: =ROUND(AVERAGE(D17,F17,H17,J17,L17),0) -> 666 | O17: =ROUND(AVERAGE(E17,G17,I17,M17),0) -> 996
D18: =SUM(D5:D17) -> 8364.14 | E18: =SUM(E5:E17) -> 9380.01 | F18: =SUM(F5:F17) -> 8780 | G18: =SUM(G5:G17) -> 9770 | H18: =SUM(H5:H17) -> 11973.468 | I18: =SUM(I5:I17) -> 12587.168 | J18: =SUM(J5:J17) -> 13170.814 | K18: =SUM(K5:K17) -> 13845.884 | ... O18: =SUM(O5:O17) -> 10222
A19: 2 | B19: ALIMENTO PROTEÍCO | C19: CERDO EN BISTECK | D19: 1299.41 | E19: 1299.41 | F19: 1300 | G19: 1300 | H19: 4006.1975 | I19: 4006.1975 | J19: 4406.8173 | K19: 4406.8173 | L19: 1267.72 | M19: 1267.72 | N19: =ROUND(AVERAGE(D19,F19,H19,J19,L19),0) -> 2456 | O19: =ROUND(AVERAGE(E19,G19,I19,M19),0) -> 1968
B20: AZÚCARES | C20: AZÚCARES | D20: 333.13 | E20: 333.13 | F20: 350 | G20: 350 | H20: 541.5 | I20: 541.5 | J20: 595.65 | K20: 595.65 | L20: 325 | M20: 325 | N20: =ROUND(AVERAGE(D20,F20,H20,J20,L20),0) -> 429 | O20: =ROUND(AVERAGE(E20,G20,I20,M20),0) -> 387
B21: BEBIDA | C21: JUGO DE BANANO(CON LECHE) | D21: 689.38 | E21: 689.38 | F21: 700 | G21: 700 | H21: 1128.125 | I21: 1128.125 | J21: 1240.9375 | K21: 1240.9375 | L21: 672.57 | M21: 672.57 | N21: =ROUND(AVERAGE(D21,F21,H21,J21,L21),0) -> 886 | O21: =ROUND(AVERAGE(E21,G21,I21,M21),0) -> 798
B22: CEREAL | C22: ARROZ DE FIDEO | D22: 331.15 | E22: 331.15 | F22: 330 | G22: 330 | H22: 487.35 | I22: 487.35 | J22: 536.085 | K22: 536.085 | L22: 323.08 | M22: 323.08 | N22: =ROUND(AVERAGE(D22,F22,H22,J22,L22),0) -> 402 | O22: =ROUND(AVERAGE(E22,G22,I22,M22),0) -> 368
B23: GRASAS | C23: GRASAS | D23: 326.42 | E23: 326.42 | F23: 330 | G23: 330 | H23: 592.9425 | I23: 592.9425 | J23: 652.23675 | K23: 652.23675 | L23: 318.46 | M23: 318.46 | N23: =ROUND(AVERAGE(D23,F23,H23,J23,L23),0) -> 444 | O23: =ROUND(AVERAGE(E23,G23,I23,M23),0) -> 392
B24: AGUA 180 cm3 - 200 cm3 | C24: VASO DE AGUA | D24: 216.48 | E24: 216.48 | F24: 220 | G24: 220 | H24: 541.5 | I24: 541.5 | J24: 595.65 | K24: 595.65 | L24: 211.2 | M24: 211.2 | N24: =ROUND(AVERAGE(D24,F24,H24,J24,L24),0) -> 357 | O24: =ROUND(AVERAGE(E24,G24,I24,M24),0) -> 297
B25: MISCELANEOS | C25: MISCELANEOS | D25: 209.1 | E25: 209.1 | F25: 220 | G25: 220 | H25: 406.125 | I25: 406.125 | J25: 446.7375 | K25: 446.7375 | L25: 204 | M25: 204 | N25: =ROUND(AVERAGE(D25,F25,H25,J25,L25),0) -> 297 | O25: =ROUND(AVERAGE(E25,G25,I25,M25),0) -> 260
B26: TUBÉRCULOS - RAÍCES - PLÁTANOS - DERIVADOS DE CEREAL | C26: PAPAS A LA FRANCESA | D26: 245.89 | E26: 245.89 | F26: 250 | G26: 250 | H26: 710.2675 | I26: 710.2675 | J26: 781.29425 | K26: 781.29425 | L26: 239.89 | M26: 239.89 | N26: =ROUND(AVERAGE(D26,F26,H26,J26,L26),0) -> 445 | O26: =ROUND(AVERAGE(E26,G26,I26,M26),0) -> 362
B27: ENSALADA DE PAYASO | C27: ENSALADA DE PAYASO | D27: 448.59 | E27: 448.59 | F27: 450 | G27: 450 | H27: 586.625 | I27: 586.625 | J27: 645.2875 | K27: 645.2875 | L27: 437.65 | M27: 437.65 | N27: =ROUND(AVERAGE(D27,F27,H27,J27,L27),0) -> 514 | O27: =ROUND(AVERAGE(E27,G27,I27,M27),0) -> 481
B28: TRANSPORTE | C28: TRANSPORTE | D28: 803.62 | E28: 1055.75 | F28: 800 | G28: 1100 | H28: 812.25 | I28: 1173.25 | J28: 893.475 | K28: 1290.575 | L28: 784.02 | M28: 1030 | N28: =ROUND(AVERAGE(D28,F28,H28,J28,L28),0) -> 819 | O28: =ROUND(AVERAGE(E28,G28,I28,M28),0) -> 1090
B29: PERSONAL REQUERIDO | C29: PERSONAL REQUERIDO | D29: 1151.08 | E29: 1327.38 | F29: 1200 | G29: 1300 | H29: 1218.375 | I29: 1218.375 | J29: 1340.2125 | K29: 1340.2125 | L29: 1123 | M29: 1295 | N29: =ROUND(AVERAGE(D29,F29,H29,J29,L29),0) -> 1207 | O29: =ROUND(AVERAGE(E29,G29,I29,M29),0) -> 1285
B30: SERVICIOS PUBLICOS | C30: SERVICIOS PUBLICOS | D30: 459 | E30: 642.59 | F30: 460 | G30: 650 | H30: 992.75 | I30: 992.75 | J30: 1092.025 | K30: 1092.025 | L30: 447.8 | M30: 626.92 | N30: =ROUND(AVERAGE(D30,F30,H30,J30,L30),0) -> 690 | O30: =ROUND(AVERAGE(E30,G30,I30,M30),0) -> 728
B31: IMPLEMENTOS Y DOTACIÓN | C31: IMPLEMENTOS Y DOTACIÓN | D31: 613.67 | E31: 1017.52 | F31: 600 | G31: 1000 | H31: 722 | I31: 974.7 | J31: 794.2 | K31: 1072.17 | L31: 598.7 | M31: 992.7 | N31: =ROUND(AVERAGE(D31,F31,H31,J31,L31),0) -> 666 | O31: =ROUND(AVERAGE(E31,G31,I31,M31),0) -> 996
D32: =SUM(D19:D31) -> 7126.92 | E32: =SUM(E19:E31) -> 8142.79 | F32: =SUM(F19:F31) -> 7210 | G32: =SUM(G19:G31) -> 8200 | H32: =SUM(H19:H31) -> 12746.007 | I32: =SUM(I19:I31) -> 13359.708 | J32: =SUM(J19:J31) -> 14020.608 | K32: =SUM(K19:K31) -> 14695.678 | ... O32: =SUM(O19:O31) -> 9412
A33: 3 | B33: ALIMENTO PROTEÍCO | C33: POLLO EN CUADRITOS | D33: 1579.88 | E33: 1579.88 | F33: 1500 | G33: 1500 | H33: 2888 | I33: 2888 | J33: 3176.8 | K33: 3176.8 | L33: 1541.35 | M33: 1541.35 | N33: =ROUND(AVERAGE(D33,F33,H33,J33,L33),0) -> 2137 | O33: =ROUND(AVERAGE(E33,G33,I33,M33),0) -> 1877
B34: AZÚCARES | C34: AZÚCARES | D34: 333.13 | E34: 333.13 | F34: 350 | G34: 350 | H34: 541.5 | I34: 541.5 | J34: 595.65 | K34: 595.65 | L34: 325 | M34: 325 | N34: =ROUND(AVERAGE(D34,F34,H34,J34,L34),0) -> 429 | O34: =ROUND(AVERAGE(E34,G34,I34,M34),0) -> 387
B35: BEBIDA | C35: JUGO DE GUAYABA(CON LECHE) | D35: 646.93 | E35: 646.93 | F35: 650 | G35: 650 | H35: 1534.25 | I35: 1534.25 | J35: 1687.675 | K35: 1687.675 | L35: 631.15 | M35: 631.15 | N35: =ROUND(AVERAGE(D35,F35,H35,J35,L35),0) -> 1030 | O35: =ROUND(AVERAGE(E35,G35,I35,M35),0) -> 866
B36: CEREAL | C36: PASTA GUISADA | D36: 556.9 | E36: 556.9 | F36: 550 | G36: 550 | H36: 541.5 | I36: 541.5 | J36: 595.65 | K36: 595.65 | L36: 543.32 | M36: 543.32 | N36: =ROUND(AVERAGE(D36,F36,H36,J36,L36),0) -> 557 | O36: =ROUND(AVERAGE(E36,G36,I36,M36),0) -> 548
B37: GRASAS | C37: GRASAS | D37: 326.42 | E37: 326.42 | F37: 330 | G37: 330 | H37: 592.9425 | I37: 592.9425 | J37: 652.23675 | K37: 652.23675 | L37: 318.46 | M37: 318.46 | N37: =ROUND(AVERAGE(D37,F37,H37,J37,L37),0) -> 444 | O37: =ROUND(AVERAGE(E37,G37,I37,M37),0) -> 392
B38: AGUA 180 cm3 - 200 cm3 | C38: VASO DE AGUA | D38: 216.48 | E38: 216.48 | F38: 220 | G38: 220 | H38: 541.5 | I38: 541.5 | J38: 595.65 | K38: 595.65 | L38: 211.2 | M38: 211.2 | N38: =ROUND(AVERAGE(D38,F38,H38,J38,L38),0) -> 357 | O38: =ROUND(AVERAGE(E38,G38,I38,M38),0) -> 297
B39: MISCELANEOS | C39: MISCELANEOS | D39: 209.1 | E39: 209.1 | F39: 220 | G39: 220 | H39: 406.125 | I39: 406.125 | J39: 446.7375 | K39: 446.7375 | L39: 204 | M39: 204 | N39: =ROUND(AVERAGE(D39,F39,H39,J39,L39),0) -> 297 | O39: =ROUND(AVERAGE(E39,G39,I39,M39),0) -> 260
B40: TUBÉRCULOS - RAÍCES - PLÁTANOS - DERIVADOS DE CEREAL | C40: PAN | D40: 464.94 | E40: 464.94 | F40: 500 | G40: 500 | H40: 541.5 | I40: 541.5 | J40: 595.65 | K40: 595.65 | L40: 453.6 | M40: 453.6 | N40: =ROUND(AVERAGE(D40,F40,H40,J40,L40),0) -> 511 | O40: =ROUND(AVERAGE(E40,G40,I40,M40),0) -> 490
...

Sheet ALMUERZO (D)
D1: GRUPO D
D2: SERVICIOS DE ALIMENTACIÓN QP | F2: FUNDACIÓN EDUCANDO A LA NIÑEZ | H2: FUNDACIÓN GARDEN | J2: FUNDACIÓN PARA EL PROGRESO TERRITORIAL | L2: SERVICIOS DE ALIMENTACION NP | N2: PROMEDIO
A3: ALMUERZO | D3: PRECIO PREPARADO EN SITIO | E3: PRECIO PREPARADO EN CCT | F3: PRECIO PREPARADO EN SITIO | G3: PRECIO PREPARADO EN CCT | H3: PRECIO PREPARADO EN SITIO | I3: PRECIO PREPARADO EN CCT | J3: PRECIO PREPARADO EN SITIO | K3: PRECIO PREPARADO EN CCT | L3: PRECIO PREPARADO EN SITIO | M3: PRECIO PREPARADO EN CCT | N3: PRECIO PREPARADO EN SITIO | O3: PRECIO PREPARADO EN CCT
A4: N° MENÚ | B4: GRUPO DE ALIMETOS | C4: PREPARACIÓN | D4: valor unitario. | E4: valor unitario. | F4: valor unitario. | G4: valor unitario. | H4: valor unitario. | I4: valor unitario. | J4: valor unitario. | K4: valor unitario. | L4: valor unitario. | M4: valor unitario. | N4: valor unitario. | O4: valor unitario.
A5: 1 | B5: ALIMENTO PROTEÍCO | C5: PECHUGA APANADA | D5: 1998.72 | E5: 1998.72 | F5: 2000 | G5: 2000 | H5: 3515 | I5: 3515 | J5: 3866.5 | K5: 3866.5 | L5: 1949.97 | M5: 1949.97 | N5: =ROUND(AVERAGE(D5,F5,H5,J5,L5),0) -> 2666 | O5: =ROUND(AVERAGE(E5,G5,I5,K5,M5),0) -> 2666
B6: AZÚCARES | C6: AZÚCARES | D6: 383.35 | E6: 383.35 | F6: 400 | G6: 400 | H6: 570 | I6: 570 | J6: 627 | K6: 627 | L6: 374 | M6: 374 | N6: =ROUND(AVERAGE(D6,F6,H6,J6,L6),0) -> 471 | O6: =ROUND(AVERAGE(E6,G6,I6,K6,M6),0) -> 471
B7: BEBIDA | C7: JUGO DE PIÑA | D7: 736.85 | E7: 736.85 | F7: 750 | G7: 750 | H7: 1235 | I7: 1235 | J7: 1358.5 | K7: 1358.5 | L7: 718.88 | M7: 718.88 | N7: =ROUND(AVERAGE(D7,F7,H7,J7,L7),0) -> 960 | O7: =ROUND(AVERAGE(E7,G7,I7,K7,M7),0) -> 960
B8: CEREAL | C8: ARROZ CON VERDURAS | D8: 840.33 | E8: 840.33 | F8: 810 | G8: 810 | H8: 608 | I8: 608 | J8: 668.8 | K8: 668.8 | L8: 819.84 | M8: 819.84 | N8: =ROUND(AVERAGE(D8,F8,H8,J8,L8),0) -> 749 | O8: =ROUND(AVERAGE(E8,G8,I8,K8,M8),0) -> 749
B9: GRASAS | C9: GRASAS | D9: 375.38 | E9: 375.38 | F9: 380 | G9: 380 | H9: 624.15 | I9: 624.15 | J9: 686.565 | K9: 686.565 | L9: 366.23 | M9: 366.23 | N9: =ROUND(AVERAGE(D9,F9,H9,J9,L9),0) -> 486 | O9: =ROUND(AVERAGE(E9,G9,I9,K9,M9),0) -> 486
B10: AGUA 180 cm3 - 200 cm3 | C10: VASO DE AGUA | D10: 216.48 | E10: 216.48 | F10: 220 | G10: 220 | H10: 570 | I10: 570 | J10: 627 | K10: 627 | L10: 211.2 | M10: 211.2 | N10: =ROUND(AVERAGE(D10,F10,H10,J10,L10),0) -> 369 | O10: =ROUND(AVERAGE(E10,G10,I10,K10,M10),0) -> 369
B11: MISCELANEOS | C11: MISCELANEOS | D11: 209.1 | E11: 209.1 | F11: 220 | G11: 220 | H11: 427.5 | I11: 427.5 | J11: 470.25 | K11: 470.25 | L11: 204 | M11: 204 | N11: =ROUND(AVERAGE(D11,F11,H11,J11,L11),0) -> 306 | O11: =ROUND(AVERAGE(E11,G11,I11,K11,M11),0) -> 306
B12: TUBÉRCULOS - RAÍCES - PLÁTANOS - DERIVADOS DE CEREAL | C12: TAJADAS DE GUINEO VERDE | D12: 429.48 | E12: 429.48 | F12: 430 | G12: 430 | H12: 636.5 | I12: 636.5 | J12: 700.15 | K12: 700.15 | L12: 419 | M12: 419 | N12: =ROUND(AVERAGE(D12,F12,H12,J12,L12),0) -> 523 | O12: =ROUND(AVERAGE(E12,G12,I12,K12,M12),0) -> 523
B13: VERDURA FRÍA O CALIENTE | C13: VERDURA FRÍA O CALIENTE | D13: 912.06 | E13: 912.06 | F13: 900 | G13: 900 | H13: 475 | I13: 475 | J13: 522.5 | K13: 522.5 | L13: 889.81 | M13: 889.81 | N13: =ROUND(AVERAGE(D13,F13,H13,J13,L13),0) -> 740 | O13: =ROUND(AVERAGE(E13,G13,I13,K13,M13),0) -> 740
B14: TRANSPORTE | C14: TRANSPORTE | D14: 803.62 | E14: 1055.75 | F14: 800 | G14: 1100 | H14: 855 | I14: 1235 | J14: 940.5 | K14: 1358.5 | L14: 784.02 | M14: 1030 | N14: =ROUND(AVERAGE(D14,F14,H14,J14,L14),0) -> 837 | O14: =ROUND(AVERAGE(E14,G14,I14,K14,M14),0) -> 1156
B15: PERSONAL REQUERIDO | C15: PERSONAL REQUERIDO | D15: 1151.08 | E15: 1327.38 | F15: 1200 | G15: 1300 | H15: 1282.5 | I15: 1282.5 | J15: 1410.75 | K15: 1410.75 | L15: 1123 | M15: 1295 | N15: =ROUND(AVERAGE(D15,F15,H15,J15,L15),0) -> 1233 | O15: =ROUND(AVERAGE(E15,G15,I15,K15,M15),0) -> 1323
B16: SERVICIOS PUBLICOS | C16: SERVICIOS PUBLICOS | D16: 459 | E16: 642.59 | F16: 460 | G16: 650 | H16: 1045 | I16: 1045 | J16: 1149.5 | K16: 1149.5 | L16: 447.8 | M16: 626.92 | N16: =ROUND(AVERAGE(D16,F16,H16,J16,L16),0) -> 712 | O16: =ROUND(AVERAGE(E16,G16,I16,K16,M16),0) -> 823
B17: IMPLEMENTOS Y DOTACIÓN | C17: IMPLEMENTOS Y DOTACIÓN | D17: 613.67 | E17: 1017.52 | F17: 600 | G17: 1000 | H17: 760 | I17: 1026 | J17: 836 | K17: 1128.6 | L17: 598.7 | M17: 992.7 | N17: =ROUND(AVERAGE(D17,F17,H17,J17,L17),0) -> 682 | O17: =ROUND(AVERAGE(E17,G17,I17,K17,M17),0) -> 1033
D18: =SUM(D5:D17) -> 9129.12 | E18: =SUM(E5:E17) -> 10144.99 | F18: =SUM(F5:F17) -> 9170 | G18: =SUM(G5:G17) -> 10160 | H18: =SUM(H5:H17) -> 12603.65 | I18: =SUM(I5:I17) -> 13249.65 | J18: =SUM(J5:J17) -> 13864.015 | K18: =SUM(K5:K17) -> 14574.615 | ... O18: =SUM(O5:O17) -> 11605
A19: 2 | B19: ALIMENTO PROTEÍCO | C19: CERDO EN BISTECK | D19: 1648.49 | E19: 1648.49 | F19: 1700 | G19: 1700 | H19: 4217.05 | I19: 4217.05 | J19: 4638.755 | K19: 4638.755 | L19: 1608.28 | M19: 1608.28 | N19: =ROUND(AVERAGE(D19,F19,H19,J19,L19),0) -> 2763 | O19: =ROUND(AVERAGE(E19,G19,I19,K19,M19),0) -> 2763
B20: AZÚCARES | C20: AZÚCARES | D20: 383.35 | E20: 383.35 | F20: 400 | G20: 400 | H20: 570 | I20: 570 | J20: 627 | K20: 627 | L20: 374 | M20: 374 | N20: =ROUND(AVERAGE(D20,F20,H20,J20,L20),0) -> 471 | O20: =ROUND(AVERAGE(E20,G20,I20,K20,M20),0) -> 471
B21: BEBIDA | C21: JUGO DE BANANO(CON LECHE) | D21: 764.29 | E21: 764.29 | F21: 760 | G21: 760 | H21: 1187.5 | I21: 1187.5 | J21: 1306.25 | K21: 1306.25 | L21: 745.65 | M21: 745.65 | N21: =ROUND(AVERAGE(D21,F21,H21,J21,L21),0) -> 953 | O21: =ROUND(AVERAGE(E21,G21,I21,K21,M21),0) -> 953
B22: CEREAL | C22: ARROZ DE FIDEO | D22: 413.66 | E22: 413.66 | F22: 420 | G22: 420 | H22: 513 | I22: 513 | J22: 564.3 | K22: 564.3 | L22: 403.57 | M22: 403.57 | N22: =ROUND(AVERAGE(D22,F22,H22,J22,L22),0) -> 463 | O22: =ROUND(AVERAGE(E22,G22,I22,K22,M22),0) -> 463
B23: GRASAS | C23: GRASAS | D23: 375.38 | E23: 375.38 | F23: 380 | G23: 380 | H23: 624.15 | I23: 624.15 | J23: 686.565 | K23: 686.565 | L23: 366.23 | M23: 366.23 | N23: =ROUND(AVERAGE(D23,F23,H23,J23,L23),0) -> 486 | O23: =ROUND(AVERAGE(E23,G23,I23,K23,M23),0) -> 486
B24: AGUA 180 cm3 - 200 cm3 | C24: VASO DE AGUA | D24: 216.48 | E24: 216.48 | F24: 220 | G24: 220 | H24: 570 | I24: 570 | J24: 627 | K24: 627 | L24: 211.2 | M24: 211.2 | N24: =ROUND(AVERAGE(D24,F24,H24,J24,L24),0) -> 369 | O24: =ROUND(AVERAGE(E24,G24,I24,K24,M24),0) -> 369
B25: MISCELANEOS | C25: MISCELANEOS | D25: 209.1 | E25: 209.1 | F25: 220 | G25: 220 | H25: 427.5 | I25: 427.5 | J25: 470.25 | K25: 470.25 | L25: 204 | M25: 204 | N25: =ROUND(AVERAGE(D25,F25,H25,J25,L25),0) -> 306 | O25: =ROUND(AVERAGE(E25,G25,I25,K25,M25),0) -> 306
B26: TUBÉRCULOS - RAÍCES - PLÁTANOS - DERIVADOS DE CEREAL | C26: PAPAS A LA FRANCESA | D26: 329.27 | E26: 329.27 | F26: 330 | G26: 330 | H26: 747.65 | I26: 747.65 | J26: 822.415 | K26: 822.415 | L26: 321.24 | M26: 321.24 | N26: =ROUND(AVERAGE(D26,F26,H26,J26,L26),0) -> 510 | O26: =ROUND(AVERAGE(E26,G26,I26,K26,M26),0) -> 510
B27: ENSALADA DE PAYASO | C27: ENSALADA DE PAYASO | D27: 547.78 | E27: 547.78 | F27: 550 | G27: 550 | H27: 617.5 | I27: 617.5 | J27: 679.25 | K27: 679.25 | L27: 534.42 | M27: 534.42 | N27: =ROUND(AVERAGE(D27,F27,H27,J27,L27),0) -> 586 | O27: =ROUND(AVERAGE(E27,G27,I27,K27,M27),0) -> 586
B28: TRANSPORTE | C28: TRANSPORTE | D28: 803.62 | E28: 1055.75 | F28: 800 | G28: 1100 | H28: 855 | I28: 1235 | J28: 940.5 | K28: 1358.5 | L28: 784.02 | M28: 1030 | N28: =ROUND(AVERAGE(D28,F28,H28,J28,L28),0) -> 837 | O28: =ROUND(AVERAGE(E28,G28,I28,K28,M28),0) -> 1156
B29: PERSONAL REQUERIDO | C29: PERSONAL REQUERIDO | D29: 1151.08 | E29: 1327.38 | F29: 1200 | G29: 1300 | H29: 1282.5 | I29: 1282.5 | J29: 1410.75 | K29: 1410.75 | L29: 1123 | M29: 1295 | N29: =ROUND(AVERAGE(D29,F29,H29,J29,L29),0) -> 1233 | O29: =ROUND(AVERAGE(E29,G29,I29,K29,M29),0) -> 1323
B30: SERVICIOS PUBLICOS | C30: SERVICIOS PUBLICOS | D30: 459 | E30: 642.59 | F30: 460 | G30: 650 | H30: 1045 | I30: 1045 | J30: 1149.5 | K30: 1149.5 | L30: 447.8 | M30: 626.92 | N30: =ROUND(AVERAGE(D30,F30,H30,J30,L30),0) -> 712 | O30: =ROUND(AVERAGE(E30,G30,I30,K30,M30),0) -> 823
B31: IMPLEMENTOS Y DOTACIÓN | C31: IMPLEMENTOS Y DOTACIÓN | D31: 613.67 | E31: 1017.52 | F31: 600 | G31: 1000 | H31: 760 | I31: 1026 | J31: 836 | K31: 1128.6 | L31: 598.7 | M31: 992.7 | N31: =ROUND(AVERAGE(D31,F31,H31,J31,L31),0) -> 682 | O31: =ROUND(AVERAGE(E31,G31,I31,K31,M31),0) -> 1033
D32: =SUM(D19:D31) -> 7915.17 | E32: =SUM(E19:E31) -> 8931.04 | F32: =SUM(F19:F31) -> 8040 | G32: =SUM(G19:G31) -> 9030 | H32: =SUM(H19:H31) -> 13416.85 | I32: =SUM(I19:I31) -> 14062.85 | J32: =SUM(J19:J31) -> 14758.535 | K32: =SUM(K19:K31) -> 15469.135 | ... O32: =SUM(O19:O31) -> 11242
A33: 3 | B33: ALIMENTO PROTEÍCO | C33: POLLO EN CUADRITOS | D33: 1804.33 | E33: 1804.33 | F33: 1800 | G33: 1800 | H33: 3040 | I33: 3040 | J33: 3344 | K33: 3344 | L33: 1760.32 | M33: 1760.32 | N33: =ROUND(AVERAGE(D33,F33,H33,J33,L33),0) -> 2350 | O33: =ROUND(AVERAGE(E33,G33,I33,K33,M33),0) -> 2350
B34: AZÚCARES | C34: AZÚCARES | D34: 383.35 | E34: 383.35 | F34: 400 | G34: 400 | H34: 570 | I34: 570 | J34: 627 | K34: 627 | L34: 374 | M34: 374 | N34: =ROUND(AVERAGE(D34,F34,H34,J34,L34),0) -> 471 | O34: =ROUND(AVERAGE(E34,G34,I34,K34,M34),0) -> 471
B35: BEBIDA | C35: JUGO DE GUAYABA(CON LECHE) | D35: 721.83 | E35: 721.83 | F35: 720 | G35: 720 | H35: 1615 | I35: 1615 | J35: 1776.5 | K35: 1776.5 | L35: 704.23 | M35: 704.23 | N35: =ROUND(AVERAGE(D35,F35,H35,J35,L35),0) -> 1108 | O35: =ROUND(AVERAGE(E35,G35,I35,K35,M35),0) -> 1108
B36: CEREAL | C36: PASTA GUISADA | D36: 714.52 | E36: 714.52 | F36: 700 | G36: 700 | H36: 570 | I36: 570 | J36: 627 | K36: 627 | L36: 697.09 | M36: 697.09 | N36: =ROUND(AVERAGE(D36,F36,H36,J36,L36),0) -> 662 | O36: =ROUND(AVERAGE(E36,G36,I36,K36,M36),0) -> 662
B37: GRASAS | C37: GRASAS | D37: 375.38 | E37: 375.38 | F37: 380 | G37: 380 | H37: 624.15 | I37: 624.15 | J37: 686.565 | K37: 686.565 | L37: 366.23 | M37: 366.23 | N37: =ROUND(AVERAGE(D37,F37,H37,J37,L37),0) -> 486 | O37: =ROUND(AVERAGE(E37,G37,I37,K37,M37),0) -> 486
B38: AGUA 180 cm3 - 200 cm3 | C38: VASO DE AGUA | D38: 216.48 | E38: 216.48 | F38: 220 | G38: 220 | H38: 570 | I38: 570 | J38: 627 | K38: 627 | L38: 211.2 | M38: 211.2 | N38: =ROUND(AVERAGE(D38,F38,H38,J38,L38),0) -> 369 | O38: =ROUND(AVERAGE(E38,G38,I38,K38,M38),0) -> 369
B39: MISCELANEOS | C39: MISCELANEOS | D39: 209.1 | E39: 209.1 | F39: 220 | G39: 220 | H39: 427.5 | I39: 427.5 | J39: 470.25 | K39: 470.25 | L39: 204 | M39: 204 | N39: =ROUND(AVERAGE(D39,F39,H39,J39,L39),0) -> 306 | O39: =ROUND(AVERAGE(E39,G39,I39,K39,M39),0) -> 306
B40: TUBÉRCULOS - RAÍCES - PLÁTANOS - DERIVADOS DE CEREAL | C40: PAN | D40: 557.93 | E40: 557.93 | F40: 600 | G40: 600 | H40: 570 | I40: 570 | J40: 627 | K40: 627 | L40: 544.32 | M40: 544.32 | N40: =ROUND(AVERAGE(D40,F40,H40,J40,L40),0) -> 580 | O40: =ROUND(AVERAGE(E40,G40,I40,K40,M40),0) -> 580
...

Sheet ALMUERZO (E)
D1: GRUPO E
D2: SERVICIOS DE ALIMENTACIÓN QP | F2: FUNDACIÓN EDUCANDO A LA NIÑEZ | H2: FUNDACIÓN GARDEN | J2: FUNDACIÓN PARA EL PROGRESO TERRITORIAL | L2: SERVICIOS DE ALIMENTACION NP | N2: PROMEDIO
A3: ALMUERZO | D3: PRECIO PREPARADO EN SITIO | E3: PRECIO PREPARADO EN CCT | F3: PRECIO PREPARADO EN SITIO | G3: PRECIO PREPARADO EN CCT | H3: PRECIO PREPARADO EN SITIO | I3: PRECIO PREPARADO EN CCT | J3: PRECIO PREPARADO EN SITIO | K3: PRECIO PREPARADO EN CCT | L3: PRECIO PREPARADO EN SITIO | M3: PRECIO PREPARADO EN CCT | N3: PRECIO PREPARADO EN SITIO | O3: PRECIO PREPARADO EN CCT
A4: N° MENÚ | B4: GRUPO DE ALIMETOS | C4: PREPARACIÓN | D4: valor unitario. | E4: valor unitario. | F4: valor unitario. | G4: valor unitario. | H4: valor unitario. | I4: valor unitario. | J4: valor unitario. | K4: valor unitario. | L4: valor unitario. | M4: valor unitario. | N4: valor unitario. | O4: valor unitario.
A5: 1 | B5: ALIMENTO PROTEÍCO | C5: PECHUGA APANADA | D5: 2350.43 | E5: 2350.43 | F5: 2500 | G5: 2500 | H5: 3700 | I5: 3700 | J5: 4070 | K5: 4070 | L5: 2293.11 | M5: 2293.11 | N5: =ROUND(AVERAGE(D5,F5,H5,J5,L5),0) -> 2983 | O5: =ROUND(AVERAGE(E5,G5,I5,K5,M5),0) -> 2983
B6: AZÚCARES | C6: AZÚCARES | D6: 440.75 | E6: 440.75 | F6: 470 | G6: 470 | H6: 600 | I6: 600 | J6: 660 | K6: 660 | L6: 430 | M6: 430 | N6: =ROUND(AVERAGE(D6,F6,H6,J6,L6),0) -> 520 | O6: =ROUND(AVERAGE(E6,G6,I6,K6,M6),0) -> 520
B7: BEBIDA | C7: JUGO DE PIÑA | D7: 736.85 | E7: 736.85 | F7: 750 | G7: 750 | H7: 1300 | I7: 1300 | J7: 1430 | K7: 1430 | L7: 718.88 | M7: 718.88 | N7: =ROUND(AVERAGE(D7,F7,H7,J7,L7),0) -> 987 | O7: =ROUND(AVERAGE(E7,G7,I7,K7,M7),0) -> 987
B8: CEREAL | C8: ARROZ CON VERDURAS | D8: 883.13 | E8: 883.13 | F8: 870 | G8: 870 | H8: 640 | I8: 640 | J8: 704 | K8: 704 | L8: 861.59 | M8: 861.59 | N8: =ROUND(AVERAGE(D8,F8,H8,J8,L8),0) -> 792 | O8: =ROUND(AVERAGE(E8,G8,I8,K8,M8),0) -> 792
B9: GRASAS | C9: GRASAS | D9: 431.69 | E9: 431.69 | F9: 421.16 | G9: 440 | H9: 657 | I9: 657 | J9: 722.7 | K9: 722.7 | L9: 421.16 | M9: 421.16 | N9: =ROUND(AVERAGE(D9,F9,H9,J9,L9),0) -> 531 | O9: =ROUND(AVERAGE(E9,G9,I9,K9,M9),0) -> 535
B10: AGUA 180 cm3 - 200 cm3 | C10: VASO DE AGUA | D10: 216.48 | E10: 216.48 | F10: 220 | G10: 220 | H10: 600 | I10: 600 | J10: 660 | K10: 660 | L10: 211.2 | M10: 211.2 | N10: =ROUND(AVERAGE(D10,F10,H10,J10,L10),0) -> 382 | O10: =ROUND(AVERAGE(E10,G10,I10,K10,M10),0) -> 382
B11: MISCELANEOS | C11: MISCELANEOS | D11: 209.1 | E11: 209.1 | F11: 220 | G11: 220 | H11: 450 | I11: 450 | J11: 495 | K11: 495 | L11: 204 | M11: 204 | N11: =ROUND(AVERAGE(D11,F11,H11,J11,L11),0) -> 316 | O11: =ROUND(AVERAGE(E11,G11,I11,K11,M11),0) -> 316
B12: TUBÉRCULOS - RAÍCES - PLÁTANOS - DERIVADOS DE CEREAL | C12: TAJADAS DE GUINEO VERDE | D12: 717.04 | E12: 717.04 | F12: 750 | G12: 750 | H12: 670 | I12: 670 | J12: 737 | K12: 737 | L12: 699.55 | M12: 699.55 | N12: =ROUND(AVERAGE(D12,F12,H12,J12,L12),0) -> 715 | O12: =ROUND(AVERAGE(E12,G12,I12,K12,M12),0) -> 715
B13: VERDURA FRÍA O CALIENTE | C13: VERDURA FRÍA O CALIENTE | D13: 1165.75 | E13: 1165.75 | F13: 1200 | G13: 1200 | H13: 500 | I13: 500 | J13: 550 | K13: 550 | L13: 1137.31 | M13: 1137.31 | N13: =ROUND(AVERAGE(D13,F13,H13,J13,L13),0) -> 911 | O13: =ROUND(AVERAGE(E13,G13,I13,K13,M13),0) -> 911
B14: TRANSPORTE | C14: TRANSPORTE | D14: 803.62 | E14: 1055.75 | F14: 800 | G14: 1100 | H14: 900 | I14: 1300 | J14: 990 | K14: 1430 | L14: 784.02 | M14: 1030 | N14: =ROUND(AVERAGE(D14,F14,H14,J14,L14),0) -> 856 | O14: =ROUND(AVERAGE(E14,G14,I14,K14,M14),0) -> 1183
B15: PERSONAL REQUERIDO | C15: PERSONAL REQUERIDO | D15: 1151.08 | E15: 1327.38 | F15: 1200 | G15: 1300 | H15: 1350 | I15: 1350 | J15: 1485 | K15: 1485 | L15: 1123 | M15: 1295 | N15: =ROUND(AVERAGE(D15,F15,H15,J15,L15),0) -> 1262 | O15: =ROUND(AVERAGE(E15,G15,I15,K15,M15),0) -> 1351
B16: SERVICIOS PUBLICOS | C16: SERVICIOS PUBLICOS | D16: 459 | E16: 642.59 | F16: 460 | G16: 650 | H16: 1100 | I16: 1100 | J16: 1210 | K16: 1210 | L16: 447.8 | M16: 626.92 | N16: =ROUND(AVERAGE(D16,F16,H16,J16,L16),0) -> 735 | O16: =ROUND(AVERAGE(E16,G16,I16,K16,M16),0) -> 846
B17: IMPLEMENTOS Y DOTACIÓN | C17: IMPLEMENTOS Y DOTACIÓN | D17: 613.67 | E17: 1017.52 | F17: 600 | G17: 1000 | H17: 800 | I17: 1080 | J17: 880 | K17: 1188 | L17: 598.7 | M17: 992.7 | N17: =ROUND(AVERAGE(D17,F17,H17,J17,L17),0) -> 698 | O17: =ROUND(AVERAGE(E17,G17,I17,K17,M17),0) -> 1056
D18: =SUM(D5:D17) -> 10178.59 | E18: =SUM(E5:E17) -> 11194.46 | F18: =SUM(F5:F17) -> 10461.16 | G18: =SUM(G5:G17) -> 11470 | H18: =SUM(H5:H17) -> 13267 | I18: =SUM(I5:I17) -> 13947 | J18: =SUM(J5:J17) -> 14593.7 | K18: =SUM(K5:K17) -> 15341.7 | ... O18: =SUM(O5:O17) -> 12577
A19: 2 | B19: ALIMENTO PROTEÍCO | C19: CERDO EN BISTECK | D19: 2017.86 | E19: 2017.86 | F19: 2000 | G19: 2000 | H19: 4439 | I19: 4439 | J19: 4882.9 | K19: 4882.9 | L19: 1968.64 | M19: 1968.64 | N19: =ROUND(AVERAGE(D19,F19,H19,J19,L19),0) -> 3062 | O19: =ROUND(AVERAGE(E19,G19,I19,K19,M19),0) -> 3062
B20: AZÚCARES | C20: AZÚCARES | D20: 440.75 | E20: 440.75 | F20: 470 | G20: 470 | H20: 600 | I20: 600 | J20: 660 | K20: 660 | L20: 430 | M20: 430 | N20: =ROUND(AVERAGE(D20,F20,H20,J20,L20),0) -> 520 | O20: =ROUND(AVERAGE(E20,G20,I20,K20,M20),0) -> 520
B21: BEBIDA | C21: JUGO DE BANANO(CON LECHE) | D21: 764.29 | E21: 764.29 | F21: 760 | G21: 760 | H21: 1250 | I21: 1250 | J21: 1375 | K21: 1375 | L21: 745.65 | M21: 745.65 | N21: =ROUND(AVERAGE(D21,F21,H21,J21,L21),0) -> 979 | O21: =ROUND(AVERAGE(E21,G21,I21,K21,M21),0) -> 979
B22: CEREAL | C22: ARROZ DE FIDEO | D22: 472.22 | E22: 472.22 | F22: 500 | G22: 500 | H22: 540 | I22: 540 | J22: 594 | K22: 594 | L22: 460.7 | M22: 460.7 | N22: =ROUND(AVERAGE(D22,F22,H22,J22,L22),0) -> 513 | O22: =ROUND(AVERAGE(E22,G22,I22,K22,M22),0) -> 513
B23: GRASAS | C23: GRASAS | D23: 431.69 | E23: 431.69 | F23: 421.16 | G23: 440 | H23: 657 | I23: 657 | J23: 722.7 | K23: 722.7 | L23: 421.16 | M23: 421.16 | N23: =ROUND(AVERAGE(D23,F23,H23,J23,L23),0) -> 531 | O23: =ROUND(AVERAGE(E23,G23,I23,K23,M23),0) -> 535
B24: AGUA 180 cm3 - 200 cm3 | C24: VASO DE AGUA | D24: 216.48 | E24: 216.48 | F24: 220 | G24: 220 | H24: 600 | I24: 600 | J24: 660 | K24: 660 | L24: 211.2 | M24: 211.2 | N24: =ROUND(AVERAGE(D24,F24,H24,J24,L24),0) -> 382 | O24: =ROUND(AVERAGE(E24,G24,I24,K24,M24),0) -> 382
B25: MISCELANEOS | C25: MISCELANEOS | D25: 209.1 | E25: 209.1 | F25: 220 | G25: 220 | H25: 450 | I25: 450 | J25: 495 | K25: 495 | L25: 204 | M25: 204 | N25: =ROUND(AVERAGE(D25,F25,H25,J25,L25),0) -> 316 | O25: =ROUND(AVERAGE(E25,G25,I25,K25,M25),0) -> 316
B26: TUBÉRCULOS - RAÍCES - PLÁTANOS - DERIVADOS DE CEREAL | C26: PAPAS A LA FRANCESA | D26: 412.65 | E26: 412.65 | F26: 480 | G26: 480 | H26: 787 | I26: 787 | J26: 865.7 | K26: 865.7 | L26: 402.58 | M26: 402.58 | N26: =ROUND(AVERAGE(D26,F26,H26,J26,L26),0) -> 590 | O26: =ROUND(AVERAGE(E26,G26,I26,K26,M26),0) -> 590
B27: ENSALADA DE PAYASO | C27: ENSALADA DE PAYASO | D27: 683.81 | E27: 683.81 | F27: 700 | G27: 700 | H27: 650 | I27: 650 | J27: 715 | K27: 715 | L27: 667.13 | M27: 667.13 | N27: =ROUND(AVERAGE(D27,F27,H27,J27,L27),0) -> 683 | O27: =ROUND(AVERAGE(E27,G27,I27,K27,M27),0) -> 683
B28: TRANSPORTE | C28: TRANSPORTE | D28: 803.62 | E28: 1055.75 | F28: 800 | G28: 1100 | H28: 900 | I28: 1300 | J28: 990 | K28: 1430 | L28: 784.02 | M28: 1030 | N28: =ROUND(AVERAGE(D28,F28,H28,J28,L28),0) -> 856 | O28: =ROUND(AVERAGE(E28,G28,I28,K28,M28),0) -> 1183
B29: PERSONAL REQUERIDO | C29: PERSONAL REQUERIDO | D29: 1151.08 | E29: 1327.38 | F29: 1200 | G29: 1300 | H29: 1350 | I29: 1350 | J29: 1485 | K29: 1485 | L29: 1123 | M29: 1295 | N29: =ROUND(AVERAGE(D29,F29,H29,J29,L29),0) -> 1262 | O29: =ROUND(AVERAGE(E29,G29,I29,K29,M29),0) -> 1351
B30: SERVICIOS PUBLICOS | C30: SERVICIOS PUBLICOS | D30: 459 | E30: 642.59 | F30: 460 | G30: 650 | H30: 1100 | I30: 1100 | J30: 1210 | K30: 1210 | L30: 447.8 | M30: 626.92 | N30: =ROUND(AVERAGE(D30,F30,H30,J30,L30),0) -> 735 | O30: =ROUND(AVERAGE(E30,G30,I30,K30,M30),0) -> 846
B31: IMPLEMENTOS Y DOTACIÓN | C31: IMPLEMENTOS Y DOTACIÓN | D31: 613.67 | E31: 1017.52 | F31: 600 | G31: 1000 | H31: 800 | I31: 1080 | J31: 880 | K31: 1188 | L31: 598.7 | M31: 992.7 | N31: =ROUND(AVERAGE(D31,F31,H31,J31,L31),0) -> 698 | O31: =ROUND(AVERAGE(E31,G31,I31,K31,M31),0) -> 1056
D32: =SUM(D19:D31) -> 8676.22 | E32: =SUM(E19:E31) -> 9692.09 | F32: =SUM(F19:F31) -> 8831.16 | G32: =SUM(G19:G31) -> 9840 | H32: =SUM(H19:H31) -> 14123 | I32: =SUM(I19:I31) -> 14803 | J32: =SUM(J19:J31) -> 15535.3 | K32: =SUM(K19:K31) -> 16283.3 | ... O32: =SUM(O19:O31) -> 12016
A33: 3 | B33: ALIMENTO PROTEÍCO | C33: POLLO EN CUADRITOS | D33: 2100.87 | E33: 2100.87 | F33: 2100 | G33: 2100 | H33: 3200 | I33: 3200 | J33: 3520 | K33: 3520 | L33: 2049.63 | M33: 2049.63 | N33: =ROUND(AVERAGE(D33,F33,H33,J33,L33),0) -> 2594 | O33: =ROUND(AVERAGE(E33,G33,I33,K33,M33),0) -> 2594
B34: AZÚCARES | C34: AZÚCARES | D34: 440.75 | E34: 440.75 | F34: 470 | G34: 470 | H34: 600 | I34: 600 | J34: 660 | K34: 660 | L34: 430 | M34: 430 | N34: =ROUND(AVERAGE(D34,F34,H34,J34,L34),0) -> 520 | O34: =ROUND(AVERAGE(E34,G34,I34,K34,M34),0) -> 520
B35: BEBIDA | C35: JUGO DE GUAYABA(CON LECHE) | D35: 721.83 | E35: 721.83 | F35: 720 | G35: 720 | H35: 1700 | I35: 1700 | J35: 1870 | K35: 1870 | L35: 704.23 | M35: 704.23 | N35: =ROUND(AVERAGE(D35,F35,H35,J35,L35),0) -> 1143 | O35: =ROUND(AVERAGE(E35,G35,I35,K35,M35),0) -> 1143
B36: CEREAL | C36: PASTA GUISADA | D36: 833.63 | E36: 833.63 | F36: 830 | G36: 830 | H36: 600 | I36: 600 | J36: 660 | K36: 660 | L36: 813.3 | M36: 813.3 | N36: =ROUND(AVERAGE(D36,F36,H36,J36,L36),0) -> 747 | O36: =ROUND(AVERAGE(E36,G36,I36,K36,M36),0) -> 747
B37: GRASAS | C37: GRASAS | D37: 431.69 | E37: 431.69 | F37: 421.16 | G37: 440 | H37: 657 | I37: 657 | J37: 722.7 | K37: 722.7 | L37: 421.16 | M37: 421.16 | N37: =ROUND(AVERAGE(D37,F37,H37,J37,L37),0) -> 531 | O37: =ROUND(AVERAGE(E37,G37,I37,K37,M37),0) -> 535
B38: AGUA 180 cm3 - 200 cm3 | C38: VASO DE AGUA | D38: 216.48 | E38: 216.48 | F38: 220 | G38: 220 | H38: 600 | I38: 600 | J38: 660 | K38: 660 | L38: 211.2 | M38: 211.2 | N38: =ROUND(AVERAGE(D38,F38,H38,J38,L38),0) -> 382 | O38: =ROUND(AVERAGE(E38,G38,I38,K38,M38),0) -> 382
B39: MISCELANEOS | C39: MISCELANEOS | D39: 209.1 | E39: 209.1 | F39: 220 | G39: 220 | H39: 450 | I39: 450 | J39: 495 | K39: 495 | L39: 204 | M39: 204 | N39: =ROUND(AVERAGE(D39,F39,H39,J39,L39),0) -> 316 | O39: =ROUND(AVERAGE(E39,G39,I39,K39,M39),0) -> 316
B40: TUBÉRCULOS - RAÍCES - PLÁTANOS - DERIVADOS DE CEREAL | C40: PAN | D40: 743.9 | E40: 743.9 | F40: 750 | G40: 750 | H40: 600 | I40: 600 | J40: 660 | K40: 660 | L40: 725.76 | M40: 725.76 | N40: =ROUND(AVERAGE(D40,F40,H40,J40,L40),0) -> 696 | O40: =ROUND(AVERAGE(E40,G40,I40,K40,M40),0) -> 696
...

Sheet RACION INDUS (A)
E1: GRUPO A
E2: SERVICIOS DE ALIMENTACIÓN QP | F2: FUNDACIÓN EDUCANDO A LA NIÑEZ | G2: FUNDACIÓN GARDEN | H2: FUNDACIÓN PARA EL PROGRESO TERRITORIAL | I2: SERVICIOS DE ALIMENTACION NP | J2: PROMEDIO
A3: RACION INDUSTRIALIZADA | E3: PRECIO PREPARADO EN SITIO | F3: PRECIO PREPARADO EN SITIO | G3: PRECIO PREPARADO EN SITIO | H3: PRECIO PREPARADO EN SITIO | I3: PRECIO PREPARADO EN SITIO | J3: PRECIO PREPARADO EN SITIO
A4: N° MENÚ | B4: GRUPO DE ALIMETOS | C4: RANGO DE PESOS AL SERVIR RACIÓN SERVIDA | D4: PREPARACIÓN | E4: valor unitario. | F4: valor unitario. | G4: valor unitario. | H4: valor unitario. | I4: valor unitario. | J4: valor unitario.
A5: 1 | B5: LACTEOS | C5: 200 CC | D5: LECHE ENTERA | E5: 1281.25 | F5: 1300 | G5: 1303.21 | H5: 1433.531 | I5: 1250 | J5: =ROUND(AVERAGE(E5,F5,G5,H5,I5),0) -> 1314
B6: DERIVADOS DE CEREAL | C6: 20 gr - 35 gr - 50 gr70 gr - 90 gr | D6: GALLETA DE COCO | E6: 307.5 | F6: 500 | G6: 407.25313 | H6: 447.97844 | I6: 300 | J6: =ROUND(AVERAGE(E6,F6,G6,H6,I6),0) -> 393
B7: FRUTAS | C7: 145 gr - 145 gr - 170 gr | D7: NA
B8: FRUTOS SECOS / AZUCARES | C8: 15 gr - 20 gr - 20 gr | D8: BOCADILLO VELEÑO CON MANJAR BLANCO (A - B - C) | E8: 338.25 | F8: 440 | G8: 366.52781 | H8: 403.18059 | I8: 330 | J8: =ROUND(AVERAGE(E8,F8,G8,H8,I8),0) -> 376
C9: 25 gr - 25 gr | D9: BOCADILLO DE GUAYABA CON GALLETA (D - E) | G9: 651.605 | H9: 716.7655 | J9: =ROUND(AVERAGE(E9,F9,G9,H9,I9),0) -> 684
B10: TRANSPORTE | C10: GL | D10: TRANSPORTE | E10: 1432.15 | F10: 1450 | G10: 733.05563 | H10: 806.36119 | I10: 1397.22 | J10: =ROUND(AVERAGE(E10,F10,G10,H10,I10),0) -> 1164
