Workbook

Sheet PRESUPUESTO 
B1: PRESUPUESTO
B3: ALMUERZO CCT
B4: GRUPO | C4: VALOR PROMEDIO | D4: CANTIDAD | E4: TOTAL
B5: GRUPO A | C5: ='ALMUERZO (A)'!N294 -> 7699 | D5: 1787 | E5: =+D5*C5 -> 13758113
B6: GRUPO B | C6: ='ALMUERZO (B)'!N294 -> 8715 | D6: 2178 | E6: =+D6*C6 -> 18981270
B7: GRUPO C | C7: ='ALMUERZO (C)'!N294 -> 9430 | D7: 1706 | E7: =+D7*C7 -> 16087580
B8: GRUPO D | C8: ='ALMUERZO (D)'!N294 -> 10081 | D8: 1474 | E8: =+D8*C8 -> 14859394
B9: GRUPO E | C9: ='ALMUERZO (E)'!N294 -> 10827 | D9: 3061 | E9: =+D9*C9 -> 33141447
C10: SUBTOTAL | D10: =SUM(D5:D9) -> 10206 | E10: =SUM(E5:E9) -> 96827804
B11: ALMUERZO PS
B12: GRUPO | C12: VALOR PROMEDIO | D12: CANTIDAD | E12: TOTAL
B13: GRUPO A | C13: ='ALMUERZO (A)'!O294 -> 8272 | D13: 1486 | E13: =C13*D13 -> 12292192
B14: GRUPO B | C14: ='ALMUERZO (B)'!O294 -> 9526 | D14: 3869 | E14: =C14*D14 -> 36856094
B15: GRUPO C | C15: ='ALMUERZO (C)'!O294 -> 9477 | D15: 2700 | E15: =C15*D15 -> 25587900
B16: GRUPO D | C16: ='ALMUERZO (D)'!O294 -> 10925 | D16: 9392 | E16: =C16*D16 -> 102607600
B17: GRUPO E | C17: ='ALMUERZO (E)'!O294 -> 11688 | D17: 6229 | E17: =C17*D17 -> 72804552
C18: SUBTOTAL | D18: =SUM(D13:D17) -> 23676 | E18: =SUM(E13:E17) -> 250148338
B19: COMPLEMENTOS CCT
B20: GRUPO | C20: VALOR PROMEDIO | D20: CANTIDAD | E20: TOTAL
B21: GRUPO A | C21: ='COMPLEMENTO (A)'!O249 -> 6385 | D21: 3202 | E21: =D21*C21 -> 20444770
B22: GRUPO B | C22: ='COMPLEMENTO (B)'!O249 -> 6802 | D22: 0 | E22: =D22*C22 -> 0
B23: GRUPO C | C23: ='COMPLEMENTO (C)'!O249 -> 7346 | D23: 0 | E23: =D23*C23 -> 0
B24: GRUPO D | C24: ='COMPLEMENTO (D)'!O249 -> 7721 | D24: 0 | E24: =D24*C24 -> 0
B25: GRUPO E | C25: ='COMPLEMENTO (E)'!O249 -> 8118 | D25: 0 | E25: =D25*C25 -> 0
C26: SUBTOTAL | D26: =SUM(D21:D25) -> 3202 | E26: =SUM(E21:E25) -> 20444770
B27: COMPLEMENTOS PS
B28: GRUPO | C28: VALOR PROMEDIO | D28: CANTIDAD | E28: TOTAL
B29: GRUPO A | C29: ='COMPLEMENTO (A)'!P249 -> 6945 | D29: 323 | E29: =D29*C29 -> 2243235
B30: GRUPO B | C30: ='COMPLEMENTO (B)'!P249 -> 7165 | D30: 0 | E30: =D30*C30 -> 0
B31: GRUPO C | C31: ='COMPLEMENTO (C)'!P249 -> 7723 | D31: 0 | E31: =D31*C31 -> 0
B32: GRUPO D | C32: ='COMPLEMENTO (D)'!P249 -> 8082 | D32: 0 | E32: =D32*C32 -> 0
B33: GRUPO E | C33: ='COMPLEMENTO (E)'!P249 -> 8223 | D33: 0 | E33: =D33*C33 -> 0
C34: SUBTOTAL | D34: =SUM(D29:D33) -> 323 | E34: =SUM(E29:E33) -> 2243235
B35: RACION INDUSTRIAL
B36: GRUPO | C36: VALOR PROMEDIO | D36: CANTIDAD | E36: TOTAL
B37: GRUPO A | C37: ='RACION INDUS (A)'!J206 -> 6131 | D37: 633 | E37: =C37*D37 -> 3880923
B38: GRUPO B | C38: ='RACION INDUS (B)'!J206 -> 7035 | D38: 2484 | E38: =C38*D38 -> 17474940
B39: GRUPO C | C39: ='RACION INDUS (C)'!J206 -> 7423 | D39: 1013 | E39: =C39*D39 -> 7519499
B40: GRUPO D | C40: ='RACION INDUS (D)'!J206 -> 7886 | D40: 3322 | E40: =C40*D40 -> 26197292
B41: GRUPO E | C41: ='RACION INDUS (E)'!J206 -> 8957 | D41: 1678 | E41: =C41*D41 -> 15029846
C42: SUBTOTAL | D42: =SUM(D37:D41) -> 9130 | E42: =SUM(E37:E41) -> 70102500
B43: TOTAL DÍA | E43: =+E42+E34+E26+E18+E10 -> 439766647
B44: TOTAL 46 DÍAS | E44: =+E43*46 -> 20229265762

Sheet ALMUERZO (A)
D1: GRUPO A
D2: SERVICIOS DE ALIMENTACIÓN QP | F2: FUNDACIÓN EDUCANDO A LA NIÑEZ | H2: FUNDACIÓN GARDEN | J2: FUNDACIÓN PARA EL PROGRESO TERRITORIAL | L2: SERVICIOS DE ALIMENTACION NP | N2: PROMEDIO
A3: ALMUERZO | D3: PRECIO PREPARADO EN SITIO | E3: PRECIO PREPARADO EN CCT | F3: PRECIO PREPARADO EN SITIO | G3: PRECIO PREPARADO EN CCT | H3: PRECIO PREPARADO EN SITIO | I3: PRECIO PREPARADO EN CCT | J3: PRECIO PREPARADO EN SITIO | K3: PRECIO PREPARADO EN CCT | L3: PRECIO PREPARADO EN SITIO | M3: PRECIO PREPARADO EN CCT | N3: PRECIO PREPARADO EN SITIO | O3: PRECIO PREPARADO EN CCT
A4: N° MENÚ | B4: GRUPO DE ALIMETOS | C4: PREPARACIÓN | D4: valor unitario. | E4: valor unitario. | F4: valor unitario. | G4: valor unitario. | H4: valor unitario. | I4: valor unitario. | J4: valor unitario. | K4: valor unitario. | L4: valor unitario. | M4: valor unitario. | N4: valor unitario. | O4: valor unitario.
A5: 1 | B5: ALIMENTO PROTEÍCO | C5: PECHUGA APANADA | D5: 1161.31 | E5: 1161.31 | F5: 1500 | G5: 1500 | H5: 2795.6201 | I5: 2795.6201 | J5: 3075.1821 | K5: 3075.1821 | L5: 1132.99 | M5: 1132.99 | N5: =ROUND(AVERAGE(D5,F5,J5,H5,L5),0) -> 1933 | O5: =ROUND(AVERAGE(E5,G5,K5,I5,M5),0) -> 1933
B6: AZÚCARES | C6: AZÚCARES | D6: 252.15 | E6: 252.15 | F6: 250 | G6: 250 | H6: 453.3438 | I6: 453.3438 | J6: 498.67818 | K6: 498.67818 | L6: 246 | M6: 246 | N6: =ROUND(AVERAGE(D6,F6,J6,H6,L6),0) -> 340 | O6: =ROUND(AVERAGE(E6,G6,K6,I6,M6),0) -> 340
B7: BEBIDA | C7: JUGO DE PIÑA | D7: 731.18 | E7: 731.18 | F7: 750 | G7: 750 | H7: 982.2449 | I7: 982.2449 | J7: 1080.4694 | K7: 1080.4694 | L7: 713.35 | M7: 713.35 | N7: =ROUND(AVERAGE(D7,F7,J7,H7,L7),0) -> 851 | O7: =ROUND(AVERAGE(E7,G7,K7,I7,M7),0) -> 851
B8: CEREAL | C8: ARROZ CON VERDURAS | D8: 367.5 | E8: 367.5 | F8: 370 | G8: 358.54 | H8: 483.56672 | I8: 483.56672 | J8: 531.92339 | K8: 531.92339 | L8: 358.54 | M8: 358.54 | N8: =ROUND(AVERAGE(D8,F8,J8,H8,L8),0) -> 422 | O8: =ROUND(AVERAGE(E8,G8,K8,I8,M8),0) -> 420
B9: GRASAS | C9: GRASAS | D9: 246.82 | E9: 246.82 | F9: 250 | G9: 250 | H9: 496.41146 | I9: 496.41146 | J9: 546.05261 | K9: 546.05261 | L9: 240.8 | M9: 240.8 | N9: =ROUND(AVERAGE(D9,F9,J9,H9,L9),0) -> 356 | O9: =ROUND(AVERAGE(E9,G9,K9,I9,M9),0) -> 356
B10: AGUA 180 cm3 - 200 cm3 | C10: VASO DE AGUA | D10: 216.48 | E10: 216.48 | F10: 220 | G10: 220 | H10: 453.3438 | I10: 453.3438 | J10: 498.67818 | K10: 498.67818 | L10: 211.2 | M10: 211.2 | N10: =ROUND(AVERAGE(D10,F10,J10,H10,L10),0) -> 320 | O10: =ROUND(AVERAGE(E10,G10,K10,I10,M10),0) -> 320
B11: MISCELANEOS | C11: MISCELANEOS | D11: 209.1 | E11: 209.1 | F11: 220 | G11: 220 | H11: 340.00785 | I11: 340.00785 | J11: 374.00863 | K11: 374.00863 | L11: 204 | M11: 204 | N11: =ROUND(AVERAGE(D11,F11,J11,H11,L11),0) -> 269 | O11: =ROUND(AVERAGE(E11,G11,K11,I11,M11),0) -> 269
B12: TUBÉRCULOS - RAÍCES - PLÁTANOS - DERIVADOS DE CEREAL | C12: TAJADAS DE GUINEO VERDE | D12: 215.34 | E12: 215.34 | F12: 220 | G12: 220 | H12: 506.23391 | I12: 506.23391 | J12: 556.8573 | K12: 556.8573 | L12: 210.09 | M12: 210.09 | N12: =ROUND(AVERAGE(D12,F12,J12,H12,L12),0) -> 342 | O12: =ROUND(AVERAGE(E12,G12,K12,I12,M12),0) -> 342
B13: VERDURA FRÍA O CALIENTE | C13: VERDURA FRÍA O CALIENTE | D13: 781.97 | E13: 781.97 | F13: 800 | G13: 800 | H13: 377.7865 | I13: 377.7865 | J13: 415.56515 | K13: 415.56515 | L13: 762.9 | M13: 762.9 | N13: =ROUND(AVERAGE(D13,F13,J13,H13,L13),0) -> 628 | O13: =ROUND(AVERAGE(E13,G13,K13,I13,M13),0) -> 628
B14: TRANSPORTE | C14: TRANSPORTE | D14: 803.62 | E14: 1055.75 | F14: 800 | G14: 1100 | H14: 680.0157 | I14: 680.0157 | J14: 748.01727 | K14: 748.01727 | L14: 784.02 | M14: 1030 | N14: =ROUND(AVERAGE(D14,F14,J14,H14,L14),0) -> 763 | O14: =ROUND(AVERAGE(E14,G14,K14,I14,M14),0) -> 923
B15: PERSONAL REQUERIDO | C15: PERSONAL REQUERIDO | D15: 1151.08 | E15: 1327.38 | F15: 1200 | G15: 1300 | H15: 1020.0236 | I15: 1020.0236 | J15: 1122.0259 | K15: 1122.0259 | L15: 1123 | M15: 1295 | N15: =ROUND(AVERAGE(D15,F15,J15,H15,L15),0) -> 1123 | O15: =ROUND(AVERAGE(E15,G15,K15,I15,M15),0) -> 1213
B16: SERVICIOS PUBLICOS | C16: SERVICIOS PUBLICOS | D16: 459 | E16: 642.59 | F16: 460 | G16: 650 | H16: 831.1303 | I16: 831.1303 | J16: 914.24333 | K16: 914.24333 | L16: 447.8 | M16: 626.92 | N16: =ROUND(AVERAGE(D16,F16,J16,H16,L16),0) -> 622 | O16: =ROUND(AVERAGE(E16,G16,K16,I16,M16),0) -> 733
B17: IMPLEMENTOS Y DOTACIÓN | C17: IMPLEMENTOS Y DOTACIÓN | D17: 613.67 | E17: 1017.52 | F17: 600 | G17: 1000 | H17: 604.4584 | I17: 604.4584 | J17: 664.90424 | K17: 664.90424 | L17: 598.7 | M17: 992.7 | N17: =ROUND(AVERAGE(D17,F17,J17,H17,L17),0) -> 616 | O17: =ROUND(AVERAGE(E17,G17,K17,I17,M17),0) -> 856
D18: =SUM(D5:D17) -> 7209.22 | E18: =SUM(E5:E17) -> 8225.09 | F18: =SUM(F5:F17) -> 7640 | G18: =SUM(G5:G17) -> 8618.54 | H18: =SUM(H5:H17) -> 10024.187 | I18: =SUM(I5:I17) -> 10024.187 | J18: =SUM(J5:J17) -> 11026.606 | K18: =SUM(K5:K17) -> 11026.606 | ... O18: =SUM(O5:O17) -> 9184
A19: 2 | B19: ALIMENTO PROTEÍCO | C19: CERDO EN BISTECK | D19: 992.53 | E19: 992.53 | F19: 1000 | G19: 1000 | H19: 3353.9885 | I19: 3353.9885 | J19: 3689.3874 | K19: 3689.3874 | L19: 968.32 | M19: 968.32 | N19: =ROUND(AVERAGE(D19,F19,J19,H19,L19),0) -> 2001 | O19: =ROUND(AVERAGE(E19,G19,K19,I19,M19),0) -> 2001
B20: AZÚCARES | C20: AZÚCARES | D20: 252.15 | E20: 252.15 | F20: 250 | G20: 250 | H20: 453.3438 | I20: 453.3438 | J20: 498.67818 | K20: 498.67818 | L20: 246 | M20: 246 | N20: =ROUND(AVERAGE(D20,F20,J20,H20,L20),0) -> 340 | O20: =ROUND(AVERAGE(E20,G20,K20,I20,M20),0) -> 340
B21: BEBIDA | C21: JUGO DE BANANO(CON LECHE) | D21: 689.38 | E21: 689.38 | F21: 700 | G21: 700 | H21: 944.46625 | I21: 944.46625 | J21: 1038.9129 | K21: 1038.9129 | L21: 672.57 | M21: 672.57 | N21: =ROUND(AVERAGE(D21,F21,J21,H21,L21),0) -> 809 | O21: =ROUND(AVERAGE(E21,G21,K21,I21,M21),0) -> 809
B22: CEREAL | C22: ARROZ DE FIDEO | D22: 167.62 | E22: 167.62 | F22: 200 | G22: 200 | H22: 408.00942 | I22: 408.00942 | J22: 448.81036 | K22: 448.81036 | L22: 163.53 | M22: 163.53 | N22: =ROUND(AVERAGE(D22,F22,J22,H22,L22),0) -> 278 | O22: =ROUND(AVERAGE(E22,G22,K22,I22,M22),0) -> 278
B23: GRASAS | C23: GRASAS | D23: 246.82 | E23: 246.82 | F23: 250 | G23: 250 | H23: 496.41146 | I23: 496.41146 | J23: 546.05261 | K23: 546.05261 | L23: 240.8 | M23: 240.8 | N23: =ROUND(AVERAGE(D23,F23,J23,H23,L23),0) -> 356 | O23: =ROUND(AVERAGE(E23,G23,K23,I23,M23),0) -> 356
B24: AGUA 180 cm3 - 200 cm3 | C24: VASO DE AGUA | D24: 216.48 | E24: 216.48 | F24: 220 | G24: 220 | H24: 453.3438 | I24: 453.3438 | J24: 498.67818 | K24: 498.67818 | L24: 211.2 | M24: 211.2 | N24: =ROUND(AVERAGE(D24,F24,J24,H24,L24),0) -> 320 | O24: =ROUND(AVERAGE(E24,G24,K24,I24,M24),0) -> 320
B25: MISCELANEOS | C25: MISCELANEOS | D25: 209.1 | E25: 209.1 | F25: 220 | G25: 220 | H25: 340.00785 | I25: 340.00785 | J25: 374.00863 | K25: 374.00863 | L25: 204 | M25: 204 | N25: =ROUND(AVERAGE(D25,F25,J25,H25,L25),0) -> 269 | O25: =ROUND(AVERAGE(E25,G25,K25,I25,M25),0) -> 269
B26: TUBÉRCULOS - RAÍCES - PLÁTANOS - DERIVADOS DE CEREAL | C26: PAPAS A LA FRANCESA | D26: 154.03 | E26: 154.03 | F26: 200 | G26: 200 | H26: 594.63595 | I26: 594.63595 | J26: 654.09955 | K26: 654.09955 | L26: 150.27 | M26: 150.27 | N26: =ROUND(AVERAGE(D26,F26,J26,H26,L26),0) -> 351 | O26: =ROUND(AVERAGE(E26,G26,K26,I26,M26),0) -> 351
B27: ENSALADA DE PAYASO | C27: ENSALADA DE PAYASO | D27: 387.15 | E27: 387.15 | F27: 400 | G27: 400 | H27: 491.12245 | I27: 491.12245 | J27: 540.2347 | K27: 540.2347 | L27: 377.71 | M27: 377.71 | N27: =ROUND(AVERAGE(D27,F27,J27,H27,L27),0) -> 439 | O27: =ROUND(AVERAGE(E27,G27,K27,I27,M27),0) -> 439
B28: TRANSPORTE | C28: TRANSPORTE | D28: 803.62 | E28: 1055.75 | F28: 800 | G28: 1100 | H28: 680.0157 | I28: 680.0157 | J28: 748.01727 | K28: 748.01727 | L28: 784.02 | M28: 1030 | N28: =ROUND(AVERAGE(D28,F28,J28,H28,L28),0) -> 763 | O28: =ROUND(AVERAGE(E28,G28,K28,I28,M28),0) -> 923
B29: PERSONAL REQUERIDO | C29: PERSONAL REQUERIDO | D29: 1151.08 | E29: 1327.38 | F29: 1200 | G29: 1300 | H29: 1020.0236 | I29: 1020.0236 | J29: 1122.0259 | K29: 1122.0259 | L29: 1123 | M29: 1295 | N29: =ROUND(AVERAGE(D29,F29,J29,H29,L29),0) -> 1123 | O29: =ROUND(AVERAGE(E29,G29,K29,I29,M29),0) -> 1213
B30: SERVICIOS PUBLICOS | C30: SERVICIOS PUBLICOS | D30: 459 | E30: 642.59 | F30: 460 | G30: 650 | H30: 831.1303 | I30: 831.1303 | J30: 914.24333 | K30: 914.24333 | L30: 447.8 | M30: 626.92 | N30: =ROUND(AVERAGE(D30,F30,J30,H30,L30),0) -> 622 | O30: =ROUND(AVERAGE(E30,G30,K30,I30,M30),0) -> 733
B31: IMPLEMENTOS Y DOTACIÓN | C31: IMPLEMENTOS Y DOTACIÓN | D31: 613.67 | E31: 1017.52 | F31: 600 | G31: 1000 | H31: 604.4584 | I31: 604.4584 | J31: 664.90424 | K31: 664.90424 | L31: 598.7 | M31: 992.7 | N31: =ROUND(AVERAGE(D31,F31,J31,H31,L31),0) -> 616 | O31: =ROUND(AVERAGE(E31,G31,K31,I31,M31),0) -> 856
D32: =SUM(D19:D31) -> 6342.63 | E32: =SUM(E19:E31) -> 7358.5 | F32: =SUM(F19:F31) -> 6500 | G32: =SUM(G19:G31) -> 7490 | H32: =SUM(H19:H31) -> 10670.957 | I32: =SUM(I19:I31) -> 10670.957 | J32: =SUM(J19:J31) -> 11738.053 | K32: =SUM(K19:K31) -> 11738.053 | ... O32: =SUM(O19:O31) -> 8888
A33: 3 | B33: ALIMENTO PROTEÍCO | C33: POLLO EN CUADRITOS | D33: 1057.66 | E33: 1057.66 | F33: 1200 | G33: 1200 | H33: 2417.8336 | I33: 2417.8336 | J33: 2659.617 | K33: 2659.617 | L33: 1031.87 | M33: 1031.87 | N33: =ROUND(AVERAGE(D33,F33,J33,H33,L33),0) -> 1673 | O33: =ROUND(AVERAGE(E33,G33,K33,I33,M33),0) -> 1673
B34: AZÚCARES | C34: AZÚCARES | D34: 252.15 | E34: 252.15 | F34: 250 | G34: 250 | H34: 453.3438 | I34: 453.3438 | J34: 498.67818 | K34: 498.67818 | L34: 246 | M34: 246 | N34: =ROUND(AVERAGE(D34,F34,J34,H34,L34),0) -> 340 | O34: =ROUND(AVERAGE(E34,G34,K34,I34,M34),0) -> 340
B35: BEBIDA | C35: JUGO DE GUAYABA(CON LECHE) | D35: 646.93 | E35: 646.93 | F35: 650 | G35: 650 | H35: 1284.4741 | I35: 1284.4741 | J35: 1412.9215 | K35: 1412.9215 | L35: 631.15 | M35: 631.15 | N35: =ROUND(AVERAGE(D35,F35,J35,H35,L35),0) -> 925 | O35: =ROUND(AVERAGE(E35,G35,K35,I35,M35),0) -> 925
B36: CEREAL | C36: PASTA GUISADA | D36: 395.78 | E36: 395.78 | F36: 400 | G36: 400 | H36: 453.3438 | I36: 453.3438 | J36: 498.67818 | K36: 498.67818 | L36: 386.12 | M36: 386.12 | N36: =ROUND(AVERAGE(D36,F36,J36,H36,L36),0) -> 427 | O36: =ROUND(AVERAGE(E36,G36,K36,I36,M36),0) -> 427
B37: GRASAS | C37: GRASAS | D37: 246.82 | E37: 246.82 | F37: 250 | G37: 250 | H37: 496.41146 | I37: 496.41146 | J37: 546.05261 | K37: 546.05261 | L37: 240.8 | M37: 240.8 | N37: =ROUND(AVERAGE(D37,F37,J37,H37,L37),0) -> 356 | O37: =ROUND(AVERAGE(E37,G37,K37,I37,M37),0) -> 356
B38: AGUA 180 cm3 - 200 cm3 | C38: VASO DE AGUA | D38: 216.48 | E38: 216.48 | F38: 220 | G38: 220 | H38: 453.3438 | I38: 453.3438 | J38: 498.67818 | K38: 498.67818 | L38: 211.2 | M38: 211.2 | N38: =ROUND(AVERAGE(D38,F38,J38,H38,L38),0) -> 320 | O38: =ROUND(AVERAGE(E38,G38,K38,I38,M38),0) -> 320
B39: MISCELANEOS | C39: MISCELANEOS | D39: 209.1 | E39: 209.1 | F39: 220 | G39: 220 | H39: 340.00785 | I39: 340.00785 | J39: 374.00863 | K39: 374.00863 | L39: 204 | M39: 204 | N39: =ROUND(AVERAGE(D39,F39,J39,H39,L39),0) -> 269 | O39: =ROUND(AVERAGE(E39,G39,K39,I39,M39),0) -> 269
B40: TUBÉRCULOS - RAÍCES - PLÁTANOS - DERIVADOS DE CEREAL | C40: PAN | D40: 371.95 | E40: 371.95 | F40: 400 | G40: 400 | H40: 453.3438 | I40: 453.3438 | J40: 498.67818 | K40: 498.67818 | L40: 362.88 | M40: 362.88 | N40: =ROUND(AVERAGE(D40,F40,J40,H40,L40),0) -> 417 | O40: =ROUND(AVERAGE(E40,G40,K40,I40,M40),0) -> 417
B41: VERDURA FRÍA O CALIENTE | C41: VERDURA FRÍA O CALIENTE | H41: 377.7865 | I41: 377.7865 | J41: 415.56515 | K41: 415.56515 | N41: =ROUND(AVERAGE(D41,F41,J41,H41,L41),0) -> 397 | O41: =ROUND(AVERAGE(E41,G41,K41,I41,M41),0) -> 397
B42: TRANSPORTE | C42: TRANSPORTE | D42: 803.62 | E42: 1055.75 | F42: 800 | G42: 1100 | H42: 680.0157 | I42: 680.0157 | J42: 748.01727 | K42: 748.01727 | L42: 784.02 | M42: 1030 | N42: =ROUND(AVERAGE(D42,F42,J42,H42,L42),0) -> 763 | O42: =ROUND(AVERAGE(E42,G42,K42,I42,M42),0) -> 923
B43: PERSONAL REQUERIDO | C43: PERSONAL REQUERIDO | D43: 1151.08 | E43: 1327.38 | F43: 1200 | G43: 1300 | H43: 1020.0236 | I43: 1020.0236 | J43: 1122.0259 | K43: 1122.0259 | L43: 1123 | M43: 1295 | N43: =ROUND(AVERAGE(D43,F43,J43,H43,L43),0) -> 1123 | O43: =ROUND(AVERAGE(E43,G43,K43,I43,M43),0) -> 1213
B44: SERVICIOS PUBLICOS | C44: SERVICIOS PUBLICOS | D44: 459 | E44: 642.59 | F44: 460 | G44: 650 | H44: 831.1303 | I44: 831.1303 | J44: 914.24333 | K44: 914.24333 | L44: 447.8 | M44: 626.92 | N44: =ROUND(AVERAGE(D44,F44,J44,H44,L44),0) -> 622 | O44: =ROUND(AVERAGE(E44,G44,K44,I44,M44),0) -> 733
B45: IMPLEMENTOS Y DOTACIÓN | C45: IMPLEMENTOS Y DOTACIÓN | D45: 613.67 | E45: 1017.52 | F45: 600 | G45: 1000 | H45: 604.4584 | I45: 604.4584 | J45: 664.90424 | K45: 664.90424 | L45: 598.7 | M45: 992.7 | N45: =ROUND(AVERAGE(D45,F45,J45,H45,L45),0) -> 616 | O45: =ROUND(AVERAGE(E45,G45,K45,I45,M45),0) -> 856
D46: =SUM(D33:D45) -> 6424.24 | E46: =SUM(E33:E45) -> 7440.11 | F46: =SUM(F33:F45) -> 6650 | G46: =SUM(G33:G45) -> 7640 | H46: =SUM(H33:H45) -> 9865.5167 | I46: =SUM(I33:I45) -> 9865.5167 | J46: =SUM(J33:J45) -> 10852.068 | K46: =SUM(K33:K45) -> 10852.068 | ... O46: =SUM(O33:O45) -> 8849
A47: 4 | B47: ALIMENTO PROTEÍCO | C47: HUEVO PERICO | D47: 678.38 | E47: 678.38 | F47: 700 | G47: 700 | H47: 741.97269 | I47: 741.97269 | J47: 816.16995 | K47: 816.16995 | L47: 661.83 | M47: 661.83 | N47: =ROUND(AVERAGE(D47,F47,J47,H47,L47),0) -> 720 | O47: =ROUND(AVERAGE(E47,G47,K47,I47,M47),0) -> 720
B48: ALIMENTO PROTEÍCO | C48: LENTEJAS GUISADAS | D48: 124.14 | E48: 124.14 | F48: 150 | G48: 150 | H48: 453.3438 | I48: 453.3438 | J48: 498.67818 | K48: 498.67818 | L48: 121.11 | M48: 121.11 | N48: =ROUND(AVERAGE(D48,F48,J48,H48,L48),0) -> 269 | O48: =ROUND(AVERAGE(E48,G48,K48,I48,M48),0) -> 269
B49: AZÚCARES | C49: AZÚCARES | D49: 252.15 | E49: 252.15 | F49: 250 | G49: 250 | H49: 453.3438 | I49: 453.3438 | J49: 498.67818 | K49: 498.67818 | L49: 246 | M49: 246 | N49: =ROUND(AVERAGE(D49,F49,J49,H49,L49),0) -> 340 | O49: =ROUND(AVERAGE(E49,G49,K49,I49,M49),0) -> 340
B50: BEBIDA | C50: JUGO DE TOMATE DE ARBOL (CON LECHE) | D50: 736.99 | E50: 736.99 | F50: 730 | G50: 730 | H50: 1511.146 | I50: 1511.146 | J50: 1662.2606 | K50: 1662.2606 | L50: 719.01 | M50: 719.01 | N50: =ROUND(AVERAGE(D50,F50,J50,H50,L50),0) -> 1072 | O50: =ROUND(AVERAGE(E50,G50,K50,I50,M50),0) -> 1072
B51: CEREAL | C51: ARROZ BLANCO | D51: 144.49 | E51: 144.49 | F51: 150 | G51: 150 | H51: 377.7865 | I51: 377.7865 | J51: 415.56515 | K51: 415.56515 | L51: 140.97 | M51: 140.97 | N51: =ROUND(AVERAGE(D51,F51,J51,H51,L51),0) -> 246 | O51: =ROUND(AVERAGE(E51,G51,K51,I51,M51),0) -> 246
B52: GRASAS | C52: GRASAS | D52: 246.82 | E52: 246.82 | F52: 250 | G52: 250 | H52: 496.41146 | I52: 496.41146 | J52: 546.05261 | K52: 546.05261 | L52: 240.8 | M52: 240.8 | N52: =ROUND(AVERAGE(D52,F52,J52,H52,L52),0) -> 356 | O52: =ROUND(AVERAGE(E52,G52,K52,I52,M52),0) -> 356
B53: AGUA 180 cm3 - 200 cm3 | C53: VASO DE AGUA | D53: 216.48 | E53: 216.48 | F53: 220 | G53: 220 | H53: 453.3438 | I53: 453.3438 | J53: 498.67818 | K53: 498.67818 | L53: 211.2 | M53: 211.2 | N53: =ROUND(AVERAGE(D53,F53,J53,H53,L53),0) -> 320 | O53: =ROUND(AVERAGE(E53,G53,K53,I53,M53),0) -> 320
B54: MISCELANEOS | C54: MISCELANEOS | D54: 209.1 | E54: 209.1 | F54: 220 | G54: 220 | H54: 340.00785 | I54: 340.00785 | J54: 374.00863 | K54: 374.00863 | L54: 204 | M54: 204 | N54: =ROUND(AVERAGE(D54,F54,J54,H54,L54),0) -> 269 | O54: =ROUND(AVERAGE(E54,G54,K54,I54,M54),0) -> 269
B55: TUBÉRCULOS - RAÍCES - PLÁTANOS - DERIVADOS DE CEREAL | C55: AREPA | D55: 135.9 | E55: 135.9 | F55: 150 | G55: 150 | H55: 453.3438 | I55: 453.3438 | J55: 498.67818 | K55: 498.67818 | L55: 132.58 | M55: 132.58 | N55: =ROUND(AVERAGE(D55,F55,J55,H55,L55),0) -> 274 | O55: =ROUND(AVERAGE(E55,G55,K55,I55,M55),0) -> 274
B56: VERDURA FRÍA O CALIENTE | C56: TOMATE EN RODAJAS | D56: 635.32 | E56: 635.32 | F56: 630 | G56: 630 | H56: 377.7865 | I56: 377.7865 | J56: 415.56515 | K56: 415.56515 | L56: 619.83 | M56: 619.83 | N56: =ROUND(AVERAGE(D56,F56,J56,H56,L56),0) -> 536 | O56: =ROUND(AVERAGE(E56,G56,K56,I56,M56),0) -> 536
B57: TRANSPORTE | C57: TRANSPORTE | D57: 803.62 | E57: 1055.75 | F57: 800 | G57: 1100 | H57: 680.0157 | I57: 680.0157 | J57: 748.01727 | K57: 748.01727 | L57: 784.02 | M57: 1030 | N57: =ROUND(AVERAGE(D57,F57,J57,H57,L57),0) -> 763 | O57: =ROUND(AVERAGE(E57,G57,K57,I57,M57),0) -> 923
B58: PERSONAL REQUERIDO | C58: PERSONAL REQUERIDO | D58: 1151.08 | E58: 1327.38 | F58: 1200 | G58: 1300 | H58: 1020.0236 | I58: 1020.0236 | J58: 1122.0259 | K58: 1122.0259 | L58: 1123 | M58: 1295 | N58: =ROUND(AVERAGE(D58,F58,J58,H58,L58),0) -> 1123 | O58: =ROUND(AVERAGE(E58,G58,K58,I58,M58),0) -> 1213
B59: SERVICIOS PUBLICOS | C59: SERVICIOS PUBLICOS | D59: 459 | E59: 642.59 | F59: 460 | G59: 650 | H59: 831.1303 | I59: 831.1303 | J59: 914.24333 | K59: 914.24333 | L59: 447.8 | M59: 626.92 | N59: =ROUND(AVERAGE(D59,F59,J59,H59,L59),0) -> 622 | O59: =ROUND(AVERAGE(E59,G59,K59,I59,M59),0) -> 733
B60: IMPLEMENTOS Y DOTACIÓN | C60: IMPLEMENTOS Y DOTACIÓN | D60: 613.67 | E60: 1017.52 | F60: 600 | G60: 1000 | H60: 604.4584 | I60: 604.4584 | J60: 664.90424 | K60: 664.90424 | L60: 598.7 | M60: 992.7 | N60: =ROUND(AVERAGE(D60,F60,J60,H60,L60),0) -> 616 | O60: =ROUND(AVERAGE(E60,G60,K60,I60,M60),0) -> 856
D61: =SUM(D47:D60) -> 6407.14 | E61: =SUM(E47:E60) -> 7423.01 | F61: =SUM(F47:F60) -> 6510 | G61: =SUM(G47:G60) -> 7500 | H61: =SUM(H47:H60) -> 8794.1141 | I61: =SUM(I47:I60) -> 8794.1141 | J61: =SUM(J47:J60) -> 9673.5256 | K61: =SUM(K47:K60) -> 9673.5256 | ... O61: =SUM(O47:O60) -> 8127
A62: 5 | B62: ALIMENTO PROTEÍCO | C62: CARNE DE CERDO GUISADA | D62: 992.53 | E62: 992.53 | F62: 1000 | G62: 1000 | H62: 3475.6358 | I62: 3475.6358 | J62: 3823.1994 | K62: 3823.1994 | L62: 968.32 | M62: 968.32 | N62: =ROUND(AVERAGE(D62,F62,J62,H62,L62),0) -> 2052 | O62: =ROUND(AVERAGE(E62,G62,K62,I62,M62),0) -> 2052
B63: ALIMENTO PROTEÍCO | C63: FRIJOL CABECITA NEGRA | D63: 188.2 | E63: 188.2 | F63: 200 | G63: 200 | H63: 453.3438 | I63: 453.3438 | J63: 498.67818 | K63: 498.67818 | L63: 183.61 | M63: 183.61 | N63: =ROUND(AVERAGE(D63,F63,J63,H63,L63),0) -> 305 | O63: =ROUND(AVERAGE(E63,G63,K63,I63,M63),0) -> 305
B64: AZÚCARES | C64: AZÚCARES | D64: 252.15 | E64: 252.15 | F64: 250 | G64: 250 | H64: 453.3438 | I64: 453.3438 | J64: 498.67818 | K64: 498.67818 | L64: 246 | M64: 246 | N64: =ROUND(AVERAGE(D64,F64,J64,H64,L64),0) -> 340 | O64: =ROUND(AVERAGE(E64,G64,K64,I64,M64),0) -> 340
B65: BEBIDA | C65: AGUA DE PANELA CON LIMON | D65: 615.98 | E65: 615.98 | F65: 700 | G65: 700 | H65: 831.1303 | I65: 831.1303 | J65: 914.24333 | K65: 914.24333 | L65: 600.96 | M65: 600.96 | N65: =ROUND(AVERAGE(D65,F65,J65,H65,L65),0) -> 732 | O65: =ROUND(AVERAGE(E65,G65,K65,I65,M65),0) -> 732
B66: CEREAL | C66: ARROZ BLANCO | D66: 186.89 | E66: 186.89 | F66: 190 | G66: 190 | H66: 377.7865 | I66: 377.7865 | J66: 415.56515 | K66: 415.56515 | L66: 182.33 | M66: 182.33 | N66: =ROUND(AVERAGE(D66,F66,J66,H66,L66),0) -> 271 | O66: =ROUND(AVERAGE(E66,G66,K66,I66,M66),0) -> 271
B67: GRASAS | C67: GRASAS | D67: 246.82 | E67: 246.82 | F67: 250 | G67: 250 | H67: 496.41146 | I67: 496.41146 | J67: 546.05261 | K67: 546.05261 | L67: 240.8 | M67: 240.8 | N67: =ROUND(AVERAGE(D67,F67,J67,H67,L67),0) -> 356 | O67: =ROUND(AVERAGE(E67,G67,K67,I67,M67),0) -> 356
B68: AGUA 180 cm3 - 200 cm3 | C68: VASO DE AGUA | D68: 216.48 | E68: 216.48 | F68: 220 | G68: 220 | H68: 453.3438 | I68: 453.3438 | J68: 498.67818 | K68: 498.67818 | L68: 211.2 | M68: 211.2 | N68: =ROUND(AVERAGE(D68,F68,J68,H68,L68),0) -> 320 | O68: =ROUND(AVERAGE(E68,G68,K68,I68,M68),0) -> 320
B69: MISCELANEOS | C69: MISCELANEOS | D69: 209.1 | E69: 209.1 | F69: 220 | G69: 220 | H69: 340.00785 | I69: 340.00785 | J69: 374.00863 | K69: 374.00863 | L69: 204 | M69: 204 | N69: =ROUND(AVERAGE(D69,F69,J69,H69,L69),0) -> 269 | O69: =ROUND(AVERAGE(E69,G69,K69,I69,M69),0) -> 269
B70: TUBÉRCULOS - RAÍCES - PLÁTANOS - DERIVADOS DE CEREAL | C70: PURÉ DE PAPA | D70: 254.42 | E70: 254.42 | F70: 300 | G70: 300 | H70: 594.63595 | I70: 594.63595 | J70: 654.09955 | K70: 654.09955 | L70: 248.21 | M70: 248.21 | N70: =ROUND(AVERAGE(D70,F70,J70,H70,L70),0) -> 410 | O70: =ROUND(AVERAGE(E70,G70,K70,I70,M70),0) -> 410
B71: VERDURA FRÍA O CALIENTE | C71: ENS. DE ZANAHORIA Y HABICHUELA | D71: 539.63 | E71: 539.63 | F71: 550 | G71: 550 | H71: 377.7865 | I71: 377.7865 | J71: 415.56515 | K71: 415.56515 | L71: 526.47 | M71: 526.47 | N71: =ROUND(AVERAGE(D71,F71,J71,H71,L71),0) -> 482 | O71: =ROUND(AVERAGE(E71,G71,K71,I71,M71),0) -> 482
B72: TRANSPORTE | C72: TRANSPORTE | D72: 803.62 | E72: 1055.75 | F72: 800 | G72: 1100 | H72: 680.0157 | I72: 680.0157 | J72: 748.01727 | K72: 748.01727 | L72: 784.02 | M72: 1030 | N72: =ROUND(AVERAGE(D72,F72,J72,H72,L72),0) -> 763 | O72: =ROUND(AVERAGE(E72,G72,K72,I72,M72),0) -> 923
B73: PERSONAL REQUERIDO | C73: PERSONAL REQUERIDO | D73: 1151.08 | E73: 1327.38 | F73: 1200 | G73: 1300 | H73: 1020.0236 | I73: 1020.0236 | J73: 1122.0259 | K73: 1122.0259 | L73: 1123 | M73: 1295 | N73: =ROUND(AVERAGE(D73,F73,J73,H73,L73),0) -> 1123 | O73: =ROUND(AVERAGE(E73,G73,K73,I73,M73),0) -> 1213
B74: SERVICIOS PUBLICOS | C74: SERVICIOS PUBLICOS | D74: 459 | E74: 642.59 | F74: 460 | G74: 650 | H74: 831.1303 | I74: 831.1303 | J74: 914.24333 | K74: 914.24333 | L74: 447.8 | M74: 626.92 | N74: =ROUND(AVERAGE(D74,F74,J74,H74,L74),0) -> 622 | O74: =ROUND(AVERAGE(E74,G74,K74,I74,M74),0) -> 733
B75: IMPLEMENTOS Y DOTACIÓN | C75: IMPLEMENTOS Y DOTACIÓN | D75: 613.67 | E75: 1017.52 | F75: 600 | G75: 1000 | H75: 604.4584 | I75: 604.4584 | J75: 664.90424 | K75: 664.90424 | L75: 598.7 | M75: 992.7 | N75: =ROUND(AVERAGE(D75,F75,J75,H75,L75),0) -> 616 | O75: =ROUND(AVERAGE(E75,G75,K75,I75,M75),0) -> 856
D76: =SUM(D62:D75) -> 6729.57 | E76: =SUM(E62:E75) -> 7745.44 | F76: =SUM(F62:F75) -> 6940 | G76: =SUM(G62:G75) -> 7930 | H76: =SUM(H62:H75) -> 10989.054 | I76: =SUM(I62:I75) -> 10989.054 | J76: =SUM(J62:J75) -> 12087.959 | K76: =SUM(K62:K75) -> 12087.959 | ... O76: =SUM(O62:O75) -> 9262
A77: 6 | B77: ALIMENTO PROTEÍCO | C77: PECHUGA GUISADA | D77: 1008.78 | E77: 1008.78 | F77: 1100 | G77: 1100 | H77: 2138.2716 | I77: 2138.2716 | J77: 2352.0987 | K77: 2352.0987 | L77: 984.18 | M77: 984.18 | N77: =ROUND(AVERAGE(D77,F77,J77,H77,L77),0) -> 1517 | O77: =ROUND(AVERAGE(E77,G77,K77,I77,M77),0) -> 1517
B78: AZÚCARES | C78: AZÚCARES | D78: 252.15 | E78: 252.15 | F78: 250 | G78: 250 | H78: 453.3438 | I78: 453.3438 | J78: 498.67818 | K78: 498.67818 | L78: 246 | M78: 246 | N78: =ROUND(AVERAGE(D78,F78,J78,H78,L78),0) -> 340 | O78: =ROUND(AVERAGE(E78,G78,K78,I78,M78),0) -> 340
B79: BEBIDA | C79: JUGO DE BANANO(CON LECHE) | D79: 689.38 | E79: 689.38 | F79: 700 | G79: 700 | H79: 944.46625 | I79: 944.46625 | J79: 1038.9129 | K79: 1038.9129 | L79: 672.57 | M79: 672.57 | N79: =ROUND(AVERAGE(D79,F79,J79,H79,L79),0) -> 809 | O79: =ROUND(AVERAGE(E79,G79,K79,I79,M79),0) -> 809
B80: CEREAL | C80: ARROZ DE FIDEO | D80: 167.62 | E80: 167.62 | F80: 200 | G80: 200 | H80: 408.00942 | I80: 408.00942 | J80: 448.81036 | K80: 448.81036 | L80: 163.53 | M80: 163.53 | N80: =ROUND(AVERAGE(D80,F80,J80,H80,L80),0) -> 278 | O80: =ROUND(AVERAGE(E80,G80,K80,I80,M80),0) -> 278
B81: GRASAS | C81: GRASAS | D81: 246.82 | E81: 246.82 | F81: 250 | G81: 250 | H81: 496.41146 | I81: 496.41146 | J81: 546.05261 | K81: 546.05261 | L81: 240.8 | M81: 240.8 | N81: =ROUND(AVERAGE(D81,F81,J81,H81,L81),0) -> 356 | O81: =ROUND(AVERAGE(E81,G81,K81,I81,M81),0) -> 356
B82: AGUA | C82: VASO DE AGUA | D82: 216.48 | E82: 216.48 | F82: 220 | G82: 220 | H82: 453.3438 | I82: 453.3438 | J82: 498.67818 | K82: 498.67818 | L82: 211.2 | M82: 211.2 | N82: =ROUND(AVERAGE(D82,F82,J82,H82,L82),0) -> 320 | O82: =ROUND(AVERAGE(E82,G82,K82,I82,M82),0) -> 320
B83: MISCELANEOS | C83: MISCELANEOS | D83: 209.1 | E83: 209.1 | F83: 220 | G83: 220 | H83: 340.00785 | I83: 340.00785 | J83: 374.00863 | K83: 374.00863 | L83: 204 | M83: 204 | N83: =ROUND(AVERAGE(D83,F83,J83,H83,L83),0) -> 269 | O83: =ROUND(AVERAGE(E83,G83,K83,I83,M83),0) -> 269
B84: TUBÉRCULOS - RAÍCES - PLÁTANOS - DERIVADOS DE CEREAL | C84: PAPAS A LA FRANCESA | D84: 142.96 | E84: 142.96 | F84: 200 | G84: 200 | H84: 594.63595 | I84: 594.63595 | J84: 654.09955 | K84: 654.09955 | L84: 139.47 | M84: 139.47 | N84: =ROUND(AVERAGE(D84,F84,J84,H84,L84),0) -> 346 | O84: =ROUND(AVERAGE(E84,G84,K84,I84,M84),0) -> 346
B85: VERDURA FRÍA O CALIENTE | C85: ENS. DE ZANAHORIA Y HABICHUELA | D85: 539.63 | E85: 539.63 | F85: 550 | G85: 550 | H85: 377.7865 | I85: 377.7865 | J85: 415.56515 | K85: 415.56515 | L85: 526.47 | M85: 526.47 | N85: =ROUND(AVERAGE(D85,F85,J85,H85,L85),0) -> 482 | O85: =ROUND(AVERAGE(E85,G85,K85,I85,M85),0) -> 482
B86: TRANSPORTE | C86: TRANSPORTE | D86: 803.62 | E86: 1055.75 | F86: 800 | G86: 1100 | H86: 680.0157 | I86: 680.0157 | J86: 748.01727 | K86: 748.01727 | L86: 784.02 | M86: 1030 | N86: =ROUND(AVERAGE(D86,F86,J86,H86,L86),0) -> 763 | O86: =ROUND(AVERAGE(E86,G86,K86,I86,M86),0) -> 923
B87: PERSONAL REQUERIDO | C87: PERSONAL REQUERIDO | D87: 1151.08 | E87: 1327.38 | F87: 1200 | G87: 1300 | H87: 1020.0236 | I87: 1020.0236 | J87: 1122.0259 | K87: 1122.0259 | L87: 1123 | M87: 1295 | N87: =ROUND(AVERAGE(D87,F87,J87,H87,L87),0) -> 1123 | O87: =ROUND(AVERAGE(E87,G87,K87,I87,M87),0) -> 1213
B88: SERVICIOS PUBLICOS | C88: SERVICIOS PUBLICOS | D88: 461.25 | E88: 645.75 | F88: 460 | G88: 650 | H88: 831.1303 | I88: 831.1303 | J88: 914.24333 | K88: 914.24333 | L88: 450 | M88: 630 | N88: =ROUND(AVERAGE(D88,F88,J88,H88,L88),0) -> 623 | O88: =ROUND(AVERAGE(E88,G88,K88,I88,M88),0) -> 734
B89: IMPLEMENTOS Y DOTACIÓN | C89: IMPLEMENTOS Y DOTACIÓN | D89: 613.67 | E89: 1017.52 | F89: 600 | G89: 1000 | H89: 604.4584 | I89: 604.4584 | J89: 664.90424 | K89: 664.90424 | L89: 598.7 | M89: 992.7 | N89: =ROUND(AVERAGE(D89,F89,J89,H89,L89),0) -> 616 | O89: =ROUND(AVERAGE(E89,G89,K89,I89,M89),0) -> 856
D90: =SUM(D77:D89) -> 6502.54 | E90: =SUM(E77:E89) -> 7519.32 | F90: =SUM(F77:F89) -> 6750 | G90: =SUM(G77:G89) -> 7740 | H90: =SUM(H77:H89) -> 9341.9046 | I90: =SUM(I77:I89) -> 9341.9046 | J90: =SUM(J77:J89) -> 10276.095 | K90: =SUM(K77:K89) -> 10276.095 | ... O90: =SUM(O77:O89) -> 8443
A91: 7 | B91: ALIMENTO PROTEÍCO | C91: CARNE MOLIDA | D91: 1049.37 | E91: 1049.37 | F91: 1100 | G91: 1100 | H91: 2115.6044 | I91: 2115.6044 | J91: 2327.1648 | K91: 2327.1648 | L91: 1023.78 | M91: 1023.78 | N91: =ROUND(AVERAGE(D91,F91,J91,H91,L91),0) -> 1523 | O91: =ROUND(AVERAGE(E91,G91,K91,I91,M91),0) -> 1523
B92: AZÚCARES | C92: AZÚCARES | D92: 252.15 | E92: 252.15 | F92: 250 | G92: 250 | H92: 453.3438 | I92: 453.3438 | J92: 498.67818 | K92: 498.67818 | L92: 246 | M92: 246 | N92: =ROUND(AVERAGE(D92,F92,J92,H92,L92),0) -> 340 | O92: =ROUND(AVERAGE(E92,G92,K92,I92,M92),0) -> 340
B93: BEBIDA | C93: JUGO DE PIÑA | D93: 742.52 | E93: 742.52 | F93: 750 | G93: 750 | H93: 982.2449 | I93: 982.2449 | J93: 1080.4694 | K93: 1080.4694 | L93: 724.41 | M93: 724.41 | N93: =ROUND(AVERAGE(D93,F93,J93,H93,L93),0) -> 856 | O93: =ROUND(AVERAGE(E93,G93,K93,I93,M93),0) -> 856
B94: CEREAL | C94: ARROZ CON VERDURAS | D94: 256.7 | E94: 256.7 | F94: 300 | G94: 300 | H94: 408.00942 | I94: 408.00942 | J94: 448.81036 | K94: 448.81036 | L94: 250.44 | M94: 250.44 | N94: =ROUND(AVERAGE(D94,F94,J94,H94,L94),0) -> 333 | O94: =ROUND(AVERAGE(E94,G94,K94,I94,M94),0) -> 333
B95: GRASAS | C95: GRASAS | D95: 246.82 | E95: 246.82 | F95: 250 | G95: 250 | H95: 496.41146 | I95: 496.41146 | J95: 546.05261 | K95: 546.05261 | L95: 240.8 | M95: 240.8 | N95: =ROUND(AVERAGE(D95,F95,J95,H95,L95),0) -> 356 | O95: =ROUND(AVERAGE(E95,G95,K95,I95,M95),0) -> 356
B96: AGUA 180 cm3 - 200 cm3 | C96: VASO DE AGUA | D96: 216.48 | E96: 216.48 | F96: 220 | G96: 220 | H96: 453.3438 | I96: 453.3438 | J96: 498.67818 | K96: 498.67818 | L96: 211.2 | M96: 211.2 | N96: =ROUND(AVERAGE(D96,F96,J96,H96,L96),0) -> 320 | O96: =ROUND(AVERAGE(E96,G96,K96,I96,M96),0) -> 320
B97: MISCELANEOS | C97: MISCELANEOS | D97: 209.1 | E97: 209.1 | F97: 220 | G97: 220 | H97: 340.00785 | I97: 340.00785 | J97: 374.00863 | K97: 374.00863 | L97: 204 | M97: 204 | N97: =ROUND(AVERAGE(D97,F97,J97,H97,L97),0) -> 269 | O97: =ROUND(AVERAGE(E97,G97,K97,I97,M97),0) -> 269
B98: TUBÉRCULOS - RAÍCES - PLÁTANOS - DERIVADOS DE CEREAL | C98: TAJADAS DE GUINEO VERDE | D98: 221.28 | E98: 221.28 | F98: 220 | G98: 220 | H98: 506.23391 | I98: 506.23391 | J98: 556.8573 | K98: 556.8573 | L98: 215.88 | M98: 215.88 | N98: =ROUND(AVERAGE(D98,F98,J98,H98,L98),0) -> 344 | O98: =ROUND(AVERAGE(E98,G98,K98,I98,M98),0) -> 344
B99: VERDURA FRÍA O CALIENTE | C99: ENSALADA DE PAYASO | D99: 361.41 | E99: 361.41 | F99: 400 | G99: 400 | H99: 491.12245 | I99: 491.12245 | J99: 540.2347 | K99: 540.2347 | L99: 352.59 | M99: 352.59 | N99: =ROUND(AVERAGE(D99,F99,J99,H99,L99),0) -> 429 | O99: =ROUND(AVERAGE(E99,G99,K99,I99,M99),0) -> 429
B100: TRANSPORTE | C100: TRANSPORTE | D100: 803.62 | E100: 1055.75 | F100: 800 | G100: 1100 | H100: 680.0157 | I100: 680.0157 | J100: 748.01727 | K100: 748.01727 | L100: 784.02 | M100: 1030 | N100: =ROUND(AVERAGE(D100,F100,J100,H100,L100),0) -> 763 | O100: =ROUND(AVERAGE(E100,G100,K100,I100,M100),0) -> 923
...

Sheet ALMUERZO (B)
D1: GRUPO B
D2: SERVICIOS DE ALIMENTACIÓN QP | F2: FUNDACIÓN EDUCANDO A LA NIÑEZ | H2: FUNDACIÓN GARDEN | J2: FUNDACIÓN PARA EL PROGRESO TERRITORIAL | L2: SERVICIOS DE ALIMENTACION NP | N2: PROMEDIO
A3: ALMUERZO | D3: PRECIO PREPARADO EN SITIO | E3: PRECIO PREPARADO EN CCT | F3: PRECIO PREPARADO EN SITIO | G3: PRECIO PREPARADO EN CCT | H3: PRECIO PREPARADO EN SITIO | I3: PRECIO PREPARADO EN CCT | J3: PRECIO PREPARADO EN SITIO | K3: PRECIO PREPARADO EN CCT | L3: PRECIO PREPARADO EN SITIO | M3: PRECIO PREPARADO EN CCT | N3: PRECIO PREPARADO EN SITIO | O3: PRECIO PREPARADO EN CCT
A4: N° MENÚ | B4: GRUPO DE ALIMETOS | C4: PREPARACIÓN | D4: valor unitario. | E4: valor unitario. | F4: valor unitario. | G4: valor unitario. | H4: valor unitario. | I4: valor unitario. | J4: valor unitario. | K4: valor unitario. | L4: valor unitario. | M4: valor unitario. | N4: valor unitario. | O4: valor unitario.
A5: 1 | B5: ALIMENTO PROTEÍCO | C5: PECHUGA APANADA | D5: 1394.24 | E5: 1394.24 | F5: 1500 | G5: 1500 | H5: 3072.11 | I5: 3072.11 | J5: 3379.321 | K5: 3379.321 | L5: 1360.23 | M5: 1360.23 | N5: =ROUND(AVERAGE(D5,F5,H5,J5,L5),0) -> 2141 | O5: =ROUND(AVERAGE(E5,G5,I5,K5,M5),0) -> 2141
B6: AZÚCARES | C6: AZÚCARES | D6: 289.05 | E6: 289.05 | F6: 300 | G6: 300 | H6: 498.18 | I6: 498.18 | J6: 547.998 | K6: 547.998 | L6: 282 | M6: 282 | N6: =ROUND(AVERAGE(D6,F6,H6,J6,L6),0) -> 383 | O6: =ROUND(AVERAGE(E6,G6,I6,K6,M6),0) -> 383
B7: BEBIDA | C7: JUGO DE PIÑA | D7: 731.18 | E7: 731.18 | F7: 750 | G7: 750 | H7: 1079.39 | I7: 1079.39 | J7: 1187.329 | K7: 1187.329 | L7: 713.35 | M7: 713.35 | N7: =ROUND(AVERAGE(D7,F7,H7,J7,L7),0) -> 892 | O7: =ROUND(AVERAGE(E7,G7,I7,K7,M7),0) -> 892
B8: CEREAL | C8: ARROZ CON VERDURAS | D8: 467.41 | E8: 467.41 | F8: 450 | G8: 450 | H8: 531.392 | I8: 531.392 | J8: 584.5312 | K8: 584.5312 | L8: 456.01 | M8: 456.01 | N8: =ROUND(AVERAGE(D8,F8,H8,J8,L8),0) -> 498 | O8: =ROUND(AVERAGE(E8,G8,I8,K8,M8),0) -> 498
B9: GRASAS | C9: GRASAS | D9: 283.84 | E9: 283.84 | F9: 290 | G9: 290 | H9: 545.5071 | I9: 545.5071 | J9: 600.05781 | K9: 600.05781 | L9: 276.92 | M9: 276.92 | N9: =ROUND(AVERAGE(D9,F9,H9,J9,L9),0) -> 399 | O9: =ROUND(AVERAGE(E9,G9,I9,K9,M9),0) -> 399
B10: AGUA 180 cm3 - 200 cm3 | C10: VASO DE AGUA | D10: 216.48 | E10: 216.48 | F10: 220 | G10: 220 | H10: 498.18 | I10: 498.18 | J10: 547.998 | K10: 547.998 | L10: 211.2 | M10: 211.2 | N10: =ROUND(AVERAGE(D10,F10,H10,J10,L10),0) -> 339 | O10: =ROUND(AVERAGE(E10,G10,I10,K10,M10),0) -> 339
B11: MISCELANEOS | C11: MISCELANEOS | D11: 209.1 | E11: 209.1 | F11: 220 | G11: 220 | H11: 373.635 | I11: 373.635 | J11: 410.9985 | K11: 410.9985 | L11: 204 | M11: 204 | N11: =ROUND(AVERAGE(D11,F11,H11,J11,L11),0) -> 284 | O11: =ROUND(AVERAGE(E11,G11,I11,K11,M11),0) -> 284
B12: TUBÉRCULOS - RAÍCES - PLÁTANOS - DERIVADOS DE CEREAL | C12: TAJADAS DE GUINEO VERDE | D12: 277.49 | E12: 277.49 | F12: 300 | G12: 300 | H12: 556.301 | I12: 556.301 | J12: 611.9311 | K12: 611.9311 | L12: 270.72 | M12: 270.72 | N12: =ROUND(AVERAGE(D12,F12,H12,J12,L12),0) -> 403 | O12: =ROUND(AVERAGE(E12,G12,I12,K12,M12),0) -> 403
B13: VERDURA FRÍA O CALIENTE | C13: VERDURA FRÍA O CALIENTE | D13: 785.21 | F13: 80 | H13: 415.15 | I13: 415.15 | J13: 456.665 | K13: 456.665 | L13: 766.06 | N13: =ROUND(AVERAGE(D13,F13,H13,J13,L13),0) -> 501 | O13: =ROUND(AVERAGE(E13,G13,I13,K13,M13),0) -> 436
B14: TRANSPORTE | C14: TRANSPORTE | D14: 803.62 | E14: 1055.75 | F14: 800 | G14: 1100 | H14: 747.27 | I14: 1079.39 | J14: 821.997 | K14: 1187.329 | L14: 784.02 | M14: 1030 | N14: =ROUND(AVERAGE(D14,F14,H14,J14,L14),0) -> 791 | O14: =ROUND(AVERAGE(E14,G14,I14,K14,M14),0) -> 1090
B15: PERSONAL REQUERIDO | C15: PERSONAL REQUERIDO | D15: 1151.08 | E15: 1327.38 | F15: 1200 | G15: 1300 | H15: 1120.905 | I15: 1120.905 | J15: 1232.9955 | K15: 1232.9955 | L15: 1123 | M15: 1295 | N15: =ROUND(AVERAGE(D15,F15,H15,J15,L15),0) -> 1166 | O15: =ROUND(AVERAGE(E15,G15,I15,K15,M15),0) -> 1255
B16: SERVICIOS PUBLICOS | C16: SERVICIOS PUBLICOS | D16: 459 | E16: 642.59 | F16: 460 | G16: 650 | H16: 913.33 | I16: 913.33 | J16: 1004.663 | K16: 1004.663 | L16: 447.8 | M16: 626.92 | N16: =ROUND(AVERAGE(D16,F16,H16,J16,L16),0) -> 657 | O16: =ROUND(AVERAGE(E16,G16,I16,K16,M16),0) -> 768
B17: IMPLEMENTOS Y DOTACIÓN | C17: IMPLEMENTOS Y DOTACIÓN | D17: 613.67 | E17: 1017.52 | F17: 600 | G17: 1000 | H17: 664.24 | I17: 896.724 | J17: 730.664 | K17: 986.3964 | L17: 598.7 | M17: 992.7 | N17: =ROUND(AVERAGE(D17,F17,H17,J17,L17),0) -> 641 | O17: =ROUND(AVERAGE(E17,G17,I17,K17,M17),0) -> 979
D18: =SUM(D5:D17) -> 7681.37 | E18: =SUM(E5:E17) -> 7912.03 | F18: =SUM(F5:F17) -> 7170 | G18: =SUM(G5:G17) -> 8080 | H18: =SUM(H5:H17) -> 11015.59 | I18: =SUM(I5:I17) -> 11580.194 | J18: =SUM(J5:J17) -> 12117.149 | K18: =SUM(K5:K17) -> 12738.214 | ... O18: =SUM(O5:O17) -> 9867
A19: 2 | B19: ALIMENTO PROTEÍCO | C19: CERDO EN BISTECK | D19: 1137.78 | E19: 1137.78 | F19: 1200 | G19: 1200 | H19: 3685.7017 | I19: 3685.7017 | J19: 4054.2719 | K19: 4054.2719 | L19: 1110.03 | M19: 1110.03 | N19: =ROUND(AVERAGE(D19,F19,H19,J19,L19),0) -> 2238 | O19: =ROUND(AVERAGE(E19,G19,I19,K19,M19),0) -> 2238
B20: AZÚCARES | C20: AZÚCARES | D20: 289.05 | E20: 289.05 | F20: 300 | G20: 300 | H20: 498.18 | I20: 498.18 | J20: 547.998 | K20: 547.998 | L20: 282 | M20: 282 | N20: =ROUND(AVERAGE(D20,F20,H20,J20,L20),0) -> 383 | O20: =ROUND(AVERAGE(E20,G20,I20,K20,M20),0) -> 383
B21: BEBIDA | C21: JUGO DE BANANO(CON LECHE) | D21: 689.38 | E21: 689.38 | F21: 700 | G21: 700 | H21: 1037.875 | I21: 1037.875 | J21: 1141.6625 | K21: 1141.6625 | L21: 672.57 | M21: 672.57 | N21: =ROUND(AVERAGE(D21,F21,H21,J21,L21),0) -> 848 | O21: =ROUND(AVERAGE(E21,G21,I21,K21,M21),0) -> 848
B22: CEREAL | C22: ARROZ DE FIDEO | D22: 243.02 | E22: 243.02 | F22: 240 | G22: 240 | H22: 448.362 | I22: 448.362 | J22: 493.1982 | K22: 493.1982 | L22: 237.09 | M22: 237.09 | N22: =ROUND(AVERAGE(D22,F22,H22,J22,L22),0) -> 332 | O22: =ROUND(AVERAGE(E22,G22,I22,K22,M22),0) -> 332
B23: GRASAS | C23: GRASAS | D23: 283.84 | E23: 283.84 | F23: 290 | G23: 290 | H23: 545.5071 | I23: 545.5071 | J23: 600.05781 | K23: 600.05781 | L23: 276.92 | M23: 276.92 | N23: =ROUND(AVERAGE(D23,F23,H23,J23,L23),0) -> 399 | O23: =ROUND(AVERAGE(E23,G23,I23,K23,M23),0) -> 399
B24: AGUA 180 cm3 - 200 cm3 | C24: VASO DE AGUA | D24: 216.48 | E24: 216.48 | F24: 220 | G24: 220 | H24: 498.18 | I24: 498.18 | J24: 547.998 | K24: 547.998 | L24: 211.2 | M24: 211.2 | N24: =ROUND(AVERAGE(D24,F24,H24,J24,L24),0) -> 339 | O24: =ROUND(AVERAGE(E24,G24,I24,K24,M24),0) -> 339
B25: MISCELANEOS | C25: MISCELANEOS | D25: 209.1 | E25: 209.1 | F25: 220 | G25: 220 | H25: 373.635 | I25: 373.635 | J25: 410.9985 | K25: 410.9985 | L25: 204 | M25: 204 | N25: =ROUND(AVERAGE(D25,F25,H25,J25,L25),0) -> 284 | O25: =ROUND(AVERAGE(E25,G25,I25,K25,M25),0) -> 284
B26: TUBÉRCULOS - RAÍCES - PLÁTANOS - DERIVADOS DE CEREAL | C26: PAPAS A LA FRANCESA | D26: 184.65 | E26: 184.65 | F26: 200 | G26: 200 | H26: 653.4461 | I26: 653.4461 | J26: 718.79071 | K26: 718.79071 | L26: 180.15 | M26: 180.15 | N26: =ROUND(AVERAGE(D26,F26,H26,J26,L26),0) -> 387 | O26: =ROUND(AVERAGE(E26,G26,I26,K26,M26),0) -> 387
B27: ENSALADA DE PAYASO | C27: ENSALADA DE PAYASO | D27: 389.53 | E27: 389.53 | F27: 400 | G27: 400 | H27: 539.695 | I27: 539.695 | J27: 593.6645 | K27: 593.6645 | L27: 380.03 | M27: 380.03 | N27: =ROUND(AVERAGE(D27,F27,H27,J27,L27),0) -> 461 | O27: =ROUND(AVERAGE(E27,G27,I27,K27,M27),0) -> 461
B28: TRANSPORTE | C28: TRANSPORTE | D28: 803.62 | E28: 1055.75 | F28: 800 | G28: 1100 | H28: 747.27 | I28: 1079.39 | J28: 821.997 | K28: 1187.329 | L28: 784.02 | M28: 1030 | N28: =ROUND(AVERAGE(D28,F28,H28,J28,L28),0) -> 791 | O28: =ROUND(AVERAGE(E28,G28,I28,K28,M28),0) -> 1090
B29: PERSONAL REQUERIDO | C29: PERSONAL REQUERIDO | D29: 1151.08 | E29: 1327.38 | F29: 1200 | G29: 1300 | H29: 1120.905 | I29: 1120.905 | J29: 1232.9955 | K29: 1232.9955 | L29: 1123 | M29: 1295 | N29: =ROUND(AVERAGE(D29,F29,H29,J29,L29),0) -> 1166 | O29: =ROUND(AVERAGE(E29,G29,I29,K29,M29),0) -> 1255
B30: SERVICIOS PUBLICOS | C30: SERVICIOS PUBLICOS | D30: 459 | E30: 642.59 | F30: 460 | G30: 650 | H30: 913.33 | I30: 913.33 | J30: 1004.663 | K30: 1004.663 | L30: 447.8 | M30: 626.92 | N30: =ROUND(AVERAGE(D30,F30,H30,J30,L30),0) -> 657 | O30: =ROUND(AVERAGE(E30,G30,I30,K30,M30),0) -> 768
B31: IMPLEMENTOS Y DOTACIÓN | C31: IMPLEMENTOS Y DOTACIÓN | D31: 613.67 | E31: 1017.52 | F31: 600 | G31: 1000 | H31: 664.24 | I31: 896.724 | J31: 730.664 | K31: 986.3964 | L31: 598.7 | M31: 992.7 | N31: =ROUND(AVERAGE(D31,F31,H31,J31,L31),0) -> 641 | O31: =ROUND(AVERAGE(E31,G31,I31,K31,M31),0) -> 979
D32: =SUM(D19:D31) -> 6670.2 | E32: =SUM(E19:E31) -> 7686.07 | F32: =SUM(F19:F31) -> 6830 | G32: =SUM(G19:G31) -> 7820 | H32: =SUM(H19:H31) -> 11726.327 | I32: =SUM(I19:I31) -> 12290.931 | J32: =SUM(J19:J31) -> 12898.96 | K32: =SUM(K19:K31) -> 13520.024 | ... O32: =SUM(O19:O31) -> 9763
A33: 3 | B33: ALIMENTO PROTEÍCO | C33: POLLO EN CUADRITOS | D33: 1357.51 | E33: 1357.51 | F33: 1300 | G33: 1300 | H33: 2656.96 | I33: 2656.96 | J33: 2922.656 | K33: 2922.656 | L33: 1324.4 | M33: 1324.4 | N33: =ROUND(AVERAGE(D33,F33,H33,J33,L33),0) -> 1912 | O33: =ROUND(AVERAGE(E33,G33,I33,K33,M33),0) -> 1912
B34: AZÚCARES | C34: AZÚCARES | D34: 289.05 | E34: 289.05 | F34: 300 | G34: 300 | H34: 498.18 | I34: 498.18 | J34: 547.998 | K34: 547.998 | L34: 282 | M34: 282 | N34: =ROUND(AVERAGE(D34,F34,H34,J34,L34),0) -> 383 | O34: =ROUND(AVERAGE(E34,G34,I34,K34,M34),0) -> 383
B35: BEBIDA | C35: JUGO DE GUAYABA(CON LECHE) | D35: 646.93 | E35: 646.93 | F35: 650 | G35: 650 | H35: 1411.51 | I35: 1411.51 | J35: 1552.661 | K35: 1552.661 | L35: 631.15 | M35: 631.15 | N35: =ROUND(AVERAGE(D35,F35,H35,J35,L35),0) -> 978 | O35: =ROUND(AVERAGE(E35,G35,I35,K35,M35),0) -> 978
B36: CEREAL | C36: PASTA GUISADA | D36: 446.86 | E36: 446.86 | F36: 450 | G36: 450 | H36: 498.18 | I36: 498.18 | J36: 547.998 | K36: 547.998 | L36: 435.96 | M36: 435.96 | N36: =ROUND(AVERAGE(D36,F36,H36,J36,L36),0) -> 476 | O36: =ROUND(AVERAGE(E36,G36,I36,K36,M36),0) -> 476
B37: GRASAS | C37: GRASAS | D37: 283.84 | E37: 283.84 | F37: 290 | G37: 290 | H37: 545.5071 | I37: 545.5071 | J37: 600.05781 | K37: 600.05781 | L37: 276.92 | M37: 276.92 | N37: =ROUND(AVERAGE(D37,F37,H37,J37,L37),0) -> 399 | O37: =ROUND(AVERAGE(E37,G37,I37,K37,M37),0) -> 399
B38: AGUA 180 cm3 - 200 cm3 | C38: VASO DE AGUA | D38: 216.48 | E38: 216.48 | F38: 220 | G38: 220 | H38: 498.18 | I38: 498.18 | J38: 547.998 | K38: 547.998 | L38: 211.2 | M38: 211.2 | N38: =ROUND(AVERAGE(D38,F38,H38,J38,L38),0) -> 339 | O38: =ROUND(AVERAGE(E38,G38,I38,K38,M38),0) -> 339
B39: MISCELANEOS | C39: MISCELANEOS | D39: 209.1 | E39: 209.1 | F39: 220 | G39: 220 | H39: 373.635 | I39: 373.635 | J39: 410.9985 | K39: 410.9985 | L39: 204 | M39: 204 | N39: =ROUND(AVERAGE(D39,F39,H39,J39,L39),0) -> 284 | O39: =ROUND(AVERAGE(E39,G39,I39,K39,M39),0) -> 284
B40: TUBÉRCULOS - RAÍCES - PLÁTANOS - DERIVADOS DE CEREAL | C40: PAN | D40: 464.94 | E40: 464.94 | F40: 500 | G40: 500 | H40: 498.18 | I40: 498.18 | J40: 547.998 | K40: 547.998 | L40: 453.6 | M40: 453.6 | N40: =ROUND(AVERAGE(D40,F40,H40,J40,L40),0) -> 493 | O40: =ROUND(AVERAGE(E40,G40,I40,K40,M40),0) -> 493
B41: VERDURA FRÍA O CALIENTE | C41: VERDURA FRÍA O CALIENTE | H41: 415.15 | I41: 415.15 | J41: 456.665 | K41: 456.665 | N41: =ROUND(AVERAGE(D41,F41,H41,J41,L41),0) -> 436 | O41: =ROUND(AVERAGE(E41,G41,I41,K41,M41),0) -> 436
B42: TRANSPORTE | C42: TRANSPORTE | D42: 803.62 | E42: 1055.75 | F42: 800 | G42: 1100 | H42: 747.27 | I42: 1079.39 | J42: 821.997 | K42: 1187.329 | L42: 784.02 | M42: 1030 | N42: =ROUND(AVERAGE(D42,F42,H42,J42,L42),0) -> 791 | O42: =ROUND(AVERAGE(E42,G42,I42,K42,M42),0) -> 1090
B43: PERSONAL REQUERIDO | C43: PERSONAL REQUERIDO | D43: 1151.08 | E43: 1327.38 | F43: 1200 | G43: 1300 | H43: 1120.905 | I43: 1120.905 | J43: 1232.9955 | K43: 1232.9955 | L43: 1123 | M43: 1295 | N43: =ROUND(AVERAGE(D43,F43,H43,J43,L43),0) -> 1166 | O43: =ROUND(AVERAGE(E43,G43,I43,K43,M43),0) -> 1255
B44: SERVICIOS PUBLICOS | C44: SERVICIOS PUBLICOS | D44: 459 | E44: 642.59 | F44: 460 | G44: 650 | H44: 913.33 | I44: 913.33 | J44: 1004.663 | K44: 1004.663 | L44: 447.8 | M44: 626.92 | N44: =ROUND(AVERAGE(D44,F44,H44,J44,L44),0) -> 657 | O44: =ROUND(AVERAGE(E44,G44,I44,K44,M44),0) -> 768
B45: IMPLEMENTOS Y DOTACIÓN | C45: IMPLEMENTOS Y DOTACIÓN | D45: 613.67 | E45: 1017.52 | F45: 600 | G45: 1000 | H45: 664.24 | I45: 896.724 | J45: 730.664 | K45: 986.3964 | L45: 598.7 | M45: 992.7 | N45: =ROUND(AVERAGE(D45,F45,H45,J45,L45),0) -> 641 | O45: =ROUND(AVERAGE(E45,G45,I45,K45,M45),0) -> 979
D46: =SUM(D33:D45) -> 6942.08 | E46: =SUM(E33:E45) -> 7957.95 | F46: =SUM(F33:F45) -> 6990 | G46: =SUM(G33:G45) -> 7980 | H46: =SUM(H33:H45) -> 10841.227 | I46: =SUM(I33:I45) -> 11405.831 | J46: =SUM(J33:J45) -> 11925.35 | K46: =SUM(K33:K45) -> 12546.414 | ... O46: =SUM(O33:O45) -> 9792
A47: 4 | B47: ALIMENTO PROTEÍCO | C47: HUEVO PERICO | D47: 678.38 | E47: 678.38 | F47: 700 | G47: 700 | H47: 815.3546 | I47: 815.3546 | J47: 896.89006 | K47: 896.89006 | L47: 661.83 | M47: 661.83 | N47: =ROUND(AVERAGE(D47,F47,H47,J47,L47),0) -> 750 | O47: =ROUND(AVERAGE(E47,G47,I47,K47,M47),0) -> 750
B48: ALIMENTO PROTEÍCO | C48: LENTEJAS GUISADAS | D48: 148.94 | E48: 148.94 | F48: 150 | G48: 150 | H48: 498.18 | I48: 498.18 | J48: 547.998 | K48: 547.998 | L48: 145.31 | M48: 145.31 | N48: =ROUND(AVERAGE(D48,F48,H48,J48,L48),0) -> 298 | O48: =ROUND(AVERAGE(E48,G48,I48,K48,M48),0) -> 298
B49: AZÚCARES | C49: AZÚCARES | D49: 289.05 | E49: 289.05 | F49: 300 | G49: 300 | H49: 498.18 | I49: 498.18 | J49: 547.998 | K49: 547.998 | L49: 282 | M49: 282 | N49: =ROUND(AVERAGE(D49,F49,H49,J49,L49),0) -> 383 | O49: =ROUND(AVERAGE(E49,G49,I49,K49,M49),0) -> 383
B50: BEBIDA | C50: JUGO DE TOMATE DE ARBOL (CON LECHE) | D50: 725.65 | E50: 725.65 | F50: 730 | G50: 730 | H50: 1660.6 | I50: 1660.6 | J50: 1826.66 | K50: 1826.66 | L50: 707.95 | M50: 707.95 | N50: =ROUND(AVERAGE(D50,F50,H50,J50,L50),0) -> 1130 | O50: =ROUND(AVERAGE(E50,G50,I50,K50,M50),0) -> 1130
B51: CEREAL | C51: ARROZ BLANCO | D51: 170.47 | E51: 170.47 | F51: 190 | G51: 190 | H51: 415.15 | I51: 415.15 | J51: 456.665 | K51: 456.665 | L51: 166.31 | M51: 166.31 | N51: =ROUND(AVERAGE(D51,F51,H51,J51,L51),0) -> 280 | O51: =ROUND(AVERAGE(E51,G51,I51,K51,M51),0) -> 280
B52: GRASAS | C52: GRASAS | D52: 283.84 | E52: 283.84 | F52: 290 | G52: 290 | H52: 545.5071 | I52: 545.5071 | J52: 600.05781 | K52: 600.05781 | L52: 276.92 | M52: 276.92 | N52: =ROUND(AVERAGE(D52,F52,H52,J52,L52),0) -> 399 | O52: =ROUND(AVERAGE(E52,G52,I52,K52,M52),0) -> 399
B53: AGUA 180 cm3 - 200 cm3 | C53: VASO DE AGUA | D53: 216.48 | E53: 216.48 | F53: 220 | G53: 220 | H53: 498.18 | I53: 498.18 | J53: 547.998 | K53: 547.998 | L53: 211.2 | M53: 211.2 | N53: =ROUND(AVERAGE(D53,F53,H53,J53,L53),0) -> 339 | O53: =ROUND(AVERAGE(E53,G53,I53,K53,M53),0) -> 339
B54: MISCELANEOS | C54: MISCELANEOS | D54: 209.1 | E54: 209.1 | F54: 220 | G54: 220 | H54: 373.635 | I54: 373.635 | J54: 410.9985 | K54: 410.9985 | L54: 204 | M54: 204 | N54: =ROUND(AVERAGE(D54,F54,H54,J54,L54),0) -> 284 | O54: =ROUND(AVERAGE(E54,G54,I54,K54,M54),0) -> 284
B55: TUBÉRCULOS - RAÍCES - PLÁTANOS - DERIVADOS DE CEREAL | C55: AREPA | D55: 207.62 | E55: 207.62 | F55: 250 | G55: 250 | H55: 498.18 | I55: 498.18 | J55: 547.998 | K55: 547.998 | L55: 202.56 | M55: 202.56 | N55: =ROUND(AVERAGE(D55,F55,H55,J55,L55),0) -> 341 | O55: =ROUND(AVERAGE(E55,G55,I55,K55,M55),0) -> 341
B56: VERDURA FRÍA O CALIENTE | C56: TOMATE EN RODAJAS | D56: 762.17 | E56: 762.17 | F56: 750 | G56: 750 | H56: 415.15 | I56: 415.15 | J56: 456.665 | K56: 456.665 | L56: 743.58 | M56: 743.58 | N56: =ROUND(AVERAGE(D56,F56,H56,J56,L56),0) -> 626 | O56: =ROUND(AVERAGE(E56,G56,I56,K56,M56),0) -> 626
B57: TRANSPORTE | C57: TRANSPORTE | D57: 803.62 | E57: 1055.75 | F57: 800 | G57: 1100 | H57: 747.27 | I57: 1079.39 | J57: 821.997 | K57: 1187.329 | L57: 784.02 | M57: 1030 | N57: =ROUND(AVERAGE(D57,F57,H57,J57,L57),0) -> 791 | O57: =ROUND(AVERAGE(E57,G57,I57,K57,M57),0) -> 1090
B58: PERSONAL REQUERIDO | C58: PERSONAL REQUERIDO | D58: 1151.08 | E58: 1327.38 | F58: 1200 | G58: 1300 | H58: 1120.905 | I58: 1120.905 | J58: 1232.9955 | K58: 1232.9955 | L58: 1123 | M58: 1295 | N58: =ROUND(AVERAGE(D58,F58,H58,J58,L58),0) -> 1166 | O58: =ROUND(AVERAGE(E58,G58,I58,K58,M58),0) -> 1255
B59: SERVICIOS PUBLICOS | C59: SERVICIOS PUBLICOS | D59: 459 | E59: 642.59 | F59: 460 | G59: 650 | H59: 913.33 | I59: 913.33 | J59: 1004.663 | K59: 1004.663 | L59: 447.8 | M59: 626.92 | N59: =ROUND(AVERAGE(D59,F59,H59,J59,L59),0) -> 657 | O59: =ROUND(AVERAGE(E59,G59,I59,K59,M59),0) -> 768
B60: IMPLEMENTOS Y DOTACIÓN | C60: IMPLEMENTOS Y DOTACIÓN | D60: 613.67 | E60: 1017.52 | F60: 600 | G60: 1000 | H60: 664.24 | I60: 896.724 | J60: 730.664 | K60: 986.3964 | L60: 598.7 | M60: 992.7 | N60: =ROUND(AVERAGE(D60,F60,H60,J60,L60),0) -> 641 | O60: =ROUND(AVERAGE(E60,G60,I60,K60,M60),0) -> 979
D61: =SUM(D47:D60) -> 6719.07 | E61: =SUM(E47:E60) -> 7734.94 | F61: =SUM(F47:F60) -> 6860 | G61: =SUM(G47:G60) -> 7850 | H61: =SUM(H47:H60) -> 9663.8617 | I61: =SUM(I47:I60) -> 10228.466 | J61: =SUM(J47:J60) -> 10630.248 | K61: =SUM(K47:K60) -> 11251.312 | ... O61: =SUM(O47:O60) -> 8922
A62: 5 | B62: ALIMENTO PROTEÍCO | C62: CARNE DE CERDO GUISADA | D62: 1137.78 | E62: 1137.78 | F62: 1200 | G62: 1200 | H62: 3819.38 | I62: 3819.38 | J62: 4201.318 | K62: 4201.318 | L62: 1110.03 | M62: 1110.03 | N62: =ROUND(AVERAGE(D62,F62,H62,J62,L62),0) -> 2294 | O62: =ROUND(AVERAGE(E62,G62,I62,K62,M62),0) -> 2294
B63: ALIMENTO PROTEÍCO | C63: FRIJOL CABECITA NEGRA | D63: 214.47 | E63: 214.47 | F63: 200 | G63: 200 | H63: 498.18 | I63: 498.18 | J63: 547.998 | K63: 547.998 | L63: 209.24 | M63: 209.24 | N63: =ROUND(AVERAGE(D63,F63,H63,J63,L63),0) -> 334 | O63: =ROUND(AVERAGE(E63,G63,I63,K63,M63),0) -> 334
B64: AZÚCARES | C64: AZÚCARES | D64: 289.05 | E64: 289.05 | F64: 300 | G64: 300 | H64: 498.18 | I64: 498.18 | J64: 547.998 | K64: 547.998 | L64: 282 | M64: 282 | N64: =ROUND(AVERAGE(D64,F64,H64,J64,L64),0) -> 383 | O64: =ROUND(AVERAGE(E64,G64,I64,K64,M64),0) -> 383
B65: BEBIDA | C65: AGUA DE PANELA CON LIMON | D65: 615.98 | E65: 615.98 | F65: 700 | G65: 700 | H65: 913.33 | I65: 913.33 | J65: 1004.663 | K65: 1004.663 | L65: 600.96 | M65: 600.96 | N65: =ROUND(AVERAGE(D65,F65,H65,J65,L65),0) -> 767 | O65: =ROUND(AVERAGE(E65,G65,I65,K65,M65),0) -> 767
B66: CEREAL | C66: ARROZ BLANCO | D66: 252.52 | E66: 252.52 | F66: 250 | G66: 250 | H66: 415.15 | I66: 415.15 | J66: 456.665 | K66: 456.665 | L66: 246.36 | M66: 246.36 | N66: =ROUND(AVERAGE(D66,F66,H66,J66,L66),0) -> 324 | O66: =ROUND(AVERAGE(E66,G66,I66,K66,M66),0) -> 324
B67: GRASAS | C67: GRASAS | D67: 283.84 | E67: 283.84 | F67: 290 | G67: 290 | H67: 545.5071 | I67: 545.5071 | J67: 600.05781 | K67: 600.05781 | L67: 276.92 | M67: 276.92 | N67: =ROUND(AVERAGE(D67,F67,H67,J67,L67),0) -> 399 | O67: =ROUND(AVERAGE(E67,G67,I67,K67,M67),0) -> 399
B68: AGUA 180 cm3 - 200 cm3 | C68: VASO DE AGUA | D68: 216.48 | E68: 216.48 | F68: 220 | G68: 220 | H68: 498.18 | I68: 498.18 | J68: 547.998 | K68: 547.998 | L68: 211.2 | M68: 211.2 | N68: =ROUND(AVERAGE(D68,F68,H68,J68,L68),0) -> 339 | O68: =ROUND(AVERAGE(E68,G68,I68,K68,M68),0) -> 339
B69: MISCELANEOS | C69: MISCELANEOS | D69: 209.1 | E69: 209.1 | F69: 220 | G69: 220 | H69: 373.635 | I69: 373.635 | J69: 410.9985 | K69: 410.9985 | L69: 204 | M69: 204 | N69: =ROUND(AVERAGE(D69,F69,H69,J69,L69),0) -> 284 | O69: =ROUND(AVERAGE(E69,G69,I69,K69,M69),0) -> 284
B70: TUBÉRCULOS - RAÍCES - PLÁTANOS - DERIVADOS DE CEREAL | C70: PURÉ DE PAPA | D70: 259.82 | E70: 259.82 | F70: 300 | G70: 300 | H70: 653.4461 | I70: 653.4461 | J70: 718.79071 | K70: 718.79071 | L70: 253.48 | M70: 253.48 | N70: =ROUND(AVERAGE(D70,F70,H70,J70,L70),0) -> 437 | O70: =ROUND(AVERAGE(E70,G70,I70,K70,M70),0) -> 437
B71: VERDURA FRÍA O CALIENTE | C71: ENS. DE ZANAHORIA Y HABICHUELA | D71: 539.63 | E71: 539.63 | F71: 550 | G71: 550 | H71: 415.15 | I71: 415.15 | J71: 456.665 | K71: 456.665 | L71: 526.47 | M71: 526.47 | N71: =ROUND(AVERAGE(D71,F71,H71,J71,L71),0) -> 498 | O71: =ROUND(AVERAGE(E71,G71,I71,K71,M71),0) -> 498
B72: TRANSPORTE | C72: TRANSPORTE | D72: 803.62 | E72: 1055.75 | F72: 800 | G72: 1100 | H72: 747.27 | I72: 1079.39 | J72: 821.997 | K72: 1187.329 | L72: 784.02 | M72: 1030 | N72: =ROUND(AVERAGE(D72,F72,H72,J72,L72),0) -> 791 | O72: =ROUND(AVERAGE(E72,G72,I72,K72,M72),0) -> 1090
B73: PERSONAL REQUERIDO | C73: PERSONAL REQUERIDO | D73: 1151.08 | E73: 1327.38 | F73: 1200 | G73: 1300 | H73: 1120.905 | I73: 1120.905 | J73: 1232.9955 | K73: 1232.9955 | L73: 1123 | M73: 1295 | N73: =ROUND(AVERAGE(D73,F73,H73,J73,L73),0) -> 1166 | O73: =ROUND(AVERAGE(E73,G73,I73,K73,M73),0) -> 1255
B74: SERVICIOS PUBLICOS | C74: SERVICIOS PUBLICOS | D74: 459 | E74: 642.59 | F74: 460 | G74: 650 | H74: 913.33 | I74: 913.33 | J74: 1004.663 | K74: 1004.663 | L74: 447.8 | M74: 626.92 | N74: =ROUND(AVERAGE(D74,F74,H74,J74,L74),0) -> 657 | O74: =ROUND(AVERAGE(E74,G74,I74,K74,M74),0) -> 768
B75: IMPLEMENTOS Y DOTACIÓN | C75: IMPLEMENTOS Y DOTACIÓN | D75: 613.67 | E75: 1017.52 | F75: 600 | G75: 1000 | H75: 664.24 | I75: 896.724 | J75: 730.664 | K75: 986.3964 | L75: 598.7 | M75: 992.7 | N75: =ROUND(AVERAGE(D75,F75,H75,J75,L75),0) -> 641 | O75: =ROUND(AVERAGE(E75,G75,I75,K75,M75),0) -> 979
D76: =SUM(D62:D75) -> 7046.04 | E76: =SUM(E62:E75) -> 8061.91 | F76: =SUM(F62:F75) -> 7290 | G76: =SUM(G62:G75) -> 8280 | H76: =SUM(H62:H75) -> 12075.883 | I76: =SUM(I62:I75) -> 12640.487 | J76: =SUM(J62:J75) -> 13283.472 | K76: =SUM(K62:K75) -> 13904.536 | ... O76: =SUM(O62:O75) -> 10151
A77: 6 | B77: ALIMENTO PROTEÍCO | C77: PECHUGA GUISADA | D77: 1294.27 | E77: 1294.27 | F77: 1300 | G77: 1300 | H77: 2349.749 | I77: 2349.749 | J77: 2584.7239 | K77: 2584.7239 | L77: 1262.71 | M77: 1262.71 | N77: =ROUND(AVERAGE(D77,F77,H77,J77,L77),0) -> 1758 | O77: =ROUND(AVERAGE(E77,G77,I77,K77,M77),0) -> 1758
B78: AZÚCARES | C78: AZÚCARES | D78: 289.05 | E78: 289.05 | F78: 300 | G78: 300 | H78: 498.18 | I78: 498.18 | J78: 547.998 | K78: 547.998 | L78: 282 | M78: 282 | N78: =ROUND(AVERAGE(D78,F78,H78,J78,L78),0) -> 383 | O78: =ROUND(AVERAGE(E78,G78,I78,K78,M78),0) -> 383
B79: BEBIDA | C79: JUGO DE BANANO(CON LECHE) | D79: 689.38 | E79: 689.38 | F79: 700 | G79: 700 | H79: 1037.875 | I79: 1037.875 | J79: 1141.6625 | K79: 1141.6625 | L79: 672.57 | M79: 672.57 | N79: =ROUND(AVERAGE(D79,F79,H79,J79,L79),0) -> 848 | O79: =ROUND(AVERAGE(E79,G79,I79,K79,M79),0) -> 848
B80: CEREAL | C80: ARROZ DE FIDEO | D80: 243.02 | E80: 243.02 | F80: 240 | G80: 240 | H80: 448.362 | I80: 448.362 | J80: 493.1982 | K80: 493.1982 | L80: 237.09 | M80: 237.09 | N80: =ROUND(AVERAGE(D80,F80,H80,J80,L80),0) -> 332 | O80: =ROUND(AVERAGE(E80,G80,I80,K80,M80),0) -> 332
B81: GRASAS | C81: GRASAS | D81: 283.84 | E81: 283.84 | F81: 290 | G81: 290 | H81: 545.5071 | I81: 545.5071 | J81: 600.05781 | K81: 600.05781 | L81: 276.92 | M81: 276.92 | N81: =ROUND(AVERAGE(D81,F81,H81,J81,L81),0) -> 399 | O81: =ROUND(AVERAGE(E81,G81,I81,K81,M81),0) -> 399
B82: AGUA | C82: VASO DE AGUA | D82: 216.48 | E82: 216.48 | F82: 220 | G82: 220 | H82: 498.18 | I82: 498.18 | J82: 547.998 | K82: 547.998 | L82: 211.2 | M82: 211.2 | N82: =ROUND(AVERAGE(D82,F82,H82,J82,L82),0) -> 339 | O82: =ROUND(AVERAGE(E82,G82,I82,K82,M82),0) -> 339
B83: MISCELANEOS | C83: MISCELANEOS | D83: 209.1 | E83: 209.1 | F83: 220 | G83: 220 | H83: 373.635 | I83: 373.635 | J83: 410.9985 | K83: 410.9985 | L83: 204 | M83: 204 | N83: =ROUND(AVERAGE(D83,F83,H83,J83,L83),0) -> 284 | O83: =ROUND(AVERAGE(E83,G83,I83,K83,M83),0) -> 284
B84: TUBÉRCULOS - RAÍCES - PLÁTANOS - DERIVADOS DE CEREAL | C84: PAPAS A LA FRANCESA | D84: 162.51 | E84: 162.51 | F84: 200 | G84: 200 | H84: 653.4461 | I84: 653.4461 | J84: 718.79071 | K84: 718.79071 | L84: 158.55 | M84: 158.55 | N84: =ROUND(AVERAGE(D84,F84,H84,J84,L84),0) -> 379 | O84: =ROUND(AVERAGE(E84,G84,I84,K84,M84),0) -> 379
B85: VERDURA FRÍA O CALIENTE | C85: ENS. DE ZANAHORIA Y HABICHUELA | D85: 539.63 | E85: 539.63 | F85: 550 | G85: 550 | H85: 415.15 | I85: 415.15 | J85: 456.665 | K85: 456.665 | L85: 526.47 | M85: 526.47 | N85: =ROUND(AVERAGE(D85,F85,H85,J85,L85),0) -> 498 | O85: =ROUND(AVERAGE(E85,G85,I85,K85,M85),0) -> 498
B86: TRANSPORTE | C86: TRANSPORTE | D86: 803.62 | E86: 1055.75 | F86: 800 | G86: 1100 | H86: 747.27 | I86: 1079.39 | J86: 821.997 | K86: 1187.329 | L86: 784.02 | M86: 1030 | N86: =ROUND(AVERAGE(D86,F86,H86,J86,L86),0) -> 791 | O86: =ROUND(AVERAGE(E86,G86,I86,K86,M86),0) -> 1090
B87: PERSONAL REQUERIDO | C87: PERSONAL REQUERIDO | D87: 1151.08 | E87: 1327.38 | F87: 1200 | G87: 1300 | H87: 1120.905 | I87: 1120.905 | J87: 1232.9955 | K87: 1232.9955 | L87: 1123 | M87: 1295 | N87: =ROUND(AVERAGE(D87,F87,H87,J87,L87),0) -> 1166 | O87: =ROUND(AVERAGE(E87,G87,I87,K87,M87),0) -> 1255
B88: SERVICIOS PUBLICOS | C88: SERVICIOS PUBLICOS | D88: 459 | E88: 642.59 | F88: 460 | G88: 650 | H88: 913.33 | I88: 913.33 | J88: 1004.663 | K88: 1004.663 | L88: 447.8 | M88: 626.92 | N88: =ROUND(AVERAGE(D88,F88,H88,J88,L88),0) -> 657 | O88: =ROUND(AVERAGE(E88,G88,I88,K88,M88),0) -> 768
B89: IMPLEMENTOS Y DOTACIÓN | C89: IMPLEMENTOS Y DOTACIÓN | D89: 613.67 | E89: 1017.52 | F89: 600 | G89: 1000 | H89: 664.24 | I89: 896.724 | J89: 730.664 | K89: 986.3964 | L89: 598.7 | M89: 992.7 | N89: =ROUND(AVERAGE(D89,F89,H89,J89,L89),0) -> 641 | O89: =ROUND(AVERAGE(E89,G89,I89,K89,M89),0) -> 979
D90: =SUM(D77:D89) -> 6954.65 | E90: =SUM(E77:E89) -> 7970.52 | F90: =SUM(F77:F89) -> 7080 | G90: =SUM(G77:G89) -> 8070 | H90: =SUM(H77:H89) -> 10265.829 | I90: =SUM(I77:I89) -> 10830.433 | J90: =SUM(J77:J89) -> 11292.412 | K90: =SUM(K77:K89) -> 11913.477 | ... O90: =SUM(O77:O89) -> 9312
A91: 7 | B91: ALIMENTO PROTEÍCO | C91: CARNE MOLIDA | D91: 1245.91 | E91: 1245.91 | F91: 1300 | G91: 1300 | H91: 2324.84 | I91: 2324.84 | J91: 2557.324 | K91: 2557.324 | L91: 1215.52 | M91: 1215.52 | N91: =ROUND(AVERAGE(D91,F91,H91,J91,L91),0) -> 1729 | O91: =ROUND(AVERAGE(E91,G91,I91,K91,M91),0) -> 1729
B92: AZÚCARES | C92: AZÚCARES | D92: 289.05 | E92: 289.05 | F92: 300 | G92: 300 | H92: 498.18 | I92: 498.18 | J92: 547.998 | K92: 547.998 | L92: 282 | M92: 282 | N92: =ROUND(AVERAGE(D92,F92,H92,J92,L92),0) -> 383 | O92: =ROUND(AVERAGE(E92,G92,I92,K92,M92),0) -> 383
B93: BEBIDA | C93: JUGO DE PIÑA | D93: 742.52 | E93: 742.52 | F93: 750 | G93: 750 | H93: 1079.39 | I93: 1079.39 | J93: 1187.329 | K93: 1187.329 | L93: 724.41 | M93: 724.41 | N93: =ROUND(AVERAGE(D93,F93,H93,J93,L93),0) -> 897 | O93: =ROUND(AVERAGE(E93,G93,I93,K93,M93),0) -> 897
B94: CEREAL | C94: ARROZ CON VERDURAS | D94: 346.65 | E94: 346.65 | F94: 370 | G94: 370 | H94: 448.362 | I94: 448.362 | J94: 493.1982 | K94: 493.1982 | L94: 338.2 | M94: 338.2 | N94: =ROUND(AVERAGE(D94,F94,H94,J94,L94),0) -> 399 | O94: =ROUND(AVERAGE(E94,G94,I94,K94,M94),0) -> 399
B95: GRASAS | C95: GRASAS | D95: 283.84 | E95: 283.84 | F95: 290 | G95: 290 | H95: 545.5071 | I95: 545.5071 | J95: 600.05781 | K95: 600.05781 | L95: 276.92 | M95: 276.92 | N95: =ROUND(AVERAGE(D95,F95,H95,J95,L95),0) -> 399 | O95: =ROUND(AVERAGE(E95,G95,I95,K95,M95),0) -> 399
B96: AGUA 180 cm3 - 200 cm3 | C96: VASO DE AGUA | D96: 216.48 | E96: 216.48 | F96: 220 | G96: 220 | H96: 498.18 | I96: 498.18 | J96: 547.998 | K96: 547.998 | L96: 211.2 | M96: 211.2 | N96: =ROUND(AVERAGE(D96,F96,H96,J96,L96),0) -> 339 | O96: =ROUND(AVERAGE(E96,G96,I96,K96,M96),0) -> 339
B97: MISCELANEOS | C97: MISCELANEOS | D97: 209.1 | E97: 209.1 | F97: 220 | G97: 220 | H97: 373.635 | I97: 373.635 | J97: 410.9985 | K97: 410.9985 | L97: 204 | M97: 204 | N97: =ROUND(AVERAGE(D97,F97,H97,J97,L97),0) -> 284 | O97: =ROUND(AVERAGE(E97,G97,I97,K97,M97),0) -> 284
B98: TUBÉRCULOS - RAÍCES - PLÁTANOS - DERIVADOS DE CEREAL | C98: TAJADAS DE GUINEO VERDE | D98: 285.97 | E98: 285.97 | F98: 300 | G98: 300 | H98: 556.301 | I98: 556.301 | J98: 611.9311 | K98: 611.9311 | L98: 279 | M98: 279 | N98: =ROUND(AVERAGE(D98,F98,H98,J98,L98),0) -> 407 | O98: =ROUND(AVERAGE(E98,G98,I98,K98,M98),0) -> 407
B99: VERDURA FRÍA O CALIENTE | C99: ENSALADA DE PAYASO | D99: 381.17 | E99: 381.17 | F99: 400 | G99: 400 | H99: 539.695 | I99: 539.695 | J99: 593.6645 | K99: 593.6645 | L99: 371.87 | M99: 371.87 | N99: =ROUND(AVERAGE(D99,F99,H99,J99,L99),0) -> 457 | O99: =ROUND(AVERAGE(E99,G99,I99,K99,M99),0) -> 457
B100: TRANSPORTE | C100: TRANSPORTE | D100: 803.62 | E100: 1055.75 | F100: 800 | G100: 1100 | H100: 747.27 | I100: 1079.39 | J100: 821.997 | K100: 1187.329 | L100: 784.02 | M100: 1030 | N100: =ROUND(AVERAGE(D100,F100,H100,J100,L100),0) -> 791 | O100: =ROUND(AVERAGE(E100,G100,I100,K100,M100),0) -> 1090
...

Sheet ALMUERZO (C)
D1: GRUPO C
D2: SERVICIOS DE ALIMENTACIÓN QP | F2: FUNDACIÓN EDUCANDO A LA NIÑEZ | H2: FUNDACIÓN GARDEN | J2: FUNDACIÓN PARA EL PROGRESO TERRITORIAL | L2: SERVICIOS DE ALIMENTACION NP | N2: PROMEDIO
A3: ALMUERZO | D3: PRECIO PREPARADO EN SITIO | E3: PRECIO PREPARADO EN CCT | F3: PRECIO PREPARADO EN SITIO | G3: PRECIO PREPARADO EN CCT | H3: PRECIO PREPARADO EN SITIO | I3: PRECIO PREPARADO EN CCT | J3: PRECIO PREPARADO EN SITIO | K3: PRECIO PREPARADO EN CCT | L3: PRECIO PREPARADO EN SITIO | M3: PRECIO PREPARADO EN CCT | N3: PRECIO PREPARADO EN SITIO | O3: PRECIO PREPARADO EN CCT
A4: N° MENÚ | B4: GRUPO DE ALIMETOS | C4: PREPARACIÓN | D4: valor unitario. | E4: valor unitario. | F4: valor unitario. | G4: valor unitario. | H4: valor unitario. | I4: valor unitario. | J4: valor unitario. | K4: valor unitario. | L4: valor unitario. | M4: valor unitario. | N4: valor unitario. | O4: valor unitario.
A5: 1 | B5: ALIMENTO PROTEÍCO | C5: PECHUGA APANADA | D5: 1698.64 | E5: 1698.64 | F5: 2000 | G5: 2000 | H5: 3339.25 | I5: 3339.25 | J5: 3673.175 | K5: 3673.175 | L5: 1657.21 | M5: 1657.21 | N5: =ROUND(AVERAGE(D5,F5,H5,J5,L5),0) -> 2474 | O5: =ROUND(AVERAGE(E5,G5,I5,M5),0) -> 2174
B6: AZÚCARES | C6: AZÚCARES | D6: 333.13 | E6: 333.13 | F6: 350 | G6: 350 | H6: 541.5 | I6: 541.5 | J6: 595.65 | K6: 595.65 | L6: 325 | M6: 325 | N6: =ROUND(AVERAGE(D6,F6,H6,J6,L6),0) -> 429 | O6: =ROUND(AVERAGE(E6,G6,I6,M6),0) -> 387
B7: BEBIDA | C7: JUGO DE PIÑA | D7: 731.18 | E7: 731.18 | F7: 750 | G7: 750 | H7: 1173.25 | I7: 1173.25 | J7: 1290.575 | K7: 1290.575 | L7: 713.35 | M7: 713.35 | N7: =ROUND(AVERAGE(D7,F7,H7,J7,L7),0) -> 932 | O7: =ROUND(AVERAGE(E7,G7,I7,M7),0) -> 842
B8: CEREAL | C8: ARROZ CON VERDURAS | D8: 759.12 | E8: 759.12 | F8: 750 | G8: 750 | H8: 577.6 | I8: 577.6 | J8: 635.36 | K8: 635.36 | L8: 740.6 | M8: 740.6 | N8: =ROUND(AVERAGE(D8,F8,H8,J8,L8),0) -> 693 | O8: =ROUND(AVERAGE(E8,G8,I8,M8),0) -> 707
B9: GRASAS | C9: GRASAS | D9: 326.42 | E9: 326.42 | F9: 330 | G9: 330 | H9: 592.9425 | I9: 592.9425 | J9: 652.23675 | K9: 652.23675 | L9: 318.46 | M9: 318.46 | N9: =ROUND(AVERAGE(D9,F9,H9,J9,L9),0) -> 444 | O9: =ROUND(AVERAGE(E9,G9,I9,M9),0) -> 392
B10: AGUA 180 cm3 - 200 cm3 | C10: VASO DE AGUA | D10: 216.48 | E10: 216.48 | F10: 220 | G10: 220 | H10: 541.5 | I10: 541.5 | J10: 595.65 | K10: 595.65 | L10: 211.2 | M10: 211.2 | N10: =ROUND(AVERAGE(D10,F10,H10,J10,L10),0) -> 357 | O10: =ROUND(AVERAGE(E10,G10,I10,M10),0) -> 297
B11: MISCELANEOS | C11: MISCELANEOS | D11: 209.1 | E11: 209.1 | F11: 220 | G11: 220 | H11: 406.125 | I11: 406.125 | J11: 446.7375 | K11: 446.7375 | L11: 204 | M11: 204 | N11: =ROUND(AVERAGE(D11,F11,H11,J11,L11),0) -> 297 | O11: =ROUND(AVERAGE(E11,G11,I11,M11),0) -> 260
B12: TUBÉRCULOS - RAÍCES - PLÁTANOS - DERIVADOS DE CEREAL | C12: TAJADAS DE GUINEO VERDE | D12: 277.49 | E12: 277.49 | F12: 300 | G12: 300 | H12: 604.675 | I12: 604.675 | J12: 665.1425 | K12: 665.1425 | L12: 270.72 | M12: 270.72 | N12: =ROUND(AVERAGE(D12,F12,H12,J12,L12),0) -> 424 | O12: =ROUND(AVERAGE(E12,G12,I12,M12),0) -> 363
B13: VERDURA FRÍA O CALIENTE | C13: VERDURA FRÍA O CALIENTE | D13: 785.21 | E13: 785.21 | F13: 800 | G13: 800 | H13: 451.25 | I13: 451.25 | J13: 496.375 | K13: 496.375 | L13: 766.06 | M13: 766.06 | N13: =ROUND(AVERAGE(D13,F13,H13,J13,L13),0) -> 660 | O13: =ROUND(AVERAGE(E13,G13,I13,M13),0) -> 701
B14: TRANSPORTE | C14: TRANSPORTE | D14: 803.62 | E14: 1055.75 | F14: 800 | G14: 1100 | H14: 812.25 | I14: 1173.25 | J14: 893.475 | K14: 1290.575 | L14: 784.02 | M14: 1030 | N14: =ROUND(AVERAGE(D14,F14,H14,J14,L14),0) -> 819 | O14: =ROUND(AVERAGE(E14,G14,I14,M14),0) -> 1090
B15: PERSONAL REQUERIDO | C15: PERSONAL REQUERIDO | D15: 1151.08 | E15: 1327.38 | F15: 1200 | G15: 1300 | H15: 1218.375 | I15: 1218.375 | J15: 1340.2125 | K15: 1340.2125 | L15: 1123 | M15: 1295 | N15: =ROUND(AVERAGE(D15,F15,H15,J15,L15),0) -> 1207 | O15: =ROUND(AVERAGE(E15,G15,I15,M15),0) -> 1285
B16: SERVICIOS PUBLICOS | C16: SERVICIOS PUBLICOS | D16: 459 | E16: 642.59 | F16: 460 | G16: 650 | H16: 992.75 | I16: 992.75 | J16: 1092.025 | K16: 1092.025 | L16: 447.8 | M16: 626.92 | N16: =ROUND(AVERAGE(D16,F16,H16,J16,L16),0) -> 690 | O16: =ROUND(AVERAGE(E16,G16,I16,M16),0) -> 728
B17: IMPLEMENTOS Y DOTACIÓN | C17: IMPLEMENTOS Y DOTACIÓN | D17: 613.67 | E17: 1017.52 | F17: 600 | G17: 1000 | H17: 722 | I17: 974.7 | J17: 794.2 | K17: 1072.17 | L17: 598.7 | M17: 992.7 | N17: =ROUND(AVERAGE(D17,F17,H17,J17,L17),0) -> 666 | O17: =ROUND(AVERAGE(E17,G17,I17,M17),0) -> 996
D18: =SUM(D5:D17) -> 8364.14 | E18: =SUM(E5:E17) -> 9380.01 | F18: =SUM(F5:F17) -> 8780 | G18: =SUM(G5:G17) -> 9770 | H18: =SUM(H5:H17) -> 11973.468 | I18: =SUM(I5:I17) -> 12587.168 | J18: =SUM(J5:J17) -> 13170.814 | K18: =SUM(K5:K17) -> 13845.884 | ... O18: =SUM(O5:O17) -> 10222
A19: 2 | B19: ALIMENTO PROTEÍCO | C19: CERDO EN BISTECK | D19: 1299.41 | E19: 1299.41 | F19: 1300 | G19: 1300 | H19: 4006.1975 | I19: 4006.1975 | J19: 4406.8173 | K19: 4406.8173 | L19: 1267.72 | M19: 1267.72 | N19: =ROUND(AVERAGE(D19,F19,H19,J19,L19),0) -> 2456 | O19: =ROUND(AVERAGE(E19,G19,I19,M19),0) -> 1968
B20: AZÚCARES | C20: AZÚCARES | D20: 333.13 | E20: 333.13 | F20: 350 | G20: 350 | H20: 541.5 | I20: 541.5 | J20: 595.65 | K20: 595.65 | L20: 325 | M20: 325 | N20: =ROUND(AVERAGE(D20,F20,H20,J20,L20),0) -> 429 | O20: =ROUND(AVERAGE(E20,G20,I20,M20),0) -> 387
B21: BEBIDA | C21: JUGO DE BANANO(CON LECHE) | D21: 689.38 | E21: 689.38 | F21: 700 | G21: 700 | H21: 1128.125 | I21: 1128.125 | J21: 1240.9375 | K21: 1240.9375 | L21: 672.57 | M21: 672.57 | N21: =ROUND(AVERAGE(D21,F21,H21,J21,L21),0) -> 886 | O21: =ROUND(AVERAGE(E21,G21,I21,M21),0) -> 798
B22: CEREAL | C22: ARROZ DE FIDEO | D22: 331.15 | E22: 331.15 | F22: 330 | G22: 330 | H22: 487.35 | I22: 487.35 | J22: 536.085 | K22: 536.085 | L22: 323.08 | M22: 323.08 | N22: =ROUND(AVERAGE(D22,F22,H22,J22,L22),0) -> 402 | O22: =ROUND(AVERAGE(E22,G22,I22,M22),0) -> 368
B23: GRASAS | C23: GRASAS | D23: 326.42 | E23: 326.42 | F23: 330 | G23: 330 | H23: 592.9425 | I23: 592.9425 | J23: 652.23675 | K23: 652.23675 | L23: 318.46 | M23: 318.46 | N23: =ROUND(AVERAGE(D23,F23,H23,J23,L23),0) -> 444 | O23: =ROUND(AVERAGE(E23,G23,I23,M23),0) -> 392
B24: AGUA 180 cm3 - 200 cm3 | C24: VASO DE AGUA | D24: 216.48 | E24: 216.48 | F24: 220 | G24: 220 | H24: 541.5 | I24: 541.5 | J24: 595.65 | K24: 595.65 | L24: 211.2 | M24: 211.2 | N24: =ROUND(AVERAGE(D24,F24,H24,J24,L24),0) -> 357 | O24: =ROUND(AVERAGE(E24,G24,I24,M24),0) -> 297
B25: MISCELANEOS | C25: MISCELANEOS | D25: 209.1 | E25: 209.1 | F25: 220 | G25: 220 | H25: 406.125 | I25: 406.125 | J25: 446.7375 | K25: 446.7375 | L25: 204 | M25: 204 | N25: =ROUND(AVERAGE(D25,F25,H25,J25,L25),0) -> 297 | O25: =ROUND(AVERAGE(E25,G25,I25,M25),0) -> 260
B26: TUBÉRCULOS - RAÍCES - PLÁTANOS - DERIVADOS DE CEREAL | C26: PAPAS A LA FRANCESA | D26: 245.89 | E26: 245.89 | F26: 250 | G26: 250 | H26: 710.2675 | I26: 710.2675 | J26: 781.29425 | K26: 781.29425 | L26: 239.89 | M26: 239.89 | N26: =ROUND(AVERAGE(D26,F26,H26,J26,L26),0) -> 445 | O26: =ROUND(AVERAGE(E26,G26,I26,M26),0) -> 362
B27: ENSALADA DE PAYASO | C27: ENSALADA DE PAYASO | D27: 448.59 | E27: 448.59 | F27: 450 | G27: 450 | H27: 586.625 | I27: 586.625 | J27: 645.2875 | K27: 645.2875 | L27: 437.65 | M27: 437.65 | N27: =ROUND(AVERAGE(D27,F27,H27,J27,L27),0) -> 514 | O27: =ROUND(AVERAGE(E27,G27,I27,M27),0) -> 481
B28: TRANSPORTE | C28: TRANSPORTE | D28: 803.62 | E28: 1055.75 | F28: 800 | G28: 1100 | H28: 812.25 | I28: 1173.25 | J28: 893.475 | K28: 1290.575 | L28: 784.02 | M28: 1030 | N28: =ROUND(AVERAGE(D28,F28,H28,J28,L28),0) -> 819 | O28: =ROUND(AVERAGE(E28,G28,I28,M28),0) -> 1090
B29: PERSONAL REQUERIDO | C29: PERSONAL REQUERIDO | D29: 1151.08 | E29: 1327.38 | F29: 1200 | G29: 1300 | H29: 1218.375 | I29: 1218.375 | J29: 1340.2125 | K29: 1340.2125 | L29: 1123 | M29: 1295 | N29: =ROUND(AVERAGE(D29,F29,H29,J29,L29),0) -> 1207 | O29: =ROUND(AVERAGE(E29,G29,I29,M29),0) -> 1285
B30: SERVICIOS PUBLICOS | C30: SERVICIOS PUBLICOS | D30: 459 | E30: 642.59 | F30: 460 | G30: 650 | H30: 992.75 | I30: 992.75 | J30: 1092.025 | K30: 1092.025 | L30: 447.8 | M30: 626.92 | N30: =ROUND(AVERAGE(D30,F30,H30,J30,L30),0) -> 690 | O30: =ROUND(AVERAGE(E30,G30,I30,M30),0) -> 728
B31: IMPLEMENTOS Y DOTACIÓN | C31: IMPLEMENTOS Y DOTACIÓN | D31: 613.67 | E31: 1017.52 | F31: 600 | G31: 1000 | H31: 722 | I31: 974.7 | J31: 794.2 | K31: 1072.17 | L31: 598.7 | M31: 992.7 | N31: =ROUND(AVERAGE(D31,F31,H31,J31,L31),0) -> 666 | O31: =ROUND(AVERAGE(E31,G31,I31,M31),0) -> 996
D32: =SUM(D19:D31) -> 7126.92 | E32: =SUM(E19:E31) -> 8142.79 | F32: =SUM(F19:F31) -> 7210 | G32: =SUM(G19:G31) -> 8200 | H32: =SUM(H19:H31) -> 12746.007 | I32: =SUM(I19:I31) -> 13359.708 | J32: =SUM(J19:J31) -> 14020.608 | K32: =SUM(K19:K31) -> 14695.678 | ... O32: =SUM(O19:O31) -> 9412
A33: 3 | B33: ALIMENTO PROTEÍCO | C33: POLLO EN CUADRITOS | D33: 1579.88 | E33: 1579.88 | F33: 1500 | G33: 1500 | H33: 2888 | I33: 2888 | J33: 3176.8 | K33: 3176.8 | L33: 1541.35 | M33: 1541.35 | N33: =ROUND(AVERAGE(D33,F33,H33,J33,L33),0) -> 2137 | O33: =ROUND(AVERAGE(E33,G33,I33,M33),0) -> 1877
B34: AZÚCARES | C34: AZÚCARES | D34: 333.13 | E34: 333.13 | F34: 350 | G34: 350 | H34: 541.5 | I34: 541.5 | J34: 595.65 | K34: 595.65 | L34: 325 | M34: 325 | N34: =ROUND(AVERAGE(D34,F34,H34,J34,L34),0) -> 429 | O34: =ROUND(AVERAGE(E34,G34,I34,M34),0) -> 387
B35: BEBIDA | C35: JUGO DE GUAYABA(CON LECHE) | D35: 646.93 | E35: 646.93 | F35: 650 | G35: 650 | H35: 1534.25 | I35: 1534.25 | J35: 1687.675 | K35: 1687.675 | L35: 631.15 | M35: 631.15 | N35: =ROUND(AVERAGE(D35,F35,H35,J35,L35),0) -> 1030 | O35: =ROUND(AVERAGE(E35,G35,I35,M35),0) -> 866
B36: CEREAL | C36: PASTA GUISADA | D36: 556.9 | E36: 556.9 | F36: 550 | G36: 550 | H36: 541.5 | I36: 541.5 | J36: 595.65 | K36: 595.65 | L36: 543.32 | M36: 543.32 | N36: =ROUND(AVERAGE(D36,F36,H36,J36,L36),0) -> 557 | O36: =ROUND(AVERAGE(E36,G36,I36,M36),0) -> 548
B37: GRASAS | C37: GRASAS | D37: 326.42 | E37: 326.42 | F37: 330 | G37: 330 | H37: 592.9425 | I37: 592.9425 | J37: 652.23675 | K37: 652.23675 | L37: 318.46 | M37: 318.46 | N37: =ROUND(AVERAGE(D37,F37,H37,J37,L37),0) -> 444 | O37: =ROUND(AVERAGE(E37,G37,I37,M37),0) -> 392
B38: AGUA 180 cm3 - 200 cm3 | C38: VASO DE AGUA | D38: 216.48 | E38: 216.48 | F38: 220 | G38: 220 | H38: 541.5 | I38: 541.5 | J38: 595.65 | K38: 595.65 | L38: 211.2 | M38: 211.2 | N38: =ROUND(AVERAGE(D38,F38,H38,J38,L38),0) -> 357 | O38: =ROUND(AVERAGE(E38,G38,I38,M38),0) -> 297
B39: MISCELANEOS | C39: MISCELANEOS | D39: 209.1 | E39: 209.1 | F39: 220 | G39: 220 | H39: 406.125 | I39: 406.125 | J39: 446.7375 | K39: 446.7375 | L39: 204 | M39: 204 | N39: =ROUND(AVERAGE(D39,F39,H39,J39,L39),0) -> 297 | O39: =ROUND(AVERAGE(E39,G39,I39,M39),0) -> 260
B40: TUBÉRCULOS - RAÍCES - PLÁTANOS - DERIVADOS DE CEREAL | C40: PAN | D40: 464.94 | E40: 464.94 | F40: 500 | G40: 500 | H40: 541.5 | I40: 541.5 | J40: 595.65 | K40: 595.65 | L40: 453.6 | M40: 453.6 | N40: =ROUND(AVERAGE(D40,F40,H40,J40,L40),0) -> 511 | O40: =ROUND(AVERAGE(E40,G40,I40,M40),0) -> 490
B41: VERDURA FRÍA O CALIENTE | C41: VERDURA FRÍA O CALIENTE | H41: 451.25 | I41: 451.25 | J41: 496.375 | K41: 496.375 | N41: =ROUND(AVERAGE(D41,F41,H41,J41,L41),0) -> 474 | O41: =ROUND(AVERAGE(E41,G41,I41,M41),0) -> 451
B42: TRANSPORTE | C42: TRANSPORTE | D42: 803.62 | E42: 1055.75 | F42: 800 | G42: 1100 | H42: 812.25 | I42: 1173.25 | J42: 893.475 | K42: 1290.575 | L42: 784.02 | M42: 1030 | N42: =ROUND(AVERAGE(D42,F42,H42,J42,L42),0) -> 819 | O42: =ROUND(AVERAGE(E42,G42,I42,M42),0) -> 1090
B43: PERSONAL REQUERIDO | C43: PERSONAL REQUERIDO | D43: 1151.08 | E43: 1327.38 | F43: 1200 | G43: 1300 | H43: 1218.375 | I43: 1218.375 | J43: 1340.2125 | K43: 1340.2125 | L43: 1123 | M43: 1295 | N43: =ROUND(AVERAGE(D43,F43,H43,J43,L43),0) -> 1207 | O43: =ROUND(AVERAGE(E43,G43,I43,M43),0) -> 1285
B44: SERVICIOS PUBLICOS | C44: SERVICIOS PUBLICOS | D44: 459 | E44: 642.59 | F44: 460 | G44: 650 | H44: 992.75 | I44: 992.75 | J44: 1092.025 | K44: 1092.025 | L44: 447.8 | M44: 626.92 | N44: =ROUND(AVERAGE(D44,F44,H44,J44,L44),0) -> 690 | O44: =ROUND(AVERAGE(E44,G44,I44,M44),0) -> 728
B45: IMPLEMENTOS Y DOTACIÓN | C45: IMPLEMENTOS Y DOTACIÓN | D45: 613.67 | E45: 1017.52 | F45: 600 | G45: 1000 | H45: 722 | I45: 974.7 | J45: 794.2 | K45: 1072.17 | L45: 598.7 | M45: 992.7 | N45: =ROUND(AVERAGE(D45,F45,H45,J45,L45),0) -> 666 | O45: =ROUND(AVERAGE(E45,G45,I45,M45),0) -> 996
D46: =SUM(D33:D45) -> 7361.15 | E46: =SUM(E33:E45) -> 8377.02 | F46: =SUM(F33:F45) -> 7380 | G46: =SUM(G33:G45) -> 8370 | H46: =SUM(H33:H45) -> 11783.943 | I46: =SUM(I33:I45) -> 12397.643 | J46: =SUM(J33:J45) -> 12962.337 | K46: =SUM(K33:K45) -> 13637.407 | ... O46: =SUM(O33:O45) -> 9667
A47: 4 | B47: ALIMENTO PROTEÍCO | C47: HUEVO PERICO | D47: 682.62 | E47: 682.62 | F47: 700 | G47: 700 | H47: 886.255 | I47: 886.255 | J47: 974.8805 | K47: 974.8805 | L47: 665.97 | M47: 665.97 | N47: =ROUND(AVERAGE(D47,F47,H47,J47,L47),0) -> 782 | O47: =ROUND(AVERAGE(E47,G47,I47,M47),0) -> 734
B48: ALIMENTO PROTEÍCO | C48: LENTEJAS GUISADAS | D48: 223.33 | E48: 223.33 | F48: 230 | G48: 230 | H48: 541.5 | I48: 541.5 | J48: 595.65 | K48: 595.65 | L48: 217.88 | M48: 217.88 | N48: =ROUND(AVERAGE(D48,F48,H48,J48,L48),0) -> 362 | O48: =ROUND(AVERAGE(E48,G48,I48,M48),0) -> 303
B49: AZÚCARES | C49: AZÚCARES | D49: 333.13 | E49: 333.13 | F49: 350 | G49: 350 | H49: 541.5 | I49: 541.5 | J49: 595.65 | K49: 595.65 | L49: 325 | M49: 325 | N49: =ROUND(AVERAGE(D49,F49,H49,J49,L49),0) -> 429 | O49: =ROUND(AVERAGE(E49,G49,I49,M49),0) -> 387
B50: BEBIDA | C50: JUGO DE TOMATE DE ARBOL (CON LECHE) | D50: 725.65 | E50: 725.65 | F50: 730 | G50: 730 | H50: 1805 | I50: 1805 | J50: 1985.5 | K50: 1985.5 | L50: 707.95 | M50: 707.95 | N50: =ROUND(AVERAGE(D50,F50,H50,J50,L50),0) -> 1191 | O50: =ROUND(AVERAGE(E50,G50,I50,M50),0) -> 992
B51: CEREAL | C51: ARROZ BLANCO | D51: 234.19 | E51: 234.19 | F51: 250 | G51: 250 | H51: 451.25 | I51: 451.25 | J51: 496.375 | K51: 496.375 | L51: 228.48 | M51: 228.48 | N51: =ROUND(AVERAGE(D51,F51,H51,J51,L51),0) -> 332 | O51: =ROUND(AVERAGE(E51,G51,I51,M51),0) -> 291
B52: GRASAS | C52: GRASAS | D52: 326.42 | E52: 326.42 | F52: 330 | G52: 330 | H52: 592.9425 | I52: 592.9425 | J52: 652.23675 | K52: 652.23675 | L52: 318.46 | M52: 318.46 | N52: =ROUND(AVERAGE(D52,F52,H52,J52,L52),0) -> 444 | O52: =ROUND(AVERAGE(E52,G52,I52,M52),0) -> 392
B53: AGUA 180 cm3 - 200 cm3 | C53: VASO DE AGUA | D53: 216.48 | E53: 216.48 | F53: 220 | G53: 220 | H53: 541.5 | I53: 541.5 | J53: 595.65 | K53: 595.65 | L53: 211.2 | M53: 211.2 | N53: =ROUND(AVERAGE(D53,F53,H53,J53,L53),0) -> 357 | O53: =ROUND(AVERAGE(E53,G53,I53,M53),0) -> 297
B54: MISCELANEOS | C54: MISCELANEOS | D54: 209.1 | E54: 209.1 | F54: 220 | G54: 220 | H54: 406.125 | I54: 406.125 | J54: 446.7375 | K54: 446.7375 | L54: 204 | M54: 204 | N54: =ROUND(AVERAGE(D54,F54,H54,J54,L54),0) -> 297 | O54: =ROUND(AVERAGE(E54,G54,I54,M54),0) -> 260
B55: TUBÉRCULOS - RAÍCES - PLÁTANOS - DERIVADOS DE CEREAL | C55: AREPA | D55: 234.36 | E55: 234.36 | F55: 250 | G55: 250 | H55: 541.5 | I55: 541.5 | J55: 595.65 | K55: 595.65 | L55: 228.64 | M55: 228.64 | N55: =ROUND(AVERAGE(D55,F55,H55,J55,L55),0) -> 370 | O55: =ROUND(AVERAGE(E55,G55,I55,M55),0) -> 314
B56: VERDURA FRÍA O CALIENTE | C56: TOMATE EN RODAJAS | D56: 826.1 | E56: 826.1 | F56: 830 | G56: 830 | H56: 451.25 | I56: 451.25 | J56: 496.375 | K56: 496.375 | L56: 805.95 | M56: 805.95 | N56: =ROUND(AVERAGE(D56,F56,H56,J56,L56),0) -> 682 | O56: =ROUND(AVERAGE(E56,G56,I56,M56),0) -> 728
B57: TRANSPORTE | C57: TRANSPORTE | D57: 803.62 | E57: 1055.75 | F57: 800 | G57: 1100 | H57: 812.25 | I57: 1173.25 | J57: 893.475 | K57: 1290.575 | L57: 784.02 | M57: 1030 | N57: =ROUND(AVERAGE(D57,F57,H57,J57,L57),0) -> 819 | O57: =ROUND(AVERAGE(E57,G57,I57,M57),0) -> 1090
B58: PERSONAL REQUERIDO | C58: PERSONAL REQUERIDO | D58: 1151.08 | E58: 1327.38 | F58: 1200 | G58: 1300 | H58: 1218.375 | I58: 1218.375 | J58: 1340.2125 | K58: 1340.2125 | L58: 1123 | M58: 1295 | N58: =ROUND(AVERAGE(D58,F58,H58,J58,L58),0) -> 1207 | O58: =ROUND(AVERAGE(E58,G58,I58,M58),0) -> 1285
B59: SERVICIOS PUBLICOS | C59: SERVICIOS PUBLICOS | D59: 459 | E59: 642.59 | F59: 460 | G59: 650 | H59: 992.75 | I59: 992.75 | J59: 1092.025 | K59: 1092.025 | L59: 447.8 | M59: 626.92 | N59: =ROUND(AVERAGE(D59,F59,H59,J59,L59),0) -> 690 | O59: =ROUND(AVERAGE(E59,G59,I59,M59),0) -> 728
B60: IMPLEMENTOS Y DOTACIÓN | C60: IMPLEMENTOS Y DOTACIÓN | D60: 613.67 | E60: 1017.52 | F60: 600 | G60: 1000 | H60: 722 | I60: 974.7 | J60: 794.2 | K60: 1072.17 | L60: 598.7 | M60: 992.7 | N60: =ROUND(AVERAGE(D60,F60,H60,J60,L60),0) -> 666 | O60: =ROUND(AVERAGE(E60,G60,I60,M60),0) -> 996
D61: =SUM(D47:D60) -> 7038.75 | E61: =SUM(E47:E60) -> 8054.62 | F61: =SUM(F47:F60) -> 7170 | G61: =SUM(G47:G60) -> 8160 | H61: =SUM(H47:H60) -> 10504.198 | I61: =SUM(I47:I60) -> 11117.898 | J61: =SUM(J47:J60) -> 11554.617 | K61: =SUM(K47:K60) -> 12229.687 | ... O61: =SUM(O47:O60) -> 8797
A62: 5 | B62: ALIMENTO PROTEÍCO | C62: CARNE DE CERDO GUISADA | D62: 1299.41 | E62: 1299.41 | F62: 1400 | G62: 1400 | H62: 4151.5 | I62: 4151.5 | J62: 4566.65 | K62: 4566.65 | L62: 1267.72 | M62: 1267.72 | N62: =ROUND(AVERAGE(D62,F62,H62,J62,L62),0) -> 2537 | O62: =ROUND(AVERAGE(E62,G62,I62,M62),0) -> 2030
B63: ALIMENTO PROTEÍCO | C63: FRIJOL CABECITA NEGRA | D63: 293.29 | E63: 293.29 | F63: 300 | G63: 300 | H63: 541.5 | I63: 541.5 | J63: 595.65 | K63: 595.65 | L63: 286.14 | M63: 286.14 | N63: =ROUND(AVERAGE(D63,F63,H63,J63,L63),0) -> 403 | O63: =ROUND(AVERAGE(E63,G63,I63,M63),0) -> 355
B64: AZÚCARES | C64: AZÚCARES | D64: 333.13 | E64: 333.13 | F64: 350 | G64: 350 | H64: 541.5 | I64: 541.5 | J64: 595.65 | K64: 595.65 | L64: 325 | M64: 325 | N64: =ROUND(AVERAGE(D64,F64,H64,J64,L64),0) -> 429 | O64: =ROUND(AVERAGE(E64,G64,I64,M64),0) -> 387
B65: BEBIDA | C65: AGUA DE PANELA CON LIMON | D65: 615.98 | E65: 615.98 | F65: 700 | G65: 700 | H65: 992.75 | I65: 992.75 | J65: 1092.025 | K65: 1092.025 | L65: 600.96 | M65: 600.96 | N65: =ROUND(AVERAGE(D65,F65,H65,J65,L65),0) -> 800 | O65: =ROUND(AVERAGE(E65,G65,I65,M65),0) -> 727
B66: CEREAL | C66: ARROZ BLANCO | D66: 316.24 | E66: 316.24 | F66: 320 | G66: 320 | H66: 451.25 | I66: 451.25 | J66: 496.375 | K66: 496.375 | L66: 308.53 | M66: 308.53 | N66: =ROUND(AVERAGE(D66,F66,H66,J66,L66),0) -> 378 | O66: =ROUND(AVERAGE(E66,G66,I66,M66),0) -> 349
B67: GRASAS | C67: GRASAS | D67: 326.42 | E67: 326.42 | F67: 330 | G67: 330 | H67: 592.9425 | I67: 592.9425 | J67: 652.23675 | K67: 652.23675 | L67: 318.46 | M67: 318.46 | N67: =ROUND(AVERAGE(D67,F67,H67,J67,L67),0) -> 444 | O67: =ROUND(AVERAGE(E67,G67,I67,M67),0) -> 392
B68: AGUA 180 cm3 - 200 cm3 | C68: VASO DE AGUA | D68: 216.48 | E68: 216.48 | F68: 220 | G68: 220 | H68: 541.5 | I68: 541.5 | J68: 595.65 | K68: 595.65 | L68: 211.2 | M68: 211.2 | N68: =ROUND(AVERAGE(D68,F68,H68,J68,L68),0) -> 357 | O68: =ROUND(AVERAGE(E68,G68,I68,M68),0) -> 297
B69: MISCELANEOS | C69: MISCELANEOS | D69: 209.1 | E69: 209.1 | F69: 220 | G69: 220 | H69: 406.125 | I69: 406.125 | J69: 446.7375 | K69: 446.7375 | L69: 204 | M69: 204 | N69: =ROUND(AVERAGE(D69,F69,H69,J69,L69),0) -> 297 | O69: =ROUND(AVERAGE(E69,G69,I69,M69),0) -> 260
B70: TUBÉRCULOS - RAÍCES - PLÁTANOS - DERIVADOS DE CEREAL | C70: PURÉ DE PAPA | D70: 309.49 | E70: 309.49 | F70: 300 | G70: 300 | H70: 710.2675 | I70: 710.2675 | J70: 781.29425 | K70: 781.29425 | L70: 301.95 | M70: 301.95 | N70: =ROUND(AVERAGE(D70,F70,H70,J70,L70),0) -> 481 | O70: =ROUND(AVERAGE(E70,G70,I70,M70),0) -> 405
B71: VERDURA FRÍA O CALIENTE | C71: ENS. DE ZANAHORIA Y HABICHUELA | D71: 617.21 | E71: 617.21 | F71: 620 | G71: 602.16 | H71: 451.25 | I71: 451.25 | J71: 496.375 | K71: 496.375 | L71: 602.16 | M71: 602.16 | N71: =ROUND(AVERAGE(D71,F71,H71,J71,L71),0) -> 557 | O71: =ROUND(AVERAGE(E71,G71,I71,M71),0) -> 568
B72: TRANSPORTE | C72: TRANSPORTE | D72: 803.62 | E72: 1055.75 | F72: 800 | G72: 1100 | H72: 812.25 | I72: 1173.25 | J72: 893.475 | K72: 1290.575 | L72: 784.02 | M72: 1030 | N72: =ROUND(AVERAGE(D72,F72,H72,J72,L72),0) -> 819 | O72: =ROUND(AVERAGE(E72,G72,I72,M72),0) -> 1090
B73: PERSONAL REQUERIDO | C73: PERSONAL REQUERIDO | D73: 1151.08 | E73: 1327.38 | F73: 1200 | G73: 1300 | H73: 1218.375 | I73: 1218.375 | J73: 1340.2125 | K73: 1340.2125 | L73: 1123 | M73: 1295 | N73: =ROUND(AVERAGE(D73,F73,H73,J73,L73),0) -> 1207 | O73: =ROUND(AVERAGE(E73,G73,I73,M73),0) -> 1285
B74: SERVICIOS PUBLICOS | C74: SERVICIOS PUBLICOS | D74: 459 | E74: 642.59 | F74: 460 | G74: 650 | H74: 992.75 | I74: 992.75 | J74: 1092.025 | K74: 1092.025 | L74: 447.8 | M74: 626.92 | N74: =ROUND(AVERAGE(D74,F74,H74,J74,L74),0) -> 690 | O74: =ROUND(AVERAGE(E74,G74,I74,M74),0) -> 728
B75: IMPLEMENTOS Y DOTACIÓN | C75: IMPLEMENTOS Y DOTACIÓN | D75: 613.67 | E75: 1017.52 | F75: 600 | G75: 1000 | H75: 722 | I75: 974.7 | J75: 794.2 | K75: 1072.17 | L75: 598.7 | M75: 992.7 | N75: =ROUND(AVERAGE(D75,F75,H75,J75,L75),0) -> 666 | O75: =ROUND(AVERAGE(E75,G75,I75,M75),0) -> 996
D76: =SUM(D62:D75) -> 7564.12 | E76: =SUM(E62:E75) -> 8579.99 | F76: =SUM(F62:F75) -> 7820 | G76: =SUM(G62:G75) -> 8792.16 | H76: =SUM(H62:H75) -> 13125.96 | I76: =SUM(I62:I75) -> 13739.66 | J76: =SUM(J62:J75) -> 14438.556 | K76: =SUM(K62:K75) -> 15113.626 | ... O76: =SUM(O62:O75) -> 9869
A77: 6 | B77: ALIMENTO PROTEÍCO | C77: PECHUGA GUISADA | D77: 1658.5 | E77: 1658.5 | F77: 1700 | G77: 1700 | H77: 2554.075 | I77: 2554.075 | J77: 2809.4825 | K77: 2809.4825 | L77: 1618.05 | M77: 1618.05 | N77: =ROUND(AVERAGE(D77,F77,H77,J77,L77),0) -> 2068 | O77: =ROUND(AVERAGE(E77,G77,I77,M77),0) -> 1883
B78: AZÚCARES | C78: AZÚCARES | D78: 333.13 | E78: 333.13 | F78: 350 | G78: 350 | H78: 541.5 | I78: 541.5 | J78: 595.65 | K78: 595.65 | L78: 325 | M78: 325 | N78: =ROUND(AVERAGE(D78,F78,H78,J78,L78),0) -> 429 | O78: =ROUND(AVERAGE(E78,G78,I78,M78),0) -> 387
B79: BEBIDA | C79: JUGO DE BANANO(CON LECHE) | D79: 689.38 | E79: 689.38 | F79: 700 | G79: 700 | H79: 1128.125 | I79: 1128.125 | J79: 1240.9375 | K79: 1240.9375 | L79: 672.57 | M79: 672.57 | N79: =ROUND(AVERAGE(D79,F79,H79,J79,L79),0) -> 886 | O79: =ROUND(AVERAGE(E79,G79,I79,M79),0) -> 798
B80: CEREAL | C80: ARROZ DE FIDEO | D80: 322.67 | E80: 322.67 | F80: 330 | G80: 330 | H80: 487.35 | I80: 487.35 | J80: 536.085 | K80: 536.085 | L80: 314.8 | M80: 314.8 | N80: =ROUND(AVERAGE(D80,F80,H80,J80,L80),0) -> 398 | O80: =ROUND(AVERAGE(E80,G80,I80,M80),0) -> 364
B81: GRASAS | C81: GRASAS | D81: 326.42 | E81: 326.42 | F81: 330 | G81: 330 | H81: 592.9425 | I81: 592.9425 | J81: 652.23675 | K81: 652.23675 | L81: 318.46 | M81: 318.46 | N81: =ROUND(AVERAGE(D81,F81,H81,J81,L81),0) -> 444 | O81: =ROUND(AVERAGE(E81,G81,I81,M81),0) -> 392
B82: AGUA | C82: VASO DE AGUA | D82: 216.48 | E82: 216.48 | F82: 220 | G82: 220 | H82: 541.5 | I82: 541.5 | J82: 595.65 | K82: 595.65 | L82: 211.2 | M82: 211.2 | N82: =ROUND(AVERAGE(D82,F82,H82,J82,L82),0) -> 357 | O82: =ROUND(AVERAGE(E82,G82,I82,M82),0) -> 297
B83: MISCELANEOS | C83: MISCELANEOS | D83: 209.1 | E83: 209.1 | F83: 220 | G83: 220 | H83: 406.125 | I83: 406.125 | J83: 446.7375 | K83: 446.7375 | L83: 204 | M83: 204 | N83: =ROUND(AVERAGE(D83,F83,H83,J83,L83),0) -> 297 | O83: =ROUND(AVERAGE(E83,G83,I83,M83),0) -> 260
B84: TUBÉRCULOS - RAÍCES - PLÁTANOS - DERIVADOS DE CEREAL | C84: PAPAS A LA FRANCESA | D84: 223.75 | E84: 223.75 | F84: 250 | G84: 250 | H84: 710.2675 | I84: 710.2675 | J84: 781.29425 | K84: 781.29425 | L84: 218.29 | M84: 218.29 | N84: =ROUND(AVERAGE(D84,F84,H84,J84,L84),0) -> 437 | O84: =ROUND(AVERAGE(E84,G84,I84,M84),0) -> 351
B85: VERDURA FRÍA O CALIENTE | C85: ENS. DE ZANAHORIA Y HABICHUELA | D85: 617.21 | E85: 617.21 | F85: 620 | G85: 620 | H85: 451.25 | I85: 451.25 | J85: 496.375 | K85: 496.375 | L85: 602.16 | M85: 602.16 | N85: =ROUND(AVERAGE(D85,F85,H85,J85,L85),0) -> 557 | O85: =ROUND(AVERAGE(E85,G85,I85,M85),0) -> 573
B86: TRANSPORTE | C86: TRANSPORTE | D86: 803.62 | E86: 1055.75 | F86: 800 | G86: 1100 | H86: 812.25 | I86: 1173.25 | J86: 893.475 | K86: 1290.575 | L86: 784.02 | M86: 1030 | N86: =ROUND(AVERAGE(D86,F86,H86,J86,L86),0) -> 819 | O86: =ROUND(AVERAGE(E86,G86,I86,M86),0) -> 1090
B87: PERSONAL REQUERIDO | C87: PERSONAL REQUERIDO | D87: 1151.08 | E87: 1327.38 | F87: 1200 | G87: 1300 | H87: 1218.375 | I87: 1218.375 | J87: 1340.2125 | K87: 1340.2125 | L87: 1123 | M87: 1295 | N87: =ROUND(AVERAGE(D87,F87,H87,J87,L87),0) -> 1207 | O87: =ROUND(AVERAGE(E87,G87,I87,M87),0) -> 1285
B88: SERVICIOS PUBLICOS | C88: SERVICIOS PUBLICOS | D88: 459 | E88: 642.59 | F88: 460 | G88: 650 | H88: 992.75 | I88: 992.75 | J88: 1092.025 | K88: 1092.025 | L88: 447.8 | M88: 626.92 | N88: =ROUND(AVERAGE(D88,F88,H88,J88,L88),0) -> 690 | O88: =ROUND(AVERAGE(E88,G88,I88,M88),0) -> 728
B89: IMPLEMENTOS Y DOTACIÓN | C89: IMPLEMENTOS Y DOTACIÓN | D89: 613.67 | E89: 1017.52 | F89: 600 | G89: 1000 | H89: 722 | I89: 974.7 | J89: 794.2 | K89: 1072.17 | L89: 598.7 | M89: 992.7 | N89: =ROUND(AVERAGE(D89,F89,H89,J89,L89),0) -> 666 | O89: =ROUND(AVERAGE(E89,G89,I89,M89),0) -> 996
D90: =SUM(D77:D89) -> 7624.01 | E90: =SUM(E77:E89) -> 8639.88 | F90: =SUM(F77:F89) -> 7780 | G90: =SUM(G77:G89) -> 8770 | H90: =SUM(H77:H89) -> 11158.51 | I90: =SUM(I77:I89) -> 11772.21 | J90: =SUM(J77:J89) -> 12274.361 | K90: =SUM(K77:K89) -> 12949.431 | ... O90: =SUM(O77:O89) -> 9404
A91: 7 | B91: ALIMENTO PROTEÍCO | C91: CARNE MOLIDA | D91: 1537.04 | E91: 1537.04 | F91: 1500 | G91: 1500 | H91: 2527 | I91: 2527 | J91: 2779.7 | K91: 2779.7 | L91: 1499.56 | M91: 1499.56 | N91: =ROUND(AVERAGE(D91,F91,H91,J91,L91),0) -> 1969 | O91: =ROUND(AVERAGE(E91,G91,I91,M91),0) -> 1766
B92: AZÚCARES | C92: AZÚCARES | D92: 333.13 | E92: 333.13 | F92: 350 | G92: 350 | H92: 541.5 | I92: 541.5 | J92: 595.65 | K92: 595.65 | L92: 325 | M92: 325 | N92: =ROUND(AVERAGE(D92,F92,H92,J92,L92),0) -> 429 | O92: =ROUND(AVERAGE(E92,G92,I92,M92),0) -> 387
B93: BEBIDA | C93: JUGO DE PIÑA | D93: 742.52 | E93: 742.52 | F93: 750 | G93: 750 | H93: 1173.25 | I93: 1173.25 | J93: 1290.575 | K93: 1290.575 | L93: 724.41 | M93: 724.41 | N93: =ROUND(AVERAGE(D93,F93,H93,J93,L93),0) -> 936 | O93: =ROUND(AVERAGE(E93,G93,I93,M93),0) -> 848
B94: CEREAL | C94: ARROZ CON VERDURAS | D94: 478.29 | E94: 478.29 | F94: 470 | G94: 470 | H94: 487.35 | I94: 487.35 | J94: 536.085 | K94: 536.085 | L94: 466.62 | M94: 466.62 | N94: =ROUND(AVERAGE(D94,F94,H94,J94,L94),0) -> 488 | O94: =ROUND(AVERAGE(E94,G94,I94,M94),0) -> 476
B95: GRASAS | C95: GRASAS | D95: 326.42 | E95: 326.42 | F95: 330 | G95: 330 | H95: 592.9425 | I95: 592.9425 | J95: 652.23675 | K95: 652.23675 | L95: 318.46 | M95: 318.46 | N95: =ROUND(AVERAGE(D95,F95,H95,J95,L95),0) -> 444 | O95: =ROUND(AVERAGE(E95,G95,I95,M95),0) -> 392
B96: AGUA 180 cm3 - 200 cm3 | C96: VASO DE AGUA | D96: 216.48 | E96: 216.48 | F96: 220 | G96: 220 | H96: 541.5 | I96: 541.5 | J96: 595.65 | K96: 595.65 | L96: 211.2 | M96: 211.2 | N96: =ROUND(AVERAGE(D96,F96,H96,J96,L96),0) -> 357 | O96: =ROUND(AVERAGE(E96,G96,I96,M96),0) -> 297
B97: MISCELANEOS | C97: MISCELANEOS | D97: 209.1 | E97: 209.1 | F97: 220 | G97: 220 | H97: 406.125 | I97: 406.125 | J97: 446.7375 | K97: 446.7375 | L97: 204 | M97: 204 | N97: =ROUND(AVERAGE(D97,F97,H97,J97,L97),0) -> 297 | O97: =ROUND(AVERAGE(E97,G97,I97,M97),0) -> 260
B98: TUBÉRCULOS - RAÍCES - PLÁTANOS - DERIVADOS DE CEREAL | C98: TAJADAS DE GUINEO VERDE | D98: 302.93 | E98: 302.93 | F98: 300 | G98: 300 | H98: 604.675 | I98: 604.675 | J98: 665.1425 | K98: 665.1425 | L98: 295.54 | M98: 295.54 | N98: =ROUND(AVERAGE(D98,F98,H98,J98,L98),0) -> 434 | O98: =ROUND(AVERAGE(E98,G98,I98,M98),0) -> 376
B99: VERDURA FRÍA O CALIENTE | C99: ENSALADA DE PAYASO | D99: 671.41 | E99: 671.41 | F99: 670 | G99: 670 | H99: 586.625 | I99: 586.625 | J99: 645.2875 | K99: 645.2875 | L99: 655.03 | M99: 655.03 | N99: =ROUND(AVERAGE(D99,F99,H99,J99,L99),0) -> 646 | O99: =ROUND(AVERAGE(E99,G99,I99,M99),0) -> 646
B100: TRANSPORTE | C100: TRANSPORTE | D100: 803.62 | E100: 1055.75 | F100: 800 | G100: 1100 | H100: 812.25 | I100: 1173.25 | J100: 893.475 | K100: 1290.575 | L100: 784.02 | M100: 1030 | N100: =ROUND(AVERAGE(D100,F100,H100,J100,L100),0) -> 819 | O100: =ROUND(AVERAGE(E100,G100,I100,M100),0) -> 1090
...

Sheet ALMUERZO (D)
D1: GRUPO D
D2: SERVICIOS DE ALIMENTACIÓN QP | F2: FUNDACIÓN EDUCANDO A LA NIÑEZ | H2: FUNDACIÓN GARDEN | J2: FUNDACIÓN PARA EL PROGRESO TERRITORIAL | L2: SERVICIOS DE ALIMENTACION NP | N2: PROMEDIO
A3: ALMUERZO | D3: PRECIO PREPARADO EN SITIO | E3: PRECIO PREPARADO EN CCT | F3: PRECIO PREPARADO EN SITIO | G3: PRECIO PREPARADO EN CCT | H3: PRECIO PREPARADO EN SITIO | I3: PRECIO PREPARADO EN CCT | J3: PRECIO PREPARADO EN SITIO | K3: PRECIO PREPARADO EN CCT | L3: PRECIO PREPARADO EN SITIO | M3: PRECIO PREPARADO EN CCT | N3: PRECIO PREPARADO EN SITIO | O3: PRECIO PREPARADO EN CCT
A4: N° MENÚ | B4: GRUPO DE ALIMETOS | C4: PREPARACIÓN | D4: valor unitario. | E4: valor unitario. | F4: valor unitario. | G4: valor unitario. | H4: valor unitario. | I4: valor unitario. | J4: valor unitario. | K4: valor unitario. | L4: valor unitario. | M4: valor unitario. | N4: valor unitario. | O4: valor unitario.
A5: 1 | B5: ALIMENTO PROTEÍCO | C5: PECHUGA APANADA | D5: 1998.72 | E5: 1998.72 | F5: 2000 | G5: 2000 | H5: 3515 | I5: 3515 | J5: 3866.5 | K5: 3866.5 | L5: 1949.97 | M5: 1949.97 | N5: =ROUND(AVERAGE(D5,F5,H5,J5,L5),0) -> 2666 | O5: =ROUND(AVERAGE(E5,G5,I5,K5,M5),0) -> 2666
B6: AZÚCARES | C6: AZÚCARES | D6: 383.35 | E6: 383.35 | F6: 400 | G6: 400 | H6: 570 | I6: 570 | J6: 627 | K6: 627 | L6: 374 | M6: 374 | N6: =ROUND(AVERAGE(D6,F6,H6,J6,L6),0) -> 471 | O6: =ROUND(AVERAGE(E6,G6,I6,K6,M6),0) -> 471
B7: BEBIDA | C7: JUGO DE PIÑA | D7: 736.85 | E7: 736.85 | F7: 750 | G7: 750 | H7: 1235 | I7: 1235 | J7: 1358.5 | K7: 1358.5 | L7: 718.88 | M7: 718.88 | N7: =ROUND(AVERAGE(D7,F7,H7,J7,L7),0) -> 960 | O7: =ROUND(AVERAGE(E7,G7,I7,K7,M7),0) -> 960
B8: CEREAL | C8: ARROZ CON VERDURAS | D8: 840.33 | E8: 840.33 | F8: 810 | G8: 810 | H8: 608 | I8: 608 | J8: 668.8 | K8: 668.8 | L8: 819.84 | M8: 819.84 | N8: =ROUND(AVERAGE(D8,F8,H8,J8,L8),0) -> 749 | O8: =ROUND(AVERAGE(E8,G8,I8,K8,M8),0) -> 749
B9: GRASAS | C9: GRASAS | D9: 375.38 | E9: 375.38 | F9: 380 | G9: 380 | H9: 624.15 | I9: 624.15 | J9: 686.565 | K9: 686.565 | L9: 366.23 | M9: 366.23 | N9: =ROUND(AVERAGE(D9,F9,H9,J9,L9),0) -> 486 | O9: =ROUND(AVERAGE(E9,G9,I9,K9,M9),0) -> 486
B10: AGUA 180 cm3 - 200 cm3 | C10: VASO DE AGUA | D10: 216.48 | E10: 216.48 | F10: 220 | G10: 220 | H10: 570 | I10: 570 | J10: 627 | K10: 627 | L10: 211.2 | M10: 211.2 | N10: =ROUND(AVERAGE(D10,F10,H10,J10,L10),0) -> 369 | O10: =ROUND(AVERAGE(E10,G10,I10,K10,M10),0) -> 369
B11: MISCELANEOS | C11: MISCELANEOS | D11: 209.1 | E11: 209.1 | F11: 220 | G11: 220 | H11: 427.5 | I11: 427.5 | J11: 470.25 | K11: 470.25 | L11: 204 | M11: 204 | N11: =ROUND(AVERAGE(D11,F11,H11,J11,L11),0) -> 306 | O11: =ROUND(AVERAGE(E11,G11,I11,K11,M11),0) -> 306
B12: TUBÉRCULOS - RAÍCES - PLÁTANOS - DERIVADOS DE CEREAL | C12: TAJADAS DE GUINEO VERDE | D12: 429.48 | E12: 429.48 | F12: 430 | G12: 430 | H12: 636.5 | I12: 636.5 | J12: 700.15 | K12: 700.15 | L12: 419 | M12: 419 | N12: =ROUND(AVERAGE(D12,F12,H12,J12,L12),0) -> 523 | O12: =ROUND(AVERAGE(E12,G12,I12,K12,M12),0) -> 523
B13: VERDURA FRÍA O CALIENTE | C13: VERDURA FRÍA O CALIENTE | D13: 912.06 | E13: 912.06 | F13: 900 | G13: 900 | H13: 475 | I13: 475 | J13: 522.5 | K13: 522.5 | L13: 889.81 | M13: 889.81 | N13: =ROUND(AVERAGE(D13,F13,H13,J13,L13),0) -> 740 | O13: =ROUND(AVERAGE(E13,G13,I13,K13,M13),0) -> 740
B14: TRANSPORTE | C14: TRANSPORTE | D14: 803.62 | E14: 1055.75 | F14: 800 | G14: 1100 | H14: 855 | I14: 1235 | J14: 940.5 | K14: 1358.5 | L14: 784.02 | M14: 1030 | N14: =ROUND(AVERAGE(D14,F14,H14,J14,L14),0) -> 837 | O14: =ROUND(AVERAGE(E14,G14,I14,K14,M14),0) -> 1156
B15: PERSONAL REQUERIDO | C15: PERSONAL REQUERIDO | D15: 1151.08 | E15: 1327.38 | F15: 1200 | G15: 1300 | H15: 1282.5 | I15: 1282.5 | J15: 1410.75 | K15: 1410.75 | L15: 1123 | M15: 1295 | N15: =ROUND(AVERAGE(D15,F15,H15,J15,L15),0) -> 1233 | O15: =ROUND(AVERAGE(E15,G15,I15,K15,M15),0) -> 1323
B16: SERVICIOS PUBLICOS | C16: SERVICIOS PUBLICOS | D16: 459 | E16: 642.59 | F16: 460 | G16: 650 | H16: 1045 | I16: 1045 | J16: 1149.5 | K16: 1149.5 | L16: 447.8 | M16: 626.92 | N16: =ROUND(AVERAGE(D16,F16,H16,J16,L16),0) -> 712 | O16: =ROUND(AVERAGE(E16,G16,I16,K16,M16),0) -> 823
B17: IMPLEMENTOS Y DOTACIÓN | C17: IMPLEMENTOS Y DOTACIÓN | D17: 613.67 | E17: 1017.52 | F17: 600 | G17: 1000 | H17: 760 | I17: 1026 | J17: 836 | K17: 1128.6 | L17: 598.7 | M17: 992.7 | N17: =ROUND(AVERAGE(D17,F17,H17,J17,L17),0) -> 682 | O17: =ROUND(AVERAGE(E17,G17,I17,K17,M17),0) -> 1033
D18: =SUM(D5:D17) -> 9129.12 | E18: =SUM(E5:E17) -> 10144.99 | F18: =SUM(F5:F17) -> 9170 | G18: =SUM(G5:G17) -> 10160 | H18: =SUM(H5:H17) -> 12603.65 | I18: =SUM(I5:I17) -> 13249.65 | J18: =SUM(J5:J17) -> 13864.015 | K18: =SUM(K5:K17) -> 14574.615 | ... O18: =SUM(O5:O17) -> 11605
A19: 2 | B19: ALIMENTO PROTEÍCO | C19: CERDO EN BISTECK | D19: 1648.49 | E19: 1648.49 | F19: 1700 | G19: 1700 | H19: 4217.05 | I19: 4217.05 | J19: 4638.755 | K19: 4638.755 | L19: 1608.28 | M19: 1608.28 | N19: =ROUND(AVERAGE(D19,F19,H19,J19,L19),0) -> 2763 | O19: =ROUND(AVERAGE(E19,G19,I19,K19,M19),0) -> 2763
B20: AZÚCARES | C20: AZÚCARES | D20: 383.35 | E20: 383.35 | F20: 400 | G20: 400 | H20: 570 | I20: 570 | J20: 627 | K20: 627 | L20: 374 | M20: 374 | N20: =ROUND(AVERAGE(D20,F20,H20,J20,L20),0) -> 471 | O20: =ROUND(AVERAGE(E20,G20,I20,K20,M20),0) -> 471
B21: BEBIDA | C21: JUGO DE BANANO(CON LECHE) | D21: 764.29 | E21: 764.29 | F21: 760 | G21: 760 | H21: 1187.5 | I21: 1187.5 | J21: 1306.25 | K21: 1306.25 | L21: 745.65 | M21: 745.65 | N21: =ROUND(AVERAGE(D21,F21,H21,J21,L21),0) -> 953 | O21: =ROUND(AVERAGE(E21,G21,I21,K21,M21),0) -> 953
B22: CEREAL | C22: ARROZ DE FIDEO | D22: 413.66 | E22: 413.66 | F22: 420 | G22: 420 | H22: 513 | I22: 513 | J22: 564.3 | K22: 564.3 | L22: 403.57 | M22: 403.57 | N22: =ROUND(AVERAGE(D22,F22,H22,J22,L22),0) -> 463 | O22: =ROUND(AVERAGE(E22,G22,I22,K22,M22),0) -> 463
B23: GRASAS | C23: GRASAS | D23: 375.38 | E23: 375.38 | F23: 380 | G23: 380 | H23: 624.15 | I23: 624.15 | J23: 686.565 | K23: 686.565 | L23: 366.23 | M23: 366.23 | N23: =ROUND(AVERAGE(D23,F23,H23,J23,L23),0) -> 486 | O23: =ROUND(AVERAGE(E23,G23,I23,K23,M23),0) -> 486
B24: AGUA 180 cm3 - 200 cm3 | C24: VASO DE AGUA | D24: 216.48 | E24: 216.48 | F24: 220 | G24: 220 | H24: 570 | I24: 570 | J24: 627 | K24: 627 | L24: 211.2 | M24: 211.2 | N24: =ROUND(AVERAGE(D24,F24,H24,J24,L24),0) -> 369 | O24: =ROUND(AVERAGE(E24,G24,I24,K24,M24),0) -> 369
B25: MISCELANEOS | C25: MISCELANEOS | D25: 209.1 | E25: 209.1 | F25: 220 | G25: 220 | H25: 427.5 | I25: 427.5 | J25: 470.25 | K25: 470.25 | L25: 204 | M25: 204 | N25: =ROUND(AVERAGE(D25,F25,H25,J25,L25),0) -> 306 | O25: =ROUND(AVERAGE(E25,G25,I25,K25,M25),0) -> 306
B26: TUBÉRCULOS - RAÍCES - PLÁTANOS - DERIVADOS DE CEREAL | C26: PAPAS A LA FRANCESA | D26: 329.27 | E26: 329.27 | F26: 330 | G26: 330 | H26: 747.65 | I26: 747.65 | J26: 822.415 | K26: 822.415 | L26: 321.24 | M26: 321.24 | N26: =ROUND(AVERAGE(D26,F26,H26,J26,L26),0) -> 510 | O26: =ROUND(AVERAGE(E26,G26,I26,K26,M26),0) -> 510
B27: ENSALADA DE PAYASO | C27: ENSALADA DE PAYASO | D27: 547.78 | E27: 547.78 | F27: 550 | G27: 550 | H27: 617.5 | I27: 617.5 | J27: 679.25 | K27: 679.25 | L27: 534.42 | M27: 534.42 | N27: =ROUND(AVERAGE(D27,F27,H27,J27,L27),0) -> 586 | O27: =ROUND(AVERAGE(E27,G27,I27,K27,M27),0) -> 586
B28: TRANSPORTE | C28: TRANSPORTE | D28: 803.62 | E28: 1055.75 | F28: 800 | G28: 1100 | H28: 855 | I28: 1235 | J28: 940.5 | K28: 1358.5 | L28: 784.02 | M28: 1030 | N28: =ROUND(AVERAGE(D28,F28,H28,J28,L28),0) -> 837 | O28: =ROUND(AVERAGE(E28,G28,I28,K28,M28),0) -> 1156
B29: PERSONAL REQUERIDO | C29: PERSONAL REQUERIDO | D29: 1151.08 | E29: 1327.38 | F29: 1200 | G29: 1300 | H29: 1282.5 | I29: 1282.5 | J29: 1410.75 | K29: 1410.75 | L29: 1123 | M29: 1295 | N29: =ROUND(AVERAGE(D29,F29,H29,J29,L29),0) -> 1233 | O29: =ROUND(AVERAGE(E29,G29,I29,K29,M29),0) -> 1323
B30: SERVICIOS PUBLICOS | C30: SERVICIOS PUBLICOS | D30: 459 | E30: 642.59 | F30: 460 | G30: 650 | H30: 1045 | I30: 1045 | J30: 1149.5 | K30: 1149.5 | L30: 447.8 | M30: 626.92 | N30: =ROUND(AVERAGE(D30,F30,H30,J30,L30),0) -> 712 | O30: =ROUND(AVERAGE(E30,G30,I30,K30,M30),0) -> 823
B31: IMPLEMENTOS Y DOTACIÓN | C31: IMPLEMENTOS Y DOTACIÓN | D31: 613.67 | E31: 1017.52 | F31: 600 | G31: 1000 | H31: 760 | I31: 1026 | J31: 836 | K31: 1128.6 | L31: 598.7 | M31: 992.7 | N31: =ROUND(AVERAGE(D31,F31,H31,J31,L31),0) -> 682 | O31: =ROUND(AVERAGE(E31,G31,I31,K31,M31),0) -> 1033
D32: =SUM(D19:D31) -> 7915.17 | E32: =SUM(E19:E31) -> 8931.04 | F32: =SUM(F19:F31) -> 8040 | G32: =SUM(G19:G31) -> 9030 | H32: =SUM(H19:H31) -> 13416.85 | I32: =SUM(I19:I31) -> 14062.85 | J32: =SUM(J19:J31) -> 14758.535 | K32: =SUM(K19:K31) -> 15469.135 | ... O32: =SUM(O19:O31) -> 11242
A33: 3 | B33: ALIMENTO PROTEÍCO | C33: POLLO EN CUADRITOS | D33: 1804.33 | E33: 1804.33 | F33: 1800 | G33: 1800 | H33: 3040 | I33: 3040 | J33: 3344 | K33: 3344 | L33: 1760.32 | M33: 1760.32 | N33: =ROUND(AVERAGE(D33,F33,H33,J33,L33),0) -> 2350 | O33: =ROUND(AVERAGE(E33,G33,I33,K33,M33),0) -> 2350
B34: AZÚCARES | C34: AZÚCARES | D34: 383.35 | E34: 383.35 | F34: 400 | G34: 400 | H34: 570 | I34: 570 | J34: 627 | K34: 627 | L34: 374 | M34: 374 | N34: =ROUND(AVERAGE(D34,F34,H34,J34,L34),0) -> 471 | O34: =ROUND(AVERAGE(E34,G34,I34,K34,M34),0) -> 471
B35: BEBIDA | C35: JUGO DE GUAYABA(CON LECHE) | D35: 721.83 | E35: 721.83 | F35: 720 | G35: 720 | H35: 1615 | I35: 1615 | J35: 1776.5 | K35: 1776.5 | L35: 704.23 | M35: 704.23 | N35: =ROUND(AVERAGE(D35,F35,H35,J35,L35),0) -> 1108 | O35: =ROUND(AVERAGE(E35,G35,I35,K35,M35),0) -> 1108
B36: CEREAL | C36: PASTA GUISADA | D36: 714.52 | E36: 714.52 | F36: 700 | G36: 700 | H36: 570 | I36: 570 | J36: 627 | K36: 627 | L36: 697.09 | M36: 697.09 | N36: =ROUND(AVERAGE(D36,F36,H36,J36,L36),0) -> 662 | O36: =ROUND(AVERAGE(E36,G36,I36,K36,M36),0) -> 662
B37: GRASAS | C37: GRASAS | D37: 375.38 | E37: 375.38 | F37: 380 | G37: 380 | H37: 624.15 | I37: 624.15 | J37: 686.565 | K37: 686.565 | L37: 366.23 | M37: 366.23 | N37: =ROUND(AVERAGE(D37,F37,H37,J37,L37),0) -> 486 | O37: =ROUND(AVERAGE(E37,G37,I37,K37,M37),0) -> 486
B38: AGUA 180 cm3 - 200 cm3 | C38: VASO DE AGUA | D38: 216.48 | E38: 216.48 | F38: 220 | G38: 220 | H38: 570 | I38: 570 | J38: 627 | K38: 627 | L38: 211.2 | M38: 211.2 | N38: =ROUND(AVERAGE(D38,F38,H38,J38,L38),0) -> 369 | O38: =ROUND(AVERAGE(E38,G38,I38,K38,M38),0) -> 369
B39: MISCELANEOS | C39: MISCELANEOS | D39: 209.1 | E39: 209.1 | F39: 220 | G39: 220 | H39: 427.5 | I39: 427.5 | J39: 470.25 | K39: 470.25 | L39: 204 | M39: 204 | N39: =ROUND(AVERAGE(D39,F39,H39,J39,L39),0) -> 306 | O39: =ROUND(AVERAGE(E39,G39,I39,K39,M39),0) -> 306
B40: TUBÉRCULOS - RAÍCES - PLÁTANOS - DERIVADOS DE CEREAL | C40: PAN | D40: 557.93 | E40: 557.93 | F40: 600 | G40: 600 | H40: 570 | I40: 570 | J40: 627 | K40: 627 | L40: 544.32 | M40: 544.32 | N40: =ROUND(AVERAGE(D40,F40,H40,J40,L40),0) -> 580 | O40: =ROUND(AVERAGE(E40,G40,I40,K40,M40),0) -> 580
B41: VERDURA FRÍA O CALIENTE | C41: VERDURA FRÍA O CALIENTE | H41: 475 | I41: 475 | J41: 522.5 | K41: 522.5 | N41: =ROUND(AVERAGE(D41,F41,H41,J41,L41),0) -> 499 | O41: =ROUND(AVERAGE(E41,G41,I41,K41,M41),0) -> 499
B42: TRANSPORTE | C42: TRANSPORTE | D42: 803.62 | E42: 1055.75 | F42: 800 | G42: 1100 | H42: 855 | I42: 1235 | J42: 940.5 | K42: 1358.5 | L42: 784.02 | M42: 1030 | N42: =ROUND(AVERAGE(D42,F42,H42,J42,L42),0) -> 837 | O42: =ROUND(AVERAGE(E42,G42,I42,K42,M42),0) -> 1156
B43: PERSONAL REQUERIDO | C43: PERSONAL REQUERIDO | D43: 1151.08 | E43: 1327.38 | F43: 1200 | G43: 1300 | H43: 1282.5 | I43: 1282.5 | J43: 1410.75 | K43: 1410.75 | L43: 1123 | M43: 1295 | N43: =ROUND(AVERAGE(D43,F43,H43,J43,L43),0) -> 1233 | O43: =ROUND(AVERAGE(E43,G43,I43,K43,M43),0) -> 1323
B44: SERVICIOS PUBLICOS | C44: SERVICIOS PUBLICOS | D44: 459 | E44: 642.59 | F44: 460 | G44: 650 | H44: 1045 | I44: 1045 | J44: 1149.5 | K44: 1149.5 | L44: 447.8 | M44: 626.92 | N44: =ROUND(AVERAGE(D44,F44,H44,J44,L44),0) -> 712 | O44: =ROUND(AVERAGE(E44,G44,I44,K44,M44),0) -> 823
B45: IMPLEMENTOS Y DOTACIÓN | C45: IMPLEMENTOS Y DOTACIÓN | D45: 613.67 | E45: 1017.52 | F45: 600 | G45: 1000 | H45: 760 | I45: 1026 | J45: 836 | K45: 1128.6 | L45: 598.7 | M45: 992.7 | N45: =ROUND(AVERAGE(D45,F45,H45,J45,L45),0) -> 682 | O45: =ROUND(AVERAGE(E45,G45,I45,K45,M45),0) -> 1033
D46: =SUM(D33:D45) -> 8010.29 | E46: =SUM(E33:E45) -> 9026.16 | F46: =SUM(F33:F45) -> 8100 | G46: =SUM(G33:G45) -> 9090 | H46: =SUM(H33:H45) -> 12404.15 | I46: =SUM(I33:I45) -> 13050.15 | J46: =SUM(J33:J45) -> 13644.565 | K46: =SUM(K33:K45) -> 14355.165 | ... O46: =SUM(O33:O45) -> 11166
A47: 4 | B47: ALIMENTO PROTEÍCO | C47: HUEVO PERICO | D47: 682.62 | E47: 682.62 | F47: 700 | G47: 700 | H47: 932.9 | I47: 932.9 | J47: 1026.19 | K47: 1026.19 | L47: 665.97 | M47: 665.97 | N47: =ROUND(AVERAGE(D47,F47,H47,J47,L47),0) -> 802 | O47: =ROUND(AVERAGE(E47,G47,I47,K47,M47),0) -> 802
B48: ALIMENTO PROTEÍCO | C48: LENTEJAS GUISADAS | D48: 293.69 | E48: 293.69 | F48: 300 | G48: 300 | H48: 570 | I48: 570 | J48: 627 | K48: 627 | L48: 286.53 | M48: 286.53 | N48: =ROUND(AVERAGE(D48,F48,H48,J48,L48),0) -> 415 | O48: =ROUND(AVERAGE(E48,G48,I48,K48,M48),0) -> 415
B49: AZÚCARES | C49: AZÚCARES | D49: 383.35 | E49: 383.35 | F49: 400 | G49: 400 | H49: 570 | I49: 570 | J49: 627 | K49: 627 | L49: 374 | M49: 374 | N49: =ROUND(AVERAGE(D49,F49,H49,J49,L49),0) -> 471 | O49: =ROUND(AVERAGE(E49,G49,I49,K49,M49),0) -> 471
B50: BEBIDA | C50: JUGO DE TOMATE DE ARBOL (CON LECHE) | D50: 800.55 | E50: 800.55 | F50: 800 | G50: 800 | H50: 1900 | I50: 1900 | J50: 2090 | K50: 2090 | L50: 781.03 | M50: 781.03 | N50: =ROUND(AVERAGE(D50,F50,H50,J50,L50),0) -> 1274 | O50: =ROUND(AVERAGE(E50,G50,I50,K50,M50),0) -> 1274
B51: CEREAL | C51: ARROZ BLANCO | D51: 325.8 | E51: 325.8 | F51: 320 | G51: 320 | H51: 475 | I51: 475 | J51: 522.5 | K51: 522.5 | L51: 317.85 | M51: 317.85 | N51: =ROUND(AVERAGE(D51,F51,H51,J51,L51),0) -> 392 | O51: =ROUND(AVERAGE(E51,G51,I51,K51,M51),0) -> 392
B52: GRASAS | C52: GRASAS | D52: 375.38 | E52: 375.38 | F52: 380 | G52: 380 | H52: 624.15 | I52: 624.15 | J52: 686.565 | K52: 686.565 | L52: 366.23 | M52: 366.23 | N52: =ROUND(AVERAGE(D52,F52,H52,J52,L52),0) -> 486 | O52: =ROUND(AVERAGE(E52,G52,I52,K52,M52),0) -> 486
B53: AGUA 180 cm3 - 200 cm3 | C53: VASO DE AGUA | D53: 216.48 | E53: 216.48 | F53: 220 | G53: 220 | H53: 570 | I53: 570 | J53: 627 | K53: 627 | L53: 211.2 | M53: 211.2 | N53: =ROUND(AVERAGE(D53,F53,H53,J53,L53),0) -> 369 | O53: =ROUND(AVERAGE(E53,G53,I53,K53,M53),0) -> 369
B54: MISCELANEOS | C54: MISCELANEOS | D54: 209.1 | E54: 209.1 | F54: 220 | G54: 220 | H54: 427.5 | I54: 427.5 | J54: 470.25 | K54: 470.25 | L54: 204 | M54: 204 | N54: =ROUND(AVERAGE(D54,F54,H54,J54,L54),0) -> 306 | O54: =ROUND(AVERAGE(E54,G54,I54,K54,M54),0) -> 306
B55: TUBÉRCULOS - RAÍCES - PLÁTANOS - DERIVADOS DE CEREAL | C55: AREPA | D55: 306.08 | E55: 306.08 | F55: 320 | G55: 320 | H55: 570 | I55: 570 | J55: 627 | K55: 627 | L55: 298.62 | M55: 298.62 | N55: =ROUND(AVERAGE(D55,F55,H55,J55,L55),0) -> 424 | O55: =ROUND(AVERAGE(E55,G55,I55,K55,M55),0) -> 424
B56: VERDURA FRÍA O CALIENTE | C56: TOMATE EN RODAJAS | D56: 889.01 | E56: 889.01 | F56: 900 | G56: 900 | H56: 475 | I56: 475 | J56: 522.5 | K56: 522.5 | L56: 867.33 | M56: 867.33 | N56: =ROUND(AVERAGE(D56,F56,H56,J56,L56),0) -> 731 | O56: =ROUND(AVERAGE(E56,G56,I56,K56,M56),0) -> 731
B57: TRANSPORTE | C57: TRANSPORTE | D57: 803.62 | E57: 1055.75 | F57: 800 | G57: 1100 | H57: 855 | I57: 1235 | J57: 940.5 | K57: 1358.5 | L57: 784.02 | M57: 1030 | N57: =ROUND(AVERAGE(D57,F57,H57,J57,L57),0) -> 837 | O57: =ROUND(AVERAGE(E57,G57,I57,K57,M57),0) -> 1156
B58: PERSONAL REQUERIDO | C58: PERSONAL REQUERIDO | D58: 1151.08 | E58: 1327.38 | F58: 1200 | G58: 1300 | H58: 1282.5 | I58: 1282.5 | J58: 1410.75 | K58: 1410.75 | L58: 1123 | M58: 1295 | N58: =ROUND(AVERAGE(D58,F58,H58,J58,L58),0) -> 1233 | O58: =ROUND(AVERAGE(E58,G58,I58,K58,M58),0) -> 1323
B59: SERVICIOS PUBLICOS | C59: SERVICIOS PUBLICOS | D59: 459 | E59: 642.59 | F59: 460 | G59: 650 | H59: 1045 | I59: 1045 | J59: 1149.5 | K59: 1149.5 | L59: 447.8 | M59: 626.92 | N59: =ROUND(AVERAGE(D59,F59,H59,J59,L59),0) -> 712 | O59: =ROUND(AVERAGE(E59,G59,I59,K59,M59),0) -> 823
B60: IMPLEMENTOS Y DOTACIÓN | C60: IMPLEMENTOS Y DOTACIÓN | D60: 613.67 | E60: 1017.52 | F60: 600 | G60: 1000 | H60: 760 | I60: 1026 | J60: 836 | K60: 1128.6 | L60: 598.7 | M60: 992.7 | N60: =ROUND(AVERAGE(D60,F60,H60,J60,L60),0) -> 682 | O60: =ROUND(AVERAGE(E60,G60,I60,K60,M60),0) -> 1033
D61: =SUM(D47:D60) -> 7509.43 | E61: =SUM(E47:E60) -> 8525.3 | F61: =SUM(F47:F60) -> 7620 | G61: =SUM(G47:G60) -> 8610 | H61: =SUM(H47:H60) -> 11057.05 | I61: =SUM(I47:I60) -> 11703.05 | J61: =SUM(J47:J60) -> 12162.755 | K61: =SUM(K47:K60) -> 12873.355 | ... O61: =SUM(O47:O60) -> 10005
A62: 5 | B62: ALIMENTO PROTEÍCO | C62: CARNE DE CERDO GUISADA | D62: 1648.49 | E62: 1648.49 | F62: 1650 | G62: 1650 | H62: 4370 | I62: 4370 | J62: 4807 | K62: 4807 | L62: 1608.28 | M62: 1608.28 | N62: =ROUND(AVERAGE(D62,F62,H62,J62,L62),0) -> 2817 | O62: =ROUND(AVERAGE(E62,G62,I62,K62,M62),0) -> 2817
B63: ALIMENTO PROTEÍCO | C63: FRIJOL CABECITA NEGRA | D63: 425.94 | E63: 425.94 | F63: 400 | G63: 400 | H63: 570 | I63: 570 | J63: 627 | K63: 627 | L63: 415.55 | M63: 415.55 | N63: =ROUND(AVERAGE(D63,F63,H63,J63,L63),0) -> 488 | O63: =ROUND(AVERAGE(E63,G63,I63,K63,M63),0) -> 488
B64: AZÚCARES | C64: AZÚCARES | D64: 383.35 | E64: 383.35 | F64: 400 | G64: 400 | H64: 570 | I64: 570 | J64: 627 | K64: 627 | L64: 374 | M64: 374 | N64: =ROUND(AVERAGE(D64,F64,H64,J64,L64),0) -> 471 | O64: =ROUND(AVERAGE(E64,G64,I64,K64,M64),0) -> 471
B65: BEBIDA | C65: AGUA DE PANELA CON LIMON | D65: 622.38 | E65: 622.38 | F65: 710 | G65: 710 | H65: 1045 | I65: 1045 | J65: 1149.5 | K65: 1149.5 | L65: 607.2 | M65: 607.2 | N65: =ROUND(AVERAGE(D65,F65,H65,J65,L65),0) -> 827 | O65: =ROUND(AVERAGE(E65,G65,I65,K65,M65),0) -> 827
B66: CEREAL | C66: ARROZ BLANCO | D66: 414.42 | E66: 414.42 | F66: 410 | G66: 410 | H66: 475 | I66: 475 | J66: 522.5 | K66: 522.5 | L66: 404.31 | M66: 404.31 | N66: =ROUND(AVERAGE(D66,F66,H66,J66,L66),0) -> 445 | O66: =ROUND(AVERAGE(E66,G66,I66,K66,M66),0) -> 445
B67: GRASAS | C67: GRASAS | D67: 375.38 | E67: 375.38 | F67: 380 | G67: 380 | H67: 624.15 | I67: 624.15 | J67: 686.565 | K67: 686.565 | L67: 366.23 | M67: 366.23 | N67: =ROUND(AVERAGE(D67,F67,H67,J67,L67),0) -> 486 | O67: =ROUND(AVERAGE(E67,G67,I67,K67,M67),0) -> 486
B68: AGUA 180 cm3 - 200 cm3 | C68: VASO DE AGUA | D68: 216.48 | E68: 216.48 | F68: 220 | G68: 220 | H68: 570 | I68: 570 | J68: 627 | K68: 627 | L68: 211.2 | M68: 211.2 | N68: =ROUND(AVERAGE(D68,F68,H68,J68,L68),0) -> 369 | O68: =ROUND(AVERAGE(E68,G68,I68,K68,M68),0) -> 369
B69: MISCELANEOS | C69: MISCELANEOS | D69: 209.1 | E69: 209.1 | F69: 220 | G69: 220 | H69: 427.5 | I69: 427.5 | J69: 470.25 | K69: 470.25 | L69: 204 | M69: 204 | N69: =ROUND(AVERAGE(D69,F69,H69,J69,L69),0) -> 306 | O69: =ROUND(AVERAGE(E69,G69,I69,K69,M69),0) -> 306
B70: TUBÉRCULOS - RAÍCES - PLÁTANOS - DERIVADOS DE CEREAL | C70: PURÉ DE PAPA | D70: 381.31 | E70: 381.31 | F70: 400 | G70: 400 | H70: 747.65 | I70: 747.65 | J70: 822.415 | K70: 822.415 | L70: 372.01 | M70: 372.01 | N70: =ROUND(AVERAGE(D70,F70,H70,J70,L70),0) -> 545 | O70: =ROUND(AVERAGE(E70,G70,I70,K70,M70),0) -> 545
B71: VERDURA FRÍA O CALIENTE | C71: ENS. DE ZANAHORIA Y HABICHUELA | D71: 617.21 | E71: 617.21 | F71: 620 | G71: 620 | H71: 475 | I71: 475 | J71: 522.5 | K71: 522.5 | L71: 602.16 | M71: 602.16 | N71: =ROUND(AVERAGE(D71,F71,H71,J71,L71),0) -> 567 | O71: =ROUND(AVERAGE(E71,G71,I71,K71,M71),0) -> 567
B72: TRANSPORTE | C72: TRANSPORTE | D72: 803.62 | E72: 1055.75 | F72: 800 | G72: 1100 | H72: 855 | I72: 1235 | J72: 940.5 | K72: 1358.5 | L72: 784.02 | M72: 1030 | N72: =ROUND(AVERAGE(D72,F72,H72,J72,L72),0) -> 837 | O72: =ROUND(AVERAGE(E72,G72,I72,K72,M72),0) -> 1156
B73: PERSONAL REQUERIDO | C73: PERSONAL REQUERIDO | D73: 1151.08 | E73: 1327.38 | F73: 1200 | G73: 1300 | H73: 1282.5 | I73: 1282.5 | J73: 1410.75 | K73: 1410.75 | L73: 1123 | M73: 1295 | N73: =ROUND(AVERAGE(D73,F73,H73,J73,L73),0) -> 1233 | O73: =ROUND(AVERAGE(E73,G73,I73,K73,M73),0) -> 1323
B74: SERVICIOS PUBLICOS | C74: SERVICIOS PUBLICOS | D74: 459 | E74: 642.59 | F74: 460 | G74: 650 | H74: 1045 | I74: 1045 | J74: 1149.5 | K74: 1149.5 | L74: 447.8 | M74: 626.92 | N74: =ROUND(AVERAGE(D74,F74,H74,J74,L74),0) -> 712 | O74: =ROUND(AVERAGE(E74,G74,I74,K74,M74),0) -> 823
B75: IMPLEMENTOS Y DOTACIÓN | C75: IMPLEMENTOS Y DOTACIÓN | D75: 613.67 | E75: 1017.52 | F75: 600 | G75: 1000 | H75: 760 | I75: 1026 | J75: 836 | K75: 1128.6 | L75: 598.7 | M75: 992.7 | N75: =ROUND(AVERAGE(D75,F75,H75,J75,L75),0) -> 682 | O75: =ROUND(AVERAGE(E75,G75,I75,K75,M75),0) -> 1033
D76: =SUM(D62:D75) -> 8321.43 | E76: =SUM(E62:E75) -> 9337.3 | F76: =SUM(F62:F75) -> 8470 | G76: =SUM(G62:G75) -> 9460 | H76: =SUM(H62:H75) -> 13816.8 | I76: =SUM(I62:I75) -> 14462.8 | J76: =SUM(J62:J75) -> 15198.48 | K76: =SUM(K62:K75) -> 15909.08 | ... O76: =SUM(O62:O75) -> 11656
A77: 6 | B77: ALIMENTO PROTEÍCO | C77: PECHUGA GUISADA | D77: 1940.25 | E77: 1940.25 | F77: 2000 | G77: 2000 | H77: 2688.5 | I77: 2688.5 | J77: 2957.35 | K77: 2957.35 | L77: 1892.93 | M77: 1892.93 | N77: =ROUND(AVERAGE(D77,F77,H77,J77,L77),0) -> 2296 | O77: =ROUND(AVERAGE(E77,G77,I77,K77,M77),0) -> 2296
B78: AZÚCARES | C78: AZÚCARES | D78: 383.35 | E78: 383.35 | F78: 400 | G78: 400 | H78: 570 | I78: 570 | J78: 627 | K78: 627 | L78: 374 | M78: 374 | N78: =ROUND(AVERAGE(D78,F78,H78,J78,L78),0) -> 471 | O78: =ROUND(AVERAGE(E78,G78,I78,K78,M78),0) -> 471
B79: BEBIDA | C79: JUGO DE BANANO(CON LECHE) | D79: 764.29 | E79: 764.29 | F79: 760 | G79: 760 | H79: 1187.5 | I79: 1187.5 | J79: 1306.25 | K79: 1306.25 | L79: 745.65 | M79: 745.65 | N79: =ROUND(AVERAGE(D79,F79,H79,J79,L79),0) -> 953 | O79: =ROUND(AVERAGE(E79,G79,I79,K79,M79),0) -> 953
B80: CEREAL | C80: ARROZ DE FIDEO | D80: 405.18 | E80: 405.18 | F80: 390 | G80: 390 | H80: 513 | I80: 513 | J80: 564.3 | K80: 564.3 | L80: 395.29 | M80: 395.29 | N80: =ROUND(AVERAGE(D80,F80,H80,J80,L80),0) -> 454 | O80: =ROUND(AVERAGE(E80,G80,I80,K80,M80),0) -> 454
B81: GRASAS | C81: GRASAS | D81: 375.38 | E81: 375.38 | F81: 380 | G81: 380 | H81: 624.15 | I81: 624.15 | J81: 686.565 | K81: 686.565 | L81: 366.23 | M81: 366.23 | N81: =ROUND(AVERAGE(D81,F81,H81,J81,L81),0) -> 486 | O81: =ROUND(AVERAGE(E81,G81,I81,K81,M81),0) -> 486
B82: AGUA | C82: VASO DE AGUA | D82: 216.48 | E82: 216.48 | F82: 220 | G82: 220 | H82: 570 | I82: 570 | J82: 627 | K82: 627 | L82: 211.2 | M82: 211.2 | N82: =ROUND(AVERAGE(D82,F82,H82,J82,L82),0) -> 369 | O82: =ROUND(AVERAGE(E82,G82,I82,K82,M82),0) -> 369
B83: MISCELANEOS | C83: MISCELANEOS | D83: 209.1 | E83: 209.1 | F83: 220 | G83: 220 | H83: 427.5 | I83: 427.5 | J83: 470.25 | K83: 470.25 | L83: 204 | M83: 204 | N83: =ROUND(AVERAGE(D83,F83,H83,J83,L83),0) -> 306 | O83: =ROUND(AVERAGE(E83,G83,I83,K83,M83),0) -> 306
B84: TUBÉRCULOS - RAÍCES - PLÁTANOS - DERIVADOS DE CEREAL | C84: PAPAS A LA FRANCESA | D84: 262.85 | E84: 262.85 | F84: 330 | G84: 330 | H84: 747.65 | I84: 747.65 | J84: 822.415 | K84: 822.415 | L84: 256.44 | M84: 256.44 | N84: =ROUND(AVERAGE(D84,F84,H84,J84,L84),0) -> 484 | O84: =ROUND(AVERAGE(E84,G84,I84,K84,M84),0) -> 484
B85: VERDURA FRÍA O CALIENTE | C85: ENS. DE ZANAHORIA Y HABICHUELA | D85: 617.21 | E85: 617.21 | F85: 620 | G85: 620 | H85: 475 | I85: 475 | J85: 522.5 | K85: 522.5 | L85: 602.16 | M85: 602.16 | N85: =ROUND(AVERAGE(D85,F85,H85,J85,L85),0) -> 567 | O85: =ROUND(AVERAGE(E85,G85,I85,K85,M85),0) -> 567
B86: TRANSPORTE | C86: TRANSPORTE | D86: 803.62 | E86: 1055.75 | F86: 800 | G86: 1100 | H86: 855 | I86: 1235 | J86: 940.5 | K86: 1358.5 | L86: 784.02 | M86: 1030 | N86: =ROUND(AVERAGE(D86,F86,H86,J86,L86),0) -> 837 | O86: =ROUND(AVERAGE(E86,G86,I86,K86,M86),0) -> 1156
B87: PERSONAL REQUERIDO | C87: PERSONAL REQUERIDO | D87: 1151.08 | E87: 1327.38 | F87: 1200 | G87: 1300 | H87: 1282.5 | I87: 1282.5 | J87: 1410.75 | K87: 1410.75 | L87: 1123 | M87: 1295 | N87: =ROUND(AVERAGE(D87,F87,H87,J87,L87),0) -> 1233 | O87: =ROUND(AVERAGE(E87,G87,I87,K87,M87),0) -> 1323
B88: SERVICIOS PUBLICOS | C88: SERVICIOS PUBLICOS | D88: 459 | E88: 642.59 | F88: 460 | G88: 650 | H88: 1045 | I88: 1045 | J88: 1149.5 | K88: 1149.5 | L88: 447.8 | M88: 626.92 | N88: =ROUND(AVERAGE(D88,F88,H88,J88,L88),0) -> 712 | O88: =ROUND(AVERAGE(E88,G88,I88,K88,M88),0) -> 823
B89: IMPLEMENTOS Y DOTACIÓN | C89: IMPLEMENTOS Y DOTACIÓN | D89: 613.67 | E89: 1017.52 | F89: 600 | G89: 1000 | H89: 760 | I89: 1026 | J89: 836 | K89: 1128.6 | L89: 598.7 | M89: 992.7 | N89: =ROUND(AVERAGE(D89,F89,H89,J89,L89),0) -> 682 | O89: =ROUND(AVERAGE(E89,G89,I89,K89,M89),0) -> 1033
D90: =SUM(D77:D89) -> 8201.46 | E90: =SUM(E77:E89) -> 9217.33 | F90: =SUM(F77:F89) -> 8380 | G90: =SUM(G77:G89) -> 9370 | H90: =SUM(H77:H89) -> 11745.8 | I90: =SUM(I77:I89) -> 12391.8 | J90: =SUM(J77:J89) -> 12920.38 | K90: =SUM(K77:K89) -> 13630.98 | ... O90: =SUM(O77:O89) -> 10721
A91: 7 | B91: ALIMENTO PROTEÍCO | C91: CARNE MOLIDA | D91: 1995.81 | E91: 1995.81 | F91: 2000 | G91: 2000 | H91: 2660 | I91: 2660 | J91: 2926 | K91: 2926 | L91: 1947.13 | M91: 1947.13 | N91: =ROUND(AVERAGE(D91,F91,H91,J91,L91),0) -> 2306 | O91: =ROUND(AVERAGE(E91,G91,I91,K91,M91),0) -> 2306
B92: AZÚCARES | C92: AZÚCARES | D92: 383.35 | E92: 383.35 | F92: 400 | G92: 400 | H92: 570 | I92: 570 | J92: 627 | K92: 627 | L92: 374 | M92: 374 | N92: =ROUND(AVERAGE(D92,F92,H92,J92,L92),0) -> 471 | O92: =ROUND(AVERAGE(E92,G92,I92,K92,M92),0) -> 471
B93: BEBIDA | C93: JUGO DE PIÑA | D93: 753.86 | E93: 753.86 | F93: 750 | G93: 750 | H93: 1235 | I93: 1235 | J93: 1358.5 | K93: 1358.5 | L93: 735.47 | M93: 735.47 | N93: =ROUND(AVERAGE(D93,F93,H93,J93,L93),0) -> 967 | O93: =ROUND(AVERAGE(E93,G93,I93,K93,M93),0) -> 967
B94: CEREAL | C94: ARROZ CON VERDURAS | D94: 589.24 | E94: 589.24 | F94: 570 | G94: 570 | H94: 513 | I94: 513 | J94: 564.3 | K94: 564.3 | L94: 574.86 | M94: 574.86 | N94: =ROUND(AVERAGE(D94,F94,H94,J94,L94),0) -> 562 | O94: =ROUND(AVERAGE(E94,G94,I94,K94,M94),0) -> 562
B95: GRASAS | C95: GRASAS | D95: 375.38 | E95: 375.38 | F95: 380 | G95: 380 | H95: 624.15 | I95: 624.15 | J95: 686.565 | K95: 686.565 | L95: 366.23 | M95: 366.23 | N95: =ROUND(AVERAGE(D95,F95,H95,J95,L95),0) -> 486 | O95: =ROUND(AVERAGE(E95,G95,I95,K95,M95),0) -> 486
B96: AGUA 180 cm3 - 200 cm3 | C96: VASO DE AGUA | D96: 216.48 | E96: 216.48 | F96: 220 | G96: 220 | H96: 570 | I96: 570 | J96: 627 | K96: 627 | L96: 211.2 | M96: 211.2 | N96: =ROUND(AVERAGE(D96,F96,H96,J96,L96),0) -> 369 | O96: =ROUND(AVERAGE(E96,G96,I96,K96,M96),0) -> 369
B97: MISCELANEOS | C97: MISCELANEOS | D97: 209.1 | E97: 209.1 | F97: 220 | G97: 220 | H97: 427.5 | I97: 427.5 | J97: 470.25 | K97: 470.25 | L97: 204 | M97: 204 | N97: =ROUND(AVERAGE(D97,F97,H97,J97,L97),0) -> 306 | O97: =ROUND(AVERAGE(E97,G97,I97,K97,M97),0) -> 306
B98: TUBÉRCULOS - RAÍCES - PLÁTANOS - DERIVADOS DE CEREAL | C98: TAJADAS DE GUINEO VERDE | D98: 446.44 | E98: 446.44 | F98: 430 | G98: 430 | H98: 636.5 | I98: 636.5 | J98: 700.15 | K98: 700.15 | L98: 435.55 | M98: 435.55 | N98: =ROUND(AVERAGE(D98,F98,H98,J98,L98),0) -> 530 | O98: =ROUND(AVERAGE(E98,G98,I98,K98,M98),0) -> 530
B99: VERDURA FRÍA O CALIENTE | C99: ENSALADA DE PAYASO | D99: 836.43 | E99: 836.43 | F99: 900 | G99: 900 | H99: 617.5 | I99: 617.5 | J99: 679.25 | K99: 679.25 | L99: 816.03 | M99: 816.03 | N99: =ROUND(AVERAGE(D99,F99,H99,J99,L99),0) -> 770 | O99: =ROUND(AVERAGE(E99,G99,I99,K99,M99),0) -> 770
B100: TRANSPORTE | C100: TRANSPORTE | D100: 803.62 | E100: 1055.75 | F100: 800 | G100: 1100 | H100: 855 | I100: 1235 | J100: 940.5 | K100: 1358.5 | L100: 784.02 | M100: 1030 | N100: =ROUND(AVERAGE(D100,F100,H100,J100,L100),0) -> 837 | O100: =ROUND(AVERAGE(E100,G100,I100,K100,M100),0) -> 1156
...

Sheet ALMUERZO (E)
D1: GRUPO E
D2: SERVICIOS DE ALIMENTACIÓN QP | F2: FUNDACIÓN EDUCANDO A LA NIÑEZ | H2: FUNDACIÓN GARDEN | J2: FUNDACIÓN PARA EL PROGRESO TERRITORIAL | L2: SERVICIOS DE ALIMENTACION NP | N2: PROMEDIO
A3: ALMUERZO | D3: PRECIO PREPARADO EN SITIO | E3: PRECIO PREPARADO EN CCT | F3: PRECIO PREPARADO EN SITIO | G3: PRECIO PREPARADO EN CCT | H3: PRECIO PREPARADO EN SITIO | I3: PRECIO PREPARADO EN CCT | J3: PRECIO PREPARADO EN SITIO | K3: PRECIO PREPARADO EN CCT | L3: PRECIO PREPARADO EN SITIO | M3: PRECIO PREPARADO EN CCT | N3: PRECIO PREPARADO EN SITIO | O3: PRECIO PREPARADO EN CCT
A4: N° MENÚ | B4: GRUPO DE ALIMETOS | C4: PREPARACIÓN | D4: valor unitario. | E4: valor unitario. | F4: valor unitario. | G4: valor unitario. | H4: valor unitario. | I4: valor unitario. | J4: valor unitario. | K4: valor unitario. | L4: valor unitario. | M4: valor unitario. | N4: valor unitario. | O4: valor unitario.
A5: 1 | B5: ALIMENTO PROTEÍCO | C5: PECHUGA APANADA | D5: 2350.43 | E5: 2350.43 | F5: 2500 | G5: 2500 | H5: 3700 | I5: 3700 | J5: 4070 | K5: 4070 | L5: 2293.11 | M5: 2293.11 | N5: =ROUND(AVERAGE(D5,F5,H5,J5,L5),0) -> 2983 | O5: =ROUND(AVERAGE(E5,G5,I5,K5,M5),0) -> 2983
B6: AZÚCARES | C6: AZÚCARES | D6: 440.75 | E6: 440.75 | F6: 470 | G6: 470 | H6: 600 | I6: 600 | J6: 660 | K6: 660 | L6: 430 | M6: 430 | N6: =ROUND(AVERAGE(D6,F6,H6,J6,L6),0) -> 520 | O6: =ROUND(AVERAGE(E6,G6,I6,K6,M6),0) -> 520
B7: BEBIDA | C7: JUGO DE PIÑA | D7: 736.85 | E7: 736.85 | F7: 750 | G7: 750 | H7: 1300 | I7: 1300 | J7: 1430 | K7: 1430 | L7: 718.88 | M7: 718.88 | N7: =ROUND(AVERAGE(D7,F7,H7,J7,L7),0) -> 987 | O7: =ROUND(AVERAGE(E7,G7,I7,K7,M7),0) -> 987
B8: CEREAL | C8: ARROZ CON VERDURAS | D8: 883.13 | E8: 883.13 | F8: 870 | G8: 870 | H8: 640 | I8: 640 | J8: 704 | K8: 704 | L8: 861.59 | M8: 861.59 | N8: =ROUND(AVERAGE(D8,F8,H8,J8,L8),0) -> 792 | O8: =ROUND(AVERAGE(E8,G8,I8,K8,M8),0) -> 792
B9: GRASAS | C9: GRASAS | D9: 431.69 | E9: 431.69 | F9: 421.16 | G9: 440 | H9: 657 | I9: 657 | J9: 722.7 | K9: 722.7 | L9: 421.16 | M9: 421.16 | N9: =ROUND(AVERAGE(D9,F9,H9,J9,L9),0) -> 531 | O9: =ROUND(AVERAGE(E9,G9,I9,K9,M9),0) -> 535
B10: AGUA 180 cm3 - 200 cm3 | C10: VASO DE AGUA | D10: 216.48 | E10: 216.48 | F10: 220 | G10: 220 | H10: 600 | I10: 600 | J10: 660 | K10: 660 | L10: 211.2 | M10: 211.2 | N10: =ROUND(AVERAGE(D10,F10,H10,J10,L10),0) -> 382 | O10: =ROUND(AVERAGE(E10,G10,I10,K10,M10),0) -> 382
B11: MISCELANEOS | C11: MISCELANEOS | D11: 209.1 | E11: 209.1 | F11: 220 | G11: 220 | H11: 450 | I11: 450 | J11: 495 | K11: 495 | L11: 204 | M11: 204 | N11: =ROUND(AVERAGE(D11,F11,H11,J11,L11),0) -> 316 | O11: =ROUND(AVERAGE(E11,G11,I11,K11,M11),0) -> 316
B12: TUBÉRCULOS - RAÍCES - PLÁTANOS - DERIVADOS DE CEREAL | C12: TAJADAS DE GUINEO VERDE | D12: 717.04 | E12: 717.04 | F12: 750 | G12: 750 | H12: 670 | I12: 670 | J12: 737 | K12: 737 | L12: 699.55 | M12: 699.55 | N12: =ROUND(AVERAGE(D12,F12,H12,J12,L12),0) -> 715 | O12: =ROUND(AVERAGE(E12,G12,I12,K12,M12),0) -> 715
B13: VERDURA FRÍA O CALIENTE | C13: VERDURA FRÍA O CALIENTE | D13: 1165.75 | E13: 1165.75 | F13: 1200 | G13: 1200 | H13: 500 | I13: 500 | J13: 550 | K13: 550 | L13: 1137.31 | M13: 1137.31 | N13: =ROUND(AVERAGE(D13,F13,H13,J13,L13),0) -> 911 | O13: =ROUND(AVERAGE(E13,G13,I13,K13,M13),0) -> 911
B14: TRANSPORTE | C14: TRANSPORTE | D14: 803.62 | E14: 1055.75 | F14: 800 | G14: 1100 | H14: 900 | I14: 1300 | J14: 990 | K14: 1430 | L14: 784.02 | M14: 1030 | N14: =ROUND(AVERAGE(D14,F14,H14,J14,L14),0) -> 856 | O14: =ROUND(AVERAGE(E14,G14,I14,K14,M14),0) -> 1183
B15: PERSONAL REQUERIDO | C15: PERSONAL REQUERIDO | D15: 1151.08 | E15: 1327.38 | F15: 1200 | G15: 1300 | H15: 1350 | I15: 1350 | J15: 1485 | K15: 1485 | L15: 1123 | M15: 1295 | N15: =ROUND(AVERAGE(D15,F15,H15,J15,L15),0) -> 1262 | O15: =ROUND(AVERAGE(E15,G15,I15,K15,M15),0) -> 1351
B16: SERVICIOS PUBLICOS | C16: SERVICIOS PUBLICOS | D16: 459 | E16: 642.59 | F16: 460 | G16: 650 | H16: 1100 | I16: 1100 | J16: 1210 | K16: 1210 | L16: 447.8 | M16: 626.92 | N16: =ROUND(AVERAGE(D16,F16,H16,J16,L16),0) -> 735 | O16: =ROUND(AVERAGE(E16,G16,I16,K16,M16),0) -> 846
B17: IMPLEMENTOS Y DOTACIÓN | C17: IMPLEMENTOS Y DOTACIÓN | D17: 613.67 | E17: 1017.52 | F17: 600 | G17: 1000 | H17: 800 | I17: 1080 | J17: 880 | K17: 1188 | L17: 598.7 | M17: 992.7 | N17: =ROUND(AVERAGE(D17,F17,H17,J17,L17),0) -> 698 | O17: =ROUND(AVERAGE(E17,G17,I17,K17,M17),0) -> 1056
D18: =SUM(D5:D17) -> 10178.59 | E18: =SUM(E5:E17) -> 11194.46 | F18: =SUM(F5:F17) -> 10461.16 | G18: =SUM(G5:G17) -> 11470 | H18: =SUM(H5:H17) -> 13267 | I18: =SUM(I5:I17) -> 13947 | J18: =SUM(J5:J17) -> 14593.7 | K18: =SUM(K5:K17) -> 15341.7 | ... O18: =SUM(O5:O17) -> 12577
A19: 2 | B19: ALIMENTO PROTEÍCO | C19: CERDO EN BISTECK | D19: 2017.86 | E19: 2017.86 | F19: 2000 | G19: 2000 | H19: 4439 | I19: 4439 | J19: 4882.9 | K19: 4882.9 | L19: 1968.64 | M19: 1968.64 | N19: =ROUND(AVERAGE(D19,F19,H19,J19,L19),0) -> 3062 | O19: =ROUND(AVERAGE(E19,G19,I19,K19,M19),0) -> 3062
B20: AZÚCARES | C20: AZÚCARES | D20: 440.75 | E20: 440.75 | F20: 470 | G20: 470 | H20: 600 | I20: 600 | J20: 660 | K20: 660 | L20: 430 | M20: 430 | N20: =ROUND(AVERAGE(D20,F20,H20,J20,L20),0) -> 520 | O20: =ROUND(AVERAGE(E20,G20,I20,K20,M20),0) -> 520
B21: BEBIDA | C21: JUGO DE BANANO(CON LECHE) | D21: 764.29 | E21: 764.29 | F21: 760 | G21: 760 | H21: 1250 | I21: 1250 | J21: 1375 | K21: 1375 | L21: 745.65 | M21: 745.65 | N21: =ROUND(AVERAGE(D21,F21,H21,J21,L21),0) -> 979 | O21: =ROUND(AVERAGE(E21,G21,I21,K21,M21),0) -> 979
B22: CEREAL | C22: ARROZ DE FIDEO | D22: 472.22 | E22: 472.22 | F22: 500 | G22: 500 | H22: 540 | I22: 540 | J22: 594 | K22: 594 | L22: 460.7 | M22: 460.7 | N22: =ROUND(AVERAGE(D22,F22,H22,J22,L22),0) -> 513 | O22: =ROUND(AVERAGE(E22,G22,I22,K22,M22),0) -> 513
B23: GRASAS | C23: GRASAS | D23: 431.69 | E23: 431.69 | F23: 421.16 | G23: 440 | H23: 657 | I23: 657 | J23: 722.7 | K23: 722.7 | L23: 421.16 | M23: 421.16 | N23: =ROUND(AVERAGE(D23,F23,H23,J23,L23),0) -> 531 | O23: =ROUND(AVERAGE(E23,G23,I23,K23,M23),0) -> 535
B24: AGUA 180 cm3 - 200 cm3 | C24: VASO DE AGUA | D24: 216.48 | E24: 216.48 | F24: 220 | G24: 220 | H24: 600 | I24: 600 | J24: 660 | K24: 660 | L24: 211.2 | M24: 211.2 | N24: =ROUND(AVERAGE(D24,F24,H24,J24,L24),0) -> 382 | O24: =ROUND(AVERAGE(E24,G24,I24,K24,M24),0) -> 382
B25: MISCELANEOS | C25: MISCELANEOS | D25: 209.1 | E25: 209.1 | F25: 220 | G25: 220 | H25: 450 | I25: 450 | J25: 495 | K25: 495 | L25: 204 | M25: 204 | N25: =ROUND(AVERAGE(D25,F25,H25,J25,L25),0) -> 316 | O25: =ROUND(AVERAGE(E25,G25,I25,K25,M25),0) -> 316
B26: TUBÉRCULOS - RAÍCES - PLÁTANOS - DERIVADOS DE CEREAL | C26: PAPAS A LA FRANCESA | D26: 412.65 | E26: 412.65 | F26: 480 | G26: 480 | H26: 787 | I26: 787 | J26: 865.7 | K26: 865.7 | L26: 402.58 | M26: 402.58 | N26: =ROUND(AVERAGE(D26,F26,H26,J26,L26),0) -> 590 | O26: =ROUND(AVERAGE(E26,G26,I26,K26,M26),0) -> 590
B27: ENSALADA DE PAYASO | C27: ENSALADA DE PAYASO | D27: 683.81 | E27: 683.81 | F27: 700 | G27: 700 | H27: 650 | I27: 650 | J27: 715 | K27: 715 | L27: 667.13 | M27: 667.13 | N27: =ROUND(AVERAGE(D27,F27,H27,J27,L27),0) -> 683 | O27: =ROUND(AVERAGE(E27,G27,I27,K27,M27),0) -> 683
B28: TRANSPORTE | C28: TRANSPORTE | D28: 803.62 | E28: 1055.75 | F28: 800 | G28: 1100 | H28: 900 | I28: 1300 | J28: 990 | K28: 1430 | L28: 784.02 | M28: 1030 | N28: =ROUND(AVERAGE(D28,F28,H28,J28,L28),0) -> 856 | O28: =ROUND(AVERAGE(E28,G28,I28,K28,M28),0) -> 1183
B29: PERSONAL REQUERIDO | C29: PERSONAL REQUERIDO | D29: 1151.08 | E29: 1327.38 | F29: 1200 | G29: 1300 | H29: 1350 | I29: 1350 | J29: 1485 | K29: 1485 | L29: 1123 | M29: 1295 | N29: =ROUND(AVERAGE(D29,F29,H29,J29,L29),0) -> 1262 | O29: =ROUND(AVERAGE(E29,G29,I29,K29,M29),0) -> 1351
B30: SERVICIOS PUBLICOS | C30: SERVICIOS PUBLICOS | D30: 459 | E30: 642.59 | F30: 460 | G30: 650 | H30: 1100 | I30: 1100 | J30: 1210 | K30: 1210 | L30: 447.8 | M30: 626.92 | N30: =ROUND(AVERAGE(D30,F30,H30,J30,L30),0) -> 735 | O30: =ROUND(AVERAGE(E30,G30,I30,K30,M30),0) -> 846
B31: IMPLEMENTOS Y DOTACIÓN | C31: IMPLEMENTOS Y DOTACIÓN | D31: 613.67 | E31: 1017.52 | F31: 600 | G31: 1000 | H31: 800 | I31: 1080 | J31: 880 | K31: 1188 | L31: 598.7 | M31: 992.7 | N31: =ROUND(AVERAGE(D31,F31,H31,J31,L31),0) -> 698 | O31: =ROUND(AVERAGE(E31,G31,I31,K31,M31),0) -> 1056
D32: =SUM(D19:D31) -> 8676.22 | E32: =SUM(E19:E31) -> 9692.09 | F32: =SUM(F19:F31) -> 8831.16 | G32: =SUM(G19:G31) -> 9840 | H32: =SUM(H19:H31) -> 14123 | I32: =SUM(I19:I31) -> 14803 | J32: =SUM(J19:J31) -> 15535.3 | K32: =SUM(K19:K31) -> 16283.3 | ... O32: =SUM(O19:O31) -> 12016
A33: 3 | B33: ALIMENTO PROTEÍCO | C33: POLLO EN CUADRITOS | D33: 2100.87 | E33: 2100.87 | F33: 2100 | G33: 2100 | H33: 3200 | I33: 3200 | J33: 3520 | K33: 3520 | L33: 2049.63 | M33: 2049.63 | N33: =ROUND(AVERAGE(D33,F33,H33,J33,L33),0) -> 2594 | O33: =ROUND(AVERAGE(E33,G33,I33,K33,M33),0) -> 2594
B34: AZÚCARES | C34: AZÚCARES | D34: 440.75 | E34: 440.75 | F34: 470 | G34: 470 | H34: 600 | I34: 600 | J34: 660 | K34: 660 | L34: 430 | M34: 430 | N34: =ROUND(AVERAGE(D34,F34,H34,J34,L34),0) -> 520 | O34: =ROUND(AVERAGE(E34,G34,I34,K34,M34),0) -> 520
B35: BEBIDA | C35: JUGO DE GUAYABA(CON LECHE) | D35: 721.83 | E35: 721.83 | F35: 720 | G35: 720 | H35: 1700 | I35: 1700 | J35: 1870 | K35: 1870 | L35: 704.23 | M35: 704.23 | N35: =ROUND(AVERAGE(D35,F35,H35,J35,L35),0) -> 1143 | O35: =ROUND(AVERAGE(E35,G35,I35,K35,M35),0) -> 1143
B36: CEREAL | C36: PASTA GUISADA | D36: 833.63 | E36: 833.63 | F36: 830 | G36: 830 | H36: 600 | I36: 600 | J36: 660 | K36: 660 | L36: 813.3 | M36: 813.3 | N36: =ROUND(AVERAGE(D36,F36,H36,J36,L36),0) -> 747 | O36: =ROUND(AVERAGE(E36,G36,I36,K36,M36),0) -> 747
B37: GRASAS | C37: GRASAS | D37: 431.69 | E37: 431.69 | F37: 421.16 | G37: 440 | H37: 657 | I37: 657 | J37: 722.7 | K37: 722.7 | L37: 421.16 | M37: 421.16 | N37: =ROUND(AVERAGE(D37,F37,H37,J37,L37),0) -> 531 | O37: =ROUND(AVERAGE(E37,G37,I37,K37,M37),0) -> 535
B38: AGUA 180 cm3 - 200 cm3 | C38: VASO DE AGUA | D38: 216.48 | E38: 216.48 | F38: 220 | G38: 220 | H38: 600 | I38: 600 | J38: 660 | K38: 660 | L38: 211.2 | M38: 211.2 | N38: =ROUND(AVERAGE(D38,F38,H38,J38,L38),0) -> 382 | O38: =ROUND(AVERAGE(E38,G38,I38,K38,M38),0) -> 382
B39: MISCELANEOS | C39: MISCELANEOS | D39: 209.1 | E39: 209.1 | F39: 220 | G39: 220 | H39: 450 | I39: 450 | J39: 495 | K39: 495 | L39: 204 | M39: 204 | N39: =ROUND(AVERAGE(D39,F39,H39,J39,L39),0) -> 316 | O39: =ROUND(AVERAGE(E39,G39,I39,K39,M39),0) -> 316
B40: TUBÉRCULOS - RAÍCES - PLÁTANOS - DERIVADOS DE CEREAL | C40: PAN | D40: 743.9 | E40: 743.9 | F40: 750 | G40: 750 | H40: 600 | I40: 600 | J40: 660 | K40: 660 | L40: 725.76 | M40: 725.76 | N40: =ROUND(AVERAGE(D40,F40,H40,J40,L40),0) -> 696 | O40: =ROUND(AVERAGE(E40,G40,I40,K40,M40),0) -> 696
B41: VERDURA FRÍA O CALIENTE | C41: VERDURA FRÍA O CALIENTE | H41: 500 | I41: 500 | J41: 550 | K41: 550 | N41: =ROUND(AVERAGE(D41,F41,H41,J41,L41),0) -> 525 | O41: =ROUND(AVERAGE(E41,G41,I41,K41,M41),0) -> 525
B42: TRANSPORTE | C42: TRANSPORTE | D42: 803.62 | E42: 1055.75 | F42: 800 | G42: 1100 | H42: 900 | I42: 1300 | J42: 990 | K42: 1430 | L42: 784.02 | M42: 1030 | N42: =ROUND(AVERAGE(D42,F42,H42,J42,L42),0) -> 856 | O42: =ROUND(AVERAGE(E42,G42,I42,K42,M42),0) -> 1183
B43: PERSONAL REQUERIDO | C43: PERSONAL REQUERIDO | D43: 1151.08 | E43: 1327.38 | F43: 1200 | G43: 1300 | H43: 1350 | I43: 1350 | J43: 1485 | K43: 1485 | L43: 1123 | M43: 1295 | N43: =ROUND(AVERAGE(D43,F43,H43,J43,L43),0) -> 1262 | O43: =ROUND(AVERAGE(E43,G43,I43,K43,M43),0) -> 1351
B44: SERVICIOS PUBLICOS | C44: SERVICIOS PUBLICOS | D44: 459 | E44: 642.59 | F44: 460 | G44: 650 | H44: 1100 | I44: 1100 | J44: 1210 | K44: 1210 | L44: 447.8 | M44: 626.92 | N44: =ROUND(AVERAGE(D44,F44,H44,J44,L44),0) -> 735 | O44: =ROUND(AVERAGE(E44,G44,I44,K44,M44),0) -> 846
B45: IMPLEMENTOS Y DOTACIÓN | C45: IMPLEMENTOS Y DOTACIÓN | D45: 613.67 | E45: 1017.52 | F45: 600 | G45: 1000 | H45: 800 | I45: 1080 | J45: 880 | K45: 1188 | L45: 598.7 | M45: 992.7 | N45: =ROUND(AVERAGE(D45,F45,H45,J45,L45),0) -> 698 | O45: =ROUND(AVERAGE(E45,G45,I45,K45,M45),0) -> 1056
D46: =SUM(D33:D45) -> 8725.62 | E46: =SUM(E33:E45) -> 9741.49 | F46: =SUM(F33:F45) -> 8791.16 | G46: =SUM(G33:G45) -> 9800 | H46: =SUM(H33:H45) -> 13057 | I46: =SUM(I33:I45) -> 13737 | J46: =SUM(J33:J45) -> 14362.7 | K46: =SUM(K33:K45) -> 15110.7 | ... O46: =SUM(O33:O45) -> 11894
A47: 4 | B47: ALIMENTO PROTEÍCO | C47: HUEVO PERICO | D47: 682.62 | E47: 682.62 | F47: 700 | G47: 700 | H47: 982 | I47: 982 | J47: 1080.2 | K47: 1080.2 | L47: 665.97 | M47: 665.97 | N47: =ROUND(AVERAGE(D47,F47,H47,J47,L47),0) -> 822 | O47: =ROUND(AVERAGE(E47,G47,I47,K47,M47),0) -> 822
B48: ALIMENTO PROTEÍCO | C48: LENTEJAS GUISADAS | D48: 500.89 | E48: 500.89 | F48: 500 | G48: 500 | H48: 600 | I48: 600 | J48: 660 | K48: 660 | L48: 488.68 | M48: 488.68 | N48: =ROUND(AVERAGE(D48,F48,H48,J48,L48),0) -> 550 | O48: =ROUND(AVERAGE(E48,G48,I48,K48,M48),0) -> 550
B49: AZÚCARES | C49: AZÚCARES | D49: 440.75 | E49: 440.75 | F49: 470 | G49: 470 | H49: 600 | I49: 600 | J49: 660 | K49: 660 | L49: 430 | M49: 430 | N49: =ROUND(AVERAGE(D49,F49,H49,J49,L49),0) -> 520 | O49: =ROUND(AVERAGE(E49,G49,I49,K49,M49),0) -> 520
B50: BEBIDA | C50: JUGO DE TOMATE DE ARBOL (CON LECHE) | D50: 738.99 | E50: 738.99 | F50: 800 | G50: 800 | H50: 2000 | I50: 2000 | J50: 2200 | K50: 2200 | L50: 720.97 | M50: 720.97 | N50: =ROUND(AVERAGE(D50,F50,H50,J50,L50),0) -> 1292 | O50: =ROUND(AVERAGE(E50,G50,I50,K50,M50),0) -> 1292
B51: CEREAL | C51: ARROZ BLANCO | D51: 365.45 | E51: 365.45 | F51: 410 | G51: 410 | H51: 500 | I51: 500 | J51: 550 | K51: 550 | L51: 356.54 | M51: 356.54 | N51: =ROUND(AVERAGE(D51,F51,H51,J51,L51),0) -> 436 | O51: =ROUND(AVERAGE(E51,G51,I51,K51,M51),0) -> 436
B52: GRASAS | C52: GRASAS | D52: 431.69 | E52: 431.69 | F52: 421.16 | G52: 440 | H52: 657 | I52: 657 | J52: 722.7 | K52: 722.7 | L52: 421.16 | M52: 421.16 | N52: =ROUND(AVERAGE(D52,F52,H52,J52,L52),0) -> 531 | O52: =ROUND(AVERAGE(E52,G52,I52,K52,M52),0) -> 535
B53: AGUA 180 cm3 - 200 cm3 | C53: VASO DE AGUA | D53: 216.48 | E53: 216.48 | F53: 220 | G53: 220 | H53: 600 | I53: 600 | J53: 660 | K53: 660 | L53: 211.2 | M53: 211.2 | N53: =ROUND(AVERAGE(D53,F53,H53,J53,L53),0) -> 382 | O53: =ROUND(AVERAGE(E53,G53,I53,K53,M53),0) -> 382
B54: MISCELANEOS | C54: MISCELANEOS | D54: 209.1 | E54: 209.1 | F54: 220 | G54: 220 | H54: 450 | I54: 450 | J54: 495 | K54: 495 | L54: 204 | M54: 204 | N54: =ROUND(AVERAGE(D54,F54,H54,J54,L54),0) -> 316 | O54: =ROUND(AVERAGE(E54,G54,I54,K54,M54),0) -> 316
B55: TUBÉRCULOS - RAÍCES - PLÁTANOS - DERIVADOS DE CEREAL | C55: AREPA | D55: 323.04 | E55: 323.04 | F55: 330 | G55: 330 | H55: 600 | I55: 600 | J55: 660 | K55: 660 | L55: 315.16 | M55: 315.16 | N55: =ROUND(AVERAGE(D55,F55,H55,J55,L55),0) -> 446 | O55: =ROUND(AVERAGE(E55,G55,I55,K55,M55),0) -> 446
B56: VERDURA FRÍA O CALIENTE | C56: TOMATE EN RODAJAS | D56: 1142.7 | E56: 1142.7 | F56: 1200 | G56: 1200 | H56: 500 | I56: 500 | J56: 550 | K56: 550 | L56: 1114.83 | M56: 1114.83 | N56: =ROUND(AVERAGE(D56,F56,H56,J56,L56),0) -> 902 | O56: =ROUND(AVERAGE(E56,G56,I56,K56,M56),0) -> 902
B57: TRANSPORTE | C57: TRANSPORTE | D57: 803.62 | E57: 1055.75 | F57: 800 | G57: 1100 | H57: 900 | I57: 1300 | J57: 990 | K57: 1430 | L57: 784.02 | M57: 1030 | N57: =ROUND(AVERAGE(D57,F57,H57,J57,L57),0) -> 856 | O57: =ROUND(AVERAGE(E57,G57,I57,K57,M57),0) -> 1183
B58: PERSONAL REQUERIDO | C58: PERSONAL REQUERIDO | D58: 1151.08 | E58: 1327.38 | F58: 1200 | G58: 1300 | H58: 1350 | I58: 1350 | J58: 1485 | K58: 1485 | L58: 1123 | M58: 1295 | N58: =ROUND(AVERAGE(D58,F58,H58,J58,L58),0) -> 1262 | O58: =ROUND(AVERAGE(E58,G58,I58,K58,M58),0) -> 1351
B59: SERVICIOS PUBLICOS | C59: SERVICIOS PUBLICOS | D59: 459 | E59: 642.59 | F59: 460 | G59: 650 | H59: 1100 | I59: 1100 | J59: 1210 | K59: 1210 | L59: 447.8 | M59: 626.92 | N59: =ROUND(AVERAGE(D59,F59,H59,J59,L59),0) -> 735 | O59: =ROUND(AVERAGE(E59,G59,I59,K59,M59),0) -> 846
B60: IMPLEMENTOS Y DOTACIÓN | C60: IMPLEMENTOS Y DOTACIÓN | D60: 613.67 | E60: 1017.52 | F60: 600 | G60: 1000 | H60: 800 | I60: 1080 | J60: 880 | K60: 1188 | L60: 598.7 | M60: 992.7 | N60: =ROUND(AVERAGE(D60,F60,H60,J60,L60),0) -> 698 | O60: =ROUND(AVERAGE(E60,G60,I60,K60,M60),0) -> 1056
D61: =SUM(D47:D60) -> 8079.08 | E61: =SUM(E47:E60) -> 9094.95 | F61: =SUM(F47:F60) -> 8331.16 | G61: =SUM(G47:G60) -> 9340 | H61: =SUM(H47:H60) -> 11639 | I61: =SUM(I47:I60) -> 12319 | J61: =SUM(J47:J60) -> 12802.9 | K61: =SUM(K47:K60) -> 13550.9 | ... O61: =SUM(O47:O60) -> 10637
A62: 5 | B62: ALIMENTO PROTEÍCO | C62: CARNE DE CERDO GUISADA | D62: 2017.86 | E62: 2017.86 | F62: 2000 | G62: 2000 | H62: 4600 | I62: 4600 | J62: 5060 | K62: 5060 | L62: 1968.64 | M62: 1968.64 | N62: =ROUND(AVERAGE(D62,F62,H62,J62,L62),0) -> 3129 | O62: =ROUND(AVERAGE(E62,G62,I62,K62,M62),0) -> 3129
B63: ALIMENTO PROTEÍCO | C63: FRIJOL CABECITA NEGRA | D63: 557.31 | E63: 557.31 | F63: 550 | G63: 550 | H63: 600 | I63: 600 | J63: 660 | K63: 660 | L63: 543.71 | M63: 543.71 | N63: =ROUND(AVERAGE(D63,F63,H63,J63,L63),0) -> 582 | O63: =ROUND(AVERAGE(E63,G63,I63,K63,M63),0) -> 582
B64: AZÚCARES | C64: AZÚCARES | D64: 440.75 | E64: 440.75 | F64: 470 | G64: 470 | H64: 600 | I64: 600 | J64: 660 | K64: 660 | L64: 430 | M64: 430 | N64: =ROUND(AVERAGE(D64,F64,H64,J64,L64),0) -> 520 | O64: =ROUND(AVERAGE(E64,G64,I64,K64,M64),0) -> 520
B65: BEBIDA | C65: AGUA DE PANELA CON LIMON | D65: 622.38 | E65: 622.38 | F65: 710 | G65: 710 | H65: 1100 | I65: 1100 | J65: 1210 | K65: 1210 | L65: 607.2 | M65: 607.2 | N65: =ROUND(AVERAGE(D65,F65,H65,J65,L65),0) -> 850 | O65: =ROUND(AVERAGE(E65,G65,I65,K65,M65),0) -> 850
B66: CEREAL | C66: ARROZ BLANCO | D66: 460.64 | E66: 460.64 | F66: 450 | G66: 450 | H66: 500 | I66: 500 | J66: 550 | K66: 550 | L66: 449.41 | M66: 449.41 | N66: =ROUND(AVERAGE(D66,F66,H66,J66,L66),0) -> 482 | O66: =ROUND(AVERAGE(E66,G66,I66,K66,M66),0) -> 482
B67: GRASAS | C67: GRASAS | D67: 431.69 | E67: 431.69 | F67: 421.16 | G67: 440 | H67: 657 | I67: 657 | J67: 722.7 | K67: 722.7 | L67: 421.16 | M67: 421.16 | N67: =ROUND(AVERAGE(D67,F67,H67,J67,L67),0) -> 531 | O67: =ROUND(AVERAGE(E67,G67,I67,K67,M67),0) -> 535
B68: AGUA 180 cm3 - 200 cm3 | C68: VASO DE AGUA | D68: 216.48 | E68: 216.48 | F68: 220 | G68: 220 | H68: 600 | I68: 600 | J68: 660 | K68: 660 | L68: 211.2 | M68: 211.2 | N68: =ROUND(AVERAGE(D68,F68,H68,J68,L68),0) -> 382 | O68: =ROUND(AVERAGE(E68,G68,I68,K68,M68),0) -> 382
B69: MISCELANEOS | C69: MISCELANEOS | D69: 209.1 | E69: 209.1 | F69: 220 | G69: 220 | H69: 450 | I69: 450 | J69: 495 | K69: 495 | L69: 204 | M69: 204 | N69: =ROUND(AVERAGE(D69,F69,H69,J69,L69),0) -> 316 | O69: =ROUND(AVERAGE(E69,G69,I69,K69,M69),0) -> 316
B70: TUBÉRCULOS - RAÍCES - PLÁTANOS - DERIVADOS DE CEREAL | C70: PURÉ DE PAPA | D70: 447.73 | E70: 447.73 | F70: 450 | G70: 450 | H70: 787 | I70: 787 | J70: 865.7 | K70: 865.7 | L70: 436.81 | M70: 436.81 | N70: =ROUND(AVERAGE(D70,F70,H70,J70,L70),0) -> 597 | O70: =ROUND(AVERAGE(E70,G70,I70,K70,M70),0) -> 597
B71: VERDURA FRÍA O CALIENTE | C71: ENS. DE ZANAHORIA Y HABICHUELA | D71: 771.67 | E71: 771.67 | F71: 770 | G71: 770 | H71: 500 | I71: 500 | J71: 550 | K71: 550 | L71: 752.85 | M71: 752.85 | N71: =ROUND(AVERAGE(D71,F71,H71,J71,L71),0) -> 669 | O71: =ROUND(AVERAGE(E71,G71,I71,K71,M71),0) -> 669
B72: TRANSPORTE | C72: TRANSPORTE | D72: 803.62 | E72: 1055.75 | F72: 800 | G72: 1100 | H72: 900 | I72: 1300 | J72: 990 | K72: 1430 | L72: 784.02 | M72: 1030 | N72: =ROUND(AVERAGE(D72,F72,H72,J72,L72),0) -> 856 | O72: =ROUND(AVERAGE(E72,G72,I72,K72,M72),0) -> 1183
B73: PERSONAL REQUERIDO | C73: PERSONAL REQUERIDO | D73: 1151.08 | E73: 1327.38 | F73: 1200 | G73: 1300 | H73: 1350 | I73: 1350 | J73: 1485 | K73: 1485 | L73: 1123 | M73: 1295 | N73: =ROUND(AVERAGE(D73,F73,H73,J73,L73),0) -> 1262 | O73: =ROUND(AVERAGE(E73,G73,I73,K73,M73),0) -> 1351
B74: SERVICIOS PUBLICOS | C74: SERVICIOS PUBLICOS | D74: 459 | E74: 642.59 | F74: 460 | G74: 650 | H74: 1100 | I74: 1100 | J74: 1210 | K74: 1210 | L74: 447.8 | M74: 626.92 | N74: =ROUND(AVERAGE(D74,F74,H74,J74,L74),0) -> 735 | O74: =ROUND(AVERAGE(E74,G74,I74,K74,M74),0) -> 846
B75: IMPLEMENTOS Y DOTACIÓN | C75: IMPLEMENTOS Y DOTACIÓN | D75: 613.67 | E75: 1017.52 | F75: 600 | G75: 1000 | H75: 800 | I75: 1080 | J75: 880 | K75: 1188 | L75: 598.7 | M75: 992.7 | N75: =ROUND(AVERAGE(D75,F75,H75,J75,L75),0) -> 698 | O75: =ROUND(AVERAGE(E75,G75,I75,K75,M75),0) -> 1056
D76: =SUM(D62:D75) -> 9202.98 | E76: =SUM(E62:E75) -> 10218.85 | F76: =SUM(F62:F75) -> 9321.16 | G76: =SUM(G62:G75) -> 10330 | H76: =SUM(H62:H75) -> 14544 | I76: =SUM(I62:I75) -> 15224 | J76: =SUM(J62:J75) -> 15998.4 | K76: =SUM(K62:K75) -> 16746.4 | ... O76: =SUM(O62:O75) -> 12498
A77: 6 | B77: ALIMENTO PROTEÍCO | C77: PECHUGA GUISADA | D77: 2248.76 | E77: 2248.76 | F77: 2200 | G77: 2200 | H77: 2830 | I77: 2830 | J77: 3113 | K77: 3113 | L77: 2193.92 | M77: 2193.92 | N77: =ROUND(AVERAGE(D77,F77,H77,J77,L77),0) -> 2517 | O77: =ROUND(AVERAGE(E77,G77,I77,K77,M77),0) -> 2517
B78: AZÚCARES | C78: AZÚCARES | D78: 440.75 | E78: 440.75 | F78: 470 | G78: 470 | H78: 600 | I78: 600 | J78: 660 | K78: 660 | L78: 430 | M78: 430 | N78: =ROUND(AVERAGE(D78,F78,H78,J78,L78),0) -> 520 | O78: =ROUND(AVERAGE(E78,G78,I78,K78,M78),0) -> 520
B79: BEBIDA | C79: JUGO DE BANANO(CON LECHE) | D79: 764.29 | E79: 764.29 | F79: 760 | G79: 760 | H79: 1250 | I79: 1250 | J79: 1375 | K79: 1375 | L79: 745.65 | M79: 745.65 | N79: =ROUND(AVERAGE(D79,F79,H79,J79,L79),0) -> 979 | O79: =ROUND(AVERAGE(E79,G79,I79,K79,M79),0) -> 979
B80: CEREAL | C80: ARROZ DE FIDEO | D80: 463.74 | E80: 463.74 | F80: 500 | G80: 500 | H80: 540 | I80: 540 | J80: 594 | K80: 594 | L80: 452.43 | M80: 452.43 | N80: =ROUND(AVERAGE(D80,F80,H80,J80,L80),0) -> 510 | O80: =ROUND(AVERAGE(E80,G80,I80,K80,M80),0) -> 510
B81: GRASAS | C81: GRASAS | D81: 431.69 | E81: 431.69 | F81: 421.16 | G81: 440 | H81: 657 | I81: 657 | J81: 722.7 | K81: 722.7 | L81: 421.16 | M81: 421.16 | N81: =ROUND(AVERAGE(D81,F81,H81,J81,L81),0) -> 531 | O81: =ROUND(AVERAGE(E81,G81,I81,K81,M81),0) -> 535
B82: AGUA | C82: VASO DE AGUA | D82: 216.48 | E82: 216.48 | F82: 220 | G82: 220 | H82: 600 | I82: 600 | J82: 660 | K82: 660 | L82: 211.2 | M82: 211.2 | N82: =ROUND(AVERAGE(D82,F82,H82,J82,L82),0) -> 382 | O82: =ROUND(AVERAGE(E82,G82,I82,K82,M82),0) -> 382
B83: MISCELANEOS | C83: MISCELANEOS | D83: 209.1 | E83: 209.1 | F83: 220 | G83: 220 | H83: 450 | I83: 450 | J83: 495 | K83: 495 | L83: 204 | M83: 204 | N83: =ROUND(AVERAGE(D83,F83,H83,J83,L83),0) -> 316 | O83: =ROUND(AVERAGE(E83,G83,I83,K83,M83),0) -> 316
B84: TUBÉRCULOS - RAÍCES - PLÁTANOS - DERIVADOS DE CEREAL | C84: PAPAS A LA FRANCESA | D84: 412.65 | E84: 412.65 | F84: 480 | G84: 480 | H84: 787 | I84: 787 | J84: 865.7 | K84: 865.7 | L84: 402.58 | M84: 402.58 | N84: =ROUND(AVERAGE(D84,F84,H84,J84,L84),0) -> 590 | O84: =ROUND(AVERAGE(E84,G84,I84,K84,M84),0) -> 590
B85: VERDURA FRÍA O CALIENTE | C85: ENS. DE ZANAHORIA Y HABICHUELA | D85: 771.67 | E85: 771.67 | F85: 770 | G85: 770 | H85: 500 | I85: 500 | J85: 550 | K85: 550 | L85: 752.85 | M85: 752.85 | N85: =ROUND(AVERAGE(D85,F85,H85,J85,L85),0) -> 669 | O85: =ROUND(AVERAGE(E85,G85,I85,K85,M85),0) -> 669
B86: TRANSPORTE | C86: TRANSPORTE | D86: 803.62 | E86: 1055.75 | F86: 800 | G86: 1100 | H86: 900 | I86: 1300 | J86: 990 | K86: 1430 | L86: 784.02 | M86: 1030 | N86: =ROUND(AVERAGE(D86,F86,H86,J86,L86),0) -> 856 | O86: =ROUND(AVERAGE(E86,G86,I86,K86,M86),0) -> 1183
B87: PERSONAL REQUERIDO | C87: PERSONAL REQUERIDO | D87: 1151.08 | E87: 1327.38 | F87: 1200 | G87: 1300 | H87: 1350 | I87: 1350 | J87: 1485 | K87: 1485 | L87: 1123 | M87: 1295 | N87: =ROUND(AVERAGE(D87,F87,H87,J87,L87),0) -> 1262 | O87: =ROUND(AVERAGE(E87,G87,I87,K87,M87),0) -> 1351
B88: SERVICIOS PUBLICOS | C88: SERVICIOS PUBLICOS | D88: 459 | E88: 642.59 | F88: 460 | G88: 650 | H88: 1100 | I88: 1100 | J88: 1210 | K88: 1210 | L88: 447.8 | M88: 626.92 | N88: =ROUND(AVERAGE(D88,F88,H88,J88,L88),0) -> 735 | O88: =ROUND(AVERAGE(E88,G88,I88,K88,M88),0) -> 846
B89: IMPLEMENTOS Y DOTACIÓN | C89: IMPLEMENTOS Y DOTACIÓN | D89: 613.67 | E89: 1017.52 | F89: 600 | G89: 1000 | H89: 800 | I89: 1080 | J89: 880 | K89: 1188 | L89: 598.7 | M89: 992.7 | N89: =ROUND(AVERAGE(D89,F89,H89,J89,L89),0) -> 698 | O89: =ROUND(AVERAGE(E89,G89,I89,K89,M89),0) -> 1056
D90: =SUM(D77:D89) -> 8986.5 | E90: =SUM(E77:E89) -> 10002.37 | F90: =SUM(F77:F89) -> 9101.16 | G90: =SUM(G77:G89) -> 10110 | H90: =SUM(H77:H89) -> 12364 | I90: =SUM(I77:I89) -> 13044 | J90: =SUM(J77:J89) -> 13600.4 | K90: =SUM(K77:K89) -> 14348.4 | ... O90: =SUM(O77:O89) -> 11454
A91: 7 | B91: ALIMENTO PROTEÍCO | C91: CARNE MOLIDA | D91: 2214.99 | E91: 2214.99 | F91: 2200 | G91: 2200 | H91: 2800 | I91: 2800 | J91: 3080 | K91: 3080 | L91: 2160.97 | M91: 2160.97 | N91: =ROUND(AVERAGE(D91,F91,H91,J91,L91),0) -> 2491 | O91: =ROUND(AVERAGE(E91,G91,I91,K91,M91),0) -> 2491
B92: AZÚCARES | C92: AZÚCARES | D92: 440.75 | E92: 440.75 | F92: 470 | G92: 470 | H92: 600 | I92: 600 | J92: 660 | K92: 660 | L92: 430 | M92: 430 | N92: =ROUND(AVERAGE(D92,F92,H92,J92,L92),0) -> 520 | O92: =ROUND(AVERAGE(E92,G92,I92,K92,M92),0) -> 520
B93: BEBIDA | C93: JUGO DE PIÑA | D93: 753.86 | E93: 753.86 | F93: 750 | G93: 750 | H93: 1300 | I93: 1300 | J93: 1430 | K93: 1430 | L93: 735.47 | M93: 735.47 | N93: =ROUND(AVERAGE(D93,F93,H93,J93,L93),0) -> 994 | O93: =ROUND(AVERAGE(E93,G93,I93,K93,M93),0) -> 994
B94: CEREAL | C94: ARROZ CON VERDURAS | D94: 614.26 | E94: 614.26 | F94: 600 | G94: 600 | H94: 540 | I94: 540 | J94: 594 | K94: 594 | L94: 599.28 | M94: 599.28 | N94: =ROUND(AVERAGE(D94,F94,H94,J94,L94),0) -> 590 | O94: =ROUND(AVERAGE(E94,G94,I94,K94,M94),0) -> 590
B95: GRASAS | C95: GRASAS | D95: 431.69 | E95: 431.69 | F95: 421.16 | G95: 440 | H95: 657 | I95: 657 | J95: 722.7 | K95: 722.7 | L95: 421.16 | M95: 421.16 | N95: =ROUND(AVERAGE(D95,F95,H95,J95,L95),0) -> 531 | O95: =ROUND(AVERAGE(E95,G95,I95,K95,M95),0) -> 535
B96: AGUA 180 cm3 - 200 cm3 | C96: VASO DE AGUA | D96: 216.48 | E96: 216.48 | F96: 220 | G96: 220 | H96: 600 | I96: 600 | J96: 660 | K96: 660 | L96: 211.2 | M96: 211.2 | N96: =ROUND(AVERAGE(D96,F96,H96,J96,L96),0) -> 382 | O96: =ROUND(AVERAGE(E96,G96,I96,K96,M96),0) -> 382
B97: MISCELANEOS | C97: MISCELANEOS | D97: 209.1 | E97: 209.1 | F97: 220 | G97: 220 | H97: 450 | I97: 450 | J97: 495 | K97: 495 | L97: 204 | M97: 204 | N97: =ROUND(AVERAGE(D97,F97,H97,J97,L97),0) -> 316 | O97: =ROUND(AVERAGE(E97,G97,I97,K97,M97),0) -> 316
B98: TUBÉRCULOS - RAÍCES - PLÁTANOS - DERIVADOS DE CEREAL | C98: TAJADAS DE GUINEO VERDE | D98: 734 | E98: 734 | F98: 750 | G98: 750 | H98: 670 | I98: 670 | J98: 737 | K98: 737 | L98: 716.1 | M98: 716.1 | N98: =ROUND(AVERAGE(D98,F98,H98,J98,L98),0) -> 721 | O98: =ROUND(AVERAGE(E98,G98,I98,K98,M98),0) -> 721
B99: VERDURA FRÍA O CALIENTE | C99: ENSALADA DE PAYASO | D99: 836.43 | E99: 836.43 | F99: 900 | G99: 900 | H99: 650 | I99: 650 | J99: 715 | K99: 715 | L99: 816.03 | M99: 816.03 | N99: =ROUND(AVERAGE(D99,F99,H99,J99,L99),0) -> 783 | O99: =ROUND(AVERAGE(E99,G99,I99,K99,M99),0) -> 783
B100: TRANSPORTE | C100: TRANSPORTE | D100: 803.62 | E100: 1055.75 | F100: 800 | G100: 1100 | H100: 900 | I100: 1300 | J100: 990 | K100: 1430 | L100: 784.02 | M100: 1030 | N100: =ROUND(AVERAGE(D100,F100,H100,J100,L100),0) -> 856 | O100: =ROUND(AVERAGE(E100,G100,I100,K100,M100),0) -> 1183
...

Sheet RACION INDUS (A)
E1: GRUPO A
E2: SERVICIOS DE ALIMENTACIÓN QP | F2: FUNDACIÓN EDUCANDO A LA NIÑEZ | G2: FUNDACIÓN GARDEN | H2: FUNDACIÓN PARA EL PROGRESO TERRITORIAL | I2: SERVICIOS DE ALIMENTACION NP | J2: PROMEDIO
A3: RACION INDUSTRIALIZADA | E3: PRECIO PREPARADO EN SITIO | F3: PRECIO PREPARADO EN SITIO | G3: PRECIO PREPARADO EN SITIO | H3: PRECIO PREPARADO EN SITIO | I3: PRECIO PREPARADO EN SITIO | J3: PRECIO PREPARADO EN SITIO
A4: N° MENÚ | B4: GRUPO DE ALIMETOS | C4: RANGO DE PESOS AL SERVIR RACIÓN SERVIDA | D4: PREPARACIÓN | E4: valor unitario. | F4: valor unitario. | G4: valor unitario. | H4: valor unitario. | I4: valor unitario. | J4: valor unitario.
A5: 1 | B5: LACTEOS | C5: 200 CC | D5: LECHE ENTERA | E5: 1281.25 | F5: 1300 | G5: 1303.21 | H5: 1433.531 | I5: 1250 | J5: =ROUND(AVERAGE(E5,F5,G5,H5,I5),0) -> 1314
B6: DERIVADOS DE CEREAL | C6: 20 gr - 35 gr - 50 gr70 gr - 90 gr | D6: GALLETA DE COCO | E6: 307.5 | F6: 500 | G6: 407.25313 | H6: 447.97844 | I6: 300 | J6: =ROUND(AVERAGE(E6,F6,G6,H6,I6),0) -> 393
B7: FRUTAS | C7: 145 gr - 145 gr - 170 gr | D7: NA
B8: FRUTOS SECOS / AZUCARES | C8: 15 gr - 20 gr - 20 gr | D8: BOCADILLO VELEÑO CON MANJAR BLANCO (A - B - C) | E8: 338.25 | F8: 440 | G8: 366.52781 | H8: 403.18059 | I8: 330 | J8: =ROUND(AVERAGE(E8,F8,G8,H8,I8),0) -> 376
C9: 25 gr - 25 gr | D9: BOCADILLO DE GUAYABA CON GALLETA (D - E) | G9: 651.605 | H9: 716.7655 | J9: =ROUND(AVERAGE(E9,F9,G9,H9,I9),0) -> 684
B10: TRANSPORTE | C10: GL | D10: TRANSPORTE | E10: 1432.15 | F10: 1450 | G10: 733.05563 | H10: 806.36119 | I10: 1397.22 | J10: =ROUND(AVERAGE(E10,F10,G10,H10,I10),0) -> 1164
B11: PERSONAL REQUERIDO | C11: GL | D11: PERSONAL REQUERIDO | E11: 912.86 | F11: 900 | G11: 488.70375 | H11: 537.57412 | I11: 890.6 | J11: =ROUND(AVERAGE(E11,F11,G11,H11,I11),0) -> 746
B12: SERVICIOS PUBLICOS | C12: GL | D12: SERVICIOS PUBLICOS | G12: 488.70375 | H12: 537.57412 | J12: =ROUND(AVERAGE(E12,F12,G12,H12,I12),0) -> 513
B13: IMPLEMENTOS Y DOTACIÓN | C13: GL | D13: IMPLEMENTOS Y DOTACIÓN | E13: 1958.65 | F13: 2000 | G13: 488.70375 | H13: 537.57412 | I13: 1910.88 | J13: =ROUND(AVERAGE(E13,F13,G13,H13,I13),0) -> 1379
E14: =SUM(E5:E13) -> 6230.66 | F14: =SUM(F5:F13) -> 6590 | G14: =SUM(G5:G13) -> 4927.7628 | H14: =SUM(H5:H13) -> 5420.5391 | I14: =SUM(I5:I13) -> 6078.7 | J14: =SUM(J5:J13) -> 6569
A15: 2 | B15: LACTEOS | C15: 200 CC | D15: LECHE SABORIZADA (VAINILLA) | E15: 1774.28 | F15: 1800 | G15: 1303.21 | H15: 1433.531 | I15: 1731 | J15: =ROUND(AVERAGE(E15,F15,G15,H15,I15),0) -> 1608
B16: DERIVADOS DE CEREAL | C16: 20 gr - 35 gr - 50 gr70 gr - 90 gr | D16: PAN DE LECHE | E16: 276.75 | F16: 300 | G16: 488.70375 | H16: 537.57412 | I16: 270 | J16: =ROUND(AVERAGE(E16,F16,G16,H16,I16),0) -> 375
B17: FRUTAS | C17: 145 gr - 145 gr - 170 gr | D17: NA
B18: FRUTOS SECOS / AZUCARES | C18: 15 gr - 20 gr - 20 gr | D18: PANELITA CON LECHE(A - B - C) | E18: 356.7 | F18: 400 | G18: 488.70375 | H18: 537.57412 | I18: 348 | J18: =ROUND(AVERAGE(E18,F18,G18,H18,I18),0) -> 426
C19: 25 gr - 25 gr | D19: DULCE DE COCO CON GUAYABA (D - E) | G19: 366.52781 | H19: 403.18059 | J19: =ROUND(AVERAGE(E19,F19,G19,H19,I19),0) -> 385
B20: TRANSPORTE | C20: GL | D20: TRANSPORTE | E20: 1432.15 | F20: 1450 | G20: 733.05563 | H20: 806.36119 | I20: 1397.22 | J20: =ROUND(AVERAGE(E20,F20,G20,H20,I20),0) -> 1164
B21: PERSONAL REQUERIDO | C21: GL | D21: PERSONAL REQUERIDO | E21: 912.86 | F21: 900 | G21: 488.70375 | H21: 537.57412 | I21: 890.6 | J21: =ROUND(AVERAGE(E21,F21,G21,H21,I21),0) -> 746
B22: SERVICIOS PUBLICOS | C22: GL | D22: SERVICIOS PUBLICOS | G22: 488.70375 | H22: 537.57412 | J22: =ROUND(AVERAGE(E22,F22,G22,H22,I22),0) -> 513
B23: IMPLEMENTOS Y DOTACIÓN | C23: GL | D23: IMPLEMENTOS Y DOTACIÓN | E23: 1958.65 | F23: 2000 | G23: 488.70375 | H23: 537.57412 | I23: 1910.88 | J23: =ROUND(AVERAGE(E23,F23,G23,H23,I23),0) -> 1379
E24: =SUM(E15:E23) -> 6711.39 | F24: =SUM(F15:F23) -> 6850 | G24: =SUM(G15:G23) -> 4846.3122 | H24: =SUM(H15:H23) -> 5330.9434 | I24: =SUM(I15:I23) -> 6547.7 | J24: =SUM(J15:J23) -> 6596
A25: 3 | B25: LACTEOS | C25: 200 CC | D25: AVENA | E25: 1537.5 | F25: 1700 | G25: 1303.21 | H25: 1433.531 | I25: 1500 | J25: =ROUND(AVERAGE(E25,F25,G25,H25,I25),0) -> 1495
B26: DERIVADOS DE CEREAL | C26: 20 gr - 35 gr - 50 gr70 gr - 90 gr | D26: CROISSANT | E26: 292.13 | F26: 300 | G26: 651.605 | H26: 716.7655 | I26: 285 | J26: =ROUND(AVERAGE(E26,F26,G26,H26,I26),0) -> 449
B27: FRUTAS | C27: 145 gr - 145 gr - 170 gr | D27: MANDARINA | E27: 691.88 | F27: 700 | G27: 407.25313 | H27: 447.97844 | I27: 675 | J27: =ROUND(AVERAGE(E27,F27,G27,H27,I27),0) -> 584
B28: FRUTOS SECOS / AZUCARES | C28: 15 gr - 20 gr - 20 gr | D28: NA
C29: 25 gr - 25 gr | D29: NA
B30: TRANSPORTE | C30: GL | D30: TRANSPORTE | E30: 1432.15 | F30: 1450 | G30: 733.05563 | H30: 806.36119 | I30: 1397.22 | J30: =ROUND(AVERAGE(E30,F30,G30,H30,I30),0) -> 1164
B31: PERSONAL REQUERIDO | C31: GL | D31: PERSONAL REQUERIDO | E31: 912.86 | F31: 900 | G31: 488.70375 | H31: 537.57412 | I31: 890.6 | J31: =ROUND(AVERAGE(E31,F31,G31,H31,I31),0) -> 746
B32: SERVICIOS PUBLICOS | C32: GL | D32: SERVICIOS PUBLICOS | G32: 488.70375 | H32: 537.57412 | J32: =ROUND(AVERAGE(E32,F32,G32,H32,I32),0) -> 513
B33: IMPLEMENTOS Y DOTACIÓN | C33: GL | D33: IMPLEMENTOS Y DOTACIÓN | E33: 1958.65 | F33: 2000 | G33: 488.70375 | H33: 537.57412 | I33: 1910.88 | J33: =ROUND(AVERAGE(E33,F33,G33,H33,I33),0) -> 1379
E34: =SUM(E25:E33) -> 6825.17 | F34: =SUM(F25:F33) -> 7050 | G34: =SUM(G25:G33) -> 4561.235 | H34: =SUM(H25:H33) -> 5017.3585 | I34: =SUM(I25:I33) -> 6658.7 | J34: =SUM(J25:J33) -> 6330
A35: 4 | B35: LACTEOS | C35: 200 CC | D35: LECHE ENTERA | E35: 1281.25 | F35: 1300 | G35: 1303.21 | H35: 1433.531 | I35: 1250 | J35: =ROUND(AVERAGE(E35,F35,G35,H35,I35),0) -> 1314
B36: DERIVADOS DE CEREAL | C36: 20 gr - 35 gr - 50 gr70 gr - 90 gr | D36: PAN DE QUESO | E36: 307.5 | F36: 400 | G36: 570.15438 | H36: 627.16981 | I36: 300 | J36: =ROUND(AVERAGE(E36,F36,G36,H36,I36),0) -> 441
B37: FRUTAS | C37: 145 gr - 145 gr - 170 gr | D37: BANANO | E37: 430.5 | F37: 500 | G37: 325.8025 | H37: 358.38275 | I37: 420 | J37: =ROUND(AVERAGE(E37,F37,G37,H37,I37),0) -> 407
B38: FRUTOS SECOS / AZUCARES | C38: 15 gr - 20 gr - 20 gr | D38: NA
C39: 25 gr - 25 gr | D39: NA
B40: TRANSPORTE | C40: GL | D40: TRANSPORTE | E40: 1432.15 | F40: 1450 | G40: 733.05563 | H40: 806.36119 | I40: 1397.22 | J40: =ROUND(AVERAGE(E40,F40,G40,H40,I40),0) -> 1164
B41: PERSONAL REQUERIDO | C41: GL | D41: PERSONAL REQUERIDO | E41: 912.86 | F41: 900 | G41: 488.70375 | H41: 537.57412 | I41: 890.6 | J41: =ROUND(AVERAGE(E41,F41,G41,H41,I41),0) -> 746
B42: SERVICIOS PUBLICOS | C42: GL | D42: SERVICIOS PUBLICOS | G42: 488.70375 | H42: 537.57412 | J42: =ROUND(AVERAGE(E42,F42,G42,H42,I42),0) -> 513
B43: IMPLEMENTOS Y DOTACIÓN | C43: GL | D43: IMPLEMENTOS Y DOTACIÓN | E43: 1958.65 | F43: 2000 | G43: 488.70375 | H43: 537.57412 | I43: 1910.88 | J43: =ROUND(AVERAGE(E43,F43,G43,H43,I43),0) -> 1379
E44: =SUM(E35:E43) -> 6322.91 | F44: =SUM(F35:F43) -> 6550 | G44: =SUM(G35:G43) -> 4398.3337 | H44: =SUM(H35:H43) -> 4838.1671 | I44: =SUM(I35:I43) -> 6168.7 | J44: =SUM(J35:J43) -> 5964
A45: 5 | B45: LACTEOS | C45: 200 CC | D45: LECHE SABORIZADA (FRESA) | E45: 1774.28 | F45: 1800 | G45: 1303.21 | H45: 1433.531 | I45: 1731 | J45: =ROUND(AVERAGE(E45,F45,G45,H45,I45),0) -> 1608
B46: DERIVADOS DE CEREAL | C46: 20 gr - 35 gr - 50 gr70 gr - 90 gr | D46: GALLETA DE MANTEQUILLA | E46: 269.06 | F46: 300 | G46: 366.52781 | H46: 403.18059 | I46: 262.5 | J46: =ROUND(AVERAGE(E46,F46,G46,H46,I46),0) -> 320
B47: FRUTAS | C47: 145 gr - 145 gr - 170 gr | D47: NARANJA | E47: 538.13 | F47: 600 | G47: 407.25313 | H47: 447.97844 | I47: 525 | J47: =ROUND(AVERAGE(E47,F47,G47,H47,I47),0) -> 504
B48: FRUTOS SECOS / AZUCARES | C48: 15 gr - 20 gr - 20 gr | D48: NA
C49: 25 gr - 25 gr | D49: NA
B50: TRANSPORTE | C50: GL | D50: TRANSPORTE | E50: 1432.15 | F50: 1450 | G50: 733.05563 | H50: 806.36119 | I50: 1397.22 | J50: =ROUND(AVERAGE(E50,F50,G50,H50,I50),0) -> 1164
B51: PERSONAL REQUERIDO | C51: GL | D51: PERSONAL REQUERIDO | E51: 912.86 | F51: 900 | G51: 488.70375 | H51: 537.57412 | I51: 890.6 | J51: =ROUND(AVERAGE(E51,F51,G51,H51,I51),0) -> 746
B52: SERVICIOS PUBLICOS | C52: GL | D52: SERVICIOS PUBLICOS | G52: 488.70375 | H52: 537.57412 | J52: =ROUND(AVERAGE(E52,F52,G52,H52,I52),0) -> 513
B53: IMPLEMENTOS Y DOTACIÓN | C53: GL | D53: IMPLEMENTOS Y DOTACIÓN | E53: 1958.65 | F53: 2000 | G53: 488.70375 | H53: 537.57412 | I53: 1910.88 | J53: =ROUND(AVERAGE(E53,F53,G53,H53,I53),0) -> 1379
E54: =SUM(E45:E53) -> 6885.13 | F54: =SUM(F45:F53) -> 7050 | G54: =SUM(G45:G53) -> 4276.1578 | H54: =SUM(H45:H53) -> 4703.7736 | I54: =SUM(I45:I53) -> 6717.2 | J54: =SUM(J45:J53) -> 6234
A55: 6 | B55: LACTEOS | C55: 200 CC | D55: LECHE SABORIZADA (FRESA) | E55: 1774.28 | F55: 1800 | G55: 1303.21 | H55: 1433.531 | I55: 1731 | J55: =ROUND(AVERAGE(E55,F55,G55,H55,I55),0) -> 1608
B56: DERIVADOS DE CEREAL | C56: 20 gr - 35 gr - 50 gr70 gr - 90 gr | D56: PAN DE BOCADILLO | E56: 284.44 | F56: 300 | G56: 570.15438 | H56: 627.16981 | I56: 277.5 | J56: =ROUND(AVERAGE(E56,F56,G56,H56,I56),0) -> 412
B57: FRUTAS | C57: 145 gr - 145 gr - 170 gr | D57: NA
B58: FRUTOS SECOS / AZUCARES | C58: 15 gr - 20 gr - 20 gr25 gr - 25 gr | D58: PANELITA CON LECHE(A - B) | E58: 356.7 | F58: 400 | G58: 488.70375 | H58: 537.57412 | I58: 348 | J58: =ROUND(AVERAGE(E58,F58,G58,H58,I58),0) -> 426
C59: 0 gr - 0 gr - 15 gr - 15 gr - 15 gr | D59: MANÍ (C - D - E) | G59: 733.05563 | H59: 806.36119 | J59: =ROUND(AVERAGE(E59,F59,G59,H59,I59),0) -> 770
B60: TRANSPORTE | C60: GL | D60: TRANSPORTE | E60: 1432.15 | F60: 1450 | G60: 733.05563 | H60: 806.36119 | I60: 1397.22 | J60: =ROUND(AVERAGE(E60,F60,G60,H60,I60),0) -> 1164
B61: PERSONAL REQUERIDO | C61: GL | D61: PERSONAL REQUERIDO | E61: 912.86 | F61: 900 | G61: 488.70375 | H61: 537.57412 | I61: 890.6 | J61: =ROUND(AVERAGE(E61,F61,G61,H61,I61),0) -> 746
B62: SERVICIOS PUBLICOS | C62: GL | D62: SERVICIOS PUBLICOS | G62: 488.70375 | H62: 537.57412 | J62: =ROUND(AVERAGE(E62,F62,G62,H62,I62),0) -> 513
B63: IMPLEMENTOS Y DOTACIÓN | C63: GL | D63: IMPLEMENTOS Y DOTACIÓN | E63: 1958.65 | F63: 2000 | G63: 488.70375 | H63: 537.57412 | I63: 1910.88 | J63: =ROUND(AVERAGE(E63,F63,G63,H63,I63),0) -> 1379
E64: =SUM(E55:E63) -> 6719.08 | F64: =SUM(F55:F63) -> 6850 | G64: =SUM(G55:G63) -> 5294.2906 | H64: =SUM(H55:H63) -> 5823.7197 | I64: =SUM(I55:I63) -> 6555.2 | J64: =SUM(J55:J63) -> 7018
A65: 7 | B65: LACTEOS | C65: 200 CC | D65: LECHE ENTERA | E65: 1281.25 | F65: 1300 | G65: 1303.21 | H65: 1433.531 | I65: 1250 | J65: =ROUND(AVERAGE(E65,F65,G65,H65,I65),0) -> 1314
B66: DERIVADOS DE CEREAL | C66: 20 gr - 35 gr - 50 gr70 gr - 90 gr | D66: PAN DE LECHE | E66: 276.75 | F66: 300 | G66: 570.15438 | H66: 627.16981 | I66: 270 | J66: =ROUND(AVERAGE(E66,F66,G66,H66,I66),0) -> 409
B67: FRUTAS | C67: 145 gr - 145 gr - 170 gr | D67: NA
B68: FRUTOS SECOS / AZUCARES | C68: 15 gr - 20 gr - 20 gr25 gr - 25 gr | D68: BOCADILLO DE GUAYABA CON GALLETA (A - B - C - D - E) | E68: 369 | F68: 400 | G68: 651.605 | H68: 716.7655 | I68: 360 | J68: =ROUND(AVERAGE(E68,F68,G68,H68,I68),0) -> 499
C69: 0 gr - 0 gr - 15 gr - 15 gr - 15 gr | D69: BOCADILLO DE GUAYABA CON GALLETA (A - B - C - D - E) | G69: 651.605 | H69: 716.7655 | J69: =ROUND(AVERAGE(E69,F69,G69,H69,I69),0) -> 684
B70: TRANSPORTE | C70: GL | D70: TRANSPORTE | E70: 1432.15 | F70: 1450 | G70: 733.05563 | H70: 806.36119 | I70: 1397.22 | J70: =ROUND(AVERAGE(E70,F70,G70,H70,I70),0) -> 1164
B71: PERSONAL REQUERIDO | C71: GL | D71: PERSONAL REQUERIDO | E71: 912.86 | F71: 900 | G71: 488.70375 | H71: 537.57412 | I71: 890.6 | J71: =ROUND(AVERAGE(E71,F71,G71,H71,I71),0) -> 746
B72: SERVICIOS PUBLICOS | C72: GL | D72: SERVICIOS PUBLICOS | G72: 488.70375 | H72: 537.57412 | J72: =ROUND(AVERAGE(E72,F72,G72,H72,I72),0) -> 513
B73: IMPLEMENTOS Y DOTACIÓN | C73: GL | D73: IMPLEMENTOS Y DOTACIÓN | E73: 1958.65 | F73: 2000 | G73: 488.70375 | H73: 537.57412 | I73: 1910.88 | J73: =ROUND(AVERAGE(E73,F73,G73,H73,I73),0) -> 1379
E74: =SUM(E65:E73) -> 6230.66 | F74: =SUM(F65:F73) -> 6350 | G74: =SUM(G65:G73) -> 5375.7412 | H74: =SUM(H65:H73) -> 5913.3154 | I74: =SUM(I65:I73) -> 6078.7 | J74: =SUM(J65:J73) -> 6708
A75: 8 | B75: LACTEOS | C75: 200 CC | D75: LECHE ENTERA | E75: 1281.25 | F75: 1300 | G75: 1303.21 | H75: 1433.531 | I75: 1250 | J75: =ROUND(AVERAGE(E75,F75,G75,H75,I75),0) -> 1314
B76: DERIVADOS DE CEREAL | C76: 20 gr - 35 gr - 50 gr70 gr - 90 gr | D76: PAN DE QUESO | E76: 307.5 | F76: 400 | G76: 570.15438 | H76: 627.16981 | I76: 300 | J76: =ROUND(AVERAGE(E76,F76,G76,H76,I76),0) -> 441
B77: FRUTAS | C77: 145 gr - 145 gr - 170 gr | D77: BANANO | E77: 430.5 | F77: 500 | G77: 325.8025 | H77: 358.38275 | I77: 420 | J77: =ROUND(AVERAGE(E77,F77,G77,H77,I77),0) -> 407
B78: FRUTOS SECOS / AZUCARES | C78: 15 gr - 20 gr - 20 gr25 gr - 25 gr | D78: NA
C79: 0 gr - 0 gr - 15 gr - 15 gr - 15 gr | D79: NA
B80: TRANSPORTE | C80: GL | D80: TRANSPORTE | E80: 1432.15 | F80: 1450 | G80: 733.05563 | H80: 806.36119 | I80: 1397.22 | J80: =ROUND(AVERAGE(E80,F80,G80,H80,I80),0) -> 1164
B81: PERSONAL REQUERIDO | C81: GL | D81: PERSONAL REQUERIDO | E81: 912.86 | F81: 900 | G81: 488.70375 | H81: 537.57412 | I81: 890.6 | J81: =ROUND(AVERAGE(E81,F81,G81,H81,I81),0) -> 746
B82: SERVICIOS PUBLICOS | C82: GL | D82: SERVICIOS PUBLICOS | G82: 488.70375 | H82: 537.57412 | J82: =ROUND(AVERAGE(E82,F82,G82,H82,I82),0) -> 513
B83: IMPLEMENTOS Y DOTACIÓN | C83: GL | D83: IMPLEMENTOS Y DOTACIÓN | E83: 1958.65 | F83: 2000 | G83: 488.70375 | H83: 537.57412 | I83: 1910.88 | J83: =ROUND(AVERAGE(E83,F83,G83,H83,I83),0) -> 1379
E84: =SUM(E75:E83) -> 6322.91 | F84: =SUM(F75:F83) -> 6550 | G84: =SUM(G75:G83) -> 4398.3337 | H84: =SUM(H75:H83) -> 4838.1671 | I84: =SUM(I75:I83) -> 6168.7 | J84: =SUM(J75:J83) -> 5964
A85: 9 | B85: LACTEOS | C85: 200 CC | D85: AVENA | E85: 1537.5 | F85: 1700 | G85: 1303.21 | H85: 1433.531 | I85: 1500 | J85: =ROUND(AVERAGE(E85,F85,G85,H85,I85),0) -> 1495
B86: DERIVADOS DE CEREAL | C86: 20 gr - 35 gr - 50 gr70 gr - 90 gr | D86: CROISSANT | E86: 292.13 | F86: 300 | G86: 651.605 | H86: 716.7655 | I86: 285 | J86: =ROUND(AVERAGE(E86,F86,G86,H86,I86),0) -> 449
B87: FRUTAS | C87: 145 gr - 145 gr - 170 gr | D87: NARANJA | E87: 607.31 | F87: 600 | G87: 407.25313 | H87: 447.97844 | I87: 592.5 | J87: =ROUND(AVERAGE(E87,F87,G87,H87,I87),0) -> 531
B88: FRUTOS SECOS / AZUCARES | C88: 15 gr - 20 gr - 20 gr25 gr - 25 gr | D88: NA
C89: 0 gr - 0 gr - 15 gr - 15 gr - 15 gr | D89: NA
B90: TRANSPORTE | C90: GL | D90: TRANSPORTE | E90: 1432.15 | F90: 1450 | G90: 733.05563 | H90: 806.36119 | I90: 1397.22 | J90: =ROUND(AVERAGE(E90,F90,G90,H90,I90),0) -> 1164
B91: PERSONAL REQUERIDO | C91: GL | D91: PERSONAL REQUERIDO | E91: 912.86 | F91: 900 | G91: 488.70375 | H91: 537.57412 | I91: 890.6 | J91: =ROUND(AVERAGE(E91,F91,G91,H91,I91),0) -> 746
B92: SERVICIOS PUBLICOS | C92: GL | D92: SERVICIOS PUBLICOS | G92: 488.70375 | H92: 537.57412 | J92: =ROUND(AVERAGE(E92,F92,G92,H92,I92),0) -> 513
B93: IMPLEMENTOS Y DOTACIÓN | C93: GL | D93: IMPLEMENTOS Y DOTACIÓN | E93: 1958.65 | F93: 2000 | G93: 488.70375 | H93: 537.57412 | I93: 1910.88 | J93: =ROUND(AVERAGE(E93,F93,G93,H93,I93),0) -> 1379
E94: =SUM(E85:E93) -> 6740.6 | F94: =SUM(F85:F93) -> 6950 | G94: =SUM(G85:G93) -> 4561.235 | H94: =SUM(H85:H93) -> 5017.3585 | I94: =SUM(I85:I93) -> 6576.2 | J94: =SUM(J85:J93) -> 6277
A95: 10 | B95: LACTEOS | C95: 200 CC | D95: LECHE SABORIZADA (VAINILLA) | E95: 1774.28 | F95: 1800 | G95: 1303.21 | H95: 1433.531 | I95: 1731 | J95: =ROUND(AVERAGE(E95,F95,G95,H95,I95),0) -> 1608
B96: DERIVADOS DE CEREAL | C96: 20 gr - 35 gr - 50 gr70 gr - 90 gr | D96: GALLETA DE CHOCOLATE | E96: 261.38 | F96: 300 | G96: 407.25313 | H96: 447.97844 | I96: 255 | J96: =ROUND(AVERAGE(E96,F96,G96,H96,I96),0) -> 334
B97: FRUTAS | C97: 145 gr - 145 gr - 170 gr | D97: MANZANA | E97: 1185.93 | F97: 1200 | G97: 1629.0125 | H97: 1791.9138 | I97: 1157 | J97: =ROUND(AVERAGE(E97,F97,G97,H97,I97),0) -> 1393
B98: FRUTOS SECOS / AZUCARES | C98: 15 gr - 20 gr - 20 gr25 gr - 25 gr | D98: NA
C99: 0 gr - 0 gr - 15 gr - 15 gr - 15 gr | D99: NA
B100: TRANSPORTE | C100: GL | D100: TRANSPORTE | E100: 1432.15 | F100: 1450 | G100: 733.05563 | H100: 806.36119 | I100: 1397.22 | J100: =ROUND(AVERAGE(E100,F100,G100,H100,I100),0) -> 1164
...

Sheet RACION INDUS (B)
E1: GRUPO B
E2: SERVICIOS DE ALIMENTACIÓN QP | F2: FUNDACIÓN EDUCANDO A LA NIÑEZ | G2: FUNDACIÓN GARDEN | H2: FUNDACIÓN PARA EL PROGRESO TERRITORIAL | I2: SERVICIOS DE ALIMENTACION NP | J2: PROMEDIO
A3: RACION INDUSTRIALIZADA | E3: PRECIO PREPARADO EN SITIO | F3: PRECIO PREPARADO EN SITIO | G3: PRECIO PREPARADO EN SITIO | H3: PRECIO PREPARADO EN SITIO | I3: PRECIO PREPARADO EN SITIO | J3: PRECIO PREPARADO EN SITIO
A4: N° MENÚ | B4: GRUPO DE ALIMETOS | C4: RANGO DE PESOS AL SERVIR RACIÓN SERVIDA | D4: PREPARACIÓN | E4: valor unitario. | F4: valor unitario. | G4: valor unitario. | H4: valor unitario. | I4: valor unitario. | J4: valor unitario.
A5: 1 | B5: LACTEOS | C5: 200 CC | D5: LECHE ENTERA | E5: 1281.25 | F5: 1300 | G5: 1371.8 | H5: 1508.98 | I5: 1250 | J5: =ROUND(AVERAGE(E5,F5,G5,H5,I5),0) -> 1342
B6: DERIVADOS DE CEREAL | C6: 20 gr - 35 gr - 50 gr70 gr - 90 gr | D6: GALLETA DE COCO | E6: 717.5 | F6: 800 | G6: 428.6875 | H6: 471.55625 | I6: 700 | J6: =ROUND(AVERAGE(E6,F6,G6,H6,I6),0) -> 624
B7: FRUTAS | C7: 145 gr - 145 gr - 170 gr | D7: NA
B8: FRUTOS SECOS / AZUCARES | C8: 15 gr - 20 gr - 20 gr | D8: BOCADILLO VELEÑO CON MANJAR BLANCO (A - B - C) | E8: 338.25 | F8: 440 | G8: 385.81875 | H8: 424.40063 | I8: 330 | J8: =ROUND(AVERAGE(E8,F8,G8,H8,I8),0) -> 384
C9: 25 gr - 25 gr | D9: BOCADILLO DE GUAYABA CON GALLETA (D - E) | G9: 685.9 | H9: 754.49 | J9: =ROUND(AVERAGE(E9,F9,G9,H9,I9),0) -> 720
B10: TRANSPORTE | C10: GL | D10: TRANSPORTE | E10: 1432.15 | F10: 1450 | G10: 771.6375 | H10: 848.80125 | I10: 1397.22 | J10: =ROUND(AVERAGE(E10,F10,G10,H10,I10),0) -> 1180
B11: PERSONAL REQUERIDO | C11: GL | D11: PERSONAL REQUERIDO | E11: 912.86 | F11: 900 | G11: 514.425 | H11: 565.8675 | I11: 890.6 | J11: =ROUND(AVERAGE(E11,F11,G11,H11,I11),0) -> 757
B12: SERVICIOS PUBLICOS | C12: GL | D12: SERVICIOS PUBLICOS | G12: 514.425 | H12: 565.8675 | J12: =ROUND(AVERAGE(E12,F12,G12,H12,I12),0) -> 540
B13: IMPLEMENTOS Y DOTACIÓN | C13: GL | D13: IMPLEMENTOS Y DOTACIÓN | E13: 2378.9 | F13: 2400 | G13: 514.425 | H13: 565.8675 | I13: 2320.88 | J13: =ROUND(AVERAGE(E13,F13,G13,H13,I13),0) -> 1636
E14: =SUM(E5:E13) -> 7060.91 | F14: =SUM(F5:F13) -> 7290 | G14: =SUM(G5:G13) -> 5187.1188 | H14: =SUM(H5:H13) -> 5705.8306 | I14: =SUM(I5:I13) -> 6888.7 | J14: =SUM(J5:J13) -> 7183
A15: 2 | B15: LACTEOS | C15: 200 CC | D15: LECHE SABORIZADA (VAINILLA) | E15: 1774.28 | F15: 1800 | G15: 1371.8 | H15: 1508.98 | I15: 1731 | J15: =ROUND(AVERAGE(E15,F15,G15,H15,I15),0) -> 1637
B16: DERIVADOS DE CEREAL | C16: 20 gr - 35 gr - 50 gr70 gr - 90 gr | D16: PAN DE LECHE | E16: 645.75 | F16: 650 | G16: 514.425 | H16: 565.8675 | I16: 630 | J16: =ROUND(AVERAGE(E16,F16,G16,H16,I16),0) -> 601
B17: FRUTAS | C17: 145 gr - 145 gr - 170 gr | D17: NA
B18: FRUTOS SECOS / AZUCARES | C18: 15 gr - 20 gr - 20 gr | D18: PANELITA CON LECHE(A - B - C) | E18: 356.7 | F18: 400 | G18: 514.425 | H18: 565.8675 | I18: 348 | J18: =ROUND(AVERAGE(E18,F18,G18,H18,I18),0) -> 437
C19: 25 gr - 25 gr | D19: DULCE DE COCO CON GUAYABA (D - E) | G19: 385.81875 | H19: 424.40063 | J19: =ROUND(AVERAGE(E19,F19,G19,H19,I19),0) -> 405
B20: TRANSPORTE | C20: GL | D20: TRANSPORTE | E20: 1432.15 | F20: 1450 | G20: 771.6375 | H20: 848.80125 | I20: 1397.22 | J20: =ROUND(AVERAGE(E20,F20,G20,H20,I20),0) -> 1180
B21: PERSONAL REQUERIDO | C21: GL | D21: PERSONAL REQUERIDO | E21: 912.86 | F21: 900 | G21: 514.425 | H21: 565.8675 | I21: 890.6 | J21: =ROUND(AVERAGE(E21,F21,G21,H21,I21),0) -> 757
B22: SERVICIOS PUBLICOS | C22: GL | D22: SERVICIOS PUBLICOS | G22: 514.425 | H22: 565.8675 | J22: =ROUND(AVERAGE(E22,F22,G22,H22,I22),0) -> 540
B23: IMPLEMENTOS Y DOTACIÓN | C23: GL | D23: IMPLEMENTOS Y DOTACIÓN | E23: 2378.9 | F23: 2400 | G23: 514.425 | H23: 565.8675 | I23: 2320.88 | J23: =ROUND(AVERAGE(E23,F23,G23,H23,I23),0) -> 1636
E24: =SUM(E15:E23) -> 7500.64 | F24: =SUM(F15:F23) -> 7600 | G24: =SUM(G15:G23) -> 5101.3813 | H24: =SUM(H15:H23) -> 5611.5194 | I24: =SUM(I15:I23) -> 7317.7 | J24: =SUM(J15:J23) -> 7193
A25: 3 | B25: LACTEOS | C25: 200 CC | D25: AVENA | E25: 1537.5 | F25: 1700 | G25: 1371.8 | H25: 1508.98 | I25: 1500 | J25: =ROUND(AVERAGE(E25,F25,G25,H25,I25),0) -> 1524
B26: DERIVADOS DE CEREAL | C26: 20 gr - 35 gr - 50 gr70 gr - 90 gr | D26: CROISSANT | E26: 681.63 | F26: 700 | G26: 685.9 | H26: 754.49 | I26: 665 | J26: =ROUND(AVERAGE(E26,F26,G26,H26,I26),0) -> 697
B27: FRUTAS | C27: 145 gr - 145 gr - 170 gr | D27: MANDARINA | E27: 691.88 | F27: 700 | G27: 428.6875 | H27: 471.55625 | I27: 675 | J27: =ROUND(AVERAGE(E27,F27,G27,H27,I27),0) -> 593
B28: FRUTOS SECOS / AZUCARES | C28: 15 gr - 20 gr - 20 gr | D28: NA
C29: 25 gr - 25 gr | D29: NA
B30: TRANSPORTE | C30: GL | D30: TRANSPORTE | E30: 1432.15 | F30: 1450 | G30: 771.6375 | H30: 848.80125 | I30: 1397.22 | J30: =ROUND(AVERAGE(E30,F30,G30,H30,I30),0) -> 1180
B31: PERSONAL REQUERIDO | C31: GL | D31: PERSONAL REQUERIDO | E31: 912.86 | F31: 900 | G31: 514.425 | H31: 565.8675 | I31: 890.6 | J31: =ROUND(AVERAGE(E31,F31,G31,H31,I31),0) -> 757
B32: SERVICIOS PUBLICOS | C32: GL | D32: SERVICIOS PUBLICOS | G32: 514.425 | H32: 565.8675 | J32: =ROUND(AVERAGE(E32,F32,G32,H32,I32),0) -> 540
B33: IMPLEMENTOS Y DOTACIÓN | C33: GL | D33: IMPLEMENTOS Y DOTACIÓN | E33: 2378.9 | F33: 2400 | G33: 514.425 | H33: 565.8675 | I33: 2320.88 | J33: =ROUND(AVERAGE(E33,F33,G33,H33,I33),0) -> 1636
E34: =SUM(E25:E33) -> 7634.92 | F34: =SUM(F25:F33) -> 7850 | G34: =SUM(G25:G33) -> 4801.3 | H34: =SUM(H25:H33) -> 5281.43 | I34: =SUM(I25:I33) -> 7448.7 | J34: =SUM(J25:J33) -> 6927
A35: 4 | B35: LACTEOS | C35: 200 CC | D35: LECHE ENTERA | E35: 1281.25 | F35: 1300 | G35: 1371.8 | H35: 1508.98 | I35: 1250 | J35: =ROUND(AVERAGE(E35,F35,G35,H35,I35),0) -> 1342
B36: DERIVADOS DE CEREAL | C36: 20 gr - 35 gr - 50 gr70 gr - 90 gr | D36: PAN DE QUESO | E36: 717.5 | F36: 800 | G36: 600.1625 | H36: 660.17875 | I36: 700 | J36: =ROUND(AVERAGE(E36,F36,G36,H36,I36),0) -> 696
B37: FRUTAS | C37: 145 gr - 145 gr - 170 gr | D37: BANANO | E37: 430.5 | F37: 500 | G37: 342.95 | H37: 377.245 | I37: 420 | J37: =ROUND(AVERAGE(E37,F37,G37,H37,I37),0) -> 414
B38: FRUTOS SECOS / AZUCARES | C38: 15 gr - 20 gr - 20 gr | D38: NA
C39: 25 gr - 25 gr | D39: NA
B40: TRANSPORTE | C40: GL | D40: TRANSPORTE | E40: 1432.15 | F40: 1450 | G40: 771.6375 | H40: 848.80125 | I40: 1397.22 | J40: =ROUND(AVERAGE(E40,F40,G40,H40,I40),0) -> 1180
B41: PERSONAL REQUERIDO | C41: GL | D41: PERSONAL REQUERIDO | E41: 912.86 | F41: 900 | G41: 514.425 | H41: 565.8675 | I41: 890.6 | J41: =ROUND(AVERAGE(E41,F41,G41,H41,I41),0) -> 757
B42: SERVICIOS PUBLICOS | C42: GL | D42: SERVICIOS PUBLICOS | G42: 514.425 | H42: 565.8675 | J42: =ROUND(AVERAGE(E42,F42,G42,H42,I42),0) -> 540
B43: IMPLEMENTOS Y DOTACIÓN | C43: GL | D43: IMPLEMENTOS Y DOTACIÓN | E43: 2378.9 | F43: 2400 | G43: 514.425 | H43: 565.8675 | I43: 2320.88 | J43: =ROUND(AVERAGE(E43,F43,G43,H43,I43),0) -> 1636
E44: =SUM(E35:E43) -> 7153.16 | F44: =SUM(F35:F43) -> 7350 | G44: =SUM(G35:G43) -> 4629.825 | H44: =SUM(H35:H43) -> 5092.8075 | I44: =SUM(I35:I43) -> 6978.7 | J44: =SUM(J35:J43) -> 6565
A45: 5 | B45: LACTEOS | C45: 200 CC | D45: LECHE SABORIZADA (FRESA) | E45: 1774.28 | F45: 1800 | G45: 1371.8 | H45: 1508.98 | I45: 1731 | J45: =ROUND(AVERAGE(E45,F45,G45,H45,I45),0) -> 1637
B46: DERIVADOS DE CEREAL | C46: 20 gr - 35 gr - 50 gr70 gr - 90 gr | D46: GALLETA DE MANTEQUILLA | E46: 627.81 | F46: 650 | G46: 385.81875 | H46: 424.40063 | I46: 612.5 | J46: =ROUND(AVERAGE(E46,F46,G46,H46,I46),0) -> 540
B47: FRUTAS | C47: 145 gr - 145 gr - 170 gr | D47: NARANJA | E47: 538.13 | F47: 600 | G47: 428.6875 | H47: 471.55625 | I47: 525 | J47: =ROUND(AVERAGE(E47,F47,G47,H47,I47),0) -> 513
B48: FRUTOS SECOS / AZUCARES | C48: 15 gr - 20 gr - 20 gr | D48: NA
C49: 25 gr - 25 gr | D49: NA
B50: TRANSPORTE | C50: GL | D50: TRANSPORTE | E50: 1432.15 | F50: 1450 | G50: 771.6375 | H50: 848.80125 | I50: 1397.22 | J50: =ROUND(AVERAGE(E50,F50,G50,H50,I50),0) -> 1180
B51: PERSONAL REQUERIDO | C51: GL | D51: PERSONAL REQUERIDO | E51: 912.86 | F51: 900 | G51: 514.425 | H51: 565.8675 | I51: 890.6 | J51: =ROUND(AVERAGE(E51,F51,G51,H51,I51),0) -> 757
B52: SERVICIOS PUBLICOS | C52: GL | D52: SERVICIOS PUBLICOS | G52: 514.425 | H52: 565.8675 | J52: =ROUND(AVERAGE(E52,F52,G52,H52,I52),0) -> 540
B53: IMPLEMENTOS Y DOTACIÓN | C53: GL | D53: IMPLEMENTOS Y DOTACIÓN | E53: 2378.9 | F53: 2400 | G53: 514.425 | H53: 565.8675 | I53: 2320.88 | J53: =ROUND(AVERAGE(E53,F53,G53,H53,I53),0) -> 1636
E54: =SUM(E45:E53) -> 7664.13 | F54: =SUM(F45:F53) -> 7800 | G54: =SUM(G45:G53) -> 4501.2188 | H54: =SUM(H45:H53) -> 4951.3406 | I54: =SUM(I45:I53) -> 7477.2 | J54: =SUM(J45:J53) -> 6803
A55: 6 | B55: LACTEOS | C55: 200 CC | D55: LECHE SABORIZADA (FRESA) | E55: 1774.28 | F55: 1800 | G55: 1371.8 | H55: 1508.98 | I55: 1731 | J55: =ROUND(AVERAGE(E55,F55,G55,H55,I55),0) -> 1637
B56: DERIVADOS DE CEREAL | C56: 20 gr - 35 gr - 50 gr70 gr - 90 gr | D56: PAN DE BOCADILLO | E56: 663.69 | F56: 650 | G56: 600.1625 | H56: 660.17875 | I56: 647.5 | J56: =ROUND(AVERAGE(E56,F56,G56,H56,I56),0) -> 644
B57: FRUTAS | C57: 145 gr - 145 gr - 170 gr | D57: NA
B58: FRUTOS SECOS / AZUCARES | C58: 15 gr - 20 gr - 20 gr25 gr - 25 gr | D58: PANELITA CON LECHE(A - B) | E58: 356.7 | F58: 400 | G58: 514.425 | H58: 565.8675 | I58: 348 | J58: =ROUND(AVERAGE(E58,F58,G58,H58,I58),0) -> 437
C59: 0 gr - 0 gr - 15 gr - 15 gr - 15 gr | D59: MANÍ (C - D - E) | G59: 771.6375 | H59: 848.80125 | J59: =ROUND(AVERAGE(E59,F59,G59,H59,I59),0) -> 810
B60: TRANSPORTE | C60: GL | D60: TRANSPORTE | E60: 1432.15 | F60: 1450 | G60: 771.6375 | H60: 848.80125 | I60: 1397.22 | J60: =ROUND(AVERAGE(E60,F60,G60,H60,I60),0) -> 1180
B61: PERSONAL REQUERIDO | C61: GL | D61: PERSONAL REQUERIDO | E61: 912.86 | F61: 900 | G61: 514.425 | H61: 565.8675 | I61: 890.6 | J61: =ROUND(AVERAGE(E61,F61,G61,H61,I61),0) -> 757
B62: SERVICIOS PUBLICOS | C62: GL | D62: SERVICIOS PUBLICOS | G62: 514.425 | H62: 565.8675 | J62: =ROUND(AVERAGE(E62,F62,G62,H62,I62),0) -> 540
B63: IMPLEMENTOS Y DOTACIÓN | C63: GL | D63: IMPLEMENTOS Y DOTACIÓN | E63: 2378.9 | F63: 2400 | G63: 514.425 | H63: 565.8675 | I63: 2320.88 | J63: =ROUND(AVERAGE(E63,F63,G63,H63,I63),0) -> 1636
E64: =SUM(E55:E63) -> 7518.58 | F64: =SUM(F55:F63) -> 7600 | G64: =SUM(G55:G63) -> 5572.9375 | H64: =SUM(H55:H63) -> 6130.2313 | I64: =SUM(I55:I63) -> 7335.2 | J64: =SUM(J55:J63) -> 7641
A65: 7 | B65: LACTEOS | C65: 200 CC | D65: LECHE ENTERA | E65: 1281.25 | F65: 1300 | G65: 1371.8 | H65: 1508.98 | I65: 1250 | J65: =ROUND(AVERAGE(E65,F65,G65,H65,I65),0) -> 1342
B66: DERIVADOS DE CEREAL | C66: 20 gr - 35 gr - 50 gr70 gr - 90 gr | D66: PAN DE LECHE | E66: 645.75 | F66: 650 | G66: 600.1625 | H66: 660.17875 | I66: 630 | J66: =ROUND(AVERAGE(E66,F66,G66,H66,I66),0) -> 637
B67: FRUTAS | C67: 145 gr - 145 gr - 170 gr | D67: NA
B68: FRUTOS SECOS / AZUCARES | C68: 15 gr - 20 gr - 20 gr25 gr - 25 gr | D68: BOCADILLO DE GUAYABA CON GALLETA (A - B - C - D - E) | E68: 369 | F68: 400 | G68: 685.9 | H68: 754.49 | I68: 360 | J68: =ROUND(AVERAGE(E68,F68,G68,H68,I68),0) -> 514
C69: 0 gr - 0 gr - 15 gr - 15 gr - 15 gr | D69: BOCADILLO DE GUAYABA CON GALLETA (A - B - C - D - E) | G69: 685.9 | H69: 754.49 | J69: =ROUND(AVERAGE(E69,F69,G69,H69,I69),0) -> 720
B70: TRANSPORTE | C70: GL | D70: TRANSPORTE | E70: 1432.15 | F70: 1450 | G70: 771.6375 | H70: 848.80125 | I70: 1397.22 | J70: =ROUND(AVERAGE(E70,F70,G70,H70,I70),0) -> 1180
B71: PERSONAL REQUERIDO | C71: GL | D71: PERSONAL REQUERIDO | E71: 912.86 | F71: 900 | G71: 514.425 | H71: 565.8675 | I71: 890.6 | J71: =ROUND(AVERAGE(E71,F71,G71,H71,I71),0) -> 757
B72: SERVICIOS PUBLICOS | C72: GL | D72: SERVICIOS PUBLICOS | G72: 514.425 | H72: 565.8675 | J72: =ROUND(AVERAGE(E72,F72,G72,H72,I72),0) -> 540
B73: IMPLEMENTOS Y DOTACIÓN | C73: GL | D73: IMPLEMENTOS Y DOTACIÓN | E73: 2378.9 | F73: 2400 | G73: 514.425 | H73: 565.8675 | I73: 2320.88 | J73: =ROUND(AVERAGE(E73,F73,G73,H73,I73),0) -> 1636
E74: =SUM(E65:E73) -> 7019.91 | F74: =SUM(F65:F73) -> 7100 | G74: =SUM(G65:G73) -> 5658.675 | H74: =SUM(H65:H73) -> 6224.5425 | I74: =SUM(I65:I73) -> 6848.7 | J74: =SUM(J65:J73) -> 7326
A75: 8 | B75: LACTEOS | C75: 200 CC | D75: LECHE ENTERA | E75: 1281.25 | F75: 1300 | G75: 1371.8 | H75: 1508.98 | I75: 1250 | J75: =ROUND(AVERAGE(E75,F75,G75,H75,I75),0) -> 1342
B76: DERIVADOS DE CEREAL | C76: 20 gr - 35 gr - 50 gr70 gr - 90 gr | D76: PAN DE QUESO | E76: 717.5 | F76: 800 | G76: 600.1625 | H76: 660.17875 | I76: 700 | J76: =ROUND(AVERAGE(E76,F76,G76,H76,I76),0) -> 696
B77: FRUTAS | C77: 145 gr - 145 gr - 170 gr | D77: BANANO | E77: 430.5 | F77: 500 | G77: 342.95 | H77: 377.245 | I77: 420 | J77: =ROUND(AVERAGE(E77,F77,G77,H77,I77),0) -> 414
B78: FRUTOS SECOS / AZUCARES | C78: 15 gr - 20 gr - 20 gr25 gr - 25 gr | D78: NA
C79: 0 gr - 0 gr - 15 gr - 15 gr - 15 gr | D79: NA
B80: TRANSPORTE | C80: GL | D80: TRANSPORTE | E80: 1432.15 | F80: 1450 | G80: 771.6375 | H80: 848.80125 | I80: 1397.22 | J80: =ROUND(AVERAGE(E80,F80,G80,H80,I80),0) -> 1180
B81: PERSONAL REQUERIDO | C81: GL | D81: PERSONAL REQUERIDO | E81: 912.86 | F81: 900 | G81: 514.425 | H81: 565.8675 | I81: 890.6 | J81: =ROUND(AVERAGE(E81,F81,G81,H81,I81),0) -> 757
B82: SERVICIOS PUBLICOS | C82: GL | D82: SERVICIOS PUBLICOS | G82: 514.425 | H82: 565.8675 | J82: =ROUND(AVERAGE(E82,F82,G82,H82,I82),0) -> 540
B83: IMPLEMENTOS Y DOTACIÓN | C83: GL | D83: IMPLEMENTOS Y DOTACIÓN | E83: 2378.9 | F83: 2400 | G83: 514.425 | H83: 565.8675 | I83: 2320.88 | J83: =ROUND(AVERAGE(E83,F83,G83,H83,I83),0) -> 1636
E84: =SUM(E75:E83) -> 7153.16 | F84: =SUM(F75:F83) -> 7350 | G84: =SUM(G75:G83) -> 4629.825 | H84: =SUM(H75:H83) -> 5092.8075 | I84: =SUM(I75:I83) -> 6978.7 | J84: =SUM(J75:J83) -> 6565
A85: 9 | B85: LACTEOS | C85: 200 CC | D85: AVENA | E85: 1537.5 | F85: 1700 | G85: 1371.8 | H85: 1508.98 | I85: 1500 | J85: =ROUND(AVERAGE(E85,F85,G85,H85,I85),0) -> 1524
B86: DERIVADOS DE CEREAL | C86: 20 gr - 35 gr - 50 gr70 gr - 90 gr | D86: CROISSANT | E86: 681.63 | F86: 700 | G86: 685.9 | H86: 754.49 | I86: 665 | J86: =ROUND(AVERAGE(E86,F86,G86,H86,I86),0) -> 697
B87: FRUTAS | C87: 145 gr - 145 gr - 170 gr | D87: NARANJA | E87: 607.31 | F87: 600 | G87: 428.6875 | H87: 471.55625 | I87: 592.5 | J87: =ROUND(AVERAGE(E87,F87,G87,H87,I87),0) -> 540
B88: FRUTOS SECOS / AZUCARES | C88: 15 gr - 20 gr - 20 gr25 gr - 25 gr | D88: NA
C89: 0 gr - 0 gr - 15 gr - 15 gr - 15 gr | D89: NA
B90: TRANSPORTE | C90: GL | D90: TRANSPORTE | E90: 1432.15 | F90: 1450 | G90: 771.6375 | H90: 848.80125 | I90: 1397.22 | J90: =ROUND(AVERAGE(E90,F90,G90,H90,I90),0) -> 1180
B91: PERSONAL REQUERIDO | C91: GL | D91: PERSONAL REQUERIDO | E91: 912.86 | F91: 900 | G91: 514.425 | H91: 565.8675 | I91: 890.6 | J91: =ROUND(AVERAGE(E91,F91,G91,H91,I91),0) -> 757
B92: SERVICIOS PUBLICOS | C92: GL | D92: SERVICIOS PUBLICOS | G92: 514.425 | H92: 565.8675 | J92: =ROUND(AVERAGE(E92,F92,G92,H92,I92),0) -> 540
B93: IMPLEMENTOS Y DOTACIÓN | C93: GL | D93: IMPLEMENTOS Y DOTACIÓN | E93: 2378.9 | F93: 2400 | G93: 514.425 | H93: 565.8675 | I93: 2320.88 | J93: =ROUND(AVERAGE(E93,F93,G93,H93,I93),0) -> 1636
E94: =SUM(E85:E93) -> 7550.35 | F94: =SUM(F85:F93) -> 7750 | G94: =SUM(G85:G93) -> 4801.3 | H94: =SUM(H85:H93) -> 5281.43 | I94: =SUM(I85:I93) -> 7366.2 | J94: =SUM(J85:J93) -> 6874
A95: 10 | B95: LACTEOS | C95: 200 CC | D95: LECHE SABORIZADA (VAINILLA) | E95: 1774.28 | F95: 1800 | G95: 1371.8 | H95: 1508.98 | I95: 1731 | J95: =ROUND(AVERAGE(E95,F95,G95,H95,I95),0) -> 1637
B96: DERIVADOS DE CEREAL | C96: 20 gr - 35 gr - 50 gr70 gr - 90 gr | D96: GALLETA DE CHOCOLATE | E96: 609.88 | F96: 600 | G96: 428.6875 | H96: 471.55625 | I96: 595 | J96: =ROUND(AVERAGE(E96,F96,G96,H96,I96),0) -> 541
B97: FRUTAS | C97: 145 gr - 145 gr - 170 gr | D97: MANZANA | E97: 1185.93 | F97: 1200 | G97: 1714.75 | H97: 1886.225 | I97: 1157 | J97: =ROUND(AVERAGE(E97,F97,G97,H97,I97),0) -> 1429
B98: FRUTOS SECOS / AZUCARES | C98: 15 gr - 20 gr - 20 gr25 gr - 25 gr | D98: NA
C99: 0 gr - 0 gr - 15 gr - 15 gr - 15 gr | D99: NA
B100: TRANSPORTE | C100: GL | D100: TRANSPORTE | E100: 1432.15 | F100: 1450 | G100: 771.6375 | H100: 848.80125 | I100: 1397.22 | J100: =ROUND(AVERAGE(E100,F100,G100,H100,I100),0) -> 1180
...

Sheet RACION INDUS (C)
E1: GRUPO C
E2: SERVICIOS DE ALIMENTACIÓN QP | F2: FUNDACIÓN EDUCANDO A LA NIÑEZ | G2: FUNDACIÓN GARDEN | H2: FUNDACIÓN PARA EL PROGRESO TERRITORIAL | I2: SERVICIOS DE ALIMENTACION NP | J2: PROMEDIO
A3: RACION INDUSTRIALIZADA | E3: PRECIO PREPARADO EN SITIO | F3: PRECIO PREPARADO EN SITIO | G3: PRECIO PREPARADO EN SITIO | H3: PRECIO PREPARADO EN SITIO | I3: PRECIO PREPARADO EN SITIO | J3: PRECIO PREPARADO EN SITIO
A4: N° MENÚ | B4: GRUPO DE ALIMETOS | C4: RANGO DE PESOS AL SERVIR RACIÓN SERVIDA | D4: PREPARACIÓN | E4: valor unitario. | F4: valor unitario. | G4: valor unitario. | H4: valor unitario. | I4: valor unitario. | J4: valor unitario.
A5: 1 | B5: LACTEOS | C5: 200 CC | D5: LECHE ENTERA | E5: 1281.25 | F5: 1300 | G5: 1444 | H5: 1588.4 | I5: 1250 | J5: =ROUND(AVERAGE(E5,F5,G5,H5,I5),0) -> 1373
B6: DERIVADOS DE CEREAL | C6: 20 gr - 35 gr - 50 gr70 gr - 90 gr | D6: GALLETA DE COCO | E6: 1025 | F6: 1100 | G6: 451.25 | H6: 496.375 | I6: 1000 | J6: =ROUND(AVERAGE(E6,F6,G6,H6,I6),0) -> 815
B7: FRUTAS | C7: 145 gr - 145 gr - 170 gr | D7: NA
B8: FRUTOS SECOS / AZUCARES | C8: 15 gr - 20 gr - 20 gr | D8: BOCADILLO VELEÑO CON MANJAR BLANCO (A - B - C) | E8: 471.5 | F8: 440 | G8: 406.125 | H8: 446.7375 | I8: 460 | J8: =ROUND(AVERAGE(E8,F8,G8,H8,I8),0) -> 445
C9: 25 gr - 25 gr | D9: BOCADILLO DE GUAYABA CON GALLETA (D - E) | G9: 722 | H9: 794.2 | J9: =ROUND(AVERAGE(E9,F9,G9,H9,I9),0) -> 758
B10: TRANSPORTE | C10: GL | D10: TRANSPORTE | E10: 1432.15 | F10: 1450 | G10: 812.25 | H10: 893.475 | I10: 1397.22 | J10: =ROUND(AVERAGE(E10,F10,G10,H10,I10),0) -> 1197
B11: PERSONAL REQUERIDO | C11: GL | D11: PERSONAL REQUERIDO | E11: 912.86 | F11: 900 | G11: 541.5 | H11: 595.65 | I11: 890.6 | J11: =ROUND(AVERAGE(E11,F11,G11,H11,I11),0) -> 768
B12: SERVICIOS PUBLICOS | C12: GL | D12: SERVICIOS PUBLICOS | G12: 541.5 | H12: 595.65 | J12: =ROUND(AVERAGE(E12,F12,G12,H12,I12),0) -> 569
B13: IMPLEMENTOS Y DOTACIÓN | C13: GL | D13: IMPLEMENTOS Y DOTACIÓN | E13: 2460.9 | F13: 2400 | G13: 541.5 | H13: 595.65 | I13: 2400.88 | J13: =ROUND(AVERAGE(E13,F13,G13,H13,I13),0) -> 1680
E14: =SUM(E5:E13) -> 7583.66 | F14: =SUM(F5:F13) -> 7590 | G14: =SUM(G5:G13) -> 5460.125 | H14: =SUM(H5:H13) -> 6006.1375 | I14: =SUM(I5:I13) -> 7398.7 | J14: =SUM(J5:J13) -> 7605
A15: 2 | B15: LACTEOS | C15: 200 CC | D15: LECHE SABORIZADA (VAINILLA) | E15: 1774.28 | F15: 1800 | G15: 1444 | H15: 1588.4 | I15: 1731 | J15: =ROUND(AVERAGE(E15,F15,G15,H15,I15),0) -> 1668
B16: DERIVADOS DE CEREAL | C16: 20 gr - 35 gr - 50 gr70 gr - 90 gr | D16: PAN DE LECHE | E16: 922.5 | F16: 1000 | G16: 541.5 | H16: 595.65 | I16: 900 | J16: =ROUND(AVERAGE(E16,F16,G16,H16,I16),0) -> 792
B17: FRUTAS | C17: 145 gr - 145 gr - 170 gr | D17: NA
B18: FRUTOS SECOS / AZUCARES | C18: 15 gr - 20 gr - 20 gr | D18: PANELITA CON LECHE(A - B - C) | E18: 475.6 | F18: 500 | G18: 541.5 | H18: 595.65 | I18: 464 | J18: =ROUND(AVERAGE(E18,F18,G18,H18,I18),0) -> 515
C19: 25 gr - 25 gr | D19: DULCE DE COCO CON GUAYABA (D - E) | G19: 406.125 | H19: 446.7375 | J19: =ROUND(AVERAGE(E19,F19,G19,H19,I19),0) -> 426
B20: TRANSPORTE | C20: GL | D20: TRANSPORTE | E20: 1432.15 | F20: 1450 | G20: 812.25 | H20: 893.475 | I20: 1397.22 | J20: =ROUND(AVERAGE(E20,F20,G20,H20,I20),0) -> 1197
B21: PERSONAL REQUERIDO | C21: GL | D21: PERSONAL REQUERIDO | E21: 912.86 | F21: 900 | G21: 541.5 | H21: 595.65 | I21: 890.6 | J21: =ROUND(AVERAGE(E21,F21,G21,H21,I21),0) -> 768
B22: SERVICIOS PUBLICOS | C22: GL | D22: SERVICIOS PUBLICOS | G22: 541.5 | H22: 595.65 | J22: =ROUND(AVERAGE(E22,F22,G22,H22,I22),0) -> 569
B23: IMPLEMENTOS Y DOTACIÓN | C23: GL | D23: IMPLEMENTOS Y DOTACIÓN | E23: 2460.9 | F23: 2400 | G23: 541.5 | H23: 595.65 | I23: 2400.88 | J23: =ROUND(AVERAGE(E23,F23,G23,H23,I23),0) -> 1680
E24: =SUM(E15:E23) -> 7978.29 | F24: =SUM(F15:F23) -> 8050 | G24: =SUM(G15:G23) -> 5369.875 | H24: =SUM(H15:H23) -> 5906.8625 | I24: =SUM(I15:I23) -> 7783.7 | J24: =SUM(J15:J23) -> 7615
A25: 3 | B25: LACTEOS | C25: 200 CC | D25: AVENA | E25: 1537.5 | F25: 1700 | G25: 1444 | H25: 1588.4 | I25: 1500 | J25: =ROUND(AVERAGE(E25,F25,G25,H25,I25),0) -> 1554
B26: DERIVADOS DE CEREAL | C26: 20 gr - 35 gr - 50 gr70 gr - 90 gr | D26: CROISSANT | E26: 973.75 | F26: 1000 | G26: 722 | H26: 794.2 | I26: 950 | J26: =ROUND(AVERAGE(E26,F26,G26,H26,I26),0) -> 888
B27: FRUTAS | C27: 145 gr - 145 gr - 170 gr | D27: MANDARINA | E27: 830.25 | F27: 850 | G27: 451.25 | H27: 496.375 | I27: 810 | J27: =ROUND(AVERAGE(E27,F27,G27,H27,I27),0) -> 688
B28: FRUTOS SECOS / AZUCARES | C28: 15 gr - 20 gr - 20 gr | D28: NA
C29: 25 gr - 25 gr | D29: NA
B30: TRANSPORTE | C30: GL | D30: TRANSPORTE | E30: 1432.15 | F30: 1450 | G30: 812.25 | H30: 893.475 | I30: 1397.22 | J30: =ROUND(AVERAGE(E30,F30,G30,H30,I30),0) -> 1197
B31: PERSONAL REQUERIDO | C31: GL | D31: PERSONAL REQUERIDO | E31: 912.86 | F31: 900 | G31: 541.5 | H31: 595.65 | I31: 890.6 | J31: =ROUND(AVERAGE(E31,F31,G31,H31,I31),0) -> 768
B32: SERVICIOS PUBLICOS | C32: GL | D32: SERVICIOS PUBLICOS | G32: 541.5 | H32: 595.65 | J32: =ROUND(AVERAGE(E32,F32,G32,H32,I32),0) -> 569
B33: IMPLEMENTOS Y DOTACIÓN | C33: GL | D33: IMPLEMENTOS Y DOTACIÓN | E33: 2460.9 | F33: 2400 | G33: 541.5 | H33: 595.65 | I33: 2400.88 | J33: =ROUND(AVERAGE(E33,F33,G33,H33,I33),0) -> 1680
E34: =SUM(E25:E33) -> 8147.41 | F34: =SUM(F25:F33) -> 8300 | G34: =SUM(G25:G33) -> 5054 | H34: =SUM(H25:H33) -> 5559.4 | I34: =SUM(I25:I33) -> 7948.7 | J34: =SUM(J25:J33) -> 7344
A35: 4 | B35: LACTEOS | C35: 200 CC | D35: LECHE ENTERA | E35: 1281.25 | F35: 1300 | G35: 1444 | H35: 1588.4 | I35: 1250 | J35: =ROUND(AVERAGE(E35,F35,G35,H35,I35),0) -> 1373
B36: DERIVADOS DE CEREAL | C36: 20 gr - 35 gr - 50 gr70 gr - 90 gr | D36: PAN DE QUESO | E36: 1025 | F36: 1100 | G36: 631.75 | H36: 694.925 | I36: 1000 | J36: =ROUND(AVERAGE(E36,F36,G36,H36,I36),0) -> 890
B37: FRUTAS | C37: 145 gr - 145 gr - 170 gr | D37: BANANO | E37: 492 | F37: 500 | G37: 361 | H37: 397.1 | I37: 480 | J37: =ROUND(AVERAGE(E37,F37,G37,H37,I37),0) -> 446
B38: FRUTOS SECOS / AZUCARES | C38: 15 gr - 20 gr - 20 gr | D38: NA
C39: 25 gr - 25 gr | D39: NA
B40: TRANSPORTE | C40: GL | D40: TRANSPORTE | E40: 1432.15 | F40: 1450 | G40: 812.25 | H40: 893.475 | I40: 1397.22 | J40: =ROUND(AVERAGE(E40,F40,G40,H40,I40),0) -> 1197
B41: PERSONAL REQUERIDO | C41: GL | D41: PERSONAL REQUERIDO | E41: 912.86 | F41: 900 | G41: 541.5 | H41: 595.65 | I41: 890.6 | J41: =ROUND(AVERAGE(E41,F41,G41,H41,I41),0) -> 768
B42: SERVICIOS PUBLICOS | C42: GL | D42: SERVICIOS PUBLICOS | G42: 541.5 | H42: 595.65 | J42: =ROUND(AVERAGE(E42,F42,G42,H42,I42),0) -> 569
B43: IMPLEMENTOS Y DOTACIÓN | C43: GL | D43: IMPLEMENTOS Y DOTACIÓN | E43: 2460.9 | F43: 2400 | G43: 541.5 | H43: 595.65 | I43: 2400.88 | J43: =ROUND(AVERAGE(E43,F43,G43,H43,I43),0) -> 1680
E44: =SUM(E35:E43) -> 7604.16 | F44: =SUM(F35:F43) -> 7650 | G44: =SUM(G35:G43) -> 4873.5 | H44: =SUM(H35:H43) -> 5360.85 | I44: =SUM(I35:I43) -> 7418.7 | J44: =SUM(J35:J43) -> 6923
A45: 5 | B45: LACTEOS | C45: 200 CC | D45: LECHE SABORIZADA (FRESA) | E45: 1774.28 | F45: 1800 | G45: 1444 | H45: 1588.4 | I45: 1731 | J45: =ROUND(AVERAGE(E45,F45,G45,H45,I45),0) -> 1668
B46: DERIVADOS DE CEREAL | C46: 20 gr - 35 gr - 50 gr70 gr - 90 gr | D46: GALLETA DE MANTEQUILLA | E46: 896.88 | F46: 900 | G46: 406.125 | H46: 446.7375 | I46: 875 | J46: =ROUND(AVERAGE(E46,F46,G46,H46,I46),0) -> 705
B47: FRUTAS | C47: 145 gr - 145 gr - 170 gr | D47: NARANJA | E47: 645.75 | F47: 750 | G47: 451.25 | H47: 496.375 | I47: 630 | J47: =ROUND(AVERAGE(E47,F47,G47,H47,I47),0) -> 595
B48: FRUTOS SECOS / AZUCARES | C48: 15 gr - 20 gr - 20 gr | D48: NA
C49: 25 gr - 25 gr | D49: NA
B50: TRANSPORTE | C50: GL | D50: TRANSPORTE | E50: 1432.15 | F50: 1450 | G50: 812.25 | H50: 893.475 | I50: 1397.22 | J50: =ROUND(AVERAGE(E50,F50,G50,H50,I50),0) -> 1197
B51: PERSONAL REQUERIDO | C51: GL | D51: PERSONAL REQUERIDO | E51: 912.86 | F51: 900 | G51: 541.5 | H51: 595.65 | I51: 890.6 | J51: =ROUND(AVERAGE(E51,F51,G51,H51,I51),0) -> 768
B52: SERVICIOS PUBLICOS | C52: GL | D52: SERVICIOS PUBLICOS | G52: 541.5 | H52: 595.65 | J52: =ROUND(AVERAGE(E52,F52,G52,H52,I52),0) -> 569
B53: IMPLEMENTOS Y DOTACIÓN | C53: GL | D53: IMPLEMENTOS Y DOTACIÓN | E53: 2460.9 | F53: 2400 | G53: 541.5 | H53: 595.65 | I53: 2400.88 | J53: =ROUND(AVERAGE(E53,F53,G53,H53,I53),0) -> 1680
E54: =SUM(E45:E53) -> 8122.82 | F54: =SUM(F45:F53) -> 8200 | G54: =SUM(G45:G53) -> 4738.125 | H54: =SUM(H45:H53) -> 5211.9375 | I54: =SUM(I45:I53) -> 7924.7 | J54: =SUM(J45:J53) -> 7182
A55: 6 | B55: LACTEOS | C55: 200 CC | D55: LECHE SABORIZADA (FRESA) | E55: 1774.28 | F55: 1800 | G55: 1444 | H55: 1588.4 | I55: 1731 | J55: =ROUND(AVERAGE(E55,F55,G55,H55,I55),0) -> 1668
B56: DERIVADOS DE CEREAL | C56: 20 gr - 35 gr - 50 gr70 gr - 90 gr | D56: PAN DE BOCADILLO | E56: 948.13 | F56: 1000 | G56: 631.75 | H56: 694.925 | I56: 925 | J56: =ROUND(AVERAGE(E56,F56,G56,H56,I56),0) -> 840
B57: FRUTAS | C57: 145 gr - 145 gr - 170 gr | D57: NA
B58: FRUTOS SECOS / AZUCARES | C58: 15 gr - 20 gr - 20 gr25 gr - 25 gr | D58: PANELITA CON LECHE(A - B) | G58: 541.5 | H58: 595.65 | J58: =ROUND(AVERAGE(E58,F58,G58,H58,I58),0) -> 569
C59: 0 gr - 0 gr - 15 gr - 15 gr - 15 gr | D59: MANÍ (C - D - E) | E59: 533 | F59: 600 | G59: 812.25 | H59: 893.475 | I59: 520 | J59: =ROUND(AVERAGE(E59,F59,G59,H59,I59),0) -> 672
B60: TRANSPORTE | C60: GL | D60: TRANSPORTE | E60: 1432.15 | F60: 1450 | G60: 812.25 | H60: 893.475 | I60: 1397.22 | J60: =ROUND(AVERAGE(E60,F60,G60,H60,I60),0) -> 1197
B61: PERSONAL REQUERIDO | C61: GL | D61: PERSONAL REQUERIDO | E61: 912.86 | F61: 900 | G61: 541.5 | H61: 595.65 | I61: 890.6 | J61: =ROUND(AVERAGE(E61,F61,G61,H61,I61),0) -> 768
B62: SERVICIOS PUBLICOS | C62: GL | D62: SERVICIOS PUBLICOS | G62: 541.5 | H62: 595.65 | J62: =ROUND(AVERAGE(E62,F62,G62,H62,I62),0) -> 569
B63: IMPLEMENTOS Y DOTACIÓN | C63: GL | D63: IMPLEMENTOS Y DOTACIÓN | E63: 2460.9 | F63: 2400 | G63: 541.5 | H63: 595.65 | I63: 2400.88 | J63: =ROUND(AVERAGE(E63,F63,G63,H63,I63),0) -> 1680
E64: =SUM(E55:E63) -> 8061.32 | F64: =SUM(F55:F63) -> 8150 | G64: =SUM(G55:G63) -> 5866.25 | H64: =SUM(H55:H63) -> 6452.875 | I64: =SUM(I55:I63) -> 7864.7 | J64: =SUM(J55:J63) -> 7963
A65: 7 | B65: LACTEOS | C65: 200 CC | D65: LECHE ENTERA | E65: 1281.25 | F65: 1300 | G65: 1444 | H65: 1588.4 | I65: 1250 | J65: =ROUND(AVERAGE(E65,F65,G65,H65,I65),0) -> 1373
B66: DERIVADOS DE CEREAL | C66: 20 gr - 35 gr - 50 gr70 gr - 90 gr | D66: PAN DE LECHE | E66: 922.5 | F66: 1000 | G66: 631.75 | H66: 694.925 | I66: 900 | J66: =ROUND(AVERAGE(E66,F66,G66,H66,I66),0) -> 830
B67: FRUTAS | C67: 145 gr - 145 gr - 170 gr | D67: NA
B68: FRUTOS SECOS / AZUCARES | C68: 15 gr - 20 gr - 20 gr25 gr - 25 gr | D68: BOCADILLO DE GUAYABA CON GALLETA (A - B - C - D - E) | E68: 492 | F68: 500 | G68: 722 | H68: 794.2 | I68: 480 | J68: =ROUND(AVERAGE(E68,F68,G68,H68,I68),0) -> 598
C69: 0 gr - 0 gr - 15 gr - 15 gr - 15 gr | D69: BOCADILLO DE GUAYABA CON GALLETA (A - B - C - D - E) | G69: 722 | H69: 794.2 | J69: =ROUND(AVERAGE(E69,F69,G69,H69,I69),0) -> 758
B70: TRANSPORTE | C70: GL | D70: TRANSPORTE | E70: 1432.15 | F70: 1450 | G70: 812.25 | H70: 893.475 | I70: 1397.22 | J70: =ROUND(AVERAGE(E70,F70,G70,H70,I70),0) -> 1197
B71: PERSONAL REQUERIDO | C71: GL | D71: PERSONAL REQUERIDO | E71: 912.86 | F71: 900 | G71: 541.5 | H71: 595.65 | I71: 890.6 | J71: =ROUND(AVERAGE(E71,F71,G71,H71,I71),0) -> 768
B72: SERVICIOS PUBLICOS | C72: GL | D72: SERVICIOS PUBLICOS | G72: 541.5 | H72: 595.65 | J72: =ROUND(AVERAGE(E72,F72,G72,H72,I72),0) -> 569
B73: IMPLEMENTOS Y DOTACIÓN | C73: GL | D73: IMPLEMENTOS Y DOTACIÓN | E73: 2460.9 | F73: 2400 | G73: 541.5 | H73: 595.65 | I73: 2400.88 | J73: =ROUND(AVERAGE(E73,F73,G73,H73,I73),0) -> 1680
E74: =SUM(E65:E73) -> 7501.66 | F74: =SUM(F65:F73) -> 7550 | G74: =SUM(G65:G73) -> 5956.5 | H74: =SUM(H65:H73) -> 6552.15 | I74: =SUM(I65:I73) -> 7318.7 | J74: =SUM(J65:J73) -> 7773
A75: 8 | B75: LACTEOS | C75: 200 CC | D75: LECHE ENTERA | E75: 1281.25 | F75: 1300 | G75: 1444 | H75: 1588.4 | I75: 1250 | J75: =ROUND(AVERAGE(E75,F75,G75,H75,I75),0) -> 1373
B76: DERIVADOS DE CEREAL | C76: 20 gr - 35 gr - 50 gr70 gr - 90 gr | D76: PAN DE QUESO | E76: 1025 | F76: 1100 | G76: 631.75 | H76: 694.925 | I76: 1000 | J76: =ROUND(AVERAGE(E76,F76,G76,H76,I76),0) -> 890
B77: FRUTAS | C77: 145 gr - 145 gr - 170 gr | D77: BANANO | E77: 492 | F77: 500 | G77: 361 | H77: 397.1 | I77: 480 | J77: =ROUND(AVERAGE(E77,F77,G77,H77,I77),0) -> 446
B78: FRUTOS SECOS / AZUCARES | C78: 15 gr - 20 gr - 20 gr25 gr - 25 gr | D78: NA
C79: 0 gr - 0 gr - 15 gr - 15 gr - 15 gr | D79: NA
B80: TRANSPORTE | C80: GL | D80: TRANSPORTE | E80: 1432.15 | F80: 1450 | G80: 812.25 | H80: 893.475 | I80: 1397.22 | J80: =ROUND(AVERAGE(E80,F80,G80,H80,I80),0) -> 1197
B81: PERSONAL REQUERIDO | C81: GL | D81: PERSONAL REQUERIDO | E81: 912.86 | F81: 900 | G81: 541.5 | H81: 595.65 | I81: 890.6 | J81: =ROUND(AVERAGE(E81,F81,G81,H81,I81),0) -> 768
B82: SERVICIOS PUBLICOS | C82: GL | D82: SERVICIOS PUBLICOS | G82: 541.5 | H82: 595.65 | J82: =ROUND(AVERAGE(E82,F82,G82,H82,I82),0) -> 569
B83: IMPLEMENTOS Y DOTACIÓN | C83: GL | D83: IMPLEMENTOS Y DOTACIÓN | E83: 2460.9 | F83: 2400 | G83: 541.5 | H83: 595.65 | I83: 2400.88 | J83: =ROUND(AVERAGE(E83,F83,G83,H83,I83),0) -> 1680
E84: =SUM(E75:E83) -> 7604.16 | F84: =SUM(F75:F83) -> 7650 | G84: =SUM(G75:G83) -> 4873.5 | H84: =SUM(H75:H83) -> 5360.85 | I84: =SUM(I75:I83) -> 7418.7 | J84: =SUM(J75:J83) -> 6923
A85: 9 | B85: LACTEOS | C85: 200 CC | D85: AVENA | E85: 1537.5 | F85: 1700 | G85: 1444 | H85: 1588.4 | I85: 1500 | J85: =ROUND(AVERAGE(E85,F85,G85,H85,I85),0) -> 1554
B86: DERIVADOS DE CEREAL | C86: 20 gr - 35 gr - 50 gr70 gr - 90 gr | D86: CROISSANT | E86: 973.75 | F86: 1000 | G86: 722 | H86: 794.2 | I86: 950 | J86: =ROUND(AVERAGE(E86,F86,G86,H86,I86),0) -> 888
B87: FRUTAS | C87: 145 gr - 145 gr - 170 gr | D87: NARANJA | E87: 728.78 | F87: 750 | G87: 451.25 | H87: 496.375 | I87: 711 | J87: =ROUND(AVERAGE(E87,F87,G87,H87,I87),0) -> 627
B88: FRUTOS SECOS / AZUCARES | C88: 15 gr - 20 gr - 20 gr25 gr - 25 gr | D88: NA
C89: 0 gr - 0 gr - 15 gr - 15 gr - 15 gr | D89: NA
B90: TRANSPORTE | C90: GL | D90: TRANSPORTE | E90: 1432.15 | F90: 1450 | G90: 812.25 | H90: 893.475 | I90: 1397.22 | J90: =ROUND(AVERAGE(E90,F90,G90,H90,I90),0) -> 1197
B91: PERSONAL REQUERIDO | C91: GL | D91: PERSONAL REQUERIDO | E91: 912.86 | F91: 900 | G91: 541.5 | H91: 595.65 | I91: 890.6 | J91: =ROUND(AVERAGE(E91,F91,G91,H91,I91),0) -> 768
B92: SERVICIOS PUBLICOS | C92: GL | D92: SERVICIOS PUBLICOS | G92: 541.5 | H92: 595.65 | J92: =ROUND(AVERAGE(E92,F92,G92,H92,I92),0) -> 569
B93: IMPLEMENTOS Y DOTACIÓN | C93: GL | D93: IMPLEMENTOS Y DOTACIÓN | E93: 2460.9 | F93: 2400 | G93: 541.5 | H93: 595.65 | I93: 2400.88 | J93: =ROUND(AVERAGE(E93,F93,G93,H93,I93),0) -> 1680
E94: =SUM(E85:E93) -> 8045.94 | F94: =SUM(F85:F93) -> 8200 | G94: =SUM(G85:G93) -> 5054 | H94: =SUM(H85:H93) -> 5559.4 | I94: =SUM(I85:I93) -> 7849.7 | J94: =SUM(J85:J93) -> 7283
A95: 10 | B95: LACTEOS | C95: 200 CC | D95: LECHE SABORIZADA (VAINILLA) | E95: 1774.28 | F95: 1800 | G95: 1444 | H95: 1588.4 | I95: 1731 | J95: =ROUND(AVERAGE(E95,F95,G95,H95,I95),0) -> 1668
B96: DERIVADOS DE CEREAL | C96: 20 gr - 35 gr - 50 gr70 gr - 90 gr | D96: GALLETA DE CHOCOLATE | E96: 871.25 | F96: 900 | G96: 451.25 | H96: 496.375 | I96: 850 | J96: =ROUND(AVERAGE(E96,F96,G96,H96,I96),0) -> 714
B97: FRUTAS | C97: 145 gr - 145 gr - 170 gr | D97: MANZANA | E97: 1368.38 | F97: 1350 | G97: 1805 | H97: 1985.5 | I97: 1335 | J97: =ROUND(AVERAGE(E97,F97,G97,H97,I97),0) -> 1569
B98: FRUTOS SECOS / AZUCARES | C98: 15 gr - 20 gr - 20 gr25 gr - 25 gr | D98: NA
C99: 0 gr - 0 gr - 15 gr - 15 gr - 15 gr | D99: NA
B100: TRANSPORTE | C100: GL | D100: TRANSPORTE | E100: 1432.15 | F100: 1450 | G100: 812.25 | H100: 893.475 | I100: 1397.22 | J100: =ROUND(AVERAGE(E100,F100,G100,H100,I100),0) -> 1197
...

Sheet RACION INDUS (D)
E1: GRUPO D
E2: SERVICIOS DE ALIMENTACIÓN QP | F2: FUNDACIÓN EDUCANDO A LA NIÑEZ | G2: FUNDACIÓN GARDEN | H2: FUNDACIÓN PARA EL PROGRESO TERRITORIAL | I2: SERVICIOS DE ALIMENTACION NP | J2: PROMEDIO
A3: RACION INDUSTRIALIZADA | E3: PRECIO PREPARADO EN SITIO | F3: PRECIO PREPARADO EN SITIO | G3: PRECIO PREPARADO EN SITIO | H3: PRECIO PREPARADO EN SITIO | I3: PRECIO PREPARADO EN SITIO | J3: PRECIO PREPARADO EN SITIO
A4: N° MENÚ | B4: GRUPO DE ALIMETOS | C4: RANGO DE PESOS AL SERVIR RACIÓN SERVIDA | D4: PREPARACIÓN | E4: valor unitario. | F4: valor unitario. | G4: valor unitario. | H4: valor unitario. | I4: valor unitario. | J4: valor unitario.
A5: 1 | B5: LACTEOS | C5: 200 CC | D5: LECHE ENTERA | E5: 1281.25 | F5: 1300 | G5: 1520 | H5: 1672 | I5: 1250 | J5: =ROUND(AVERAGE(E5,F5,G5,H5,I5),0) -> 1405
B6: DERIVADOS DE CEREAL | C6: 20 gr - 35 gr - 50 gr70 gr - 90 gr | D6: GALLETA DE COCO | E6: 1435 | F6: 1500 | G6: 475 | H6: 522.5 | I6: 1400 | J6: =ROUND(AVERAGE(E6,F6,G6,H6,I6),0) -> 1067
B7: FRUTAS | C7: 145 gr - 145 gr - 170 gr | D7: NA
B8: FRUTOS SECOS / AZUCARES | C8: 15 gr - 20 gr - 20 gr | D8: BOCADILLO VELEÑO CON MANJAR BLANCO (A - B - C) | G8: 427.5 | H8: 470.25 | J8: =ROUND(AVERAGE(E8,F8,G8,H8,I8),0) -> 449
C9: 25 gr - 25 gr | D9: BOCADILLO DE GUAYABA CON GALLETA (D - E) | E9: 615 | F9: 650 | G9: 760 | H9: 836 | I9: 600 | J9: =ROUND(AVERAGE(E9,F9,G9,H9,I9),0) -> 692
B10: TRANSPORTE | C10: GL | D10: TRANSPORTE | E10: 1432.15 | F10: 1450 | G10: 855 | H10: 940.5 | I10: 1397.22 | J10: =ROUND(AVERAGE(E10,F10,G10,H10,I10),0) -> 1215
B11: PERSONAL REQUERIDO | C11: GL | D11: PERSONAL REQUERIDO | E11: 912.86 | F11: 900 | G11: 570 | H11: 627 | I11: 890.6 | J11: =ROUND(AVERAGE(E11,F11,G11,H11,I11),0) -> 780
B12: SERVICIOS PUBLICOS | C12: GL | D12: SERVICIOS PUBLICOS | G12: 570 | H12: 627 | J12: =ROUND(AVERAGE(E12,F12,G12,H12,I12),0) -> 599
B13: IMPLEMENTOS Y DOTACIÓN | C13: GL | D13: IMPLEMENTOS Y DOTACIÓN | E13: 2562.38 | F13: 2600 | G13: 570 | H13: 627 | I13: 2499.88 | J13: =ROUND(AVERAGE(E13,F13,G13,H13,I13),0) -> 1772
E14: =SUM(E5:E13) -> 8238.64 | F14: =SUM(F5:F13) -> 8400 | G14: =SUM(G5:G13) -> 5747.5 | H14: =SUM(H5:H13) -> 6322.25 | I14: =SUM(I5:I13) -> 8037.7 | J14: =SUM(J5:J13) -> 7979
A15: 2 | B15: LACTEOS | C15: 200 CC | D15: LECHE SABORIZADA (VAINILLA) | E15: 1774.28 | F15: 1800 | G15: 1520 | H15: 1672 | I15: 1731 | J15: =ROUND(AVERAGE(E15,F15,G15,H15,I15),0) -> 1699
B16: DERIVADOS DE CEREAL | C16: 20 gr - 35 gr - 50 gr70 gr - 90 gr | D16: PAN DE LECHE | E16: 1291.5 | F16: 1300 | G16: 570 | H16: 627 | I16: 1260 | J16: =ROUND(AVERAGE(E16,F16,G16,H16,I16),0) -> 1010
B17: FRUTAS | C17: 145 gr - 145 gr - 170 gr | D17: NA
B18: FRUTOS SECOS / AZUCARES | C18: 15 gr - 20 gr - 20 gr | D18: PANELITA CON LECHE(A - B - C) | G18: 570 | H18: 627 | J18: =ROUND(AVERAGE(E18,F18,G18,H18,I18),0) -> 599
C19: 25 gr - 25 gr | D19: DULCE DE COCO CON GUAYABA (D - E) | E19: 496.1 | F19: 500 | G19: 427.5 | H19: 470.25 | I19: 484 | J19: =ROUND(AVERAGE(E19,F19,G19,H19,I19),0) -> 476
B20: TRANSPORTE | C20: GL | D20: TRANSPORTE | E20: 1432.15 | F20: 1450 | G20: 855 | H20: 940.5 | I20: 1397.22 | J20: =ROUND(AVERAGE(E20,F20,G20,H20,I20),0) -> 1215
B21: PERSONAL REQUERIDO | C21: GL | D21: PERSONAL REQUERIDO | E21: 912.86 | F21: 900 | G21: 570 | H21: 627 | I21: 890.6 | J21: =ROUND(AVERAGE(E21,F21,G21,H21,I21),0) -> 780
B22: SERVICIOS PUBLICOS | C22: GL | D22: SERVICIOS PUBLICOS | G22: 570 | H22: 627 | J22: =ROUND(AVERAGE(E22,F22,G22,H22,I22),0) -> 599
B23: IMPLEMENTOS Y DOTACIÓN | C23: GL | D23: IMPLEMENTOS Y DOTACIÓN | E23: 2562.38 | F23: 2600 | G23: 570 | H23: 627 | I23: 2499.88 | J23: =ROUND(AVERAGE(E23,F23,G23,H23,I23),0) -> 1772
E24: =SUM(E15:E23) -> 8469.27 | F24: =SUM(F15:F23) -> 8550 | G24: =SUM(G15:G23) -> 5652.5 | H24: =SUM(H15:H23) -> 6217.75 | I24: =SUM(I15:I23) -> 8262.7 | J24: =SUM(J15:J23) -> 8150
A25: 3 | B25: LACTEOS | C25: 200 CC | D25: AVENA | E25: 1537.5 | F25: 1700 | G25: 1520 | H25: 1672 | I25: 1500 | J25: =ROUND(AVERAGE(E25,F25,G25,H25,I25),0) -> 1586
B26: DERIVADOS DE CEREAL | C26: 20 gr - 35 gr - 50 gr70 gr - 90 gr | D26: CROISSANT | E26: 1363.25 | F26: 1400 | G26: 760 | H26: 836 | I26: 1330 | J26: =ROUND(AVERAGE(E26,F26,G26,H26,I26),0) -> 1138
B27: FRUTAS | C27: 145 gr - 145 gr - 170 gr | D27: MANDARINA | E27: 830.25 | F27: 850 | G27: 475 | H27: 522.5 | I27: 810 | J27: =ROUND(AVERAGE(E27,F27,G27,H27,I27),0) -> 698
B28: FRUTOS SECOS / AZUCARES | C28: 15 gr - 20 gr - 20 gr | D28: NA
C29: 25 gr - 25 gr | D29: NA
B30: TRANSPORTE | C30: GL | D30: TRANSPORTE | E30: 1432.15 | F30: 1450 | G30: 855 | H30: 940.5 | I30: 1397.22 | J30: =ROUND(AVERAGE(E30,F30,G30,H30,I30),0) -> 1215
B31: PERSONAL REQUERIDO | C31: GL | D31: PERSONAL REQUERIDO | E31: 912.86 | F31: 900 | G31: 570 | H31: 627 | I31: 890.6 | J31: =ROUND(AVERAGE(E31,F31,G31,H31,I31),0) -> 780
B32: SERVICIOS PUBLICOS | C32: GL | D32: SERVICIOS PUBLICOS | G32: 570 | H32: 627 | J32: =ROUND(AVERAGE(E32,F32,G32,H32,I32),0) -> 599
B33: IMPLEMENTOS Y DOTACIÓN | C33: GL | D33: IMPLEMENTOS Y DOTACIÓN | E33: 2562.38 | F33: 2600 | G33: 570 | H33: 627 | I33: 2499.88 | J33: =ROUND(AVERAGE(E33,F33,G33,H33,I33),0) -> 1772
E34: =SUM(E25:E33) -> 8638.39 | F34: =SUM(F25:F33) -> 8900 | G34: =SUM(G25:G33) -> 5320 | H34: =SUM(H25:H33) -> 5852 | I34: =SUM(I25:I33) -> 8427.7 | J34: =SUM(J25:J33) -> 7788
A35: 4 | B35: LACTEOS | C35: 200 CC | D35: LECHE ENTERA | E35: 1281.25 | F35: 1300 | G35: 1520 | H35: 1672 | I35: 1250 | J35: =ROUND(AVERAGE(E35,F35,G35,H35,I35),0) -> 1405
B36: DERIVADOS DE CEREAL | C36: 20 gr - 35 gr - 50 gr70 gr - 90 gr | D36: PAN DE QUESO | E36: 1435 | F36: 1500 | G36: 665 | H36: 731.5 | I36: 1400 | J36: =ROUND(AVERAGE(E36,F36,G36,H36,I36),0) -> 1146
B37: FRUTAS | C37: 145 gr - 145 gr - 170 gr | D37: BANANO | E37: 492 | F37: 500 | G37: 380 | H37: 418 | I37: 480 | J37: =ROUND(AVERAGE(E37,F37,G37,H37,I37),0) -> 454
B38: FRUTOS SECOS / AZUCARES | C38: 15 gr - 20 gr - 20 gr | D38: NA
C39: 25 gr - 25 gr | D39: NA
B40: TRANSPORTE | C40: GL | D40: TRANSPORTE | E40: 1432.15 | F40: 1450 | G40: 855 | H40: 940.5 | I40: 1397.22 | J40: =ROUND(AVERAGE(E40,F40,G40,H40,I40),0) -> 1215
B41: PERSONAL REQUERIDO | C41: GL | D41: PERSONAL REQUERIDO | E41: 912.86 | F41: 900 | G41: 570 | H41: 627 | I41: 890.6 | J41: =ROUND(AVERAGE(E41,F41,G41,H41,I41),0) -> 780
B42: SERVICIOS PUBLICOS | C42: GL | D42: SERVICIOS PUBLICOS | G42: 570 | H42: 627 | J42: =ROUND(AVERAGE(E42,F42,G42,H42,I42),0) -> 599
B43: IMPLEMENTOS Y DOTACIÓN | C43: GL | D43: IMPLEMENTOS Y DOTACIÓN | E43: 2562.38 | F43: 2600 | G43: 570 | H43: 627 | I43: 2499.88 | J43: =ROUND(AVERAGE(E43,F43,G43,H43,I43),0) -> 1772
E44: =SUM(E35:E43) -> 8115.64 | F44: =SUM(F35:F43) -> 8250 | G44: =SUM(G35:G43) -> 5130 | H44: =SUM(H35:H43) -> 5643 | I44: =SUM(I35:I43) -> 7917.7 | J44: =SUM(J35:J43) -> 7371
A45: 5 | B45: LACTEOS | C45: 200 CC | D45: LECHE SABORIZADA (FRESA) | E45: 1774.28 | F45: 1800 | G45: 1520 | H45: 1672 | I45: 1731 | J45: =ROUND(AVERAGE(E45,F45,G45,H45,I45),0) -> 1699
B46: DERIVADOS DE CEREAL | C46: 20 gr - 35 gr - 50 gr70 gr - 90 gr | D46: GALLETA DE MANTEQUILLA | E46: 1255.63 | F46: 1250 | G46: 427.5 | H46: 470.25 | I46: 1225 | J46: =ROUND(AVERAGE(E46,F46,G46,H46,I46),0) -> 926
B47: FRUTAS | C47: 145 gr - 145 gr - 170 gr | D47: NARANJA | E47: 645.75 | F47: 750 | G47: 475 | H47: 522.5 | I47: 630 | J47: =ROUND(AVERAGE(E47,F47,G47,H47,I47),0) -> 605
B48: FRUTOS SECOS / AZUCARES | C48: 15 gr - 20 gr - 20 gr | D48: NA
C49: 25 gr - 25 gr | D49: NA
B50: TRANSPORTE | C50: GL | D50: TRANSPORTE | E50: 1432.15 | F50: 1450 | G50: 855 | H50: 940.5 | I50: 1397.22 | J50: =ROUND(AVERAGE(E50,F50,G50,H50,I50),0) -> 1215
B51: PERSONAL REQUERIDO | C51: GL | D51: PERSONAL REQUERIDO | E51: 912.86 | F51: 900 | G51: 570 | H51: 627 | I51: 890.6 | J51: =ROUND(AVERAGE(E51,F51,G51,H51,I51),0) -> 780
