Workbook
Name _Toc140149825_1: [1]JURIDICA!#REF!
Name _Toc140149825_59: #REF!
Name _Toc142149825_60: #REF!
Name AMOR: [1]JURIDICA!#REF!
Name FFFFFFF: #REF!
Name FFFFFFF: #REF!
Name GG: [1]JURIDICA!#REF!
Name GGGGGG: #REF!
Name opcion2: '[2]CUADRO RESUMEN'!$L$21
Name opcion3: '[2]CUADRO RESUMEN'!$L$22
Name opcion4: '[2]CUADRO RESUMEN'!$L$23
Name opcion5: '[2]CUADRO RESUMEN'!$L$24
Name opcion6: '[2]CUADRO RESUMEN'!$L$25

Sheet ESTUDIO DE MERCADO 2020
A1: EMPRESA DE RENOVACIÓN Y DESARROLLO URBANO DE BOGOTA D.C.
A2: ESTUDIO DE MERCADO
A3: CALCULO VALORES APROXIMADOS DE PRIMA
A5: VIGENCIA DESDE 00:00 HORAS | B5: 44079
A6: VIGENCIA HASTA 00:00 HORAS | B6: 44603
A7: DIAS DE COBERTURA | B7: =+B6-B5 -> 524
A9: RAMO | B9: VALOR ASEGURADO | C9: VALOR ASEGURADO INDICE VARIABLE | D9: TIPO TASA | E9: TASA ANUAL | F9: TASA IND. VAR. | G9: PRIMA ANUAL | H9: PRIMA IND. VAR. ANUAL | I9: PRIMA PERIODO | J9: PRIMA IND. VAR. PERIODO | K9: SUBTOTAL | L9: IVA | M9: TOTAL
A10: GRUPO No. 1
A11: TODO RIESGO DAÑOS MATERIALES | B11: ='ANEXO T.R.D.M.'!E12 -> 4321269397 | C11: ='ANEXO T.R.D.M.'!F12 -> 43478479 | D11: %o | E11: ='TASAS PROMEDIO'!F7 -> 1.9525 | F11: =+E11/2 -> 0.97625 | G11: =+B11*E11/1000 -> 8437278.5 | H11: =+C11*F11/1000 -> 42445.865 | I11: =+(G11/365)*$B$7 -> 12112696 | J11: =+H11/365*$B$7 -> 60935.981 | K11: =+I11+H11 -> 12155142 | L11: =+K11*0.19 -> 2309476.9 | M11: =+K11+L11 -> 14464618
A12: TRANSPORTE DE VALORES (*) | B12: 60000000 | D12: % | E12: ='TASAS PROMEDIO'!F11 -> 0.5625 | G12: =+B12*E12/100 -> 337500 | I12: =+(G12/365)*$B$7 -> 484520.55 | J12: =+H12/365*$B$7 -> 0 | K12: =+I12+J12 -> 484520.55 | L12: =+K12*0.19 -> 92058.904 | M12: =+K12+L12 -> 576579.45
A13: MANEJO GLOBAL ENTIDADES ESTATALES | B13: 700000000 | D13: % | E13: ='TASAS PROMEDIO'!F15 -> 6.025375 | G13: =+B13*E13/100 -> 42177625 | I13: =+(G13/365)*$B$7 -> 60550892 | J13: =+H13/365*$B$7 -> 0 | K13: =+I13+J13 -> 60550892 | L13: =+K13*0.19 -> 11504669 | M13: =+K13+L13 -> 72055561
A14: RESPONSABILIDAD CIVIL EXTRACONTRACTUAL | B14: 2800000000 | D14: % | E14: ='TASAS PROMEDIO'!F19 -> 0.5125 | G14: =+B14*E14/100 -> 14350000 | I14: =+(G14/365)*$B$7 -> 20601096 | J14: =+H14/365*$B$7 -> 0 | K14: =+I14+J14 -> 20601096 | L14: =+K14*0.19 -> 3914208.2 | M14: =+K14+L14 -> 24515304
A15: RESPONSABILIDAD CIVIL SERVIDORES PUBLICOS | B15: 3000000000 | D15: % | E15: ='TASAS PROMEDIO'!F23 -> 13.5135 | G15: =+B15*E15/100 -> 405405000 | I15: =+(G15/365)*$B$7 -> 5.8200608e+08 | J15: =+H15/365*$B$7 -> 0 | K15: =+I15+J15 -> 5.8200608e+08 | L15: =+K15*0.19 -> 1.1058116e+08 | M15: =+K15+L15 -> 6.9258724e+08
A16: INFIDELIDAD Y RIESGOS FINANCIEROS | B16: 3000000000 | D16: % | E16: ='TASAS PROMEDIO'!F27 -> 5.0808333 | G16: =+B16*E16/100 -> 1.52425e+08 | I16: =+(G16/365)*$B$7 -> 2.1882384e+08 | J16: =+H16/365*$B$7 -> 0 | K16: =+I16+J16 -> 2.1882384e+08 | L16: =+K16*0.19 -> 41576529 | M16: =+K16+L16 -> 2.6040036e+08
A17: REMANENTE PARA INCLUSIONES | M17: 0
A18: REMANENTE | M18: 4167870
A20: GRUPO No.2
A21: VIDA GRUPO FUNCIONARIOS | B21: 2014557885 | D21: %o | E21: ='TASAS PROMEDIO'!F30 -> 6.4328 | G21: =+B21*E21/1000 -> 12959248 | I21: =+(G21/365)*$B$7 -> 18604509 | J21: =+H21/365*$B$7 -> 0 | K21: =+I21+J21 -> 18604509 | L21: =+K21*0.19 -> 3534856.8 | M21: =+K21+L21 -> 22139366
A22: REMANENTE PARA INCLUSIONES | M22: 0
L24: TOTAL | M24: =SUM(M11:M22) -> 1.0909069e+09
A25: NOTAS:
A26: 1. TODO RIESGO DAÑOS MATERIALES: INDICE VARIABLE SE APLICA UN 5%.
A27: 2. AUTOMOVILES: EL VALOR ASEGURADO CORRESPONDE A TABLA FASECOLDA DE ENERO DE 2019
A28: 3. MANEJO GLOBAL: PERSONAL DE PLANTA Y CONTRATISTAS APROXIMADAMENTE SON 1251
A29: 2. SOAT: EL VALOR ASEGURADO SON LOS ESTABLECIDOS POR LEY. LA TARIFA DE GOBIERNO VIGENTE PARA EL AÑO 2019 SE LE INCREMENTA EN UN 6.1% CORRESPONDIENTE AL PROMEDIO DEL INCREMENTO DEL S.M.M.V EN LOS ULTIMOS 5 AÑOS
A30: 3. INFIDELIDAD Y RIESGOS FINANCIEROS: A LA TASA PRESENTADA SE LE INCLUYE UN RECARGO DEL 30% DEBIDO A LA ALTA SINIESTRALIDAD PRESENTADA DEL SECTOR
A31: 4. RESPONSABILIDAD CIVIL SERVIDORES PÚBLICOS: LIMITE ASEGURADO $700.000.000 POR PERJUICIOS O DETRIMENTOS PATRIMONIALES, INCLUYENDO GASTOS DE DEFENSA POR PERSONA Y POR PROCESO.
A32: 5. MANEJO GLOBAL: A LA TASA PRESENTADA SE LE INCLUYE UN RECARGO DE 30% DEBIDO A LOS ANTECEDENTES DE SINIESTRALIDAD.
A35: 1. TODO RIESGO DAÑOS MATERIALES: INDICE VARIABLE SE APLICA UN 5 %. | M35: 1090906902
A36: 2. MANEJO: NUMERO DE CARGOS 214 ENTRE EMPLEADOS Y CONTRATISTAS.
A37: 3. MANEJO: A LA TASA PROMEDIO SE LE REALIZA UN INCREMENTO DEL 7% TENIENDO EN CUENTA LA SINIESTRALIDAD DEL SECTOR
A38: 4. R.C. SERVIDORES PUBLICOS: A LA TASA PROMEDIO SE LE REALIZA UN INCREMENTO DEL 65% TENIENDO EN CUENTA LA SINIESTRALIDAD DEL SECTOR Y DE LA POLIZA
A39: 5. INFIDELIDAD Y RIESGOS FINANCIEROS: A LA TASA PROMEDIO SE LE REALIZA UN INCREMENTO DEL 75% TENIENDO EN CUENTA LA SINIESTRALIDAD DEL SECTOR
A40: 6. VIDA GRUPO: 45 ASEGURADOS - A LA TASA PROMEDIO SE LE REALIZA UN INCREMENTO DEL 36% TENIENDO EN CUENTA LA SINIESTRALIDAD DEL SECTOR Y DE LA POLIZA

Sheet TASAS PROMEDIO
A1: SUPERINTENDENCIA NACIONAL DE SALUD
A2: ESTUDIO DE MERCADO
A3: DETERMINACION TASAS PROMEDIO
A5: ENTIDAD | B5: RAMO | C5: TASAS | D5: PROMEDIO TASAS
D6: PROMERIO TASA MERCADO (A) | E6: TASA ENTIDAD ACTUAL (B) | F6: TASA PARA ESTUDIO DE MERCADO | G6: TIPO DE TASA % - %o
A7: EMPRESA DE RENOVACIÓN Y DESARROLLO URBANO DE BOGOTA D.C. | B7: Todo Riesgo Daños Materiales | C7: 2 | D7: =+AVERAGE(C7:C10) -> 1.9525 | E7: =C7 -> 2 | F7: =D7 -> 1.9525 | G7: %o
A8: PERSONERIA DE BOGOTA D.C. | C8: 1.46
A9: DEPARTAMENTO ADMINISTRATIVO PARA LA PROSPERIDAD SOCIAL | C9: 2.83
A10: AGENCIA DE DESARROLLO RURAL | C10: 1.52
A11: EMPRESA DE RENOVACIÓN Y DESARROLLO URBANO DE BOGOTA D.C. | B11: Transporte de Valores | C11: 1 | D11: =AVERAGE(C11:C14) -> 0.5625 | E11: =C11 -> 1 | F11: =D11 -> 0.5625 | G11: %
A12: PERSONERIA DE BOGOTA D.C. | C12: 0.15
A13: DEPARTAMENTO ADMINISTRATIVO PARA LA PROSPERIDAD SOCIAL | C13: 0.2
A14: AGENCIA DE DESARROLLO RURAL | C14: 0.9
A15: EMPRESA DE RENOVACIÓN Y DESARROLLO URBANO DE BOGOTA D.C. | B15: Manejo Global Entidades Estatales | C15: 4.2 | D15: =+AVERAGE(C15:C18)*1.075 -> 6.025375 | E15: =C15 -> 4.2 | F15: =D15 -> 6.025375 | G15: %
A16: PERSONERIA DE BOGOTA D.C. | C16: 2.72
A17: DEPARTAMENTO ADMINISTRATIVO PARA LA PROSPERIDAD SOCIAL | C17: 6.5
A18: AGENCIA DE DESARROLLO RURAL | C18: 9
A19: EMPRESA DE RENOVACIÓN Y DESARROLLO URBANO DE BOGOTA D.C. | B19: Responsabilidad Civil Extracontractual | C19: 0.8 | D19: =+AVERAGE(C19:C22) -> 0.5125 | E19: =C19 -> 0.8 | F19: =D19 -> 0.5125 | G19: %
A20: PERSONERIA DE BOGOTA D.C. | C20: 0.84
A21: DEPARTAMENTO ADMINISTRATIVO PARA LA PROSPERIDAD SOCIAL | C21: 0.15
A22: AGENCIA DE DESARROLLO RURAL | C22: 0.26
A23: EMPRESA DE RENOVACIÓN Y DESARROLLO URBANO DE BOGOTA D.C. | B23: Responsabilidad Civil Servidores Públicos | C23: 12.33 | D23: =+AVERAGE(C23:C26)*1.65 -> 13.5135 | E23: =C23 -> 12.33 | F23: =D23 -> 13.5135 | G23: %
A24: PERSONERIA DE BOGOTA D.C. | C24: 8.27
A25: DEPARTAMENTO ADMINISTRATIVO PARA LA PROSPERIDAD SOCIAL | C25: 8
A26: AGENCIA DE DESARROLLO RURAL | C26: 4.16
A27: EMPRESA DE RENOVACIÓN Y DESARROLLO URBANO DE BOGOTA D.C. | B27: Infidelidad y Riesgos Financieros | C27: 3.11 | D27: =+AVERAGE(C27:C29)*1.75 -> 5.0808333 | E27: =C27 -> 3.11 | F27: =D27 -> 5.0808333 | G27: %
A28: DEPARTAMENTO ADMINISTRATIVO PARA LA PROSPERIDAD SOCIAL | C28: 2.6
A29: AGENCIA DE DESARROLLO RURAL | C29: 3
A30: EMPRESA DE RENOVACIÓN Y DESARROLLO URBANO DE BOGOTA D.C. | B30: Vida Grupo | C30: 4.5 | D30: =+AVERAGE(C30:C33)*1.36 -> 6.4328 | E30: =C30 -> 4.5 | F30: =D30 -> 6.4328 | G30: %
A31: PERSONERIA DE BOGOTA D.C. | C31: 3.62
A32: UNIDAD NACIONAL DE PROTECCIÓN | C32: 5.67
A33: CAJA DE LA VIVIENDA POPULAR | C33: 5.13

Sheet ANEXO T.R.D.M.
D1: ANEXO DE BIENES POLIZA TODO RIESGO DAÑO MATERIAL
D3: DESCRIPCION | E3: VALOR ASEGURADO | F3: VALOR INDICE VARIABLE 5% | G3: VALOR TOTAL ASEGURADO
D4: GRUPO 1
D5: Contenidos | E5: 655121168 | F5: =E5*5% -> 32756058 | G5: =+F5+E5 -> 6.8787723e+08
D6: Equipo Eléctrico y Electrónico (incluido moviles y portatiles) | E6: 1833331858 | G6: =+F6+E6 -> 1833331858
D7: Dineros | E7: 15000000 | G7: =+F7+E7 -> 15000000
D8: Elementos de Consumo | E8: 0 | G8: =+F8+E8 -> 0
D9: Maquinaria y Equipo | E9: 15867381 | F9: =E9*5% -> 793369.05 | G9: =+F9+E9 -> 16660750
D10: Herramientas | E10: 198581025 | F10: =E10*5% -> 9929051.2 | G10: =+F10+E10 -> 2.0851008e+08
D11: Licencias y Software | E11: 1603367965 | G11: =+F11+E11 -> 1603367965
D12: SUBTOTALES TODO RIESGO DAÑOS MATERIALES (TASA %o) | E12: =SUM(E5:E11) -> 4321269397 | F12: =SUM(F5:F10) -> 43478479 | G12: =SUM(G5:G11) -> 4.3647479e+09

Sheet  REL VG
A1: EMPRESA DE RENOVACIÓN Y DESARROLLO URBANO DE BOGOTÁ D.C.
A2: RELACION ASEGURADOS VIDA GRUPO
A3: TRABAJADORES OFICIALES
A5: NOMBRE | B5: Número del documento de identificación | C5: Genero | D5: Fecha de nacimiento
A6: CARRILLO PACHECO YENNY | B6: 65551008 | C6: FEMENINO | D6: 24053
A7: CESPEDES AVILA MONICA MARIA | B7: 52420220 | C7: FEMENINO | D7: 28284
A8: CORRALES RODRIGUEZ CLAUDIA MARIA | B8: 51921921 | C8: FEMENINO | D8: 24869
A9: PEREZ DIAZ CARLOS ARTURO | B9: 19281461 | C9: MASCULINO | D9: 19660
A10: RAMIREZ SILVA LEOPOLDO | B10: 19370215 | C10: MASCULINO | D10: 21775
A11: SABOGAL MILLAN JIMENA HAYDEE | B11: 52429163 | C11: FEMENINO | D11: 28783
A12: RAMIREZ FONTECHA EDUARDO | B12: 79152329 | C12: MASCULINO | D12: 22308
A13: SUAREZ PEDRAZA HECTOR JAVIER | B13: 79964987 | C13: MASCULINO | D13: 28472
A14: ARBELAEZ GIRALDO DALIA ROCIO | B14: 51742487 | C14: FEMENINO | D14: 23416
A15: GAMEZ FUYER FRANCISCO ANTONIO | B15: 19372928 | C15: MASCULINO | D15: 20465
A16: HINCAPIE LÓPEZ LIBIA | B16: 42066163 | C16: FEMENINO | D16: 22376
A17: ROJAS TORRES LUIS ALBERTO | B17: 79308271 | C17: MASCULINO | D17: 23469
... A50: SEGURA TOCARA CLAUDIA MARIA | B50: 52704877 | C50: FEMENINO | D50: 29119
