Workbook
Name contratación: 'IDENTIFICACION Y ANALISIS'!$B$39:$B$43
Name ejecución: 'IDENTIFICACION Y ANALISIS'!$B$45:$B$68
Name OPCIONES: 'ASIGNACION Y TRATAMIENTO'!$B$43:$B$45
Name planeación: 'IDENTIFICACION Y ANALISIS'!$B$19:$B$29
Name selección: 'IDENTIFICACION Y ANALISIS'!$B$31:$B$37

Sheet IDENTIFICACION Y ANALISIS
C2: MATRIZ DE RIESGOS DE CONTRATACIÓN | F2: Código: GCO-GCI-F164 Versión: 02 Vigencia: 01 de diciembre de 2022 Caso HOLA: 280117
B6: DEFINICIONES
B7: RIESGO: Evento que puede generar efectos adversos y de distinta magnitud en el logro de los objetivos del Proceso de Contratación o en la ejecución de un contrato RIESGOS PREVISIBLES: Son los posibles hechos o circunstancias que por la naturaleza del contrato y de la actividad a ejecutar es factible su ocurrencia. ETAPA DE PLANEACIÓN: Está comprendida desde el momento en que se identifican las necesidades que debe satisfacer la Secretaría Distrital de Gobierno y los Fondos de Desarrollo Local, a través del abastecimiento de bienes, obras o servicios, la elaboración del Plan Anual de Adquisiciones y la estructuración de los documentos y estudios previos. ETAPA DE SELECCIÓN: Está comprendida entre el acto de Apertura del Proceso de Contratación y la Adjudicación o la declaración de desierto del Proceso de Contratación ETAPA DE CONTRATACIÓN: Una vez adjudicado el contrato objeto del Proceso de Contratación, inicia la etapa para la celebración del contrato y el cumplimiento de los requisitos para de perfeccionamiento y ejecución. ETAPA DE EJECUCIÓN: Inicia una vez cumplidos los requisitos previstos para iniciar la ejecución del contrato respectivo y termina con el vencimiento del plazo del contrato o la fecha de liquidación si hay lugar a ella. RIESGO GENERAL: Es un riesgo de todos los procesos de contratación adelantados por la Entidad Estatal, por lo cual está presente en toda su actividad contractual. RIEGO ESPECIFICO: Es un riesgo propio del proceso de contratación objeto de análisis. RIESGOS ECONÓMICOS: Son los derivados del comportamiento del mercado, tales como la fluctuación de los precios de los insumos, desabastecimiento y especulación de los mismos, entre otros. RIESGOS SOCIALES O POLÍTICOS: son los derivados de los cambios de las políticas gubernamentales y de cambios en las condiciones sociales que tengan impacto en la ejecución del contrato. RIESGOS OPERACIONALES: Son los asociados a la operatividad del contrato, tales como la suficiencia del presupuesto oficial, del plazo o los derivados de procesos, procedimientos, parámetros, sistemas de información y tecnológicos, equipos humanos o técnicos inadecuados o insuficientes. RIESGOS FINANCIEROS: Son (i) el riesgo de consecución de financiación o riesgo de liquidez para obtener recursos para cumplir con el objeto del contrato, y (ii) el riesgo de las condiciones financieras establecidas para la obtención de los recursos, tales como plazos, tasas, garantías, contragarantías, y refinanciaciones, entre otros. RIESGOS REGULATORIOS: Derivados de cambios regulatorios o reglamentarios que afecten la ecuación económica del contrato. RIESGOS DE LA NATURALEZA: Son los eventos naturales previsibles en los cuales no hay intervención humana que puedan tener impacto en la ejecución del contrato, por ejemplo los temblores, inundaciones, lluvias, sequías, entre otros. RIESGOS AMBIENTALES: Son los derivados de las obligaciones legales o reglamentarias de carácter ambiental, así como de las licencias, planes de manejo o de permisos y autorizaciones ambientales, incluyendo tasas retributivas y compensatorias, obligaciones de mitigación, tareas de monitoreo y control, entre otras. RIESGOS TECNOLÓGICOS: Son los derivados de fallas en los sistemas de comunicación de voz y de datos, suspensión de servicios públicos, nuevos desarrollos tecnológicos o estándares que deben ser tenidos en cuenta para la ejecución del contrato, obsolescencia tecnológica.
B15: INSTRUCCIONES PARA LA IDENTIFICACIÓN, ANALISIS, EVALUACIÓN , ASIGNACIÓN Y TRATAMIENTO DE RIESGOS EN LA CONTRATACIÓN
B16: 1) Identifique los riesgos previsibles que le apliquen al objeto contractual que se adelante. Los relacionados a continuación se establecen de manera general y como proforma. No obstante, si del objeto contractual se identifican otros riesgos diferentes a los aquí determinados, por favor reemplace el texto de la casilla teniendo en cuenta la etapa del proceso. Así mismo, seleccione la clase, fuente y el tipo (Operacional, Económico, Sociales o Políticos, Regulatorios, Financieros, Tecnológicos, De la naturaleza, Ambientales) 2) Continúe en la hoja de "EVALUACIÓN" (SI EXISTEN DUDAS CONCEPTUALES PARA LA ELABORACIÓN DE LA MATRIZ DE RIESGO CONSULTE EL MANUAL PARA LA IDENTIFICACIÓN Y COBERTURA DEL RIESGO EN LOS PROCESOS DE CONTRATACIÓN EXPEDIDO POR COLOMBIA COMPRA EFICIENTE Y LA GUÍA DE RIESGOS PREVISIBLES CONTRACTUALES, EXPEDIDA POR LA VEEDURÍA DISTRITAL)
C17: ETAPAS | D17: CLASE | E17: FUENTE | F17: TIPO
C18: PLANEACIÓN
B19: Inadecuada escogencia de la modalidad de contratación | F19: Operacionales
B20: Requisitos habilitantes inapropiados para el proceso de selección | F20: Operacionales
B21: Inadecuado análisis económico estimativo del valor del contrato | F21: Economicos
B22: Inadecuada descripción del bien o servicio requerido | F22: Operacionales
B23: Inadecuada elaboración de estudios y diseños | F23: Operacionales
B24: Requisitos habilitantes que impidan la selección objetiva | F24: Operacionales
B25: Falta de profundidad en el estudio de sector no identificandose claramente aspectos de oferta y demanda | F25: Economicos
B26: Ausencia de fundamentación de la justificación y conveniencia de la contratación | F26: Operacionales
B27: Inadecuada identificación de las condiciones contractuales | F27: Operacionales
B28: No aprobación o demoras en la expedición vigencias futuras | F28: Operacionales
B29: Apertura de procesos sin disponibilidad presupuestal | F29: Operacionales
C30: SELECCIÓN
B31: Inadecuada evaluación de las ofertas y/o verificación de requisitos habilitantes | F31: Operacionales
B32: Inadecuado manejo administrativo del proceso contractual | F32: Operacionales
B33: Falta de claridad en la elaboración de los actos administrativos | F33: Operacionales
B34: Contestación inoportuna a todas las observaciones formuladas a los documentos de la contratación | F34: Operacionales
B35: No publicación de la documentación del proceso de selección en el SECOP | F35: Operacionales
B36: Confabulacion de los proponentes (Colusión) | F36: Operacionales
B37: Selección de ofertas con precios artificialmente bajos. | F37: Operacionales
C38: CONTRATACIÓN
B39: Riesgo de que no se firme el contrato. | F39: Operacionales
B40: Falta de constitución o constitución tardía de la garantía única. Aceptación de garantías que no se ajustan a lo contemplado en el contrato | F40: Operacionales
B41: Falta de solicitud o solicitud tardía del registro presupuestal | F41: Operacionales
B42: No publicación de la documentación del proceso de selección en el SECOP | F42: Operacionales
B43: Presentación de reclamos de terceros sobre la selección del oferente que retrasen el perfeccionamiento del contrato. | F43: Operacionales
C44: EJECUCIÓN
B45: Fluctuaciones del valor de la moneda | F45: Economicos
B46: Cambio de precios en factores de producción. | F46: Economicos
B47: Variación de los precios del mercado | F47: Economicos
B48: Factores políticos o macroeconómicos. | F48: Sociales o Políticos
B49: Cancelación de pedidos. | F49: Economicos
B50: Variación en la disponibilidad o en el costo de los insumos necesarios para prestar los servicios. | F50: Economicos
B51: Incumplimiento de compromisos adquiridos por el contratista seleccionado con sus subcontratistas, suministradores de bienes y servicios. | F51: Economicos
...

Sheet EVALUACION
C2: MATRIZ DE RIESGOS DE CONTRATACIÓN | K2: Código: GCO-GCI-F164 Versión: 02 Vigencia: 01 de diciembre de 2022 Caso HOLA: 280117
B6: Objeto Contractual: CONTRATAR A MONTO AGOTABLE EL SERVICIO DE MANTENIMIENTO TÉCNICO PREVENTIVO Y CORRECTIVO, REPARACION Y SUMINISTRO DE REPUESTOS ORIGINALES PARA LOS VEHICULOS DE PROPIEDAD DEL FONDO DE DESARROLLO LOCAL DE ANTONIO NARIÑO Y TODOS AQUELLOS QUE LLEGASE A ADQUIRIR
B7: INSTRUCCIONES PARA LA IDENTIFICACIÓN, ANALISIS, EVALUACIÓN , ASIGNACIÓN Y TRATAMIENTO DE RIESGOS EN LA CONTRATACIÓN
B8: 1) Diligencie el objeto contractual y seleccione la(s) etapas y los riesgos que aplican al objeto contractual, de acuerdo a lo definido en la hoja de "IDENTIFICACIÓN Y ANÁLISIS"
B9: 2) Describa las consecuencias de la ocurrencia del Riesgo/evento.
B10: 3) Asigne la probabilidad de ocurrencia del riesgo, de conformidad con la tabla de probabilidad y la valoración del riesgo (Cualitativa o Monetaria)
B11: 4) Asigne el impacto que generaría la materialización del riesgo, de conformidad con la tabla de impacto y la valoración del riesgo (Cualitativa o Monetaria)
B12: 5) Al realizar las anteriores actividades se obtendrá la calificación total y la valoración del riesgo (prioridad).
B13: 6) Continúe en la hoja de "EVALUACIÓN DE CONTROLES"
B15: CALIFICACIÓN | H15: Cualitativa
B16: ETAPA | C16: Descripción (Que puede pasar y, cómo puede ocurrir) | H16: Consecuencias de la ocurrencia del evento | I16: Probabilidad de Ocurrencia | J16: Impacto | K16: Calificación Total | L16: Prioridad
B17: EJECUCIÓN | C17: Incumplimiento de la administración en los pagos. | H17: Perjuicios económicos a la entidad y retraso en la ejecución del contrato | I17: 2 | J17: 3 | K17: =I17+J17 -> 5 | L17: =IF(K17<=4,"BAJO",IF(K17=5,"MEDIO",IF(K17=6,"ALTO",IF(K17=7,"ALTO","EXTREMO")))) -> MEDIO
B18: EJECUCIÓN | C18: Cambio de precios en factores de producción. | H18: Retraso en la Operación de la maquinaria | I18: 2 | J18: 3 | K18: =+I18+J18 -> 5 | L18: =IF(K18<=4,"BAJO",IF(K18=5,"MEDIO",IF(K18=6,"ALTO",IF(K18=7,"ALTO","EXTREMO")))) -> MEDIO
B19: EJECUCIÓN | C19: Variación en la disponibilidad o en el costo de los insumos necesarios para prestar los servicios. | H19: Se deriva de los efectos provenientes de las variaciones de las tasas de interés, de cambio, devaluación real y otras variables del mercado, frente a las estimaciones iniciales del contratista, que pueden afectar las utilidades esperadas o generar perdida | I19: 2 | J19: 4 | K19: =+I19+J19 -> 6 | L19: =IF(K19<=4,"BAJO",IF(K19=5,"MEDIO",IF(K19=6,"ALTO",IF(K19=7,"ALTO","EXTREMO")))) -> ALTO
B20: EJECUCIÓN | C20: Factores políticos o macroeconómicos. | H20: Se refiere a los perjuicios o pérdida de los bienes a cargo del contratista, causados por disturbios violentos, actos terroristas, paros, huelgas y además que se impida alcanzar el objeto contractual. | I20: 1 | J20: 1 | K20: =+I20+J20 -> 2 | L20: =IF(K20<=4,"BAJO",IF(K20=5,"MEDIO",IF(K20=6,"ALTO",IF(K20=7,"ALTO","EXTREMO")))) -> BAJO
B21: EJECUCIÓN | C21: Incumplimiento de compromisos adquiridos por el contratista seleccionado con sus subcontratistas, suministradores de bienes y servicios. | H21: incumplimiento de normas ambientales y sanitarias | I21: 3 | J21: 2 | K21: =+I21+J21 -> 5 | L21: =IF(K21<=4,"BAJO",IF(K21=5,"MEDIO",IF(K21=6,"ALTO",IF(K21=7,"ALTO","EXTREMO")))) -> MEDIO
B22: EJECUCIÓN | C22: Incumplimiento de compromisos adquiridos por el contratista seleccionado con sus subcontratistas, suministradores de bienes y servicios. | H22: Se refiera a los daños que pueden ser causados en el transcurso de los mantenimientos en el taller | I22: 2 | J22: 3 | K22: =+I22+J22 -> 5 | L22: =IF(K22<=4,"BAJO",IF(K22=5,"MEDIO",IF(K22=6,"ALTO",IF(K22=7,"ALTO","EXTREMO")))) -> MEDIO
B23: EJECUCIÓN | C23: Incumplimiento de compromisos adquiridos por el contratista seleccionado con sus subcontratistas, suministradores de bienes y servicios. | H23: variación de los precios del mercado de insumos y mano de obra que puedan generar perdidas en la oferta economica para el contratista | I23: 2 | J23: 2 | K23: =+I23+J23 -> 4 | L23: =IF(K23<=4,"BAJO",IF(K23=5,"MEDIO",IF(K23=6,"ALTO",IF(K23=7,"ALTO","EXTREMO")))) -> BAJO
B24: EJECUCIÓN | C24: Variación en la disponibilidad o en el costo de los insumos necesarios para prestar los servicios. | H24: Exposicion de los vehiculos o maquinaria a situaciones externas por alto trafico en vias de entradas a los talleres | I24: 2 | J24: 3 | K24: =+I24+J24 -> 5 | L24: =IF(K24<=4,"BAJO",IF(K24=5,"MEDIO",IF(K24=6,"ALTO",IF(K24=7,"ALTO","EXTREMO")))) -> MEDIO
B25: EJECUCIÓN | C25: Factores políticos o macroeconómicos. | H25: Daños al ecosistema o medio ambienteque generen daños irreversibles | I25: 1 | J25: 2 | K25: =+I25+J25 -> 3 | L25: =IF(K25<=4,"BAJO",IF(K25=5,"MEDIO",IF(K25=6,"ALTO",IF(K25=7,"ALTO","EXTREMO")))) -> BAJO
B26: EJECUCIÓN | C26: Cambio de precios en factores de producción. | H26: Posibles accidentes en la ejecucion de los mantenimientos | I26: 2 | J26: 3 | K26: =+I26+J26 -> 5 | L26: =IF(K26<=4,"BAJO",IF(K26=5,"MEDIO",IF(K26=6,"ALTO",IF(K26=7,"ALTO","EXTREMO")))) -> MEDIO
B27: EJECUCIÓN | C27: Variación en la disponibilidad o en el costo de los insumos necesarios para prestar los servicios. | H27: Retraso en el mantenimiento correctivo del vehiculo o maquinaria, afectando el normal funcionamiento de la entidad en sus actividades programadas. | I27: 3 | J27: 3 | K27: =+I27+J27 -> 6 | L27: =IF(K27<=4,"BAJO",IF(K27=5,"MEDIO",IF(K27=6,"ALTO",IF(K27=7,"ALTO","EXTREMO")))) -> ALTO
B30: Probabilidad | C30: Catagoria | E30: Valoración | G30: Impacto | H30: Categoria | I30: Valoración
C31: Raro (puede ocurrir excepcionalmente) | E31: 1 | H31: Insignificante | I31: 1
C32: Improbable (puede ocurrir ocasionalmente) | E32: 2 | H32: Menor | I32: 2
C33: Posible (puede ocurrir en cualquier momento futuro) | E33: 3 | H33: Moderado | I33: 3
C34: Probable (probablemente va a ocurrir) | E34: 4 | H34: Mayor | I34: 4
C35: Casi cierto (ocurre en la mayoria de circunstancias) | E35: 5 | H35: Catastrófico | I35: 5
C37: Valoración del Riesgo
C38: Calificación Cualitativa | F38: Obstruye la ejecución del contrato de manera intrascendente. | G38: Dificulta la ejecución del contrato de manera baja, aplicando medidas mínimas se pueden lograr el objeto contractual | H38: Afecta la ejecución del contrato sin alterar el beneficio para las partes | I38: Obstruye la ejecución del contrato sustancialmente pero aun así permite la consecución del objeto contractual | K38: Perturba la ejecución del contrato de manera grave imposibilitando la consecución del objeto contractual.
C39: Calificación Monetaria | F39: Los sobrecostos no representan más del uno por ciento (1%) del valor del contrato. | G39: Los sobrecostos no representan más del cinco por ciento (5%) del valor del contrato. | H39: Genera un impacto sobre el valor del contrato entre el cinco (5%) y el quince por ciento (15%). | I39: Incrementa el valor del contrato entre el quince (15%) y el treinta por ciento (30%). | K39: Impacto sobre el valor del contrato en más del treinta por ciento (30%).
C40: Categoría | E40: Valoración | F40: Insignificante | G40: Menor | H40: Moderado | I40: Mayor | K40: Catastrófico
F41: 1 | G41: 2 | H41: 3 | I41: 4 | K41: 5
C42: Raro (puede ocurrir excepcionalmente) | E42: 1 | F42: 2 | G42: 3 | H42: 4 | I42: 5 | K42: 6
C43: Improbable (puede ocurrir ocasionalmente) | E43: 2 | F43: 3 | G43: 4 | H43: 5 | I43: 6 | K43: 7
C44: Posible (puede ocurrir en cualquier momento futuro) | E44: 3 | F44: 4 | G44: 5 | H44: 6 | I44: 7 | K44: 8
C45: Probable (probablemente va a ocurrir) | E45: 4 | F45: 5 | G45: 6 | H45: 7 | I45: 8 | K45: 9
C46: Casi cierto (ocurre en la mayoria de circunstancias) | E46: 5 | F46: 6 | G46: 7 | H46: 8 | I46: 9 | K46: 10
G48: Categoria del Riesgo
G49: Valoración del Riesgo | H49: Categoría
...

Sheet EVALUACION CON CONTROLES
C2: MATRIZ DE RIESGOS DE CONTRATACIÓN | Q2: Código: GCO-GCI-F164 Versión: 02 Vigencia: 01 de diciembre de 2022 Caso HOLA: 280117
B6: =+EVALUACION!B6 -> Objeto Contractual: CONTRATAR A MONTO AGOTABLE EL SERVICIO DE MANTENIMIENTO TÉCNICO PREVENTIVO Y CORRECTIVO, REPARACION Y SUMINISTRO DE REPUESTOS ORIGINALES PARA LOS VEHICULOS DE PROPIEDAD DEL FONDO DE DESARROLLO LOCAL DE ANTONIO NARIÑO Y TODOS AQUELLOS QUE LLEGASE A ADQUIRIR
B7: INSTRUCCIONES PARA LA IDENTIFICACIÓN, ANALISIS, EVALUACIÓN , ASIGNACIÓN Y TRATAMIENTO DE RIESGOS EN LA CONTRATACIÓN
B8: 1) Describa el tratamiento/controles a ser implementados
B9: 2) Diligencie la información de las siguientes columnas, de acuerdo con el análisis realizado a cada riesgo: Afecta el equilibrio económico, persona responsable de implementar el tratamiento, fecha estimada de inicio del tratamiento, fecha estimada en la que se completa el tratamiento, cómo se realiza el monitoreo y la periodicidad.
B10: 3) Continúe en la hoja de "ASIGNACIÓN Y TRATAMIENTO" y diligencie las siguientes casillas: A quien se le asigna y el porcentaje que asume cada una de las partes en caso de que sea compartido.
B15: ETAPA | C15: Descripción (Que puede pasar y, cómo puede ocurrir) | G15: Tratamiento/Controles a ser implementados | I15: Probabilidad de Ocurrencia | J15: Impacto | K15: Calificación Total | L15: Prioridad | M15: ¿Afecta el equilibrio económico del contrato? | N15: Persona responsable por implementar el tratamiento | O15: Fecha estimada en que se inicia el tratamiento | P15: Fecha estimada en que se completa el tratamiento | Q15: ¿Cómo se realiza el monitoreo? | R15: Periodicidad ¿Cuándo?
B16: =+EVALUACION!B17 -> EJECUCIÓN | C16: =+EVALUACION!C17 -> Incumplimiento de la administración en los pagos. | G16: Póliza pago de salarios, indemnizaciones y prestaciones sociales | I16: =+EVALUACION!I17 -> 2 | J16: =+EVALUACION!J17 -> 3 | K16: =+I16+J16 -> 5 | L16: =IF(K16<=4,"BAJO",IF(K16=5,"MEDIO",IF(K16=6,"ALTO",IF(K16=7,"ALTO","EXTREMO")))) -> MEDIO | M16: NO | N16: SUPERVISOR | O16: Una vez ocurra el siniestro | P16: ejecucion | Q16: Inspección por parte del supervisor | R16: Mensual
B17: =+EVALUACION!B18 -> EJECUCIÓN | C17: =+EVALUACION!C18 -> Cambio de precios en factores de producción. | G17: Poliza de cumplimiento | H17: Poliza de cumplimiento | I17: =+EVALUACION!I18 -> 2 | J17: =+EVALUACION!J18 -> 3 | K17: =+I17+J17 -> 5 | L17: =IF(K17<=4,"BAJO",IF(K17=5,"MEDIO",IF(K17=6,"ALTO",IF(K17=7,"ALTO","EXTREMO")))) -> MEDIO | M17: NO | N17: SUPERVISOR | O17: Una vez ocurra el siniestro | P17: ejecucion | Q17: Inspección por parte del supervisor | R17: Mensual
B18: =+EVALUACION!B19 -> EJECUCIÓN | C18: =+EVALUACION!C19 -> Variación en la disponibilidad o en el costo de los insumos necesarios para prestar los servicios. | G18: Evaluación de alternativas optimas, concertación y Planeación adecuada | H18: Evaluación de alternativas optimas, concertación y Planeación adecuada | I18: =+EVALUACION!I19 -> 2 | J18: =+EVALUACION!J19 -> 4 | K18: =+I18+J18 -> 6 | L18: =IF(K18<=4,"BAJO",IF(K18=5,"MEDIO",IF(K18=6,"ALTO",IF(K18=7,"ALTO","EXTREMO")))) -> ALTO | M18: Sí | N18: Contratista | O18: etapa de contratación y ejecución | P18: finalización de la etapa de ejecución | Q18: Verificación por parte de la supervisión | R18: Mensual
B19: =+EVALUACION!B20 -> EJECUCIÓN | C19: =+EVALUACION!C20 -> Factores políticos o macroeconómicos. | G19: Coordinar con las autoridades respectivas, el acompañamiento o verificación de las condiciones de orden público en las zonas de ejecución de las actividades del contrato. | H19: Coordinar con las autoridades respectivas, el acompañamiento o verificación de las condiciones de orden público en las zonas de ejecución de las actividades del contrato. | I19: =+EVALUACION!I20 -> 1 | J19: =+EVALUACION!J20 -> 1 | K19: =+I19+J19 -> 2 | L19: =IF(K19<=4,"BAJO",IF(K19=5,"MEDIO",IF(K19=6,"ALTO",IF(K19=7,"ALTO","EXTREMO")))) -> BAJO | M19: Sí | N19: Entidad Estatal/Contratista | O19: Etapa de contratación y ejecución | P19: Etapa de ejecución. | Q19: Verificación por parte del supervisor y el Coordinador del Convenio. | R19: Cada vez que se presente
B20: =+EVALUACION!B21 -> EJECUCIÓN | C20: =+EVALUACION!C21 -> Incumplimiento de compromisos adquiridos por el contratista seleccionado con sus subcontratistas, suministradores de bienes y servicios. | G20: Revisión y seguimiento en la fase contractual | H20: Revisión y seguimiento en la fase contractual | I20: =+EVALUACION!I21 -> 3 | J20: =+EVALUACION!J21 -> 2 | K20: =+I20+J20 -> 5 | L20: =IF(K20<=4,"BAJO",IF(K20=5,"MEDIO",IF(K20=6,"ALTO",IF(K20=7,"ALTO","EXTREMO")))) -> MEDIO | M20: Sí | N20: Contratista | O20: Inicio etapa de ejecución | P20: Finalización de la etapa de ejecucion | Q20: Verificación y seguimiento por parte del supervisor | R20: Mensualment e (con entrega de cada informe de ejecución)
B21: =+EVALUACION!B22 -> EJECUCIÓN | C21: =+EVALUACION!C22 -> Incumplimiento de compromisos adquiridos por el contratista seleccionado con sus subcontratistas, suministradores de bienes y servicios. | G21: Diligencimiento de formatos de entrega y recibo de vehiculos y maquinaria en el taller | H21: Diligencimiento de formatos de entrega y recibo de vehiculos y maquinaria en el taller | I21: =+EVALUACION!I22 -> 2 | J21: =+EVALUACION!J22 -> 3 | K21: =+I21+J21 -> 5 | L21: =IF(K21<=4,"BAJO",IF(K21=5,"MEDIO",IF(K21=6,"ALTO",IF(K21=7,"ALTO","EXTREMO")))) -> MEDIO | M21: no | N21: Entidad y contratista | O21: Inicio etapa de ejecución | P21: Finalización de la etapa de ejecucion | Q21: Verificación y seguimiento por parte del supervisor | R21: Mensualment e (con entrega de cada informe de ejecución)
B22: =+EVALUACION!B23 -> EJECUCIÓN | C22: =+EVALUACION!C23 -> Incumplimiento de compromisos adquiridos por el contratista seleccionado con sus subcontratistas, suministradores de bienes y servicios. | G22: control y verificacion de precios de la oferta economica propuesta | H22: control y verificacion de precios de la oferta economica propuesta | I22: =+EVALUACION!I23 -> 2 | J22: =+EVALUACION!J23 -> 2 | K22: =+I22+J22 -> 4 | L22: =IF(K22<=4,"BAJO",IF(K22=5,"MEDIO",IF(K22=6,"ALTO",IF(K22=7,"ALTO","EXTREMO")))) -> BAJO | M22: si | N22: Entidad y contratista | O22: Inicio etapa de ejecución | P22: Finalización de la etapa de ejecucion | Q22: Control continuo de la variacion de precios del mercado | R22: Mensualmente
B23: =+EVALUACION!B24 -> EJECUCIÓN | C23: =+EVALUACION!C24 -> Variación en la disponibilidad o en el costo de los insumos necesarios para prestar los servicios. | G23: Programacion de ingresos a taller en horario de no tanta afluencia de vehiculo en caso de poder ser programado | H23: Programacion de ingresos a taller en horario de no tanta afluencia de vehiculo en caso de poder ser programado | I23: =+EVALUACION!I24 -> 2 | J23: =+EVALUACION!J24 -> 3 | K23: =+I23+J23 -> 5 | L23: =IF(K23<=4,"BAJO",IF(K23=5,"MEDIO",IF(K23=6,"ALTO",IF(K23=7,"ALTO","EXTREMO")))) -> MEDIO | M23: no | N23: Contratista | O23: Inicio etapa de ejecución | P23: Finalización de la etapa de ejecucion | Q23: verificacion de entrega y recibos de vehiculos en el taller | R23: Mensualmente
B24: =+EVALUACION!B25 -> EJECUCIÓN | C24: =+EVALUACION!C25 -> Factores políticos o macroeconómicos. | G24: Revision continua de certificacion de disposicion final de residuos y baterias, control de residuos solidos y liquidos | H24: Revision continua de certificacion de disposicion final de residuos y baterias, control de residuos solidos y liquidos | I24: =+EVALUACION!I25 -> 1 | J24: =+EVALUACION!J25 -> 2 | K24: =+I24+J24 -> 3 | L24: =IF(K24<=4,"BAJO",IF(K24=5,"MEDIO",IF(K24=6,"ALTO",IF(K24=7,"ALTO","EXTREMO")))) -> BAJO | M24: no | N24: entidad | O24: Inicio etapa de ejecución | P24: Finalización de la etapa de ejecucion | Q24: entrega de certificaciones actualizados de disposicion finales de residuos solidos , liquidos, disposicion de gases y baterias | R24: Mensualmente
B25: =+EVALUACION!B26 -> EJECUCIÓN | C25: =+EVALUACION!C26 -> Cambio de precios en factores de producción. | G25: revision y visitas continuas a los talleres donde se ejecutaran los trabajos de mantenimiento | H25: revision y visitas continuas a los talleres donde se ejecutaran los trabajos de mantenimiento | I25: =+EVALUACION!I26 -> 2 | J25: =+EVALUACION!J26 -> 3 | K25: =+I25+J25 -> 5 | L25: =IF(K25<=4,"BAJO",IF(K25=5,"MEDIO",IF(K25=6,"ALTO",IF(K25=7,"ALTO","EXTREMO")))) -> MEDIO | M25: si | N25: contratista y entidad | O25: Inicio etapa de ejecución | P25: Finalización de la etapa de ejecucion | Q25: revision de camaras del circuito cerrado de television existente en taller contratista | R25: Mensualmente
B26: =+EVALUACION!B27 -> EJECUCIÓN | C26: =+EVALUACION!C27 -> Variación en la disponibilidad o en el costo de los insumos necesarios para prestar los servicios. | G26: Constitución de poliza de garantia de calidad de servicios | H26: Constitución de poliza de garantia de calidad de servicios | I26: =+EVALUACION!I27 -> 3 | J26: =+EVALUACION!J27 -> 3 | K26: =+I26+J26 -> 6 | L26: =IF(K26<=4,"BAJO",IF(K26=5,"MEDIO",IF(K26=6,"ALTO",IF(K26=7,"ALTO","EXTREMO")))) -> ALTO | M26: si | N26: contratista y entidad | O26: Inicio etapa de ejecución | P26: Finalización de la etapa de ejecucion | Q26: Verificación por parte del apoyo a la supervisión | R26: Mensualmente
C28: Categoria del Riesgo | H28: Impacto del Riesgo
B29: Probabilidad | C29: Catagoria | F29: Valoración | H29: Categoria | J29: Valoración | N29: Categoria del Riesgo
C30: Raro (puede ocurrir excepcionalmente) | F30: 1 | H30: Insignificante | J30: 1 | N30: Valoración del Riesgo | P30: Categoría
C31: Improbable (puede ocurrir ocasionalmente) | F31: 2 | H31: Menor | J31: 2 | N31: 8, 9 y 10 | P31: Riesgo extremo
C32: Posible (puede ocurrir en cualquier momento futuro) | F32: 3 | H32: Moderado | J32: 3 | N32: 6 y 7 | P32: Riesgo alto
C33: Probable (probablemente va a ocurrir) | F33: 4 | H33: Mayor | J33: 4 | N33: 5 | P33: Riesgo medio
C34: Casi cierto (ocurre en la mayoria de circunstancias) | F34: 5 | H34: Catastrófico | J34: 5 | N34: 2, 3 y 4 | P34: Riesgo bajo
C36: Valoración del Riesgo
C37: Calificación Cualitativa | G37: Obstruye la ejecución del contrato de manera intrascendente. | I37: Dificulta la ejecución del contrato de manera baja, aplicando medidas mínimas se pueden lograr el objeto contractual | L37: Afecta la ejecución del contrato sin alterar el beneficio para las partes | N37: Obstruye la ejecución del contrato sustancialmente pero aun así permite la consecución del objeto contractual | P37: Perturba la ejecución del contrato de manera grave imposibilitando la consecución del objeto contractual.
C38: Calificación Monetaria | G38: Los sobrecostos no representan más del uno por ciento (1%) del valor del contrato. | I38: Los sobrecostos no representan más del cinco por ciento (5%) del valor del contrato. | L38: Genera un impacto sobre el valor del contrato entre el cinco (5%) y el quince por ciento (15%). | N38: Incrementa el valor del contrato entre el quince (15%) y el treinta por ciento (30%). | P38: Impacto sobre el valor del contrato en más del treinta por ciento (30%).
C39: Catagoria | F39: Valoración | G39: Insignificante | I39: Menor | L39: Moderado | N39: Mayor | P39: Catastrófico
G40: 1 | I40: 2 | L40: 3 | N40: 4 | P40: 5
C41: Raro (puede ocurrir excepcionalmente) | F41: 1 | G41: 2 | I41: 3 | L41: 4 | N41: 5 | P41: 6
C42: Improbable (puede ocurrir ocasionalmente) | F42: 2 | G42: 3 | I42: 4 | L42: 5 | N42: 6 | P42: 7
C43: Posible (puede ocurrir en cualquier momento futuro) | F43: 3 | G43: 4 | I43: 5 | L43: 6 | N43: 7 | P43: 8
C44: Probable (probablemente va a ocurrir) | F44: 4 | G44: 5 | I44: 6 | L44: 7 | N44: 8 | P44: 9
C45: Casi cierto (ocurre en la mayoria de circunstancias) | F45: 5 | G45: 6 | I45: 7 | L45: 8 | N45: 9 | P45: 10

Sheet ASIGNACION Y TRATAMIENTO
C2: MATRIZ DE RIESGOS DE CONTRATACIÓN | W2: Código: GCO-GCI-F164 Versión: 02 Vigencia: 01 de diciembre de 2022 Caso HOLA: 280117
B6: CONTRATAR EL MANTENIMIENTO PREVENTIVO Y CORRECTIVO A PRECIOS UNITARIOS Y MONTO AGOTABLE DE LOS VEHICULOS DE PROPIEDAD DEL FONDO DE DESARROLLO LOCAL DE ANTONIO NARIÑO
B7: Esta matriz es un documento anexo del Estudio Previo
B10: No | C10: Descripción (Que puede pasar y, cómo puede ocurrir) | D10: Etapa | E10: Clase | F10: Fuente | G10: Consecuencias de la ocurrencia del evento | H10: Probabilidad | I10: Impacto | J10: Calificación total | K10: Prioridad | L10: ¿A quien se le asigna? | M10: % | N10: Tratamiento/Controles a ser implementados | O10: Probabilidad | P10: Impacto | Q10: Calificación total | R10: Prioridad | S10: ¿Afecta el equilibrio económico del contrato? | T10: Persona responsable por implementar el tratamiento | U10: Fecha estimada en que se inicia el tratamiento | V10: Fecha estimada en que se completa el tratamiento | W10: ¿Cómo se realiza el monitoreo | X10: Periodicidad ¿Cuándo?
B11: 1 | C11: =+'EVALUACION CON CONTROLES'!C16:F16 -> Incumplimiento de la administración en los pagos. | D11: =+'EVALUACION CON CONTROLES'!B16 -> EJECUCIÓN | E11: GENERAL | F11: EXTERNO | G11: =+EVALUACION!H17 -> Perjuicios económicos a la entidad y retraso en la ejecución del contrato | H11: =+EVALUACION!I17 -> 2 | I11: =+EVALUACION!J17 -> 3 | J11: =+EVALUACION!K17 -> 5 | K11: =+EVALUACION!L17 -> MEDIO | L11: CONTRATISTA | M11: 1 | N11: =+'EVALUACION CON CONTROLES'!G16 -> Póliza pago de salarios, indemnizaciones y prestaciones sociales | O11: =+'EVALUACION CON CONTROLES'!I16 -> 2 | P11: =+'EVALUACION CON CONTROLES'!J16 -> 3 | Q11: =+'EVALUACION CON CONTROLES'!K16 -> 5 | R11: =+'EVALUACION CON CONTROLES'!L16 -> MEDIO | S11: =+'EVALUACION CON CONTROLES'!M16 -> NO | T11: =+'EVALUACION CON CONTROLES'!N16 -> SUPERVISOR | U11: =+'EVALUACION CON CONTROLES'!O16 -> Una vez ocurra el siniestro | V11: =+'EVALUACION CON CONTROLES'!P16 -> ejecucion | ... X11: =+'EVALUACION CON CONTROLES'!R16 -> Mensual
B12: 2 | C12: =+'EVALUACION CON CONTROLES'!C17:F17 -> Cambio de precios en factores de producción. | D12: =+'EVALUACION CON CONTROLES'!B17 -> EJECUCIÓN | E12: GENERAL | F12: EXTERNO | G12: =+EVALUACION!H18 -> Retraso en la Operación de la maquinaria | H12: =+EVALUACION!I18 -> 2 | I12: =+EVALUACION!J18 -> 3 | J12: =+EVALUACION!K18 -> 5 | K12: =+EVALUACION!L18 -> MEDIO | L12: CONTRATISTA | M12: 1 | N12: =+'EVALUACION CON CONTROLES'!G17 -> Poliza de cumplimiento | O12: =+'EVALUACION CON CONTROLES'!I17 -> 2 | P12: =+'EVALUACION CON CONTROLES'!J17 -> 3 | Q12: =+'EVALUACION CON CONTROLES'!K17 -> 5 | R12: =+'EVALUACION CON CONTROLES'!L17 -> MEDIO | S12: =+'EVALUACION CON CONTROLES'!M17 -> NO | T12: =+'EVALUACION CON CONTROLES'!N17 -> SUPERVISOR | U12: =+'EVALUACION CON CONTROLES'!O17 -> Una vez ocurra el siniestro | V12: =+'EVALUACION CON CONTROLES'!P17 -> ejecucion | ... X12: =+'EVALUACION CON CONTROLES'!R17 -> Mensual
B13: 3 | C13: =+'EVALUACION CON CONTROLES'!C18:F18 -> Variación en la disponibilidad o en el costo de los insumos necesarios para prestar los servicios. | D13: =+'EVALUACION CON CONTROLES'!B18 -> EJECUCIÓN | E13: Especifico | F13: Externa | G13: =+EVALUACION!H19 -> Se deriva de los efectos provenientes de las variaciones de las tasas de interés, de cambio, devaluación real y otras variables del mercado, frente a las estimaciones iniciales del contratista, que pueden afectar las utilidades esperadas o generar perdida | H13: =+EVALUACION!I19 -> 2 | I13: =+EVALUACION!J19 -> 4 | J13: =+EVALUACION!K19 -> 6 | K13: =+EVALUACION!L19 -> ALTO | L13: CONTRATISTA | M13: 1 | N13: =+'EVALUACION CON CONTROLES'!G18 -> Evaluación de alternativas optimas, concertación y Planeación adecuada | O13: =+'EVALUACION CON CONTROLES'!I18 -> 2 | P13: =+'EVALUACION CON CONTROLES'!J18 -> 4 | Q13: =+'EVALUACION CON CONTROLES'!K18 -> 6 | R13: =+'EVALUACION CON CONTROLES'!L18 -> ALTO | S13: =+'EVALUACION CON CONTROLES'!M18 -> Sí | T13: =+'EVALUACION CON CONTROLES'!N18 -> Contratista | U13: =+'EVALUACION CON CONTROLES'!O18 -> etapa de contratación y ejecución | V13: =+'EVALUACION CON CONTROLES'!P18 -> finalización de la etapa de ejecución | ... X13: =+'EVALUACION CON CONTROLES'!R18 -> Mensual
B14: 4 | C14: =+'EVALUACION CON CONTROLES'!C19:F19 -> Factores políticos o macroeconómicos. | D14: =+'EVALUACION CON CONTROLES'!B19 -> EJECUCIÓN | E14: General | F14: Interno- Externo | G14: =+EVALUACION!H20 -> Se refiere a los perjuicios o pérdida de los bienes a cargo del contratista, causados por disturbios violentos, actos terroristas, paros, huelgas y además que se impida alcanzar el objeto contractual. | H14: =+EVALUACION!I20 -> 1 | I14: =+EVALUACION!J20 -> 1 | J14: =+EVALUACION!K20 -> 2 | K14: =+EVALUACION!L20 -> BAJO | L14: CONTRATISTA | M14: 1 | N14: =+'EVALUACION CON CONTROLES'!G19 -> Coordinar con las autoridades respectivas, el acompañamiento o verificación de las condiciones de orden público en las zonas de ejecución de las actividades del contrato. | O14: =+'EVALUACION CON CONTROLES'!I19 -> 1 | P14: =+'EVALUACION CON CONTROLES'!J19 -> 1 | Q14: =+'EVALUACION CON CONTROLES'!K19 -> 2 | R14: =+'EVALUACION CON CONTROLES'!L19 -> BAJO | S14: =+'EVALUACION CON CONTROLES'!M19 -> Sí | T14: =+'EVALUACION CON CONTROLES'!N19 -> Entidad Estatal/Contratista | U14: =+'EVALUACION CON CONTROLES'!O19 -> Etapa de contratación y ejecución | V14: =+'EVALUACION CON CONTROLES'!P19 -> Etapa de ejecución. | ... X14: =+'EVALUACION CON CONTROLES'!R19 -> Cada vez que se presente
B15: 5 | C15: =+'EVALUACION CON CONTROLES'!C20:F20 -> Incumplimiento de compromisos adquiridos por el contratista seleccionado con sus subcontratistas, suministradores de bienes y servicios. | D15: =+'EVALUACION CON CONTROLES'!B20 -> EJECUCIÓN | E15: Especifico | F15: Externo | G15: =+EVALUACION!H21 -> incumplimiento de normas ambientales y sanitarias | H15: =+EVALUACION!I21 -> 3 | I15: =+EVALUACION!J21 -> 2 | J15: =+EVALUACION!K21 -> 5 | K15: =+EVALUACION!L21 -> MEDIO | L15: CONTRATISTA | M15: 1 | N15: =+'EVALUACION CON CONTROLES'!G20 -> Revisión y seguimiento en la fase contractual | O15: =+'EVALUACION CON CONTROLES'!I20 -> 3 | P15: =+'EVALUACION CON CONTROLES'!J20 -> 2 | Q15: =+'EVALUACION CON CONTROLES'!K20 -> 5 | R15: =+'EVALUACION CON CONTROLES'!L20 -> MEDIO | S15: =+'EVALUACION CON CONTROLES'!M20 -> Sí | T15: =+'EVALUACION CON CONTROLES'!N20 -> Contratista | U15: =+'EVALUACION CON CONTROLES'!O20 -> Inicio etapa de ejecución | V15: =+'EVALUACION CON CONTROLES'!P20 -> Finalización de la etapa de ejecucion | ... X15: =+'EVALUACION CON CONTROLES'!R20 -> Mensualment e (con entrega de cada informe de ejecución)
B16: 6 | C16: =+'EVALUACION CON CONTROLES'!C21:F21 -> Incumplimiento de compromisos adquiridos por el contratista seleccionado con sus subcontratistas, suministradores de bienes y servicios. | D16: =+'EVALUACION CON CONTROLES'!B21 -> EJECUCIÓN | E16: Especifico | F16: externo | G16: =+EVALUACION!H22 -> Se refiera a los daños que pueden ser causados en el transcurso de los mantenimientos en el taller | H16: =+EVALUACION!I22 -> 2 | I16: =+EVALUACION!J22 -> 3 | J16: =+EVALUACION!K22 -> 5 | K16: =+EVALUACION!L22 -> MEDIO | L16: CONTRATISTA | M16: 1 | N16: =+'EVALUACION CON CONTROLES'!G21 -> Diligencimiento de formatos de entrega y recibo de vehiculos y maquinaria en el taller | O16: =+'EVALUACION CON CONTROLES'!I21 -> 2 | P16: =+'EVALUACION CON CONTROLES'!J21 -> 3 | Q16: =+'EVALUACION CON CONTROLES'!K21 -> 5 | R16: =+'EVALUACION CON CONTROLES'!L21 -> MEDIO | S16: =+'EVALUACION CON CONTROLES'!M21 -> no | T16: =+'EVALUACION CON CONTROLES'!N21 -> Entidad y contratista | U16: =+'EVALUACION CON CONTROLES'!O21 -> Inicio etapa de ejecución | V16: =+'EVALUACION CON CONTROLES'!P21 -> Finalización de la etapa de ejecucion | ... X16: =+'EVALUACION CON CONTROLES'!R21 -> Mensualment e (con entrega de cada informe de ejecución)
B17: 7 | C17: =+'EVALUACION CON CONTROLES'!C22:F22 -> Incumplimiento de compromisos adquiridos por el contratista seleccionado con sus subcontratistas, suministradores de bienes y servicios. | D17: =+'EVALUACION CON CONTROLES'!B22 -> EJECUCIÓN | E17: Especifico | F17: externo | G17: =+EVALUACION!H23 -> variación de los precios del mercado de insumos y mano de obra que puedan generar perdidas en la oferta economica para el contratista | H17: =+EVALUACION!I23 -> 2 | I17: =+EVALUACION!J23 -> 2 | J17: =+EVALUACION!K23 -> 4 | K17: =+EVALUACION!L23 -> BAJO | L17: CONTRATISTA | M17: 1 | N17: =+'EVALUACION CON CONTROLES'!G22 -> control y verificacion de precios de la oferta economica propuesta | O17: =+'EVALUACION CON CONTROLES'!I22 -> 2 | P17: =+'EVALUACION CON CONTROLES'!J22 -> 2 | Q17: =+'EVALUACION CON CONTROLES'!K22 -> 4 | R17: =+'EVALUACION CON CONTROLES'!L22 -> BAJO | S17: =+'EVALUACION CON CONTROLES'!M22 -> si | T17: =+'EVALUACION CON CONTROLES'!N22 -> Entidad y contratista | U17: =+'EVALUACION CON CONTROLES'!O22 -> Inicio etapa de ejecución | V17: =+'EVALUACION CON CONTROLES'!P22 -> Finalización de la etapa de ejecucion | ... X17: =+'EVALUACION CON CONTROLES'!R22 -> Mensualmente
B18: 8 | C18: =+'EVALUACION CON CONTROLES'!C23:F23 -> Variación en la disponibilidad o en el costo de los insumos necesarios para prestar los servicios. | D18: =+'EVALUACION CON CONTROLES'!B23 -> EJECUCIÓN | E18: Especifico | F18: externo | G18: =+EVALUACION!H24 -> Exposicion de los vehiculos o maquinaria a situaciones externas por alto trafico en vias de entradas a los talleres | H18: =+EVALUACION!I24 -> 2 | I18: =+EVALUACION!J24 -> 3 | J18: =+EVALUACION!K24 -> 5 | K18: =+EVALUACION!L24 -> MEDIO | L18: CONTRATISTA | M18: 1 | N18: =+'EVALUACION CON CONTROLES'!G23 -> Programacion de ingresos a taller en horario de no tanta afluencia de vehiculo en caso de poder ser programado | O18: =+'EVALUACION CON CONTROLES'!I23 -> 2 | P18: =+'EVALUACION CON CONTROLES'!J23 -> 3 | Q18: =+'EVALUACION CON CONTROLES'!K23 -> 5 | R18: =+'EVALUACION CON CONTROLES'!L23 -> MEDIO | S18: =+'EVALUACION CON CONTROLES'!M23 -> no | T18: =+'EVALUACION CON CONTROLES'!N23 -> Contratista | U18: =+'EVALUACION CON CONTROLES'!O23 -> Inicio etapa de ejecución | V18: =+'EVALUACION CON CONTROLES'!P23 -> Finalización de la etapa de ejecucion | ... X18: =+'EVALUACION CON CONTROLES'!R23 -> Mensualmente
B19: 9 | C19: =+'EVALUACION CON CONTROLES'!C24:F24 -> Factores políticos o macroeconómicos. | D19: =+'EVALUACION CON CONTROLES'!B24 -> EJECUCIÓN | E19: Especifico | F19: externo | G19: =+EVALUACION!H25 -> Daños al ecosistema o medio ambienteque generen daños irreversibles | H19: =+EVALUACION!I25 -> 1 | I19: =+EVALUACION!J25 -> 2 | J19: =+EVALUACION!K25 -> 3 | K19: =+EVALUACION!L25 -> BAJO | L19: CONTRATISTA | M19: 1 | N19: =+'EVALUACION CON CONTROLES'!G24 -> Revision continua de certificacion de disposicion final de residuos y baterias, control de residuos solidos y liquidos | O19: =+'EVALUACION CON CONTROLES'!I24 -> 1 | P19: =+'EVALUACION CON CONTROLES'!J24 -> 2 | Q19: =+'EVALUACION CON CONTROLES'!K24 -> 3 | R19: =+'EVALUACION CON CONTROLES'!L24 -> BAJO | S19: =+'EVALUACION CON CONTROLES'!M24 -> no | T19: =+'EVALUACION CON CONTROLES'!N24 -> entidad | U19: =+'EVALUACION CON CONTROLES'!O24 -> Inicio etapa de ejecución | V19: =+'EVALUACION CON CONTROLES'!P24 -> Finalización de la etapa de ejecucion | ... X19: =+'EVALUACION CON CONTROLES'!R24 -> Mensualmente
B20: 10 | C20: =+'EVALUACION CON CONTROLES'!C25:F25 -> Cambio de precios en factores de producción. | D20: =+'EVALUACION CON CONTROLES'!B25 -> EJECUCIÓN | E20: Especifico | F20: externo | G20: =+EVALUACION!H26 -> Posibles accidentes en la ejecucion de los mantenimientos | H20: =+EVALUACION!I26 -> 2 | I20: =+EVALUACION!J26 -> 3 | J20: =+EVALUACION!K26 -> 5 | K20: =+EVALUACION!L26 -> MEDIO | L20: CONTRATISTA | M20: 1 | N20: =+'EVALUACION CON CONTROLES'!G25 -> revision y visitas continuas a los talleres donde se ejecutaran los trabajos de mantenimiento | O20: =+'EVALUACION CON CONTROLES'!I25 -> 2 | P20: =+'EVALUACION CON CONTROLES'!J25 -> 3 | Q20: =+'EVALUACION CON CONTROLES'!K25 -> 5 | R20: =+'EVALUACION CON CONTROLES'!L25 -> MEDIO | S20: =+'EVALUACION CON CONTROLES'!M25 -> si | T20: =+'EVALUACION CON CONTROLES'!N25 -> contratista y entidad | U20: =+'EVALUACION CON CONTROLES'!O25 -> Inicio etapa de ejecución | V20: =+'EVALUACION CON CONTROLES'!P25 -> Finalización de la etapa de ejecucion | ... X20: =+'EVALUACION CON CONTROLES'!R25 -> Mensualmente
B21: 11 | C21: =+'EVALUACION CON CONTROLES'!C26:F26 -> Variación en la disponibilidad o en el costo de los insumos necesarios para prestar los servicios. | D21: =+'EVALUACION CON CONTROLES'!B26 -> EJECUCIÓN | E21: Especifico | F21: externo | G21: =+EVALUACION!H27 -> Retraso en el mantenimiento correctivo del vehiculo o maquinaria, afectando el normal funcionamiento de la entidad en sus actividades programadas. | H21: =+EVALUACION!I27 -> 3 | I21: =+EVALUACION!J27 -> 3 | J21: =+EVALUACION!K27 -> 6 | K21: =+EVALUACION!L27 -> ALTO | L21: CONTRATISTA | M21: 1 | N21: =+'EVALUACION CON CONTROLES'!G26 -> Constitución de poliza de garantia de calidad de servicios | O21: =+'EVALUACION CON CONTROLES'!I26 -> 3 | P21: =+'EVALUACION CON CONTROLES'!J26 -> 3 | Q21: =+'EVALUACION CON CONTROLES'!K26 -> 6 | R21: =+'EVALUACION CON CONTROLES'!L26 -> ALTO | S21: =+'EVALUACION CON CONTROLES'!M26 -> si | T21: =+'EVALUACION CON CONTROLES'!N26 -> contratista y entidad | U21: =+'EVALUACION CON CONTROLES'!O26 -> Inicio etapa de ejecución | V21: =+'EVALUACION CON CONTROLES'!P26 -> Finalización de la etapa de ejecucion | ... X21: =+'EVALUACION CON CONTROLES'!R26 -> Mensualmente
F23: Categoria | J23: Impacto del Riesgo
E24: Probabilidad | F24: Catagoria | G24: Valoración | J24: Categoria | L24: Valoración
F25: Raro (puede ocurrir excepcionalmente) | G25: 1 | J25: Insignificante | L25: 1
F26: Improbable (puede ocurrir ocasionalmente) | G26: 2 | J26: Menor | L26: 2
F27: Posible (puede ocurrir en cualquier momento futuro) | G27: 3 | J27: Moderado | L27: 3
F28: Probable (probablemente va a ocurrir) | G28: 4 | J28: Mayor | L28: 4
F29: Casi cierto (ocurre en la mayoria de circunstancias) | G29: 5 | J29: Catastrófico | L29: 5
D31: Valoración del Riesgo
D32: Catagoria | E32: Valoración | F32: Insignificante | H32: Menor | J32: Moderado | K32: Mayor | L32: Catastrófico | P32: Categoria del Riesgo
F33: 1 | H33: 2 | J33: 3 | K33: 4 | L33: 5 | P33: Valoración del Riesgo | S33: Categoría
D34: Raro (puede ocurrir excepcionalmente) | E34: 1 | F34: 2 | H34: 3 | J34: 4 | K34: 5 | L34: 6 | P34: 8, 9 y 10 | S34: Riesgo extremo
D35: Improbable (puede ocurrir ocasionalmente) | E35: 2 | F35: 3 | H35: 4 | J35: 5 | K35: 6 | L35: 7 | P35: 6 y 7 | S35: Riesgo alto
D36: Posible (puede ocurrir en cualquier momento futuro) | E36: 3 | F36: 4 | H36: 5 | J36: 6 | K36: 7 | L36: 8 | P36: 5 | S36: Riesgo medio
D37: Probable (probablemente va a ocurrir) | E37: 4 | F37: 5 | H37: 6 | J37: 7 | K37: 8 | L37: 9 | P37: 2, 3 y 4 | S37: Riesgo bajo
D38: Casi cierto (ocurre en la mayoria de circunstancias) | E38: 5 | F38: 6 | H38: 7 | J38: 8 | K38: 9 | L38: 10
B43: CONTRATISTA
B44: SDG
B45: CONTRATISTA Y SDG
