Workbook
Name Excel_BuiltIn__FilterDatabase: COLUMNA!$B$8:$I$159
Name GH: #REF!
Name GH: 'TRAUMA BASICO'!$E$9
Name PROVEEDORES: #REF!
Name PROVEEDORES: #REF!

Sheet DESGLOSADO
A1: GRUPO COLUMNA
A2: 1. SISTEMA DE FIJACION PARA COLUMNA CERVICAL ANTERIOR INCLUIR : Cuerpo Vertebral Cervical, Soporte Anterior Cervical (Peek) Caja ACI, Soporte Anterior Cervical (Peek) Caja-placa ACIF
A3: 1.1 Kit de Fijacion Para Columna Cervical Anterior
A4: 2. SISTEMA DE FIJACION PARA COLUMNA CERVICAL POSTERIOR INCLUIR:
A5: 2.1. Kit de Fijacion Occipito Cervical - Kit de Fijacion Cervico Toracico
A6: 3. SISTEMA PARA ESCOLIOSIS Y DEFORMIDADES
A7: 3.1. Kit Transpedicular de Reducción para Derotación en Bloque para Escoliosis Adultos y Neuromusculares
A8: 3.2. Kit Transpedicular para Escoliosis Pediatricas
A9: 3.3. Kit para Correción de Deformidades de Columna Toraco- Lumbar con Desrotadores y Bajo Perfil con Barras en Titanio y Cromocobalto para Niños y Adultos
A10: 3.4. Monitoreo Intraoperatorio Electromiografia y Potenciales Evocados Motores y Sensitivos con Fisiatra en Salas
A11: 4. SISTEMA TRANSPEDICULAR PARA FIJACION TORACO-LUMBO-SACRA INCLUIR
A12: 4.1. Kit 1 Nivel Transpediculares Sacroiliacas
... A301: 8.3 Kit Fijador Circular de Antebrazo. Sistema de Agujas de 1.5 a 1.8 con Oliva y sin Oliva. Medios Aros, Cabezal Estatico y Tensor. Barras Roscadas Set

Sheet OBSERVACIONES APOYO TECNOLOGICO
B2: PARA TENER EN CUENTA EN LAS PROPUESTAS EL APOYO TECNICO APLICA DE ACUERDO AL SISTEMA QUE OFERTE
B3: MEDICINA DEPORTIVA | C3: TENER DISPONIBILIDAD DE APOYO TECNOLOGICO- TORRE DE ARTROSCOPIA, EQUIPO DE ARTROSCOPIA COMPLETO, SISTEMA DE TRACCION PARA LA MUÑECA - CADERA - HOMBRO, LENTE DE ARTROSCOPIA MANO 1.9 Y 2.5 , LENTE DE ARTROSCOPIA PARA RODILLA, HOMBRO, CADERA, PIE Y TEMPOROMANDIBULAR, LENTE PARA COLUMNA 30° DE 150MM A 200MM, CONSOLA SHAYVER, CONSOLA RADIOFRECUENCIA, MOTOR DE ALTA VELOCIDAD ATACHMENT DE 50 A 300 MM , EQUIPO ULTRASONICO DE COLUMNA PARA EL USO DE FRESAS Y CUCHILLAS TODOS LOS EQUIPOS DE ACUERDO A LA NECESIDAD DE LA SUBRED SIN GENERAR COSTO ADICIONAL (COBRO DE LOS ELEMENTOS DE CONSUMO).
B4: SISTEMAS DE REEMPLAZOS ARTICULARES, SISTEMAS DINAMICOS DE CADERA, SISTEMAS INTRAMEDULARES, SISTEMA DE COLUMNA. | C4: SEPARADORES ESPECIALES DE COLUMNA Y CADERA, MOTORES, SIERRAS E INSTRUMENTAL NECESARIO REQUERIDOS PARA LA IMPLANTACION DEL MATERIAL
B5: PARA TODO EL MATERIAL DE OSTEOSINTESIS | C5: DEBERA CONTAR CON BROCAS, TARRAJAS Y TODO EL INSTRUMENTAL REQUERIDO PARA LA FIJACION DEL MATERIAL DE OSTEOSINTESIS, MOTORES DISPONIBLES EN SISTEMAS NEUMATICOS, DE BATERIA Y/O ELECTRICO CON TORQUE, POTENCIA, DISEÑO ERGONOMICO Y TAMAÑO DE ACUERDO AL PROCEDIMIENTO QUIRURGICO A REALIZAR, LOS CUALES DEBERAN SER INCLUIDOS CON LAS SOLICITUDES DE MATERIAL DE OSTEOSINTESIS Y CON POSIBILIDAD DE MANTENER EN STOCK DE ACUERDO A LAS NECESIDADES. SUMINISTRAR EL INSTRUMENTAL NECESARIO PARA EL RETIRO DEL MISMO ( SET DE TORNILLOS ROTOS EN CASO QUE SE REQUIERA) , DISPONIBILIDAD SET DE TORNILLOS ROTOS, EN EL CASO QUE EL SET INCLUYA CLAVOS DE KIRSCHNER O DE STEIMMAN DEBEN INCLUIR EL INSTRUMENTAL PARA SU RESPECTIVO CORTE Y COLOCACION.
B6: PARA TODO EL MATERIAL DE OSTEOSINTESIS | C6: DEBERA TENER DISPONIBILIDAD DE CHALECOS, CUELLOS DE PLOMO, DOSIMETROS PARA EL PERSONAL DE SOPORTE TECNICO, SIN COSTO ADICIONAL
B7: QUIEN SUMINISTRE MATERIAL PARA LAS ESPECIALIDADES DE CRANEOMAXILOFACIAL Y OTORRINO | C7: SUMINISTRAR EN APOYO TECNOLOGICO Y/O STOCK MOTOR QUE CUENTE MINIMO CON UNA PIEZA DE MANO RECTA Y UNA PIEZA DE MANO CURVA, QUE SEA PROGRAMABLE MINIMO A 80.000 REVOLUCIONES Y QUE CUENTE CON IRRIGACION, EQUIPO MICRODEBRIDADOR TIPO SHAVER PARA SENOS PARANASALES Y LARINGE, QUE INCLUYA MICROMOTOR PIEZA DE MANO, BOMBA DE IRRIGACION, Y QUE CUENTE CON SISTEMA DE SUCCION SIN COSTO ADICIONAL, ES CLARO QUE SE COBRA LOS INSUMOS DE CONSUMO.
B8: NEUROCIRUGIA Y COLUMNA | C8: SUMINISTRAR APOYO TECNOLOGICO Y EN STOCK EQUIPOS NEUMATICOS Y/O ELECTRICOS ADAPTABLES A CUCHILLAS Y FRESAS OFERTADAS, QUE INCLUYA MINIMO PIEZA DE MANO DE DIFERENTES ANGULACIONES, CONSOLA PROGRAMABLE CON MINIMO 60.000 REVOLUCIONES POR MINUTO, PEDAL ELECTRICO CON DIFERENTES ACOPLES, MONITOREO DE ACUERDO A LAS NECESIDADES DEL SERVICIO.
B9: MAXILOFACIAL | C9: DISPONIBILIDAD DE APOYO TECNOLOGICO AVANZADO Y EQUIPO BRAZO ROBOTICO PARA CIRUGIA MAXILOFACIAL EN OSTEOTOMIAS Y RESECCION DE TUMORES, APOYO TECNOLOGICO BASICO CON MOTOR ELECTRICO, INSTRUMENTAL, BROCAS Y DEMAS PARA COLOCACION DEL MATERIAL REQUERIDO.
B10: PROCEDIMIENTOS DE NEUROCIRUGIA | C10: TENER DISPONIBILIDAD DE VALVULA DE HAKIM CON SU RESPECTIVO PROGRAMADOR DE ACUERDO A NECESIDAD, LO CUAL SERA ACORDADO CON EL SUPERVISOR DEL CONTRATO YA SEA EN STOCK O POR SOLICITUD,
B11: CLIPS DE ANEURISMA | C11: CLIPS DE ANEURISMA EN CALIDAD DE STOCK TENIENDO EN CUENTA LA ATENCION DE URGENCIAS. SUMINISTRARA EL INSTRUMENTAL REQUERIDO PARA LA FIJACION DE LOS MISMOS EN EL PROCEDIMIENTO QUIRURGICO
B12: FIJACION EXTERNA | C12: SUMINISTRAR APOYO TECNOLOGICO Y/O STOCK QUE INCLUYA INSTRUMENTAL Y SUFICIENTE MATERIAL, MOTOR CON TORQUE, POTENCIA, DISEÑO ERGONOMICO Y TAMAÑO DE ACUERDO AL PROCEDIMIENTO QUIRURGICO CON SISTEMA DE RETIRO
D246: D24D245

Sheet INSTRUCTIVO DEL ANEXO
B2: INSTRUCTIVO
B6: DILIGENCIAR SOLAMENTE
B8: Nombre de proveedor
B9: Apoyo tecnologico ofertado
B10: Registro INVIMA
B11: Valor Unitario
B12: Porcentaje del IVA (SI APLICA)
B16: PARA TENER EN CUENTA
B18: En los documentos tecnicos se debe anexar portafolio completo con valor unitario, IVA cuando aplica y valor total, desglosando cada sistema por item. Este documento debe estar en la oferta inicial de lo contrario sera rechazada y no sera incluida en las evaluaciones.
B19: Debe anexar fichas tecnicas por cada sistema; en caso de que el Comite Tecnico lo requiera, se solicitara y acordara cita para muestra del material fisico
B20: Se aclara que en el anexo la hoja de desglosado, es la generalidad del Sistema solicitado el cual debe ser ofertado de manera completa. En las hojas de cada grupo se encuentran los kit que tienen relacionados algunos de elementos que lo componen como elementos trazadores, en aras que todos los oferentes relacionen el mismo elemento y poder realizar el comparativo economico de manera estandar.
B21: En el anexo se debe relacionar solo la informacion solicitada y debe registrar el valor de todos los elementos relacionados. En los elementos que no se cobren de acuerdo a su oferta, se debe registar valor 0 cero. En caso de no relacionar el valor en todos los elementos se descalifica el kit.

Sheet COLUMNA
C1: GRUPO COLUMNA
B5: SISTEMAS | D5: AMAREY NOVA MEDICAL S.A | L5: BIOART S.A | T5: DIPROMEDICOS S.AS | AB5: DISORTHO S.A.S | AJ5: EDM EQUIPOS Y DISPOSITIVOS MEDICOS S.AS | AR5: EXEL MEDICAL S.A.S | AZ5: IMPLAMEQ S.A.S | BH5: INNOMED S.A | BP5: JYJ MEDTECH | BX5: LOGYSMED | CF5: MEDIREX S.A.S | CN5: NEUROSPINE S.A.S | CV5: ORTOMAC S.A.S | DD5: OSTEOTECH IMPLANTES QUIRURGICOS S.A.S | DL5: PROMED QUIRURGICOS | DT5: SAMPEDRO S.A | EB5: SMITH & NEPHEW COLOMBIA SAS | EJ5: W. LORENZ HOLDING S.A.S
B6: 1. SISTEMA DE FIJACION PARA COLUMNA CERVICAL ANTERIOR: Debe incluir Cuerpo Vertebral, soporte Anterior Cervical(Peek) Caja ACI, Soporte Anterior Cervical (Peek) Caja-placa ACIF | G6: ITEM | H6: DESCRIPCION | O6: ITEM | P6: DESCRIPCION | W6: ITEM | X6: DESCRIPCION | AE6: ITEM | AF6: DESCRIPCION | AM6: ITEM | AN6: DESCRIPCION | AU6: ITEM | AV6: DESCRIPCION | BC6: ITEM | BD6: DESCRIPCION | BK6: ITEM | BL6: DESCRIPCION | BS6: ITEM | BT6: DESCRIPCION | CA6: ITEM | CB6: DESCRIPCION | CI6: ITEM | CJ6: DESCRIPCION | CQ6: ITEM | CR6: DESCRIPCION | CY6: ITEM | CZ6: DESCRIPCION | DG6: ITEM | DH6: DESCRIPCION | DO6: ITEM | DP6: DESCRIPCION | DW6: ITEM | DX6: DESCRIPCION | EE6: ITEM | EF6: DESCRIPCION | EM6: ITEM | EN6: DESCRIPCION
G7: APOYO TECNOLOGICO: | O7: APOYO TECNOLOGICO: | P7: INSTRUMENTAL PROPIO PARA LA COLOCACIÓN | W7: APOYO TECNOLOGICO: | AE7: APOYO TECNOLOGICO: | AF7: el Indicado en la hoja OBSERVACIONES APOYO TECNOLOGICO por linea | AM7: APOYO TECNOLOGICO: | AU7: APOYO TECNOLOGICO: | AV7: INSTRUMENTAL Y LENTE PARA ENDOSCOPIA UNILATERAL BIPORTAL UBE | BC7: APOYO TECNOLOGICO: | BK7: APOYO TECNOLOGICO: | BS7: APOYO TECNOLOGICO: | CA7: APOYO TECNOLOGICO: | CI7: APOYO TECNOLOGICO: | CQ7: APOYO TECNOLOGICO: | CR7: BASICO: instrumental de apoyo, craneotomo ( facturando las fresas) | CY7: APOYO TECNOLOGICO: | CZ7: PARA STOCK: MOTOR NEUMATICO. PARA REMISION: MOTOR CANULADO DRILL DE BATERIAS, SIN COSTO ADICIONAL,ELEMENTOS BIOSEGURIDAD PARA SOPORTE TECNICO SIN COSTO ADICIONAL | DG7: APOYO TECNOLOGICO: | DO7: APOYO TECNOLOGICO: | DW7: APOYO TECNOLOGICO: | EE7: APOYO TECNOLOGICO: | EM7: APOYO TECNOLOGICO:
B8: 1.1 KIT DE FIJACION PARA COLUMNA CERVICAL ANTERIOR
B9: Item | C9: Descripcion | D9: REGISTRO INVIMA | E9: Cant. | F9: UNIDAD DE MEDIDA | G9: V/r Unit | H9: IVA | I9: V/r Total | J9: CUMPLE/ NO CUMPLE/ NO OFERTA | K9: OBSERVACIONES | L9: REGISTRO INVIMA | M9: Cant. | N9: UNIDAD DE MEDIDA | O9: V/r Unit | P9: IVA | Q9: V/r Total | R9: CUMPLE/ NO CUMPLE/ NO OFERTA | S9: OBSERVACIONES | T9: REGISTRO INVIMA | U9: Cant. | V9: UNIDAD DE MEDIDA | W9: V/r Unit | X9: IVA | Y9: V/r Total | Z9: CUMPLE/ NO CUMPLE/ NO OFERTA | AA9: OBSERVACIONES | AB9: REGISTRO INVIMA | AC9: Cant. | AD9: UNIDAD DE MEDIDA | AE9: V/r Unit | AF9: IVA | AG9: V/r Total | AH9: CUMPLE/ NO CUMPLE/ NO OFERTA | AI9: OBSERVACIONES | AJ9: REGISTRO INVIMA | AK9: Cant. | AL9: UNIDAD DE MEDIDA | AM9: V/r Unit | AN9: IVA | AO9: V/r Total | AP9: CUMPLE/ NO CUMPLE/ NO OFERTA | AQ9: OBSERVACIONES | AR9: REGISTRO INVIMA | AS9: Cant. | AT9: UNIDAD DE MEDIDA | AU9: V/r Unit | AV9: IVA | AW9: V/r Total | AX9: CUMPLE/ NO CUMPLE/ NO OFERTA | AY9: OBSERVACIONES | AZ9: REGISTRO INVIMA | BA9: Cant. | BB9: UNIDAD DE MEDIDA | BC9: V/r Unit | BD9: IVA | BE9: V/r Total | BF9: CUMPLE/ NO CUMPLE/ NO OFERTA | BG9: OBSERVACIONES | BH9: REGISTRO INVIMA | BI9: Cant. | BJ9: UNIDAD DE MEDIDA | BK9: V/r Unit | BL9: IVA | BM9: V/r Total | BN9: CUMPLE/ NO CUMPLE/ NO OFERTA | BO9: OBSERVACIONES | BP9: REGISTRO INVIMA | BQ9: Cant. | BR9: UNIDAD DE MEDIDA | BS9: V/r Unit | BT9: IVA | BU9: V/r Total | BV9: CUMPLE/ NO CUMPLE/ NO OFERTA | BW9: OBSERVACIONES | BX9: REGISTRO INVIMA | BY9: Cant. | BZ9: UNIDAD DE MEDIDA | CA9: V/r Unit | CB9: IVA | CC9: V/r Total | CD9: CUMPLE/ NO CUMPLE/ NO OFERTA | CE9: OBSERVACIONES | CF9: REGISTRO INVIMA | CG9: Cant. | CH9: UNIDAD DE MEDIDA | CI9: V/r Unit | CJ9: IVA | CK9: V/r Total | CL9: CUMPLE/ NO CUMPLE/ NO OFERTA | CM9: OBSERVACIONES | CN9: REGISTRO INVIMA | CO9: Cant. | CP9: UNIDAD DE MEDIDA | CQ9: V/r Unit | CR9: IVA | CS9: V/r Total | CT9: CUMPLE/ NO CUMPLE/ NO OFERTA | CU9: OBSERVACIONES | CV9: REGISTRO INVIMA | CW9: Cant. | CX9: UNIDAD DE MEDIDA | CY9: V/r Unit | CZ9: IVA | DA9: V/r Total | DB9: CUMPLE/ NO CUMPLE/ NO OFERTA | DC9: OBSERVACIONES | DD9: REGISTRO INVIMA | DE9: Cant. | DF9: UNIDAD DE MEDIDA | DG9: V/r Unit | DH9: IVA | DI9: V/r Total | DJ9: CUMPLE/ NO CUMPLE/ NO OFERTA | DK9: OBSERVACIONES | DL9: REGISTRO INVIMA | DM9: Cant. | DN9: UNIDAD DE MEDIDA | DO9: V/r Unit | DP9: IVA | DQ9: V/r Total | DR9: CUMPLE/ NO CUMPLE/ NO OFERTA | DS9: OBSERVACIONES | DT9: REGISTRO INVIMA | DU9: Cant. | DV9: UNIDAD DE MEDIDA | DW9: V/r Unit | DX9: IVA | DY9: V/r Total | DZ9: CUMPLE/ NO CUMPLE/ NO OFERTA | EA9: OBSERVACIONES | EB9: REGISTRO INVIMA | EC9: Cant. | ED9: UNIDAD DE MEDIDA | EE9: V/r Unit | EF9: IVA | EG9: V/r Total | EH9: CUMPLE/ NO CUMPLE/ NO OFERTA | EI9: OBSERVACIONES | EJ9: REGISTRO INVIMA | EK9: Cant. | EL9: UNIDAD DE MEDIDA | EM9: V/r Unit | EN9: IVA | EO9: V/r Total | EP9: CUMPLE/ NO CUMPLE/ NO OFERTA | EQ9: OBSERVACIONES
B10: 1 | C10: Placa Cervical 2 Niveles | E10: 1 | F10: UNIDAD | I10: =+(G10+(G10*H10))*E10 -> 0 | J10: NO OFERTADO | M10: 1 | N10: UNIDAD | Q10: =+(O10+(O10*P10))*M10 -> 0 | R10: NO OFERTADO | U10: 1 | V10: UNIDAD | Y10: =+(W10+(W10*X10))*U10 -> 0 | Z10: NO OFERTADO | AC10: 1 | AD10: UNIDAD | AG10: =+(AE10+(AE10*AF10))*AC10 -> 0 | AH10: NO OFERTADO | AK10: 1 | AL10: UNIDAD | AO10: =+(AM10+(AM10*AN10))*AK10 -> 0 | AP10: NO OFERTADO | AS10: 1 | AT10: UNIDAD | AW10: =+(AU10+(AU10*AV10))*AS10 -> 0 | AX10: NO OFERTADO | BA10: 1 | BB10: UNIDAD | BE10: =+(BC10+(BC10*BD10))*BA10 -> 0 | BF10: NO OFERTADO | BI10: 1 | BJ10: UNIDAD | BM10: =+(BK10+(BK10*BL10))*BI10 -> 0 | BN10: NO OFERTADO | BQ10: 1 | BR10: UNIDAD | BU10: =+(BS10+(BS10*BT10))*BQ10 -> 0 | BV10: NO OFERTADO | BY10: 1 | BZ10: UNIDAD | CC10: =+(CA10+(CA10*CB10))*BY10 -> 0 | CD10: NO OFERTADO | CG10: 1 | CH10: UNIDAD | CK10: =+(CI10+(CI10*CJ10))*CG10 -> 0 | CL10: NO OFERTADO | CN10: 2021DM-0023814 | CO10: 1 | CP10: UNIDAD | CQ10: 1552400 | CS10: =+(CQ10+(CQ10*CR10))*CO10 -> 1552400 | CT10: CUMPLE | CU10: subsana | CV10: 2023DM-0008815-R1 | CW10: 1 | CX10: UNIDAD | CY10: 432900 | CZ10: 0 | DA10: =+(CY10+(CY10*CZ10))*CW10 -> 432900 | DB10: NO CUMPLE | DC10: No tiene cilindro autoespansible Insitu | DE10: 1 | DF10: UNIDAD | DI10: =+(DG10+(DG10*DH10))*DE10 -> 0 | DJ10: NO OFERTADO | DL10: 2015DM-0013964 | DM10: 1 | DN10: UNIDAD | DO10: 2074943 | DP10: 0 | DQ10: =+(DO10+(DO10*DP10))*DM10 -> 2074943 | DR10: CUMPLE | DU10: 1 | DV10: UNIDAD | DY10: =+(DW10+(DW10*DX10))*DU10 -> 0 | DZ10: NO OFERTADO | EC10: 1 | ED10: UNIDAD | EG10: $ - | EH10: NO OFERTADO | EK10: 1 | EL10: UNIDAD | EO10: =+(EM10+(EM10*EN10))*EK10 -> 0 | EP10: NO OFERTADO
B11: 2 | C11: Tornillos para Fijacion de Placa Cervical Anterior | E11: 1 | F11: UNIDAD | I11: =+(G11+(G11*H11))*E11 -> 0 | M11: 1 | N11: UNIDAD | Q11: =+(O11+(O11*P11))*M11 -> 0 | U11: 1 | V11: UNIDAD | Y11: =+(W11+(W11*X11))*U11 -> 0 | AC11: 1 | AD11: UNIDAD | AG11: =+(AE11+(AE11*AF11))*AC11 -> 0 | AK11: 1 | AL11: UNIDAD | AO11: =+(AM11+(AM11*AN11))*AK11 -> 0 | AS11: 1 | AT11: UNIDAD | AW11: =+(AU11+(AU11*AV11))*AS11 -> 0 | BA11: 1 | BB11: UNIDAD | BE11: =+(BC11+(BC11*BD11))*BA11 -> 0 | BI11: 1 | BJ11: UNIDAD | BM11: =+(BK11+(BK11*BL11))*BI11 -> 0 | BQ11: 1 | BR11: UNIDAD | BU11: =+(BS11+(BS11*BT11))*BQ11 -> 0 | BY11: 1 | BZ11: UNIDAD | CC11: =+(CA11+(CA11*CB11))*BY11 -> 0 | CG11: 1 | CH11: UNIDAD | CK11: =+(CI11+(CI11*CJ11))*CG11 -> 0 | CN11: 2022DM-0025052 | CO11: 1 | CP11: UNIDAD | CQ11: 311700 | CS11: =+(CQ11+(CQ11*CR11))*CO11 -> 311700 | CV11: 2023DM-0008815-R1 | CW11: 1 | CX11: UNIDAD | CY11: 77400 | CZ11: 0 | DA11: =+(CY11+(CY11*CZ11))*CW11 -> 77400 | DE11: 1 | DF11: UNIDAD | DI11: =+(DG11+(DG11*DH11))*DE11 -> 0 | DL11: 2015DM-0013964 | DM11: 1 | DN11: UNIDAD | DO11: 317829 | DP11: 0 | DQ11: =+(DO11+(DO11*DP11))*DM11 -> 317829 | DU11: 1 | DV11: UNIDAD | DY11: =+(DW11+(DW11*DX11))*DU11 -> 0 | EC11: 1 | ED11: UNIDAD | EG11: $ - | EK11: 1 | EL11: UNIDAD | EO11: =+(EM11+(EM11*EN11))*EK11 -> 0
B12: 3 | C12: Malla de Titanio Para Reemplazo Cuerpo Cervical Para 2 Niveles | E12: 1 | F12: UNIDAD | I12: =+(G12+(G12*H12))*E12 -> 0 | M12: 1 | N12: UNIDAD | Q12: =+(O12+(O12*P12))*M12 -> 0 | U12: 1 | V12: UNIDAD | Y12: =+(W12+(W12*X12))*U12 -> 0 | AC12: 1 | AD12: UNIDAD | AG12: =+(AE12+(AE12*AF12))*AC12 -> 0 | AK12: 1 | AL12: UNIDAD | AO12: =+(AM12+(AM12*AN12))*AK12 -> 0 | AS12: 1 | AT12: UNIDAD | AW12: =+(AU12+(AU12*AV12))*AS12 -> 0 | BA12: 1 | BB12: UNIDAD | BE12: =+(BC12+(BC12*BD12))*BA12 -> 0 | BI12: 1 | BJ12: UNIDAD | BM12: =+(BK12+(BK12*BL12))*BI12 -> 0 | BQ12: 1 | BR12: UNIDAD | BU12: =+(BS12+(BS12*BT12))*BQ12 -> 0 | BY12: 1 | BZ12: UNIDAD | CC12: =+(CA12+(CA12*CB12))*BY12 -> 0 | CG12: 1 | CH12: UNIDAD | CK12: =+(CI12+(CI12*CJ12))*CG12 -> 0 | CN12: 2021DM-0007142-R1 | CO12: 1 | CP12: UNIDAD | CQ12: 1001900 | CS12: =+(CQ12+(CQ12*CR12))*CO12 -> 1001900 | CV12: 2023DM-0008815-R1 | CW12: 1 | CX12: UNIDAD | CY12: 637200 | CZ12: 0 | DA12: =+(CY12+(CY12*CZ12))*CW12 -> 637200 | DE12: 1 | DF12: UNIDAD | DI12: =+(DG12+(DG12*DH12))*DE12 -> 0 | DL12: 2022DM-0026042 | DM12: 1 | DN12: UNIDAD | DO12: 1350000 | DP12: 0 | DQ12: =+(DO12+(DO12*DP12))*DM12 -> 1350000 | DU12: 1 | DV12: UNIDAD | DY12: =+(DW12+(DW12*DX12))*DU12 -> 0 | EC12: 1 | ED12: UNIDAD | EG12: $ - | EK12: 1 | EL12: UNIDAD | EO12: =+(EM12+(EM12*EN12))*EK12 -> 0
B13: 4 | C13: Anillos o Placas Terminales | E13: 1 | F13: UNIDAD | I13: =+(G13+(G13*H13))*E13 -> 0 | M13: 1 | N13: UNIDAD | Q13: =+(O13+(O13*P13))*M13 -> 0 | U13: 1 | V13: UNIDAD | Y13: =+(W13+(W13*X13))*U13 -> 0 | AC13: 1 | AD13: UNIDAD | AG13: =+(AE13+(AE13*AF13))*AC13 -> 0 | AK13: 1 | AL13: UNIDAD | AO13: =+(AM13+(AM13*AN13))*AK13 -> 0 | AS13: 1 | AT13: UNIDAD | AW13: =+(AU13+(AU13*AV13))*AS13 -> 0 | BA13: 1 | BB13: UNIDAD | BE13: =+(BC13+(BC13*BD13))*BA13 -> 0 | BI13: 1 | BJ13: UNIDAD | BM13: =+(BK13+(BK13*BL13))*BI13 -> 0 | BQ13: 1 | BR13: UNIDAD | BU13: =+(BS13+(BS13*BT13))*BQ13 -> 0 | BY13: 1 | BZ13: UNIDAD | CC13: =+(CA13+(CA13*CB13))*BY13 -> 0 | CG13: 1 | CH13: UNIDAD | CK13: =+(CI13+(CI13*CJ13))*CG13 -> 0 | CO13: 1 | CP13: UNIDAD | CQ13: 0 | CS13: =+(CQ13+(CQ13*CR13))*CO13 -> 0 | CV13: 2023DM-0008815-R1 | CW13: 1 | CX13: UNIDAD | CY13: 336600 | CZ13: 0 | DA13: =+(CY13+(CY13*CZ13))*CW13 -> 336600 | DE13: 1 | DF13: UNIDAD | DI13: =+(DG13+(DG13*DH13))*DE13 -> 0 | DL13: 2022DM-0026042 | DM13: 1 | DN13: UNIDAD | DO13: 868207 | DP13: 0 | DQ13: =+(DO13+(DO13*DP13))*DM13 -> 868207 | DU13: 1 | DV13: UNIDAD | DY13: =+(DW13+(DW13*DX13))*DU13 -> 0 | EC13: 1 | ED13: UNIDAD | EG13: $ - | EK13: 1 | EL13: UNIDAD | EO13: =+(EM13+(EM13*EN13))*EK13 -> 0
B14: 5 | C14: Cilindro Autoespandible Insitu de 25 MM | E14: 1 | F14: UNIDAD | I14: =+(G14+(G14*H14))*E14 -> 0 | M14: 1 | N14: UNIDAD | Q14: =+(O14+(O14*P14))*M14 -> 0 | U14: 1 | V14: UNIDAD | Y14: =+(W14+(W14*X14))*U14 -> 0 | AC14: 1 | AD14: UNIDAD | AG14: =+(AE14+(AE14*AF14))*AC14 -> 0 | AK14: 1 | AL14: UNIDAD | AO14: =+(AM14+(AM14*AN14))*AK14 -> 0 | AS14: 1 | AT14: UNIDAD | AW14: =+(AU14+(AU14*AV14))*AS14 -> 0 | BA14: 1 | BB14: UNIDAD | BE14: =+(BC14+(BC14*BD14))*BA14 -> 0 | BI14: 1 | BJ14: UNIDAD | BM14: =+(BK14+(BK14*BL14))*BI14 -> 0 | BQ14: 1 | BR14: UNIDAD | BU14: =+(BS14+(BS14*BT14))*BQ14 -> 0 | BY14: 1 | BZ14: UNIDAD | CC14: =+(CA14+(CA14*CB14))*BY14 -> 0 | CG14: 1 | CH14: UNIDAD | CK14: =+(CI14+(CI14*CJ14))*CG14 -> 0 | CN14: 2021DM-0006996-R1 | CO14: 1 | CP14: UNIDAD | CQ14: 7354200 | CS14: =+(CQ14+(CQ14*CR14))*CO14 -> 7354200 | CV14: - | CW14: 1 | CX14: UNIDAD | CY14: 0 | CZ14: 0 | DA14: =+(CY14+(CY14*CZ14))*CW14 -> 0 | DE14: 1 | DF14: UNIDAD | DI14: =+(DG14+(DG14*DH14))*DE14 -> 0 | DL14: 2022DM-0026042 | DM14: 1 | DN14: UNIDAD | DO14: 5462848.6 | DP14: 0 | DQ14: =+(DO14+(DO14*DP14))*DM14 -> 5462848.6 | DU14: 1 | DV14: UNIDAD | DY14: =+(DW14+(DW14*DX14))*DU14 -> 0 | EC14: 1 | ED14: UNIDAD | EG14: $ - | EK14: 1 | EL14: UNIDAD | EO14: =+(EM14+(EM14*EN14))*EK14 -> 0
B15: 6 | C15: Placas Terminales | E15: 1 | F15: UNIDAD | I15: =+(G15+(G15*H15))*E15 -> 0 | M15: 1 | N15: UNIDAD | Q15: =+(O15+(O15*P15))*M15 -> 0 | U15: 1 | V15: UNIDAD | Y15: =+(W15+(W15*X15))*U15 -> 0 | AC15: 1 | AD15: UNIDAD | AG15: =+(AE15+(AE15*AF15))*AC15 -> 0 | AK15: 1 | AL15: UNIDAD | AO15: =+(AM15+(AM15*AN15))*AK15 -> 0 | AS15: 1 | AT15: UNIDAD | AW15: =+(AU15+(AU15*AV15))*AS15 -> 0 | BA15: 1 | BB15: UNIDAD | BE15: =+(BC15+(BC15*BD15))*BA15 -> 0 | BI15: 1 | BJ15: UNIDAD | BM15: =+(BK15+(BK15*BL15))*BI15 -> 0 | BQ15: 1 | BR15: UNIDAD | BU15: =+(BS15+(BS15*BT15))*BQ15 -> 0 | BY15: 1 | BZ15: UNIDAD | CC15: =+(CA15+(CA15*CB15))*BY15 -> 0 | CG15: 1 | CH15: UNIDAD | CK15: =+(CI15+(CI15*CJ15))*CG15 -> 0 | CN15: 2021DM-0006996-R1 | CO15: 1 | CP15: UNIDAD | CQ15: 2818100 | CS15: =+(CQ15+(CQ15*CR15))*CO15 -> 2818100 | CV15: - | CW15: 1 | CX15: UNIDAD | CY15: 0 | CZ15: 0 | DA15: =+(CY15+(CY15*CZ15))*CW15 -> 0 | DE15: 1 | DF15: UNIDAD | DI15: =+(DG15+(DG15*DH15))*DE15 -> 0 | DL15: 2022DM-0026042 | DM15: 1 | DN15: UNIDAD | DO15: 1087734 | DP15: 0 | DQ15: =+(DO15+(DO15*DP15))*DM15 -> 1087734 | DU15: 1 | DV15: UNIDAD | DY15: =+(DW15+(DW15*DX15))*DU15 -> 0 | EC15: 1 | ED15: UNIDAD | EG15: $ - | EK15: 1 | EL15: UNIDAD | EO15: =+(EM15+(EM15*EN15))*EK15 -> 0
B16: 7 | C16: Caja para Fusion Cervical Incluido Tornillos | E16: 1 | F16: UNIDAD | I16: =+(G16+(G16*H16))*E16 -> 0 | M16: 1 | N16: UNIDAD | Q16: =+(O16+(O16*P16))*M16 -> 0 | U16: 1 | V16: UNIDAD | Y16: =+(W16+(W16*X16))*U16 -> 0 | AC16: 1 | AD16: UNIDAD | AG16: =+(AE16+(AE16*AF16))*AC16 -> 0 | AK16: 1 | AL16: UNIDAD | AO16: =+(AM16+(AM16*AN16))*AK16 -> 0 | AS16: 1 | AT16: UNIDAD | AW16: =+(AU16+(AU16*AV16))*AS16 -> 0 | BA16: 1 | BB16: UNIDAD | BE16: =+(BC16+(BC16*BD16))*BA16 -> 0 | BI16: 1 | BJ16: UNIDAD | BM16: =+(BK16+(BK16*BL16))*BI16 -> 0 | BQ16: 1 | BR16: UNIDAD | BU16: =+(BS16+(BS16*BT16))*BQ16 -> 0 | BY16: 1 | BZ16: UNIDAD | CC16: =+(CA16+(CA16*CB16))*BY16 -> 0 | CG16: 1 | CH16: UNIDAD | CK16: =+(CI16+(CI16*CJ16))*CG16 -> 0 | CN16: 2022DM-0024958 | CO16: 1 | CP16: UNIDAD | CQ16: 3292400 | CS16: =+(CQ16+(CQ16*CR16))*CO16 -> 3292400 | CV16: 2023DM-0008815-R1 | CW16: 1 | CX16: UNIDAD | CY16: 2603700 | CZ16: 0 | DA16: =+(CY16+(CY16*CZ16))*CW16 -> 2603700 | DE16: 1 | DF16: UNIDAD | DI16: =+(DG16+(DG16*DH16))*DE16 -> 0 | DL16: 2015DM-0013964 | DM16: 1 | DN16: UNIDAD | DO16: 5201749 | DP16: 0 | DQ16: =+(DO16+(DO16*DP16))*DM16 -> 5201749 | DU16: 1 | DV16: UNIDAD | DY16: =+(DW16+(DW16*DX16))*DU16 -> 0 | EC16: 1 | ED16: UNIDAD | EG16: $ - | EK16: 1 | EL16: UNIDAD | EO16: =+(EM16+(EM16*EN16))*EK16 -> 0
C17: TOTAL | I17: =SUM(I10:I16) -> 0 | Q17: =SUM(Q10:Q16) -> 0 | Y17: =SUM(Y10:Y16) -> 0 | AG17: =SUM(AG10:AG16) -> 0 | AO17: =SUM(AO10:AO16) -> 0 | AW17: =SUM(AW10:AW16) -> 0 | BE17: =SUM(BE10:BE16) -> 0 | BM17: =SUM(BM10:BM16) -> 0 | BU17: =SUM(BU10:BU16) -> 0 | CC17: =SUM(CC10:CC16) -> 0 | CK17: =SUM(CK10:CK16) -> 0 | CS17: =SUM(CS10:CS16) -> 16330700 | DA17: =SUM(DA10:DA16) -> 4087800 | DI17: =SUM(DI10:DI16) -> 0 | DQ17: =SUM(DQ10:DQ16) -> 16363311 | DY17: =SUM(DY10:DY16) -> 0 | EG17: $ - | EO17: =SUM(EO10:EO16) -> 0
B18: 2. SISTEMA DE FIJACION PARA COLUMNA CERVICAL POSTERIOR
B19: 2.1. Kit de Fijacion Occipito Cervical - Kit de Fijacion Cervico Toracico
B20: Item | C20: Descripcion | D20: REGISTRO INVIMA | E20: Cant. | F20: UNIDAD DE MEDIDA | G20: V/r Unit | H20: IVA | I20: V/r Total | J20: CUMPLE/ NO CUMPLE/ NO OFERTA | K20: OBSERVACIONES | L20: REGISTRO INVIMA | M20: Cant. | N20: UNIDAD DE MEDIDA | O20: V/r Unit | P20: IVA | Q20: V/r Total | R20: CUMPLE/ NO CUMPLE/ NO OFERTA | S20: OBSERVACIONES | T20: REGISTRO INVIMA | U20: Cant. | V20: UNIDAD DE MEDIDA | W20: V/r Unit | X20: IVA | Y20: V/r Total | Z20: CUMPLE/ NO CUMPLE/ NO OFERTA | AA20: OBSERVACIONES | AB20: REGISTRO INVIMA | AC20: Cant. | AD20: UNIDAD DE MEDIDA | AE20: V/r Unit | AF20: IVA | AG20: V/r Total | AH20: CUMPLE/ NO CUMPLE/ NO OFERTA | AI20: OBSERVACIONES | AJ20: REGISTRO INVIMA | AK20: Cant. | AL20: UNIDAD DE MEDIDA | AM20: V/r Unit | AN20: IVA | AO20: V/r Total | AP20: CUMPLE/ NO CUMPLE/ NO OFERTA | AQ20: OBSERVACIONES | AR20: REGISTRO INVIMA | AS20: Cant. | AT20: UNIDAD DE MEDIDA | AU20: V/r Unit | AV20: IVA | AW20: V/r Total | AX20: CUMPLE/ NO CUMPLE/ NO OFERTA | AY20: OBSERVACIONES | AZ20: REGISTRO INVIMA | BA20: Cant. | BB20: UNIDAD DE MEDIDA | BC20: V/r Unit | BD20: IVA | BE20: V/r Total | BF20: CUMPLE/ NO CUMPLE/ NO OFERTA | BG20: OBSERVACIONES | BH20: REGISTRO INVIMA | BI20: Cant. | BJ20: UNIDAD DE MEDIDA | BK20: V/r Unit | BL20: IVA | BM20: V/r Total | BN20: CUMPLE/ NO CUMPLE/ NO OFERTA | BO20: OBSERVACIONES | BP20: REGISTRO INVIMA | BQ20: Cant. | BR20: UNIDAD DE MEDIDA | BS20: V/r Unit | BT20: IVA | BU20: V/r Total | BV20: CUMPLE/ NO CUMPLE/ NO OFERTA | BW20: OBSERVACIONES | BX20: REGISTRO INVIMA | BY20: Cant. | BZ20: UNIDAD DE MEDIDA | CA20: V/r Unit | CB20: IVA | CC20: V/r Total | CD20: CUMPLE/ NO CUMPLE/ NO OFERTA | CE20: OBSERVACIONES | CF20: REGISTRO INVIMA | CG20: Cant. | CH20: UNIDAD DE MEDIDA | CI20: V/r Unit | CJ20: IVA | CK20: V/r Total | CL20: CUMPLE/ NO CUMPLE/ NO OFERTA | CM20: OBSERVACIONES | CN20: REGISTRO INVIMA | CO20: Cant. | CP20: UNIDAD DE MEDIDA | CQ20: V/r Unit | CR20: IVA | CS20: V/r Total | CT20: CUMPLE/ NO CUMPLE/ NO OFERTA | CU20: OBSERVACIONES | CV20: REGISTRO INVIMA | CW20: Cant. | CX20: UNIDAD DE MEDIDA | CY20: V/r Unit | CZ20: IVA | DA20: V/r Total | DB20: CUMPLE/ NO CUMPLE/ NO OFERTA | DC20: OBSERVACIONES | DD20: REGISTRO INVIMA | DE20: Cant. | DF20: UNIDAD DE MEDIDA | DG20: V/r Unit | DH20: IVA | DI20: V/r Total | DJ20: CUMPLE/ NO CUMPLE/ NO OFERTA | DK20: OBSERVACIONES | DL20: REGISTRO INVIMA | DM20: Cant. | DN20: UNIDAD DE MEDIDA | DO20: V/r Unit | DP20: IVA | DQ20: V/r Total | DR20: CUMPLE/ NO CUMPLE/ NO OFERTA | DS20: OBSERVACIONES | DT20: REGISTRO INVIMA | DU20: Cant. | DV20: UNIDAD DE MEDIDA | DW20: V/r Unit | DX20: IVA | DY20: V/r Total | DZ20: CUMPLE/ NO CUMPLE/ NO OFERTA | EA20: OBSERVACIONES | EB20: REGISTRO INVIMA | EC20: Cant. | ED20: UNIDAD DE MEDIDA | EE20: V/r Unit | EF20: IVA | EG20: V/r Total | EH20: CUMPLE/ NO CUMPLE/ NO OFERTA | EI20: OBSERVACIONES | EJ20: REGISTRO INVIMA | EK20: Cant. | EL20: UNIDAD DE MEDIDA | EM20: V/r Unit | EN20: IVA | EO20: V/r Total | EP20: CUMPLE/ NO CUMPLE/ NO OFERTA | EQ20: OBSERVACIONES
B21: 1 | C21: Placa para Fijacion Occipito Cervical | E21: 1 | F21: UNIDAD | I21: =+(G21+(G21*H21))*E21 -> 0 | J21: NO OFERTADO | M21: 1 | N21: UNIDAD | Q21: =+(O21+(O21*P21))*M21 -> 0 | R21: NO OFERTADO | U21: 1 | V21: UNIDAD | Y21: =+(W21+(W21*X21))*U21 -> 0 | Z21: NO OFERTADO | AB21: 2023DM-0026568 | AC21: 1 | AD21: UNIDAD | AE21: 2800000 | AF21: 0 | AG21: =+(AE21+(AE21*AF21))*AC21 -> 2800000 | AH21: CUMPLE | AK21: 1 | AL21: UNIDAD | AO21: =+(AM21+(AM21*AN21))*AK21 -> 0 | AP21: NO OFERTADO | AS21: 1 | AT21: UNIDAD | AW21: =+(AU21+(AU21*AV21))*AS21 -> 0 | AX21: NO OFERTADO | AZ21: 2017DM-0016000 | BA21: 1 | BB21: UNIDAD | BC21: 2430000 | BD21: 0 | BE21: =+(BC21+(BC21*BD21))*BA21 -> 2430000 | BF21: CUMPLE | BG21: subsana | BI21: 1 | BJ21: UNIDAD | BM21: =+(BK21+(BK21*BL21))*BI21 -> 0 | BN21: NO OFERTADO | BQ21: 1 | BR21: UNIDAD | BU21: =+(BS21+(BS21*BT21))*BQ21 -> 0 | BV21: NO OFERTADO | BY21: 1 | BZ21: UNIDAD | CC21: =+(CA21+(CA21*CB21))*BY21 -> 0 | CD21: NO OFERTADO | CG21: 1 | CH21: UNIDAD | CK21: =+(CI21+(CI21*CJ21))*CG21 -> 0 | CL21: NO OFERTADO | CN21: 2018DM-0000666-R1 | CO21: 1 | CP21: UNIDAD | CQ21: 2072000 | CS21: =+(CQ21+(CQ21*CR21))*CO21 -> 2072000 | CT21: CUMPLE | CV21: 2023DM-0008815-R1 | CW21: 1 | CX21: UNIDAD | CY21: 945000 | CZ21: 0 | DA21: =+(CY21+(CY21*CZ21))*CW21 -> 945000 | DB21: NO CUMPLE | DC21: INSTRUMENTAL DIFICIL MANIPULACION E IMPLANTES DE ALTO PERFIL | DE21: 1 | DF21: UNIDAD | DI21: =+(DG21+(DG21*DH21))*DE21 -> 0 | DJ21: NO OFERTADO | DL21: 2015DM-0013964 | DM21: 1 | DN21: UNIDAD | DO21: 1799187 | DP21: 0 | DQ21: =+(DO21+(DO21*DP21))*DM21 -> 1799187 | DR21: CUMPLE | DU21: 1 | DV21: UNIDAD | DY21: =+(DW21+(DW21*DX21))*DU21 -> 0 | DZ21: NO OFERTADO | EC21: 1 | ED21: UNIDAD | EG21: $ - | EH21: NO OFERTADO | EK21: 1 | EL21: UNIDAD | EO21: =+(EM21+(EM21*EN21))*EK21 -> 0 | EP21: NO OFERTADO
B22: 2 | C22: Tornillos para Fijacion de Placa Occipital | E22: 1 | F22: UNIDAD | I22: =+(G22+(G22*H22))*E22 -> 0 | M22: 1 | N22: UNIDAD | Q22: =+(O22+(O22*P22))*M22 -> 0 | U22: 1 | V22: UNIDAD | Y22: =+(W22+(W22*X22))*U22 -> 0 | AB22: 2023DM-0026568 | AC22: 1 | AD22: UNIDAD | AE22: 392000 | AF22: 0 | AG22: =+(AE22+(AE22*AF22))*AC22 -> 392000 | AK22: 1 | AL22: UNIDAD | AO22: =+(AM22+(AM22*AN22))*AK22 -> 0 | AS22: 1 | AT22: UNIDAD | AW22: =+(AU22+(AU22*AV22))*AS22 -> 0 | AZ22: 2017DM-0016000 | BA22: 1 | BB22: UNIDAD | BC22: 365040 | BD22: 0 | BE22: =+(BC22+(BC22*BD22))*BA22 -> 365040 | BI22: 1 | BJ22: UNIDAD | BM22: =+(BK22+(BK22*BL22))*BI22 -> 0 | BQ22: 1 | BR22: UNIDAD | BU22: =+(BS22+(BS22*BT22))*BQ22 -> 0 | BY22: 1 | BZ22: UNIDAD | CC22: =+(CA22+(CA22*CB22))*BY22 -> 0 | CG22: 1 | CH22: UNIDAD | CK22: =+(CI22+(CI22*CJ22))*CG22 -> 0 | CN22: 2018DM-0000666-R1 | CO22: 1 | CP22: UNIDAD | CQ22: 206600 | CS22: =+(CQ22+(CQ22*CR22))*CO22 -> 206600 | CV22: 2023DM-0008815-R1 | CW22: 1 | CX22: UNIDAD | CY22: 164700 | CZ22: 0 | DA22: =+(CY22+(CY22*CZ22))*CW22 -> 164700 | DE22: 1 | DF22: UNIDAD | DI22: =+(DG22+(DG22*DH22))*DE22 -> 0 | DL22: 2015DM-0013964 | DM22: 1 | DN22: UNIDAD | DO22: 372246 | DP22: 0 | DQ22: =+(DO22+(DO22*DP22))*DM22 -> 372246 | DU22: 1 | DV22: UNIDAD | DY22: =+(DW22+(DW22*DX22))*DU22 -> 0 | EC22: 1 | ED22: UNIDAD | EG22: $ - | EK22: 1 | EL22: UNIDAD | EO22: =+(EM22+(EM22*EN22))*EK22 -> 0
B23: 3 | C23: Tornillos Facetario de Angulo Favorecido y/o Poliaxiales 3.5 - 4.0mm | E23: 1 | F23: UNIDAD | I23: =+(G23+(G23*H23))*E23 -> 0 | M23: 1 | N23: UNIDAD | Q23: =+(O23+(O23*P23))*M23 -> 0 | U23: 1 | V23: UNIDAD | Y23: =+(W23+(W23*X23))*U23 -> 0 | AB23: 2023DM-0026568 | AC23: 1 | AD23: UNIDAD | AE23: 680000 | AF23: 0 | AG23: =+(AE23+(AE23*AF23))*AC23 -> 680000 | AK23: 1 | AL23: UNIDAD | AO23: =+(AM23+(AM23*AN23))*AK23 -> 0 | AS23: 1 | AT23: UNIDAD | AW23: =+(AU23+(AU23*AV23))*AS23 -> 0 | AZ23: 2017DM-0016000 | BA23: 1 | BB23: UNIDAD | BC23: 875000 | BD23: 0 | BE23: =+(BC23+(BC23*BD23))*BA23 -> 875000 | BI23: 1 | BJ23: UNIDAD | BM23: =+(BK23+(BK23*BL23))*BI23 -> 0 | BQ23: 1 | BR23: UNIDAD | BU23: =+(BS23+(BS23*BT23))*BQ23 -> 0 | BY23: 1 | BZ23: UNIDAD | CC23: =+(CA23+(CA23*CB23))*BY23 -> 0 | CG23: 1 | CH23: UNIDAD | CK23: =+(CI23+(CI23*CJ23))*CG23 -> 0 | CN23: 2018DM-0000666-R1 | CO23: 1 | CP23: UNIDAD | CQ23: 717800 | CS23: =+(CQ23+(CQ23*CR23))*CO23 -> 717800 | CV23: 2023DM-0008815-R1 | CW23: 1 | CX23: UNIDAD | CY23: 485100 | CZ23: 0 | DA23: =+(CY23+(CY23*CZ23))*CW23 -> 485100 | DE23: 1 | DF23: UNIDAD | DI23: =+(DG23+(DG23*DH23))*DE23 -> 0 | DL23: 2015DM-0013964 | DM23: 1 | DN23: UNIDAD | DO23: 1053455 | DP23: 0 | DQ23: =+(DO23+(DO23*DP23))*DM23 -> 1053455 | DU23: 1 | DV23: UNIDAD | DY23: =+(DW23+(DW23*DX23))*DU23 -> 0 | EC23: 1 | ED23: UNIDAD | EG23: $ - | EK23: 1 | EL23: UNIDAD | EO23: =+(EM23+(EM23*EN23))*EK23 -> 0
B24: 4 | C24: Tornillos Internos Para Cierre de Tornillos AF y/o Poliaxiales | E24: 1 | F24: UNIDAD | I24: =+(G24+(G24*H24))*E24 -> 0 | M24: 1 | N24: UNIDAD | Q24: =+(O24+(O24*P24))*M24 -> 0 | U24: 1 | V24: UNIDAD | Y24: =+(W24+(W24*X24))*U24 -> 0 | AB24: 2023DM-0026568 | AC24: 1 | AD24: UNIDAD | AE24: 261600 | AF24: 0 | AG24: =+(AE24+(AE24*AF24))*AC24 -> 261600 | AK24: 1 | AL24: UNIDAD | AO24: =+(AM24+(AM24*AN24))*AK24 -> 0 | AS24: 1 | AT24: UNIDAD | AW24: =+(AU24+(AU24*AV24))*AS24 -> 0 | AZ24: 2017DM-0016000 | BA24: 1 | BB24: UNIDAD | BC24: 0 | BD24: 0 | BE24: =+(BC24+(BC24*BD24))*BA24 -> 0 | BI24: 1 | BJ24: UNIDAD | BM24: =+(BK24+(BK24*BL24))*BI24 -> 0 | BQ24: 1 | BR24: UNIDAD | BU24: =+(BS24+(BS24*BT24))*BQ24 -> 0 | BY24: 1 | BZ24: UNIDAD | CC24: =+(CA24+(CA24*CB24))*BY24 -> 0 | CG24: 1 | CH24: UNIDAD | CK24: =+(CI24+(CI24*CJ24))*CG24 -> 0 | CN24: 2018DM-0000666-R1 | CO24: 1 | CP24: UNIDAD | CQ24: 105600 | CS24: =+(CQ24+(CQ24*CR24))*CO24 -> 105600 | CV24: 2023DM-0008815-R1 | CW24: 1 | CX24: UNIDAD | CY24: 94500 | CZ24: 0 | DA24: =+(CY24+(CY24*CZ24))*CW24 -> 94500 | DE24: 1 | DF24: UNIDAD | DI24: =+(DG24+(DG24*DH24))*DE24 -> 0 | DL24: 2015DM-0013964 | DM24: 1 | DN24: UNIDAD | DO24: 1 | DP24: 0 | DQ24: =+(DO24+(DO24*DP24))*DM24 -> 1 | DU24: 1 | DV24: UNIDAD | DY24: =+(DW24+(DW24*DX24))*DU24 -> 0 | EC24: 1 | ED24: UNIDAD | EG24: $ - | EK24: 1 | EL24: UNIDAD | EO24: =+(EM24+(EM24*EN24))*EK24 -> 0
B25: 5 | C25: Barra 3.5 mm | E25: 1 | F25: UNIDAD | I25: =+(G25+(G25*H25))*E25 -> 0 | M25: 1 | N25: UNIDAD | Q25: =+(O25+(O25*P25))*M25 -> 0 | U25: 1 | V25: UNIDAD | Y25: =+(W25+(W25*X25))*U25 -> 0 | AB25: 2023DM-0026568 | AC25: 1 | AD25: UNIDAD | AE25: 392000 | AF25: 0 | AG25: =+(AE25+(AE25*AF25))*AC25 -> 392000 | AK25: 1 | AL25: UNIDAD | AO25: =+(AM25+(AM25*AN25))*AK25 -> 0 | AS25: 1 | AT25: UNIDAD | AW25: =+(AU25+(AU25*AV25))*AS25 -> 0 | AZ25: 2017DM-0016000 | BA25: 1 | BB25: UNIDAD | BC25: 362500 | BD25: 0 | BE25: =+(BC25+(BC25*BD25))*BA25 -> 362500 | BI25: 1 | BJ25: UNIDAD | BM25: =+(BK25+(BK25*BL25))*BI25 -> 0 | BQ25: 1 | BR25: UNIDAD | BU25: =+(BS25+(BS25*BT25))*BQ25 -> 0 | BY25: 1 | BZ25: UNIDAD | CC25: =+(CA25+(CA25*CB25))*BY25 -> 0 | CG25: 1 | CH25: UNIDAD | CK25: =+(CI25+(CI25*CJ25))*CG25 -> 0 | CN25: 2018DM-0000666-R1 | CO25: 1 | CP25: UNIDAD | CQ25: 411300 | CS25: =+(CQ25+(CQ25*CR25))*CO25 -> 411300 | CV25: 2023DM-0008815-R1 | CW25: 1 | CX25: UNIDAD | CY25: 267300 | CZ25: 0 | DA25: =+(CY25+(CY25*CZ25))*CW25 -> 267300 | DE25: 1 | DF25: UNIDAD | DI25: =+(DG25+(DG25*DH25))*DE25 -> 0 | DL25: 2015DM-0013964 | DM25: 1 | DN25: UNIDAD | DO25: 338659 | DP25: 0 | DQ25: =+(DO25+(DO25*DP25))*DM25 -> 338659 | DU25: 1 | DV25: UNIDAD | DY25: =+(DW25+(DW25*DX25))*DU25 -> 0 | EC25: 1 | ED25: UNIDAD | EG25: $ - | EK25: 1 | EL25: UNIDAD | EO25: =+(EM25+(EM25*EN25))*EK25 -> 0
B26: 6 | C26: Tornillo Pedicular Cervical 3.5 - 4.0mm | E26: 1 | F26: UNIDAD | I26: =+(G26+(G26*H26))*E26 -> 0 | M26: 1 | N26: UNIDAD | Q26: =+(O26+(O26*P26))*M26 -> 0 | U26: 1 | V26: UNIDAD | Y26: =+(W26+(W26*X26))*U26 -> 0 | AB26: 2023DM-0026568 | AC26: 1 | AD26: UNIDAD | AE26: 680000 | AF26: 0 | AG26: =+(AE26+(AE26*AF26))*AC26 -> 680000 | AK26: 1 | AL26: UNIDAD | AO26: =+(AM26+(AM26*AN26))*AK26 -> 0 | AS26: 1 | AT26: UNIDAD | AW26: =+(AU26+(AU26*AV26))*AS26 -> 0 | AZ26: 2017DM-0016000 | BA26: 1 | BB26: UNIDAD | BC26: 875000 | BD26: 0 | BE26: =+(BC26+(BC26*BD26))*BA26 -> 875000 | BI26: 1 | BJ26: UNIDAD | BM26: =+(BK26+(BK26*BL26))*BI26 -> 0 | BQ26: 1 | BR26: UNIDAD | BU26: =+(BS26+(BS26*BT26))*BQ26 -> 0 | BY26: 1 | BZ26: UNIDAD | CC26: =+(CA26+(CA26*CB26))*BY26 -> 0 | CG26: 1 | CH26: UNIDAD | CK26: =+(CI26+(CI26*CJ26))*CG26 -> 0 | CN26: 2018DM-0000666-R1 | CO26: 1 | CP26: UNIDAD | CQ26: 717800 | CS26: =+(CQ26+(CQ26*CR26))*CO26 -> 717800 | CV26: 2023DM-0008815-R1 | CW26: 1 | CX26: UNIDAD | CY26: 485100 | CZ26: 0 | DA26: =+(CY26+(CY26*CZ26))*CW26 -> 485100 | DE26: 1 | DF26: UNIDAD | DI26: =+(DG26+(DG26*DH26))*DE26 -> 0 | DL26: 2015DM-0013964 | DM26: 1 | DN26: UNIDAD | DO26: 1053455 | DP26: 0 | DQ26: =+(DO26+(DO26*DP26))*DM26 -> 1053455 | DU26: 1 | DV26: UNIDAD | DY26: =+(DW26+(DW26*DX26))*DU26 -> 0 | EC26: 1 | ED26: UNIDAD | EG26: $ - | EK26: 1 | EL26: UNIDAD | EO26: =+(EM26+(EM26*EN26))*EK26 -> 0
B27: 7 | C27: Conector Transversal Cervical Posterior (opcional) | E27: 1 | F27: UNIDAD | I27: =+(G27+(G27*H27))*E27 -> 0 | M27: 1 | N27: UNIDAD | Q27: =+(O27+(O27*P27))*M27 -> 0 | U27: 1 | V27: UNIDAD | Y27: =+(W27+(W27*X27))*U27 -> 0 | AC27: 1 | AD27: UNIDAD | AE27: 0 | AF27: 0 | AG27: =+(AE27+(AE27*AF27))*AC27 -> 0 | AK27: 1 | AL27: UNIDAD | AO27: =+(AM27+(AM27*AN27))*AK27 -> 0 | AS27: 1 | AT27: UNIDAD | AW27: =+(AU27+(AU27*AV27))*AS27 -> 0 | AZ27: 2017DM-0016000 | BA27: 1 | BB27: UNIDAD | BC27: 1600000 | BD27: 0 | BE27: =+(BC27+(BC27*BD27))*BA27 -> 1600000 | BI27: 1 | BJ27: UNIDAD | BM27: =+(BK27+(BK27*BL27))*BI27 -> 0 | BQ27: 1 | BR27: UNIDAD | BU27: =+(BS27+(BS27*BT27))*BQ27 -> 0 | BY27: 1 | BZ27: UNIDAD | CC27: =+(CA27+(CA27*CB27))*BY27 -> 0 | CG27: 1 | CH27: UNIDAD | CK27: =+(CI27+(CI27*CJ27))*CG27 -> 0 | CN27: 2018DM-0000666-R1 | CO27: 1 | CP27: UNIDAD | CQ27: 2294400 | CS27: =+(CQ27+(CQ27*CR27))*CO27 -> 2294400 | CV27: 2023DM-0008815-R1 | CW27: 1 | CX27: UNIDAD | CY27: 558000 | CZ27: 0 | DA27: =+(CY27+(CY27*CZ27))*CW27 -> 558000 | DE27: 1 | DF27: UNIDAD | DI27: =+(DG27+(DG27*DH27))*DE27 -> 0 | DL27: 2015DM-0013964 | DM27: 1 | DN27: UNIDAD | DO27: 1551022 | DP27: 0 | DQ27: =+(DO27+(DO27*DP27))*DM27 -> 1551022 | DU27: 1 | DV27: UNIDAD | DY27: =+(DW27+(DW27*DX27))*DU27 -> 0 | EC27: 1 | ED27: UNIDAD | EG27: $ - | EK27: 1 | EL27: UNIDAD | EO27: =+(EM27+(EM27*EN27))*EK27 -> 0
C28: TOTAL | I28: =SUM(I21:I27) -> 0 | Q28: =SUM(Q21:Q27) -> 0 | Y28: =SUM(Y21:Y27) -> 0 | AG28: =SUM(AG21:AG27) -> 5205600 | AO28: =SUM(AO21:AO27) -> 0 | AW28: =SUM(AW21:AW27) -> 0 | BE28: =SUM(BE21:BE27) -> 6507540 | BM28: =SUM(BM21:BM27) -> 0 | BU28: =SUM(BU21:BU27) -> 0 | CC28: =SUM(CC21:CC27) -> 0 | CK28: =SUM(CK21:CK27) -> 0 | CS28: =SUM(CS21:CS27) -> 6525500 | DA28: =SUM(DA21:DA27) -> 2999700 | DI28: =SUM(DI21:DI27) -> 0 | DQ28: =SUM(DQ21:DQ27) -> 6168025 | DY28: =SUM(DY21:DY27) -> 0 | EG28: $ - | EO28: =SUM(EO21:EO27) -> 0
B29: 3. SISTEMA PARA ESCOLIOSIS Y DEFORMIDADES
B30: 3.1. Kit Transpedicular de Reducción para Derotación en Bloque para Escoliosis Adultos y Neuromusculares
B31: Item | C31: Descripcion | D31: REGISTRO INVIMA | E31: Cant. | F31: UNIDAD DE MEDIDA | G31: V/r Unit | H31: IVA | I31: V/r Total | J31: CUMPLE/ NO CUMPLE/ NO OFERTA | K31: OBSERVACIONES | L31: REGISTRO INVIMA | M31: Cant. | N31: UNIDAD DE MEDIDA | O31: V/r Unit | P31: IVA | Q31: V/r Total | R31: CUMPLE/ NO CUMPLE/ NO OFERTA | S31: OBSERVACIONES | T31: REGISTRO INVIMA | U31: Cant. | V31: UNIDAD DE MEDIDA | W31: V/r Unit | X31: IVA | Y31: V/r Total | Z31: CUMPLE/ NO CUMPLE/ NO OFERTA | AA31: OBSERVACIONES | AB31: REGISTRO INVIMA | AC31: Cant. | AD31: UNIDAD DE MEDIDA | AE31: V/r Unit | AF31: IVA | AG31: V/r Total | AH31: CUMPLE/ NO CUMPLE/ NO OFERTA | AI31: OBSERVACIONES | AJ31: REGISTRO INVIMA | AK31: Cant. | AL31: UNIDAD DE MEDIDA | AM31: V/r Unit | AN31: IVA | AO31: V/r Total | AP31: CUMPLE/ NO CUMPLE/ NO OFERTA | AQ31: OBSERVACIONES | AR31: REGISTRO INVIMA | AS31: Cant. | AT31: UNIDAD DE MEDIDA | AU31: V/r Unit | AV31: IVA | AW31: V/r Total | AX31: CUMPLE/ NO CUMPLE/ NO OFERTA | AY31: OBSERVACIONES | AZ31: REGISTRO INVIMA | BA31: Cant. | BB31: UNIDAD DE MEDIDA | BC31: V/r Unit | BD31: IVA | BE31: V/r Total | BF31: CUMPLE/ NO CUMPLE/ NO OFERTA | BG31: OBSERVACIONES | BH31: REGISTRO INVIMA | BI31: Cant. | BJ31: UNIDAD DE MEDIDA | BK31: V/r Unit | BL31: IVA | BM31: V/r Total | BN31: CUMPLE/ NO CUMPLE/ NO OFERTA | BO31: OBSERVACIONES | BP31: REGISTRO INVIMA | BQ31: Cant. | BR31: UNIDAD DE MEDIDA | BS31: V/r Unit | BT31: IVA | BU31: V/r Total | BV31: CUMPLE/ NO CUMPLE/ NO OFERTA | BW31: OBSERVACIONES | BX31: REGISTRO INVIMA | BY31: Cant. | BZ31: UNIDAD DE MEDIDA | CA31: V/r Unit | CB31: IVA | CC31: V/r Total | CD31: CUMPLE/ NO CUMPLE/ NO OFERTA | CE31: OBSERVACIONES | CF31: REGISTRO INVIMA | CG31: Cant. | CH31: UNIDAD DE MEDIDA | CI31: V/r Unit | CJ31: IVA | CK31: V/r Total | CL31: CUMPLE/ NO CUMPLE/ NO OFERTA | CM31: OBSERVACIONES | CN31: REGISTRO INVIMA | CO31: Cant. | CP31: UNIDAD DE MEDIDA | CQ31: V/r Unit | CR31: IVA | CS31: V/r Total | CT31: CUMPLE/ NO CUMPLE/ NO OFERTA | CU31: OBSERVACIONES | CV31: REGISTRO INVIMA | CW31: Cant. | CX31: UNIDAD DE MEDIDA | CY31: V/r Unit | CZ31: IVA | DA31: V/r Total | DB31: CUMPLE/ NO CUMPLE/ NO OFERTA | DC31: OBSERVACIONES | DD31: REGISTRO INVIMA | DE31: Cant. | DF31: UNIDAD DE MEDIDA | DG31: V/r Unit | DH31: IVA | DI31: V/r Total | DJ31: CUMPLE/ NO CUMPLE/ NO OFERTA | DK31: OBSERVACIONES | DL31: REGISTRO INVIMA | DM31: Cant. | DN31: UNIDAD DE MEDIDA | DO31: V/r Unit | DP31: IVA | DQ31: V/r Total | DR31: CUMPLE/ NO CUMPLE/ NO OFERTA | DS31: OBSERVACIONES | DT31: REGISTRO INVIMA | DU31: Cant. | DV31: UNIDAD DE MEDIDA | DW31: V/r Unit | DX31: IVA | DY31: V/r Total | DZ31: CUMPLE/ NO CUMPLE/ NO OFERTA | EA31: OBSERVACIONES | EB31: REGISTRO INVIMA | EC31: Cant. | ED31: UNIDAD DE MEDIDA | EE31: V/r Unit | EF31: IVA | EG31: V/r Total | EH31: CUMPLE/ NO CUMPLE/ NO OFERTA | EI31: OBSERVACIONES | EJ31: REGISTRO INVIMA | EK31: Cant. | EL31: UNIDAD DE MEDIDA | EM31: V/r Unit | EN31: IVA | EO31: V/r Total | EP31: CUMPLE/ NO CUMPLE/ NO OFERTA | EQ31: OBSERVACIONES
B32: 1 | C32: Tornillo Poliaxial 4.0, 4.5, 5.0, 5.5, 6.0, 6.5 y 7.0 | E32: 1 | F32: UNIDAD | I32: =+(G32+(G32*H32))*E32 -> 0 | J32: NO OFERTADO | M32: 1 | N32: UNIDAD | Q32: =+(O32+(O32*P32))*M32 -> 0 | R32: NO OFERTADO | U32: 1 | V32: UNIDAD | Y32: =+(W32+(W32*X32))*U32 -> 0 | Z32: NO OFERTADO | AB32: 2021DM-0024569 | AC32: 1 | AD32: UNIDAD | AE32: 990000 | AF32: 0 | AG32: =+(AE32+(AE32*AF32))*AC32 -> 990000 | AH32: CUMPLE | AK32: 1 | AL32: UNIDAD | AO32: =+(AM32+(AM32*AN32))*AK32 -> 0 | AP32: NO OFERTADO | AS32: 1 | AT32: UNIDAD | AW32: =+(AU32+(AU32*AV32))*AS32 -> 0 | AX32: NO OFERTADO | AZ32: 2017DM-0016000 | BA32: 1 | BB32: UNIDAD | BC32: 872400 | BD32: 0 | BE32: =+(BC32+(BC32*BD32))*BA32 -> 872400 | BF32: CUMPLE | BG32: subsana | BI32: 1 | BJ32: UNIDAD | BM32: =+(BK32+(BK32*BL32))*BI32 -> 0 | BN32: NO OFERTADO | BQ32: 1 | BR32: UNIDAD | BU32: =+(BS32+(BS32*BT32))*BQ32 -> 0 | BV32: NO OFERTADO | BY32: 1 | BZ32: UNIDAD | CC32: =+(CA32+(CA32*CB32))*BY32 -> 0 | CD32: NO OFERTADO | CG32: 1 | CH32: UNIDAD | CK32: =+(CI32+(CI32*CJ32))*CG32 -> 0 | CL32: NO OFERTADO | CN32: 2022DM-0025052 | CO32: 1 | CP32: UNIDAD | CQ32: 1054300 | CS32: =+(CQ32+(CQ32*CR32))*CO32 -> 1054300 | CT32: CUMPLE | CW32: 1 | CX32: UNIDAD | DA32: =+(CY32+(CY32*CZ32))*CW32 -> 0 | DB32: NO OFERTADO | DE32: 1 | DF32: UNIDAD | DI32: =+(DG32+(DG32*DH32))*DE32 -> 0 | DJ32: NO OFERTADO | DL32: 2015DM-0013964 | DM32: 1 | DN32: UNIDAD | DO32: 760795 | DP32: 0 | DQ32: =+(DO32+(DO32*DP32))*DM32 -> 760795 | DR32: CUMPLE | DU32: 1 | DV32: UNIDAD | DY32: =+(DW32+(DW32*DX32))*DU32 -> 0 | DZ32: NO OFERTADO | EC32: 1 | ED32: UNIDAD | EG32: $ - | EH32: NO OFERTADO | EK32: 1 | EL32: UNIDAD | EO32: =+(EM32+(EM32*EN32))*EK32 -> 0 | EP32: NO OFERTADO
B33: 2 | C33: Tornillos Lumbopelvicos 7.0 y 8.0 | E33: 1 | F33: UNIDAD | I33: =+(G33+(G33*H33))*E33 -> 0 | M33: 1 | N33: UNIDAD | Q33: =+(O33+(O33*P33))*M33 -> 0 | U33: 1 | V33: UNIDAD | Y33: =+(W33+(W33*X33))*U33 -> 0 | AB33: INVIMA 2024DM-0009863-R1 | AC33: 1 | AD33: UNIDAD | AE33: 547200 | AF33: 0 | AG33: =+(AE33+(AE33*AF33))*AC33 -> 547200 | AK33: 1 | AL33: UNIDAD | AO33: =+(AM33+(AM33*AN33))*AK33 -> 0 | AS33: 1 | AT33: UNIDAD | AW33: =+(AU33+(AU33*AV33))*AS33 -> 0 | AZ33: 2017DM-0016000 | BA33: 1 | BB33: UNIDAD | BC33: 872400 | BD33: 0 | BE33: =+(BC33+(BC33*BD33))*BA33 -> 872400 | BI33: 1 | BJ33: UNIDAD | BM33: =+(BK33+(BK33*BL33))*BI33 -> 0 | BQ33: 1 | BR33: UNIDAD | BU33: =+(BS33+(BS33*BT33))*BQ33 -> 0 | BY33: 1 | BZ33: UNIDAD | CC33: =+(CA33+(CA33*CB33))*BY33 -> 0 | CG33: 1 | CH33: UNIDAD | CK33: =+(CI33+(CI33*CJ33))*CG33 -> 0 | CN33: 2022DM-0025052 | CO33: 1 | CP33: UNIDAD | CQ33: 1018700 | CS33: =+(CQ33+(CQ33*CR33))*CO33 -> 1018700 | CW33: 1 | CX33: UNIDAD | DA33: =+(CY33+(CY33*CZ33))*CW33 -> 0 | DE33: 1 | DF33: UNIDAD | DI33: =+(DG33+(DG33*DH33))*DE33 -> 0 | DL33: 2015DM-0013964 | DM33: 1 | DN33: UNIDAD | DO33: 760795 | DP33: 0 | DQ33: =+(DO33+(DO33*DP33))*DM33 -> 760795 | DU33: 1 | DV33: UNIDAD | DY33: =+(DW33+(DW33*DX33))*DU33 -> 0 | EC33: 1 | ED33: UNIDAD | EG33: $ - | EK33: 1 | EL33: UNIDAD | EO33: =+(EM33+(EM33*EN33))*EK33 -> 0
B34: 3 | C34: Tornillos para Fijación a Iliaco y Sacro | E34: 1 | F34: UNIDAD | I34: =+(G34+(G34*H34))*E34 -> 0 | M34: 1 | N34: UNIDAD | Q34: =+(O34+(O34*P34))*M34 -> 0 | U34: 1 | V34: UNIDAD | Y34: =+(W34+(W34*X34))*U34 -> 0 | AB34: 2021DM-0024569 | AC34: 1 | AD34: UNIDAD | AE34: 800000 | AF34: 0 | AG34: =+(AE34+(AE34*AF34))*AC34 -> 800000 | AK34: 1 | AL34: UNIDAD | AO34: =+(AM34+(AM34*AN34))*AK34 -> 0 | AS34: 1 | AT34: UNIDAD | AW34: =+(AU34+(AU34*AV34))*AS34 -> 0 | AZ34: 2017DM-0016000 | BA34: 1 | BB34: UNIDAD | BC34: 872400 | BD34: 0 | BE34: =+(BC34+(BC34*BD34))*BA34 -> 872400 | BI34: 1 | BJ34: UNIDAD | BM34: =+(BK34+(BK34*BL34))*BI34 -> 0 | BQ34: 1 | BR34: UNIDAD | BU34: =+(BS34+(BS34*BT34))*BQ34 -> 0 | BY34: 1 | BZ34: UNIDAD | CC34: =+(CA34+(CA34*CB34))*BY34 -> 0 | CG34: 1 | CH34: UNIDAD | CK34: =+(CI34+(CI34*CJ34))*CG34 -> 0 | CN34: 2022DM-0025052 | CO34: 1 | CP34: UNIDAD | CQ34: 1184600 | CS34: =+(CQ34+(CQ34*CR34))*CO34 -> 1184600 | CW34: 1 | CX34: UNIDAD | DA34: =+(CY34+(CY34*CZ34))*CW34 -> 0 | DE34: 1 | DF34: UNIDAD | DI34: =+(DG34+(DG34*DH34))*DE34 -> 0 | DL34: 2015DM-0013964 | DM34: 1 | DN34: UNIDAD | DO34: 1550000 | DP34: 0 | DQ34: =+(DO34+(DO34*DP34))*DM34 -> 1550000 | DU34: 1 | DV34: UNIDAD | DY34: =+(DW34+(DW34*DX34))*DU34 -> 0 | EC34: 1 | ED34: UNIDAD | EG34: $ - | EK34: 1 | EL34: UNIDAD | EO34: =+(EM34+(EM34*EN34))*EK34 -> 0
B35: 4 | C35: Barra 400 mm a 600 mm Diametro 5.5 a 7.0 (Cromocobalto y Titanio) | E35: 1 | F35: UNIDAD | I35: =+(G35+(G35*H35))*E35 -> 0 | M35: 1 | N35: UNIDAD | Q35: =+(O35+(O35*P35))*M35 -> 0 | U35: 1 | V35: UNIDAD | Y35: =+(W35+(W35*X35))*U35 -> 0 | AB35: 2021DM-0024569 | AC35: 1 | AD35: UNIDAD | AE35: 1104000 | AF35: 0 | AG35: =+(AE35+(AE35*AF35))*AC35 -> 1104000 | AK35: 1 | AL35: UNIDAD | AO35: =+(AM35+(AM35*AN35))*AK35 -> 0 | AS35: 1 | AT35: UNIDAD | AW35: =+(AU35+(AU35*AV35))*AS35 -> 0 | AZ35: 2017DM-0016000 | BA35: 1 | BB35: UNIDAD | BC35: 937500 | BD35: 0 | BE35: =+(BC35+(BC35*BD35))*BA35 -> 937500 | BI35: 1 | BJ35: UNIDAD | BM35: =+(BK35+(BK35*BL35))*BI35 -> 0 | BQ35: 1 | BR35: UNIDAD | BU35: =+(BS35+(BS35*BT35))*BQ35 -> 0 | BY35: 1 | BZ35: UNIDAD | CC35: =+(CA35+(CA35*CB35))*BY35 -> 0 | CG35: 1 | CH35: UNIDAD | CK35: =+(CI35+(CI35*CJ35))*CG35 -> 0 | CN35: 2022DM-0025052 | CO35: 1 | CP35: UNIDAD | CQ35: 1172700 | CS35: =+(CQ35+(CQ35*CR35))*CO35 -> 1172700 | CW35: 1 | CX35: UNIDAD | DA35: =+(CY35+(CY35*CZ35))*CW35 -> 0 | DE35: 1 | DF35: UNIDAD | DI35: =+(DG35+(DG35*DH35))*DE35 -> 0 | DL35: 2015DM-0013964 | DM35: 1 | DN35: UNIDAD | DO35: 815978 | DP35: 0 | DQ35: =+(DO35+(DO35*DP35))*DM35 -> 815978 | DU35: 1 | DV35: UNIDAD | DY35: =+(DW35+(DW35*DX35))*DU35 -> 0 | EC35: 1 | ED35: UNIDAD | EG35: $ - | EK35: 1 | EL35: UNIDAD | EO35: =+(EM35+(EM35*EN35))*EK35 -> 0
B36: 5 | C36: Conector Transverso | E36: 1 | F36: UNIDAD | I36: =+(G36+(G36*H36))*E36 -> 0 | M36: 1 | N36: UNIDAD | Q36: =+(O36+(O36*P36))*M36 -> 0 | U36: 1 | V36: UNIDAD | Y36: =+(W36+(W36*X36))*U36 -> 0 | AB36: INVIMA 2014DM-0002769-R1 | AC36: 1 | AD36: UNIDAD | AE36: 1524000 | AF36: 0 | AG36: =+(AE36+(AE36*AF36))*AC36 -> 1524000 | AK36: 1 | AL36: UNIDAD | AO36: =+(AM36+(AM36*AN36))*AK36 -> 0 | AS36: 1 | AT36: UNIDAD | AW36: =+(AU36+(AU36*AV36))*AS36 -> 0 | AZ36: 2017DM-0016000 | BA36: 1 | BB36: UNIDAD | BC36: 1495400 | BD36: 0 | BE36: =+(BC36+(BC36*BD36))*BA36 -> 1495400 | BI36: 1 | BJ36: UNIDAD | BM36: =+(BK36+(BK36*BL36))*BI36 -> 0 | BQ36: 1 | BR36: UNIDAD | BU36: =+(BS36+(BS36*BT36))*BQ36 -> 0 | BY36: 1 | BZ36: UNIDAD | CC36: =+(CA36+(CA36*CB36))*BY36 -> 0 | CG36: 1 | CH36: UNIDAD | CK36: =+(CI36+(CI36*CJ36))*CG36 -> 0 | CN36: 2022DM-0025052 | CO36: 1 | CP36: UNIDAD | CQ36: 2081500 | CS36: =+(CQ36+(CQ36*CR36))*CO36 -> 2081500 | CW36: 1 | CX36: UNIDAD | DA36: =+(CY36+(CY36*CZ36))*CW36 -> 0 | DE36: 1 | DF36: UNIDAD | DI36: =+(DG36+(DG36*DH36))*DE36 -> 0 | DL36: 2015DM-0013964 | DM36: 1 | DN36: UNIDAD | DO36: 1591022 | DP36: 0 | DQ36: =+(DO36+(DO36*DP36))*DM36 -> 1591022 | DU36: 1 | DV36: UNIDAD | DY36: =+(DW36+(DW36*DX36))*DU36 -> 0 | EC36: 1 | ED36: UNIDAD | EG36: $ - | EK36: 1 | EL36: UNIDAD | EO36: =+(EM36+(EM36*EN36))*EK36 -> 0
B37: 6 | C37: Sistema de Rotacion de Barras de Bajo Perfil ( Rotacion Segmentadrio y Multisegmentaria) | E37: 1 | F37: UNIDAD | I37: =+(G37+(G37*H37))*E37 -> 0 | M37: 1 | N37: UNIDAD | Q37: =+(O37+(O37*P37))*M37 -> 0 | U37: 1 | V37: UNIDAD | Y37: =+(W37+(W37*X37))*U37 -> 0 | AC37: 1 | AD37: UNIDAD | AE37: 0 | AF37: 0 | AG37: =+(AE37+(AE37*AF37))*AC37 -> 0 | AK37: 1 | AL37: UNIDAD | AO37: =+(AM37+(AM37*AN37))*AK37 -> 0 | AS37: 1 | AT37: UNIDAD | AW37: =+(AU37+(AU37*AV37))*AS37 -> 0 | BA37: 1 | BB37: UNIDAD | BC37: 0 | BD37: 0 | BE37: =+(BC37+(BC37*BD37))*BA37 -> 0 | BI37: 1 | BJ37: UNIDAD | BM37: =+(BK37+(BK37*BL37))*BI37 -> 0 | BQ37: 1 | BR37: UNIDAD | BU37: =+(BS37+(BS37*BT37))*BQ37 -> 0 | BY37: 1 | BZ37: UNIDAD | CC37: =+(CA37+(CA37*CB37))*BY37 -> 0 | CG37: 1 | CH37: UNIDAD | CK37: =+(CI37+(CI37*CJ37))*CG37 -> 0 | CN37: 2022DM-0025052 | CO37: 1 | CP37: UNIDAD | CQ37: 1242000 | CS37: =+(CQ37+(CQ37*CR37))*CO37 -> 1242000 | CW37: 1 | CX37: UNIDAD | DA37: =+(CY37+(CY37*CZ37))*CW37 -> 0 | DE37: 1 | DF37: UNIDAD | DI37: =+(DG37+(DG37*DH37))*DE37 -> 0 | DL37: 2015DM-0013964 | DM37: 1 | DN37: UNIDAD | DO37: 1225813 | DP37: 0 | DQ37: =+(DO37+(DO37*DP37))*DM37 -> 1225813 | DU37: 1 | DV37: UNIDAD | DY37: =+(DW37+(DW37*DX37))*DU37 -> 0 | EC37: 1 | ED37: UNIDAD | EG37: $ - | EK37: 1 | EL37: UNIDAD | EO37: =+(EM37+(EM37*EN37))*EK37 -> 0
B38: 7 | C38: Ganchos Laminares y Pediculares | E38: 1 | F38: UNIDAD | I38: =+(G38+(G38*H38))*E38 -> 0 | M38: 1 | N38: UNIDAD | Q38: =+(O38+(O38*P38))*M38 -> 0 | U38: 1 | V38: UNIDAD | Y38: =+(W38+(W38*X38))*U38 -> 0 | AB38: 2021DM-0024569 | AC38: 1 | AD38: UNIDAD | AE38: 1070000 | AF38: 0 | AG38: =+(AE38+(AE38*AF38))*AC38 -> 1070000 | AK38: 1 | AL38: UNIDAD | AO38: =+(AM38+(AM38*AN38))*AK38 -> 0 | AS38: 1 | AT38: UNIDAD | AW38: =+(AU38+(AU38*AV38))*AS38 -> 0 | BA38: 1 | BB38: UNIDAD | BC38: 0 | BD38: 0 | BE38: =+(BC38+(BC38*BD38))*BA38 -> 0 | BI38: 1 | BJ38: UNIDAD | BM38: =+(BK38+(BK38*BL38))*BI38 -> 0 | BQ38: 1 | BR38: UNIDAD | BU38: =+(BS38+(BS38*BT38))*BQ38 -> 0 | BY38: 1 | BZ38: UNIDAD | CC38: =+(CA38+(CA38*CB38))*BY38 -> 0 | CG38: 1 | CH38: UNIDAD | CK38: =+(CI38+(CI38*CJ38))*CG38 -> 0 | CN38: 2022DM-0025052 | CO38: 1 | CP38: UNIDAD | CQ38: 1281400 | CS38: =+(CQ38+(CQ38*CR38))*CO38 -> 1281400 | CW38: 1 | CX38: UNIDAD | DA38: =+(CY38+(CY38*CZ38))*CW38 -> 0 | DE38: 1 | DF38: UNIDAD | DI38: =+(DG38+(DG38*DH38))*DE38 -> 0 | DL38: 2015DM-0013964 | DM38: 1 | DN38: UNIDAD | DO38: 1792784 | DP38: 0 | DQ38: =+(DO38+(DO38*DP38))*DM38 -> 1792784 | DU38: 1 | DV38: UNIDAD | DY38: =+(DW38+(DW38*DX38))*DU38 -> 0 | EC38: 1 | ED38: UNIDAD | EG38: $ - | EK38: 1 | EL38: UNIDAD | EO38: =+(EM38+(EM38*EN38))*EK38 -> 0
C39: TOTAL | I39: =SUM(I32:I38) -> 0 | Q39: =SUM(Q32:Q38) -> 0 | Y39: =SUM(Y32:Y38) -> 0 | AG39: =SUM(AG32:AG38) -> 6035200 | AO39: =SUM(AO32:AO38) -> 0 | AW39: =SUM(AW32:AW38) -> 0 | BE39: =SUM(BE32:BE38) -> 5050100 | BM39: =SUM(BM32:BM38) -> 0 | BU39: =SUM(BU32:BU38) -> 0 | CC39: =SUM(CC32:CC38) -> 0 | CK39: =SUM(CK32:CK38) -> 0 | CS39: =SUM(CS32:CS38) -> 9035200 | DA39: =SUM(DA32:DA38) -> 0 | DI39: =SUM(DI32:DI38) -> 0 | DQ39: =SUM(DQ32:DQ38) -> 8497187 | DY39: =SUM(DY32:DY38) -> 0 | EG39: $ - | EO39: =SUM(EO32:EO38) -> 0
B40: 3.2. Kit Transpedicular para Escoliosis Pediatricas
B41: Item | C41: Descripcion | D41: REGISTRO INVIMA | E41: Cant. | F41: UNIDAD DE MEDIDA | G41: V/r Unit | H41: IVA | I41: V/r Total | J41: CUMPLE/ NO CUMPLE/ NO OFERTA | K41: OBSERVACIONES | L41: REGISTRO INVIMA | M41: Cant. | N41: UNIDAD DE MEDIDA | O41: V/r Unit | P41: IVA | Q41: V/r Total | R41: CUMPLE/ NO CUMPLE/ NO OFERTA | S41: OBSERVACIONES | T41: REGISTRO INVIMA | U41: Cant. | V41: UNIDAD DE MEDIDA | W41: V/r Unit | X41: IVA | Y41: V/r Total | Z41: CUMPLE/ NO CUMPLE/ NO OFERTA | AA41: OBSERVACIONES | AB41: REGISTRO INVIMA | AC41: Cant. | AD41: UNIDAD DE MEDIDA | AE41: V/r Unit | AF41: IVA | AG41: V/r Total | AH41: CUMPLE/ NO CUMPLE/ NO OFERTA | AI41: OBSERVACIONES | AJ41: REGISTRO INVIMA | AK41: Cant. | AL41: UNIDAD DE MEDIDA | AM41: V/r Unit | AN41: IVA | AO41: V/r Total | AP41: CUMPLE/ NO CUMPLE/ NO OFERTA | AQ41: OBSERVACIONES | AR41: REGISTRO INVIMA | AS41: Cant. | AT41: UNIDAD DE MEDIDA | AU41: V/r Unit | AV41: IVA | AW41: V/r Total | AX41: CUMPLE/ NO CUMPLE/ NO OFERTA | AY41: OBSERVACIONES | AZ41: REGISTRO INVIMA | BA41: Cant. | BB41: UNIDAD DE MEDIDA | BC41: V/r Unit | BD41: IVA | BE41: V/r Total | BF41: CUMPLE/ NO CUMPLE/ NO OFERTA | BG41: OBSERVACIONES | BH41: REGISTRO INVIMA | BI41: Cant. | BJ41: UNIDAD DE MEDIDA | BK41: V/r Unit | BL41: IVA | BM41: V/r Total | BN41: CUMPLE/ NO CUMPLE/ NO OFERTA | BO41: OBSERVACIONES | BP41: REGISTRO INVIMA | BQ41: Cant. | BR41: UNIDAD DE MEDIDA | BS41: V/r Unit | BT41: IVA | BU41: V/r Total | BV41: CUMPLE/ NO CUMPLE/ NO OFERTA | BW41: OBSERVACIONES | BX41: REGISTRO INVIMA | BY41: Cant. | BZ41: UNIDAD DE MEDIDA | CA41: V/r Unit | CB41: IVA | CC41: V/r Total | CD41: CUMPLE/ NO CUMPLE/ NO OFERTA | CE41: OBSERVACIONES | CF41: REGISTRO INVIMA | CG41: Cant. | CH41: UNIDAD DE MEDIDA | CI41: V/r Unit | CJ41: IVA | CK41: V/r Total | CL41: CUMPLE/ NO CUMPLE/ NO OFERTA | CM41: OBSERVACIONES | CN41: REGISTRO INVIMA | CO41: Cant. | CP41: UNIDAD DE MEDIDA | CQ41: V/r Unit | CR41: IVA | CS41: V/r Total | CT41: CUMPLE/ NO CUMPLE/ NO OFERTA | CU41: OBSERVACIONES | CV41: REGISTRO INVIMA | CW41: Cant. | CX41: UNIDAD DE MEDIDA | CY41: V/r Unit | CZ41: IVA | DA41: V/r Total | DB41: CUMPLE/ NO CUMPLE/ NO OFERTA | DC41: OBSERVACIONES | DD41: REGISTRO INVIMA | DE41: Cant. | DF41: UNIDAD DE MEDIDA | DG41: V/r Unit | DH41: IVA | DI41: V/r Total | DJ41: CUMPLE/ NO CUMPLE/ NO OFERTA | DK41: OBSERVACIONES | DL41: REGISTRO INVIMA | DM41: Cant. | DN41: UNIDAD DE MEDIDA | DO41: V/r Unit | DP41: IVA | DQ41: V/r Total | DR41: CUMPLE/ NO CUMPLE/ NO OFERTA | DS41: OBSERVACIONES | DT41: REGISTRO INVIMA | DU41: Cant. | DV41: UNIDAD DE MEDIDA | DW41: V/r Unit | DX41: IVA | DY41: V/r Total | DZ41: CUMPLE/ NO CUMPLE/ NO OFERTA | EA41: OBSERVACIONES | EB41: REGISTRO INVIMA | EC41: Cant. | ED41: UNIDAD DE MEDIDA | EE41: V/r Unit | EF41: IVA | EG41: V/r Total | EH41: CUMPLE/ NO CUMPLE/ NO OFERTA | EI41: OBSERVACIONES | EJ41: REGISTRO INVIMA | EK41: Cant. | EL41: UNIDAD DE MEDIDA | EM41: V/r Unit | EN41: IVA | EO41: V/r Total | EP41: CUMPLE/ NO CUMPLE/ NO OFERTA | EQ41: OBSERVACIONES
B42: 1 | C42: Tornillo Poliaxial 4.0 4.5 5.0 | E42: 1 | F42: UNIDAD | I42: =+(G42+(G42*H42))*E42 -> 0 | J42: NO OFERTADO | M42: 1 | N42: UNIDAD | Q42: =+(O42+(O42*P42))*M42 -> 0 | R42: NO OFERTADO | U42: 1 | V42: UNIDAD | Y42: =+(W42+(W42*X42))*U42 -> 0 | Z42: NO OFERTADO | AC42: 1 | AD42: UNIDAD | AG42: =+(AE42+(AE42*AF42))*AC42 -> 0 | AH42: NO OFERTADO | AK42: 1 | AL42: UNIDAD | AO42: =+(AM42+(AM42*AN42))*AK42 -> 0 | AP42: NO OFERTADO | AS42: 1 | AT42: UNIDAD | AW42: =+(AU42+(AU42*AV42))*AS42 -> 0 | AX42: NO OFERTADO | BA42: 1 | BB42: UNIDAD | BE42: =+(BC42+(BC42*BD42))*BA42 -> 0 | BF42: NO OFERTADO | BI42: 1 | BJ42: UNIDAD | BM42: =+(BK42+(BK42*BL42))*BI42 -> 0 | BN42: NO OFERTADO | BQ42: 1 | BR42: UNIDAD | BU42: =+(BS42+(BS42*BT42))*BQ42 -> 0 | BV42: NO OFERTADO | BY42: 1 | BZ42: UNIDAD | CC42: =+(CA42+(CA42*CB42))*BY42 -> 0 | CD42: NO OFERTADO | CG42: 1 | CH42: UNIDAD | CK42: =+(CI42+(CI42*CJ42))*CG42 -> 0 | CL42: NO OFERTADO | CN42: 2022DM-0025052 | CO42: 1 | CP42: UNIDAD | CQ42: 1667500 | CS42: =+(CQ42+(CQ42*CR42))*CO42 -> 1667500 | CT42: CUMPLE | CV42: 2023DM-0008815-R1 | CW42: 1 | CX42: UNIDAD | CY42: 771300 | CZ42: 0 | DA42: =+(CY42+(CY42*CZ42))*CW42 -> 771300 | DB42: NO CUMPLE | DC42: BARRAS CORRUGADAS , INSTRUMENTAL DE DIFICIL MANIPULACION, NO TIENE DESROTADORES PARA REALIZAR CORRECIONES DE GRANDES DEFORMIDADES | DE42: 1 | DF42: UNIDAD | DI42: =+(DG42+(DG42*DH42))*DE42 -> 0 | DJ42: NO OFERTADO | DL42: 2015DM-0013964 | DM42: 1 | DN42: UNIDAD | DO42: 760795 | DP42: 0 | DQ42: =+(DO42+(DO42*DP42))*DM42 -> 760795 | DR42: CUMPLE | DU42: 1 | DV42: UNIDAD | DY42: =+(DW42+(DW42*DX42))*DU42 -> 0 | DZ42: NO OFERTADO | EC42: 1 | ED42: UNIDAD | EG42: $ - | EH42: NO OFERTADO | EK42: 1 | EL42: UNIDAD | EO42: =+(EM42+(EM42*EN42))*EK42 -> 0 | EP42: NO OFERTADO
B43: 2 | C43: Tornillos para Fijación a Iliaco y Sacro | E43: 1 | F43: UNIDAD | I43: =+(G43+(G43*H43))*E43 -> 0 | M43: 1 | N43: UNIDAD | Q43: =+(O43+(O43*P43))*M43 -> 0 | U43: 1 | V43: UNIDAD | Y43: =+(W43+(W43*X43))*U43 -> 0 | AC43: 1 | AD43: UNIDAD | AG43: =+(AE43+(AE43*AF43))*AC43 -> 0 | AK43: 1 | AL43: UNIDAD | AO43: =+(AM43+(AM43*AN43))*AK43 -> 0 | AS43: 1 | AT43: UNIDAD | AW43: =+(AU43+(AU43*AV43))*AS43 -> 0 | BA43: 1 | BB43: UNIDAD | BE43: =+(BC43+(BC43*BD43))*BA43 -> 0 | BI43: 1 | BJ43: UNIDAD | BM43: =+(BK43+(BK43*BL43))*BI43 -> 0 | BQ43: 1 | BR43: UNIDAD | BU43: =+(BS43+(BS43*BT43))*BQ43 -> 0 | BY43: 1 | BZ43: UNIDAD | CC43: =+(CA43+(CA43*CB43))*BY43 -> 0 | CG43: 1 | CH43: UNIDAD | CK43: =+(CI43+(CI43*CJ43))*CG43 -> 0 | CN43: 2022DM-0025052 | CO43: 1 | CP43: UNIDAD | CQ43: 1517500 | CS43: =+(CQ43+(CQ43*CR43))*CO43 -> 1517500 | CV43: 2023DM-0008815-R1 | CW43: 1 | CX43: UNIDAD | CY43: 771300 | CZ43: 0 | DA43: =+(CY43+(CY43*CZ43))*CW43 -> 771300 | DE43: 1 | DF43: UNIDAD | DI43: =+(DG43+(DG43*DH43))*DE43 -> 0 | DL43: 2015DM-0013964 | DM43: 1 | DN43: UNIDAD | DO43: 1550000 | DP43: 0 | DQ43: =+(DO43+(DO43*DP43))*DM43 -> 1550000 | DU43: 1 | DV43: UNIDAD | DY43: =+(DW43+(DW43*DX43))*DU43 -> 0 | EC43: 1 | ED43: UNIDAD | EG43: $ - | EK43: 1 | EL43: UNIDAD | EO43: =+(EM43+(EM43*EN43))*EK43 -> 0
...

Sheet REEMPLAZOS ARTICULARES 
B2: GRUPO REEMPLAZOS ARTICULARES
D6: AMAREY NOVA MEDICAL S.A | L6: BIOART S.A | T6: DIPROMEDICOS S.AS | AB6: DISORTHO S.A.S | AJ6: EDM EQUIPOS Y DISPOSITIVOS MEDICOS S.AS | AR6: EXEL MEDICAL S.A.S | AZ6: IMPLAMEQ S.A.S | BH6: INNOMED S.A | BP6: JYJ MEDTECH | BX6: LOGYSMED | CF6: MEDIREX S.A.S | CN6: NEUROSPINE S.A.S | CV6: ORTOMAC S.A.S | DD6: OSTEOTECH IMPLANTES QUIRURGICOS S.A.S | DL6: PROMED QUIRURGICOS | DT6: SAMPEDRO S.A | EB6: SMITH & NEPHEW COLOMBIA SAS | EJ6: W. LORENZ HOLDING S.A.S
G7: ITEM | H7: DESCRIPCION | O7: ITEM | P7: DESCRIPCION | W7: ITEM | X7: DESCRIPCION | AE7: ITEM | AF7: DESCRIPCION | AM7: ITEM | AN7: DESCRIPCION | AU7: ITEM | AV7: DESCRIPCION | BC7: ITEM | BD7: DESCRIPCION | BK7: ITEM | BL7: DESCRIPCION | BS7: ITEM | BT7: DESCRIPCION | CA7: ITEM | CB7: DESCRIPCION | CI7: ITEM | CJ7: DESCRIPCION | CQ7: ITEM | CR7: DESCRIPCION | CY7: ITEM | CZ7: DESCRIPCION | DG7: ITEM | DH7: DESCRIPCION | DO7: ITEM | DP7: DESCRIPCION | DW7: ITEM | DX7: DESCRIPCION | EE7: ITEM | EF7: DESCRIPCION | EM7: ITEM | EN7: DESCRIPCION
B8: 1. PROTESIS PARA REEMPLAZO TOTAL DE CADERA PRIMARIA | G8: APOYO TECNOLOGICO: | O8: APOYO TECNOLOGICO: | P8: MOTOR ELECTRICO, INSTRUMENTAL Y SEPARADORES NECESARIOS PARA LA COLOCACIÓN DEL MATERIAL | W8: APOYO TECNOLOGICO: | X8: SEPARADORES ESPECIALES DE COLUMNA Y CADERA, MOTORES, SIERRAS E INSTRUMENTAL NECESARIO REQUERIDOS PARA LA IMPLANTACION DEL MATERIAL | AE8: APOYO TECNOLOGICO: | AF8: el Indicado en la hoja OBSERVACIONES APOYO TECNOLOGICO por linea | AM8: APOYO TECNOLOGICO: | AU8: APOYO TECNOLOGICO: | BC8: APOYO TECNOLOGICO: | BK8: APOYO TECNOLOGICO: | BS8: APOYO TECNOLOGICO: | CA8: APOYO TECNOLOGICO: | CI8: APOYO TECNOLOGICO: | CQ8: APOYO TECNOLOGICO: | CY8: APOYO TECNOLOGICO: | DG8: APOYO TECNOLOGICO: | DH8: SEPARADORES ESPECIALES DE COLUMNA Y CADERA, MOTORES, SIERRAS E INSTRUMENTAL NECESARIO REQUERIDOS PARA LA IMPLANTACION DEL MATERIAL | DO8: APOYO TECNOLOGICO: | DW8: APOYO TECNOLOGICO: | EE8: APOYO TECNOLOGICO: | EF8: SEPARADORES ESPECIALES DE COLUMNA Y CADERA, MOTORES, SIERRAS E INSTRUMENTAL NECESARIO REQUERIDOS PARA LA IMPLANTACION DEL MATERIAL | EM8: APOYO TECNOLOGICO:
C9: 1.1 Kit Protesis Total de Cadera Primaria Cementada y no Cementada con Opciones de Cabezas de Tamaño 32 mm | EF9: DEBERA CONTAR CON BROCAS, TARRAJAS Y TODO EL INSTRUMENTAL REQUERIDO PARA LA FIJACION DEL MATERIAL DE OSTEOSINTESIS, MOTORES DISPONIBLES EN SISTEMAS NEUMATICOS, DE BATERIA Y/O ELECTRICO CON TORQUE, POTENCIA, DISEÑO ERGONOMICO Y TAMAÑO DE ACUERDO AL PROCEDIMIENTO QUIRURGICO A REALIZAR, LOS CUALES DEBERAN SER INCLUIDOS CON LAS SOLICITUDES DE MATERIAL DE OSTEOSINTESIS Y CON POSIBILIDAD DE MANTENER EN STOCK DE ACUERDO A LAS NECESIDADES. SUMINISTRAR EL INSTRUMENTAL NECESARIO PARA EL RETIRO DEL MISMO ( SET DE TORNILLOS ROTOS EN CASO QUE SE REQUIERA) , DISPONIBILIDAD SET DE TORNILLOS ROTOS, EN EL CASO QUE EL SET INCLUYA CLAVOS DE KIRSCHNER O DE STEIMMAN DEBEN INCLUIR EL INSTRUMENTAL PARA SU RESPECTIVO CORTE Y COLOCACION.
