Workbook
Name tematicas_exp_consultor: '[1]CONTROL DE CONDICIONES DE EVALU'!$O$3:$P$9

Sheet RESUMEN HABILITANTES TÉC
A1: MINISTERIO DE MINAS Y ENERGÍA
A2: EVALUACIÓN TÉCNICA
A3: CONCURSO DE MERITOS CM-06-2020
A4: VERIFICACION REQUISITOS HABILITANTES TÉCNICOS
A6: Objeto:
A7: Conceptualización y elaboración de propuesta de lineamientos técnicos de política de buenas prácticas para estandarizar los procesos de la actividad minera relacionados con Presas de relaves y Drenajes Ácidos de acuerdo con las buenas prácticas internacionales
A9: PROPONENTE | B9: DETALLE | C9: 3.4 EXPERIENCIA GENERAL DEL CONSULTOR | D9: 3.5 FORMACIÓN ACADÉMICA Y EXPERIENCIA DEL EQUIPO DE TRABAJO
A10: UT TATAN | B10: NO ANEXÓ INFORMACIÓN | C10: NO PRESENTÓ DOCUMENTOS | D10: NO PRESENTÓ DOCUMENTOS
A11: BETA GROUP SERVICES SAS | B11: NIT. 900883191-1 No. Proponente Cámara de Comercio: 00059219 RL: GARCIA BETANCUR ROBERTO GARCIA BETANCUR JORGE MAURICIO | C11: HABILITA | D11: NO HABILITA
A12: INERCO CONSULTORÍA COLOMBIA LTDA | B12: NIT. 800.247.308-6 No Proponente Cámara de Comercio: 00005153 RL: FERNÁNDEZ BACO LAURA ESCOBAR GAEZ JOSÉ JOAQUIN | C12: HABILITA | D12: NO HABILITA
A13: UNIVERSIDAD NACIONAL DE COLOMBIA | B13: NIT. 899999063-3 No. Proponente Cámara de Comercio:00022912 RL: MONTOYA CASTAÑO DOLLY | C13: HABILITA | D13: HABILITA
A14: ATG LTDA | B14: NIT. 830000728-4 No. Proponente Cámara de Comercio:00016874 RL: JHON MAURICIO ALFONSO RUBIO | C14: HABILITA | D14: HABILITA
A16: EVALUADOR TÉCNICO: Oswald Maya Sánchez - Contratista Ing. Minas y Metalurgia-DME Rafel E. García Olano - Profesional Especializado-DME

Sheet EXPERIENCIA GENERAL
A1: ='RESUMEN HABILITANTES TÉC'!A1 -> MINISTERIO DE MINAS Y ENERGÍA
A2: ='RESUMEN HABILITANTES TÉC'!A3 -> CONCURSO DE MERITOS CM-06-2020
A3: ='RESUMEN HABILITANTES TÉC'!A4 -> VERIFICACION REQUISITOS HABILITANTES TÉCNICOS
A4: ='RESUMEN HABILITANTES TÉC'!C9 -> 3.4 EXPERIENCIA GENERAL DEL CONSULTOR
A6: PROPONENTE | B6: No. | C6: CÓDIGO UNSPSC RELACIONADOS | D6: CONSECUTIVO EN RUP: | E6: ENTIDAD CONTRATANTE O EMPLEADORA | F6: EQUIVALENTE EN SMMLV | G6: % DE HABILITACION | H6: OBSERVACIONES
A7: P1. UT TATAN | B7: 1 | C7: N.R. | D7: N.R. | E7: N,R, | F7: 0 | G7: =F7/395 -> 0 | H7: NO ANEXÓ DOCUMENTOS
B8: TOTAL EXPERIENCIA ACREDITADA (SMMLV) | F8: =F7 -> 0 | G8: =+G7 -> 0 | H8: NO HABILITADO
A9: P2. BETA GROUP SERVICES SAS | B9: 1 | C9: 80101500 80101600 81131500 | D9: 18 | E9: MINISTERIO DE COMERCIO INDUSTRIA Y TURISMO | F9: 3832.04 | G9: =F9/395 -> 9.7013671 | H9: Documentación aportada soporte de la experiencia - ANEXO 9. FORMATO PARA LA PRESENTACION DE LA EXPERIENCIA GENERAL DEL CONSULTOR - HABILITANTE.xls - RUP: Pag.15 DE 23
B10: 2 | C10: 80101500 80101600 81131500 | D10: 17 | E10: MINISTERIO DE COMERCIO INDUSTRIA Y TURISMO | F10: 1545.25 | G10: =F10/395 -> 3.9120253 | H10: Documentación aportada soporte de la experiencia - ANEXO 9. FORMATO PARA LA PRESENTACION DE LA EXPERIENCIA GENERAL DEL CONSULTOR - HABILITANTE.xls - RUP: Pag.14 DE 23
B11: TOTAL EXPERIENCIA ACREDITADA (SMMLV) | F11: =+F9+F10 -> 5377.29 | G11: =+G9+G10 -> 13.613392 | H11: HABILITADO
A12: P3. INERCO COLOMBIA SAS | B12: 1 | C12: 801015 801016 | D12: 271 | E12: SACYR CONSTRUCCIÓN COLOMBIA S.A.S | F12: 4281.87 | G12: =F12/395 -> 10.840177 | H12: Documentación aportada soporte de la experiencia - ANEXO 9. FORMATO PARA LA PRESENTACION DE LA EXPERIENCIA GENERAL DEL CONSULTOR - HABILITANTE.PDF - RUP: Pag.48 DE 86
B13: 2 | C13: 801015 801016 | D13: 228 | E13: INSTITUTO DE HIDROLOGÍA, METEOROLOGÍA Y ESTUDIOS AMBIENTALES - IDEAM | F13: 684.09 | G13: =F13/395 -> 1.7318734 | H13: Documentación aportada soporte de la experiencia - ANEXO 9. FORMATO PARA LA PRESENTACION DE LA EXPERIENCIA GENERAL DEL CONSULTOR - HABILITANTE.PDF - RUP: Pag.41 DE 86
B14: 3 | C14: 801015 801016 | D14: 61 | E14: MINISTERIO DE AMBIENTE, VIVIENDA Y DESARROLLO TERRITORIAL | F14: 357.28 | H14: Documentación aportada soporte de la experiencia - ANEXO 9. FORMATO PARA LA PRESENTACION DE LA EXPERIENCIA GENERAL DEL CONSULTOR - HABILITANTE.PDF - RUP: Pag.15 DE 86 -Solo se tiene en cuenta las 2 primeras experiencias relacionadas
B15: TOTAL EXPERIENCIA ACREDITADA (SMMLV) | F15: =SUM(F12:F14) -> 5323.24 | G15: =SUM(G12:G14) -> 12.572051 | H15: HABILITADO
A16: P4. UNIVERSIDAD NACIONAL DE COLOMBIA | B16: 1 | C16: 801015 - 801016 - - 811315 - | D16: 336 | E16: CONSULTORIA PARA LOS DERECHOS HUMANOS Y EL DESPLAZAMIENTO CODHES | F16: 3139.81 | G16: =F16/332 -> 9.457259 | H16: Documentación aportada soporte de la experiencia - ANEXO 9. FORMATO PARA LA PRESENTACION DE LA EXPERIENCIA GENERAL DEL CONSULTOR - HABILITANTE.PDF - RUP: Pag.67 de 358
B17: 2 | C17: 811315 - 851517 - 931316 | D17: 1026 | E17: INSTITUTO COLOMBIANO DE BIENESTAR FAMILIAR CECILIA DE LA FUENTE DE LLERAS | F17: 1992.75 | H17: Documentación aportada soporte de la experiencia - ANEXO 9. FORMATO PARA LA PRESENTACION DE LA EXPERIENCIA GENERAL DEL CONSULTOR - HABILITANTE.PDF - RUP: Pag.175 de 358 No se relacionan el minimo de 2 codigos solicitados via pliego
B18: 3 | C18: 801015 - 801016 - - 811315 - | D18: 1153 | E18: INSTITUTO DE DESARROLLO URBANO | F18: 1551.95 | G18: =F18/332 -> 4.6745482 | H18: Documentación aportada soporte de la experiencia - ANEXO 9. FORMATO PARA LA PRESENTACION DE LA EXPERIENCIA GENERAL DEL CONSULTOR - HABILITANTE.PDF
B19: TOTAL EXPERIENCIA ACREDITADA (SMMLV) | F19: =SUM(F16:F18) -> 6684.51 | G19: =SUM(G16:G18) -> 14.131807 | H19: HABILITADO
A20: P5. ATG LTDA | B20: 1 | C20: 80101600 81102000 | D20: 176 | E20: EMPRESA NACIONAL MINERA MINERCOL | F20: 1022.21 | G20: =(F20/395) -> 2.5878734 | H20: Documentación aportada soporte de la experiencia - ANEXO 9. EXPERIENCIA GENERAL DEL CONSULTOR . pdf - RUP ATG LTDA: Pag. 26 y 69 . Pdf
B21: 2 | C21: 80101600 81102000 | D21: 53 | E21: ALCALDIA MUNICIPIO DE UNION PANAMERICANA | F21: 342.23 | G21: =(F21/395) -> 0.86640506 | H21: Documentación aportada soporte de la experiencia - ANEXO 9. FORMATO PARA LA PRESENTACION DE LA EXPERIENCIA GENERAL DEL CONSULTOR - HABILITANTE.xls - RUP: Pag.12 y 14
B22: TOTAL EXPERIENCIA ACREDITADA (SMMLV) | F22: =F21+F20 -> 1364.44 | G22: =+G20+G21 -> 3.4542785 | H22: HABILITADO
A26: EVALUADOR TÉCNICO: Oswald Maya Sánchez - Contratista Ing. Minas y Metalurgia-DME Rafel E. García Olano - Profesional Especializado-DME

Sheet REQUISITOS-RH UT TATAN
A1: ='RESUMEN HABILITANTES TÉC'!A1 -> MINISTERIO DE MINAS Y ENERGÍA
A2: ='RESUMEN HABILITANTES TÉC'!A3 -> CONCURSO DE MERITOS CM-06-2020
A3: ='RESUMEN HABILITANTES TÉC'!A4 -> VERIFICACION REQUISITOS HABILITANTES TÉCNICOS
A4: ='RESUMEN HABILITANTES TÉC'!D9 -> 3.5 FORMACIÓN ACADÉMICA Y EXPERIENCIA DEL EQUIPO DE TRABAJO
A6: PROPONENTE | D6: UT TATAN
A7: REQUISITO
A8: ITEM | B8: CANTIDAD | C8: CARGO | D8: FORMACIÓN ACADÉMICA | E8: CÓDIGO CINE | F8: TÍTULO | G8: EXPERIENCIA PROFESIONAL GENERAL Y RELACIONADA
A9: 1 | B9: 1 | C9: Director del Proyecto Dedicación: 50% | D9: Profesional con titulo de postgrado | E9: Para profesional: 655, 656, 665, 666 Para nivel de postgrado: especialización o maestría: 747, 748, 757, 758, 767, 768. Doctorado:844, 854, 864 | F9: Profesión: Ingeniería de minas y metalurgia, ingeniería de minas. Postgrado: En la modalidad de Especialización o Maestría o Doctorado en Gerencia de proyectos o gerencia de operaciones o Ingeniería de Minas o Gerencia de Producción y Operación o gerencia para medio ambiente o administración de empresas o evaluación de proyectos o evaluación y gerencia de proyectos o ingeniería ambiental y energética o evaluación y desarrollo de proyectos o gerencia ambiental o ingeniería de calidad y el comportamiento o Gestión de Proyectos o Gerencia de Proyectos de Ingeniería o Gerencia de Proyectos de Ingeniería. | G9: Experiencia profesional:10 años en el sector minero. Experiencia relacionada mínima de cinco (5) años en Dirección y/o Coordinación y/o Gerente de proyectos para el sector minero, cuyo objeto u obligaciones comprenda la actividad minera del desarrollo y/o implementación de buenas prácticas en la actividad minera y/o mejoramiento de procesos de esta industria y/o desarrollo, optimización y/o garantización de los procesos operativos en el sector minero y/o planeación y/o programación minera y/o técnicas de optimización de producción.
A10: EVALUACIÓN DE CUMPLIMIENTO
A11: ACREDITACIÓN REQUISITOS ACADEMICOS
A12: NOMBRE | F12: CÉDULA DE CIUDADANÍA
A13: TITULO PROFESIONAL | D13: TARJETA PROFESIONAL | F13: FECHA DE EXPEDICIÓN
A14: TITULO POSGRADO | E14: CÓDIGO CINE | F14: N/A
A15: DOCUMENTOS REQUERIDOS COMO SOPORTE | D15: APORTADO | E15: ARCHIVO | F15: OBSERVACIONES
A16: Cédula de ciudadanía | F16: NO ANEXÓ INFORMACIÓN
A17: Diploma de grado profesional o Acta de grado
A18: Diploma especialización
A19: Tarjeta profesional
A20: Carta de compromiso firmada
A21: ACREDITACIÓN EXPERIENCIA GENERAL Y ESPECIFICA
A22: No. | B22: NOMBRE DEL PROYECTO | C22: ENTIDAD CONTRATANTE O EMPLEADORA | D22: CARGO OCUPADO | E22: FUNCIONES DESEMPEÑADAS | G22: FECHA DE INICIO | H22: FECHA DE RETIRO | I22: EXPERIENCIA (Años)
A23: 1
A24: DOCUMENTOS REQUERIDOS COMO SOPORTE | D24: APORTADO | E24: ARCHIVO | F24: OBSERVACIONES
A25: Certificación laboral | F25: NO ANEXO INFORMACIÓN
A26: Registro en Anexo Técnico 10
A27: TIEMPO TOTAL DE EXPERIENCIA ACREDITADA (AÑOS) | E27: =SUM(I23) -> 0 | F27: NO ANEXO INFORMACIÓN
A29: REQUISITO
A30: ITEM | B30: CANTIDAD | C30: CARGO | D30: FORMACIÓN ACADÉMICA | E30: CÓDIGO CINE | F30: TÍTULO | G30: EXPERIENCIA PROFESIONAL GENERAL Y RELACIONADA
A31: 2 | B31: 1 | C31: Profesional en minería Dedicación:100% | D31: Profesional con titulo | E31: Para profesional: 655, 656, 665, 666 Para nivel de postgrado: especialización o maestría: 747, 748, 757, 758, 767, 768. Doctorado:844, 854, 864 | F31: Profesión: Ingeniería de minas y metalurgia o ingeniería de minas o Ingeniería Metalúrgica. | G31: Experiencia profesional: 7 años en el sector minero. Experiencia profesional relacionada mínima de tres (3) años en procesos de presas y relaves y/o desechos minerales asociados a proyectos mineros y/o investigaciones relacionadas con procesos de presas y relaves y/o desechos minerales
A32: EVALUACIÓN DE CUMPLIMIENTO
A33: ACREDITACIÓN REQUISITOS ACADEMICOS
A34: NOMBRE | F34: CÉDULA DE CIUDADANÍA
A35: TITULO PROFESIONAL | C35: INGENIERA MECÁNICA: 29/03/2011 | D35: TARJETA PROFESIONAL | F35: FECHA DE EXPEDICIÓN
A36: TITULO POSGRADO | E36: CÓDIGO CINE | F36: N/A
A37: DOCUMENTOS REQUERIDOS COMO SOPORTE | D37: APORTADO | E37: ARCHIVO | F37: OBSERVACIONES
A38: Cédula de ciudadanía | F38: NO ANEXÓ INFORMACIÓN
A39: Diploma de grado profesional o Acta de grado
A40: Diploma especialización
A41: Tarjeta profesional
A42: Carta de compromiso firmada
...

Sheet REQUISITOS -RH BETA GROUP
A1: ='RESUMEN HABILITANTES TÉC'!A1 -> MINISTERIO DE MINAS Y ENERGÍA
A2: ='RESUMEN HABILITANTES TÉC'!A3 -> CONCURSO DE MERITOS CM-06-2020
A3: ='RESUMEN HABILITANTES TÉC'!A4 -> VERIFICACION REQUISITOS HABILITANTES TÉCNICOS
A4: ='RESUMEN HABILITANTES TÉC'!D9 -> 3.5 FORMACIÓN ACADÉMICA Y EXPERIENCIA DEL EQUIPO DE TRABAJO
A6: PROPONENTE | D6: BETA GROUP SERVICES SAS
A7: REQUISITO
A8: ITEM | B8: CANTIDAD | C8: CARGO | D8: FORMACIÓN ACADÉMICA | E8: CÓDIGO CINE | F8: TÍTULO | G8: EXPERIENCIA PROFESIONAL GENERAL Y RELACIONADA
A9: 1 | B9: 1 | C9: Director del Proyecto Dedicación: 50% | D9: Profesional con titulo de postgrado | E9: Para profesional: 655, 656, 665, 666 Para nivel de postgrado: especialización o maestría: 747, 748, 757, 758, 767, 768. Doctorado:844, 854, 864 | F9: Profesión: Ingeniería de minas y metalurgia, ingeniería de minas. Postgrado: En la modalidad de Especialización o Maestría o Doctorado en Gerencia de proyectos o gerencia de operaciones o Ingeniería de Minas o Gerencia de Producción y Operación o gerencia para medio ambiente o administración de empresas o evaluación de proyectos o evaluación y gerencia de proyectos o ingeniería ambiental y energética o evaluación y desarrollo de proyectos o gerencia ambiental o ingeniería de calidad y el comportamiento o Gestión de Proyectos o Gerencia de Proyectos de Ingeniería o Gerencia de Proyectos de Ingeniería. | G9: Experiencia profesional:10 años en el sector minero. Experiencia relacionada mínima de cinco (5) años en Dirección y/o Coordinación y/o Gerente de proyectos para el sector minero, cuyo objeto u obligaciones comprenda la actividad minera del desarrollo y/o implementación de buenas prácticas en la actividad minera y/o mejoramiento de procesos de esta industria y/o desarrollo, optimización y/o garantización de los procesos operativos en el sector minero y/o planeación y/o programación minera y/o técnicas de optimización de producción.
A10: EVALUACIÓN DE CUMPLIMIENTO
A11: ACREDITACIÓN REQUISITOS ACADEMICOS
A12: NOMBRE | C12: JAVIER ALFONSO NAVARRO PRADO | F12: CÉDULA DE CIUDADANÍA | G12: 88.253.561
A13: TITULO PROFESIONAL | C13: INGENIERO DE MINAS | D13: TARJETA PROFESIONAL | E13: 54218173645NTS | F13: FECHA DE EXPEDICIÓN | G13: 40045
A14: TITULO POSGRADO | C14: ESPECIALISTA GERENCIA DE PROYECTOS | E14: CÓDIGO CINE | F14: N/A
A15: DOCUMENTOS REQUERIDOS COMO SOPORTE | D15: APORTADO | E15: ARCHIVO | F15: OBSERVACIONES
A16: Cédula de ciudadanía | D16: SI | E16: Archivo RAR. Director. PDF | F16: - El recurso humano cumple con los requisitos académicos requeridos dentro del presente proceso.
A17: Diploma de grado profesional o Acta de grado | D17: SI | E17: Archivo RAR. Director. PDF
A18: Diploma especialización | D18: SI | E18: Archivo RAR. Director. PDF
A19: Tarjeta profesional | D19: SI | E19: Archivo RAR. Director. PDF
A20: Carta de compromiso firmada | E20: ARCHIVO RAR DIRECTOR. CARTA AUTORIZACIÓN DIRECTOR | F20: FORMACIÓN ACADÉMICA ACREDITADA
A21: ACREDITACIÓN EXPERIENCIA GENERAL Y ESPECIFICA
A22: No. | B22: NOMBRE DEL PROYECTO | C22: ENTIDAD CONTRATANTE O EMPLEADORA | D22: CARGO OCUPADO | E22: FUNCIONES DESEMPEÑADAS | G22: FECHA DE INICIO | H22: FECHA DE RETIRO | I22: EXPERIENCIA (Años)
A23: 1 | B23: N.R. | C23: COQUECOL S.A. C.I. | D23: ASESOR TÉCNICO DE MINERÍA | E23: EN LA CERTIFICACIÓN NO HAY DESCRIPCIÓN DE ACTIVIDADES | G23: 40544 | H23: 40729
A24: 2 | B24: N.R. | C24: COMPAÑÍA MINERA COLOMBO AMERICANA DE CARBON SAS | D24: GERENTE GENERAL | E24: Dirigir proyectos mineros con el objeto de optimizar y mejorar los procesos de desarrollo y explotación enfocados en la productividad y las utilidades, siendo competitivas en los mercados fluctuantes de la minería. Desarrollar e implementar buenas prácticas de explotación y desarrollo en minería. Optimizar y/o garantizar los procesos operativos y administrativos de la operación minera Mantener los niveles de producción para el cumplimiento de los objetivos de la empresa. | G24: 40738 | H24: 43329 | I24: =(H24-G24)/365 -> 7.0986301
A25: 3 | B25: N.R. | C25: CARBOMAS SAS | D25: GERENTE REGIONAL DE MINERÍA | E25: Planificar y controlar las operaciones de las unidades mineras subterráneas y a superficie con la finalidad de asegurar el cumplimiento de las metas de producción, costos, seguridad y demás. Planificar y controlarel programa de producción de mina, planta y mantenimiento para asegurar el cumplimiento de los objetivos de producción establecidos según los costos presupuestados. Coordinar con el área de geología el plan de eploración a desarrollar. Diseñar e implementar métodos de explotación minera basados en mantener la integridad del resurso humano, los costos, producción, seguridad, logísstica, enfocados al cumplimiento de la productividad y utilidad proyectada. Controlar el cumplimiento del plan anual de seguridad, salud, medio ambiente, responsabilidad social, así como los planes para la gestión del capital humano de la empresa. Diseñar el presupuesto anual de operaciones y el presupiuesto anual de inversiones para asegurar un costo de producción adecuado y realizar las inversiones necesarias que permitan mantener los equipos e infraestructura en condiciones que permitan cumplir los objetivos de producción. | G25: 43346 | H25: 44030 | I25: =(H25-G25)/365 -> 1.8739726
A26: 4 | B26: N.R. | C26: MINEROS DE CUCUNUBÁ P.C.T.A. | D26: JEFE DE OPERACIÓN | E26: EN LA CERTIFICACIÓN NO HAY DESCRIPCIÓN DE ACTIVIDADES | G26: 40045 | H26: 40527
A27: DOCUMENTOS REQUERIDOS COMO SOPORTE | D27: APORTADO | E27: ARCHIVO | F27: OBSERVACIONES
A28: Certificación laboral | D28: SI | E28: ARCHIVO RAR. DIRECTOR. 3.LABORALES | F28: *Faltan las descripciones de las actividades en las certificaciones de la empresa Coquecol S.A. C.I. y de la empresa Mineros de Cucunubá PCTA. *Se tomó la fecha de la tarjeta profesional para el cálculo del tiempo de experiencia general en la empresa Mineros Cucunubá PCTA. *Se tomó la certificación de la empresa Compañía Minera Colombo Americana de Carbón SAS para la experiencia específica. La información allegada, luego de su revisión, NO permite concluir que el profesional cumple con los requisitos establecidos en el pliego en cuanto a la experiencia general solicitada.
A29: Registro en Anexo Técnico 10 | D29: SI | E29: Archivo RAR. Director. PDF: ANEXO FORMACIÓN PROFESIONAL Y EXPERIENCIA DEL EQUIPO DE TRABAJO (REQUISITOS TÉCNICOS DE LA OFERTA - MÍNIMO REQUERIDO)
A30: TIEMPO TOTAL DE EXPERIENCIA ACREDITADA (AÑOS) | F30: NO CUMPLE
A32: REQUISITO
A33: ITEM | B33: CANTIDAD | C33: CARGO | D33: FORMACIÓN ACADÉMICA | E33: CÓDIGO CINE | F33: TÍTULO | G33: EXPERIENCIA PROFESIONAL GENERAL Y RELACIONADA
A34: 2 | B34: 1 | C34: Profesional en minería Dedicación:100% | D34: Profesional con titulo | E34: Para profesional: 655, 656, 665, 666 Para nivel de postgrado: especialización o maestría: 747, 748, 757, 758, 767, 768. Doctorado:844, 854, 864 | F34: Profesión: Ingeniería de minas y metalurgia o ingeniería de minas o Ingeniería Metalúrgica. | G34: Experiencia profesional: 7 años en el sector minero. Experiencia profesional relacionada mínima de tres (3) años en procesos de presas y relaves y/o desechos minerales asociados a proyectos mineros y/o investigaciones relacionadas con procesos de presas y relaves y/o desechos minerales
A35: EVALUACIÓN DE CUMPLIMIENTO
A36: ACREDITACIÓN REQUISITOS ACADEMICOS
A37: NOMBRE | C37: ANDRES ELIAS ALVAREZ BOTERO | F37: CÉDULA DE CIUDADANÍA | G37: 71.779.536
A38: TITULO PROFESIONAL | C38: INGENIERO DE MINAS Y METALURGICA | D38: TARJETA PROFESIONAL | E38: 05256142772ANT | F38: FECHA DE EXPEDICIÓN | G38: 39219
A39: TITULO POSGRADO | E39: CÓDIGO CINE | F39: N/A
A40: DOCUMENTOS REQUERIDOS COMO SOPORTE | D40: APORTADO | E40: ARCHIVO | F40: OBSERVACIONES
A41: Cédula de ciudadanía | D41: SI | E41: ARCHIVO RAR. 2.PROFESIONAL EN MINERÍA. | F41: - El recurso humano cumple con los requisitos académicos requeridos dentro del presente proceso.
A42: Diploma de grado profesional o Acta de grado | D42: SI | E42: ARCHIVO RAR. 2.PROFESIONAL EN MINERÍA.
...

Sheet REQUISITOS-RH INERCO
A1: ='RESUMEN HABILITANTES TÉC'!A1 -> MINISTERIO DE MINAS Y ENERGÍA
A2: ='RESUMEN HABILITANTES TÉC'!A3 -> CONCURSO DE MERITOS CM-06-2020
A3: ='RESUMEN HABILITANTES TÉC'!A4 -> VERIFICACION REQUISITOS HABILITANTES TÉCNICOS
A4: ='RESUMEN HABILITANTES TÉC'!D9 -> 3.5 FORMACIÓN ACADÉMICA Y EXPERIENCIA DEL EQUIPO DE TRABAJO
A6: PROPONENTE | D6: INERCO CONSULTORÍA COLOMBIA LTDA
A7: REQUISITO
A8: ITEM | B8: CANTIDAD | C8: CARGO | D8: FORMACIÓN ACADÉMICA | E8: CÓDIGO CINE | F8: TÍTULO | G8: EXPERIENCIA PROFESIONAL GENERAL Y RELACIONADA
A9: 1 | B9: 1 | C9: Director del Proyecto Dedicación: 50% | D9: Profesional con titulo de postgrado | E9: Para profesional: 655, 656, 665, 666 Para nivel de postgrado: especialización o maestría: 747, 748, 757, 758, 767, 768. Doctorado:844, 854, 864 | F9: Profesión: Ingeniería de minas y metalurgia, ingeniería de minas. Postgrado: En la modalidad de Especialización o Maestría o Doctorado en Gerencia de proyectos o gerencia de operaciones o Ingeniería de Minas o Gerencia de Producción y Operación o gerencia para medio ambiente o administración de empresas o evaluación de proyectos o evaluación y gerencia de proyectos o ingeniería ambiental y energética o evaluación y desarrollo de proyectos o gerencia ambiental o ingeniería de calidad y el comportamiento o Gestión de Proyectos o Gerencia de Proyectos de Ingeniería o Gerencia de Proyectos de Ingeniería. | G9: Experiencia profesional:10 años en el sector minero. Experiencia relacionada mínima de cinco (5) años en Dirección y/o Coordinación y/o Gerente de proyectos para el sector minero, cuyo objeto u obligaciones comprenda la actividad minera del desarrollo y/o implementación de buenas prácticas en la actividad minera y/o mejoramiento de procesos de esta industria y/o desarrollo, optimización y/o garantización de los procesos operativos en el sector minero y/o planeación y/o programación minera y/o técnicas de optimización de producción.
A10: EVALUACIÓN DE CUMPLIMIENTO
A11: ACREDITACIÓN REQUISITOS ACADEMICOS
A12: NOMBRE | C12: JAIRO HERRERA ARANGO | F12: CÉDULA DE CIUDADANÍA | G12: 7.556.408
A13: TITULO PROFESIONAL | C13: INGENIERO GEÓLOGO | D13: TARJETA PROFESIONAL | E13: 0522382356ANT | F13: FECHA DE EXPEDICIÓN | G13: 36794
A14: TITULO POSGRADO | C14: ESPECIALIZACIÓN EN DERECHO MINERO ENERGÉTICO- MAGÍSTER EN APROVECHAMIENTO DE LOS RECURSOS HIDRÁULICOS | E14: CÓDIGO CINE | F14: N/A
A15: DOCUMENTOS REQUERIDOS COMO SOPORTE | D15: APORTADO | E15: ARCHIVO | F15: OBSERVACIONES
A16: Cédula de ciudadanía | D16: SI | E16: ARCHIVO PDF:ANEXO 10. EQUIPO DE TRABAJO 1-2 | F16: - El recurso humano NO cumple con los requisitos académicos requeridos (titulos de pregrado y posgrado) dentro del presente proceso para el cargo de Director de Proyecto.
A17: Diploma de grado profesional o Acta de grado | D17: SI | E17: ARCHIVO PDF:ANEXO 10. EQUIPO DE TRABAJO 1-2
A18: Diploma especialización | D18: SI | E18: ARCHIVO PDF:ANEXO 10. EQUIPO DE TRABAJO 1-2
A19: Tarjeta profesional | D19: SI | E19: ARCHIVO PDF:ANEXO 10. EQUIPO DE TRABAJO 1-2
A20: Carta de compromiso firmada | D20: SI | E20: ARCHIVO PDF:ANEXO 10. EQUIPO DE TRABAJO 1-2 | F20: NO CUMPLE
A21: ACREDITACIÓN EXPERIENCIA GENERAL Y ESPECIFICA
A22: No. | B22: NOMBRE DEL PROYECTO | C22: ENTIDAD CONTRATANTE O EMPLEADORA | D22: CARGO OCUPADO | E22: FUNCIONES DESEMPEÑADAS | G22: FECHA DE INICIO | H22: FECHA DE RETIRO | I22: EXPERIENCIA (Años)
A23: 1 | B23: Asesoría para definir una estrategia ambiental corporativa conceptual para la gestión corporativa de Cerrejón a un horizonte de 5 años. | C23: INERCO Consultoría Colombia Ltda. | D23: Experto en Minería | E23: Recopilación de información Identificación preliminar de los factores claves asociados a varios sistemas de gestión Síntesis de los factores clave Realización de entrevistas Diseño y ejecución del taller interno de revisión preliminar de factores clave Estructuración de la propuesta ambiental corporativa Entrega de memorias | G23: 43347 | H23: 43406 | I23: =(H23-G23)/365 -> 0.16164384
A24: =A23+1 -> 2 | B24: Estudio que permita determinar los efectos causados por la minería de oro y carbón en la disponibilidad del recurso hídrico, así como la distribución de las trazas de mercurio relacionadas con la minería aurífera dentro de los departamentos priorizados. | C24: UNIVERSIDAD DE CÓRDOBA | D24: Ingeniero Consultor | E24: Captura de información primaria para el análisis de la estructura de demanda de recurso hídrico en minas asignadas en el proyecto. Aplicación de instrumentos de captura de información de procesos mineros. Recopilación de información secundaria para la recomendación de tecnologías alternativas para minimizar el uso del recurso hídrico en las explotaciones auríferas. Evaluación de impacto ambiental en minería aurífera de pequeña escala. | G24: 42340 | H24: 42522
A25: =A24+1 -> 3 | B25: Incidencia real de la minería del carbón, del oro y del uso de mercurio en la calidad ambiental con énfasis especial en el recurso hídrico - Diseño de herramientas para la planeación sectorial, que busca una evaluación preliminar en campo sobre la cantidad y calidad del recurso hídrico en el sector minero en aras de establecer estrategias para el aprovechamiento en | C25: UNIVERSIDAD DE CÓRDOBA | D25: COORDINADOR TÉCNICO | E25: Captura de información primaria sobre ubicación de procesos mineros y uso del recurso hídrico en éstos Caracterización de los procesos mineros de más minas visitadas Diseñar una propuesta de guía de orientación para el minero sobre el correcto manejo de vertimientos y la aplicación de acciones en los procesos mineros orientada a facilitar el cumplimiento de la normatividad relacionada con los límites permisibles de vertimientos para la minería de metales preciosos y de carbón. | G25: 42156 | H25: 42339
A26: =A25+1 -> 4 | B26: Implementación del mapa de ruta para adaptación del sector energético al cambio climático. | C26: INERCO Consultoría Colombia Ltda. | D26: Especialista en minería | E26: Prestación de servicios profesionales, desempeñando el cargo de especialista en minería para el proyecto "Implementación del mapa de ruta para adaptación del sector energético al cambio climático (incluyendo el uso de la herramienta de servicios ecosistémicos) e identificación de factores de vulnerabilidad del sector minero y de líneas gruesas de medidas de adaptación". | G26: 42195 | H26: 42365
A27: =A26+1 -> 5 | B27: Elaboración de un estudio que permita determinar los efectos causados por la minería de oro y carbón, así como la distribución espacial de las trazas de mercurio relacionadas con la minería aurífera dentro de los departamentos priorizados, con el fin de generar instrumentos técnicos encaminados a orientar el uso eficiente del agua y promover el cumplimiento de la normatividad ambiental aplicable. | C27: UNIVERSIDAD DE CÓRDOBA | D27: Ingeniero Geólogo-Especialista en minería | E27: Diseño y coordinación del documento para la gestión nacional de vertimientos mineros; análisis estadístico y coordinación para elaboración del documento sobre la estimación de la demanda hídrica minera nacional; actividades de campo. | G27: 42125 | H27: 42339
A28: =A27+1 -> 6 | B28: Consultoría para desarrollar el proceso participativo de formulación de la Política Pública de sostenibilidad del sector minero energético de Colombia y las herramientas asociadas, considerando los tres ejes temáticos de la sostenibilidad: el social, el ambiental y el económico. | C28: UT Ambiental Consultores-Economía Urbana | D28: Contratista | E28: Participar en los talleres de discusión de los productos. Asistir a las reuniones asignadas. Búsqueda y sistematización de información relacionada con los productos asignados. Preparar diapositivas de presentación según sea la indicación de la dirección general. Articular y apoyar a los expertos ambientales y sociales en las particularidades que surjan del análisis de los temas claves. Productos: Documento de justificación temas claves minería-hidrocarburos Documento análisis del inventario PPP (temas sociales) que debe exponer la línea histórica, los hitos y resultados principales obtenidos, así como el área responsable de su ejecución Documento en lo relacionado a las líneas estratégicas minero-energéticas Documento diagnóstico de referencia para la Política de Sostenibilidad del Sector Documento marco de Sostenibilidad Documento estratégico de la Política de Sostenibilidad Documento proyecto acto administrativo Documento modelo de la gestión institucional | G28: 41954 | H28: 42031 | I28: =(H28-G28)/365 -> 0.2109589
A29: =A28+1 -> 7 | B29: Estudio de la cadena del mercurio en Colombia con énfasis en la actividad minera de oro, realizado para la Unidad de Planeación Minero Energética –UPME y el Ministerio de Minas y Energía. | C29: UNIVERSIDAD DE CÓRDOBA | D29: Ingeniero Geólogo-Especialista en minería | E29: Estudio del mercado global de mercurio (producción, consumo y rutas); análisis de normas y estrategias sobre mercurio en los países con mayor producción y consumo; documento de planificación estratégica basada en análisis DOFA y matriz de impactos ambientales. | G29: 41800 | H29: 41983
A30: =A29+1 -> 8 | B30: Estructurar y elaborar el documento final del Plan Nacional de Desarrollo Minero 2011 -2014, base en los documentos obtenidos hasta el momento y que reflejan los diferentes puntos de vista de los diferentes actores inmersos en el sector minero nacional. | C30: UPME | D30: Contratista | E30: No hay descripción de actividades en la certificación | G30: 40812 | H30: 40892
A31: =A30+1 -> 9 | B31: Gerente de exploración para Alkshire S.A. Sucursal Colombia | C31: Alkshire S.A. | D31: GERENTE DE EXPLORACIÓN | E31: No hay descripción de actividades en la certificación | G31: 40735 | H31: 41354
A32: =A31+1 -> 10 | B32: Gerente de Geología | C32: Trident Gold S.A.S | D32: GERENTE DE GEOLOGÍA | E32: No hay descripción de actividades en la certificación | G32: 40338 | H32: 40725
A33: =A32+1 -> 11 | B33: Exploración geológica para barita, carbón y oro, en diferentes partes del país. | C33: Sikuri Minerals SAS | D33: Ingeniero Geólogo | E33: Exploración Geológica para barita, carbón y oro en diferentes partes del país. | G33: 40252 | H33: 40351 | I33: =(H33-G33)/365 -> 0.27123288
A34: =A33+1 -> 12 | B34: Estudio de prospección esmeraldifera en el contrato de concesión G16-121. | C34: Concesión Minera G16121-Jairo Herrrera Arango | D34: Ingeniero Geólogo | E34: Estudio de prospección esmeraldífera en el contrato de concesión. Elaboración de los documentos Plan de Trabajo y Obras-PTO y Estudio de Impacto Ambiental para el desarrollo de un proyecto esmeraaldífera correspondiente al área del contrato de concesión. | G34: 39814 | H34: 39933 | I34: =(H34-G34)/365 -> 0.3260274
A35: =A34+1 -> 13 | B35: Portal de información minera de Colombia - IMCPortal | C35: Información Minera de Colombia - IMC | D35: GERENTE | E35: Evaluación de la calidad y la veracidad de la información minera publicada semanalmente en nuestro portal www.imcportal.como Investigador principal en evaluación y valoración técnica y económica de la minería nacional y de proyectos en particular para los clientes de IMCPortal entre los que se cuentan Fundación para el Desarrollo del Quindío –FDQ-, Ministerio de Minas y Energía, Latam Mining Energy, Sikuri Mining, Mining Operator Partners, Trident Gold Corp, Zamin Group, Andi-Asomineros, Orica Mining, entre otros.Representar a IMCPortal con presentaciones sobre la actualidad minera nacional en eventos nacionales e internacionales entre los que se cuentan Argentina Mining–Buenos Aires, Elecgas –Santiago de Chile y Media Summit Metals & Mining – Essen, Alemania. | G35: 39295 | H35: 41369 | I35: =(H35-G35)/365 -> 5.6821918
A36: =A35+1 -> 14 | B36: Exploración geológica de áreas con potencial carbonero y aurífero para opción de compra. | C36: Mining Latam Energy | D36: GERENTE | E36: Exploración geológica de áreas con potencial carbonero y aurífero para opción de compra | G36: 39278 | H36: 40026 | I36: =(H36-G36)/365 -> 2.0493151
A37: =A36+1 -> 15 | B37: Plan conceptual de rehabilitación ambiental para el proyecto Cerrejón | C37: Integral Ingenieros Consultores | D37: Ingeniero Geólogo | E37: Responsable de la conformación de los botaderos y retrollenados y las correspondientes programaciones, avances anuales y quincenales para el plan conceptual de rehabilitación ambiental para el proyecto Cerrejón a 28 Mtpa con horizonte al 2033. | G37: 37869 | H37: 37959 | I37: =(H37-G37)/365 -> 0.24657534
A38: =A37+1 -> 16 | B38: Direccionamiento estratégico de la entidad y la planeación de los sectores de minas y energía de Colombia | C38: UPME | D38: Subdirector de planeación minera; Director General Encargado | E38: Subdirector de planeación minera. Prestación de servicios profesionales para: i) apoyar al superior inmediato en la definición de políticas y planes del área; ii) participar en el desarrollo de las actividades propuestas de los procesos planificador y de presupuesto; dirigir y coordinar el personal a su cargo; iv) Preparar y presentar los informes que le sean encomendados; v) Asistir a reuniones del sector minero energético. Actividades: Área de Planeación Minera Asesorar al Director General en todas las actividades requeridas para la fijación de políticas generales de la institución y aquellas relacionadas con la planeación minera. Elaborar y actualizar el Plan Minero Nacional de Desarrollo Minero en concordancia con el Plan Nacional de Desarrollo, la política macroeconómica del Gobierno Nacional y con las prioridades establecidas por el Ministerio de Minas y Energía para el sector. Coordinar la elaboración de estudios y recomendaciones que permitan la formulación de programas y proyectos de desarrollo del sector minero nacional, con sujeción a las directrices que imparta el Gobierno Nacional. | G38: 38069 | H38: 39277 | I38: =(H38-G38)/365 -> 3.309589
A39: DOCUMENTOS REQUERIDOS COMO SOPORTE | D39: APORTADO | E39: ARCHIVO | F39: OBSERVACIONES
A40: Certificación laboral | D40: SI | E40: ARCHIVO PDF:ANEXO 10. EQUIPO DE TRABAJO 1-2 | F40: La información dada en el Anexo 10 para habiltar la experiencia correspondiente a la Universidad de Córdoba y de la empresa INERCO no se tiene en cuenta debido a que no aportó la certificación solicitada. Hay certificaciones que NO tienen funciones. La información allegada, luego de su revisión, permite concluir que el profesional NO cumple con los requisitos establecidos en el pliego en cuanto a formación académica, título académico solicitado para el cargo de Director de Proyecto.
A41: Registro en Anexo Técnico 10 | D41: SI | E41: ARCHIVO PDF:ANEXO 10. EQUIPO DE TRABAJO 1-2. ANEXO10 FORMACIÓN PROFESIONAL Y EXPERIENCIA DEL EQUIPO DE TRABAJO (REQUISITOS TÉCNICOS DE LA OFERTA - MÍNIMO REQUERIDO)
...

Sheet REQUISITOS- RH UNAL
A1: ='RESUMEN HABILITANTES TÉC'!A1 -> MINISTERIO DE MINAS Y ENERGÍA
A2: ='RESUMEN HABILITANTES TÉC'!A3 -> CONCURSO DE MERITOS CM-06-2020
A3: ='RESUMEN HABILITANTES TÉC'!A4 -> VERIFICACION REQUISITOS HABILITANTES TÉCNICOS
A4: ='RESUMEN HABILITANTES TÉC'!D9 -> 3.5 FORMACIÓN ACADÉMICA Y EXPERIENCIA DEL EQUIPO DE TRABAJO
A6: PROPONENTE | D6: UNIVERSIDAD NACIONAL DE COLOMBIA
A7: REQUISITO
A8: ITEM | B8: CANTIDAD | C8: CARGO | D8: FORMACIÓN ACADÉMICA | E8: CÓDIGO CINE | F8: TÍTULO | G8: EXPERIENCIA PROFESIONAL GENERAL Y RELACIONADA
A9: 1 | B9: 1 | C9: Director del Proyecto Dedicación: 50% | D9: Profesional con titulo de postgrado | E9: Para profesional: 655, 656, 665, 666 Para nivel de postgrado: especialización o maestría: 747, 748, 757, 758, 767, 768. Doctorado:844, 854, 864 | F9: Profesión: Ingeniería de minas y metalurgia, ingeniería de minas. Postgrado: En la modalidad de Especialización o Maestría o Doctorado en Gerencia de proyectos o gerencia de operaciones o Ingeniería de Minas o Gerencia de Producción y Operación o gerencia para medio ambiente o administración de empresas o evaluación de proyectos o evaluación y gerencia de proyectos o ingeniería ambiental y energética o evaluación y desarrollo de proyectos o gerencia ambiental o ingeniería de calidad y el comportamiento o Gestión de Proyectos o Gerencia de Proyectos de Ingeniería o Gerencia de Proyectos de Ingeniería. | G9: Experiencia profesional:10 años en el sector minero. Experiencia relacionada mínima de cinco (5) años en Dirección y/o Coordinación y/o Gerente de proyectos para el sector minero, cuyo objeto u obligaciones comprenda la actividad minera del desarrollo y/o implementación de buenas prácticas en la actividad minera y/o mejoramiento de procesos de esta industria y/o desarrollo, optimización y/o garantización de los procesos operativos en el sector minero y/o planeación y/o programación minera y/o técnicas de optimización de producción.
A10: EVALUACIÓN DE CUMPLIMIENTO
A11: ACREDITACIÓN REQUISITOS ACADEMICOS
A12: NOMBRE | C12: JUAN EUGENIO MONSALVE OLIVEROS | F12: CÉDULA DE CIUDADANÍA | G12: 8459122
A13: TITULO PROFESIONAL | C13: INGENIERO DE MINAS Y METALURGIA | D13: TARJETA PROFESIONAL | E13: 0525639906ANT | F13: FECHA DE EXPEDICIÓN | G13: 33465
A14: TITULO POSGRADO | C14: ESPECIALISTA EN ADMINISTRACION DE EMPRESAS | E14: CÓDIGO CINE | F14: N/A
A15: DOCUMENTOS REQUERIDOS COMO SOPORTE | D15: APORTADO | E15: ARCHIVO | F15: OBSERVACIONES
A16: Cédula de ciudadanía | D16: SI | E16: EXP EQUIPO DE TRABAJO pdf, Pag 5 | F16: - El recurso humano cumple con los requisitos académicos requeridos dentro del presente proceso.
A17: Diploma de grado profesional o Acta de grado | D17: SI | E17: EXP EQUIPO DE TRABAJO pdf, Pag 8
A18: Diploma especialización | D18: SI | E18: EXP EQUIPO DE TRABAJO pdf, Pag 9 a la 14
A19: Tarjeta profesional | D19: SI | E19: EXP EQUIPO DE TRABAJO pdf, Pag 6 y 7
A20: Carta de compromiso firmada | D20: SI | E20: EXP EQUIPO DE TRABAJO pdf, Pag 2 | F20: FORMACIÓN ACADÉMICA ACREDITADA
A21: ACREDITACIÓN EXPERIENCIA GENERAL Y ESPECIFICA
A22: No. | B22: NOMBRE DEL PROYECTO | C22: ENTIDAD CONTRATANTE O EMPLEADORA | D22: CARGO OCUPADO | E22: FUNCIONES DESEMPEÑADAS | G22: FECHA DE INICIO | H22: FECHA DE RETIRO | I22: EXPERIENCIA (Años)
A23: 1 | C23: CEMENTOS ARGOS S.A. | D23: INGENIERO PRODUCCION MINA PLANTA CAIRO | E23: Responsabilidades generales: Supervisar y controlar el proceso de explotación en cantera, mediante el manejo y la gestión de recursos humanos y maquinaria, para garantizar la mayor eficiencia en la extracción del mineral y la calidad del mismo. Responsabilidades especificas: - Supervisión y control de operaciones en la cantera. - Administración y gestión de personal a cargo siguiendo la misión y valores de la empresa. - Elaboración de informes de control de calidad y de operación. - Gestión de maquinaria y recursos para la correcta explotación del mineral. | G23: 35164 | H23: 37621 | I23: =(H23-G23)/365 -> 6.7315068
A24: 2 | C24: CEMENTOS ARGOS S.A. | D24: GERENTE PLANTA CAIRO | E24: Responsabilidades generales: Contribuir en la maximización del valor del negocio, optimización y mejoramiento de proceso mediante la identificación y el análisis de opciones de explotación y recuperación del recurso minero desde el punto de vista técnico, operativo y económico y recomendar su implementación a la Gerencia Operativa. Objetivo realizado a través de la supervisión de las actividades de Planeación Minera y de la interacción con otras superintendencias y departamentos de la organización Responsabilidades generales: - Elaboración del Plan Minero de Operaciones del año respectivo y asegurar su cumplimiento e implementación. - Elaboración del Plan Minero de Mejoramiento y Presupuesto - Evaluación de alternativas para maximizar la recuperación económica del depósito, mejoramiento de procesos industriales e implementación de prácticas de explotación más eficientes y sostenibles. - Evaluación, pronóstico y recomendación de inversiones mayores del capital minero (Equipos e infraestructura). - Comunicación de los resultados de evaluaciones técnicas del cargo a la gerencia operativa - Entrenamiento de ingenieros y técnicos en técnicas de Planeación minera, evaluación económica del recurso minero, implementación de buenas prácticas y técnicas informáticas aplicadas a la industria mineral. - Desarrollo y administración de personal profesional a su cargo con la misión y valores de la empresa. | G24: 38718 | H24: 39325 | I24: =(H24-G24)/365 -> 1.6630137
A25: 3 | C25: CEMENTOS ARGOS S.A. | D25: GERENTE PLANTA SOGAMOSO | E25: Responsabilidades generales: Contribuir en la maximización del valor del negocio, optimización y mejoramiento de proceso mediante la identificación y el análisis de opciones de explotación y recuperación del recurso minero desde el punto de vista técnico, operativo y económico y recomendar su implementación a la Gerencia Operativa. Objetivo realizado a través de la supervisión de las actividades de Planeación Minera y de la interacción con otras superintendencias y departamentos de la organización Responsabilidades generales: - Elaboración del Plan Minero de Operaciones del año respectivo y asegurar su cumplimiento e implementación. - Elaboración del Plan Minero de Mejoramiento y Presupuesto - Evaluación de alternativas para maximizar la recuperación económica del depósito, mejoramiento de procesos industriales e implementación de prácticas de explotación más eficientes y sostenibles. - Evaluación, pronóstico y recomendación de inversiones mayores del capital minero (Equipos e infraestructura). - Comunicación de los resultados de evaluaciones técnicas del cargo a la gerencia operativa - Entrenamiento de ingenieros y técnicos en técnicas de Planeación minera, evaluación económica del recurso minero, implementación de buenas prácticas y técnicas informáticas aplicadas a la industria mineral. - Desarrollo y administración de personal profesional a su cargo con la misión y valores de la empresa. | G25: 39326 | H25: 39447 | I25: =(H25-G25)/365 -> 0.33150685
A26: 4 | C26: CEMENTOS ARGOS S.A. | D26: GERENTE PLANTA RIOCLARO | E26: Responsabilidades generales: Contribuir en la maximización del valor del negocio, optimización y mejoramiento de proceso mediante la identificación y el análisis de opciones de explotación y recuperación del recurso minero desde el punto de vista técnico, operativo y económico y recomendar su implementación a la Gerencia Operativa. Objetivo realizado a través de la supervisión de las actividades de Planeación Minera y de la interacción con otras superintendencias y departamentos de la organización Responsabilidades generales: - Elaboración del Plan Minero de Operaciones del año respectivo y asegurar su cumplimiento e implementación. - Elaboración del Plan Minero de Mejoramiento y Presupuesto - Evaluación de alternativas para maximizar la recuperación económica del depósito, mejoramiento de procesos industriales e implementación de prácticas de explotación más eficientes y sostenibles. - Evaluación, pronóstico y recomendación de inversiones mayores del capital minero (Equipos e infraestructura). - Comunicación de los resultados de evaluaciones técnicas del cargo a la gerencia operativa - Entrenamiento de ingenieros y técnicos en técnicas de Planeación minera, evaluación económica del recurso minero, implementación de buenas prácticas y técnicas informáticas aplicadas a la industria mineral. - Desarrollo y administración de personal profesional a su cargo con la misión y valores de la empresa. | G26: 41609 | H26: 42735 | I26: =(H26-G26)/365 -> 3.0849315
A27: DOCUMENTOS REQUERIDOS COMO SOPORTE | D27: APORTADO | E27: ARCHIVO | F27: OBSERVACIONES
A28: Certificación laboral | D28: SI | E28: EXP EQUIPO DE TRABAJO pdf, Pag 20 | F28: La información allegada en el período de subsanación, luego de su revisión, permite concluir que el profesional cumple con los requisitos establecidos en el pliego en cuanto a experiencia solicitada.
A29: Registro en Anexo Técnico 10 | D29: SI | E29: 1,0 ANEXO 10 EXP EQUIPO DE TRABAJO hoja 1 Excel
A30: TIEMPO TOTAL DE EXPERIENCIA ACREDITADA (AÑOS) | E30: =SUM(I23:I26) -> 11.810959 | F30: CUMPLE
A32: REQUISITO
A33: ITEM | B33: CANTIDAD | C33: CARGO | D33: FORMACIÓN ACADÉMICA | E33: CÓDIGO CINE | F33: TÍTULO | G33: EXPERIENCIA PROFESIONAL GENERAL Y RELACIONADA
A34: 2 | B34: 1 | C34: Profesional en minería Dedicación:100% | D34: Profesional con titulo | E34: Para profesional: 655, 656, 665, 666 Para nivel de postgrado: especialización o maestría: 747, 748, 757, 758, 767, 768. Doctorado:844, 854, 864 | F34: Profesión: Ingeniería de minas y metalurgia o ingeniería de minas o Ingeniería Metalúrgica. | G34: Experiencia profesional: 7 años en el sector minero. Experiencia profesional relacionada mínima de tres (3) años en procesos de presas y relaves y/o desechos minerales asociados a proyectos mineros y/o investigaciones relacionadas con procesos de presas y relaves y/o desechos minerales
A35: EVALUACIÓN DE CUMPLIMIENTO
A36: ACREDITACIÓN REQUISITOS ACADEMICOS
A37: NOMBRE | C37: FERNANDO ARTURO ERAZO LOZANO | F37: CÉDULA DE CIUDADANÍA | G37: 71723902
A38: TITULO PROFESIONAL | C38: INGENIERO DE MINAS Y METALURGIA | D38: TARJETA PROFESIONAL | E38: 05256099650ANT | F38: FECHA DE EXPEDICIÓN | G38: 37854
A39: TITULO POSGRADO | E39: CÓDIGO CINE | F39: N/A
A40: DOCUMENTOS REQUERIDOS COMO SOPORTE | D40: APORTADO | E40: ARCHIVO | F40: OBSERVACIONES
A41: Cédula de ciudadanía | D41: SI | E41: PDF | F41: - El recurso humano cumple con el requisito requerido dentro del presente proceso, luego de revisar la información allegada en el período de subsanación.
A42: Diploma de grado profesional o Acta de grado | D42: SI | E42: EXP EQUIPO DE TRABAJO pdf, Pag 27
...

Sheet REQUISITOS-RH ATG
A1: ='RESUMEN HABILITANTES TÉC'!A1 -> MINISTERIO DE MINAS Y ENERGÍA
A2: ='RESUMEN HABILITANTES TÉC'!A3 -> CONCURSO DE MERITOS CM-06-2020
A3: ='RESUMEN HABILITANTES TÉC'!A4 -> VERIFICACION REQUISITOS HABILITANTES TÉCNICOS
A4: ='RESUMEN HABILITANTES TÉC'!D9 -> 3.5 FORMACIÓN ACADÉMICA Y EXPERIENCIA DEL EQUIPO DE TRABAJO
A6: PROPONENTE | D6: ATG LTDA ASESORIAS TECNICAS GEOLOGICAS
A7: REQUISITO
A8: ITEM | B8: CANTIDAD | C8: CARGO | D8: FORMACIÓN ACADÉMICA | E8: CÓDIGO CINE | F8: TÍTULO | G8: EXPERIENCIA PROFESIONAL GENERAL Y RELACIONADA
A9: 1 | B9: 1 | C9: Director del Proyecto Dedicación: 50% | D9: Profesional con titulo de postgrado | E9: Para profesional: 655, 656, 665, 666 Para nivel de postgrado: especialización o maestría: 747, 748, 757, 758, 767, 768. Doctorado:844, 854, 864 | F9: Profesión: Ingeniería de minas y metalurgia, ingeniería de minas. Postgrado: En la modalidad de Especialización o Maestría o Doctorado en Gerencia de proyectos o gerencia de operaciones o Ingeniería de Minas o Gerencia de Producción y Operación o gerencia para medio ambiente o administración de empresas o evaluación de proyectos o evaluación y gerencia de proyectos o ingeniería ambiental y energética o evaluación y desarrollo de proyectos o gerencia ambiental o ingeniería de calidad y el comportamiento o Gestión de Proyectos o Gerencia de Proyectos de Ingeniería o Gerencia de Proyectos de Ingeniería. | G9: Experiencia profesional:10 años en el sector minero. Experiencia relacionada mínima de cinco (5) años en Dirección y/o Coordinación y/o Gerente de proyectos para el sector minero, cuyo objeto u obligaciones comprenda la actividad minera del desarrollo y/o implementación de buenas prácticas en la actividad minera y/o mejoramiento de procesos de esta industria y/o desarrollo, optimización y/o garantización de los procesos operativos en el sector minero y/o planeación y/o programación minera y/o técnicas de optimización de producción.
A10: EVALUACIÓN DE CUMPLIMIENTO
A11: ACREDITACIÓN REQUISITOS ACADEMICOS
A12: NOMBRE | C12: OLGA MATILDE LOPEZ MARTINEZ | F12: CÉDULA DE CIUDADANÍA | G12: 48600730
A13: TITULO PROFESIONAL | C13: INGENIERO DE MINAS | D13: TARJETA PROFESIONAL | E13: 19218084490CAU | F13: FECHA DE EXPEDICIÓN | G13: 36944
A14: TITULO POSGRADO | C14: MAGISTER EN GERENCIA AMBIENTAL | E14: CÓDIGO CINE | F14: N/A
A15: DOCUMENTOS REQUERIDOS COMO SOPORTE | D15: APORTADO | E15: ARCHIVO | F15: OBSERVACIONES
A16: Cédula de ciudadanía | D16: SI | E16: ARCHIVO CERTIFICACIONES EXPERIENCIA ACADEMICA. WinRAR, EXPERIENCIA ACADEMICA DIRECTOS DE PROYECTO pdf pag 9 | F16: - El recurso humano cumple con los requisitos académicos requeridos dentro del presente proceso.
A17: Diploma de grado profesional o Acta de grado | D17: SI | E17: ARCHIVO CERTIFICACIONES EXPERIENCIA ACADEMICA. WinRAR, ARCHIVO CERTIFICACIONES EXPERIENCIA ACADEMICA pdf pag 1
A18: Diploma especialización | D18: SI | E18: ARCHIVO CERTIFICACIONES EXPERIENCIA ACADEMICA. WinRAR, ARCHIVO CERTIFICACIONES EXPERIENCIA ACADEMICA. Pdf pag. 2 y 3
A19: Tarjeta profesional | D19: SI | E19: ARCHIVO CERTIFICACIONES EXPERIENCIA ACADEMICA. WinRAR, ARCHIVO CERTIFICACIONES EXPERIENCIA ACADEMICA. Pdf Pag 8
A20: Carta de compromiso firmada | D20: SI | E20: CARTA DE COMPROMISO DE PROFESIONALES, Archivo WinRAN, Carta de compromiso Directora del proyecto. pdf Pág. 1 | F20: FORMACIÓN ACADÉMICA ACREDITADA
A21: ACREDITACIÓN EXPERIENCIA GENERAL Y ESPECIFICA
A22: No. | B22: NOMBRE DEL PROYECTO | C22: ENTIDAD CONTRATANTE O EMPLEADORA | D22: CARGO OCUPADO | E22: FUNCIONES DESEMPEÑADAS | G22: FECHA DE INICIO | H22: FECHA DE RETIRO | I22: EXPERIENCIA (Años)
A23: 1 | C23: GRAVILLERA ALBANIA S.A. | D23: Directora de Planificacion Minera y Gestion Ambiental | E23: Funciones 1- Gestión Ambiental Diseño, seguimiento e intervención del Sistema de Gestión Ambiental Análisis de indicadores de gestión Coordinación y asesoría a aprendices ambientales en los proyectos de la empresa Reportar, hacer seguimiento y dar solución a las emergencias ambientales ocurridas durante la ejecución de las actividades de la compañía Asegurar el adecuado manejo de contratistas, visitantes y proveedores Coordinar las actividades encaminadas al cumplimiento de la licencia ambiental relacionadas con los componentes suelo, aire, agua, flora, fauna, gestión social, con el fin de dar cumplimiento legal a los compromisos pactados en el Estudio de Impacto Ambiental y Plan de Manejo Ambiental en cada proyecto. Elaboración de informes ambientales de acuerdo a los compromisos asumidos a través de los documentos presentados y a la licencia ambiental entregada en cada contrato de concesión o en cada proyecto (semestral o anual). 2- Planeamiento Minero Planificar el equipo de explotación, transporte y beneficio, de tal manera que éste se encuentre operativo y en la cantidad adecuada para el proceso conforme a las necesidades de los productos requeridos por los Clientes. Planear y diseñar los depósitos de material estéril, de forma que estén abiertos y en condición de disponer los desechos de la mina y de la producción. Planear y diseñar la explotación de la mina con las condiciones de drenaje, para que en el momento de extracción del material crudo, este sea apto para el proceso Identificar los sitios que proveen material apto para la producción en cada planta Planear los sitios de acopios de agregados pétreos, de acuerdo con las normas técnicas para la conservación de los agregados. Planear la producción diaria de la mina, de tal manera que satisfaga las cantidades requeridas por los clientes. Controlar el cumplimiento de las normas de seguridad. Elaborar y presentar en las revisiones gerenciales los informes correspondientes a los procesos de planificación de la explotación, almacenamiento y preservación de agregados en acopios y entrega de productos al cliente, con el análisis de los indicadores y los correspondientes planes de mejora. Coordinación de actividades diarias, semanales encaminadas a cumplir el plan minero elaborado en el Estudio de Impacto Ambiental. Velar porque los Títulos Mineros estén al día en el cumplimiento de las obligaciones. Elaboración de formato básico minero semestral y anual para cada contrato de concesión. Liquidación pago de regalías (trimestral) para cada contrato de concesión 3- Gestión SSL Cumplir y hacer cumplir las normas y procedimientos de seguridad de la organización. Hacer uso apropiado de los elementos de seguridad y protección Participar en la investigación de accidentes de trabajo y hacer el seguimiento a las acciones establecidas para evitar la ocurrencia de estos incidentes Participar en las capacitaciones coordinadas por gestión S&SO No emprender ningún trabajo o actividad para el cual no ha sido entrenado o que pueda poner en peligro su bienestar físico, el de sus compañeros o terceros. Registrar cualquier actividad que pueda generar una condición o acto inseguro Reportar inmediatamente todo accidente o incidente que se presente 4- Gestión humana Definir las funciones, responsabilidades y autoridad del personal de su proceso. Participar en las actividades promocionadas por gestión humana (Capacitación, bienestar, clima organizacional y evaluación de desempeño) 5- Gestión Documental Conocer el procedimiento definido para el control de documentos y la estructura de archivo y liderar su implementación por parte del personal a su cargo Participar activamente en la definición de los procedimientos, instructivos y formatos de su proceso Aprobar las solicitudes de generación, modificación o eliminación de documentos, asociados a su proceso Asegurar la divulgación de la información a los trabajadores a su cargo 6- Compras Dar la información pertinente relacionada con proveedores específicos Definir los tipos de proveedores críticos de su proceso y coordinar su evaluación en cada frente de trabajo, de acuerdo con la periodicidad establecida. 7- Seguimiento y Analisis Dar trámite a las no conformidades registradas en mejoramiso y asegurar el cierre de todas las acciones Brindar comunicación oportuna de cada uno de los procedimientos, formatos, instructivos y en general los documentos del Sistema de Gestión integrado Definir y ejecutar planes de mejora o planes de acción correctivos o preventivos en sus procesos Definir e implementar los planes de acción para gestionar las solicitudes que surgen como resultado de la revisión gerencial, con relación a su proceso. Calcular los indicadores de gestión de su proceso, con la periodicidad establecida 8- Gestión de Calidad Conocer el procedimiento definido para adelantar la revisión gerencial y el control de contingencias que pueden afectar la integridad del sistema de gestión Conocer los resultados de los informes de gestión de cada frente de trabajo con relación a su proceso, y retroalimentarlos cuando sea pertinente Elaborar los informes de gestión de su proceso, de acuerdo con los lineamientos establecidos Participar en la Revisión del Sistema Integrado Participar en las reuniones gerenciales Definir los indicadores de gestión de su proceso | G23: 39324 | H23: 44026 | I23: =(H23-G23)/365 -> 12.882192
A24: DOCUMENTOS REQUERIDOS COMO SOPORTE | D24: APORTADO | E24: ARCHIVO | F24: OBSERVACIONES
A25: Certificación laboral | D25: SI | E25: CERTIFICADOS EXPERIENCIA PROFESIONAL HABILITANTE EQUIPO DE TRABAJO, WinRAR, EXPERIENCIA PROFESIONAL HABILITANTE - DIRECTO DE PROYECTO, pdf. | F25: La información allegada, luego de su revisión, permite concluir que el profesional cumple con los requisitos establecidos en el pliego en cuanto a formación académica, título académico y experiencia solicitada.
A26: Registro en Anexo Técnico 10 | D26: SI | E26: ANEXO 10 .EXPERIENCIA PROFESIONAL HABILITANTE EQUIPO DE TRABAJO, WinRAR, ANEXO 10 EXPERIENCIA PROFESIONAL HABILITANTE director de proyecto pdf
A27: TIEMPO TOTAL DE EXPERIENCIA ACREDITADA (AÑOS) | E27: =SUM(I23) -> 12.882192 | F27: CUMPLE
A29: REQUISITO
A30: ITEM | B30: CANTIDAD | C30: CARGO | D30: FORMACIÓN ACADÉMICA | E30: CÓDIGO CINE | F30: TÍTULO | G30: EXPERIENCIA PROFESIONAL GENERAL Y RELACIONADA
A31: 2 | B31: 1 | C31: Profesional en minería Dedicación:100% | D31: Profesional con titulo | E31: Para profesional: 655, 656, 665, 666 Para nivel de postgrado: especialización o maestría: 747, 748, 757, 758, 767, 768. Doctorado:844, 854, 864 | F31: Profesión: Ingeniería de minas y metalurgia o ingeniería de minas o Ingeniería Metalúrgica. | G31: Experiencia profesional: 7 años en el sector minero. Experiencia profesional relacionada mínima de tres (3) años en procesos de presas y relaves y/o desechos minerales asociados a proyectos mineros y/o investigaciones relacionadas con procesos de presas y relaves y/o desechos minerales
A32: EVALUACIÓN DE CUMPLIMIENTO
A33: ACREDITACIÓN REQUISITOS ACADEMICOS
A34: NOMBRE | C34: RUBER TEHERAN GUZMAN | F34: CÉDULA DE CIUDADANÍA | G34: 9530542
A35: TITULO PROFESIONAL | C35: INGENIERO EN MINAS | D35: TARJETA PROFESIONAL | E35: 15218-51793 | F35: FECHA DE EXPEDICIÓN | G35: 34564
A36: TITULO POSGRADO | E36: CÓDIGO CINE | F36: N/A
A37: DOCUMENTOS REQUERIDOS COMO SOPORTE | D37: APORTADO | E37: ARCHIVO | F37: OBSERVACIONES
A38: Cédula de ciudadanía | D38: SI | E38: CERTIFICACIONES EXPERIENCIA ACADEMICA, WinRAR, EXPERIENCIA ACADEMICA PROFESIONAL EN MINERIA. Pdf Pag 9 | F38: - El recurso humano cumple con los requisitos académicos requeridos dentro del presente proceso.
A39: Diploma de grado profesional o Acta de grado | D39: SI | E39: CERTIFICACIONES EXPERIENCIA ACADEMICA, WinRAR, EXPERIENCIA ACADEMICA PROFESIONAL EN MINERIA. Pdf Pag 1
A40: Tarjeta profesional | D40: SI | E40: CERTIFICACIONES EXPERIENCIA ACADEMICA, WinRAR, EXPERIENCIA ACADEMICA PROFESIONAL EN MINERIA. Pdf Pag 4
A41: Carta de compromiso firmada | D41: SI | E41: CARTAS DE COMPROMISO DE PROFESIONALES, Archivo WinRAN, Carta de compromiso Profesional Mineria. pdf Pág. 1 | F41: FORMACIÓN ACADÉMICA ACREDITADA
A42: ACREDITACIÓN EXPERIENCIA ESPECÍFICA MÍNIMA
...
