Workbook
Name TABLA_DE_CONTENIDO__A1: 'GENERALIDADES '!#REF!

Sheet PORTADA
C1: MINISTERIO DE TRANSPORTE
A3: INSTITUTO NACIONAL DE VIAS
A4: SUBDIRECCION GESTIÓN INTEGRAL DE CARRETERAS NACIONALES
A14: INFORME TRIMESTRAL
A15: DEL ADMINISTRADOR VIAL GRUPO No. 1
A16: VERSIÓN No. 2 DE FECHA: 28/10/2024
A17: CONSORCIO PROIN
A18: TERRITORIAL NARIÑO
A22: CARRETERAS:
A23: 1001 TUMACO - JUNIN
A24: 0501 ESPRIELLA - RIO MIRA - RIO MATAJE
A39: TRIMESTRE: AGOSTO - SEPTIEMBRE / 2024
A41: San Andrés de Tumaco, Octubre, 2024

Sheet TABLA DE CONTENIDO
A1: INSTITUTO NACIONAL DE VIAS
A2: INFORME TRIMESTRAL PERIODO AGOSTO - SEPTIEMBRE DE 2024
A3: ADMINISTRACION VIAL GRUPO 1 TERRITORIAL NARIÑO
A5: TABLA DE CONTENIDO
A7: ITEM | B7: DESCRIPCION
A9: Cuadro No. 1 | B9: Generalidades
A10: Cuadro No. 2 | B10: Cumplimiento indicadores de servicio de mantenimiento rutinario (M.R)
A11: Cuadro No. 3 | B11: Relación estado de la red criterio de transitabilidad (visual)
A12: Gráfico No. 1 | B12: Estado de las vías criterio de transitabilidad - visual (Semáforo)
A13: Gráfico No. 2 | B13: Estado de las vías en Torta-CRITERIO DE TRANSITABILIDAD (VISUAL)
A14: Cuadro No. 4 | B14: Relación estado de la red CRITERIO TÉCNICO
A15: Gráfico No. 3 | B15: Estado de la red CRITERIO TÉCNICO
A16: Gráfico No. 4 | B16: Estado de la Red en Torta - CRITERIO TECNICO
A17: Mapa No. 1 | B17: Estado de la red y sitios críticos de inestabilidad
A18: Cuadro No. 5 | B18: Necesidades preventivas de las vías
A19: Cuadro No. 6 | B19: Necesidades críticas de las vías
... A41: Capacitación Trabajadores Servicio M.R. | B41: Capacitación Trabajadores Servicio de Mantenimiento Rutinario

Sheet GENERALIDADES 
B1: INSTITUTO NACIONAL DE VIAS
B2: DIRECCION TERRITORIAL NARIÑO
B4: CUADRO No. 1
B6: GENERALIDADES
B8: NOMBRE DEL (DE LOS) INGENIERO(S) RESIDENTE(S): | D8: JAIRO ANDRES VILLARREAL PANTOJA
B9: NOMBRE DEL INGENIERO AUXILIAR I: | D9: YINO FAUSTO MORENO ZAPATA
B10: NOMBRE DEL INGENIERO AUXILIAR II: | D10: CARLOS ANDRES ASCUNTAR BOTINA
B11: SECTOR ADMINISTRADO: | D11: 1001 TUMACO - JUNÍN, 0501 ESPRIELLA - RÍO MIRA - RÍO MATAJE
B12: DIRECCION OFICINA: | D12: BARRIO IBERIA FRENTE 1ER TANQUE ECOPETROL VÍA TUMACO JUNÍN PR8+300 MUNICIPIO DE TUMACO
B13: TELEFONO OFICINA: | D13: 313 4961051
B14: CELULARES | I14: CORREO ELECTRONICO: amvnar1200324@gmail.com
B15: Ingeniero(s) Residente(s): | D15: 311 4241776
B16: Ingeniero Auxiliar I: | D16: 315 4596419
B17: Ingeniero Auxiliar II: | D17: 316 2216028
B20: CARRETERAS A CARGO
B21: CARRETERA | C21: CODIGO | D21: LONGITUD (km) | G21: PRi | H21: PRf | I21: No. DE PUENTES | J21: MICROEMPRESA | K21: OBSERVACIONES
D22: P | E22: A | F22: T
B23: TUMACO - JUNÍN | C23: 1001 | D23: 45.43 | F23: 45.43 | G23: 0+0000 | H23: 45+0660 | I23: 5 | J23: COOPERATIVA DE TRABAJO ASOCIADO EL MIRA LTDA | K23: SEGÚN EL CONTRATO No. 3751 DE 2024 SON 45,43 KM (TIPO II)
B24: TUMACO - JUNÍN | C24: 1001 | D24: 34.874 | F24: 34.874 | G24: 45+0660 | H24: 80+0000 | I24: 2 | J24: COOPERATIVA DE TRABAJO ASOCIADO LOS ANDES | K24: SEGÚN EL CONTRATO No 3712 DE 2024 SON 44.88 KM (TIPO II)
B25: ESPRIELLA - RÍO MATAJE | C25: 0501 | D25: 10.4 | F25: 10.4 | G25: 0+0000 | H25: 10+0400 | I25: 1
B26: TUMACO - JUNÍN | C26: 1001 | D26: 39.49 | F26: 39.49 | G26: 80+0000 | H26: 118+1006 | I26: 0 | J26: COOPERATIVA DE TRABAJO ASOCIADO GUAYACAN | K26: SEGÚN EL CONTRATO No 3715 DE 2024 SON TIPO II (28.54 KM), TIPO III (10.95 KM)
B27: TOTALES | D27: =SUM(D23:D26) -> 130.194 | E27: =SUM(E23:E26) -> 0 | F27: =SUM(F23:F26) -> 130.194 | I27: 8
C28: P: Pavimento | F28: A: Afirmado | I28: T. Total
K30: VOLVER A TABLA DE CONTENIDO
B32: NOTA: CUALQUIER CAMBIO DE DIRECCION, CORREO ELECTRONICO O TELEFONO SE DEBE INFORMAR
D33: =SUM(D23,D24,D26) -> 119.794

Sheet CUMPLIMIENTO % 
A1: INSTITUTO NACIONAL DE VIAS
A2: DIRECCION TERRITORIAL NARIÑO
A3: CUADRO No. 2
A5: CUMPLIMIENTO INDICADORES DE SERVICIO DE MANTENIMIENTO RUTINARIO (M.R.)
A7: INGENIERO(S) RESIDENTE(S): | C7: JAIRO ANDRES VILLARREAL PANTOJA | I7: FECHA:30/09/2024
A9: CONTRATISTA DE M.R. | C9: CONTRATISTA DE SERVICIO DE M.R. | E9: CONTRATISTA DE SERVICIO DE M.R. | G9: CONTRATISTA DE SERVICIO DE M.R. | I9: CONTRATISTA DE SERVICIO DE M.R.
C10: =+'GENERALIDADES '!J23 -> COOPERATIVA DE TRABAJO ASOCIADO EL MIRA LTDA | E10: =+'GENERALIDADES '!J24 -> COOPERATIVA DE TRABAJO ASOCIADO LOS ANDES | G10: =+E10 -> COOPERATIVA DE TRABAJO ASOCIADO LOS ANDES | I10: =+'GENERALIDADES '!J26 -> COOPERATIVA DE TRABAJO ASOCIADO GUAYACAN
A11: INDICADOR | C11: % | E11: % | G11: % | I11: %
A12: ROCERIA Y DESM. MANUAL | C12: 0 | E12: 0 | G12: 0 | I12: 0
A13: LIMPIEZA MANUAL CUNETAS | C13: 0 | E13: 0 | G13: 0 | I13: 0
A14: LIMPIEZA ENCOLES Y DESCOLES | C14: 0 | E14: 0 | G14: 0 | I14: 0
A15: LIMPIEZA OBRAS DE ARTE | C15: 0 | E15: 0 | G15: 0 | I15: 0
A16: MANTENIMIENTO PUENTES | C16: 0 | E16: 0 | G16: 0 | I16: 0
A17: LIMPIEZA SEÑALES Y MOJONES | C17: 0 | E17: 0 | G17: 0 | I17: 0
A18: DESPEJE DE DERRUMBES | C18: 0 | E18: 0 | G18: 0 | I18: 0
A19: PINTURA, RENOVACIÓN DE INDICACIONES EN EL MOJON | C19: 0 | E19: 0 | G19: 0 | I19: 0
A20: BACHEO CARRETERA PAV. | C20: 0 | E20: 0 | G20: 0 | I20: 0
A21: PARCHEO CARRETERA PAV. | C21: 0 | E21: 0 | G21: 0 | I21: 0
A22: LIMPIEZA DE LA CALZADA | C22: 0 | E22: 0 | G22: 0 | I22: 0
A23: ARBORIZACION (SIEMBRA) | C23: 0 | E23: 0 | G23: 0 | I23: 0
... A25: ATENCION DE EMERGENCIAS | C25: 0 | E25: 0 | G25: 0 | I25: 0
A28: OBSERVACIONES : | C28: BUENO | E28: REGULAR | G28: MALO | I28: NO HUBO
A29: Los contratos con los CONTRATISTA DE M.R. a la fecha 30 de septiembre 2024, no cuentan con Orden de Inicio
A30: * Indicar nombre de cada microempresa a la que se le aplica el indicador. Resolución N°
A31: En caso de no cumplir totalmente con el indicador, informar la razón.
A32: Indicar el Porcentaje de cumplimiento mensual para cada CONTRATISTA DE SERVICIO DE MANTENIMIENTO RUTINARIO | G32: VOLVER A TABLA DE CONTENIDO

Sheet ESTADO RED VIS
A1: INSTITUTO NACIONAL DE VIAS
A2: DIRECCION TERRITORIAL NARIÑO
A4: CUADRO No 3
A6: RELACION ESTADO DE LA RED CRITERIO DE TRANSITABILIDAD (VISUAL)
A8: INGENIERO(S) RESIDENTE(S): | C8: JAIRO ANDRES VILLARREAL PANTOJA | G8: TRIMESTRE EVALUADO: | H8: AGO - SEP/2024
A10: CODIGO VIA | B10: PR INICIAL | C10: PR FINAL | D10: CARRETERA | F10: Kms. | G10: TIPO DE SUPERFICIE | H10: ESTADO
A13: 1001 | B13: 0 | C13: 60800 | D13: Tumaco - Junin | F13: 6.745 | G13: P | H13: M
A15: 1001 | B15: =+C13 -> 60800 | C15: 70000 | D15: Tumaco - Junin | F15: 0.2 | G15: P | H15: M
A17: 1001 | B17: =+C15 -> 70000 | C17: 140000 | D17: Tumaco - Junin | F17: 6.918 | G17: P | H17: R
A19: 1001 | B19: =+C17 -> 140000 | C19: 180000 | D19: Tumaco - Junin | F19: 3.988 | G19: P | H19: M
A21: 1001 | B21: =+C19 -> 180000 | C21: 190000 | D21: Tumaco - Junin | F21: 1.005 | G21: P | H21: R
A23: 1001 | B23: =+C21 -> 190000 | C23: 1100065 | D23: Tumaco - Junin | F23: =92.839-1.005 -> 91.834 | G23: P | H23: B
A25: 1001 | B25: =C23 -> 1100065 | C25: 1181006 | D25: Tumaco - Junin | F25: 9.1 | G25: P | H25: R
F26: =SUM(F13:F25) -> 119.79
A27: 0501 | B27: 0 | C27: 5+0066 | D27: Espriella - Rio Mataje | F27: 5.066 | G27: P | H27: B
A29: 0501 | B29: =+C27 -> 5+0066 | C29: 5+0751 | D29: Espriella - Rio Mataje | F29: 0.685 | G29: P | H29: B
A31: 0501 | B31: 5+0751 | C31: 10+0400 | D31: Espriella - Rio Mataje | F31: 4.649 | G31: P | H31: B
F33: =SUM(F27:F32) -> 10.4
F34: =+F26+F33 -> 130.19
A37: NOTA: Entre el PR 5+0065 hasta el PR 5+0455 se construyó el puente sobre el Rio Mira y desde el PR 005+0455 hasta el PR 005+0751 se construyó el viaducto de acceso al puente. Para la fecha aún no está en servicio oficial
F40: CONVENCIONES | H40: NO CAMBIAR ESTOS TIPOS DE COLORES
F41: B | G41: BUENO
F42: R | G42: REGULAR
F43: M | G43: MALO
F45: VOLVER A TABLA DE CONTENIDO

Sheet SEMAFORO VIS 1001
A1: INSTITUTO NACIONAL DE VIAS
A2: DIRECCION TERRITORIAL NARIÑO
A3: GRAFICO No. 1
A4: ESTADO DE LAS VIAS CRITERIO DE TRANSITABILIDAD (VISUAL)
A6: NOMBRE DE LA VIA: | B6: TUMACO - JUNIN | DS6: Codigo de la vía: | DT6: 1001
A8: SECTOR | B8: 1 | G8: TUMACO (PASO URBANO) | DQ8: PR0+0000 A PR6+0800
B9: 2 | G9: TUMACO (PASO URBANO) | DQ9: PR6+0800 A PR7+0000
B10: 3 | G10: TUMACO (PASO URBANO) | DQ10: PR7+0000 A PR14+0000
B11: 5 | G11: TUMACO - JUNIN (EL TIGRE) | DQ11: PR14+0000 A PR18+0000
B12: 5 | G12: TUMACO - JUNIN (EL DIVISO) | DQ12: PR18+0000 A PR110+0065
B13: 5 | G13: TUMACO - JUNIN (EL DIVISO) | DQ13: PR110+0065 A PR118+1006
A15: INGENIERO RESIDENTE: | J15: JAIRO ANDRES VILLARREAL PANTOJA | DS15: TRIMESTRE EVALUADO | DT15: =+'ESTADO RED VIS'!H8 -> AGO - SEP/2024
A44: CODIGO | B44: SECTOR | DR44: Longitud y Porcentaje
B45: 1 | H45: 2 | T45: 3 | DH45: 4 | DR45: sobre el total de la vía
A46: PR | B46: 10 | L46: 20 | V46: 30 | AF46: 40 | AP46: 50 | AZ46: 60 | BJ46: 70 | BT46: 80 | CD46: 90 | CN46: 100 | CX46: 110 | DH46: 118+1006 | DR46: o del item
A47: ITEM | DR47: B | DT47: R | DV47: M
DR48: km | DS48: % | DT48: km | DU48: % | DV48: km | DW48: %
A49: Pavimento | DQ49: Regular
DR50: =+'ESTADO RED VIS'!F23 -> 91.834 | DS50: =+DR50/'ESTADO RED VIS'!F26*100 -> 76.662493 | DT50: =+'ESTADO RED VIS'!F17+'ESTADO RED VIS'!F21+'ESTADO RED VIS'!F25 -> 17.023 | DU50: =+DT50/'ESTADO RED VIS'!F26*100 -> 14.210702 | DV50: =+'ESTADO RED VIS'!F13+'ESTADO RED VIS'!F15+'ESTADO RED VIS'!F19 -> 10.933 | DW50: =+DV50/'ESTADO RED VIS'!F26*100 -> 9.1268052 | EK50: =+DV50+DT50+DR50 -> 119.79 | EL50: =+DW50+DU50+DS50 -> 100 | EO50: 0.28277356 | EP50: M
A51: Afirmado | EO51: 0.19934995 | EP51: R
EO52: 0.51787649 | EP52: B
A53: Puentes ( Son: 7 )
DS54: =DR54/$EK54*100 -> 0 | DT54: 6 | DU54: =DT54/$EK54*100 -> 85.714286 | DV54: 1 | DW54: =DV54/7*100 -> 14.285714 | EK54: =+DV54+DT54+DR54 -> 7 | EL54: =+DW54+DU54+DS54 -> 100
A55: Cunetas
DR56: =10.393+8.961 -> 19.354 | DS56: =DR56/$EK56*100 -> 24.074235 | DT56: 14 | DU56: =DT56/$EK56*100 -> 17.414452 | DV56: =56-8.961 -> 47.039 | DW56: =DV56/$EK56*100 -> 58.511313 | EK56: =+DV56+DT56+DR56 -> 80.393 | EL56: =+DW56+DU56+DS56 -> 100
A57: Señalización Vertical
DR58: =119.79*DS58/100 -> 62.036425 | DS58: =+EO52*100 -> 51.787649 | DT58: =119.79*DU58/100 -> 23.88013 | DU58: =+EO51*100 -> 19.934995 | DV58: =119.79*DW58/100 -> 33.873445 | DW58: =+EO50*100 -> 28.277356 | EK58: =+DV58+DT58+DR58 -> 119.79 | EL58: =+DW58+DU58+DS58 -> 100
A59: Señalización horizontal
DR60: =119.79-13-7 -> 99.79 | DS60: =DR60/$EK60*100 -> 83.304116 | DT60: 13 | DU60: =DT60/$EK60*100 -> 10.852325 | DV60: 7 | DW60: =DV60/$EK60*100 -> 5.8435596 | EK60: =+DV60+DT60+DR60 -> 119.79 | EL60: =+DW60+DU60+DS60 -> 100
A61: Rocería
DS62: =DR62/$EK62*100 -> 0 | DT62: 119.79 | DU62: =DT62/$EK62*100 -> 100 | DW62: =DV62/$EK62*100 -> 0 | EK62: =+DV62+DT62+DR62 -> 119.79 | EL62: =+DW62+DU62+DS62 -> 100
A63: Alcantarillas | DY63: CONVENCIONES | EA63: NO CAMBIAR ESTOS TIPOS DE COLORES
DS64: =DR64/$EK64*100 -> 0 | DT64: 119.79 | DU64: =DT64/$EK64*100 -> 100 | DY64: B | DZ64: BUENO | EK64: =+DV64+DT64+DR64 -> 119.79 | EL64: =+DW64+DU64+DS64 -> 100
A65: Limpiezas de bermas | DY65: R | DZ65: REGULAR
DT66: 100.56 | DU66: =DT66/$EK66*100 -> 100 | DW66: =DV66/$EK66*100 -> 0 | DY66: M | DZ66: MALO | EK66: =+DV66+DT66+DR66 -> 100.56 | EL66: =+DW66+DU66+DS66 -> 100
A68: NOTA: Indicar en el mapa los PRs y nombre de cada uno de los sitios importantes
A69: Hacer montaje del mapa de la red vial sobre cartografía o mapas aerofotogramétricos
DR70: VOLVER A TABLA DE CONTENIDO

Sheet SEMAFORO VIS 0501
A1: INSTITUTO NACIONAL DE VIAS
A2: DIRECCION TERRITORIAL NARIÑO
A3: GRAFICO No. 1
A4: ESTADO DE LAS VIAS CRITERIO DE TRANSITABILIDAD (VISUAL)
A6: NOMBRE DE LA VIA: | B6: LA ESPRIELLA - RÍO MIRA - RÍO MATAJE | DD6: Codigo de la vía: | DE6: 0501
A8: SECTOR | B8: 01 | G8: ESPRIELLA - RIO MATAJE | DC8: PR0+0000 A PR5+0066
B9: 2 | G9: ESPRIELLA - RIO MATAJE | DC9: PR5+0066 A PR5+0751
B10: 3 | G10: ESPRIELLA - RIO MATAJE | DC10: PR5+0751 A PR10+0400
A12: INGENIERO RESIDENTE: | J12: JAIRO ANDRES VILLARREAL PANTOJA | DD12: TRIMESTRE EVALUADO | DE12: =+'SEMAFORO VIS 1001'!DT15 -> AGO - SEP/2024
A41: CODIGO | B41: SECTOR | DC41: Longitud y Porcentaje
B42: 1 | AD42: 2 | BC42: 3 | DC42: sobre el total de la vía
A43: PR | B43: 1 | L43: 2 | V43: 3 | AF43: 4 | AP43: 5 | AZ43: 6 | BJ43: 7 | BT43: 8 | CD43: 9 | CN43: 10+0400 | DC43: o del item
A44: ITEM | DC44: B | DE44: R | DG44: M
DC45: km | DD45: % | DE45: km | DF45: % | DG45: km | DH45: %
A46: Pavimento
DC47: =+'ESTADO RED VIS'!F27+'ESTADO RED VIS'!F29+'ESTADO RED VIS'!F31 -> 10.4 | DD47: =+DC47/10.4*100 -> 100 | DI47: =+DG47+DG49 -> 0 | DL47: =+DG47+DE47+DC47 -> 10.4 | DM47: =+DH47+DF47+DD47 -> 100
A48: Afirmado
DD49: =+DC49/10.4*100 -> 0 | DE49: 0 | DF49: =+DE49/10.01*100 -> 0 | DL49: =+DG49+DE49+DC49 -> 0 | DM49: =+DH49+DF49+DD49 -> 0 | DP49: PUENTE RIO MIRA | DQ49: 5065.92 | DR49: 5455.92 | DS49: =+DR49-DQ49 -> 390
A50: Puentes | DI50: =SUM(DI47:DI49) -> 0 | DP50: VIADUCTO | DQ50: 5455.92 | DR50: 5751.14 | DS50: =+DR50-DQ50 -> 295.22
DC51: 0.695 | DD51: =+DC51/10.01*100 -> 6.9430569 | DE51: 0 | DG51: 0 | DL51: =+DG51+DE51+DC51 -> 0.695 | DM51: =+DH51+DF51+DD51 -> 6.9430569 | DS51: =SUM(DS49:DS50) -> 685.22
A52: Cunetas | DS52: =+DS51/1000 -> 0.68522
DC53: 10.4 | DD53: =+DC53/10.4*100 -> 100 | DH53: =+DG53/10.4*100 -> 0 | DL53: =+DG53+DE53+DC53 -> 10.4 | DM53: =+DH53+DF53+DD53 -> 100 | DS53: 10.4
A54: Señalización Vertical | DS54: =+DS53-DS52 -> 9.71478
DC55: 10.4 | DD55: =+DC55/10.4*100 -> 100 | DE55: 0 | DF55: =DE55/DL55*100 -> 0 | DL55: =+DG55+DE55+DC55 -> 10.4 | DM55: =+DH55+DF55+DD55 -> 100
A56: Señalización horizontal
DC57: 10.4 | DD57: =+DC57/10.4*100 -> 100 | DH57: =DG57/$DL$57*100 -> 0 | DL57: =+DG57+DE57+DC57 -> 10.4 | DM57: =+DH57+DF57+DD57 -> 100
A58: Rocería
DC59: 0 | DD59: 0 | DE59: 10.4 | DF59: 100
A60: Alcantarillas
DE61: 10.4 | DF61: 100 | DL61: =+DG61+DE61+DC61 -> 10.4 | DM61: =+DH61+DF61+DD61 -> 100 | DN61: 100
A62: Limpiezas de bermas
DE63: 10.4 | DF63: 100 | DL63: =+DG63+DE63+DC63 -> 10.4 | DM63: =+DH63+DF63+DD63 -> 100 | DN63: 100
A65: NOTA: Entre el PR 5+0065 hasta el PR 5+0455 se construyó el puente sobre el Rio Mira y desde el PR 005+0455 hasta el PR 005+0751 se construyó el viaducto de acceso al puente para la fecha ya tiene transitabilidad normal
A67: NOTA: Indicar en el mapa los PRs y nombre de cada uno de los sitios importantes
A68: Hacer montaje del mapa de la red vial sobre cartografía o mapas aerofotogramétricos
DC71: VOLVER A TABLA DE CONTENIDO

Sheet TORTA EST. VIAS VIS
A1: INSTITUTO NACIONAL DE VIAS
A2: DIRECCION TERRITORIAL NARIÑO
A4: GRAFICO No. 2
A6: ESTADO DE LAS VIAS EN TORTA-CRITERIO DE TRANSITABILIDAD (VISUAL)
A8: INGENIERO RESIDENTE: | B8: JAIRO ANDRES VILLARREAL PANTOJA
A10: TRIMESTRE EVALUADO: | B10: =+'SEMAFORO VIS 0501'!DE12 -> AGO - SEP/2024
A13: CARRETERA | B13: TRIMESTRE ANTERIOR | C13: TRIMESTRE EVALUADO
A16: RUTA 1001 TUMACO - JUNIN
Q19: TUMACO - JUNIN
R20: BUENO | S20: REGULAR | T20: MALO
Q21: Anterior | R21: 0.76662493 | S21: 0.14210702 | T21: 0.091268052
Q22: Presente | R22: =+'SEMAFORO VIS 1001'!DS50/100 -> 0.76662493 | S22: =+'SEMAFORO VIS 1001'!DU50/100 -> 0.14210702 | T22: =+'SEMAFORO VIS 1001'!DW50/100 -> 0.091268052
A26: RUTA 0501 LA ESPRIELLA - RÍO MIRA - RÍO MATAJE
Q27: ESPRIELLA - RÍO MATAJE
R28: BUENO | S28: REGULAR | T28: MALO
Q29: Anterior | R29: 1 | S29: 0 | T29: 0
Q30: Presente | R30: 1 | S30: 0 | T30: 0
A37: CONVENCIONES | B37: NO CAMBIAR ESTOS TIPOS DE COLORES
A38: BUENO
A39: REGULAR
A40: MALO | C40: VOLVER A TABLA DE CONTENIDO

Sheet ESTADO RED TEC
A1: INSTITUTO NACIONAL DE VIAS
A2: DIRECCION TERRITORIAL NARIÑO
A4: CUADRO No 4
A6: RELACION ESTADO DE LA RED CRITERIO TECNICO | S6: 10000 | T6: 989
S7: 20000 | T7: 997
A8: INGENIERO RESIDENTE: | C8: JAIRO ANDRES VILLARREAL PANTOJA | J8: PERIODO EVALUADO: | K8: =+'TORTA EST. VIAS VIS'!B10 -> AGO - SEP/2024 | S8: 30000 | T8: 1006
S9: 40000 | T9: 1016
A10: CODIGO VIA | B10: PR INICIAL | C10: PR FINAL | E10: CARRETERA | G10: Kms. | I10: TIPO DE | K10: ESTADO | S10: 50000 | T10: 982
I11: SUPERFICIE | S11: 60000 | T11: 983
A12: 1001 | B12: 0 | C12: 70000 | E12: Tumaco - Junín | G12: 6.942 | I12: P | K12: M | P12: 01 | Q12: =B12 -> 0 | R12: =C12 -> 70000 | S12: 70000 | T12: 937 | W12: Malo | X12: =IF(W12="Malo","M",IF(W12="Bueno","B",IF(W12="Regular","R",IF(W12="Muy Bueno","MB","Muy Malo")))) -> M
A13: 1001 | B13: 70000 | C13: 80000 | E13: Tumaco - Junín | G13: 0.91048 | I13: P | K13: B | P13: 02 | Q13: =B13 -> 70000 | R13: =C13 -> 80000 | S13: 80000 | T13: 919 | W13: Muy Bueno | X13: =IF(W13="Malo","M",IF(W13="Bueno","B",IF(W13="Regular","R",IF(W13="Muy Bueno","MB","Muy Malo")))) -> MB
A14: 1001 | B14: =+C13 -> 80000 | C14: 130000 | E14: Tumaco - Junín | G14: 5.02071 | I14: P | K14: R | P14: 03 | Q14: =B14 -> 80000 | R14: =C14 -> 130000 | S14: 90000 | T14: 1034 | W14: Bueno | X14: =IF(W14="Malo","M",IF(W14="Bueno","B",IF(W14="Regular","R",IF(W14="Muy Bueno","MB","Muy Malo")))) -> B
A15: 1001 | B15: =+C14 -> 130000 | C15: 170000 | E15: Tumaco - Junín | G15: 4.02985 | I15: P | K15: M | P15: 03 | Q15: =B15 -> 130000 | R15: =C15 -> 170000 | S15: 90000 | T15: 1034 | W15: Bueno | X15: =IF(W15="Malo","M",IF(W15="Bueno","B",IF(W15="Regular","R",IF(W15="Muy Bueno","MB","Muy Malo")))) -> B
A16: 1001 | B16: =+C15 -> 170000 | C16: 180000 | E16: Tumaco - Junín | G16: 0.98731 | I16: P | K16: R | P16: 03 | Q16: =B16 -> 170000 | R16: =C16 -> 180000 | S16: 90000 | T16: 1034 | W16: Bueno | X16: =IF(W16="Malo","M",IF(W16="Bueno","B",IF(W16="Regular","R",IF(W16="Muy Bueno","MB","Muy Malo")))) -> B
A17: 1001 | B17: =+C16 -> 180000 | C17: 190000 | E17: Tumaco - Junín | G17: 1.0045 | I17: P | K17: B | P17: 03 | Q17: =B17 -> 180000 | R17: =C17 -> 190000 | S17: 90000 | T17: 1034 | W17: Bueno | X17: =IF(W17="Malo","M",IF(W17="Bueno","B",IF(W17="Regular","R",IF(W17="Muy Bueno","MB","Muy Malo")))) -> B
A18: 1001 | B18: =+C17 -> 190000 | C18: 270000 | E18: Tumaco - Junín | G18: 8.00723 | I18: P | K18: MB | P18: 03 | Q18: =B18 -> 190000 | R18: =C18 -> 270000 | S18: 90000 | T18: 1034 | W18: Bueno | X18: =IF(W18="Malo","M",IF(W18="Bueno","B",IF(W18="Regular","R",IF(W18="Muy Bueno","MB","Muy Malo")))) -> B
A19: 1001 | B19: =+C18 -> 270000 | C19: 280000 | E19: Tumaco - Junín | G19: 0.99453 | I19: P | K19: R | P19: 03 | Q19: =B19 -> 270000 | R19: =C19 -> 280000 | S19: 90000 | T19: 1034 | W19: Bueno | X19: =IF(W19="Malo","M",IF(W19="Bueno","B",IF(W19="Regular","R",IF(W19="Muy Bueno","MB","Muy Malo")))) -> B
A20: 1001 | B20: =+C19 -> 280000 | C20: 300000 | E20: Tumaco - Junín | G20: 1.99596 | I20: P | K20: MB | P20: 03 | Q20: =B20 -> 280000 | R20: =C20 -> 300000 | S20: 90000 | T20: 1034 | W20: Bueno | X20: =IF(W20="Malo","M",IF(W20="Bueno","B",IF(W20="Regular","R",IF(W20="Muy Bueno","MB","Muy Malo")))) -> B
A21: 1001 | B21: =+C20 -> 300000 | C21: 330000 | E21: Tumaco - Junín | G21: 2.99254 | I21: P | K21: B | P21: 03 | Q21: =B21 -> 300000 | R21: =C21 -> 330000 | S21: 90000 | T21: 1034 | W21: Bueno | X21: =IF(W21="Malo","M",IF(W21="Bueno","B",IF(W21="Regular","R",IF(W21="Muy Bueno","MB","Muy Malo")))) -> B
A22: 1001 | B22: =+C21 -> 330000 | C22: 340000 | E22: Tumaco - Junín | G22: 0.98751 | I22: P | K22: MB | P22: 03 | Q22: =B22 -> 330000 | R22: =C22 -> 340000 | S22: 90000 | T22: 1034 | W22: Bueno | X22: =IF(W22="Malo","M",IF(W22="Bueno","B",IF(W22="Regular","R",IF(W22="Muy Bueno","MB","Muy Malo")))) -> B
A23: 1001 | B23: =+C22 -> 340000 | C23: 350000 | E23: Tumaco - Junín | G23: 1.03477 | I23: P | K23: B | P23: 03 | Q23: =B23 -> 340000 | R23: =C23 -> 350000 | S23: 90000 | T23: 1034 | W23: Bueno | X23: =IF(W23="Malo","M",IF(W23="Bueno","B",IF(W23="Regular","R",IF(W23="Muy Bueno","MB","Muy Malo")))) -> B
A24: 1001 | B24: =+C23 -> 350000 | C24: 420000 | E24: Tumaco - Junín | G24: 7.01884 | I24: P | K24: MB | P24: 03 | Q24: =B24 -> 350000 | R24: =C24 -> 420000 | S24: 90000 | T24: 1034 | W24: Bueno | X24: =IF(W24="Malo","M",IF(W24="Bueno","B",IF(W24="Regular","R",IF(W24="Muy Bueno","MB","Muy Malo")))) -> B
A25: 1001 | B25: =+C24 -> 420000 | C25: 430000 | E25: Tumaco - Junín | G25: 0.99898 | I25: P | K25: B | P25: 04 | Q25: =B25 -> 420000 | R25: =C25 -> 430000 | S25: 100000 | T25: 980 | W25: Regular | X25: =IF(W25="Malo","M",IF(W25="Bueno","B",IF(W25="Regular","R",IF(W25="Muy Bueno","MB","Muy Malo")))) -> R
... A27: 1001 | B27: =+C26 -> 660000 | C27: 670000 | E27: Tumaco - Junín | G27: 0.99016 | I27: P | K27: B | P27: 04 | Q27: =B27 -> 660000 | R27: =C27 -> 670000 | S27: 100000 | T27: 980 | W27: Regular | X27: =IF(W27="Malo","M",IF(W27="Bueno","B",IF(W27="Regular","R",IF(W27="Muy Bueno","MB","Muy Malo")))) -> R
A28: 1001 | B28: =+C27 -> 670000 | C28: 91+0000 | E28: Tumaco - Junín | G28: 24.11677 | I28: P | K28: MB | P28: 04 | Q28: =B28 -> 670000 | R28: =C28 -> 91+0000 | S28: 100000 | T28: 980 | W28: Regular | X28: =IF(W28="Malo","M",IF(W28="Bueno","B",IF(W28="Regular","R",IF(W28="Muy Bueno","MB","Muy Malo")))) -> R
A29: 1001 | B29: =+C28 -> 91+0000 | C29: 92+0000 | E29: Tumaco - Junín | G29: 0.99007 | I29: P | K29: B
A30: 1001 | B30: =+C29 -> 92+0000 | C30: 106+0000 | E30: Tumaco - Junín | G30: 14.08265 | I30: P | K30: MB | P30: 04 | Q30: =B30 -> 92+0000 | R30: =C30 -> 106+0000 | S30: 100000 | T30: 980 | W30: Regular | X30: =IF(W30="Malo","M",IF(W30="Bueno","B",IF(W30="Regular","R",IF(W30="Muy Bueno","MB","Muy Malo")))) -> R
A31: 1001 | B31: =+C30 -> 106+0000 | C31: 107+0000 | E31: Tumaco - Junín | G31: 0.98882 | I31: P | K31: B
A32: 1001 | B32: =+C31 -> 107+0000 | C32: 1090000 | E32: Tumaco - Junín | G32: 2.38178 | I32: P | K32: R | P32: 04 | Q32: =B32 -> 107+0000 | R32: =C32 -> 1090000 | S32: 100000 | T32: 980 | W32: Regular | X32: =IF(W32="Malo","M",IF(W32="Bueno","B",IF(W32="Regular","R",IF(W32="Muy Bueno","MB","Muy Malo")))) -> R
A33: 1001 | B33: =+C32 -> 1090000 | C33: 1100000 | E33: Tumaco - Junín | G33: 1.00945 | I33: P | K33: B | P33: 04 | Q33: =B33 -> 1090000 | R33: =C33 -> 1100000 | S33: 100000 | T33: 980 | W33: Regular | X33: =IF(W33="Malo","M",IF(W33="Bueno","B",IF(W33="Regular","R",IF(W33="Muy Bueno","MB","Muy Malo")))) -> R
A34: 1001 | B34: =+C33 -> 1100000 | C34: 1181006 | E34: Tumaco - Junín | G34: 9.01986 | I34: P | K34: R | P34: 04 | Q34: =B34 -> 1100000 | R34: =C34 -> 1181006 | S34: 100000 | T34: 980 | W34: Regular | X34: =IF(W34="Malo","M",IF(W34="Bueno","B",IF(W34="Regular","R",IF(W34="Muy Bueno","MB","Muy Malo")))) -> R
G36: =SUM(G12:H34) -> 119.66836 | P36: 01 | Q36: =B36 -> 0 | R36: =C36 -> 0 | S36: 110000 | T36: 986
A37: 0501 | B37: 0 | C37: 50065 | E37: Espriella - Rio Mataje | G37: 5.065 | I37: P | K37: MB | P37: 01 | Q37: =B37 -> 0 | R37: =C37 -> 50065 | S37: 110000 | T37: 986
A38: 0501 | B38: =+C37 -> 50065 | C38: 50751 | E38: Espriella - Rio Mataje | G38: 0.686 | I38: P | K38: MB | P38: 02 | Q38: =B38 -> 50065 | R38: =C38 -> 50751 | S38: 120000 | T38: 997
A39: 0501 | B39: =+C38 -> 50751 | C39: 100400 | E39: Espriella - Rio Mataje | G39: =2.999+1.65 -> 4.649 | I39: P | K39: MB | P39: 02 | Q39: =B39 -> 50751 | R39: =C39 -> 100400 | S39: 120000 | T39: 997
G40: =SUM(G37:H39) -> 10.4
A42: NOTA: Entre el PR 5+0065 hasta el PR 5+0455 se construyó el puente sobre el Rio Mira y desde el PR 005+0455 hasta el PR 005+0751 se construyó el viaducto de acceso al puente. Para la fecha aún no está en servicio oficial
A44: Nota: La información contenida es un ejemplo sobre la forma de diligenciar este cuadro.Debe presentarse a color SIN CAMBIAR ESTOS TIPOS DE COLORES.
A45: Esta informacion se deberá presentar cada seis meses en un informe especifico en CD e incorporarlo en el trimestral que le corresponda.
G47: CONVENCIONES | K47: NO CAMBIAR ESTOS TIPOS DE COLORES | S47: 140000 | T47: 885
...

Sheet SEMAFORO TEC 1001
A1: INSTITUTO NACIONAL DE VIAS
A2: DIRECCION TERRITORIAL NARIÑO
A3: GRAFICO No. 3
A4: ESTADO DE LA RED CRITERIO TECNICO
A6: NOMBRE DE LA VIA: | B6: TUMACO - JUNIN | DU6: Codigo de la vía: | DV6: 1001
A8: SECTOR | B8: 1 | G8: TUMACO - JUNIN | DS8: PR0+0000 A PR118+1006
B9: 02 | I9: =+'ESTADO RED TEC'!B13 -> 70000 | AF9: A | AL9: =+'ESTADO RED TEC'!C13 -> 80000
B10: 03 | I10: =+'ESTADO RED TEC'!B14 -> 80000 | AF10: A | AL10: =+'ESTADO RED TEC'!C14 -> 130000
B11: 04 | I11: =+'ESTADO RED TEC'!B15 -> 130000 | AF11: A | AL11: =+'ESTADO RED TEC'!C15 -> 170000
B12: 05 | I12: =+'ESTADO RED TEC'!B16 -> 170000 | AF12: A | AL12: =+'ESTADO RED TEC'!C16 -> 180000
B13: 06 | I13: =+'ESTADO RED TEC'!B17 -> 180000 | AF13: A | AL13: =+'ESTADO RED TEC'!C17 -> 190000
B14: 07 | I14: =+'ESTADO RED TEC'!B18 -> 190000 | AF14: A | AL14: =+'ESTADO RED TEC'!C18 -> 270000
B15: 08 | I15: =+'ESTADO RED TEC'!B19 -> 270000 | AF15: A | AL15: =+'ESTADO RED TEC'!C19 -> 280000
B16: 09 | I16: =+'ESTADO RED TEC'!B20 -> 280000 | AF16: A | AL16: =+'ESTADO RED TEC'!C20 -> 300000
B17: 10 | I17: =+'ESTADO RED TEC'!B21 -> 300000 | AF17: A | AL17: =+'ESTADO RED TEC'!C21 -> 330000
B18: 11 | I18: =+'ESTADO RED TEC'!B22 -> 330000 | AF18: A | AL18: =+'ESTADO RED TEC'!C22 -> 340000
B19: 12 | I19: =+'ESTADO RED TEC'!B23 -> 340000 | AF19: A | AL19: =+'ESTADO RED TEC'!C23 -> 350000
B20: 13 | I20: =+'ESTADO RED TEC'!B24 -> 350000 | AF20: A | AL20: =+'ESTADO RED TEC'!C24 -> 420000
... B30: 23 | I30: =+'ESTADO RED TEC'!B34 -> 1100000 | AF30: A | AL30: =+'ESTADO RED TEC'!C34 -> 1181006
A33: INGENIERO RESIDENTE: | J33: JAIRO ANDRES VILLARREAL PANTOJA | DW33: PERIODO EVALUADO | DX33: =+'ESTADO RED TEC'!K8 -> AGO - SEP/2024
A65: CODIGO | B65: SECTOR | DR65: Longitud y Porcentaje
B66: 1 | I66: 2 | DE66: 3 | DH66: 4 | DR66: sobre el total de la vía
A67: PR | B67: 10 | L67: 20 | V67: 30 | AF67: 40 | AP67: 50 | AZ67: 60 | BJ67: 70 | BT67: 80 | CD67: 90 | CN67: 100 | CX67: 110 | DH67: 118+1006 | DR67: o del item
A68: ITEM | DR68: MB | DT68: B | DV68: R | DX68: M | DZ68: MM
DR69: km | DS69: % | DT69: km | DU69: % | DV69: km | DW69: % | DX69: km | DY69: % | DZ69: km | EA69: %
A70: Pavimento | B70: Malo | C70: Malo | D70: Malo | E70: Malo | F70: Malo | G70: Malo | H70: Malo | I70: Bueno | J70: Regular | K70: Regular | L70: Regular | M70: Regular | N70: Malo | O70: Malo | P70: Malo | Q70: Malo | R70: Malo | S70: Regular | T70: Bueno | U70: Muy Bueno | V70: Muy Bueno | W70: Muy Bueno | X70: Muy Bueno | Y70: Muy Bueno | Z70: Muy Bueno | AA70: Muy Bueno | AB70: Muy Bueno | AC70: Regular | AD70: Muy Bueno | AE70: Muy Bueno | AF70: Bueno | AG70: Bueno | AH70: Bueno | AI70: Muy Bueno | AJ70: Bueno | AK70: Muy Bueno | AL70: Muy Bueno | AM70: Muy Bueno | AN70: Muy Bueno | AO70: Muy Bueno | AP70: Muy Bueno | AQ70: Muy Bueno | AR70: Bueno | AS70: Muy Bueno | AT70: Muy Bueno | AU70: Muy Bueno | AV70: Muy Bueno | AW70: Muy Bueno | AX70: Muy Bueno | AY70: Muy Bueno | AZ70: Muy Bueno | BA70: Muy Bueno | BB70: Muy Bueno | BC70: Muy Bueno | BD70: Muy Bueno | BE70: Muy Bueno | BF70: Muy Bueno | BG70: Muy Bueno | BH70: Muy Bueno | BI70: Muy Bueno | BJ70: Muy Bueno | BK70: Muy Bueno | BL70: Muy Bueno | BM70: Muy Bueno | BN70: Muy Bueno | BO70: Muy Bueno | BP70: Bueno | BQ70: Muy Bueno | BR70: Muy Bueno | BS70: Muy Bueno | BT70: Muy Bueno | BU70: Muy Bueno | BV70: Muy Bueno | BW70: Muy Bueno | BX70: Muy Bueno | BY70: Muy Bueno | BZ70: Muy Bueno | CA70: Muy Bueno | CB70: Muy Bueno | CC70: Muy Bueno | CD70: Muy Bueno | CE70: Muy Bueno | CF70: Muy Bueno | CG70: Muy Bueno | CH70: Muy Bueno | CI70: Muy Bueno | CJ70: Muy Bueno | CK70: Muy Bueno | CL70: Muy Bueno | CM70: Muy Bueno | CN70: Muy Bueno | CO70: Bueno | CP70: Muy Bueno | CQ70: Muy Bueno | CR70: Muy Bueno | CS70: Muy Bueno | CT70: Muy Bueno | CU70: Muy Bueno | CV70: Muy Bueno | CW70: Muy Bueno | CX70: Muy Bueno | CY70: Muy Bueno | CZ70: Muy Bueno | DA70: Muy Bueno | DB70: Muy Bueno | DC70: Muy Bueno | DD70: Bueno | DE70: Regular | DF70: Regular | DG70: Bueno | DH70: Regular | DI70: Regular | DJ70: Regular | DK70: Regular | DL70: Regular | DM70: Regular | DN70: Regular | DO70: Regular | DP70: Regular | DQ70: Regular
DR71: =+'ESTADO RED TEC'!C59 -> 79.37255 | DS71: =DR71/$EC71*100 -> 66.327098 | DT71: =+'ESTADO RED TEC'!E59 -> 10.91977 | DU71: =DT71/$EC71*100 -> 9.1250269 | DV71: =+'ESTADO RED TEC'!G59 -> 18.40419 | DW71: =DV71/$EC71*100 -> 15.379328 | DX71: =+'ESTADO RED TEC'!I59 -> 10.97185 | DY71: =DX71/$EC71*100 -> 9.1685471 | DZ71: =+'ESTADO RED TEC'!K59 -> 0 | EA71: =DZ71/$EC71*100 -> 0 | EC71: =DR71+DT71+DV71+DX71+DZ71 -> 119.66836 | ED71: =DS71+DU71+DW71+DY71+EA71 -> 100 | FP71: =+DR71+DT71+DV71+DX71+DZ71 -> 119.66836
A72: Afirmado | FP72: =+DR72+DT72+DV72+DX72+DZ72 -> 0
EC73: =DR73+DT73+DV73+DX73+DZ73 -> 0 | ED73: =DS73+DU73+DW73+DY73+EA73 -> 0 | FP73: =+DR73+DT73+DV73+DX73+DZ73 -> 0
A74: Puentes ( Son: 7 ) | FP74: =+DR74+DT74+DV74+DX74+DZ74 -> 0
DS75: =DR75/$EC75*100 -> 0 | DU75: =DT75/$EC75*100 -> 0 | DV75: 7 | DW75: =DV75/$EC75*100 -> 100 | DY75: =DX75/$EC75*100 -> 0 | EA75: =DZ75/$EC75*100 -> 0 | EC75: =DR75+DT75+DV75+DX75+DZ75 -> 7 | ED75: =DS75+DU75+DW75+DY75+EA75 -> 100 | FP75: =+DR75+DT75+DV75+DX75+DZ75 -> 7
A76: Cunetas | B76: Malo | C76: Muy Malo | D76: Muy Malo | E76: Muy Malo | F76: Muy Malo | G76: Muy Malo | H76: Muy Malo | I76: Muy Malo | J76: Muy Malo | K76: Muy Malo | L76: Muy Malo | M76: Malo | N76: Malo | O76: Malo | P76: Malo | Q76: Malo | R76: Malo | S76: Malo | T76: Malo | U76: Malo | V76: Malo | W76: Malo | X76: Malo | Y76: Malo | Z76: Malo | AA76: Malo | AB76: Malo | AC76: Malo | AD76: Malo | AE76: Malo | AF76: Malo | AG76: Malo | AH76: Malo | AI76: Malo | AJ76: Malo | AK76: Malo | AL76: Malo | AM76: Malo | AN76: Malo | AO76: Malo | AP76: Malo | AQ76: Malo | AR76: Malo | AS76: Malo | AT76: Malo | AU76: Malo | AV76: Malo | AW76: Malo | AX76: Regular | AY76: Regular | AZ76: Malo | BA76: Malo | BB76: Regular | BC76: Regular | BD76: Malo | BE76: Malo | BF76: Regular | BG76: Bueno | BH76: Bueno | BI76: Bueno | BJ76: Bueno | BK76: Bueno | BL76: Regular | BM76: Muy Malo | BN76: Muy Malo | BO76: Muy Malo | BP76: Bueno | BQ76: Bueno | BR76: Bueno | BS76: Malo | BT76: Bueno | BU76: Bueno | BV76: Muy Malo | BW76: Muy Malo | BX76: Muy Malo | BY76: Muy Malo | BZ76: Muy Malo | CA76: Muy Malo | CB76: Muy Malo | CC76: Muy Malo | CD76: Muy Malo | CE76: Muy Malo | CF76: Muy Malo | CG76: Muy Malo | CH76: Muy Malo | CI76: Muy Malo | CJ76: Muy Malo | CK76: Muy Malo | CL76: Muy Malo | CM76: Muy Malo | CN76: Muy Malo | CO76: Muy Malo | CP76: Muy Malo | CQ76: Muy Malo | CR76: Muy Malo | CS76: Muy Malo | CT76: Muy Malo | CU76: Muy Malo | CV76: Bueno | CW76: Bueno | CX76: Bueno | CY76: Bueno | CZ76: Bueno | DA76: Muy Malo | DB76: Muy Malo | DC76: Muy Malo | DD76: Muy Malo | DE76: Regular | DF76: Regular | DG76: Regular | DH76: Bueno | DI76: Regular | DJ76: Regular | DK76: Regular | DL76: Regular | DM76: Regular | DN76: Regular | DO76: Regular | DP76: Regular | DQ76: Regular
DR77: 0 | DS77: =DR77/$EC77*100 -> 0 | DT77: =0.99+5.919+0.903+0.532 -> 8.344 | DU77: =DT77/$EC77*100 -> 6.965523 | DV77: =21.299-0.397 -> 20.902 | DW77: =DV77/$EC77*100 -> 17.448869 | DX77: =43.896-0.424 -> 43.472 | DY77: =DX77/$EC77*100 -> 36.290174 | DZ77: =52.2-0.03-5.098 -> 47.072 | EA77: =DZ77/$EC77*100 -> 39.295434 | EC77: =DR77+DT77+DV77+DX77+DZ77 -> 119.79 | ED77: =DS77+DU77+DW77+DY77+EA77 -> 100 | FP77: =+DR77+DT77+DV77+DX77+DZ77 -> 119.79
A78: Señalización Vertical | B78: Regular | C78: Regular | D78: Regular | E78: Regular | F78: Regular | G78: Regular | H78: Regular | I78: Bueno | J78: Bueno | K78: Bueno | L78: Bueno | M78: Bueno | N78: Bueno | O78: Bueno | P78: Bueno | Q78: Bueno | R78: Bueno | S78: Muy Bueno | T78: Muy Bueno | U78: Muy Bueno | V78: Muy Bueno | W78: Muy Bueno | X78: Muy Bueno | Y78: Muy Bueno | Z78: Muy Bueno | AA78: Muy Bueno | AB78: Muy Bueno | AC78: Muy Bueno | AD78: Muy Bueno | AE78: Muy Bueno | AF78: Muy Bueno | AG78: Bueno | AH78: Muy Bueno | AI78: Muy Bueno | AJ78: Bueno | AK78: Muy Bueno | AL78: Muy Bueno | AM78: Bueno | AN78: Muy Bueno | AO78: Bueno | AP78: Muy Bueno | AQ78: Muy Bueno | AR78: Bueno | AS78: Muy Bueno | AT78: Bueno | AU78: Bueno | AV78: Muy Bueno | AW78: Bueno | AX78: Bueno | AY78: Muy Bueno | AZ78: Bueno | BA78: Muy Bueno | BB78: Bueno | BC78: Bueno | BD78: Muy Bueno | BE78: Muy Bueno | BF78: Bueno | BG78: Muy Bueno | BH78: Bueno | BI78: Muy Bueno | BJ78: Bueno | BK78: Muy Bueno | BL78: Bueno | BM78: Muy Bueno | BN78: Bueno | BO78: Bueno | BP78: Muy Bueno | BQ78: Bueno | BR78: Bueno | BS78: Bueno | BT78: Muy Bueno | BU78: Bueno | BV78: Bueno | BW78: Muy Bueno | BX78: Bueno | BY78: Bueno | BZ78: Muy Bueno | CA78: Bueno | CB78: Muy Bueno | CC78: Muy Bueno | CD78: Bueno | CE78: Muy Bueno | CF78: Bueno | CG78: Muy Bueno | CH78: Muy Bueno | CI78: Bueno | CJ78: Muy Bueno | CK78: Muy Bueno | CL78: Bueno | CM78: Bueno | CN78: Muy Bueno | CO78: Bueno | CP78: Muy Bueno | CQ78: Bueno | CR78: Muy Bueno | CS78: Muy Bueno | CT78: Bueno | CU78: Bueno | CV78: Bueno | CW78: Muy Bueno | CX78: Bueno | CY78: Muy Bueno | CZ78: Bueno | DA78: Bueno | DB78: Muy Bueno | DC78: Bueno | DD78: Bueno | DE78: Regular | DF78: Regular | DG78: Regular | DH78: Regular | DI78: Regular | DJ78: Bueno | DK78: Regular | DL78: Regular | DM78: Malo | DN78: Malo | DO78: Regular | DP78: Regular | DQ78: Regular
DR79: 48.333 | DS79: =DR79/$EC79*100 -> 40.348109 | DT79: =51.4-0.02+0.532 -> 51.912 | DU79: =DT79/$EC79*100 -> 43.335838 | DV79: 16.145 | DW79: =DV79/$EC79*100 -> 13.477753 | DX79: =1.97+1.43 -> 3.4 | DY79: =DX79/$EC79*100 -> 2.8383004 | EA79: =DZ79/$EC79*100 -> 0 | EC79: =DR79+DT79+DV79+DX79+DZ79 -> 119.79 | ED79: =DS79+DU79+DW79+DY79+EA79 -> 100 | FP79: =+DR79+DT79+DV79+DX79+DZ79 -> 119.79
A80: Señalización horizontal | I80: Regular | J80: Regular | K80: Regular | L80: Regular | M80: Regular | N80: Regular | O80: Regular | P80: Regular | Q80: Regular | R80: Regular | S80: Regular | T80: Regular | U80: Regular | V80: Regular | W80: Regular | X80: Regular | Y80: Regular | Z80: Regular | AA80: Regular | AB80: Regular | AC80: Regular | AD80: Regular | AE80: Regular | AF80: Regular | AG80: Regular | AH80: Regular | AI80: Regular | AJ80: Regular | AK80: Regular | AL80: Regular | AM80: Regular | AN80: Regular | AO80: Regular | AP80: Regular | AQ80: Regular | AR80: Regular | AS80: Regular | AT80: Regular | AU80: Regular | AV80: Regular | AW80: Regular | AX80: Regular | AY80: Regular | AZ80: Regular | BA80: Regular | BB80: Regular | BC80: Regular | BD80: Regular | BE80: Regular | BF80: Regular | BG80: Regular | BH80: Regular | BI80: Regular | BJ80: Regular | BK80: Regular | BL80: Regular | BM80: Regular | BN80: Regular | BO80: Regular | BP80: Regular | BQ80: Regular | BR80: Regular | BS80: Regular | BT80: Regular | BU80: Regular | BV80: Regular | BW80: Regular | BX80: Regular | BY80: Regular | BZ80: Regular | CA80: Regular | CB80: Regular | CC80: Regular | CD80: Regular | CE80: Regular | CF80: Regular | CG80: Regular | CH80: Regular | CI80: Regular | CJ80: Regular | CK80: Regular | CL80: Regular | CM80: Regular | CN80: Regular | CO80: Regular | CP80: Regular | DI80: Bueno | DJ80: Bueno | DK80: Bueno | DL80: Bueno | DM80: Bueno | DN80: Bueno | DO80: Bueno | DP80: Bueno | DQ80: Regular
DS81: =DR81/$EC81*100 -> 0 | DT81: =14.11+0.532 -> 14.642 | DU81: =DT81/$EC81*100 -> 12.223057 | DV81: =102.613-4.21 -> 98.403 | DW81: =DV81/$EC81*100 -> 82.146256 | DY81: =DX81/$EC81*100 -> 0 | DZ81: 6.745 | EA81: =DZ81/$EC81*100 -> 5.630687 | EC81: =DR81+DT81+DV81+DX81+DZ81 -> 119.79 | ED81: =DS81+DU81+DW81+DY81+EA81 -> 100 | FP81: =+DR81+DT81+DV81+DX81+DZ81 -> 119.79
A82: Rocería | EG82: CONVENCIONES | EI82: NO CAMBIAR ESTOS TIPOS DE COLORES | FP82: =+DR82+DT82+DV82+DX82+DZ82 -> 0
DS83: =DR83/$EC$81*100 -> 0 | DT83: 0 | DU83: =DT83/$EC$81*100 -> 0 | DV83: =119.258+0.532 -> 119.79 | DW83: =DV83/$EC$81*100 -> 100 | DY83: =DX83/$EC$81*100 -> 0 | EA83: =DZ83/$EC$81*100 -> 0 | EC83: =DR83+DT83+DV83+DX83+DZ83 -> 119.79 | ED83: =DS83+DU83+DW83+DY83+EA83 -> 100 | EG83: MB | EH83: MUY BUENO | FP83: =+DR83+DT83+DV83+DX83+DZ83 -> 119.79
A84: Alcantarillas | B84: Regular | C84: Muy Malo | D84: Muy Malo | E84: Muy Malo | F84: Muy Malo | G84: Muy Malo | H84: Muy Malo | I84: Muy Malo | J84: Muy Malo | K84: Muy Malo | L84: Regular | M84: Muy Malo | N84: Muy Malo | O84: Regular | P84: Muy Malo | Q84: Regular | R84: Muy Malo | S84: Muy Malo | T84: Regular | U84: Regular | V84: Bueno | W84: Bueno | X84: Regular | Y84: Regular | Z84: Regular | AA84: Regular | AB84: Bueno | AC84: Bueno | AD84: Bueno | AE84: Bueno | AF84: Bueno | AG84: Regular | AH84: Regular | AI84: Regular | AJ84: Regular | AK84: Regular | AL84: Regular | AM84: Regular | AN84: Regular | AO84: Regular | AP84: Regular | AQ84: Muy Malo | AR84: Regular | AS84: Bueno | AT84: Regular | AU84: Regular | AV84: Regular | AW84: Regular | AX84: Regular | AY84: Regular | AZ84: Regular | BA84: Bueno | BB84: Regular | BC84: Bueno | BD84: Bueno | BE84: Bueno | BF84: Bueno | BG84: Bueno | BH84: Regular | BI84: Bueno | BJ84: Bueno | BK84: Regular | BL84: Bueno | BM84: Regular | BN84: Regular | BO84: Regular | BP84: Muy Malo | BQ84: Muy Malo | BR84: Regular | BS84: Regular | BT84: Regular | BU84: Regular | BV84: Regular | BW84: Regular | BX84: Regular | BY84: Regular | BZ84: Regular | CA84: Regular | CB84: Regular | CC84: Bueno | CD84: Regular | CE84: Bueno | CF84: Regular | CG84: Bueno | CH84: Bueno | CI84: Regular | CJ84: Regular | CK84: Regular | CL84: Regular | CM84: Bueno | CN84: Regular | CO84: Bueno | CP84: Bueno | CQ84: Bueno | CR84: Bueno | CS84: Bueno | CT84: Regular | CU84: Bueno | CV84: Regular | CW84: Regular | CX84: Bueno | CY84: Regular | CZ84: Bueno | DA84: Bueno | DB84: Bueno | DC84: Bueno | DD84: Bueno | DE84: Regular | DF84: Regular | DG84: Bueno | DH84: Bueno | DI84: Bueno | DJ84: Bueno | DK84: Bueno | DL84: Bueno | DM84: Bueno | DN84: Bueno | DO84: Bueno | DP84: Bueno | DQ84: Regular | EG84: B | EH84: BUENO
...

Sheet SEMAFORO TEC 0501
A1: INSTITUTO NACIONAL DE VIAS
A2: DIRECCION TERRITORIAL NARIÑO
A3: GRAFICO No. 3
A4: ESTADO DE LA RED CRITERIO TECNICO
A7: NOMBRE DE LA VIA: | B7: ESPRIELLA - RIO MATAJE | DF7: Codigo de la vía: | DG7: 0501
A9: SECTOR | B9: 01 | G9: ESPRIELLA - RIO MATAJE | DC9: PR0+0000 A PR5+0066
B10: 2 | G10: ESPRIELLA - RIO MATAJE | DC10: PR5+0066 A PR5+0751
B11: 3 | G11: ESPRIELLA - RIO MATAJE | DC11: PR5+0751 A PR10+0400
A12: INGENIERO RESIDENTE: | J12: JAIRO ANDRES VILLARREAL PANTOJA | DH12: PERIODO EVALUADO | DI12: =+'SEMAFORO TEC 1001'!DX33 -> AGO - SEP/2024
A46: CODIGO | B46: SECTOR | DC46: Longitud y Porcentaje
B47: 1 | AD47: 2 | DC47: sobre el total de la vía
A48: PR | B48: 1 | L48: 2 | V48: 3 | AB48: 40 | AF48: 4 | AL48: 50 | AP48: 5 | AR48: 60 | AZ48: 6 | BB48: 70 | BJ48: 7 | BL48: 80 | BT48: 8 | BV48: 90 | CB48: 100 | CD48: 9 | CL48: 110 | CN48: 10+0400 | DC48: o del item
A49: ITEM | DC49: MB | DE49: B | DG49: R | DI49: M | DK49: MM
DC50: km | DD50: % | DE50: km | DF50: % | DG50: km | DH50: % | DI50: km | DJ50: % | DK50: km | DL50: %
A51: Pavimento | B51: Muy Bueno | C51: Muy Bueno | D51: Muy Bueno | E51: Muy Bueno | F51: Muy Bueno | G51: Muy Bueno | H51: Muy Bueno | I51: Muy Bueno | J51: Muy Bueno | K51: Muy Bueno | L51: Muy Bueno | M51: Muy Bueno | N51: Muy Bueno | O51: Muy Bueno | P51: Muy Bueno | Q51: Muy Bueno | R51: Muy Bueno | S51: Muy Bueno | T51: Muy Bueno | U51: Muy Bueno | V51: Muy Bueno | W51: Muy Bueno | X51: Muy Bueno | Y51: Muy Bueno | Z51: Muy Bueno | AA51: Muy Bueno | AB51: Muy Bueno | AC51: Muy Bueno | AD51: Muy Bueno | AE51: Muy Bueno | AF51: Muy Bueno | AG51: Muy Bueno | AH51: Muy Bueno | AI51: Muy Bueno | AJ51: Muy Bueno | AK51: Muy Bueno | AL51: Muy Bueno | AM51: Muy Bueno | AN51: Muy Bueno | AO51: Muy Bueno | AP51: Muy Bueno | AQ51: Muy Bueno | AR51: Muy Bueno | AS51: Muy Bueno | AT51: Muy Bueno | AU51: Muy Bueno | AV51: Muy Bueno | AW51: Muy Bueno | AX51: Muy Bueno | AY51: Muy Bueno | AZ51: Muy Bueno | BA51: Muy Bueno | BB51: Muy Bueno | BC51: Muy Bueno | BD51: Muy Bueno | BE51: Muy Bueno | BF51: Muy Bueno | BG51: Muy Bueno | BH51: Muy Bueno | BI51: Muy Bueno | BJ51: Muy Bueno | BK51: Muy Bueno | BL51: Muy Bueno | BM51: Muy Bueno | BN51: Muy Bueno | BO51: Muy Bueno | BP51: Muy Bueno | BQ51: Muy Bueno | BR51: Muy Bueno | BS51: Muy Bueno | BT51: Muy Bueno | BU51: Muy Bueno | BV51: Muy Bueno | BW51: Muy Bueno | BX51: Muy Bueno | BY51: Muy Bueno | BZ51: Muy Bueno | CA51: Muy Bueno | CB51: Muy Bueno | CC51: Muy Bueno | CD51: Muy Bueno | CE51: Muy Bueno | CF51: Muy Bueno | CG51: Muy Bueno | CH51: Muy Bueno | CI51: Muy Bueno | CJ51: Muy Bueno | CK51: Muy Bueno | CL51: Muy Bueno | CM51: Muy Bueno | CN51: Muy Bueno | CO51: Muy Bueno | CP51: Muy Bueno | CQ51: Muy Bueno | CR51: Muy Bueno | CS51: Muy Bueno | CT51: Muy Bueno | CU51: Muy Bueno | CV51: Muy Bueno | CW51: Muy Bueno | CX51: Muy Bueno | CY51: Muy Bueno | CZ51: Muy Bueno | DA51: Muy Bueno
DC52: =+'ESTADO RED TEC'!C66 -> 10.4 | DD52: =DC52/10.4*100 -> 100 | DF52: =DE52/$DN52*100 -> 0 | DG52: ='[2]ESTADO RED TEC'!G52 -> 0 | DH52: =DG52/$DN52*100 -> 0 | DI52: ='[2]ESTADO RED TEC'!I52 -> 0 | DK52: ='[2]ESTADO RED TEC'!K52 -> 0 | DL52: =DK52/$DN52*100 -> 0 | DN52: =DC52+DE52+DG52+DI52+DK52 -> 10.4 | DO52: =DD52+DF52+DH52+DJ52+DL52 -> 100
A53: Afirmado
DC54: =+'ESTADO RED TEC'!C67 -> 0 | DD54: =DC54/10.4*100 -> 0 | DF54: =DE54/10.01*100 -> 0 | DN54: =DC54+DE54+DG54+DI54+DK54 -> 0 | DO54: =DD54+DF54+DH54+DJ54+DL54 -> 0
A55: Puentes (1)
DC56: 1 | DD56: 100 | DN56: =DC56+DE56+DG56+DI56+DK56 -> 1 | DO56: =DD56+DF56+DH56+DJ56+DL56 -> 100
A57: Cunetas | B57: Muy Bueno | C57: Muy Bueno | D57: Muy Bueno | E57: Muy Bueno | F57: Muy Bueno | G57: Muy Bueno | H57: Muy Bueno | I57: Muy Bueno | J57: Muy Bueno | K57: Muy Bueno | L57: Muy Bueno | M57: Muy Bueno | N57: Muy Bueno | O57: Muy Bueno | P57: Muy Bueno | Q57: Muy Bueno | R57: Muy Bueno | S57: Muy Bueno | T57: Muy Bueno | U57: Muy Bueno | V57: Muy Bueno | W57: Muy Bueno | X57: Muy Bueno | Y57: Muy Bueno | Z57: Muy Bueno | AA57: Muy Bueno | AB57: Muy Bueno | AC57: Muy Bueno | AD57: Muy Bueno | AE57: Muy Bueno | AF57: Muy Bueno | AG57: Muy Bueno | AH57: Muy Bueno | AI57: Muy Bueno | AJ57: Muy Bueno | AK57: Muy Bueno | AL57: Muy Bueno | AM57: Muy Bueno | AN57: Muy Bueno | AO57: Muy Bueno | AP57: Muy Bueno | AQ57: Muy Bueno | AR57: Muy Bueno | AS57: Muy Bueno | AT57: Muy Bueno | AU57: Muy Bueno | AV57: Muy Bueno | AW57: Muy Bueno | AX57: Muy Bueno | AY57: Muy Bueno | AZ57: Muy Bueno | BA57: Muy Bueno | BB57: Muy Bueno | BC57: Muy Bueno | BD57: Muy Bueno | BE57: Muy Bueno | BF57: Muy Bueno | BG57: Muy Bueno | BH57: Muy Bueno | BI57: Muy Bueno | BJ57: Muy Bueno | BK57: Muy Bueno | BL57: Muy Bueno | BM57: Muy Bueno | BN57: Muy Bueno | BO57: Muy Bueno | BP57: Muy Bueno | BQ57: Muy Bueno | BR57: Muy Bueno | BS57: Muy Bueno | BT57: Muy Bueno | BU57: Muy Bueno | BV57: Muy Bueno | BW57: Muy Bueno | BX57: Muy Bueno | BY57: Muy Bueno | BZ57: Muy Bueno | CA57: Muy Bueno | CB57: Muy Bueno | CC57: Muy Bueno | CD57: Muy Bueno | CE57: Muy Bueno | CF57: Muy Bueno | CG57: Muy Bueno | CH57: Muy Bueno | CI57: Muy Bueno | CJ57: Muy Bueno | CK57: Muy Bueno | CL57: Muy Bueno | CM57: Muy Bueno | CN57: Muy Bueno | CO57: Muy Bueno | CP57: Muy Bueno | CQ57: Muy Bueno | CR57: Muy Bueno | CS57: Muy Bueno | CT57: Muy Bueno | CU57: Muy Bueno | CV57: Muy Bueno | CW57: Muy Bueno | CX57: Muy Bueno | CY57: Muy Bueno | CZ57: Muy Bueno | DA57: Muy Bueno
DC58: 10.4 | DD58: =DC58/DN58*100 -> 100 | DE58: 0 | DF58: =DE58/$DN58*100 -> 0 | DH58: =DG58/$DN58*100 -> 0 | DJ58: =DI58/$DN58*100 -> 0 | DN58: =DC58+DE58+DG58+DI58+DK58 -> 10.4 | DO58: =DD58+DF58+DH58+DJ58+DL58 -> 100
A59: Señalización Vertical | B59: Muy Bueno | C59: Muy Bueno | D59: Muy Bueno | E59: Muy Bueno | F59: Muy Bueno | G59: Muy Bueno | H59: Muy Bueno | I59: Muy Bueno | J59: Muy Bueno | K59: Muy Bueno | L59: Muy Bueno | M59: Muy Bueno | N59: Muy Bueno | O59: Muy Bueno | P59: Muy Bueno | Q59: Muy Bueno | R59: Muy Bueno | S59: Muy Bueno | T59: Muy Bueno | U59: Muy Bueno | V59: Muy Bueno | W59: Muy Bueno | X59: Muy Bueno | Y59: Muy Bueno | Z59: Muy Bueno | AA59: Muy Bueno | AB59: Muy Bueno | AC59: Muy Bueno | AD59: Muy Bueno | AE59: Muy Bueno | AF59: Muy Bueno | AG59: Muy Bueno | AH59: Muy Bueno | AI59: Muy Bueno | AJ59: Muy Bueno | AK59: Muy Bueno | AL59: Muy Bueno | AM59: Muy Bueno | AN59: Muy Bueno | AO59: Muy Bueno | AP59: Muy Bueno | AQ59: Muy Bueno | AR59: Muy Bueno | AS59: Muy Bueno | AT59: Muy Bueno | AU59: Muy Bueno | AV59: Muy Bueno | AW59: Muy Bueno | AX59: Muy Bueno | AY59: Muy Bueno | AZ59: Muy Bueno | BA59: Muy Bueno | BB59: Muy Bueno | BC59: Muy Bueno | BD59: Muy Bueno | BE59: Muy Bueno | BF59: Muy Bueno | BG59: Muy Bueno | BH59: Muy Bueno | BI59: Muy Bueno | BJ59: Muy Bueno | BK59: Muy Bueno | BL59: Muy Bueno | BM59: Muy Bueno | BN59: Muy Bueno | BO59: Muy Bueno | BP59: Muy Bueno | BQ59: Muy Bueno | BR59: Muy Bueno | BS59: Muy Bueno | BT59: Muy Bueno | BU59: Muy Bueno | BV59: Muy Bueno | BW59: Muy Bueno | BX59: Muy Bueno | BY59: Muy Bueno | BZ59: Muy Bueno | CA59: Muy Bueno | CB59: Muy Bueno | CC59: Muy Bueno | CD59: Muy Bueno | CE59: Muy Bueno | CF59: Muy Bueno | CG59: Muy Bueno | CH59: Muy Bueno | CI59: Muy Bueno | CJ59: Muy Bueno | CK59: Muy Bueno | CL59: Muy Bueno | CM59: Muy Bueno | CN59: Muy Bueno | CO59: Muy Bueno | CP59: Muy Bueno | CQ59: Muy Bueno | CR59: Muy Bueno | CS59: Muy Bueno | CT59: Muy Bueno | CU59: Muy Bueno | CV59: Muy Bueno | CW59: Muy Bueno | CX59: Muy Bueno | CY59: Muy Bueno | CZ59: Muy Bueno | DA59: Muy Bueno
DC60: 10.4 | DD60: =DC60/DN60*100 -> 100 | DF60: =DE60/$DN60*100 -> 0 | DG60: 0 | DH60: =DG60/$DN60*100 -> 0 | DI60: 0 | DJ60: =DI60/$DN60*100 -> 0 | DN60: =DC60+DE60+DG60+DI60+DK60 -> 10.4 | DO60: =DD60+DF60+DH60+DJ60+DL60 -> 100
A61: Señalización horizontal (NA) | B61: Muy Bueno | C61: Muy Bueno | D61: Muy Bueno | E61: Muy Bueno | F61: Muy Bueno | G61: Muy Bueno | H61: Muy Bueno | I61: Muy Bueno | J61: Muy Bueno | K61: Muy Bueno | L61: Muy Bueno | M61: Muy Bueno | N61: Muy Bueno | O61: Muy Bueno | P61: Muy Bueno | Q61: Muy Bueno | R61: Muy Bueno | S61: Muy Bueno | T61: Muy Bueno | U61: Muy Bueno | V61: Muy Bueno | W61: Muy Bueno | X61: Muy Bueno | Y61: Muy Bueno | Z61: Muy Bueno | AA61: Muy Bueno | AB61: Muy Bueno | AC61: Muy Bueno | AD61: Muy Bueno | AE61: Muy Bueno | AF61: Muy Bueno | AG61: Muy Bueno | AH61: Muy Bueno | AI61: Muy Bueno | AJ61: Muy Bueno | AK61: Muy Bueno | AL61: Muy Bueno | AM61: Muy Bueno | AN61: Muy Bueno | AO61: Muy Bueno | AP61: Muy Bueno | AQ61: Muy Bueno | AR61: Muy Bueno | AS61: Muy Bueno | AT61: Muy Bueno | AU61: Muy Bueno | AV61: Muy Bueno | AW61: Muy Bueno | AX61: Muy Bueno | AY61: Muy Bueno | AZ61: Muy Bueno | BA61: Muy Bueno | BB61: Muy Bueno | BC61: Muy Bueno | BD61: Muy Bueno | BE61: Muy Bueno | BF61: Muy Bueno | BG61: Muy Bueno | BH61: Muy Bueno | BI61: Muy Bueno | BJ61: Muy Bueno | BK61: Muy Bueno | BL61: Muy Bueno | BM61: Muy Bueno | BN61: Muy Bueno | BO61: Muy Bueno | BP61: Muy Bueno | BQ61: Muy Bueno | BR61: Muy Bueno | BS61: Muy Bueno | BT61: Muy Bueno | BU61: Muy Bueno | BV61: Muy Bueno | BW61: Muy Bueno | BX61: Muy Bueno | BY61: Muy Bueno | BZ61: Muy Bueno | CA61: Muy Bueno | CB61: Muy Bueno | CC61: Muy Bueno | CD61: Muy Bueno | CE61: Muy Bueno | CF61: Muy Bueno | CG61: Muy Bueno | CH61: Muy Bueno | CI61: Muy Bueno | CJ61: Muy Bueno | CK61: Muy Bueno | CL61: Muy Bueno | CM61: Muy Bueno | CN61: Muy Bueno | CO61: Muy Bueno | CP61: Muy Bueno | CQ61: Muy Bueno | CR61: Muy Bueno | CS61: Muy Bueno | CT61: Muy Bueno | CU61: Muy Bueno | CV61: Muy Bueno | CW61: Muy Bueno | CX61: Muy Bueno | CY61: Muy Bueno | CZ61: Muy Bueno | DA61: Muy Bueno
DC62: 10.4 | DD62: =DC62/DN62*100 -> 100 | DN62: =DC62+DE62+DG62+DI62+DK62 -> 10.4 | DO62: =DD62+DF62+DH62+DJ62+DL62 -> 100
A63: Rocería | DR63: CONVENCIONES | DT63: NO CAMBIAR ESTOS TIPOS DE COLORES
DE64: 0 | DF64: =DE64/DN64*100 -> 0 | DG64: 10.4 | DH64: =DG64/DN64*100 -> 100 | DN64: =DC64+DE64+DG64+DI64+DK64 -> 10.4 | DO64: =DD64+DF64+DH64+DJ64+DL64 -> 100 | DR64: MB | DS64: MUY BUENO
A65: Alcantarillas | DR65: B | DS65: BUENO
DE66: 0 | DF66: =DE66/DN66*100 -> 0 | DG66: 10.4 | DH66: =DG66/DN66*100 -> 100 | DN66: =DC66+DE66+DG66+DI66+DK66 -> 10.4 | DO66: =DD66+DF66+DH66+DJ66+DL66 -> 100 | DR66: R | DS66: REGULAR
A67: Limpiezas de bermas | DR67: M | DS67: MALO
DG68: 10.4 | DH68: =DG68/DN68*100 -> 100 | DN68: =DC68+DE68+DG68+DI68+DK68 -> 10.4 | DO68: =DD68+DF68+DH68+DJ68+DL68 -> 100 | DR68: MM | DS68: MUY MALO
A70: NOTA: Indicar en el mapa los PRs y nombres de cada uno de los sitios importantes
A71: Hacer montaje del mapa de la red vial sobre cartografía o mapas aerofotogramétricos
DD76: VOLVER A TABLA DE CONTENIDO

Sheet TORTA EST. VIAS TEC
A1: INSTITUTO NACIONAL DE VIAS
A2: DIRECCION TERRITORIAL NARIÑO
A4: GRAFICO No. 4
A6: ESTADO DE LAS VIAS EN TORTA CRITERIO TECNICO
A8: INGENIERO(S) RESIDENTE(S): | B8: JAIRO ANDRES VILLARREAL PANTOJA
A10: PERIODO EVALUADO: | B10: =+'SEMAFORO TEC 0501'!DI12 -> AGO - SEP/2024
A13: CARRETERA | B13: TRIMESTRE ANTERIOR | C13: TRIMESTRE EVALUADO
A15: RUTA 1001 TUMACO - JUNIN
Q19: TUMACO - JUNIN
R20: MUY BUENO | S20: BUENO | T20: REGULAR | U20: MALO | V20: MUY MALO
Q21: Anterior | R21: 0.66327098 | S21: 0.091250269 | T21: 0.15379328 | U21: 0.091685471 | V21: 0
Q22: Presente | R22: =+'SEMAFORO TEC 1001'!DS71/100 -> 0.66327098 | S22: =+'SEMAFORO TEC 1001'!DU71/100 -> 0.091250269 | T22: =+'SEMAFORO TEC 1001'!DW71/100 -> 0.15379328 | U22: =+'SEMAFORO TEC 1001'!DY71/100 -> 0.091685471 | V22: =+'ESTADO RED TEC'!L59/100 -> 0
A25: RUTA 0501 ESPRIELLA - RIO MATAJE
Q28: ESPRIELLA - RÍO MATAJE
R29: MUY BUENO | S29: BUENO | T29: REGULAR | U29: MALO | V29: MUY MALO
Q30: Anterior | R30: 1 | S30: 0 | T30: 0 | U30: 0 | V30: 0
Q31: Presente | R31: =(+'SEMAFORO TEC 0501'!DD52+'SEMAFORO TEC 0501'!DD54)/100 -> 1 | S31: 0 | T31: 0 | U31: 0 | V31: 0
A36: CONVENCIONES | B36: NO CAMBIAR ESTOS TIPOS DE COLORES
A37: MUY BUENO
A38: BUENO
A39: REGULAR
A40: MALO
A41: MUY MALO
C42: VOLVER A TABLA DE CONTENIDO

Sheet MAPA 1 EST RED
A1: INSTITUTO NACIONAL DE VIAS
A2: DIRECCION TERRITORIAL NARIÑO
A6: MAPA No. 1
A7: ESTADO DE LA RED Y SITIOS CRITICOS DE INESTABILIDAD
G35: CONVENCIONES | I35: NO CAMBIAR ESTOS TIPOS DE COLORES
G36: MB | H36: MUY BUENO
G37: B | H37: BUENO
G38: R | H38: REGULAR
G39: M | H39: MALO
G40: MM | H40: MUY MALO
A41: NOTA: | B41: Ubicar en el mapa municipios, PRs de sitios importantes y lugares donde hay
B42: cambios en el estado de la red y sitios criticos de inestabilidad.
A44: RELACION SITIOS CRITICOS DE INESTABILIDAD
A45: No. | B45: CODIGO VIA | C45: SECTOR | D45: PR | E45: DESCRIPCION DEL PROBLEMA
A46: 1 | B46: 1001 | C46: PUENTE EL MORRO | D46: 3+0237 | E46: DAÑO EN PLACAS, CORROSIÓN EN ENCAMISADOS DE PILOTES, PILOTES ANTIGUOS EN CONCRETO QUE NECESITAN SER CORTADOS PARA EVITAR QUE SIGAN GENERANDO ESFUERZOS ADICIONALES A LA ESTRUCTURA DEL PUENTE. ADEMAS, SE PRESENTAN HUNDIMIENTOS EN LOS ACCESOS
A47: =+A46+1 -> 2 | B47: 1001 | C47: PUENTE EL PINDO | D47: 6+0687 | E47: CONSTRUCCIÓN DE NUEVO PUENTE, DEBIDO A DEFICIENCIAS ESTRUCTURALES Y OPERACIONALES PARA LA EVACUACION DE LA POBLACION DE TUMACO ANTE LA OCURRENCIA DE UN TSUNAMI. CABE ANOTAR QUE DESDE LA CONSTRUCCION DEL PUENTE LA POBLACION DEL CASCO URBANO SE HA INCREMENTADO Y PROPORCIONALMENTE A ESTO SU PARQUE AUTOMOTOR, ADEMAS QUE SE HA EXTENDIDO EL AREA URBANA HACIA LA PARTE CONTINENTAL INCREMENTANDO EN UN MUY ALTO PORCENTAJE EL TPD SOBRE ESTE PUENTE.
A48: =+A47+1 -> 3 | B48: 1001 | C48: PUENTE AGUA CLARA | D48: 17+0248 | E48: PUENTE CON ANCHO DE TABLERO INSUFICIENTE, ESTRECHAMIENTO DEL ANCHO DE BANCA, SE REQUIERE AMPLIACIÓN O CONSTRUCCIÓN DE UN NUEVO PUENTE, (PRESENTA HURTO DE ELEMENTOS DE REFORZAMIENTO DE LAS VIGAS)
A49: =+A48+1 -> 4 | B49: 1001 | C49: AGUA CLARA | D49: 17+0740 | E49: ESTRUCTURAS DE PROTECCION Y CONTENCIÓN EN BOLSACRETOS L= 60m, SOCAVADAS POR EL FLUJO Y CONTRAFLUJO DE LAS MAREAS. ADEMAS, EXISTE UN MURO DE CONTENCION EN CONCRETO CICLOPEO EL CUAL PRESENTA UNA FISURA VERTICAL EN EL CENTRO DEBIDO AL EMPUJE DEL TERRAPLEN, LO CUAL HA GENERADO HUNDIMIENTO EN LA BANCA VISIBLE EN UNA FALLA EN LA CARPETA ASFALTICA EN MEDIA LUNA. EN ESTE SECTOR T POR LA ACCION DE LAS MAREAS ESTA SOCAVANDO EL TERRAPLEN POR DEBAJO DE LA ESTRUCTURA DE PAVIMENTO DE LA VIA.
A50: 5 | B50: =+B49 -> 1001 | C50: EL TIGRE | D50: PR8+0900 - PR18+0100 | E50: DEFORMACIONES O AHUELLAMIENTOS EN PAVIMENTO POR PERDIDA DE CONFINAMIENTO DEL MATERIAL DE TERRAPLÉN SOPORTE DE ESTRUCTURA DE LA VÍA.
F51: VOLVER A LA TABLA DE CONTENIDO

Sheet NECESIDADES PREVENTIVAS VIA
A1: INSTITUTO NACIONAL DE VIAS
A2: DIRECCION TERRITORIAL NARIÑO
A4: CUADRO No. 5
A6: NECESIDADES PREVENTIVAS DE LA VIA
A7: MANTENIMIENTO PERIODICO
A9: INGENIERO(S) RESIDENTE(S): | B9: JAIRO ANDRES VILLARREAL PANTOJA | F9: TRIMESTRE EVALUADO: | G9: =+'TORTA EST. VIAS TEC'!B10 -> AGO - SEP/2024
A11: CARRETERA | B11: CODIGO | C11: PR inicial | D11: PR final | E11: DESCRIPCION DE LA NECESIDAD | F11: COSTO ESTIMADO ($) | G11: OBSERVACIONES
A12: Tumaco - Junin | B12: 1001 | C12: PR 0+0000 | D12: PR 6+0687 | E12: MANTENIMIENTO Y MEJORAMIENTO PASO NACIONAL PR 000+0000 AL PR 006+0687 | F12: =+'CANT OBRA 1001'!H39 -> 1.2225163e+10 | G12: ESTE TRAMO SE ENCUENTRA POR INTERVENIR BAJO EL CONTRATO DE OBRA No. PAF-ANTIVIAS-O-102-2023 “CONTRATAR LOS ESTUDIOS, DISEÑOS, MEJORAMIENTO Y MANTENIMIENTO DEL CORREDOR TUMACO - PEDREGAL, DEPARTAMENTO DE NARIÑO, EN EL MARCO DE LA REACTIVACIÓN ECONÓMICA, MEDIANTE EL PROGRAMA VÍAS PARA LA CONEXIÓN DE TERRITORIOS EL CRECIMIENTO SOSTENIBLE Y LA REACTIVACIÓN 2.0”.
C13: PR 006+0580 | D13: PR 007+0000 | E13: MANTENIMIENTO Y MEJORAMIENTO PASO URBANO DE TUMACO - REPARACION PAVIMENTO ARTICULADO Y PAVIMENTO ASFÁLTICO EN LOS ACCESOS DEL PUENTE DEL PINDO (PR 006+0580 AL PR 007+0000) | F13: =+'CANT OBRA 1001'!H101 -> 1.2050364e+09
C14: PR8+0900 | D14: PR18+0100 | E14: REHABILITACION DE PAVIMENTO ASFALTICO ENTRE PR8+0900 - PR18+0100 | F14: =+'CANT OBRA 1001'!H117 -> 3.0339355e+09
C15: PR 110+0065 | D15: PR 118+1006 | E15: MANTENIMIENTO Y REPARACION CONCRETO RIGIDO PR 110+0065 AL PR 118+1006 | F15: =+'CANT OBRA 1001'!H158 -> 1449416829
C16: PR 000+0000 | D16: PR 118+1006 | E16: SEÑALIZACION Y OBRAS DE SEGURIDAD VIAL ENTRE EL PR 000+0000 Y EL PR118+1006 | F16: =+'CANT OBRA 1001'!H282 -> 3.4744846e+09
C17: PR 001+0500 | D17: PR 068+0500 | E17: PODA DE ARBOLES TIPO 1 Y TIPO 2 PR 001+0500 AL PR 068+0500 | F17: =+'CANT OBRA 1001'!H294 -> 1.0000795e+08
C18: PR 001+0000 | D18: PR 002+0600 | E18: MANTENIMIENTO Y MEJORAMIENTO PASO URBANO DE TUMACO: PR 001+0000 AL PR 002+0600 | F18: =+'CANT OBRA 1001'!H341 -> 2.4012059e+09 | G18: ESTE TRAMO SE ENCUENTRA POR INTERVENIR BAJO EL CONTRATO DE OBRA No. PAF-ANTIVIAS-O-102-2023 “CONTRATAR LOS ESTUDIOS, DISEÑOS, MEJORAMIENTO Y MANTENIMIENTO DEL CORREDOR TUMACO - PEDREGAL, DEPARTAMENTO DE NARIÑO, EN EL MARCO DE LA REACTIVACIÓN ECONÓMICA, MEDIANTE EL PROGRAMA VÍAS PARA LA CONEXIÓN DE TERRITORIOS EL CRECIMIENTO SOSTENIBLE Y LA REACTIVACIÓN 2.0”.
C19: PR 0024+0949 | D19: PR 024+0960 | E19: RESANES Y RECALCES PUENTE CHILVI PR.24+0949 - PR.24+0960. | F19: =+'CANT OBRA 1001'!H356 -> 49234033
C20: PR 037+0824 | D20: PR 037+0835 | E20: CONSTRUCCION DE DISIPADOR L= 15. 0 m EN PUENTE TANGAREAL PR.37+0824 - PR.37+0835 | F20: =+'CANT OBRA 1001'!H368 -> 74179817
C21: PR 046+0670 | D21: PR 046+0681 | E21: RESANES Y RECALCES EN PUENTE ESPRIELLA PR. 46+0670 - PR.46+0681. | F21: =+'CANT OBRA 1001'!H380 -> 42194371
C22: PR 069+0035 | D22: PR 069+0053 | E22: CONSTRUCCIÓN CUNETA EN PR069+0035 - PR069+0053 | F22: =+'CANT OBRA 1001'!H395 -> 4722866
A25: LOS VALORES REGISTRADOS EN LA COLUMNA COSTO ESTIMADO, DEBEN ESTAR ENLAZADOS CON EL HIPERVINCULO DEL CUADRO No. 7 "CALCULO DE CANTIDADES Y COSTOS ESTIMADOS DE NECESIDADES DE LAS VIAS", RESPECTIVO.
A26: NOTA (1): El costo debe incluir AIU e IVA (19% sobre utilidades) | F26: VOLVER A TABLA DE CONTENIDO

Sheet NECESIDADES CRITICAS VIA
A1: INSTITUTO NACIONAL DE VIAS
A2: DIRECCION TERRITORIAL NARIÑO
A4: CUADRO No. 6
A6: NECESIDADES CRITICAS DE LAS VIAS
A7: MANTENIMIENTO PERIODICO
A10: INGENIERO(S) RESIDENTE(S): | C10: JAIRO ANDRES VILLARREAL PANTOJA | F10: TRIMESTRE EVALUADO: | G10: =+'NECESIDADES PREVENTIVAS VIA'!G9 -> AGO - SEP/2024
A12: CARRETERA | B12: CODIGO | C12: PR inicial | D12: PR final | E12: DESCRIPCION DE LA NECESIDAD | F12: COSTO ESTIMADO ($) | G12: OBSERVACIONES
A13: =+'NECESIDADES PREVENTIVAS VIA'!A12 -> Tumaco - Junin | B13: =+'NECESIDADES PREVENTIVAS VIA'!B12 -> 1001 | C13: 17+0635 | D13: 17+0785 | E13: REPARACIÓN ESTRUCTURA DE CONTENCION EN BOLSACRETOS Y MURO DE CONTENCIÓN. SECTOR AGUACLARA, PR017+0635 - PR017+0785. DERECHA | F13: =+'CANT OBRA 1001'!H144 -> 1.7596519e+09 | G13: ES NECESARIO REALIZAR UNA INTERVENCION DE CARÁCTER URGENTE CON EL FIN DE GARANTIZAR LA ESTABILIDAD DEL TERRAPLEN
C14: 8+0900 | D14: 18+0100 | E14: REHABILITACION DE PAVIMENTO ASFALTICO ENTRE PR8+0900 - PR18+0100 | F14: =+'CANT OBRA 1001'!H117 -> 3.0339355e+09 | G14: ES NECESARIO INTERVENIR DE CARÁCTER URGENTE CON EL FIN DE MITIGAR EL RIESGO DE ACCIDENTALIDAD DEBIDO A DEFORMACIONES O AHUELLAMIENTOS EN PAVIMENTO POR PERDIDA DE CONFINAMIENTO DEL MATERIAL DE TERRAPLÉN SOPORTE DE ESTRUCTURA DE LA VÍA.
C15: 3+0085 | D15: 3+0388 | E15: INSPECCION ESTRUCTURAL PUENTE EL MORRO | F15: ='1P'!E40 -> 414667400 | G15: EL PUENTE SE ENCUENTRA INTERVENIDO BAJO LA EJECUCIÓN DE CONTRATO DE OBRA NO. 2907-2023 CUYO OBJETO ES MEJORAMIENTO Y MANTENIMIENTO DE LA VÍA DE ACCESO Y LOS PUENTES EL MORRO, EL PINDO Y AGUACLARA, DEL PUERTO DE TUMACO EN EL DEPARTAMENTO DE NARIÑO
C16: 3+0085 | D16: 3+0392 | E16: OBRAS PARA EL MANTENIMIENTO DEL PUENTE EL MORRO PR 003+0085 AL PR 003+0392 | F16: =+'CANT OBRA 1001'!H67 -> 2.1454145e+09
C17: 60200 | D17: 9+0800 | E17: CONSTRUCCION NUEVO PUENTE EL PINDO Y SUS ACCESOS (PR 006+0200 AL PR 009+0800). | F17: =+'CANT OBRA 1001'!H263 -> 8.1177449e+10 | G17: VALOR TOMADO DE LOS ESTUDIOS EXISTENTES REALIZADOS EN 2008
C18: 60687 | D18: 60713 | E18: RECALCE DE ESTRIBOS DEL PUENTE DEL PINDO Y ACCESOS (PR 006+0687 AL PR 006+0713) | F18: =+'CANT OBRA 1001'!H311 -> 1.4040099e+08 | G18: =+G15 -> EL PUENTE SE ENCUENTRA INTERVENIDO BAJO LA EJECUCIÓN DE CONTRATO DE OBRA NO. 2907-2023 CUYO OBJETO ES MEJORAMIENTO Y MANTENIMIENTO DE LA VÍA DE ACCESO Y LOS PUENTES EL MORRO, EL PINDO Y AGUACLARA, DEL PUERTO DE TUMACO EN EL DEPARTAMENTO DE NARIÑO
C19: 170230 | D19: 170266 | E19: MANTENIMIENTO PREVENTIVO Y CORRECTIVO PUENTE DE AGUACLARA | F19: 4000000 | G19: =+G15 -> EL PUENTE SE ENCUENTRA INTERVENIDO BAJO LA EJECUCIÓN DE CONTRATO DE OBRA NO. 2907-2023 CUYO OBJETO ES MEJORAMIENTO Y MANTENIMIENTO DE LA VÍA DE ACCESO Y LOS PUENTES EL MORRO, EL PINDO Y AGUACLARA, DEL PUERTO DE TUMACO EN EL DEPARTAMENTO DE NARIÑO
A22: LOS VALORES REGISTRADOS EN LA COLUMNA COSTO ESTIMADO, DEBEN ESTAR ENLAZADOS CON EL HIPERVINCULO DEL CUADRO No. 7 "CALCULO DE CANTIDADES Y COSTOS ESTIMADOS DE NECESIDADES DE LAS VIAS", RESPECTIVO.
A23: NOTA (1): El costo debe incluir AIU e IVA (19% sobre utilidades) | F23: VOLVER A TABLA DE CONTENIDO

Sheet CANT OBRA 1001
A1: INSTITUTO NACIONAL DE VIAS
A2: DIRECCION TERRITORIAL NARIÑO
A3: CUADRO No. 7
A5: CALCULO DE CANTIDADES Y COSTOS ESTIMADOS DE NECESIDADES
A6: DE LAS VIAS (PREVENTIVAS Ó CRITICAS Ó PUENTES Ó PONTONES)
A7: INGENIERO RESIDENTE: | D7: JAIRO ANDRES VILLARREAL PANTOJA | G7: TRIMESTRE EVALUADO: | H7: =+'NECESIDADES CRITICAS VIA'!G10 -> AGO - SEP/2024
A8: CARRETERA: | C8: 1001 TUMACO - JUNIN | F8: SECTOR: | G8: TUMACO PR 0+0000 - JUNIN PR 118+1006
A10: MANTENIMIENTO Y MEJORAMIENTO PASO NACIONAL PR 000+0000 AL PR 006+0687
A11: ITEM DE PAGO | B11: Especificaciones | D11: DESCRIPCION | E11: UND. | F11: CANTIDAD | G11: VALOR UNITARIO ($) | H11: VALOR TOTAL ($)
B12: GRAL | C12: PART
H13: =SUM(H14:H15) -> 52127632
A14: 201.7 | C14: =IF(B14="-",A14,"") | D14: DEMOLICIÓN DE ESTRUCTURAS | E14: M3 | F14: 180 | G14: 254473.46 | H14: =ROUND(G14*F14,0) -> 45805223
A15: 210.2.2 | D15: EXCAVACIÓN EN MATERIAL COMÚN DE LA EXPLANACIÓN Y CANALES | E15: M3 | F15: =210+49+17.44 -> 276.44 | G15: 22870.818 | H15: =ROUND(G15*F15,0) -> 6322409
H16: =SUM(H17:H18) -> 5017518212
A17: 320.1 | D17: SUB‐BASE GRANULAR CLASE A | E17: M3 | F17: =6600*8*0.3 -> 15840 | G17: 103643.47 | H17: =ROUND(G17*F17,0) -> 1641712608
A18: 330.1.1 | D18: BASE GRANULAR CLASE A | E18: M3 | F18: =6600*8*0.2 -> 10560 | G18: 319678.56 | H18: =ROUND(G18*F18,0) -> 3375805604
H19: =SUM(H20:H20) -> 6362634693
