Workbook

Sheet EVALUACIÓN TÉCNICA
D2: EVALUACIÓN CAPACIDAD TÉCNICA HABILITANTE SELECCIÓN ABREVIADA DE MENOR CUANTIA SA-MEN-04-2020 | L2: HABILITA
L3: NO HABILITA
L4: Seleccione
C5: Dependencia evaluadora: Subdirección de Inspección y Vigilancia | L5: NO CUMPLE
L6: CUMPLE
B7: No. | C7: Proponente | D7: A) Registro Unico de Proponentes | E7: B) Experiencia minima habilitante del proponente | F7: C) Relación de equipo minimo de trabajo | G7: D) Tarjeta de registro y certificado de inscripción y vigencia de antecedentes disciplinarios | H7: RESULTADO DE LA EVALUACIÓN TÉCNICA HABILITATE | I7: OBSERVACIONES | L7: Seleccione
B8: 1 | C8: Gerencia Publica y Privada Ltda | D8: =+Proponente1!#REF! -> #REF! | E8: CUMPLE | F8: NO CUMPLE | G8: CUMPLE | H8: NO HABILITA | I8: Observaciones equipo de trabajo mínimo requerido: Coordinador: La experiencia especifica relacionada en el formato No 07, suman 6,41 años. No cumple con la experiencia requerida.
B9: 2 | C9: Fama Consultores SAS | D9: =Proponente2!E8 -> 0 | E9: NO CUMPLE | F9: =Proponente2!E40 -> CUMPLE | G9: =Proponente2!E52 -> CUMPLE | H9: NO HABILITA | I9: La certificacion del contrato 2 no tiene las actividades realizadas por el oferente y tampoco allegaron el contrato celebrado.
B10: 3 | C10: Desarrollo Empresarial Co SAS | D10: =Proponente3!E8 -> 0 | E10: NO CUMPLE | F10: =Proponente3!E40 -> CUMPLE | G10: NO APLICA | H10: NO HABILITA | I10: El contrato No. 1 tiene un objeto que no cumple con la experiencia requerida, por otro lado la certificación No. 2 no señala las actividades realizadas y tampoco se anexo contrato para verificar la información.
B11: 4 | C11: Kmp Consulting SAS | D11: =Proponente4!E8 -> 0 | E11: CUMPLE | F11: CUMPLE | G11: =Proponente4!E52 -> CUMPLE | H11: HABILITA
B12: 5 | C12: Aqua Financial and Accounting Serveces SAS | D12: =Proponente5!E8 -> 0 | E12: NO CUMPLE | F12: =Proponente5!E40 -> CUMPLE | G12: =Proponente5!E52 -> NO CUMPLE | H12: NO HABILITA | I12: "Contrato 1 - Departamento del Atlántico: 1) Si bien allega copia del contrato celebrado, no allega la respectiva certificación. Tal y como se estableció en el pliego de condiciones. Contrato 2 - Municipio de Armenia: 1) Si bien allega copia del contrato celebrado, no allega la respectiva certificación. Tal y como se estableció en el pliego de condiciones. Contrato 3 - ERU: 1) Si bien allega copia del contrato celebrado, no allega la respectiva certificación. Tal y como se estableció en el pliego de condiciones . - Pendinte copia de Registro de la Persona Juridica. - Pendiente RUP en firme
B13: 6 | C13: Beta Group Services SAS | D13: =Proponente6!E8 -> 0 | E13: CUMPLE | F13: =Proponente6!E40 -> CUMPLE | G13: NO APLICA | H13: HABILITA
B14: 7 | C14: Globalcontable SAS | D14: =Proponente7!E8 -> 0 | E14: CUMPLE | F14: NO CUMPLE | G14: =Proponente7!E52 -> CUMPLE | H14: NO HABILITA | I14: Observaciones equipo de trabajo mínimo requerido: Posgrado no válido para el Rol de profesional contador especializado: Especialista en Derecho Tributario
B15: 8 | C15: L&Q Auditores Externos SAS | D15: =Proponente8!E8 -> SI HABILITA | E15: CUMPLE | F15: =Proponente8!E40 -> CUMPLE | G15: =Proponente8!E52 -> CUMPLE | H15: HABILITA
B16: 9 | C16: Parker Randall Colombia SAS | D16: =Proponente9!E8 -> 0 | E16: NO CUMPLE | F16: CUMPLE | G16: =Proponente9!E52 -> CUMPLE | H16: NO HABILITA | I16: Requiere subsanaciones (certificación experiencia proponente 1 incompleta)
B17: 10 | C17: Amezquita & CÍA S.A.S | D17: =Proponente10!E8 -> 0 | E17: CUMPLE | F17: NO CUMPLE | G17: =Proponente10!E52 -> CUMPLE | H17: NO HABILITA | I17: Observaciones equipo de trabajo mínimo requerido: Posgrado no válido para el Rol de profesional contador especializado:: especialización en aseguramiento y control interno.

Sheet Proponente1
D1: EVALUACIÓN CAPACIDAD TÉCNICA HABILITANTE SELECCIÓN ABREVIADA DE MENOR CUANTIA SA-MEN-04-2020
B3: No. del Proponente | C3: 1 | D3: Presupuesto oficial:
B4: Nombre del proponente: | D4: =IFERROR(VLOOKUP(C3,'EVALUACIÓN TÉCNICA'!$B$8:$C$17,2,FALSE)," ") -> Gerencia Publica y Privada Ltda | E4: 830.014.292-6
B5: Nombre Representante Legal: | D5: GILBERTO ALGEL BORBON ACOSTA | E5: 19100047
C8: A) | D8: Registro Unico de Proponentes
C10: A1. | D10: Revisar el codigo de clasificación del proponente hasta el tercer nivel (841115)
D11: 841115 | J11: SI HABILITA
B12: Observación | D12: RUP, 75, 87, 11 | J12: NO HABILITA
C14: B) | D14: Experiencia minima habilitante del proponente
C16: B1 | D16: Clasificacion de la experiencia en el rup: Revisar el codigo de clasificación del proponente hasta el tercer nivel (841115)
D17: Experiencia relacionada la codigo de Clasificación hasta el tercer nivel (841115) | J17: CUMPLE
D18: 841115 | J18: NO CUMPLE
B19: Observación | J19: NO APLICA
C21: B2 | D21: Experiencia específica:
D22: CONTRATO 1 | E22: CONTRATO 3 | F22: VALOR TOTAL CONTRATACIÓN ≥ 424,28
B23: NOMBRE DEL CONTRATANTE | D23: Superintendencia Nacional de Salud | E23: Secretaría de Hacienda de Casanare
B24: VALOR TOTAL CONTRATO SMMML (REGISTRO RUP) | D24: 1728.92 | E24: 65.66
B25: PORCENTAJE PARTICIPACIÓN (REGITRO RUP) | D25: 0.4 | E25: 1
B26: EQUIVALENTE SMMLV | D26: =D24*D25 -> 691.568 | E26: =E24*E25 -> 65.66 | F26: =+D26+E26 -> 757.228 | G26: CUMPLE
B27: CÓDIGO CLASIFICACIÓN UNSPSC INSCRITO EN EL RUP 841115 | D27: 841115 | E27: 841115
D28: CUMPLE | E28: CUMPLE
B31: FORMATO No. 05
B32: Objeto | D32: CUMPLE | E32: NO APLICA
B33: Experiencia Relevante | D33: CUMPLE | E33: NO APLICA
B34: Descripción | D34: Objeto: Auditoria Forense a operadores de apuestas permanentes y otros Experiencia: Realizar auditoria Forense. Realizar auditoria a los vigilados, para determinar practicas financieras y contables con las cuales se pueda generar eventuales desviaciones. | E34: Objeto: Auditoria financiera, contable y médica a Red Salud Casanare.
B36: ¿Allega certificación? | D36: Si | E36: SI
B37: Certificación | D37: Certificación que contenga: ➢ Nombre de la empresa Contratante ➢ Nombre del Contratista ➢ Si se trata de una estructura plural se debe señalar el nombre de quienes la conforman. Adicionalmente, se debe indicar el porcentaje de participación de cada uno de sus miembros ➢ Número del contrato (si aplica o en caso de que no aplique dicho número, será suficiente señalar dicha situación). ➢ Objeto del contrato ➢ Fecha de inicio (día, mes y año) y fecha de terminación (día, mes y año) ➢ Fecha de expedición de la certificación (día, mes y año) ➢ Valor del contrato y de las adiciones, si las hubo ➢ Cargo y firma de quien expide la certificación ➢ Indicación de las actividades realizadas por el oferente o por cada uno de los miembros de la unión temporal o el consorcio que se presente como oferente y su correspondiente valor._x000D_ Igualmente, en caso de que la certificación no contenga toda la información deberá anexar copia del contrato o de los documentos soportes que sean del caso, que permita tomar claramente la información que falte en la certificación | F37: CUMPLE
B38: Observación
C40: C) | D40: Relación de equipo minimo de trabajo | E40: NO CUMPLE
B42: FORMATO No. 07 | D42: Revisar carta de compromiso del equipo minimo.
D43: PREGRADO | E43: EXPERIENCIA PROFESIONAL | F43: EXPERIENCIA RELACIONADA
B44: Coordinador | D44: CUMPLE | E44: NO CUMPLE | F44: CUMPLE
B45: Profesional financiero especializado | D45: CUMPLE | E45: CUMPLE | F45: CUMPLE
B46: Profesional contador especializado | D46: CUMPLE | E46: CUMPLE | F46: CUMPLE
B47: Observación | E47: Coordinador: La experiencia especifica relacionada en el formato No 07, suman 6,41 años. NO CUMPLE CON LA EXPERIENCIA REQUERIDA
D49: Firma representante legal
C52: D) | D52: Tarjeta de registro y certificado de inscripción y vigencia de antecedentes disciplinarios | E52: CUMPLE
B54: Tarjeta de registro | D54: CUMPLE
B55: Certificado de inscripción y vigencia de antecedentes disciplinarios (no mayor a 3 meses) | D55: CUMPLE
B56: Observación
...

Sheet Proponente2
D1: EVALUACIÓN CAPACIDAD TÉCNICA HABILITANTE SELECCIÓN ABREVIADA DE MENOR CUANTIA SA-MEN-04-2020
B3: No. del Proponente | C3: 2 | D3: Presupuesto oficial: | E3: 372433320
B4: Nombre del proponente: | D4: =IFERROR(VLOOKUP(C3,'EVALUACIÓN TÉCNICA'!$B$8:$C$17,2,FALSE)," ") -> Fama Consultores SAS | E4: NIT: | F4: 900497610
B5: Nombre Representante Legal: | D5: WINSTON ALBERTO MONTES ALVAREZ | E5: Documento Representante legal: | F5: 15043065
C8: A) | D8: Registro Unico de Proponentes
C10: A1. | D10: Revisar el codigo de clasificación del proponente hasta el tercer nivel (841115)
D11: 841115 | K11: SI HABILITA
B12: Observación | D12: RUP, 27 Y 28 | K12: NO HABILITA
C14: B) | D14: Experiencia minima habilitante del proponente | E14: NO HABILITA
C16: B1 | D16: Clasificacion de la experiencia en el rup: Revisar el codigo de clasificación del proponente hasta el tercer nivel (841115)
D17: Experiencia relacionada la codigo de Clasificación hasta el tercer nivel (841115) | K17: CUMPLE
D18: 841115 | E18: CUMPLE | K18: NO CUMPLE
B19: Observación | K19: NO APLICA
C21: B2 | D21: Experiencia específica:
D22: CONTRATO 1 | E22: CONTRATO 2 | F22: CONTRATO 3 | G22: VALOR TOTAL CONTRATACIÓN ≥ 424,28
B23: NOMBRE DEL CONTRATANTE | D23: SYNERGIA CONSULTORES S.A.S | E23: LA GENERAL P&G SOLUCIONAR S.A.S.
B24: VALOR TOTAL CONTRATO SMMML (REGISTRO RUP) | D24: 329.66 | E24: 266.87
B25: PORCENTAJE PARTICIPACIÓN (REGITRO RUP) | D25: 1 | E25: 1
B26: EQUIVALENTE SMMLV | D26: =D24*D25 -> 329.66 | E26: =E24*E25 -> 266.87 | F26: =F24*F25 -> 0 | G26: =+D26+E26+F26 -> 596.53 | H26: CUMPLE
B27: CÓDIGO CLASIFICACIÓN UNSPSC INSCRITO EN EL RUP 841115 | D27: 8411115 | E27: 8411115
D28: CUMPLE | E28: CUMPLE | F28: NO APLICA
B31: FORMATO No. 05
B32: Objeto | D32: CUMPLE | E32: CUMPLE | F32: NO APLICA
B33: Experiencia Relevante | D33: CUMPLE | E33: NO CUMPLE | F33: NO APLICA
B34: Descripción | D34: Auditoría integral a nuestros proceso contables, financieros, operativos y fiscales de nuestras operaciones de comercio exterior y comercialización de nuestros productos tanto en el exterior como en el mercado internacional de servicios de esta naturaleza | E34: Auditoria Integral, que involucro el levantamiento de un dictamen de la situacion juridica contable, fiscal, técnica y financiera de la compañia.
B36: ¿Allega certificación? | D36: SI | E36: SI | F36: NO APLICA
B37: Certificación | D37: Certificación que contenga: ➢ Nombre de la empresa Contratante ➢ Nombre del Contratista ➢ Si se trata de una estructura plural se debe señalar el nombre de quienes la conforman. Adicionalmente, se debe indicar el porcentaje de participación de cada uno de sus miembros ➢ Número del contrato (si aplica o en caso de que no aplique dicho número, será suficiente señalar dicha situación). ➢ Objeto del contrato ➢ Fecha de inicio (día, mes y año) y fecha de terminación (día, mes y año) ➢ Fecha de expedición de la certificación (día, mes y año) ➢ Valor del contrato y de las adiciones, si las hubo ➢ Cargo y firma de quien expide la certificación ➢ Indicación de las actividades realizadas por el oferente o por cada uno de los miembros de la unión temporal o el consorcio que se presente como oferente y su correspondiente valor._x000D_ Igualmente, en caso de que la certificación no contenga toda la información deberá anexar copia del contrato o de los documentos soportes que sean del caso, que permita tomar claramente la información que falte en la certificación | G37: NO CUMPLE
B38: Observación | D38: La certificacion No. 2 no tiene las actividades realizadas por el oferente y tampoco allegaron el contrato celebrado.
C40: C) | D40: Relación de equipo minimo de trabajo | E40: CUMPLE
B42: FORMATO No. 07 | D42: Revisar carta de compromiso del equipo minimo.
D43: PREGRADO | E43: POSGRADO | F43: EXPERIENCIA PROFESIONAL | G43: EXPERIENCIA RELACIONADA
B44: Coordinador | D44: CUMPLE | E44: CUMPLE | F44: CUMPLE | G44: CUMPLE
B45: Profesional financiero especializado | D45: CUMPLE | E45: CUMPLE | F45: CUMPLE | G45: CUMPLE
B46: Profesional contador especializado | D46: CUMPLE | E46: CUMPLE | F46: CUMPLE | G46: CUMPLE
B47: Observación
D49: Firma representante legal | E49: CUMPLE
C52: D) | D52: Tarjeta de registro y certificado de inscripción y vigencia de antecedentes disciplinarios | E52: CUMPLE
B54: Tarjeta de registro | D54: CUMPLE
B55: Certificado de inscripción y vigencia de antecedentes disciplinarios (no mayor a 3 meses) | D55: CUMPLE
B56: Observación
...

Sheet Hoja2

Sheet Proponente3
D1: EVALUACIÓN CAPACIDAD TÉCNICA HABILITANTE SELECCIÓN ABREVIADA DE MENOR CUANTIA SA-MEN-04-2020
B3: No. del Proponente | C3: 3 | D3: Presupuesto oficial: | E3: 372433320
B4: Nombre del proponente: | D4: =IFERROR(VLOOKUP(C3,'EVALUACIÓN TÉCNICA'!$B$8:$C$17,2,FALSE)," ") -> Desarrollo Empresarial Co SAS | E4: NIT: | F4: 00000901289773-4
B5: Nombre Representante Legal: | D5: OSCAR AUGUSTO GUERRERO FRANCO | E5: Documento Representante legal: | F5: 19395521
C8: A) | D8: Registro Unico de Proponentes
C10: A1. | D10: Revisar el codigo de clasificación del proponente hasta el tercer nivel (841115)
D11: 841115 | K11: SI HABILITA
B12: Observación | D12: RUP, 1 y 2 | K12: NO HABILITA
C14: B) | D14: Experiencia minima habilitante del proponente | E14: NO HABILITA
C16: B1 | D16: Clasificacion de la experiencia en el rup: Revisar el codigo de clasificación del proponente hasta el tercer nivel (841115)
K17: CUMPLE
D18: 841115 | E18: CUMPLE | K18: NO CUMPLE
B19: Observación | D19: Experiencia relacionada la codigo de Clasificación hasta el tercer nivel (841115) | K19: NO APLICA
C21: B2 | D21: Experiencia específica:
D22: CONTRATO 1 | E22: CONTRATO 2 | F22: CONTRATO 3 | G22: VALOR TOTAL CONTRATACIÓN ≥ 424,28
B23: NOMBRE DEL CONTRATANTE | D23: Banco Davivienda S.A | E23: Fondo Regional de Garantías del Caribe Colombiano S.A | F23: NO APLICA
B24: VALOR TOTAL CONTRATO SMMML (REGISTRO RUP) | D24: 494.44 | E24: 494.7
B25: PORCENTAJE PARTICIPACIÓN (REGITRO RUP) | D25: 1 | E25: 1
B26: EQUIVALENTE SMMLV | D26: =D24*D25 -> 494.44 | E26: =E24*E25 -> 494.7 | G26: 494.7 | H26: CUMPLE
B27: CÓDIGO CLASIFICACIÓN UNSPSC INSCRITO EN EL RUP 841115 | D27: 841115 | E27: 841115
D28: CUMPLE | E28: CUMPLE
B31: FORMATO No. 05
B32: Objeto | D32: NO CUMPLE | E32: CUMPLE | F32: NO APLICA
B33: Experiencia Relevante | D33: NO CUMPLE | E33: CUMPLE | F33: NO APLICA
B34: Descripción | D34: El objeto del contrato son capacitaciones no tiene relación con la necesidad de la entidad. | E34: Objeto: realizar el diagnóstico financiero y estratégico de diferentes empresas clientes del fondo regional de garantías del caribe
B36: ¿Allega certificación? | D36: SI | E36: SI | F36: NO APLICA
B37: Certificación | D37: Certificación que contenga: ➢ Nombre de la empresa Contratante ➢ Nombre del Contratista ➢ Si se trata de una estructura plural se debe señalar el nombre de quienes la conforman. Adicionalmente, se debe indicar el porcentaje de participación de cada uno de sus miembros ➢ Número del contrato (si aplica o en caso de que no aplique dicho número, será suficiente señalar dicha situación). ➢ Objeto del contrato ➢ Fecha de inicio (día, mes y año) y fecha de terminación (día, mes y año) ➢ Fecha de expedición de la certificación (día, mes y año) ➢ Valor del contrato y de las adiciones, si las hubo ➢ Cargo y firma de quien expide la certificación ➢ Indicación de las actividades realizadas por el oferente o por cada uno de los miembros de la unión temporal o el consorcio que se presente como oferente y su correspondiente valor. Igualmente, en caso de que la certificación no contenga toda la información deberá anexar copia del contrato o de los documentos soportes que sean del caso, que permita tomar claramente la información que falte en la certificación | G37: NO CUMPLE
B38: Observación | D38: El contrato No. 1 tiene un objeto que no cumple con las necesidades de la entidad, por otro lado la certificación No. 2 no señala las actividades realizadas y tampoco se anexo contrato para verificar la información.
C40: C) | D40: Relación de equipo minimo de trabajo | E40: CUMPLE
B42: FORMATO No. 07 | D42: Revisar carta de compromiso del equipo minimo.
D43: PREGRADO | E43: POSGRADO | F43: EXPERIENCIA PROFESIONAL | G43: EXPERIENCIA RELACIONADA
B44: Coordinador | D44: CUMPLE | E44: CUMPLE | F44: CUMPLE | G44: CUMPLE
B45: Profesional financiero especializado | D45: CUMPLE | E45: CUMPLE | F45: CUMPLE | G45: CUMPLE
B46: Profesional contador especializado | D46: CUMPLE | E46: CUMPLE | F46: CUMPLE | G46: CUMPLE
B47: Observación
D49: Firma representante legal | E49: CUMPLE
C52: D) | D52: Tarjeta de registro y certificado de inscripción y vigencia de antecedentes disciplinarios | E52: NO APLICA
B54: Tarjeta de registro | D54: NO APLICA
B55: Certificado de inscripción y vigencia de antecedentes disciplinarios (no mayor a 3 meses) | D55: NO APLICA
B56: Observación | D56: No tiene dentro de su objeto social actividades de la ciencia contable.
...

Sheet Proponente4
D1: EVALUACIÓN CAPACIDAD TÉCNICA HABILITANTE SELECCIÓN ABREVIADA DE MENOR CUANTIA SA-MEN-04-2020
B3: No. del Proponente | C3: 4 | D3: Presupuesto oficial: | E3: 372433320
B4: Nombre del proponente: | D4: =IFERROR(VLOOKUP(C3,'EVALUACIÓN TÉCNICA'!$B$8:$C$17,2,FALSE)," ") -> Kmp Consulting SAS | E4: NIT: | F4: 900.458.773-6
B5: Nombre Representante Legal: | D5: JUAN ALFREDO MARTINEZ YEPES | E5: Documento Representante legal: | F5: 1136884842
C8: A) | D8: Registro Unico de Proponentes
C10: A1. | D10: Revisar el codigo de clasificación del proponente hasta el tercer nivel (841115)
D11: 841115 | K11: SI HABILITA
B12: Observación | D12: RUP, 89-90 | K12: NO HABILITA
C14: B) | D14: Experiencia minima habilitante del proponente | E14: SI HABILITA
C16: B1 | D16: Clasificacion de la experiencia en el rup: Revisar el codigo de clasificación del proponente hasta el tercer nivel (841115)
D17: Experiencia relacionada la codigo de Clasificación hasta el tercer nivel (841115) | K17: CUMPLE
D18: 841115 | K18: NO CUMPLE
B19: Observación | D19: } | K19: NO APLICA
C21: B2 | D21: Experiencia específica:
D22: CONTRATO 1 | E22: CONTRATO 2 | F22: CONTRATO 3 | G22: VALOR TOTAL CONTRATACIÓN ≥ 424,28
B23: NOMBRE DEL CONTRATANTE | D23: EPS S CONVIDA | E23: EPS S CONVIDA
B24: VALOR TOTAL CONTRATO SMMML (REGISTRO RUP) | D24: 742.4 | E24: 340 | F24: 0
B25: PORCENTAJE PARTICIPACIÓN (REGITRO RUP) | D25: 1 | E25: 1 | F25: 0
B26: EQUIVALENTE SMMLV | D26: =D24*D25 -> 742.4 | E26: 340 | F26: =F24*F25 -> 0 | G26: =+D26+E26+F26 -> 1082.4 | H26: CUMPLE
B27: CÓDIGO CLASIFICACIÓN UNSPSC INSCRITO EN EL RUP 841115 | D27: 841115 | E27: 841115 | F27: 0
D28: CUMPLE | E28: CUMPLE | F28: NO APLICA
B31: FORMATO No. 05
B32: Objeto | D32: CUMPLE | E32: CUMPLE | F32: NO APLICA
B33: Experiencia Relevante | D33: CUMPLE | E33: CUMPLE | F33: NO APLICA
B34: Descripción | D34: Objeto: Prestación de servicios profesionales de auditoria (retrospectiva) que permita identificar valorar, analizar, depurar y conciliar la existencia por tercero de los soportes que tiene la cuenta médica de la EPS, los cuales son los que garantizan el soporte de los estados financieros de la Entidad. . | E34: Objeto: Prestación de servicios profesionales de auditoría, que permita identificar, valorar, analizar, depurar, y conciliar las cuentas contables por pagar, provisión de glosas y otros gastos de salud a partir de la conciliación de los soportes físicos con los sistemas de información | F34: NO APLICA
B36: ¿Allega certificación? | D36: SI | E36: SI | F36: NO APLICA
B37: Certificación | D37: Certificación que contenga: ➢ Nombre de la empresa Contratante ➢ Nombre del Contratista ➢ Si se trata de una estructura plural se debe señalar el nombre de quienes la conforman. Adicionalmente, se debe indicar el porcentaje de participación de cada uno de sus miembros ➢ Número del contrato (si aplica o en caso de que no aplique dicho número, será suficiente señalar dicha situación). ➢ Objeto del contrato ➢ Fecha de inicio (día, mes y año) y fecha de terminación (día, mes y año) ➢ Fecha de expedición de la certificación (día, mes y año) ➢ Valor del contrato y de las adiciones, si las hubo ➢ Cargo y firma de quien expide la certificación ➢ Indicación de las actividades realizadas por el oferente o por cada uno de los miembros de la unión temporal o el consorcio que se presente como oferente y su correspondiente valor._x000D_ Igualmente, en caso de que la certificación no contenga toda la información deberá anexar copia del contrato o de los documentos soportes que sean del caso, que permita tomar claramente la información que falte en la certificación | G37: CUMPLE
B38: Observación | D38: OK COMPLETO Certificación de contrato 120.11.02.020 de 2014 EPS´S CONVIDA Certificación de contrato 120.11.03.048 de 2014 EPS´S CONVIDA
C40: C) | D40: Relación de equipo minimo de trabajo | E40: CUMPLE
B42: FORMATO No. 07 | D42: Revisar carta de compromiso del equipo minimo.
D43: PREGRADO | E43: POSGRADO | F43: EXPERIENCIA PROFESIONAL | G43: EXPERIENCIA RELACIONADA
B44: Coordinador | D44: CUMPLE | E44: CUMPLE | F44: CUMPLE | G44: CUMPLE
B45: Profesional financiero especializado | D45: CUMPLE | E45: CUMPLE | F45: CUMPLE | G45: CUMPLE
B46: Profesional contador especializado | D46: CUMPLE | E46: CUMPLE | F46: CUMPLE | G46: CUMPLE
B47: Observación
D49: Firma representante legal | E49: CUMPLE
C52: D) | D52: Tarjeta de registro y certificado de inscripción y vigencia de antecedentes disciplinarios | E52: CUMPLE
B54: Tarjeta de registro | D54: CUMPLE
B55: Certificado de inscripción y vigencia de antecedentes disciplinarios (no mayor a 3 meses) | D55: CUMPLE
B56: Observación
...

Sheet Proponente5
D1: EVALUACIÓN CAPACIDAD TÉCNICA HABILITANTE SELECCIÓN ABREVIADA DE MENOR CUANTIA SA-MEN-04-2020
B3: No. del Proponente | C3: 5 | D3: Presupuesto oficial: | E3: 372433320
B4: Nombre del proponente: | D4: =IFERROR(VLOOKUP(C3,'EVALUACIÓN TÉCNICA'!$B$8:$C$17,2,FALSE)," ") -> Aqua Financial and Accounting Serveces SAS | E4: NIT: | F4: 900871374-0
B5: Nombre Representante Legal: | D5: ADRIANA PÉREZ COLORADO | E5: Documento Representante legal: | F5: 1033711669
C8: A) | D8: Registro Unico de Proponentes
C10: A1. | D10: Revisar el codigo de clasificación del proponente hasta el tercer nivel (841115)
D11: 841115 | K11: SI HABILITA
B12: Observación | D12: RUP, Folio 4 | K12: NO HABILITA
C14: B) | D14: Experiencia minima habilitante del proponente | E14: NO HABILITA
C16: B1 | D16: Clasificacion de la experiencia en el rup: Revisar el codigo de clasificación del proponente hasta el tercer nivel (841115)
D17: Experiencia relacionada la codigo de Clasificación hasta el tercer nivel (841115) | K17: CUMPLE
D18: 841115 | K18: NO CUMPLE
B19: Observación | K19: NO APLICA
C21: B2 | D21: Experiencia específica:
D22: CONTRATO 1 | E22: CONTRATO 2 | F22: CONTRATO 3 | G22: VALOR TOTAL CONTRATACIÓN ≥ 424,28
B23: NOMBRE DEL CONTRATANTE | D23: DEPARTAMENTO DEL ATLANTICO_x000D_ | E23: MUNICIPIO DE ARMENIA_x000D_ | F23: EMPRESA DE RENOVACIÓN URBANA DE BOGOTÁ_x000D_
B24: VALOR TOTAL CONTRATO SMMML (REGISTRO RUP) | D24: 326.04 | E24: 133.12 | F24: 183.39
B25: PORCENTAJE PARTICIPACIÓN (REGITRO RUP) | D25: 1 | E25: 1 | F25: 1
B26: EQUIVALENTE SMMLV | D26: =D24*D25 -> 326.04 | E26: =E24*E25 -> 133.12 | F26: =F24*F25 -> 183.39 | G26: =+D26+E26+F26 -> 642.55 | H26: CUMPLE
B27: CÓDIGO CLASIFICACIÓN UNSPSC INSCRITO EN EL RUP 841115 | D27: 841115 | E27: 841115 | F27: 841115
D28: CUMPLE | E28: CUMPLE | F28: CUMPLE
B31: FORMATO No. 05
B32: Objeto | D32: CUMPLE | E32: CUMPLE | F32: CUMPLE
B33: Experiencia Relevante | D33: CUMPLE | E33: CUMPLE | F33: CUMPLE
B34: Descripción | D34: Objeto: El contratista se compromete y obliga para con el departamento a la prestación de servicios profesionales y de apoyo en la asesoría del procesos de sostenibilidad y depuración contable para entidades de gobierno en la etapa de postimplementación de la resolución 533 de 2015 de conformidad con los estudios elaborados por la administración departamental y la propuesta presentada por el contratista. Experiencia:Apoyo en la elaboración y presentación de Estados financieros. Levantamiento de soportes. Sugerir ajustes a las cifras de la entidad. Proponer controles y formatos para fortalecer el proceso contable. Capacitar al personal. | E34: Objeto: Consultoría para la aplicación del saneamiento contable del municipio de armenia de conformidad a lo establecido en el artículo 355 de la ley 1819 de 2016 y en la resolución 107 de 30 de marzo de 2017 de la contaduría general de la nación, inciso 2.2. depuración contable durante el 2018 sobre la información financiera de 2017. Experiencia: Elaborar un diagnóstico y diseñar un plan de acción sobre la depuración contable. Determinar soportes contables y partidas sujetas a la depuración. Resolver consultas técnicas. Elaborar documentos técnicos y documentos de recomendaciones. | F34: Objeto: prestar servicios de asesoría, acompañamiento, guía y asistencia técnica a la ERU, en el proceso de conversión financiera de la entidad bajo el régimen de contabilidad pública a el marco normativo para empresas que no cotizan en el mercado de valores y que no captan ni administran ahorro del público de la resolución 414 de 2014 y demás normas concordantes que para el efecto expida la contaduría general de la nación, cumpliendo con los requisitos técnicos, jurídicos y financieros exigidos por la ERU. Experiencia: Elaborar documento de diagnóstico, formular y desarrollar un plan de acción. Elaboración de manual de políticas contables. Identificación y recomendación de ajustes a las cifras contables. Acompañar a la empresa en período de transición. Elaborar notas a los Estados financieros. Presentar informes.
B36: ¿Allega certificación? | D36: NO | E36: NO | F36: NO
B37: Certificación | D37: Certificación que contenga: ➢ Nombre de la empresa Contratante ➢ Nombre del Contratista ➢ Si se trata de una estructura plural se debe señalar el nombre de quienes la conforman. Adicionalmente, se debe indicar el porcentaje de participación de cada uno de sus miembros ➢ Número del contrato (si aplica o en caso de que no aplique dicho número, será suficiente señalar dicha situación). ➢ Objeto del contrato ➢ Fecha de inicio (día, mes y año) y fecha de terminación (día, mes y año) ➢ Fecha de expedición de la certificación (día, mes y año) ➢ Valor del contrato y de las adiciones, si las hubo ➢ Cargo y firma de quien expide la certificación ➢ Indicación de las actividades realizadas por el oferente o por cada uno de los miembros de la unión temporal o el consorcio que se presente como oferente y su correspondiente valor._x000D_ Igualmente, en caso de que la certificación no contenga toda la información deberá anexar copia del contrato o de los documentos soportes que sean del caso, que permita tomar claramente la información que falte en la certificación | G37: NO CUMPLE
B38: Observación | D38: Contrato 1 - Departamento del Atlántico: 1) Si bien allega copia del contrato celebrado, no allega la respectiva certificación. Tal y como se estableció en el pliego de condiciones. Contrato 2 - Municipio de Armenia: 1) Si bien allega copia del contrato celebrado, no allega la respectiva certificación. Tal y como se estableció en el pliego de condiciones. Contrato 3 - ERU: 1) Si bien allega copia del contrato celebrado, no allega la respectiva certificación. Tal y como se estableció en el pliego de condiciones.
C40: C) | D40: Relación de equipo minimo de trabajo | E40: CUMPLE
B42: FORMATO No. 07 | D42: Revisar carta de compromiso del equipo minimo.
D43: PREGRADO | E43: POSGRADO | F43: EXPERIENCIA PROFESIONAL | G43: EXPERIENCIA RELACIONADA
B44: Coordinador | D44: CUMPLE | E44: CUMPLE | F44: CUMPLE | G44: CUMPLE
B45: Profesional financiero especializado | D45: CUMPLE | E45: CUMPLE | F45: CUMPLE | G45: CUMPLE
B46: Profesional contador especializado | D46: CUMPLE | E46: CUMPLE | F46: CUMPLE | G46: CUMPLE
B47: Observación
D49: Firma representante legal | E49: CUMPLE
C52: D) | D52: Tarjeta de registro y certificado de inscripción y vigencia de antecedentes disciplinarios | E52: NO CUMPLE
B54: Tarjeta de registro | D54: NO CUMPLE
B55: Certificado de inscripción y vigencia de antecedentes disciplinarios (no mayor a 3 meses) | D55: CUMPLE
B56: Observación | D56: El proponente allega Resolución No. o3 de 2017 de la JCC, donde se evidencia la autorización para prestar los servicios contables y la asignación de la tarjeta de registro. Sin embargo, no allega copia de la Tarjeta de registro, tal y como se estableció en el pliego de condiciones.
...

Sheet Proponente6
D1: EVALUACIÓN CAPACIDAD TÉCNICA HABILITANTE SELECCIÓN ABREVIADA DE MENOR CUANTIA SA-MEN-04-2020
B3: No. del Proponente | C3: 6 | D3: Presupuesto oficial: | E3: 372433320
B4: Nombre del proponente: | D4: =IFERROR(VLOOKUP(C3,'EVALUACIÓN TÉCNICA'!$B$8:$C$17,2,FALSE)," ") -> Beta Group Services SAS | E4: NIT: | F4: 00000900883191-1
B5: Nombre Representante Legal: | D5: ROBERTO GARCÍA BETANCUR - JORGE MAURICIO GARCÍA BETANCUR | E5: Documento Representante legal: | F5: 1020716916 - 1020757540
C8: A) | D8: Registro Unico de Proponentes
C10: A1. | D10: Revisar el codigo de clasificación del proponente hasta el tercer nivel (841115)
D11: 841115 | K11: SI HABILITA
B12: Observación | D12: RUP, Folio 15 | K12: NO HABILITA
C14: B) | D14: Experiencia minima habilitante del proponente | E14: SI HABILITA
C16: B1 | D16: Clasificacion de la experiencia en el rup: Revisar el codigo de clasificación del proponente hasta el tercer nivel (841115)
D17: Experiencia relacionada la codigo de Clasificación hasta el tercer nivel (841115) | K17: CUMPLE
D18: 841115 | E18: CUMPLE | K18: NO CUMPLE
B19: Observación | K19: NO APLICA
C21: B2 | D21: Experiencia específica:
D22: CONTRATO 1 | E22: CONTRATO 2 | F22: CONTRATO 3 | G22: VALOR TOTAL CONTRATACIÓN ≥ 424,28
B23: NOMBRE DEL CONTRATANTE | D23: Unión Temporal Asesoría Contable | E23: Ministerio de Comercio Industria y Turismo | F23: Ministerio de Minas y Energía
B24: VALOR TOTAL CONTRATO SMMML (REGISTRO RUP) | D24: 266.22 | E24: 3832.04 | F24: 482.94
B25: PORCENTAJE PARTICIPACIÓN (REGITRO RUP) | D25: 0.75 | E25: 1 | F25: 1
B26: EQUIVALENTE SMMLV | D26: =D24*D25 -> 199.665 | E26: 3832.04 | F26: =F24*F25 -> 482.94 | G26: =E26+F26 -> 4314.98 | H26: CUMPLE
B27: CÓDIGO CLASIFICACIÓN UNSPSC INSCRITO EN EL RUP 841115 | D27: 841115 | E27: 841115 | F27: 841115
D28: NO CUMPLE | E28: CUMPLE | F28: CUMPLE
D29: No se tiene en cuenta el primer contrato a no evidenciarse certificación del mismo en las condiciones exigidas en el pliego
B31: FORMATO No. 05
B32: Objeto | D32: CUMPLE | E32: CUMPLE | F32: CUMPLE
B33: Experiencia Relevante | D33: CUMPLE | E33: CUMPLE | F33: CUMPLE
B34: Descripción | D34: Objeto: Servicio de consultoría que asesore y asista técnicamente al municipio de Ipiales, en el proceso de convergencia de la información financiera públicabajo el régimen de contabilidad pública (RGCP) hacia las normas internacionales de contabilidad del sector público (NICSP) y el proceso de sostenibilidad del sistema de contabilidad. Experiencia: Consultoría o estructuración economíca y financiera. | E34: Objeto: el contratista, se obliga para con el MINISTERIO a implementar metodologías de aumento de la productividad en 200 empresas pertenecientes a las rutas competitivas de los sectores de fique, palma, cárnico, hortofrutívola, piscícola y turismo. Experiencia: Fases y entregables de la consultoría. A. Plan de mejora, apoyar la realización de un plan de mejora concertado y validado por cada una de las 200 empresas seleccionadas, que incluira, lo financiero: Rentabilidad= Utilidad Bruta /Activos a precios de mercado (...) | F34: Objeto: contratar los servicios de una consultoría para desarrollar las funciones de "Administrador Independiente" del reporte de cotejo EITI Colombia año 2018, de acuerdo con los parámetros y requerimientos establecidos por el CTN, la Secretaría Técnica y el estándar EITI. Experiencia: revisar y ajustar la metogología establecida para la presentación del informe EITI Colombia año fiscal 2017 con base en los parámetros establecidos por el CTN para aplicar en el informe EITI año fiscal 2018. a. estructurar o revisar y ajustar: Rubros a cotejar con flujo y tipo de contabilidad a solicitar
B36: ¿Allega certificación? | D36: NO | E36: SI | F36: SI
B37: Certificación | D37: Certificación que contenga: ➢ Nombre de la empresa Contratante ➢ Nombre del Contratista ➢ Si se trata de una estructura plural se debe señalar el nombre de quienes la conforman. Adicionalmente, se debe indicar el porcentaje de participación de cada uno de sus miembros ➢ Número del contrato (si aplica o en caso de que no aplique dicho número, será suficiente señalar dicha situación). ➢ Objeto del contrato ➢ Fecha de inicio (día, mes y año) y fecha de terminación (día, mes y año) ➢ Fecha de expedición de la certificación (día, mes y año) ➢ Valor del contrato y de las adiciones, si las hubo ➢ Cargo y firma de quien expide la certificación ➢ Indicación de las actividades realizadas por el oferente o por cada uno de los miembros de la unión temporal o el consorcio que se presente como oferente y su correspondiente valor._x000D_ Igualmente, en caso de que la certificación no contenga toda la información deberá anexar copia del contrato o de los documentos soportes que sean del caso, que permita tomar claramente la información que falte en la certificación | G37: CUMPLE
B38: Observación | D38: Contrato 1 "Unión Temporal Asesoría Contable" NO allega certificación expedida por el contratante, tal y como se establecicó en el pliego de condiciones. No obstante la acreditación de los demás contratos habilitan al proponente frente a éste criterio
C40: C) | D40: Relación de equipo minimo de trabajo | E40: CUMPLE
B42: FORMATO No. 07 | D42: Revisar carta de compromiso del equipo minimo.
D43: PREGRADO | E43: POSGRADO | F43: EXPERIENCIA PROFESIONAL | G43: EXPERIENCIA RELACIONADA
B44: Coordinador | D44: CUMPLE | E44: CUMPLE | F44: CUMPLE | G44: CUMPLE
B45: Profesional financiero especializado | D45: CUMPLE | E45: CUMPLE | F45: CUMPLE | G45: CUMPLE
B46: Profesional contador especializado | D46: CUMPLE | E46: CUMPLE | F46: CUMPLE | G46: CUMPLE
B47: Observación
D49: Firma representante legal | E49: CUMPLE
C52: D) | D52: Tarjeta de registro y certificado de inscripción y vigencia de antecedentes disciplinarios | E52: NO APLICA
B54: Tarjeta de registro | D54: NO APLICA
B55: Certificado de inscripción y vigencia de antecedentes disciplinarios (no mayor a 3 meses) | D55: NO APLICA
...

Sheet Proponente7
D1: EVALUACIÓN CAPACIDAD TÉCNICA HABILITANTE SELECCIÓN ABREVIADA DE MENOR CUANTIA SA-MEN-04-2020
B3: No. del Proponente | C3: 7 | D3: Presupuesto oficial: | E3: 372433320
B4: Nombre del proponente: | D4: =IFERROR(VLOOKUP(C3,'EVALUACIÓN TÉCNICA'!$B$8:$C$17,2,FALSE)," ") -> Globalcontable SAS | E4: NIT: | F4: 900238992-9
B5: Nombre Representante Legal: | D5: MONIKA MARCELA VALENZUELA PARDO | E5: Documento Representante legal: | F5: 63485320
C8: A) | D8: Registro Unico de Proponentes
C10: A1. | D10: Revisar el codigo de clasificación del proponente hasta el tercer nivel (841115)
K11: SI HABILITA
B12: Observación | D12: RUP, Folio 4 | K12: NO HABILITA
C14: B) | D14: Experiencia minima habilitante del proponente | E14: SI HABILITA
C16: B1 | D16: Clasificacion de la experiencia en el rup: Revisar el codigo de clasificación del proponente hasta el tercer nivel (841115)
D17: Experiencia relacionada la codigo de Clasificación hasta el tercer nivel (841115) | K17: CUMPLE
D18: 841115 | E18: CUMPLE | K18: NO CUMPLE
B19: Observación | K19: NO APLICA
C21: B2 | D21: Experiencia específica:
D22: CONTRATO 1 | E22: CONTRATO 2 | F22: CONTRATO 3 | G22: VALOR TOTAL CONTRATACIÓN ≥ 424,28
B23: NOMBRE DEL CONTRATANTE | D23: TAX CONSULTING GROUP | E23: GARCIA GOMEZ ASOCIADOS AS
B24: VALOR TOTAL CONTRATO SMMML (REGISTRO RUP) | D24: 890.76 | E24: 459.27 | F24: 0
B25: PORCENTAJE PARTICIPACIÓN (REGITRO RUP) | D25: 1 | E25: 1 | F25: 0
B26: EQUIVALENTE SMMLV | D26: =D24*D25 -> 890.76 | E26: =E24*E25 -> 459.27 | F26: =F24*F25 -> 0 | G26: =+D26+E26+F26 -> 1350.03 | H26: CUMPLE
B27: CÓDIGO CLASIFICACIÓN UNSPSC INSCRITO EN EL RUP 841115 | D27: 841115 | E27: 841115 | F27: 0
D28: CUMPLE | E28: CUMPLE | F28: NO APLICA
B31: FORMATO No. 05
B32: Objeto | D32: CUMPLE | E32: CUMPLE | F32: NO APLICA
B33: Experiencia Relevante | D33: CUMPLE | E33: CUMPLE | F33: NO APLICA
B34: Descripción | D34: Objeto: Auditar y asesorar al contratante respecto a la implementación de los estándares internacionales de contabilidad e información financiera, indicar los pasos y depuraciones que deben hacerse a las cuentas, auditar los balances de apertura , auditar las políticas implementadas en los clientes indicando los cambios a realizarse | E34: Objeto y experiencia relevante: Auditar y asesorar al contratante respecto a la implementación de los estándares internacionales de contabilidad e información financiera, indicar los pasos y depuraciones que deben hacerse a las cuentas, auditar los balances de apertura , auditar las políticas implementadas en los clientes indicando los cambios a realizarse. | F34: NO APLICA
B36: ¿Allega certificación? | D36: SI | E36: SI | F36: NO APLICA
B37: Certificación | D37: Certificación que contenga: ➢ Nombre de la empresa Contratante ➢ Nombre del Contratista ➢ Si se trata de una estructura plural se debe señalar el nombre de quienes la conforman. Adicionalmente, se debe indicar el porcentaje de participación de cada uno de sus miembros ➢ Número del contrato (si aplica o en caso de que no aplique dicho número, será suficiente señalar dicha situación). ➢ Objeto del contrato ➢ Fecha de inicio (día, mes y año) y fecha de terminación (día, mes y año) ➢ Fecha de expedición de la certificación (día, mes y año) ➢ Valor del contrato y de las adiciones, si las hubo ➢ Cargo y firma de quien expide la certificación ➢ Indicación de las actividades realizadas por el oferente o por cada uno de los miembros de la unión temporal o el consorcio que se presente como oferente y su correspondiente valor._x000D_ Igualmente, en caso de que la certificación no contenga toda la información deberá anexar copia del contrato o de los documentos soportes que sean del caso, que permita tomar claramente la información que falte en la certificación | G37: CUMPLE
B38: Observación | D38: Contrato TAX CONSULTING SAS - Contrato GARCIA GOMEZ ASOCIADOS SAS
C40: C) | D40: Relación de equipo minimo de trabajo | E40: NO CUMPLE
B42: FORMATO No. 07 | D42: Revisar carta de compromiso del equipo minimo.
D43: PREGRADO | E43: POSGRADO | F43: EXPERIENCIA PROFESIONAL | G43: EXPERIENCIA RELACIONADA
B44: Coordinador | D44: CUMPLE | E44: CUMPLE | F44: CUMPLE | G44: CUMPLE
B45: Profesional financiero especializado | D45: CUMPLE | E45: CUMPLE | F45: CUMPLE | G45: CUMPLE
B46: Profesional contador especializado | D46: CUMPLE | E46: NO CUMPLE | F46: CUMPLE | G46: CUMPLE
B47: Observación | E47: Posgrado Contador: Especialista en Derecho Tributario
D49: Firma representante legal | E49: CUMPLE
C52: D) | D52: Tarjeta de registro y certificado de inscripción y vigencia de antecedentes disciplinarios | E52: CUMPLE
B54: Tarjeta de registro | D54: CUMPLE
B55: Certificado de inscripción y vigencia de antecedentes disciplinarios (no mayor a 3 meses) | D55: CUMPLE
B56: Observación
...

Sheet Proponente8
D1: EVALUACIÓN CAPACIDAD TÉCNICA HABILITANTE SELECCIÓN ABREVIADA DE MENOR CUANTIA SA-MEN-04-2020
B3: No. del Proponente | C3: 8 | D3: Presupuesto oficial: | E3: 372433320
B4: Nombre del proponente: | D4: =IFERROR(VLOOKUP(C3,'EVALUACIÓN TÉCNICA'!$B$8:$C$17,2,FALSE)," ") -> L&Q Auditores Externos SAS | E4: NIT: | F4: 900.354.279-1
B5: Nombre Representante Legal: | D5: JOSE EDISON LOZADA QUINTERO | E5: Documento Representante legal: | F5: 80219944
C8: A) | D8: Registro Unico de Proponentes | E8: SI HABILITA
C10: A1. | D10: Revisar el codigo de clasificación del proponente hasta el tercer nivel (841115)
D11: 841115 | E11: CUMPLE | K11: SI HABILITA
B12: Observación | D12: RUP, 1 y 2 | K12: NO HABILITA
C14: B) | D14: Experiencia minima habilitante del proponente | E14: SI HABILITA
C16: B1 | D16: Clasificacion de la experiencia en el rup: Revisar el codigo de clasificación del proponente hasta el tercer nivel (841115)
D17: Experiencia relacionada la codigo de Clasificación hasta el tercer nivel (841115) | K17: CUMPLE
D18: 841115 | E18: CUMPLE | K18: NO CUMPLE
B19: Observación | K19: NO APLICA
C21: B2 | D21: Experiencia específica:
D22: CONTRATO 1 | E22: CONTRATO 2 | F22: CONTRATO 3 | G22: VALOR TOTAL CONTRATACIÓN ≥ 424,28
B23: NOMBRE DEL CONTRATANTE | D23: SEGUROS MEDICOS INTERNACIONALES LTDA | E23: PUNTO DE SERVICIOS S.A.
B24: VALOR TOTAL CONTRATO SMMML (REGISTRO RUP) | D24: 407.71 | E24: 146.49
B25: PORCENTAJE PARTICIPACIÓN (REGITRO RUP) | D25: 1 | E25: 1
B26: EQUIVALENTE SMMLV | D26: =D24*D25 -> 407.71 | E26: =E24*E25 -> 146.49 | F26: =F24*F25 -> 0 | G26: =+D26+E26+F26 -> 554.2 | H26: CUMPLE
B27: CÓDIGO CLASIFICACIÓN UNSPSC INSCRITO EN EL RUP 841115 | D27: 841115 | E27: 841115
D28: CUMPLE | E28: CUMPLE | F28: NO APLICA
B31: FORMATO No. 05
B32: Objeto | D32: CUMPLE | E32: CUMPLE | F32: NO APLICA
B33: Experiencia Relevante | D33: CUMPLE | E33: CUMPLE | F33: NO APLICA
B34: Descripción | D34: Cumpliendo con las actividades profesionales de un servicio integral que no solo comprende las labores de Auditoria Financiera y Tributaria, sino que igualmente el alcance es dirigido a las áreas, administrativa (Control Interno, Laboral, Legal) y de Sistemas. | E34: Cumpliendo con las actividades profesionales de un servicio integral que no solo comprende las labores de Auditoria Financiera y Tributaria, sino que igualmente el alcance es dirigido a las áreas, administrativa (Control Interno, Laboral, Legal) y de Sistemas.
B36: ¿Allega certificación? | D36: SI | E36: SI | F36: NO APLICA
B37: Certificación | D37: Certificación que contenga: ➢ Nombre de la empresa Contratante ➢ Nombre del Contratista ➢ Si se trata de una estructura plural se debe señalar el nombre de quienes la conforman. Adicionalmente, se debe indicar el porcentaje de participación de cada uno de sus miembros ➢ Número del contrato (si aplica o en caso de que no aplique dicho número, será suficiente señalar dicha situación). ➢ Objeto del contrato ➢ Fecha de inicio (día, mes y año) y fecha de terminación (día, mes y año) ➢ Fecha de expedición de la certificación (día, mes y año) ➢ Valor del contrato y de las adiciones, si las hubo ➢ Cargo y firma de quien expide la certificación ➢ Indicación de las actividades realizadas por el oferente o por cada uno de los miembros de la unión temporal o el consorcio que se presente como oferente y su correspondiente valor._x000D_ Igualmente, en caso de que la certificación no contenga toda la información deberá anexar copia del contrato o de los documentos soportes que sean del caso, que permita tomar claramente la información que falte en la certificación | G37: CUMPLE
B38: Observación
C40: C) | D40: Relación de equipo minimo de trabajo | E40: CUMPLE
B42: FORMATO No. 07 | D42: Revisar carta de compromiso del equipo minimo.
D43: PREGRADO | E43: POSGRADO | F43: EXPERIENCIA PROFESIONAL | G43: EXPERIENCIA RELACIONADA
B44: Coordinador | D44: CUMPLE | E44: CUMPLE | F44: CUMPLE | G44: CUMPLE
B45: Profesional financiero especializado | D45: CUMPLE | E45: CUMPLE | F45: CUMPLE | G45: CUMPLE
B46: Profesional contador especializado | D46: CUMPLE | E46: CUMPLE | F46: CUMPLE | G46: CUMPLE
B47: Observación
D49: Firma representante legal | E49: CUMPLE
C52: D) | D52: Tarjeta de registro y certificado de inscripción y vigencia de antecedentes disciplinarios | E52: CUMPLE
B54: Tarjeta de registro | D54: CUMPLE
B55: Certificado de inscripción y vigencia de antecedentes disciplinarios (no mayor a 3 meses) | D55: CUMPLE
B56: Observación
...

Sheet Proponente9
D1: EVALUACIÓN CAPACIDAD TÉCNICA HABILITANTE SELECCIÓN ABREVIADA DE MENOR CUANTIA SA-MEN-04-2020
B3: No. del Proponente | C3: 9 | D3: Presupuesto oficial: | E3: 372433320
B4: Nombre del proponente: | D4: =IFERROR(VLOOKUP(C3,'EVALUACIÓN TÉCNICA'!$B$8:$C$17,2,FALSE)," ") -> Parker Randall Colombia SAS | E4: NIT: | F4: 800251984-0
B5: Nombre Representante Legal: | D5: LAURA YIBETH ROZO PENAGOS | E5: Documento Representante legal: | F5: 1032375135
C8: A) | D8: Registro Unico de Proponentes
C10: A1. | D10: Revisar el codigo de clasificación del proponente hasta el tercer nivel (841115)
D11: 841115 | K11: SI HABILITA
B12: Observación | D12: RUP, | K12: NO HABILITA
C14: B) | D14: Experiencia minima habilitante del proponente | E14: NO HABILITA
C16: B1 | D16: Clasificacion de la experiencia en el rup: Revisar el codigo de clasificación del proponente hasta el tercer nivel (841115)
D17: Experiencia relacionada la codigo de Clasificación hasta el tercer nivel (841115) | K17: CUMPLE
D18: 841115 | K18: NO CUMPLE
B19: Observación | K19: NO APLICA
C21: B2 | D21: Experiencia específica:
D22: CONTRATO 1 | E22: CONTRATO 2 | F22: CONTRATO 3 | G22: VALOR TOTAL CONTRATACIÓN ≥ 424,28
B23: NOMBRE DEL CONTRATANTE | D23: GUAICARAMO S.A.S | E23: FONDO FINANCIERO DE PROYECTOS_x000D_ DE DESARROLLO - FONADE_x000D_ | F23: FONDO FINANCIERO DE PROYECTOS DE DESARROLLO - FONADE
B24: VALOR TOTAL CONTRATO SMMML (REGISTRO RUP) | D24: 249.96 | E24: 116.09 | F24: 103.88
B25: PORCENTAJE PARTICIPACIÓN (REGITRO RUP) | D25: 1 | E25: 1 | F25: 1
B26: EQUIVALENTE SMMLV | D26: =D24*D25 -> 249.96 | E26: =E24*E25 -> 116.09 | F26: =F24*F25 -> 103.88 | G26: =+D26+E26+F26 -> 469.93 | H26: CUMPLE
B27: CÓDIGO CLASIFICACIÓN UNSPSC INSCRITO EN EL RUP 841115 | D27: 841115 | E27: 841115 | F27: 841115
D28: CUMPLE | E28: CUMPLE | F28: CUMPLE
B31: FORMATO No. 05
B32: Objeto | D32: CUMPLE | E32: CUMPLE | F32: CUMPLE
B33: Experiencia Relevante | D33: CUMPLE | E33: CUMPLE | F33: CUMPLE
B34: Descripción | D34: Objeto: Prestar lo servicios profesionales de Revisoría Fiscal. Experiencia: Servicios de Contabilidad y Auditorias. | E34: Objeto: Prestar servicios profesionales para efectuar el acompañamiento y revisión de las fases de diagnóstico, diseño y desarrollo, así como la culminación de la fase de adopción y ejecución de la fase de implementación que soportaran las operaciones normales y rutinarias del negocio, reconocidas y medidas en el cumplimiento de las NIIF Plenas, para atender los requerimiento del periodo transición y prepararse para el primer periodo de aplicación conforme al cronograma establecido en la CGN en la resolución 743. Experiencia: Servicios Contables._x000D_ | F34: Objeto: Prestar servicios profesionales para efectuar el acompañamiento en la aplicación de los resultados de las fases anteriores en relación con las operaciones normales y rutinarias del negocio, reconocidas y medidas en el cumplimiento de las NIIF plenas según lo dispuesto por la CGN mediante la resolución 037 de 2017. Experiencia: Servicios Contables.
B36: ¿Allega certificación? | D36: SI | E36: SI | F36: SI
B37: Certificación | D37: Certificación que contenga: ➢ Nombre de la empresa Contratante ➢ Nombre del Contratista ➢ Si se trata de una estructura plural se debe señalar el nombre de quienes la conforman. Adicionalmente, se debe indicar el porcentaje de participación de cada uno de sus miembros ➢ Número del contrato (si aplica o en caso de que no aplique dicho número, será suficiente señalar dicha situación). ➢ Objeto del contrato ➢ Fecha de inicio (día, mes y año) y fecha de terminación (día, mes y año) ➢ Fecha de expedición de la certificación (día, mes y año) ➢ Valor del contrato y de las adiciones, si las hubo ➢ Cargo y firma de quien expide la certificación ➢ Indicación de las actividades realizadas por el oferente o por cada uno de los miembros de la unión temporal o el consorcio que se presente como oferente y su correspondiente valor._x000D_ Igualmente, en caso de que la certificación no contenga toda la información deberá anexar copia del contrato o de los documentos soportes que sean del caso, que permita tomar claramente la información que falte en la certificación | G37: NO CUMPLE
B38: Observación | D38: Contrato 1 - GUAICARAMO S.A.S: Allega certificación expedida por el contratante, sin embargo, dicha certificación no posee la fecha de expedición de la misma, tal y como se establecicó en el pliego de condiciones.
C40: C) | D40: Relación de equipo minimo de trabajo | E40: CUMPLE
B42: FORMATO No. 07 | D42: Revisar carta de compromiso del equipo minimo.
D43: PREGRADO | E43: POSGRADO | F43: EXPERIENCIA PROFESIONAL | G43: EXPERIENCIA RELACIONADA
B44: Coordinador | D44: CUMPLE | E44: CUMPLE | F44: CUMPLE | G44: CUMPLE
B45: Profesional financiero especializado | D45: CUMPLE | E45: CUMPLE | F45: CUMPLE | G45: CUMPLE
B46: Profesional contador especializado | D46: CUMPLE | E46: CUMPLE | F46: CUMPLE | G46: CUMPLE
B47: Observación
D49: Firma representante legal | E49: CUMPLE
C52: D) | D52: Tarjeta de registro y certificado de inscripción y vigencia de antecedentes disciplinarios | E52: CUMPLE
B54: Tarjeta de registro | D54: CUMPLE
B55: Certificado de inscripción y vigencia de antecedentes disciplinarios (no mayor a 3 meses) | D55: CUMPLE
B56: Observación
...

Sheet Hoja1
A1: Año | B1: Salario mínimo mensual | C1: Decretos del Gobierno Nacional
A2: 1984 | B2: 11298 | C2: N/A
A3: 1985 | B3: 13558 | C3: 0001 de enero de 1985
A4: 1986 | B4: 16811 | C4: 3754 de diciembre de 1985 | I4: Propuesta económica del Proponente No.
A5: 1987 | B5: 20510 | C5: 3732 de diciembre de 1986
A6: 1988 | B6: 25637 | C6: 2545 de diciembre de 1987
A7: 1989 | B7: 32560 | C7: 2662 de diciembre de 1988 | I7: OFERTA RECHAZADA POR SUPERAR VALOR REFERENCIA
A8: 1990 | B8: 41025 | C8: 3000 de diciembre de 1989 | I8: ADMITIDA
A9: 1991 | B9: 51716 | C9: 3074 de diciembre de 1990 | H9: Valor Unitario x Informe | I9: =IF('EO1'!E11=Hoja1!I8,1,2) -> 1
A10: 1992 | B10: 65190 | C10: 2867 de diciembre de 1991 | H10: Valor Total propuesta | I10: =IF('EO1'!H11=Hoja1!I8,1,2) -> 1
A11: 1993 | B11: 81510 | C11: 2061 de diciembre de 1992 | I11: =SUM(I9:I10) -> 2
A12: 1994 | B12: 98700 | C12: 2548 de diciembre de 1993
A13: 1995 | B13: 118934 | C13: 2872 de diciembre de 1994
A14: 1996 | B14: 142125 | C14: 2310 de diciembre de 1995
A15: 1997 | B15: 172005 | C15: 2334 de diciembre de 1996 | H15: Revisar el certificado de existencia y representación legal, cédula de ciudadanía o visa de residencia. | I15: =IF('EO1'!E41="CUMPLE",10,0) -> 10 | J15: =IF('EO2'!E41="CUMPLE",10,0) -> 10 | K15: =IF('EO3'!E41="CUMPLE",10,0) -> 10 | L15: =IF('EO4'!E41="CUMPLE",10,0) -> 10 | M15: =IF('EO5'!E41="CUMPLE",10,0) -> 10 | N15: =IF('EO6'!E41="CUMPLE",10,0) -> 10 | O15: =IF('EO7'!E41="CUMPLE",10,0) -> 0 | P15: =IF('EO8'!E41="CUMPLE",10,0) -> 10 | Q15: =IF('EO9'!E41="CUMPLE",10,0) -> 10 | R15: =IF('EO10'!E41="CUMPLE",10,0) -> 10
A16: 1998 | B16: 203826 | C16: 3106 de diciembre de 1997 | H16: Revisar el Formato No. 09 | I16: =IF('EO1'!E44="CUMPLE",5,0) -> 0 | J16: =IF('EO2'!E44="CUMPLE",5,0) -> 0 | K16: =IF('EO3'!E44="CUMPLE",5,0) -> 0 | L16: =IF('EO4'!E44="CUMPLE",5,0) -> 0 | M16: =IF('EO5'!E44="CUMPLE",5,0) -> 0 | N16: =IF('EO6'!E44="CUMPLE",5,0) -> 0 | O16: =IF('EO7'!E44="CUMPLE",5,0) -> 0 | P16: =IF('EO8'!E44="CUMPLE",5,0) -> 0 | Q16: =IF('EO9'!E44="CUMPLE",5,0) -> 0 | R16: =IF('EO10'!E44="CUMPLE",5,0) -> 0
A17: 1999 | B17: 236460 | C17: 2560 de diciembre de 1998 | I17: =SUM(I15:I16) -> 10 | J17: =SUM(J15:J16) -> 10 | K17: =SUM(K15:K16) -> 10 | L17: =SUM(L15:L16) -> 10 | M17: =SUM(M15:M16) -> 10 | N17: =SUM(N15:N16) -> 10 | O17: =SUM(O15:O16) -> 0 | P17: =SUM(P15:P16) -> 10 | ... R17: =SUM(R15:R16) -> 10
A18: 2000 | B18: 260100 | C18: 2647 de diciembre 23 de 1999 | H18: CUMPLE
A19: 2001 | B19: 286000 | C19: 2579 de diciembre 13 de 2000 | H19: NO CUMPLE
A20: 2002 | B20: 309000 | C20: 2910 de diciembre 31 de 2001 | H20: NO APLICA
A21: 2003 | B21: 332000 | C21: 3232 de diciembre 27 de 2002
A22: 2004 | B22: 358000 | C22: 3770 de diciembre 26 de 2003 | H22: SI
A23: 2005 | B23: 381500 | C23: 4360 de diciembre 22 de 2004 | H23: NO
A24: 2006 | B24: 408000 | C24: 4686 de diciembre 21 de 2005 | H24: NO APLICA
A25: 2007 | B25: 433700 | C25: 4580 de diciembre 27 de 2006
A26: 2008 | B26: 461500 | C26: 4965 de diciembre 27 de 2007
A27: 2009 | B27: 496900 | C27: 4868 de diciembre 30 de 2008
A28: 2010 | B28: 515000 | C28: 5053 de diciembre 30 de 2009
A29: 2011 | B29: 535600 | C29: 033 de enero 11 de 2011
A30: 2012 | B30: 566700 | C30: 4919 de diciembre 26 de 2011
A31: 2013 | B31: 589500 | C31: 2738 de diciembre 28 de 2012
A32: 2014 | B32: 616000 | C32: 3068 de diciembre 30 de 2013
A33: 2015 | B33: 644350 | C33: 2731 de diciembre 30 de 2014
A34: 2016 | B34: 689455 | C34: 2552 de diciembre 30 de 2015
A35: 2017 | B35: 737717 | C35: 2209 de diciembre 30 de 2016
A36: 2018 | B36: 781242 | C36: 2269 de diciembre 30 de 2017
... A38: 2020 | B38: 877803 | C38: 2360 de diciembre 26 de 2019

Sheet Proponente10
D1: EVALUACIÓN CAPACIDAD TÉCNICA HABILITANTE SELECCIÓN ABREVIADA DE MENOR CUANTIA SA-MEN-04-2020
B3: No. del Proponente | C3: 10 | D3: Presupuesto oficial: | E3: 372433320
B4: Nombre del proponente: | D4: =IFERROR(VLOOKUP(C3,'EVALUACIÓN TÉCNICA'!$B$8:$C$17,2,FALSE)," ") -> Amezquita & CÍA S.A.S | E4: NIT: | F4: 860023380-3
B5: Nombre Representante Legal: | D5: VIVIAN CHRISTINE AMEZQUITA ACOSTA | E5: Documento Representante legal: | F5: 52694207
C8: A) | D8: Registro Unico de Proponentes
C10: A1. | D10: Revisar el codigo de clasificación del proponente hasta el tercer nivel (841115)
D11: 841115 | K11: SI HABILITA
B12: Observación | D12: RUP, Folio 7 | K12: NO HABILITA
C14: B) | D14: Experiencia minima habilitante del proponente | E14: SI HABILITA
C16: B1 | D16: Clasificacion de la experiencia en el rup: Revisar el codigo de clasificación del proponente hasta el tercer nivel (841115)
D17: Experiencia relacionada la codigo de Clasificación hasta el tercer nivel (841115) | K17: CUMPLE
D18: 841115 | K18: NO CUMPLE
B19: Observación | K19: NO APLICA
C21: B2 | D21: Experiencia específica:
D22: CONTRATO 1 | E22: CONTRATO 2 | F22: CONTRATO 3 | G22: VALOR TOTAL CONTRATACIÓN ≥ 424,28
B23: NOMBRE DEL CONTRATANTE | D23: Ministerior de Educación Nacional | E23: Ministerior de Educación Nacional | F23: Ministerior de Educación Nacional
B24: VALOR TOTAL CONTRATO SMMML (REGISTRO RUP) | D24: 882.3 | E24: 511.73 | F24: 452.76
B25: PORCENTAJE PARTICIPACIÓN (REGITRO RUP) | D25: 1 | E25: 1 | F25: 1
B26: EQUIVALENTE SMMLV | D26: =D24*D25 -> 882.3 | E26: =E24*E25 -> 511.73 | F26: =F24*F25 -> 452.76 | G26: =+D26+E26+F26 -> 1846.79 | H26: CUMPLE
B27: CÓDIGO CLASIFICACIÓN UNSPSC INSCRITO EN EL RUP 841115 | D27: 841115 | E27: 841115 | F27: 841115
D28: CUMPLE | E28: CUMPLE | F28: CUMPLE
B31: FORMATO No. 05
B32: Objeto | D32: CUMPLE | E32: CUMPLE | F32: CUMPLE
B33: Experiencia Relevante | D33: CUMPLE | E33: CUMPLE | F33: CUMPLE
B34: Descripción | D34: Objeto: Realizar la verificación de aspectos financieros y contables de las Instituciones de Educación Superior, con análisis y seguimiento a sus planes de desarrolloy de inversión, al reporte de derechos pecuniarios, así como llevar a cabo la caracterización financiera de las mismas, con el fin de lograr el mejoramiento de la calidad de la Educación Superior. Experiencia: Servicios financieros. Servicios de contabilidad y auditorias. Servicios contables. | E34: Objeto: Prestación de servicios profesionales a la Subdirección de Inspección y Vigilancia del Ministerio de Educación Nacional para apoyar la verificación de aspectos financieros y contables en las instituciones de educación superior, en el marco de la función de inspección y vigilancia. Experiencia: Servicios financieros. Servicios de contabilidad y auditorias. Servicios contables. | F34: Objeto: Contratar el apoyo en temas financieros a la Subdirección de la Inspección y Vigilancia en la verificación de la adecuada prestación del servicio público de educación superior, el cumplimiento de las normas que rigen este servicio y aquellas propias de las Instituciones de Educación Superior, en el marco del ejercicio de la función de inspección y vigilancia. Experiencia: Servicios financieros. Servicios de contabilidad y auditorias. Servicios contables.
B36: ¿Allega certificación? | D36: NO APLICA | E36: NO APLICA | F36: NO APLICA
B37: Certificación | D37: Certificación que contenga: ➢ Nombre de la empresa Contratante ➢ Nombre del Contratista ➢ Si se trata de una estructura plural se debe señalar el nombre de quienes la conforman. Adicionalmente, se debe indicar el porcentaje de participación de cada uno de sus miembros ➢ Número del contrato (si aplica o en caso de que no aplique dicho número, será suficiente señalar dicha situación). ➢ Objeto del contrato ➢ Fecha de inicio (día, mes y año) y fecha de terminación (día, mes y año) ➢ Fecha de expedición de la certificación (día, mes y año) ➢ Valor del contrato y de las adiciones, si las hubo ➢ Cargo y firma de quien expide la certificación ➢ Indicación de las actividades realizadas por el oferente o por cada uno de los miembros de la unión temporal o el consorcio que se presente como oferente y su correspondiente valor._x000D_ Igualmente, en caso de que la certificación no contenga toda la información deberá anexar copia del contrato o de los documentos soportes que sean del caso, que permita tomar claramente la información que falte en la certificación | G37: CUMPLE
B38: Observación | D38: Contratos celebrados con el MEN, los cuales fueron verificados por la Entidad.
C40: C) | D40: Relación de equipo minimo de trabajo | E40: NO CUMPLE
B42: FORMATO No. 07 | D42: Revisar carta de compromiso del equipo minimo.
D43: PREGRADO | E43: POSGRADO | F43: EXPERIENCIA PROFESIONAL | G43: EXPERIENCIA RELACIONADA
B44: Coordinador | D44: CUMPLE | E44: CUMPLE | F44: CUMPLE | G44: CUMPLE
B45: Profesional financiero especializado | D45: CUMPLE | E45: CUMPLE | F45: CUMPLE | G45: CUMPLE
B46: Profesional contador especializado | D46: CUMPLE | E46: NO CUMPLE | F46: CUMPLE | G46: CUMPLE
B47: Observación | E47: Contador especializado: especialización en aseguramiento y control interno.
D49: Firma representante legal | E49: CUMPLE
C52: D) | D52: Tarjeta de registro y certificado de inscripción y vigencia de antecedentes disciplinarios | E52: CUMPLE
B54: Tarjeta de registro | D54: CUMPLE
B55: Certificado de inscripción y vigencia de antecedentes disciplinarios (no mayor a 3 meses) | D55: CUMPLE
B56: Observación
...

Sheet EVALUACIÓN DE LA OFERTA
E2: EVALUACIÓN DE LA OFERTA (CALIDAD) SELECCIÓN ABREVIADA DE MENOR CUANTIA SA-MEN-04-2020 | K2: OFERTA RECHAZADA | M2: HABILITA | O2: NO
C3: Dependencia evaluadora: Subdirección de Inspección y Vigilancia | M3: NO CUMPLE
E4: CRITERIOS DE CALIFICACIÓN DE LA OFERTA | M4: CUMPLE
B5: No. | C5: Proponente | D5: Oferta habilitada (evaluación jurídica, financiera y técnica? | E5: ¿Propuesta Económica? | F5: A) Precio (Propuesta Económica) | G5: B) Calidad | H5: C) Apoyo a la Industria Nacional | I5: PUNTAJE TOTAL | J5: Observaciones
B6: 1 | C6: Gerencia Publica y Privada Ltda | D6: ='EVALUACIÓN TÉCNICA'!H8 -> NO HABILITA | E6: =+'EO1'!F8 -> OFERTA ACEPTADA | F6: =+'EO1'!E8 -> 150.20955 | G6: =+'EO1'!E21 -> 30 | H6: =+'EO1'!E39 -> 10 | I6: =+F6+G6+H6 -> 190.20955 | J6: Análisis de precio superficialmente bajo | L6: ='EO1'!D11 -> 2975000
B7: 2 | C7: Fama Consultores SAS | D7: ='EVALUACIÓN TÉCNICA'!H9 -> NO HABILITA | E7: ='EO2'!F8 -> OFERTA ACEPTADA | F7: ='EO2'!E8 -> 59.993749 | G7: ='EO2'!E21 -> 15 | H7: ='EO2'!E39 -> 10 | I7: =+F7+G7+H7 -> 84.993749 | J7: Profesional contador especializado: No allegaron certificaciones que acrediten la experiencia | L7: ='EO2'!D11 -> 7448666
B8: 3 | C8: Desarrollo Empresarial Co SAS | D8: ='EVALUACIÓN TÉCNICA'!H10 -> NO HABILITA | E8: ='EO3'!F8 -> OFERTA ACEPTADA | F8: ='EO3'!E8 -> 72.076355 | G8: ='EO3'!E21 -> 15 | H8: ='EO3'!E39 -> 10 | I8: =+F8+G8+H8 -> 97.076355 | J8: Se allegan 2 certificaciones de contrato, a partir de las cuales no es posible determinar el tiempo laborado, así mismo la hoja de vida no permite identificar esta temporalidad | L8: ='EO3'!D11 -> 6200000
