Workbook

Sheet CONSOLIDADO
C12: CONSOLIDADO REGIONES
D15: valor kilo general | E15: kilos a recoger | F15: sub Total | G15: Imprevistos 10% | H15: Total | I15: Redondeo
C16: Regio 1 | D16: ='Analisis Region 1'!E31 -> 4500 | E16: ='Analisis Region 1'!E35 -> 3406.21 | F16: =+D16*E16 -> 15327945 | G16: =+(F16*10%) -> 1532794.5 | H16: =+G16+F16 -> 16860740 | I16: =MROUND(H16,100) -> 16860700
C17: Regio 2 | D17: ='Analisis region 2'!E31 -> 5700 | E17: ='Analisis region 2'!E35 -> 3241.56 | F17: =+D17*E17 -> 18476892 | G17: =+(F17*10%) -> 1847689.2 | H17: =+G17+F17 -> 20324581 | I17: =MROUND(H17,100) -> 20324600
C18: Regio 3 | D18: ='Analisis Region 3'!E31 -> 4300 | E18: ='Analisis Region 3'!E35 -> 6821.15 | F18: =+D18*E18 -> 29330945 | G18: =+(F18*10%) -> 2933094.5 | H18: =+G18+F18 -> 32264040 | I18: =MROUND(H18,100) -> 32264000
C19: Regio 4 | D19: ='Analisis Region 4'!E31 -> 4300 | E19: ='Analisis Region 4'!E35 -> 432 | F19: =+D19*E19 -> 1857600 | G19: =+(F19*10%) -> 185760 | H19: =+G19+F19 -> 2043360 | I19: =MROUND(H19,100) -> 2043400
C20: total | I20: =SUM(I16:I19) -> 71492700

Sheet Analisis Region 1
B7: ESTUDIO DE MERCADO 2025
B8: Item | C8: Tipo | D8: Descripción | E8: Referencia cotizada | F8: Tipos Cotizados | G8: Unidad (Kg) | H8: Valor / Kg 1 Region Caribe | K8: Procedimiento de promedio podado
H9: cotizacion DESCONT SAS ESP | I9: cotizacion ecoambientes | J9: ip 51 2024 | K9: Promedio | L9: Desviacion | M9: Minimo | N9: Maximo | O9: Promedio Podado | P9: valor techo por tipo | Q9: Redondeo
B10: 1 | C10: Tóner, tinta de impresión | D10: Cartuchos, tóner, tintas, cintas de impresión, marcadores, minas, esferos | E10: Y12 - A4070 | F10: Toner | G10: 1 | H10: 3500 | I10: 2800 | J10: =(6753*9.5%)+6753 -> 7394.535 | K10: =AVERAGE(H10:J10) -> 4564.845 | L10: =STDEVA(H10:J10) -> 2475.4513 | M10: =+K10-L10 -> 2089.3937 | N10: =+K10+L10 -> 7040.2963 | O10: =ROUND(AVERAGEIFS(H10:J10,H10:J10, ">= "&M10,H10:J10, "<= "&N10),0) -> 3150 | P10: =AVERAGE(O10:O11) -> 3150 | Q10: =MROUND(P10,10) -> 3150
E11: A4070 | F11: Cinta maquina de escribir | G11: 1 | H11: 3500 | I11: 2800 | J11: =(6753*9.5%)+6753 -> 7394.535 | K11: =AVERAGE(H11:J11) -> 4564.845 | L11: =STDEVA(H11:J11) -> 2475.4513 | M11: =+K11-L11 -> 2089.3937 | N11: =+K11+L11 -> 7040.2963 | O11: =ROUND(AVERAGEIFS(H11:J11,H11:J11, ">= "&M11,H11:J11, "<= "&N11),0) -> 3150
B12: 2 | C12: Materiales contaminados sólidos | D12: Materiales contaminados sólidos | E12: A4070 | F12: Cinta VHS | G12: 1 | H12: 3500 | I12: 8000 | J12: =(6753*9.5%)+6753 -> 7394.535 | K12: =AVERAGE(H12:J12) -> 6298.1783 | L12: =STDEVA(H12:J12) -> 2442.1299 | M12: =+K12-L12 -> 3856.0484 | N12: =+K12+L12 -> 8740.3082 | O12: =ROUND(AVERAGEIFS(H12:J12,H12:J12, ">= "&M12,H12:J12, "<= "&N12),0) -> 7697 | P12: =AVERAGE(O12:O15) -> 3861.75 | Q12: =MROUND(P12,10) -> 3860
E13: xxxx | F13: Papel fax | G13: 1 | H13: 3500 | I13: 1000 | J13: =(6753*9.5%)+6753 -> 7394.535 | K13: =AVERAGE(H13:J13) -> 3964.845 | L13: =STDEVA(H13:J13) -> 3222.5115 | M13: =+K13-L13 -> 742.33354 | N13: =+K13+L13 -> 7187.3565 | O13: =ROUND(AVERAGEIFS(H13:J13,H13:J13, ">= "&M13,H13:J13, "<= "&N13),0) -> 2250
E14: A4130 | F14: Cassettes | G14: 1 | H14: 3500 | I14: 1000 | J14: =(6753*9.5%)+6753 -> 7394.535 | K14: =AVERAGE(H14:J14) -> 3964.845 | L14: =STDEVA(H14:J14) -> 3222.5115 | M14: =+K14-L14 -> 742.33354 | N14: =+K14+L14 -> 7187.3565 | O14: =ROUND(AVERAGEIFS(H14:J14,H14:J14, ">= "&M14,H14:J14, "<= "&N14),0) -> 2250
E15: Y6 | F15: Material contaminado | G15: 1 | H15: 3500 | I15: 3000 | J15: =(6753*9.5%)+6753 -> 7394.535 | K15: =AVERAGE(H15:J15) -> 4631.5117 | L15: =STDEVA(H15:J15) -> 2405.8727 | M15: =+K15-L15 -> 2225.639 | N15: =+K15+L15 -> 7037.3844 | O15: =ROUND(AVERAGEIFS(H15:J15,H15:J15, ">= "&M15,H15:J15, "<= "&N15),0) -> 3250
B16: 3 | C16: Refrigerantes | D16: Cilindros, pipetas de gas comprimido | E16: Y6 | F16: Envases o contenedores contaminados | G16: 1 | H16: 3500 | I16: 2850 | J16: =(6753*9.5%)+6753 -> 7394.535 | K16: =AVERAGE(H16:J16) -> 4581.5117 | L16: =STDEVA(H16:J16) -> 2457.7327 | M16: =+K16-L16 -> 2123.7789 | N16: =+K16+L16 -> 7039.2444 | O16: =ROUND(AVERAGEIFS(H16:J16,H16:J16, ">= "&M16,H16:J16, "<= "&N16),0) -> 3175 | P16: =AVERAGE(O16:O18) -> 3558.3333 | Q16: =MROUND(P16,10) -> 3560
E17: Y6 | F17: Envases de aerosoles | G17: 1 | H17: 3500 | I17: 3000 | J17: =(6753*9.5%)+6753 -> 7394.535 | K17: =AVERAGE(H17:J17) -> 4631.5117 | L17: =STDEVA(H17:J17) -> 2405.8727 | M17: =+K17-L17 -> 2225.639 | N17: =+K17+L17 -> 7037.3844 | O17: =ROUND(AVERAGEIFS(H17:J17,H17:J17, ">= "&M17,H17:J17, "<= "&N17),0) -> 3250
E18: Y6 | F18: Pipetas de gas comprimido | G18: 1 | H18: 3500 | I18: 5000 | J18: =(6753*9.5%)+6753 -> 7394.535 | K18: =AVERAGE(H18:J18) -> 5298.1783 | L18: =STDEVA(H18:J18) -> 1964.315 | M18: =+K18-L18 -> 3333.8633 | N18: =+K18+L18 -> 7262.4933 | O18: =ROUND(AVERAGEIFS(H18:J18,H18:J18, ">= "&M18,H18:J18, "<= "&N18),0) -> 4250
B19: 4 | C19: Solventes, pinturas, contaminados líquidos | D19: Solventes, pinturas, contaminados líquidos | E19: Y12 | F19: Pinturas, tintas y disolventes | G19: 1 | H19: 3500 | I19: 2700 | J19: =(6753*9.5%)+6753 -> 7394.535 | K19: =AVERAGE(H19:J19) -> 4531.5117 | L19: =STDEVA(H19:J19) -> 2511.5089 | M19: =+K19-L19 -> 2020.0028 | N19: =+K19+L19 -> 7043.0206 | O19: =ROUND(AVERAGEIFS(H19:J19,H19:J19, ">= "&M19,H19:J19, "<= "&N19),0) -> 3100 | P19: =AVERAGE(O19:O21) -> 4032.3333 | Q19: =MROUND(P19,10) -> 4030
E20: A4130 | F20: Productos químicos vencidos | G20: 1 | H20: 3500 | I20: 6300 | J20: =(6753*9.5%)+6753 -> 7394.535 | K20: =AVERAGE(H20:J20) -> 5731.5117 | L20: =STDEVA(H20:J20) -> 2008.5405 | M20: =+K20-L20 -> 3722.9712 | N20: =+K20+L20 -> 7740.0522 | O20: =ROUND(AVERAGEIFS(H20:J20,H20:J20, ">= "&M20,H20:J20, "<= "&N20),0) -> 6847
E21: A4130 | F21: Gel Antibacterial | G21: 1 | H21: 3500 | I21: 800 | J21: =(6753*9.5%)+6753 -> 7394.535 | K21: =AVERAGE(H21:J21) -> 3898.1783 | L21: =STDEVA(H21:J21) -> 3315.25 | M21: =+K21-L21 -> 582.92835 | N21: =+K21+L21 -> 7213.4283 | O21: =ROUND(AVERAGEIFS(H21:J21,H21:J21, ">= "&M21,H21:J21, "<= "&N21),0) -> 2150
B22: 5 | C22: Baterías, pilas, | D22: Pilas y Baterías, , fotoceldas de Cadmio, Níquel/Cadmio, Níquel/hidruro metálico, litio, domésticas, de botón, ZN, Li, Mn, Mg, Carbón | E22: Y23 | F22: Pilas | G22: 1 | H22: 3500 | I22: 3800 | J22: =(6753*9.5%)+6753 -> 7394.535 | K22: =AVERAGE(H22:J22) -> 4898.1783 | L22: =STDEVA(H22:J22) -> 2167.1058 | M22: =+K22-L22 -> 2731.0726 | N22: =+K22+L22 -> 7065.2841 | O22: =ROUND(AVERAGEIFS(H22:J22,H22:J22, ">= "&M22,H22:J22, "<= "&N22),0) -> 3650 | P22: =AVERAGE(O22:O23) -> 3175 | Q22: =MROUND(P22,10) -> 3180
E23: Y26 | F23: Baterías | G23: 1 | H23: 3500 | I23: 1900 | J23: =(6753*9.5%)+6753 -> 7394.535 | K23: =AVERAGE(H23:J23) -> 4264.845 | L23: =STDEVA(H23:J23) -> 2825.99 | M23: =+K23-L23 -> 1438.855 | N23: =+K23+L23 -> 7090.835 | O23: =ROUND(AVERAGEIFS(H23:J23,H23:J23, ">= "&M23,H23:J23, "<= "&N23),0) -> 2700
B24: 6 | C24: Luminarias | D24: Luminarias | E24: Y29 | F24: Luminarias | G24: 1 | H24: 3500 | I24: 3800 | J24: =(6753*9.5%)+6753 -> 7394.535 | K24: =AVERAGE(H24:J24) -> 4898.1783 | L24: =STDEVA(H24:J24) -> 2167.1058 | M24: =+K24-L24 -> 2731.0726 | N24: =+K24+L24 -> 7065.2841 | O24: =ROUND(AVERAGEIFS(H24:J24,H24:J24, ">= "&M24,H24:J24, "<= "&N24),0) -> 3650 | P24: =O24 -> 3650 | Q24: =MROUND(P24,10) -> 3650
B25: 7 | C25: Plomo | D25: Plomo | E25: Y31 | F25: Plomo, compuestos de plomo | G25: 1 | H25: 3500 | I25: 7500 | J25: =(6753*9.5%)+6753 -> 7394.535 | K25: =AVERAGE(H25:J25) -> 6131.5117 | L25: =STDEVA(H25:J25) -> 2279.566 | M25: =+K25-L25 -> 3851.9457 | N25: =+K25+L25 -> 8411.0776 | O25: =ROUND(AVERAGEIFS(H25:J25,H25:J25, ">= "&M25,H25:J25, "<= "&N25),0) -> 7447 | P25: =O25 -> 7447 | Q25: =MROUND(P25,10) -> 7450
B26: 8 | C26: Aceite Usado | D26: Aceite Usado | E26: A3020 | F26: Aceites minerales de desecho no aptos para el uso al que estaban destinados. | G26: 1 | H26: 3500 | I26: 2500 | J26: =(6753*9.5%)+6753 -> 7394.535 | K26: =AVERAGE(H26:J26) -> 4464.845 | L26: =STDEVA(H26:J26) -> 2585.9839 | M26: =+K26-L26 -> 1878.8611 | N26: =+K26+L26 -> 7050.8289 | O26: =ROUND(AVERAGEIFS(H26:J26,H26:J26, ">= "&M26,H26:J26, "<= "&N26),0) -> 3000 | P26: =O26 -> 3000 | Q26: =MROUND(P26,10) -> 3000
B27: 9 | C27: Medicamentos vencidos | D27: Medicamentos vencidos | E27: A4130 | F27: Medicamentos vencidos | G27: 1 | H27: 3500 | I27: 8345 | J27: =(6753*9.5%)+6753 -> 7394.535 | K27: =AVERAGE(H27:J27) -> 6413.1783 | L27: =STDEVA(H27:J27) -> 2567.2557 | M27: =+K27-L27 -> 3845.9226 | N27: =+K27+L27 -> 8980.4341 | O27: =ROUND(AVERAGEIFS(H27:J27,H27:J27, ">= "&M27,H27:J27, "<= "&N27),0) -> 7870 | P27: =O27 -> 7870 | Q27: =MROUND(P27,10) -> 7870
B28: 10 | C28: Archivo contaminado | D28: Procesos, expedientes y demás documentos contaminados con hongos u otro tipo de microorganismos | E28: xxxx | F28: Documentos contaminados | G28: 1 | H28: 3500 | I28: 3592 | J28: =(6753*9.5%)+6753 -> 7394.535 | K28: =AVERAGE(H28:J28) -> 4828.845 | L28: =STDEVA(H28:J28) -> 2222.4288 | M28: =+K28-L28 -> 2606.4162 | N28: =+K28+L28 -> 7051.2738 | O28: =ROUND(AVERAGEIFS(H28:J28,H28:J28, ">= "&M28,H28:J28, "<= "&N28),0) -> 3546 | P28: =O28 -> 3546 | Q28: =MROUND(P28,10) -> 3550
B29: 11 | C29: Neumáticos | D29: Neumáticos | E29: xxxx | F29: Neumaticos | G29: 1 | J29: =(8883*9.5%)+8883 -> 9726.885 | K29: =AVERAGE(H29:J29) -> 9726.885 | L29: 0 | M29: =+K29-L29 -> 9726.885 | N29: =+K29+L29 -> 9726.885 | O29: =ROUND(AVERAGEIFS(H29:J29,H29:J29, ">= "&M29,H29:J29, "<= "&N29),0) -> 9727 | P29: =O29 -> 9727 | Q29: =MROUND(P29,10) -> 9730
B30: 12 | C30: Fibra de Vidrio | D30: Fibra de Vidrio | E30: xxxx | F30: Fibra de Vidrio | G30: 1 | J30: =(6753*9.5%)+6753 -> 7394.535 | K30: =AVERAGE(H30:J30) -> 7394.535 | L30: 0 | M30: =+K30-L30 -> 7394.535 | N30: =+K30+L30 -> 7394.535 | O30: =ROUND(AVERAGEIFS(H30:J30,H30:J30, ">= "&M30,H30:J30, "<= "&N30),0) -> 7395 | P30: =O30 -> 7395 | Q30: =MROUND(P30,10) -> 7400
B31: valor promedio kilo | E31: =MROUND((AVERAGE(O10:O30)),100) -> 4500
B32: RESERVA DE KILOS A DISPONER | E32: ='R. Caribe'!L17 -> 2006.21
B33: PROYECCION DE KILOS A RECOLECTAR EN LA VIGENCIA 2025 POR SEDE | E33: 200
B34: CANTIDAD DE CIUDADES EN LA REGION | E34: ='sedes de recoleccion'!B5 -> 7
B35: TOTAL KILOS A DISPONER EN LA VIGENCIA 2025 | E35: =(E34*E33)+E32 -> 3406.21
B36: TOTAL PRESUPUESTO DE REGION | E36: =+E35*E31 -> 15327945

Sheet Analisis region 2
B7: ESTUDIO DE MERCADO 2025
B8: Item | C8: Tipo | D8: Descripción | E8: Referencia cotizada | F8: Tipos Cotizados | G8: Unidad (Kg) | H8: Valor / Kg 1 Region Caribe | K8: Procedimiento de promedio podado
H9: cotizacion DESCONT SAS ESP | I9: cotizacion ecoambientes | J9: ip 51 2024 | K9: Promedio | L9: Desviacion | M9: Minimo | N9: Maximo | O9: Promedio Podado | P9: valor techo por tipo | Q9: Redondeo
B10: 1 | C10: Tóner, tinta de impresión | D10: Cartuchos, tóner, tintas, cintas de impresión, marcadores, minas, esferos | E10: Y12 - A4070 | F10: Toner | G10: 1 | I10: 2800 | J10: =(6586*9.5%)+6586 -> 7211.67 | K10: =AVERAGE(H10:J10) -> 5005.835 | L10: =STDEVA(H10:J10) -> 3119.5218 | M10: =+K10-L10 -> 1886.3132 | N10: =+K10+L10 -> 8125.3568 | O10: =ROUND(AVERAGEIFS(H10:J10,H10:J10, ">= "&M10,H10:J10, "<= "&N10),0) -> 5006 | P10: =AVERAGE(O10:O11) -> 5051.5 | Q10: =MROUND(P10,10) -> 5050
E11: A4070 | F11: Cinta maquina de escribir | G11: 1 | I11: 2800 | J11: =(6753*9.5%)+6753 -> 7394.535 | K11: =AVERAGE(H11:J11) -> 5097.2675 | L11: =STDEVA(H11:J11) -> 3248.8269 | M11: =+K11-L11 -> 1848.4406 | N11: =+K11+L11 -> 8346.0944 | O11: =ROUND(AVERAGEIFS(H11:J11,H11:J11, ">= "&M11,H11:J11, "<= "&N11),0) -> 5097
B12: 2 | C12: Materiales contaminados sólidos | D12: Materiales contaminados sólidos | E12: A4070 | F12: Cinta VHS | G12: 1 | I12: 8000 | J12: =(6586*9.5%)+6586 -> 7211.67 | K12: =AVERAGE(H12:J12) -> 7605.835 | L12: =STDEVA(H12:J12) -> 557.43349 | M12: =+K12-L12 -> 7048.4015 | N12: =+K12+L12 -> 8163.2685 | O12: =ROUND(AVERAGEIFS(H12:J12,H12:J12, ">= "&M12,H12:J12, "<= "&N12),0) -> 7606 | P12: =ROUND(AVERAGE(O12:O15),100) -> 5231 | Q12: =MROUND(P12,10) -> 5230
E13: xxxx | F13: Papel fax | G13: 1 | I13: 1000 | J13: =(6586*9.5%)+6586 -> 7211.67 | K13: =AVERAGE(H13:J13) -> 4105.835 | L13: =STDEVA(H13:J13) -> 4392.314 | M13: =+K13-L13 -> -286.47898 | N13: =+K13+L13 -> 8498.149 | O13: =ROUND(AVERAGEIFS(H13:J13,H13:J13, ">= "&M13,H13:J13, "<= "&N13),0) -> 4106
E14: A4130 | F14: Cassettes | G14: 1 | I14: 1000 | J14: =(6586*9.5%)+6586 -> 7211.67 | K14: =AVERAGE(H14:J14) -> 4105.835 | L14: =STDEVA(H14:J14) -> 4392.314 | M14: =+K14-L14 -> -286.47898 | N14: =+K14+L14 -> 8498.149 | O14: =ROUND(AVERAGEIFS(H14:J14,H14:J14, ">= "&M14,H14:J14, "<= "&N14),0) -> 4106
E15: Y6 | F15: Material contaminado | G15: 1 | I15: 3000 | J15: =(6586*9.5%)+6586 -> 7211.67 | K15: =AVERAGE(H15:J15) -> 5105.835 | L15: =STDEVA(H15:J15) -> 2978.1004 | M15: =+K15-L15 -> 2127.7346 | N15: =+K15+L15 -> 8083.9354 | O15: =ROUND(AVERAGEIFS(H15:J15,H15:J15, ">= "&M15,H15:J15, "<= "&N15),0) -> 5106
B16: 3 | C16: Refrigerantes | D16: Cilindros, pipetas de gas comprimido | E16: Y6 | F16: Envases o contenedores contaminados | G16: 1 | I16: 2850 | J16: =(6586*9.5%)+6586 -> 7211.67 | K16: =AVERAGE(H16:J16) -> 5030.835 | L16: =STDEVA(H16:J16) -> 3084.1664 | M16: =+K16-L16 -> 1946.6686 | N16: =+K16+L16 -> 8115.0014 | O16: =ROUND(AVERAGEIFS(H16:J16,H16:J16, ">= "&M16,H16:J16, "<= "&N16),0) -> 5031 | P16: =AVERAGE(O16:O18) -> 5414.3333 | Q16: =MROUND(P16,10) -> 5410
E17: Y6 | F17: Envases de aerosoles | G17: 1 | I17: 3000 | J17: =(6586*9.5%)+6586 -> 7211.67 | K17: =AVERAGE(H17:J17) -> 5105.835 | L17: =STDEVA(H17:J17) -> 2978.1004 | M17: =+K17-L17 -> 2127.7346 | N17: =+K17+L17 -> 8083.9354 | O17: =ROUND(AVERAGEIFS(H17:J17,H17:J17, ">= "&M17,H17:J17, "<= "&N17),0) -> 5106
E18: Y6 | F18: Pipetas de gas comprimido | G18: 1 | I18: 5000 | J18: =(6586*9.5%)+6586 -> 7211.67 | K18: =AVERAGE(H18:J18) -> 6105.835 | L18: =STDEVA(H18:J18) -> 1563.8869 | M18: =+K18-L18 -> 4541.9481 | N18: =+K18+L18 -> 7669.7219 | O18: =ROUND(AVERAGEIFS(H18:J18,H18:J18, ">= "&M18,H18:J18, "<= "&N18),0) -> 6106
B19: 4 | C19: Solventes, pinturas, contaminados líquidos | D19: Solventes, pinturas, contaminados líquidos | E19: Y12 | F19: Pinturas, tintas y disolventes | G19: 1 | I19: 2700 | J19: =(6586*9.5%)+6586 -> 7211.67 | K19: =AVERAGE(H19:J19) -> 4955.835 | L19: =STDEVA(H19:J19) -> 3190.2325 | M19: =+K19-L19 -> 1765.6025 | N19: =+K19+L19 -> 8146.0675 | O19: =ROUND(AVERAGEIFS(H19:J19,H19:J19, ">= "&M19,H19:J19, "<= "&N19),0) -> 4956 | P19: =AVERAGE(O19:O21) -> 5239.3333 | Q19: =MROUND(P19,10) -> 5240
E20: A4130 | F20: Productos químicos vencidos | G20: 1 | I20: 6300 | J20: =(6586*9.5%)+6586 -> 7211.67 | K20: =AVERAGE(H20:J20) -> 6755.835 | L20: =STDEVA(H20:J20) -> 644.64804 | M20: =+K20-L20 -> 6111.187 | N20: =+K20+L20 -> 7400.483 | O20: =ROUND(AVERAGEIFS(H20:J20,H20:J20, ">= "&M20,H20:J20, "<= "&N20),0) -> 6756
E21: A4130 | F21: Gel Antibacterial | G21: 1 | I21: 800 | J21: =(6586*9.5%)+6586 -> 7211.67 | K21: =AVERAGE(H21:J21) -> 4005.835 | L21: =STDEVA(H21:J21) -> 4533.7353 | M21: =+K21-L21 -> -527.90034 | N21: =+K21+L21 -> 8539.5703 | O21: =ROUND(AVERAGEIFS(H21:J21,H21:J21, ">= "&M21,H21:J21, "<= "&N21),0) -> 4006
B22: 5 | C22: Baterías, pilas, | D22: Pilas y Baterías, , fotoceldas de Cadmio, Níquel/Cadmio, Níquel/hidruro metálico, litio, domésticas, de botón, ZN, Li, Mn, Mg, Carbón | E22: Y23 | F22: Pilas | G22: 1 | I22: 3800 | J22: =(6586*9.5%)+6586 -> 7211.67 | K22: =AVERAGE(H22:J22) -> 5505.835 | L22: =STDEVA(H22:J22) -> 2412.415 | M22: =+K22-L22 -> 3093.42 | N22: =+K22+L22 -> 7918.25 | O22: =ROUND(AVERAGEIFS(H22:J22,H22:J22, ">= "&M22,H22:J22, "<= "&N22),0) -> 5506 | P22: =AVERAGE(O22:O23) -> 5031 | Q22: =MROUND(P22,10) -> 5030
E23: Y26 | F23: Baterías | G23: 1 | I23: 1900 | J23: =(6586*9.5%)+6586 -> 7211.67 | K23: =AVERAGE(H23:J23) -> 4555.835 | L23: =STDEVA(H23:J23) -> 3755.9179 | M23: =+K23-L23 -> 799.91712 | N23: =+K23+L23 -> 8311.7529 | O23: =ROUND(AVERAGEIFS(H23:J23,H23:J23, ">= "&M23,H23:J23, "<= "&N23),0) -> 4556
B24: 6 | C24: Luminarias | D24: Luminarias | E24: Y29 | F24: Luminarias | G24: 1 | I24: 3800 | J24: =(6586*9.5%)+6586 -> 7211.67 | K24: =AVERAGE(H24:J24) -> 5505.835 | L24: =STDEVA(H24:J24) -> 2412.415 | M24: =+K24-L24 -> 3093.42 | N24: =+K24+L24 -> 7918.25 | O24: =ROUND(AVERAGEIFS(H24:J24,H24:J24, ">= "&M24,H24:J24, "<= "&N24),0) -> 5506 | P24: =O24 -> 5506 | Q24: =MROUND(P24,10) -> 5510
B25: 7 | C25: Plomo | D25: Plomo | E25: Y31 | F25: Plomo, compuestos de plomo | G25: 1 | I25: 7500 | J25: =(6586*9.5%)+6586 -> 7211.67 | K25: =AVERAGE(H25:J25) -> 7355.835 | L25: =STDEVA(H25:J25) -> 203.8801 | M25: =+K25-L25 -> 7151.9549 | N25: =+K25+L25 -> 7559.7151 | O25: =ROUND(AVERAGEIFS(H25:J25,H25:J25, ">= "&M25,H25:J25, "<= "&N25),0) -> 7356 | P25: =O25 -> 7356 | Q25: =MROUND(P25,10) -> 7360
B26: 8 | C26: Aceite Usado | D26: Aceite Usado | E26: A3020 | F26: Aceites minerales de desecho no aptos para el uso al que estaban destinados. | G26: 1 | I26: 2500 | J26: =(6586*9.5%)+6586 -> 7211.67 | K26: =AVERAGE(H26:J26) -> 4855.835 | L26: =STDEVA(H26:J26) -> 3331.6538 | M26: =+K26-L26 -> 1524.1812 | N26: =+K26+L26 -> 8187.4888 | O26: =ROUND(AVERAGEIFS(H26:J26,H26:J26, ">= "&M26,H26:J26, "<= "&N26),0) -> 4856 | P26: =O26 -> 4856 | Q26: =MROUND(P26,10) -> 4860
B27: 9 | C27: Medicamentos vencidos | D27: Medicamentos vencidos | E27: A4130 | F27: Medicamentos vencidos | G27: 1 | I27: 8345 | J27: =(6586*9.5%)+6586 -> 7211.67 | K27: =AVERAGE(H27:J27) -> 7778.335 | L27: =STDEVA(H27:J27) -> 801.38533 | M27: =+K27-L27 -> 6976.9497 | N27: =+K27+L27 -> 8579.7203 | O27: =ROUND(AVERAGEIFS(H27:J27,H27:J27, ">= "&M27,H27:J27, "<= "&N27),0) -> 7778 | P27: =O27 -> 7778 | Q27: =MROUND(P27,10) -> 7780
B28: 10 | C28: Archivo contaminado | D28: Procesos, expedientes y demás documentos contaminados con hongos u otro tipo de microorganismos | E28: xxxx | F28: Documentos contaminados | G28: 1 | I28: 3592 | J28: =(6586*9.5%)+6586 -> 7211.67 | K28: =AVERAGE(H28:J28) -> 5401.835 | L28: =STDEVA(H28:J28) -> 2559.4932 | M28: =+K28-L28 -> 2842.3418 | N28: =+K28+L28 -> 7961.3282 | O28: =ROUND(AVERAGEIFS(H28:J28,H28:J28, ">= "&M28,H28:J28, "<= "&N28),0) -> 5402 | P28: =O28 -> 5402 | Q28: =MROUND(P28,10) -> 5400
B29: 11 | C29: Neumáticos | D29: Neumáticos | E29: xxxx | F29: Neumaticos | G29: 1 | J29: =(8500*9.5%)+8500 -> 9307.5 | K29: =AVERAGE(H29:J29) -> 9307.5 | L29: 0 | M29: =+K29-L29 -> 9307.5 | N29: =+K29+L29 -> 9307.5 | O29: =ROUND(AVERAGEIFS(H29:J29,H29:J29, ">= "&M29,H29:J29, "<= "&N29),0) -> 9308 | P29: =O29 -> 9308 | Q29: =MROUND(P29,10) -> 9310
B30: 12 | C30: Fibra de Vidrio | D30: Fibra de Vidrio | E30: xxxx | F30: Fibra de Vidrio | G30: 1 | J30: =(6580*9.5%)+6580 -> 7205.1 | K30: =AVERAGE(H30:J30) -> 7205.1 | L30: 0 | M30: =+K30-L30 -> 7205.1 | N30: =+K30+L30 -> 7205.1 | O30: =ROUND(AVERAGEIFS(H30:J30,H30:J30, ">= "&M30,H30:J30, "<= "&N30),0) -> 7205 | P30: =O30 -> 7205 | Q30: =MROUND(P30,10) -> 7210
B31: valor promedio kilo | E31: =MROUND((AVERAGE(O10:O30)),100) -> 5700
D32: RESERVA DE KILOS A DISPONER | E32: ='R. Pacífico'!J17 -> 1841.56
D33: PROYECCION DE KILOS A RECOLECTAR EN LA VIGENCIA 2025 POR SEDE | E33: 200
D34: CANTIDAD DE CIUDADES EN LA REGION | E34: ='sedes de recoleccion'!B13 -> 7
D35: TOTAL KILOS A DISPONER EN LA VIGENCIA 2025 | E35: =(E34*E33)+E32 -> 3241.56
D36: TOTAL PRESUPUESTO DE REGION | E36: =+E35*E31 -> 18476892

Sheet Analisis Region 3
B7: ESTUDIO DE MERCADO 2025
B8: Item | C8: Tipo | D8: Descripción | E8: Referencia cotizada | F8: Tipos Cotizados | G8: Unidad (Kg) | H8: Valor / Kg 1 Region Caribe | K8: Procedimiento de promedio podado
H9: cotizacion DESCONT SAS ESP | I9: cotizacion ecoambientes | J9: ip 51 2024 | K9: Promedio | L9: Desviacion | M9: Minimo | N9: Maximo | O9: Promedio Podado | P9: valor techo por tipo | Q9: Redondeo
B10: 1 | C10: Tóner, tinta de impresión | D10: Cartuchos, tóner, tintas, cintas de impresión, marcadores, minas, esferos | E10: Y12 - A4070 | F10: Toner | G10: 1 | H10: 3500 | I10: 2800 | J10: =(6336*9.5%)+6336 -> 6937.92 | K10: =AVERAGE(H10:J10) -> 4412.64 | L10: =STDEVA(H10:J10) -> 2214.7865 | M10: =+K10-L10 -> 2197.8535 | N10: =+K10+L10 -> 6627.4265 | O10: =ROUND(AVERAGEIFS(H10:J10,H10:J10, ">= "&M10,H10:J10, "<= "&N10),0) -> 3150 | P10: =AVERAGE(O10:O11) -> 3150 | Q10: =MROUND(P10,10) -> 3150
E11: A4070 | F11: Cinta maquina de escribir | G11: 1 | H11: 3500 | I11: 2800 | J11: =(6336*9.5%)+6336 -> 6937.92 | K11: =AVERAGE(H11:J11) -> 4412.64 | L11: =STDEVA(H11:J11) -> 2214.7865 | M11: =+K11-L11 -> 2197.8535 | N11: =+K11+L11 -> 6627.4265 | O11: =ROUND(AVERAGEIFS(H11:J11,H11:J11, ">= "&M11,H11:J11, "<= "&N11),0) -> 3150
B12: 2 | C12: Materiales contaminados sólidos | D12: Materiales contaminados sólidos | E12: A4070 | F12: Cinta VHS | G12: 1 | H12: 3500 | I12: 8000 | J12: =(6336*9.5%)+6336 -> 6937.92 | K12: =AVERAGE(H12:J12) -> 6145.9733 | L12: =STDEVA(H12:J12) -> 2352.2085 | M12: =+K12-L12 -> 3793.7649 | N12: =+K12+L12 -> 8498.1818 | O12: =ROUND(AVERAGEIFS(H12:J12,H12:J12, ">= "&M12,H12:J12, "<= "&N12),0) -> 7469 | P12: =AVERAGE(O12:O15) -> 3829.75 | Q12: =MROUND(P12,10) -> 3830
E13: xxxx | F13: Papel fax | G13: 1 | H13: 3500 | I13: 1000 | J13: =(6336*9.5%)+6336 -> 6937.92 | K13: =AVERAGE(H13:J13) -> 3812.64 | L13: =STDEVA(H13:J13) -> 2981.2801 | M13: =+K13-L13 -> 831.35985 | N13: =+K13+L13 -> 6793.9201 | O13: =ROUND(AVERAGEIFS(H13:J13,H13:J13, ">= "&M13,H13:J13, "<= "&N13),0) -> 2250
E14: A4130 | F14: Cassettes | G14: 1 | H14: 3500 | I14: 1000 | J14: =(6336*9.5%)+6336 -> 6937.92 | K14: =AVERAGE(H14:J14) -> 3812.64 | L14: =STDEVA(H14:J14) -> 2981.2801 | M14: =+K14-L14 -> 831.35985 | N14: =+K14+L14 -> 6793.9201 | O14: =ROUND(AVERAGEIFS(H14:J14,H14:J14, ">= "&M14,H14:J14, "<= "&N14),0) -> 2250
E15: Y6 | F15: Material contaminado | G15: 1 | H15: 3500 | I15: 3200 | J15: =(6336*9.5%)+6336 -> 6937.92 | K15: =AVERAGE(H15:J15) -> 4545.9733 | L15: =STDEVA(H15:J15) -> 2076.9104 | M15: =+K15-L15 -> 2469.063 | N15: =+K15+L15 -> 6622.8837 | O15: =ROUND(AVERAGEIFS(H15:J15,H15:J15, ">= "&M15,H15:J15, "<= "&N15),0) -> 3350
B16: 3 | C16: Refrigerantes | D16: Cilindros, pipetas de gas comprimido | E16: Y6 | F16: Envases o contenedores contaminados | G16: 1 | H16: 3500 | I16: 2850 | J16: =(6336*9.5%)+6336 -> 6937.92 | K16: =AVERAGE(H16:J16) -> 4429.3067 | L16: =STDEVA(H16:J16) -> 2196.6977 | M16: =+K16-L16 -> 2232.609 | N16: =+K16+L16 -> 6626.0043 | O16: =ROUND(AVERAGEIFS(H16:J16,H16:J16, ">= "&M16,H16:J16, "<= "&N16),0) -> 3175 | P16: =AVERAGE(O16:O18) -> 3558.3333 | Q16: =MROUND(P16,10) -> 3560
E17: Y6 | F17: Envases de aerosoles | G17: 1 | H17: 3500 | I17: 3000 | J17: =(6336*9.5%)+6336 -> 6937.92 | K17: =AVERAGE(H17:J17) -> 4479.3067 | L17: =STDEVA(H17:J17) -> 2143.8481 | M17: =+K17-L17 -> 2335.4586 | N17: =+K17+L17 -> 6623.1548 | O17: =ROUND(AVERAGEIFS(H17:J17,H17:J17, ">= "&M17,H17:J17, "<= "&N17),0) -> 3250
E18: Y6 | F18: Pipetas de gas comprimido | G18: 1 | H18: 3500 | I18: 5000 | J18: =(6336*9.5%)+6336 -> 6937.92 | K18: =AVERAGE(H18:J18) -> 5145.9733 | L18: =STDEVA(H18:J18) -> 1723.6022 | M18: =+K18-L18 -> 3422.3711 | N18: =+K18+L18 -> 6869.5756 | O18: =ROUND(AVERAGEIFS(H18:J18,H18:J18, ">= "&M18,H18:J18, "<= "&N18),0) -> 4250
B19: 4 | C19: Solventes, pinturas, contaminados líquidos | D19: Solventes, pinturas, contaminados líquidos | E19: Y12 | F19: Pinturas, tintas y disolventes | G19: 1 | H19: 3500 | I19: 2700 | J19: =(6336*9.5%)+6336 -> 6937.92 | K19: =AVERAGE(H19:J19) -> 4379.3067 | L19: =STDEVA(H19:J19) -> 2251.6387 | M19: =+K19-L19 -> 2127.668 | N19: =+K19+L19 -> 6630.9453 | O19: =ROUND(AVERAGEIFS(H19:J19,H19:J19, ">= "&M19,H19:J19, "<= "&N19),0) -> 3100 | P19: =AVERAGE(O19:O21) -> 3956.3333 | Q19: =MROUND(P19,10) -> 3960
E20: A4130 | F20: Productos químicos vencidos | G20: 1 | H20: 3500 | I20: 6300 | J20: =(6336*9.5%)+6336 -> 6937.92 | K20: =AVERAGE(H20:J20) -> 5579.3067 | L20: =STDEVA(H20:J20) -> 1828.7626 | M20: =+K20-L20 -> 3750.5441 | N20: =+K20+L20 -> 7408.0693 | O20: =ROUND(AVERAGEIFS(H20:J20,H20:J20, ">= "&M20,H20:J20, "<= "&N20),0) -> 6619
E21: A4130 | F21: Gel Antibacterial | G21: 1 | H21: 3500 | I21: 800 | J21: =(6336*9.5%)+6336 -> 6937.92 | K21: =AVERAGE(H21:J21) -> 3745.9733 | L21: =STDEVA(H21:J21) -> 3076.344 | M21: =+K21-L21 -> 669.6293 | N21: =+K21+L21 -> 6822.3174 | O21: =ROUND(AVERAGEIFS(H21:J21,H21:J21, ">= "&M21,H21:J21, "<= "&N21),0) -> 2150
B22: 5 | C22: Baterías, pilas, | D22: Pilas y Baterías, , fotoceldas de Cadmio, Níquel/Cadmio, Níquel/hidruro metálico, litio, domésticas, de botón, ZN, Li, Mn, Mg, Carbón | E22: Y23 | F22: Pilas | G22: 1 | H22: 3500 | I22: 3800 | J22: =(6336*9.5%)+6336 -> 6937.92 | K22: =AVERAGE(H22:J22) -> 4745.9733 | L22: =STDEVA(H22:J22) -> 1904.1987 | M22: =+K22-L22 -> 2841.7746 | N22: =+K22+L22 -> 6650.172 | O22: =ROUND(AVERAGEIFS(H22:J22,H22:J22, ">= "&M22,H22:J22, "<= "&N22),0) -> 3650 | P22: =AVERAGE(O22:O23) -> 3175 | Q22: =MROUND(P22,10) -> 3180
E23: Y26 | F23: Baterías | G23: 1 | H23: 3500 | I23: 1900 | J23: =(6336*9.5%)+6336 -> 6937.92 | K23: =AVERAGE(H23:J23) -> 4112.64 | L23: =STDEVA(H23:J23) -> 2574.2291 | M23: =+K23-L23 -> 1538.4109 | N23: =+K23+L23 -> 6686.8691 | O23: =ROUND(AVERAGEIFS(H23:J23,H23:J23, ">= "&M23,H23:J23, "<= "&N23),0) -> 2700
B24: 6 | C24: Luminarias | D24: Luminarias | E24: Y29 | F24: Luminarias | G24: 1 | H24: 3500 | I24: 3800 | J24: =(6336*9.5%)+6336 -> 6937.92 | K24: =AVERAGE(H24:J24) -> 4745.9733 | L24: =STDEVA(H24:J24) -> 1904.1987 | M24: =+K24-L24 -> 2841.7746 | N24: =+K24+L24 -> 6650.172 | O24: =ROUND(AVERAGEIFS(H24:J24,H24:J24, ">= "&M24,H24:J24, "<= "&N24),0) -> 3650 | P24: =O24 -> 3650 | Q24: =MROUND(P24,10) -> 3650
B25: 7 | C25: Plomo | D25: Plomo | E25: Y31 | F25: Plomo, compuestos de plomo | G25: 1 | H25: 3500 | I25: 7500 | J25: =(6336*9.5%)+6336 -> 6937.92 | K25: =AVERAGE(H25:J25) -> 5979.3067 | L25: =STDEVA(H25:J25) -> 2165.4571 | M25: =+K25-L25 -> 3813.8495 | N25: =+K25+L25 -> 8144.7638 | O25: =ROUND(AVERAGEIFS(H25:J25,H25:J25, ">= "&M25,H25:J25, "<= "&N25),0) -> 7219 | P25: =O25 -> 7219 | Q25: =MROUND(P25,10) -> 7220
B26: 8 | C26: Aceite Usado | D26: Aceite Usado | E26: A3020 | F26: Aceites minerales de desecho no aptos para el uso al que estaban destinados. | G26: 1 | H26: 3500 | I26: 2500 | J26: =(6336*9.5%)+6336 -> 6937.92 | K26: =AVERAGE(H26:J26) -> 4312.64 | L26: =STDEVA(H26:J26) -> 2327.8899 | M26: =+K26-L26 -> 1984.7501 | N26: =+K26+L26 -> 6640.5299 | O26: =ROUND(AVERAGEIFS(H26:J26,H26:J26, ">= "&M26,H26:J26, "<= "&N26),0) -> 3000 | P26: =O26 -> 3000 | Q26: =MROUND(P26,10) -> 3000
B27: 9 | C27: Medicamentos vencidos | D27: Medicamentos vencidos | E27: A4130 | F27: Medicamentos vencidos | G27: 1 | H27: 3500 | I27: 8345 | J27: =(6336*9.5%)+6336 -> 6937.92 | K27: =AVERAGE(H27:J27) -> 6260.9733 | L27: =STDEVA(H27:J27) -> 2492.4283 | M27: =+K27-L27 -> 3768.545 | N27: =+K27+L27 -> 8753.4016 | O27: =ROUND(AVERAGEIFS(H27:J27,H27:J27, ">= "&M27,H27:J27, "<= "&N27),0) -> 7641 | P27: =O27 -> 7641 | Q27: =MROUND(P27,10) -> 7640
B28: 10 | C28: Archivo contaminado | D28: Procesos, expedientes y demás documentos contaminados con hongos u otro tipo de microorganismos | E28: xxxx | F28: Documentos contaminados | G28: 1 | H28: 3500 | I28: 3592 | J28: =(6336*9.5%)+6336 -> 6937.92 | K28: =AVERAGE(H28:J28) -> 4676.64 | L28: =STDEVA(H28:J28) -> 1958.8661 | M28: =+K28-L28 -> 2717.7739 | N28: =+K28+L28 -> 6635.5061 | O28: =ROUND(AVERAGEIFS(H28:J28,H28:J28, ">= "&M28,H28:J28, "<= "&N28),0) -> 3546 | P28: =O28 -> 3546 | Q28: =MROUND(P28,10) -> 3550
B29: 11 | C29: Neumáticos | D29: Neumáticos | E29: xxxx | F29: Neumaticos | G29: 1 | J29: =(8000*9.5%)+8000 -> 8760 | K29: =AVERAGE(H29:J29) -> 8760 | L29: 0 | M29: =+K29-L29 -> 8760 | N29: =+K29+L29 -> 8760 | O29: =ROUND(AVERAGEIFS(H29:J29,H29:J29, ">= "&M29,H29:J29, "<= "&N29),0) -> 8760 | P29: =O29 -> 8760 | Q29: =MROUND(P29,10) -> 8760
B30: 12 | C30: Fibra de Vidrio | D30: Fibra de Vidrio | E30: xxxx | F30: Fibra de Vidrio | G30: 1 | J30: =(6330*9.5%)+6330 -> 6931.35 | K30: =AVERAGE(H30:J30) -> 6931.35 | L30: 0 | M30: =+K30-L30 -> 6931.35 | N30: =+K30+L30 -> 6931.35 | O30: =ROUND(AVERAGEIFS(H30:J30,H30:J30, ">= "&M30,H30:J30, "<= "&N30),0) -> 6931 | P30: =O30 -> 6931 | Q30: =MROUND(P30,10) -> 6930
B31: valor promedio kilo | E31: =MROUND((AVERAGE(O10:O30)),100) -> 4300
B32: RESERVA DE KILOS A DISPONER | E32: ='R. Eje Cafetero'!L19 -> 5621.15
B33: PROYECCION DE KILOS A RECOLECTAR EN LA VIGENCIA 2025 POR SEDE | E33: 200
B34: CANTIDAD DE CIUDADES EN LA REGION | E34: ='sedes de recoleccion'!B20 -> 6
B35: TOTAL KILOS A DISPONER EN LA VIGENCIA 2025 | E35: =(E34*E33)+E32 -> 6821.15
B36: TOTAL PRESUPUESTO DE REGION | E36: =+E35*E31 -> 29330945

Sheet Analisis Region 4
B7: ESTUDIO DE MERCADO 2025
B8: Item | C8: Tipo | D8: Descripción | E8: Referencia cotizada | F8: Tipos Cotizados | G8: Unidad (Kg) | H8: Valor / Kg 1 Region Caribe | K8: Procedimiento de promedio podado
H9: cotizacion DESCONT SAS ESP | I9: cotizacion ecoambientes | J9: ip 51 2024 | K9: Promedio | L9: Desviacion | M9: Minimo | N9: Maximo | O9: Promedio Podado | P9: valor techo por tipo | Q9: Redondeo
B10: 1 | C10: Tóner, tinta de impresión | D10: Cartuchos, tóner, tintas, cintas de impresión, marcadores, minas, esferos | E10: Y12 - A4070 | F10: Toner | G10: 1 | H10: 3000 | I10: 2800 | J10: =(6646*9.5%)+6646 -> 7277.37 | K10: =AVERAGE(H10:J10) -> 4359.1233 | L10: =STDEVA(H10:J10) -> 2529.2534 | M10: =+K10-L10 -> 1829.8699 | N10: =+K10+L10 -> 6888.3767 | O10: =ROUND(AVERAGEIFS(H10:J10,H10:J10, ">= "&M10,H10:J10, "<= "&N10),0) -> 2900 | P10: =AVERAGE(O10:O11) -> 2900 | Q10: =MROUND(P10,10) -> 2900
E11: A4070 | F11: Cinta maquina de escribir | G11: 1 | H11: 3000 | I11: 2800 | J11: =(6646*9.5%)+6646 -> 7277.37 | K11: =AVERAGE(H11:J11) -> 4359.1233 | L11: =STDEVA(H11:J11) -> 2529.2534 | M11: =+K11-L11 -> 1829.8699 | N11: =+K11+L11 -> 6888.3767 | O11: =ROUND(AVERAGEIFS(H11:J11,H11:J11, ">= "&M11,H11:J11, "<= "&N11),0) -> 2900
B12: 2 | C12: Materiales contaminados sólidos | D12: Materiales contaminados sólidos | E12: A4070 | F12: Cinta VHS | G12: 1 | H12: 3000 | I12: 8000 | J12: =(6646*9.5%)+6646 -> 7277.37 | K12: =AVERAGE(H12:J12) -> 6092.4567 | L12: =STDEVA(H12:J12) -> 2702.4091 | M12: =+K12-L12 -> 3390.0476 | N12: =+K12+L12 -> 8794.8657 | O12: =ROUND(AVERAGEIFS(H12:J12,H12:J12, ">= "&M12,H12:J12, "<= "&N12),0) -> 7639 | P12: =AVERAGE(O12:O15) -> 3722.25 | Q12: =MROUND(P12,10) -> 3720
E13: xxxx | F13: Papel fax | G13: 1 | H13: 3000 | I13: 1000 | J13: =(6646*9.5%)+6646 -> 7277.37 | K13: =AVERAGE(H13:J13) -> 3759.1233 | L13: =STDEVA(H13:J13) -> 3206.7966 | M13: =+K13-L13 -> 552.32669 | N13: =+K13+L13 -> 6965.92 | O13: =ROUND(AVERAGEIFS(H13:J13,H13:J13, ">= "&M13,H13:J13, "<= "&N13),0) -> 2000
E14: A4130 | F14: Cassettes | G14: 1 | H14: 3000 | I14: 1000 | J14: =(6646*9.5%)+6646 -> 7277.37 | K14: =AVERAGE(H14:J14) -> 3759.1233 | L14: =STDEVA(H14:J14) -> 3206.7966 | M14: =+K14-L14 -> 552.32669 | N14: =+K14+L14 -> 6965.92 | O14: =ROUND(AVERAGEIFS(H14:J14,H14:J14, ">= "&M14,H14:J14, "<= "&N14),0) -> 2000
E15: Y6 | F15: Material contaminado | G15: 1 | H15: 3000 | I15: 3500 | J15: =(6646*9.5%)+6646 -> 7277.37 | K15: =AVERAGE(H15:J15) -> 4592.4567 | L15: =STDEVA(H15:J15) -> 2338.6042 | M15: =+K15-L15 -> 2253.8524 | N15: =+K15+L15 -> 6931.0609 | O15: =ROUND(AVERAGEIFS(H15:J15,H15:J15, ">= "&M15,H15:J15, "<= "&N15),0) -> 3250
B16: 3 | C16: Refrigerantes | D16: Cilindros, pipetas de gas comprimido | E16: Y6 | F16: Envases o contenedores contaminados | G16: 1 | H16: 3000 | I16: 2850 | J16: =(6646*9.5%)+6646 -> 7277.37 | K16: =AVERAGE(H16:J16) -> 4375.79 | L16: =STDEVA(H16:J16) -> 2513.961 | M16: =+K16-L16 -> 1861.829 | N16: =+K16+L16 -> 6889.751 | O16: =ROUND(AVERAGEIFS(H16:J16,H16:J16, ">= "&M16,H16:J16, "<= "&N16),0) -> 2925 | P16: =AVERAGE(O16:O18) -> 3308.3333 | Q16: =MROUND(P16,10) -> 3310
E17: Y6 | F17: Envases de aerosoles | G17: 1 | H17: 3000 | I17: 3000 | J17: =(6646*9.5%)+6646 -> 7277.37 | K17: =AVERAGE(H17:J17) -> 4425.79 | L17: =STDEVA(H17:J17) -> 2469.5407 | M17: =+K17-L17 -> 1956.2493 | N17: =+K17+L17 -> 6895.3307 | O17: =ROUND(AVERAGEIFS(H17:J17,H17:J17, ">= "&M17,H17:J17, "<= "&N17),0) -> 3000
E18: Y6 | F18: Pipetas de gas comprimido | G18: 1 | H18: 3000 | I18: 5000 | J18: =(6646*9.5%)+6646 -> 7277.37 | K18: =AVERAGE(H18:J18) -> 5092.4567 | L18: =STDEVA(H18:J18) -> 2140.1833 | M18: =+K18-L18 -> 2952.2733 | N18: =+K18+L18 -> 7232.64 | O18: =ROUND(AVERAGEIFS(H18:J18,H18:J18, ">= "&M18,H18:J18, "<= "&N18),0) -> 4000
B19: 4 | C19: Solventes, pinturas, contaminados líquidos | D19: Solventes, pinturas, contaminados líquidos | E19: Y12 | F19: Pinturas, tintas y disolventes | G19: 1 | H19: 3000 | I19: 2700 | J19: =(6646*9.5%)+6646 -> 7277.37 | K19: =AVERAGE(H19:J19) -> 4325.79 | L19: =STDEVA(H19:J19) -> 2560.5406 | M19: =+K19-L19 -> 1765.2494 | N19: =+K19+L19 -> 6886.3306 | O19: =ROUND(AVERAGEIFS(H19:J19,H19:J19, ">= "&M19,H19:J19, "<= "&N19),0) -> 2850 | P19: =AVERAGE(O19:O21) -> 3846.3333 | Q19: =MROUND(P19,10) -> 3850
E20: A4130 | F20: Productos químicos vencidos | G20: 1 | H20: 3000 | I20: 6300 | J20: =(6646*9.5%)+6646 -> 7277.37 | K20: =AVERAGE(H20:J20) -> 5525.79 | L20: =STDEVA(H20:J20) -> 2241.322 | M20: =+K20-L20 -> 3284.468 | N20: =+K20+L20 -> 7767.112 | O20: =ROUND(AVERAGEIFS(H20:J20,H20:J20, ">= "&M20,H20:J20, "<= "&N20),0) -> 6789
E21: A4130 | F21: Gel Antibacterial | G21: 1 | H21: 3000 | I21: 800 | J21: =(6646*9.5%)+6646 -> 7277.37 | K21: =AVERAGE(H21:J21) -> 3692.4567 | L21: =STDEVA(H21:J21) -> 3293.7369 | M21: =+K21-L21 -> 398.71978 | N21: =+K21+L21 -> 6986.1936 | O21: =ROUND(AVERAGEIFS(H21:J21,H21:J21, ">= "&M21,H21:J21, "<= "&N21),0) -> 1900
B22: 5 | C22: Baterías, pilas, | D22: Pilas y Baterías, , fotoceldas de Cadmio, Níquel/Cadmio, Níquel/hidruro metálico, litio, domésticas, de botón, ZN, Li, Mn, Mg, Carbón | E22: Y23 | F22: Pilas | G22: 1 | H22: 3000 | I22: 3800 | J22: =(6646*9.5%)+6646 -> 7277.37 | K22: =AVERAGE(H22:J22) -> 4692.4567 | L22: =STDEVA(H22:J22) -> 2274.0564 | M22: =+K22-L22 -> 2418.4002 | N22: =+K22+L22 -> 6966.5131 | O22: =ROUND(AVERAGEIFS(H22:J22,H22:J22, ">= "&M22,H22:J22, "<= "&N22),0) -> 3400 | P22: =AVERAGE(O22:O23) -> 2925 | Q22: =MROUND(P22,10) -> 2930
E23: Y26 | F23: Baterías | G23: 1 | H23: 3000 | I23: 1900 | J23: =(6646*9.5%)+6646 -> 7277.37 | K23: =AVERAGE(H23:J23) -> 4059.1233 | L23: =STDEVA(H23:J23) -> 2840.8333 | M23: =+K23-L23 -> 1218.2901 | N23: =+K23+L23 -> 6899.9566 | O23: =ROUND(AVERAGEIFS(H23:J23,H23:J23, ">= "&M23,H23:J23, "<= "&N23),0) -> 2450
B24: 6 | C24: Luminarias | D24: Luminarias | E24: Y29 | F24: Luminarias | G24: 1 | H24: 3000 | I24: 3800 | J24: =(6646*9.5%)+6646 -> 7277.37 | K24: =AVERAGE(H24:J24) -> 4692.4567 | L24: =STDEVA(H24:J24) -> 2274.0564 | M24: =+K24-L24 -> 2418.4002 | N24: =+K24+L24 -> 6966.5131 | O24: =ROUND(AVERAGEIFS(H24:J24,H24:J24, ">= "&M24,H24:J24, "<= "&N24),0) -> 3400 | P24: =O24 -> 3400 | Q24: =MROUND(P24,10) -> 3400
B25: 7 | C25: Plomo | D25: Plomo | E25: Y31 | F25: Plomo, compuestos de plomo | G25: 1 | H25: 3000 | I25: 7500 | J25: =(6646*9.5%)+6646 -> 7277.37 | K25: =AVERAGE(H25:J25) -> 5925.79 | L25: =STDEVA(H25:J25) -> 2536.2524 | M25: =+K25-L25 -> 3389.5376 | N25: =+K25+L25 -> 8462.0424 | O25: =ROUND(AVERAGEIFS(H25:J25,H25:J25, ">= "&M25,H25:J25, "<= "&N25),0) -> 7389 | P25: =O25 -> 7389 | Q25: =MROUND(P25,10) -> 7390
B26: 8 | C26: Aceite Usado | D26: Aceite Usado | E26: A3020 | F26: Aceites minerales de desecho no aptos para el uso al que estaban destinados. | G26: 1 | H26: 3000 | I26: 2500 | J26: =(6646*9.5%)+6646 -> 7277.37 | K26: =AVERAGE(H26:J26) -> 4259.1233 | L26: =STDEVA(H26:J26) -> 2625.8065 | M26: =+K26-L26 -> 1633.3168 | N26: =+K26+L26 -> 6884.9298 | O26: =ROUND(AVERAGEIFS(H26:J26,H26:J26, ">= "&M26,H26:J26, "<= "&N26),0) -> 2750 | P26: =O26 -> 2750 | Q26: =MROUND(P26,10) -> 2750
B27: 9 | C27: Medicamentos vencidos | D27: Medicamentos vencidos | E27: A4130 | F27: Medicamentos vencidos | G27: 1 | H27: 3000 | I27: 8345 | J27: =(6646*9.5%)+6646 -> 7277.37 | K27: =AVERAGE(H27:J27) -> 6207.4567 | L27: =STDEVA(H27:J27) -> 2828.5672 | M27: =+K27-L27 -> 3378.8895 | N27: =+K27+L27 -> 9036.0238 | O27: =ROUND(AVERAGEIFS(H27:J27,H27:J27, ">= "&M27,H27:J27, "<= "&N27),0) -> 7811 | P27: =O27 -> 7811 | Q27: =MROUND(P27,10) -> 7810
B28: 10 | C28: Archivo contaminado | D28: Procesos, expedientes y demás documentos contaminados con hongos u otro tipo de microorganismos | E28: xxxx | F28: Documentos contaminados | G28: 1 | H28: 3000 | I28: 3592 | J28: =(6646*9.5%)+6646 -> 7277.37 | K28: =AVERAGE(H28:J28) -> 4623.1233 | L28: =STDEVA(H28:J28) -> 2317.6249 | M28: =+K28-L28 -> 2305.4985 | N28: =+K28+L28 -> 6940.7482 | O28: =ROUND(AVERAGEIFS(H28:J28,H28:J28, ">= "&M28,H28:J28, "<= "&N28),0) -> 3296 | P28: =O28 -> 3296 | Q28: =MROUND(P28,10) -> 3300
B29: 11 | C29: Neumáticos | D29: Neumáticos | E29: xxxx | F29: Neumaticos | G29: 1 | J29: =(8583*9.5%)+8583 -> 9398.385 | K29: =AVERAGE(H29:J29) -> 9398.385 | L29: 0 | M29: =+K29-L29 -> 9398.385 | N29: =+K29+L29 -> 9398.385 | O29: =ROUND(AVERAGEIFS(H29:J29,H29:J29, ">= "&M29,H29:J29, "<= "&N29),0) -> 9398 | P29: =O29 -> 9398 | Q29: =MROUND(P29,10) -> 9400
B30: 12 | C30: Fibra de Vidrio | D30: Fibra de Vidrio | E30: xxxx | F30: Fibra de Vidrio | G30: 1 | J30: =(6646*9.5%)+6646 -> 7277.37 | K30: =AVERAGE(H30:J30) -> 7277.37 | L30: 0 | M30: =+K30-L30 -> 7277.37 | N30: =+K30+L30 -> 7277.37 | O30: =ROUND(AVERAGEIFS(H30:J30,H30:J30, ">= "&M30,H30:J30, "<= "&N30),0) -> 7277 | P30: =O30 -> 7277 | Q30: =MROUND(P30,10) -> 7280
B31: valor promedio kilo | E31: =MROUND((AVERAGE(O10:O30)),100) -> 4300
B32: RESERVA DE KILOS A DISPONER | E32: ='R. Oriente'!F11 -> 32
B33: PROYECCION DE KILOS A RECOLECTAR EN LA VIGENCIA 2025 POR SEDE | E33: 200
B34: CANTIDAD DE CIUDADES EN LA REGION | E34: ='sedes de recoleccion'!B24 -> 2
B35: TOTAL KILOS A DISPONER EN LA VIGENCIA 2025 | E35: =(E34*E33)+E32 -> 432
B36: TOTAL PRESUPUESTO DE REGION | E36: =+E35*E31 -> 1857600

Sheet sedes de recoleccion
B2: Regiones o Lote | C2: Seccional
B3: 1. Región Caribe | C3: 1. Barranquilla
B4: LOTE 1 | C4: 2. Cartagena
B5: 7 | C5: 3. Montería
B6: 7 sedes | C6: 4. Riohacha
C7: 5. Santa Marta
C8: 6. Sincelejo
C9: 7. Valledupar
B10: 2. Región Pacifico | C10: 1. Medellín
B11: LOTE 2 | C11: 2. Quibdó
B12: 7 sedes | C12: 3. Cali
B13: 7 | C13: 4. Popayán
C14: 5. Pasto
C15: 6. Coordinación Admtva Mocoa
B16: 3. Región Eje Cafetero | C16: 1. Manizales
B17: LOTE 3 | C17: 2. Armenia
B18: 6 sedes | C18: 3. Pereira
C19: 4. Ibagué
B20: 6 | C20: 5. Neiva
C21: 6, Coordinación Admtva Florencia
B22: 4. Región Oriente | C22: 1. Cúcuta
B23: LOTE 4 | C23: 2. Bucaramanga
B24: 2

Sheet R. Caribe
A1: RELACIÓN DE RESIDUOS PELIGROSOS - RESPEL
A4: Corriente | B4: Nombre o tipo de residuo | C4: Barranquilla | E4: Monteria | G4: Sincelejo | I4: Cartagena | K4: Total
C5: Und | D5: Kg (Peso Aprox) | E5: Und | F5: Kg (Peso Aprox) | G5: Und | H5: Kg (Peso Aprox) | I5: Und | J5: Kg (Peso Aprox) | K5: Und | L5: Kg (Peso Aprox)
A6: Y12 - A4070 | B6: Toner | C6: 45 | D6: =+C6*1.5 -> 67.5 | G6: 280 | H6: 186 | I6: 96 | J6: 20.24 | K6: =+C6+E6+G6+I6 -> 421 | L6: =+D6+F6+H6+J6 -> 273.74
A7: Y6 | B7: Material contaminado | G7: 1 | H7: 10 | K7: =+C7+E7+G7+I7 -> 1 | L7: =+D7+F7+H7+J7 -> 10
A8: Y29 | B8: Luminarias | C8: 300 | D8: =+C8*2.3 -> 690 | F8: 44.5 | G8: 400 | H8: 168 | K8: =+C8+E8+G8+I8 -> 700 | L8: =+D8+F8+H8+J8 -> 902.5
A9: Y9 | B9: CD | F9: 13.42 | G9: 80 | H9: 0.8 | K9: =+C9+E9+G9+I9 -> 80 | L9: =+D9+F9+H9+J9 -> 14.22
A10: Y6 | B10: Envases o contenedores contaminados | G10: 760 | H10: 310.4 | K10: =+C10+E10+G10+I10 -> 760 | L10: =+D10+F10+H10+J10 -> 310.4
A11: A1180 | B11: RAEES | C11: 692 | G11: 2520 | H11: 18376 | K11: =+C11+E11+G11+I11 -> 3212 | L11: =+D11+F11+H11+J11 -> 18376
A12: Y12 | B12: Pinturas, tintas y disolventes | G12: 20 | H12: 30 | K12: =+C12+E12+G12+I12 -> 20 | L12: =+D12+F12+H12+J12 -> 30
A13: A4130 | B13: Medicamentos vencidos | F13: 7 | G13: 1 | H13: 11.35 | K13: =+C13+E13+G13+I13 -> 1 | L13: =+D13+F13+H13+J13 -> 18.35
A14: A4130 | B14: Termometro de pistola | F14: 20 | K14: =+C14+E14+G14+I14 -> 0 | L14: =+D14+F14+H14+J14 -> 20
A15: Y6 | B15: Envases de aerosoles Pipetas de gas comprimido | G15: 100 | H15: 227 | K15: =+C15+E15+G15+I15 -> 100 | L15: =+D15+F15+H15+J15 -> 227
A16: A4130 | B16: Productos químicos vencidos | F16: 200 | K16: =+C16+E16+G16+I16 -> 0 | L16: =+D16+F16+H16+J16 -> 200
K17: kilos en almecenaniento para disponer por region | L17: =+L6+L7+L8+L9+L10+L12+L13+L14+L15+L16 -> 2006.21

Sheet R. Pacífico
A1: RELACIÓN DE RESIDUOS PELIGROSOS - RESPEL
A3: Manizales
A5: Corriente | B5: Nombre o tipo de residuo | C5: Cali | E5: Popayán | G5: Pasto | I5: Total
C6: Und | D6: Kg (Peso Aprox) | E6: Und | F6: Kg (Peso Aprox) | G6: Und | H6: Kg (Peso Aprox) | I6: Und | J6: Kg (Peso Aprox)
A7: Y12 - A4070 | B7: Toner | D7: 274 | F7: 65.4 | H7: 40 | I7: =C7+E7+G7 -> 0 | J7: =D7+F7+H7 -> 379.4
A8: Y29 | B8: Luminarias | D8: 596.71 | F8: 20.2 | I8: =C8+E8+G8 -> 0 | J8: =D8+F8+H8 -> 616.91
A9: Y9 | B9: CD | H9: 1.1 | I9: =C9+E9+G9 -> 0 | J9: =D9+F9+H9 -> 1.1
A10: A4130 | B10: Diskettes | H10: 3.4 | I10: =C10+E10+G10 -> 0 | J10: =D10+F10+H10 -> 3.4
A11: A1180 | B11: RAEES | D11: 6861.2 | F11: 4992 | I11: =C11+E11+G11 -> 0 | J11: =D11+F11+H11 -> 11853.2
A12: A4130 | B12: Cassettes | D12: 0.65 | H12: 7.5 | I12: =C12+E12+G12 -> 0 | J12: =D12+F12+H12 -> 8.15
A13: A4070 | B13: Cinta VHS | H13: 1 | I13: =C13+E13+G13 -> 0 | J13: =D13+F13+H13 -> 1
A14: Y23 | B14: Pilas | F14: 4.8 | I14: =C14+E14+G14 -> 0 | J14: =D14+F14+H14 -> 4.8
A15: Y31 | B15: Plomo, compuestos de plomo | D15: =+(2.25*39)+(7.3*8)+(4.8*5)+((27+11+14)*11.9) -> 788.95 | I15: =C15+E15+G15 -> 0 | J15: =D15+F15+H15 -> 788.95
A16: A3020 | B16: Aceites minerales de desecho no aptos para el uso al que estaban destinados. | D16: =14.05+0.9+6.35+0.9+11.75+3.55+0.35 -> 37.85 | I16: =C16+E16+G16 -> 0 | J16: =D16+F16+H16 -> 37.85
I17: kilos en almecenaniento para disponer por region | J17: =+J7+J8+J9+J10+J12+J13+J14+J15+J16 -> 1841.56

Sheet R. Eje Cafetero
A1: RELACIÓN DE RESIDUOS PELIGROSOS - RESPEL
A3: Manizales
A5: Corriente | B5: Nombre o tipo de residuo | C5: Manizales | E5: Armenia | G5: Ibagué | I5: Neiva | K5: Total
C6: Und | D6: Kg (Peso Aprox) | E6: Und | F6: Kg (Peso Aprox) | G6: Und | H6: Kg (Peso Aprox) | I6: Und | J6: Kg (Peso Aprox) | K6: Und | L6: Kg (Peso Aprox)
A7: Y12 - A4070 | B7: Toner | C7: 300 | D7: =+C7*1.5 -> 450 | E7: 183 | F7: 155.869 | K7: =+C7+E7+G7+I7 -> 483 | L7: =+D7+F7+H7+J7 -> 605.869
A8: Y29 | B8: Luminarias | D8: 154.2 | E8: 1002 | F8: 718 | K8: =+C8+E8+G8+I8 -> 1002 | L8: =+D8+F8+H8+J8 -> 872.2
A9: Y9 | B9: CD | E9: 35286 | F9: 514.953 | K9: =+C9+E9+G9+I9 -> 35286 | L9: =+D9+F9+H9+J9 -> 514.953
A10: A1180 | B10: RAEES | C10: 2 | D10: 12 | E10: 673 | F10: 3548 | H10: 14800 | K10: =+C10+E10+G10+I10 -> 675 | L10: =+D10+F10+H10+J10 -> 18360
A11: A4130 | B11: Gel Antibacterial | H11: 34.2 | K11: =+C11+E11+G11+I11 -> 0 | L11: =+D11+F11+H11+J11 -> 34.2
A12: A4130 | B12: Medicamentos vencidos | D12: 45.02 | K12: =+C12+E12+G12+I12 -> 0 | L12: =+D12+F12+H12+J12 -> 45.02
A13: A4130 | B13: Termometro de pistola | F13: 0.3 | K13: =+C13+E13+G13+I13 -> 0 | L13: =+D13+F13+H13+J13 -> 0.3
A14: A4130 | B14: Productos químicos vencidos | H14: 342 | K14: =+C14+E14+G14+I14 -> 0 | L14: =+D14+F14+H14+J14 -> 342
A15: A4070 | B15: Cinta maquina de escribir | E15: 72 | F15: 1.908 | K15: =+C15+E15+G15+I15 -> 72 | L15: =+D15+F15+H15+J15 -> 1.908
B16: Documentos contaminados | J16: 1589 | K16: =+C16+E16+G16+I16 -> 0 | L16: 1575
A17: Y26 | B17: Baterías | E17: 244 | F17: 742.7 | K17: =+C17+E17+G17+I17 -> 244 | L17: =+D17+F17+H17+J17 -> 742.7
B18: Paepel fax | H18: 887 | K18: =+C18+E18+G18+I18 -> 0 | L18: =+D18+F18+H18+J18 -> 887
K19: kilos en almecenaniento para disponer por region | L19: =+L7+L8+L9+L11+L12+L13+L14+L15+L16+L17+L18 -> 5621.15

Sheet R. Oriente
A1: RELACIÓN DE RESIDUOS PELIGROSOS - RESPEL
A5: Corriente | B5: Nombre o tipo de residuo | C5: Bucaramanga | E5: Total
C6: Und | D6: Kg (Peso Aprox) | E6: Und | F6: Kg (Peso Aprox)
A7: Y12 - A4070 | B7: Toner | D7: 30 | E7: =C7 -> 0 | F7: =D7 -> 30
A8: A1180 | B8: RAEES | D8: 500 | E8: =C8 -> 0 | F8: =D8 -> 500
A9: A4130 | B9: Medicamentos vencidos | D9: 1 | E9: =C9 -> 0 | F9: =D9 -> 1
A10: Y23 | B10: Pilas | D10: 1 | E10: =C10 -> 0 | F10: =D10 -> 1
E11: kilos en almecenaniento para disponer por region | F11: =+F7+F9+F10 -> 32
