Workbook

Sheet SMMLV
A1: Año | B1: Salario Mínimo
B2: (Pesos Colombianos)
A3: 2025 | B3: 1423500
A4: 2024 | B4: 1300000
A5: 2023 | B5: 1160000
A6: 2022 | B6: 1000000
A7: 2021 | B7: 908526
A8: 2020 | B8: 877803
A9: 2019 | B9: 828116
A10: 2018 | B10: 781242
A11: 2017 | B11: 737717
A12: 2016 | B12: 689455
A13: 2015 | B13: 644350
A14: 2014 | B14: 616000
... A44: 1984 | B44: 11298

Sheet PLANTILLA
A2: Rama Judicial del Poder Público
A3: Consejo Superior de la Judicatura
A4: Dirección Ejecutiva de Administración Judicial
A7: FORMATO DE EXPERIENCIA DEL PROPONENTE
A8: NUMERO DE PROCESO:
A9: SI-02-2025
A10: OBJETO DEL PROCESO:
A11: Suministro de tiquetes aéreos nacionales e internacionales para la Rama Judicial
A12: NOMBRE DEL PROPONENTE:
A14: Integrantes:
A15: Nombre del Integrante 1 [% Participación] [Nit o CC]
A16: Nombre del Integrante 2 [% Participación] [Nit o CC]
A17: Nombre del Integrante 3 [% Participación] [Nit o CC]
F19: EXPERIENCIA ESPECIFICA HABILITANTE | P19: OBSERVACIONES
A20: ID | B20: No. Contrato en el RUP | C20: Nombre del contratista que registra el RUP | D20: Nombre de la Entidad Contratante | E20: EN CASO DE PROPONENTE PLURAL | F20: UNSPSC | H20: Valor reportado en el contrato en SMMLV que aparece en el RUP | I20: Porcentaje de Participación en el Contrato que registra el RUP | J20: Valor ponderado de acuerdo con la participación en el contrato en SMMLV que aparece en el RUP | K20: Acreditar experiencia mediante la presentación de hasta diez (10) certificaciones de contratos relacionados en el RUP ejecutados y terminados, cuyo objeto o alcance o actividades tengan relación con el suministro de tiquetes aéreos nacionales y/o internacionales y el valor de la sumatoria de las certificaciones sea igual o superior al presupuesto oficial establecido para este proceso, expresado en salarios mínimos legales mensuales vigentes.
E21: Nombre del integrante de la figura asociativa que presenta el RUP | F21: 78111500 | G21: 90121500 | K21: Objeto del Contrato | L21: Valor del contrato o actividades (En pesos) | M21: Año de Terminación del Contrato | N21: Valor en SMMLV (La conversión se realiza con el SMMLV del año de terminación del contrato) | O21: Valor ponderado de acuerdo con la participación en el contrato en SMMLV
A22: 1 | J22: =ROUND(H22*I22,2) -> 0 | N22: =ROUND(L22/(VLOOKUP(M22,SMMLV!$A$3:$B$44,2,FALSE)),2) -> #N/A | O22: =ROUND(N22*I22,2) -> #N/A
A23: 2 | J23: =ROUND(H23*I23,2) -> 0 | N23: =ROUND(L23/(VLOOKUP(M23,SMMLV!$A$3:$B$44,2,FALSE)),2) -> #N/A | O23: =ROUND(N23*I23,2) -> #N/A
A24: 3 | J24: =ROUND(H24*I24,2) -> 0 | N24: =ROUND(L24/(VLOOKUP(M24,SMMLV!$A$3:$B$44,2,FALSE)),2) -> #N/A | O24: =ROUND(N24*I24,2) -> #N/A
A25: 4 | J25: =ROUND(H25*I25,2) -> 0 | N25: =ROUND(L25/(VLOOKUP(M25,SMMLV!$A$3:$B$44,2,FALSE)),2) -> #N/A | O25: =ROUND(N25*I25,2) -> #N/A
A26: 5 | J26: =ROUND(H26*I26,2) -> 0 | N26: =ROUND(L26/(VLOOKUP(M26,SMMLV!$A$3:$B$44,2,FALSE)),2) -> #N/A | O26: =ROUND(N26*I26,2) -> #N/A
A27: 6 | J27: =ROUND(H27*I27,2) -> 0 | N27: =ROUND(L27/(VLOOKUP(M27,SMMLV!$A$3:$B$44,2,FALSE)),2) -> #N/A | O27: =ROUND(N27*I27,2) -> #N/A
A28: 7 | J28: =ROUND(H28*I28,2) -> 0 | N28: =ROUND(L28/(VLOOKUP(M28,SMMLV!$A$3:$B$44,2,FALSE)),2) -> #N/A | O28: =ROUND(N28*I28,2) -> #N/A
A29: 8 | J29: =ROUND(H29*I29,2) -> 0 | N29: =ROUND(L29/(VLOOKUP(M29,SMMLV!$A$3:$B$44,2,FALSE)),2) -> #N/A | O29: =ROUND(N29*I29,2) -> #N/A
A30: 9 | J30: =ROUND(H30*I30,2) -> 0 | N30: =ROUND(L30/(VLOOKUP(M30,SMMLV!$A$3:$B$44,2,FALSE)),2) -> #N/A | O30: =ROUND(N30*I30,2) -> #N/A
A31: 10 | J31: =ROUND(H31*I31,2) -> 0 | N31: =ROUND(L31/(VLOOKUP(M31,SMMLV!$A$3:$B$44,2,FALSE)),2) -> #N/A | O31: =ROUND(N31*I31,2) -> #N/A
F32: TOTAL (SMMLV) | J32: =SUM(J22:J31) -> 0 | N32: TOTAL (SMMLV) | O32: =_xlfn.AGGREGATE(9,6,O22:O31) -> 0
N33: SMMLV Min | O33: 2824
O34: =IF(O32>=O33,"Cumple","No Cumple") -> No Cumple
