Workbook

Sheet ESTUDIO DE MERCADO TOTAL 
F1: COTIZACIÓN No. 1 COLSAM SA | G1: COTIZACIÓN No. 2 TESCOL | H1: COTIZACIÓN No. 3 SOLHID | I1: COTIZACIÓN No. 4 PRADO ALEMAN | T1: PRESUPUESTO
A2: ÍTEM/ EQUIPOS | B2: TIPO | C2: DESCRIPCIÓN | D2: UNIDAD DE MEDIDA | E2: CANTIDAD | F2: V/R UNITARIO | G2: V/R UNITARIO | H2: V/R UNITARIO | I2: V/R UNITARIO | J2: V/R UNITARIO | K2: MENOR VALOR | L2: PROMEDIO | M2: MEDIANA | N2: MEDIA GEOMÉTRICA | O2: MEDIA ARMÓNICA | P2: DESVIACIÓN ESTÁNDAR | Q2: COEFICIENTE DE VARIACIÓN CV | R2: VALOR DE REFERENCIA UNITARIO ELEGIDO | S2: CRITERIO | T2: CANTIDAD | U2: =IF(D2="","",D2) -> UNIDAD DE MEDIDA | V2: VALOR DE REFERENCIA UNITARIO | W2: VALOR DE REFERENCIA TOTAL
A3: 1 | B3: SERVICIO | C3: MANTENIMIENTO PREVENTIVO RED DE SUMINISTRO DE AGUA POTABLE SEDE CENTRAL (Av. Caracas # 54 - 38) | D3: Unidad | E3: 3 | F3: =+COLSAM!G2 -> 309400 | G3: =+TESCOL!G2 -> 571200 | H3: =+SOLHID!G2 -> 378420 | I3: =+PRADO!G2 -> 380800 | K3: =+MIN(F3:J3) -> 309400 | L3: =IFERROR(AVERAGE(F3:J3),"") -> 409955 | M3: =IFERROR(MEDIAN(F3:J3),"") -> 379610 | N3: =IFERROR(GEOMEAN(F3:J3),"") -> 399479.85 | O3: =IFERROR(HARMEAN(F3:J3),"") -> 390191.4 | P3: =IFERROR(_xlfn.STDEV.S(F3:J3),"") -> 112480.71 | Q3: =IFERROR(P3/L3,0) -> 0.2743733 | R3: =+L3 -> 409955 | S3: =IF(R3="","",IF(R3=L3,L$2,IF(R3=M3,M$2,IF(R3=N3,N$2,"")))) -> PROMEDIO | T3: =E3 -> 3 | U3: =D3 -> Unidad | V3: =ROUND(R3,0) -> 409955 | W3: =T3*V3 -> 1229865
A4: 2 | B4: SERVICIO | C4: MANTENIMIENTO PREVENTIVO RED DE SUMINISTRO DE AGUA POTABLE SEDE CENTRAL (Av. Caracas # 54 - 38) | D4: Unidad | E4: 3 | F4: =+COLSAM!G3 -> 309400 | G4: =+TESCOL!G3 -> 571200 | H4: =+SOLHID!G3 -> 378420 | I4: =+PRADO!G3 -> 380800 | K4: =+MIN(F4:J4) -> 309400 | L4: =IFERROR(AVERAGE(F4:J4),"") -> 409955 | M4: =IFERROR(MEDIAN(F4:J4),"") -> 379610 | N4: =IFERROR(GEOMEAN(F4:J4),"") -> 399479.85 | O4: =IFERROR(HARMEAN(F4:J4),"") -> 390191.4 | P4: =IFERROR(_xlfn.STDEV.S(F4:J4),"") -> 112480.71 | Q4: =IFERROR(P4/L4,0) -> 0.2743733 | R4: =+L4 -> 409955 | S4: =IF(R4="","",IF(R4=L4,L$2,IF(R4=M4,M$2,IF(R4=N4,N$2,"")))) -> PROMEDIO | T4: =E4 -> 3 | U4: =D4 -> Unidad | V4: =ROUND(R4,0) -> 409955 | W4: =T4*V4 -> 1229865
A5: 3 | B5: SERVICIO | C5: MANTENIMIENTO PREVENTIVO RED DE AGUAS RESIDUALES SEDE CENTRAL (Av. Caracas # 54 - 38) | D5: Unidad | E5: 3 | F5: =+COLSAM!G4 -> 285600 | G5: =+TESCOL!G4 -> 571200 | H5: =+SOLHID!G4 -> 342720 | I5: =+PRADO!G4 -> 380800 | K5: =+MIN(F5:J5) -> 285600 | L5: =IFERROR(AVERAGE(F5:J5),"") -> 395080 | M5: =IFERROR(MEDIAN(F5:J5),"") -> 361760 | N5: =IFERROR(GEOMEAN(F5:J5),"") -> 381984.46 | O5: =IFERROR(HARMEAN(F5:J5),"") -> 370508.11 | P5: =IFERROR(_xlfn.STDEV.S(F5:J5),"") -> 123760 | Q5: =IFERROR(P5/L5,0) -> 0.31325301 | R5: =+L5 -> 395080 | S5: =IF(R5="","",IF(R5=L5,L$2,IF(R5=M5,M$2,IF(R5=N5,N$2,"")))) -> PROMEDIO | T5: =E5 -> 3 | U5: =D5 -> Unidad | V5: =ROUND(R5,0) -> 395080 | W5: =T5*V5 -> 1185240
A6: 4 | B6: SERVICIO | C6: MANTENIMIENTO PREVENTIVO RED DE SUMINISTRO DE AGUA POTABLE SEDE CAVRFFS (CALLE 64 # 128-10/50) | D6: Unidad | E6: 3 | F6: =+COLSAM!G5 -> 309400 | G6: =+TESCOL!G5 -> 535500 | H6: =+SOLHID!G5 -> 378420 | I6: =+PRADO!G5 -> 380800 | K6: =+MIN(F6:J6) -> 309400 | L6: =IFERROR(AVERAGE(F6:J6),"") -> 401030 | M6: =IFERROR(MEDIAN(F6:J6),"") -> 379610 | N6: =IFERROR(GEOMEAN(F6:J6),"") -> 393086.11 | O6: =IFERROR(HARMEAN(F6:J6),"") -> 385799.02 | P6: =IFERROR(_xlfn.STDEV.S(F6:J6),"") -> 95566.212 | Q6: =IFERROR(P6/L6,0) -> 0.2383019 | R6: =+L6 -> 401030 | S6: =IF(R6="","",IF(R6=L6,L$2,IF(R6=M6,M$2,IF(R6=N6,N$2,"")))) -> PROMEDIO | T6: =E6 -> 3 | U6: =D6 -> Unidad | V6: =ROUND(R6,0) -> 401030 | W6: =T6*V6 -> 1203090
A7: 5 | B7: SERVICIO | C7: MANTENIMIENTO PREVENTIVO SISTEMA COMPLEMENTARIO PARA RECIRCULACIÓN DEL AGUA LLUVIA Y RESIDUAL TRATADA SEDE CAVRFFS (CALLE 64 # 128-10/50) | D7: Unidad | E7: 3 | F7: =+COLSAM!G6 -> 309400 | G7: =+TESCOL!G6 -> 476000 | H7: =+SOLHID!G6 -> 378420 | I7: =+PRADO!G6 -> 380800 | K7: =+MIN(F7:J7) -> 309400 | L7: =IFERROR(AVERAGE(F7:J7),"") -> 386155 | M7: =IFERROR(MEDIAN(F7:J7),"") -> 379610 | N7: =IFERROR(GEOMEAN(F7:J7),"") -> 381680.15 | O7: =IFERROR(HARMEAN(F7:J7),"") -> 377304.41 | P7: =IFERROR(_xlfn.STDEV.S(F7:J7),"") -> 68439.658 | Q7: =IFERROR(P7/L7,0) -> 0.17723364 | R7: =+L7 -> 386155 | S7: =IF(R7="","",IF(R7=L7,L$2,IF(R7=M7,M$2,IF(R7=N7,N$2,"")))) -> PROMEDIO | T7: =E7 -> 3 | U7: =D7 -> Unidad | V7: =ROUND(R7,0) -> 386155 | W7: =T7*V7 -> 1158465
A8: 6 | B8: SERVICIO | C8: MANTENIMIENTO PREVENTIVO PLANTA PARA TRATAMIENTO DE AGUAS CON CONTENIDO PATÓGENO SEDE CAVRFFS (CALLE 64 # 128-10/50) | D8: Unidad | E8: 3 | F8: =+COLSAM!G7 -> 309400 | G8: =+TESCOL!G7 -> 476000 | H8: =+SOLHID!G7 -> 378420 | I8: =+PRADO!G7 -> 380800 | K8: =+MIN(F8:J8) -> 309400 | L8: =IFERROR(AVERAGE(F8:J8),"") -> 386155 | M8: =IFERROR(MEDIAN(F8:J8),"") -> 379610 | N8: =IFERROR(GEOMEAN(F8:J8),"") -> 381680.15 | O8: =IFERROR(HARMEAN(F8:J8),"") -> 377304.41 | P8: =IFERROR(_xlfn.STDEV.S(F8:J8),"") -> 68439.658 | Q8: =IFERROR(P8/L8,0) -> 0.17723364 | R8: =+L8 -> 386155 | S8: =IF(R8="","",IF(R8=L8,L$2,IF(R8=M8,M$2,IF(R8=N8,N$2,"")))) -> PROMEDIO | T8: =E8 -> 3 | U8: =D8 -> Unidad | V8: =ROUND(R8,0) -> 386155 | W8: =T8*V8 -> 1158465
A9: 7 | B9: SERVICIO | C9: MANTENIMIENTO PREVENTIVO SISTEMA DE TRATAMIENTO HÍBRIDO PARA REÚSO DE AGUAS LLUVIAS Y RESIDUALES SEDE CAVRFFS (CALLE 64 # 128-10/50) | D9: Unidad | E9: 3 | F9: =+COLSAM!G8 -> 309400 | G9: =+TESCOL!G8 -> 535500 | H9: =+SOLHID!G8 -> 378420 | I9: =+PRADO!G8 -> 380800 | K9: =+MIN(F9:J9) -> 309400 | L9: =IFERROR(AVERAGE(F9:J9),"") -> 401030 | M9: =IFERROR(MEDIAN(F9:J9),"") -> 379610 | N9: =IFERROR(GEOMEAN(F9:J9),"") -> 393086.11 | O9: =IFERROR(HARMEAN(F9:J9),"") -> 385799.02 | P9: =IFERROR(_xlfn.STDEV.S(F9:J9),"") -> 95566.212 | Q9: =IFERROR(P9/L9,0) -> 0.2383019 | R9: =+L9 -> 401030 | S9: =IF(R9="","",IF(R9=L9,L$2,IF(R9=M9,M$2,IF(R9=N9,N$2,"")))) -> PROMEDIO | T9: =E9 -> 3 | U9: =D9 -> Unidad | V9: =ROUND(R9,0) -> 401030 | W9: =T9*V9 -> 1203090
A10: 8 | B10: SERVICIO | C10: MANTENIMIENTO PREVENTIVO RED DE SUMINISTRO DE AGUA POTABLE PARQUE MIRADOR DE LOS NEVADOS (Carrera 86A # 145-50) | D10: Unidad | E10: 3 | F10: =+COLSAM!G9 -> 285600 | G10: =+TESCOL!G9 -> 535500 | H10: =+SOLHID!G9 -> 342720 | I10: =+PRADO!G9 -> 357000 | K10: =+MIN(F10:J10) -> 285600 | L10: =IFERROR(AVERAGE(F10:J10),"") -> 380205 | M10: =IFERROR(MEDIAN(F10:J10),"") -> 349860 | N10: =IFERROR(GEOMEAN(F10:J10),"") -> 369854.87 | O10: =IFERROR(HARMEAN(F10:J10),"") -> 360757.89 | P10: =IFERROR(_xlfn.STDEV.S(F10:J10),"") -> 108028.14 | Q10: =IFERROR(P10/L10,0) -> 0.28413131 | R10: =+L10 -> 380205 | S10: =IF(R10="","",IF(R10=L10,L$2,IF(R10=M10,M$2,IF(R10=N10,N$2,"")))) -> PROMEDIO | T10: =E10 -> 3 | U10: =D10 -> Unidad | V10: =ROUND(R10,0) -> 380205 | W10: =T10*V10 -> 1140615
A11: 9 | B11: SERVICIO | C11: MANTENIMIENTO PREVENTIVO RED DE SUMINISTRO DE AGUA LLUVIA PARQUE MIRADOR DE LOS NEVADOS (Carrera 86A # 145-50) | D11: Unidad | E11: 3 | F11: =+COLSAM!G10 -> 285600 | G11: =+TESCOL!G10 -> 476000 | H11: =+SOLHID!G10 -> 342720 | I11: =+PRADO!G10 -> 357000 | K11: =+MIN(F11:J11) -> 285600 | L11: =IFERROR(AVERAGE(F11:J11),"") -> 365330 | M11: =IFERROR(MEDIAN(F11:J11),"") -> 349860 | N11: =IFERROR(GEOMEAN(F11:J11),"") -> 359122.99 | O11: =IFERROR(HARMEAN(F11:J11),"") -> 353319.59 | P11: =IFERROR(_xlfn.STDEV.S(F11:J11),"") -> 79969.417 | Q11: =IFERROR(P11/L11,0) -> 0.21889639 | R11: =+L11 -> 365330 | S11: =IF(R11="","",IF(R11=L11,L$2,IF(R11=M11,M$2,IF(R11=N11,N$2,"")))) -> PROMEDIO | T11: =E11 -> 3 | U11: =D11 -> Unidad | V11: =ROUND(R11,0) -> 365330 | W11: =T11*V11 -> 1095990
A12: 10 | B12: SERVICIO | C12: MANTENIMIENTO PREVENTIVO RED DE SUMINISTRO DE AGUA POTABLE PARQUE MIRADOR JUAN REY - ENTRE NUBES Carrera 11C ESTE 72A SUR - Antigua vía al llano (Av carrera 15 ESTE) (LOCALIDAD DE SAN CRISTOBAL) | D12: Unidad | E12: 3 | F12: =+COLSAM!G11 -> 309400 | G12: =+TESCOL!G11 -> 535500 | H12: =+SOLHID!G11 -> 378420 | I12: =+PRADO!G11 -> 380800 | K12: =+MIN(F12:J12) -> 309400 | L12: =IFERROR(AVERAGE(F12:J12),"") -> 401030 | M12: =IFERROR(MEDIAN(F12:J12),"") -> 379610 | N12: =IFERROR(GEOMEAN(F12:J12),"") -> 393086.11 | O12: =IFERROR(HARMEAN(F12:J12),"") -> 385799.02 | P12: =IFERROR(_xlfn.STDEV.S(F12:J12),"") -> 95566.212 | Q12: =IFERROR(P12/L12,0) -> 0.2383019 | R12: =+L12 -> 401030 | S12: =IF(R12="","",IF(R12=L12,L$2,IF(R12=M12,M$2,IF(R12=N12,N$2,"")))) -> PROMEDIO | T12: =E12 -> 3 | U12: =D12 -> Unidad | V12: =ROUND(R12,0) -> 401030 | W12: =T12*V12 -> 1203090
A13: 11 | B13: SERVICIO | C13: MANTENIMIENTO PREVENTIVO RED DE SUMINISTRO AGUAS LLUVIAS PARQUE MIRADOR JUAN REY - ENTRE NUBES Carrera 11C ESTE 72A SUR - Antigua vía al llano (Av carrera 15 ESTE) - (LOCALIDAD DE SAN CRISTOBAL) | D13: Unidad | E13: 3 | F13: =+COLSAM!G12 -> 285600 | G13: =+TESCOL!G12 -> 476000 | H13: =+SOLHID!G12 -> 342720 | I13: =+PRADO!G12 -> 380800 | K13: =+MIN(F13:J13) -> 285600 | L13: =IFERROR(AVERAGE(F13:J13),"") -> 371280 | M13: =IFERROR(MEDIAN(F13:J13),"") -> 361760 | N13: =IFERROR(GEOMEAN(F13:J13),"") -> 364964.3 | O13: =IFERROR(HARMEAN(F13:J13),"") -> 358869.11 | P13: =IFERROR(_xlfn.STDEV.S(F13:J13),"") -> 80028.422 | Q13: =IFERROR(P13/L13,0) -> 0.21554735 | R13: =+L13 -> 371280 | S13: =IF(R13="","",IF(R13=L13,L$2,IF(R13=M13,M$2,IF(R13=N13,N$2,"")))) -> PROMEDIO | T13: =E13 -> 3 | U13: =D13 -> Unidad | V13: =ROUND(R13,0) -> 371280 | W13: =T13*V13 -> 1113840
A14: 12 | B14: SERVICIO | C14: MANTENIMIENTO PREVENTIVO SISTEMAS DE LAVADO - HIDROLAVADORAS SEDE CAVRFFS (CALLE 64 # 128-10/50) | D14: Unidad | E14: 7 | F14: =+COLSAM!G13 -> 101150 | G14: =+TESCOL!G13 -> 142800 | H14: =+SOLHID!G13 -> 121380 | I14: =+PRADO!G13 -> 119000 | K14: =+MIN(F14:J14) -> 101150 | L14: =IFERROR(AVERAGE(F14:J14),"") -> 121082.5 | M14: =IFERROR(MEDIAN(F14:J14),"") -> 120190 | N14: =IFERROR(GEOMEAN(F14:J14),"") -> 120184.11 | O14: =IFERROR(HARMEAN(F14:J14),"") -> 119292.38 | P14: =IFERROR(_xlfn.STDEV.S(F14:J14),"") -> 17062.431 | Q14: =IFERROR(P14/L14,0) -> 0.14091575 | R14: =+L14 -> 121082.5 | S14: =IF(R14="","",IF(R14=L14,L$2,IF(R14=M14,M$2,IF(R14=N14,N$2,"")))) -> PROMEDIO | T14: =E14 -> 7 | U14: =D14 -> Unidad | V14: =ROUND(R14,0) -> 121083 | W14: =T14*V14 -> 847581 | Y14: =+W14/$W$52 -> 0.008970506
A15: 13 | B15: SERVICIO | C15: DIAGNÓSTICO DE BOMBA SUMERGIBLE DE 3 HP DE POTENCIA – BOMBA DEL TANQUE DE LA RED DE AGUAS RESIDUALES SEDE CENTRAL (Av. Caracas # 54 - 38) | D15: Unidad | E15: 1 | F15: =+COLSAM!G14 -> 190400 | G15: =+TESCOL!G14 -> 226100 | H15: =+SOLHID!G14 -> 228480 | I15: =+PRADO!G14 -> 178500 | K15: =+MIN(F15:J15) -> 178500 | L15: =IFERROR(AVERAGE(F15:J15),"") -> 205870 | M15: =IFERROR(MEDIAN(F15:J15),"") -> 208250 | N15: =IFERROR(GEOMEAN(F15:J15),"") -> 204697.94 | O15: =IFERROR(HARMEAN(F15:J15),"") -> 203521.8 | P15: =IFERROR(_xlfn.STDEV.S(F15:J15),"") -> 25225.006 | Q15: =IFERROR(P15/L15,0) -> 0.12252881 | R15: =+L15 -> 205870 | S15: =IF(R15="","",IF(R15=L15,L$2,IF(R15=M15,M$2,IF(R15=N15,N$2,"")))) -> PROMEDIO | T15: =E15 -> 1 | U15: =D15 -> Unidad | V15: =ROUND(R15,0) -> 205870 | W15: =T15*V15 -> 205870 | Y15: =+V15/$V$52 -> 0.0037325363
A16: 14 | B16: SERVICIO | C16: DIAGNÓSTICO DE BOMBA SUMERGIBLE BLUE PUMP – MODELO 80WQ1.5-49 DE 2 HP DE POTENCIA - BOMBA DE EMERGENCIA TIPO INATASCABLE DE LA SEDE CENTRAL (Av. Caracas # 54 - 38) | D16: Unidad | E16: 1 | F16: =+COLSAM!G15 -> 190400 | G16: =+TESCOL!G15 -> 226100 | H16: =+SOLHID!G15 -> 228480 | I16: =+PRADO!G15 -> 178500 | K16: =+MIN(F16:J16) -> 178500 | L16: =IFERROR(AVERAGE(F16:J16),"") -> 205870 | M16: =IFERROR(MEDIAN(F16:J16),"") -> 208250 | N16: =IFERROR(GEOMEAN(F16:J16),"") -> 204697.94 | O16: =IFERROR(HARMEAN(F16:J16),"") -> 203521.8 | P16: =IFERROR(_xlfn.STDEV.S(F16:J16),"") -> 25225.006 | Q16: =IFERROR(P16/L16,0) -> 0.12252881 | R16: =+L16 -> 205870 | S16: =IF(R16="","",IF(R16=L16,L$2,IF(R16=M16,M$2,IF(R16=N16,N$2,"")))) -> PROMEDIO | T16: =E16 -> 1 | U16: =D16 -> Unidad | V16: =ROUND(R16,0) -> 205870 | W16: =T16*V16 -> 205870 | Y16: =+V16/$V$52 -> 0.0037325363
A17: 15 | B17: SERVICIO | C17: DIAGNÓSTICO DE BOMBA CENTRIFUGA LR 38324 / MARCA WEG / POTENCIA DE 3 HP / 220 VOLTIOS. DE LA RED DE SUMINISTRO DE AGUA POTABLE SEDE CENTRAL (Av. Caracas # 54 - 38) | D17: Unidad | E17: 1 | F17: =+COLSAM!G16 -> 190400 | G17: =+TESCOL!G16 -> 226100 | H17: =+SOLHID!G16 -> 228480 | I17: =+PRADO!G16 -> 178500 | K17: =+MIN(F17:J17) -> 178500 | L17: =IFERROR(AVERAGE(F17:J17),"") -> 205870 | M17: =IFERROR(MEDIAN(F17:J17),"") -> 208250 | N17: =IFERROR(GEOMEAN(F17:J17),"") -> 204697.94 | O17: =IFERROR(HARMEAN(F17:J17),"") -> 203521.8 | P17: =IFERROR(_xlfn.STDEV.S(F17:J17),"") -> 25225.006 | Q17: =IFERROR(P17/L17,0) -> 0.12252881 | R17: =+L17 -> 205870 | S17: =IF(R17="","",IF(R17=L17,L$2,IF(R17=M17,M$2,IF(R17=N17,N$2,"")))) -> PROMEDIO | T17: =E17 -> 1 | U17: =D17 -> Unidad | V17: =ROUND(R17,0) -> 205870 | W17: =T17*V17 -> 205870 | Y17: =+V17/$V$52 -> 0.0037325363
A18: 16 | B18: SERVICIO | C18: DIAGNÓSTICO BOMBA SUMERGIBLE EYECTORA MARCA FLOWPRESS / MODELO SW 0.5T / 220V / POTENCIA 0.5 HP / FRECUENCIA 60 HZ. DEL SISTEMA DE TRATAMIENTO HÍBRIDO PARA REÚSO DE AGUAS LLUVIAS Y RESIDUALES SEDE CAVRFFS (CALLE 64 # 128-10/50) | D18: Unidad | E18: 1 | F18: =+COLSAM!G17 -> 190400 | G18: =+TESCOL!G17 -> 226100 | H18: =+SOLHID!G17 -> 228480 | I18: =+PRADO!G17 -> 178500 | K18: =+MIN(F18:J18) -> 178500 | L18: =IFERROR(AVERAGE(F18:J18),"") -> 205870 | M18: =IFERROR(MEDIAN(F18:J18),"") -> 208250 | N18: =IFERROR(GEOMEAN(F18:J18),"") -> 204697.94 | O18: =IFERROR(HARMEAN(F18:J18),"") -> 203521.8 | P18: =IFERROR(_xlfn.STDEV.S(F18:J18),"") -> 25225.006 | Q18: =IFERROR(P18/L18,0) -> 0.12252881 | R18: =+L18 -> 205870 | S18: =IF(R18="","",IF(R18=L18,L$2,IF(R18=M18,M$2,IF(R18=N18,N$2,"")))) -> PROMEDIO | T18: =E18 -> 1 | U18: =D18 -> Unidad | V18: =ROUND(R18,0) -> 205870 | W18: =T18*V18 -> 205870 | Y18: =+V18/$V$52 -> 0.0037325363
A19: 17 | B19: SERVICIO | C19: DIAGNÓSTICO GENERAL DEL SISTEMA DE TRATAMIENTO IMPLEMENTADO PARA MANEJO DE AGUAS CON CONTENIDO PATÓGENO DE LA ENFERMERÍA Y LA VETERINARÍA EN EL CAVRFFS | D19: Unidad | E19: 1 | F19: =+COLSAM!G18 -> 435540 | G19: =+TESCOL!G18 -> 357000 | H19: =+SOLHID!G18 -> 522648 | I19: =+PRADO!G18 -> 345100 | K19: =+MIN(F19:J19) -> 345100 | L19: =IFERROR(AVERAGE(F19:J19),"") -> 415072 | M19: =IFERROR(MEDIAN(F19:J19),"") -> 396270 | N19: =IFERROR(GEOMEAN(F19:J19),"") -> 409225.44 | O19: =IFERROR(HARMEAN(F19:J19),"") -> 403707.44 | P19: =IFERROR(_xlfn.STDEV.S(F19:J19),"") -> 82178.612 | Q19: =IFERROR(P19/L19,0) -> 0.1979864 | R19: =+L19 -> 415072 | S19: =IF(R19="","",IF(R19=L19,L$2,IF(R19=M19,M$2,IF(R19=N19,N$2,"")))) -> PROMEDIO | T19: =E19 -> 1 | U19: =D19 -> Unidad | V19: =ROUND(R19,0) -> 415072 | W19: =T19*V19 -> 415072 | Y19: =+V19/$V$52 -> 0.0075254836
A20: 18 | B20: SERVICIO | C20: DIAGNÓSTICO DE BOMBA BARNES MODELO 20 15HCP 7,5 DE 2” DE DESCARGA, BOMBA NÚMERO 2 DE LA RED DE SUMINISTRO DE AGUA POTABLE PARQUE MIRADOR DE LOS NEVADOS (Carrera 86A # 145-50) | D20: Unidad | E20: 1 | F20: =+COLSAM!G19 -> 190400 | G20: =+TESCOL!G19 -> 226100 | H20: =+SOLHID!G19 -> 228480 | I20: =+PRADO!G19 -> 238000 | K20: =+MIN(F20:J20) -> 190400 | L20: =IFERROR(AVERAGE(F20:J20),"") -> 220745 | M20: =IFERROR(MEDIAN(F20:J20),"") -> 227290 | N20: =IFERROR(GEOMEAN(F20:J20),"") -> 219962.26 | O20: =IFERROR(HARMEAN(F20:J20),"") -> 219137.81 | P20: =IFERROR(_xlfn.STDEV.S(F20:J20),"") -> 20873.111 | Q20: =IFERROR(P20/L20,0) -> 0.094557571 | R20: =+L20 -> 220745 | S20: =IF(R20="","",IF(R20=L20,L$2,IF(R20=M20,M$2,IF(R20=N20,N$2,"")))) -> PROMEDIO | T20: =E20 -> 1 | U20: =D20 -> Unidad | V20: =ROUND(R20,0) -> 220745 | W20: =T20*V20 -> 220745 | Y20: =+V20/$V$52 -> 0.0040022282
A21: 19 | B21: SUMINISTRO | C21: SUMINISTRO, INSTALACIÓN Y AUTOMATIZACIÓN DE TANQUE HIDROACUMULADOR DE 500 LITROS DE LA RED DE SUMINISTRO DE AGUA POTABLE SEDE CENTRAL (Av. Caracas # 54 - 38) | D21: Unidad | E21: 1 | F21: =+COLSAM!G20 -> 452200 | G21: =+TESCOL!G20 -> 535500 | H21: =+SOLHID!G20 -> 599760 | I21: =+PRADO!G20 -> 476000 | K21: =+MIN(F21:J21) -> 452200 | L21: =IFERROR(AVERAGE(F21:J21),"") -> 515865 | M21: =IFERROR(MEDIAN(F21:J21),"") -> 505750 | N21: =IFERROR(GEOMEAN(F21:J21),"") -> 512765.29 | O21: =IFERROR(HARMEAN(F21:J21),"") -> 509749.05 | P21: =IFERROR(_xlfn.STDEV.S(F21:J21),"") -> 65995.845 | Q21: =IFERROR(P21/L21,0) -> 0.1279324 | R21: =+L21 -> 515865 | S21: =IF(R21="","",IF(R21=L21,L$2,IF(R21=M21,M$2,IF(R21=N21,N$2,"")))) -> PROMEDIO | T21: =E21 -> 1 | U21: =D21 -> Unidad | V21: =ROUND(R21,0) -> 515865 | W21: =T21*V21 -> 515865 | Y21: =+V21/$V$52 -> 0.0093529161
A22: 20 | B22: SUMINISTRO | C22: SUMINISTRO E INATALACIÓN DE MANÓMETRO DE 0 A 200 PSI CON GLISERINA DE LA BOMBA NÚMERO 2 DE LA RED DE SUMINISTRO DE AGUA POTABLE SEDE CENTRAL (Av. Caracas # 54 - 38) | D22: Unidad | E22: 1 | F22: =+COLSAM!G21 -> 99960 | G22: =+TESCOL!G21 -> 142800 | H22: =+SOLHID!G21 -> 119952 | I22: =+PRADO!G21 -> 95200 | K22: =+MIN(F22:J22) -> 95200 | L22: =IFERROR(AVERAGE(F22:J22),"") -> 114478 | M22: =IFERROR(MEDIAN(F22:J22),"") -> 109956 | N22: =IFERROR(GEOMEAN(F22:J22),"") -> 112992.53 | O22: =IFERROR(HARMEAN(F22:J22),"") -> 111583.26 | P22: =IFERROR(_xlfn.STDEV.S(F22:J22),"") -> 21714.158 | Q22: =IFERROR(P22/L22,0) -> 0.18967975 | R22: =+L22 -> 114478 | S22: =IF(R22="","",IF(R22=L22,L$2,IF(R22=M22,M$2,IF(R22=N22,N$2,"")))) -> PROMEDIO | T22: =E22 -> 1 | U22: =D22 -> Unidad | V22: =ROUND(R22,0) -> 114478 | W22: =T22*V22 -> 114478 | Y22: =+V22/$V$52 -> 0.0020755491
A23: 21 | B23: SUMINISTRO | C23: CAMBIO DE RODAMIENTOS Y SELLO MECÁNICO DE LA BOMBA NÚMERO 1 DE 5HP DEL SISTEMA DE BOMBEO DE AGUA LLUVIA DE LA SEDE PRINCIPAL DE LA SDA (Av. Caracas # 54 - 38) | D23: Unidad | E23: 1 | F23: =+COLSAM!G22 -> 515270 | G23: =+TESCOL!G22 -> 535500 | H23: =+SOLHID!G22 -> 618324 | I23: =+PRADO!G22 -> 476000 | K23: =+MIN(F23:J23) -> 476000 | L23: =IFERROR(AVERAGE(F23:J23),"") -> 536273.5 | M23: =IFERROR(MEDIAN(F23:J23),"") -> 525385 | N23: =IFERROR(GEOMEAN(F23:J23),"") -> 533831.69 | O23: =IFERROR(HARMEAN(F23:J23),"") -> 531472.53 | P23: =IFERROR(_xlfn.STDEV.S(F23:J23),"") -> 60019.232 | Q23: =IFERROR(P23/L23,0) -> 0.11191907 | R23: =+L23 -> 536273.5 | S23: =IF(R23="","",IF(R23=L23,L$2,IF(R23=M23,M$2,IF(R23=N23,N$2,"")))) -> PROMEDIO | T23: =E23 -> 1 | U23: =D23 -> Unidad | V23: =ROUND(R23,0) -> 536274 | W23: =T23*V23 -> 536274
A24: 22 | B24: SUMINISTRO | C24: SUMINISTRO E INSTALACIÓN DE VÁLVULA DE PIE EN 3” DE SUCCIÓN DE LA BOMBA NÚMERO 2 DE LA RED DE SUMINISTRO DE AGUAS LLUVIAS SEDE CENTRAL (Av. Caracas # 54 - 38) | D24: Unidad | E24: 1 | F24: =+COLSAM!G23 -> 1015070 | G24: =+TESCOL!G23 -> 1071000 | H24: =+SOLHID!G23 -> 1218084 | I24: =+PRADO!G23 -> 952000 | K24: =+MIN(F24:J24) -> 952000 | L24: =IFERROR(AVERAGE(F24:J24),"") -> 1064038.5 | M24: =IFERROR(MEDIAN(F24:J24),"") -> 1043035 | N24: =IFERROR(GEOMEAN(F24:J24),"") -> 1059619.4 | O24: =IFERROR(HARMEAN(F24:J24),"") -> 1055341.5 | P24: =IFERROR(_xlfn.STDEV.S(F24:J24),"") -> 113620.74 | Q24: =IFERROR(P24/L24,0) -> 0.10678255 | R24: =+L24 -> 1064038.5 | S24: =IF(R24="","",IF(R24=L24,L$2,IF(R24=M24,M$2,IF(R24=N24,N$2,"")))) -> PROMEDIO | T24: =E24 -> 1 | U24: =D24 -> Unidad | V24: =ROUND(R24,0) -> 1064039 | W24: =T24*V24 -> 1064039
A25: 23 | B25: SUMINISTRO | C25: SUMINISTRO E INSTALACIÓN DE TUBERÍA EN ACERO INOXIDABLE PARA LA SUCCIÓN DE LA BOMBA NÚMERO 2 DE LA RED DE SUMINISTRO DE AGUAS LLUVIAS SEDE CENTRAL (Av. Caracas # 54 - 38) | D25: Unidad | E25: 1 | F25: =+COLSAM!G24 -> 1041250 | G25: =+TESCOL!G24 -> 1047200 | H25: =+SOLHID!G24 -> 1249500 | I25: =+PRADO!G24 -> 975800 | K25: =+MIN(F25:J25) -> 975800 | L25: =IFERROR(AVERAGE(F25:J25),"") -> 1078437.5 | M25: =IFERROR(MEDIAN(F25:J25),"") -> 1044225 | N25: =IFERROR(GEOMEAN(F25:J25),"") -> 1073792.7 | O25: =IFERROR(HARMEAN(F25:J25),"") -> 1069395.2 | P25: =IFERROR(_xlfn.STDEV.S(F25:J25),"") -> 118540.47 | Q25: =IFERROR(P25/L25,0) -> 0.10991872 | R25: =+L25 -> 1078437.5 | S25: =IF(R25="","",IF(R25=L25,L$2,IF(R25=M25,M$2,IF(R25=N25,N$2,"")))) -> PROMEDIO | T25: =E25 -> 1 | U25: =D25 -> Unidad | V25: =ROUND(R25,0) -> 1078438 | W25: =T25*V25 -> 1078438
A26: 24 | B26: SUMINISTRO | C26: SUMINISTRO, INSTALACIÓN Y AUTOMATIZACIÓN DE SIRENA DE EMERGECNIAS DE LA RED DE AGUAS RESIDUALES SEDE CENTRAL (Av. Caracas # 54 - 38) | D26: Unidad | E26: 1 | F26: =+COLSAM!G25 -> 226100 | G26: =+TESCOL!G25 -> 214200 | H26: =+SOLHID!G25 -> 271320 | I26: =+PRADO!G25 -> 238000 | K26: =+MIN(F26:J26) -> 214200 | L26: =IFERROR(AVERAGE(F26:J26),"") -> 237405 | M26: =IFERROR(MEDIAN(F26:J26),"") -> 232050 | N26: =IFERROR(GEOMEAN(F26:J26),"") -> 236480.15 | O26: =IFERROR(HARMEAN(F26:J26),"") -> 235589 | P26: =IFERROR(_xlfn.STDEV.S(F26:J26),"") -> 24609.323 | Q26: =IFERROR(P26/L26,0) -> 0.10365966 | R26: =+L26 -> 237405 | S26: =IF(R26="","",IF(R26=L26,L$2,IF(R26=M26,M$2,IF(R26=N26,N$2,"")))) -> PROMEDIO | T26: =E26 -> 1 | U26: =D26 -> Unidad | V26: =ROUND(R26,0) -> 237405 | W26: =T26*V26 -> 237405
A27: 25 | B27: SUMINISTRO | C27: SUMINISTRO, INSTALACIÓN Y AUTOMATIZACIÓN DE CONTACTOR EN EL TABLERO DE CONTROL DE LA RED DE AGUAS RESIDUALES SEDE CENTRAL (Av. Caracas # 54 - 38) | D27: Unidad | E27: 1 | F27: =+COLSAM!G26 -> 339150 | G27: =+TESCOL!G26 -> 416500 | H27: =+SOLHID!G26 -> 406980 | I27: =+PRADO!G26 -> 357000 | K27: =+MIN(F27:J27) -> 339150 | L27: =IFERROR(AVERAGE(F27:J27),"") -> 379907.5 | M27: =IFERROR(MEDIAN(F27:J27),"") -> 381990 | N27: =IFERROR(GEOMEAN(F27:J27),"") -> 378496.64 | O27: =IFERROR(HARMEAN(F27:J27),"") -> 377082.73 | P27: =IFERROR(_xlfn.STDEV.S(F27:J27),"") -> 37673.415 | Q27: =IFERROR(P27/L27,0) -> 0.099164706 | R27: =+L27 -> 379907.5 | S27: =IF(R27="","",IF(R27=L27,L$2,IF(R27=M27,M$2,IF(R27=N27,N$2,"")))) -> PROMEDIO | T27: =E27 -> 1 | U27: =D27 -> Unidad | V27: =ROUND(R27,0) -> 379908 | W27: =T27*V27 -> 379908
A28: 26 | B28: SUMINISTRO | C28: SUMINISTRO E INSTALACIÓN DE CABLEADO ELÉCTRICO ENCAUCHETADO 2X16 AWG CORTOCIRCUIDATO DE FLOTADOR ELÉCTRICO DE LA RED DE AGUAS RESIDUALES SEDE CENTRAL (Av. Caracas # 54 - 38) | D28: METROS | E28: 5 | F28: =+COLSAM!G27 -> 89250 | G28: =+TESCOL!G27 -> 119000 | H28: =+SOLHID!G27 -> 107100 | I28: =+PRADO!G27 -> 95200 | K28: =+MIN(F28:J28) -> 89250 | L28: =IFERROR(AVERAGE(F28:J28),"") -> 102637.5 | M28: =IFERROR(MEDIAN(F28:J28),"") -> 101150 | N28: =IFERROR(GEOMEAN(F28:J28),"") -> 102010.62 | O28: =IFERROR(HARMEAN(F28:J28),"") -> 101396.45 | P28: =IFERROR(_xlfn.STDEV.S(F28:J28),"") -> 13193.267 | Q28: =IFERROR(P28/L28,0) -> 0.12854236 | R28: =+L28 -> 102637.5 | S28: =IF(R28="","",IF(R28=L28,L$2,IF(R28=M28,M$2,IF(R28=N28,N$2,"")))) -> PROMEDIO | T28: =E28 -> 5 | U28: =D28 -> METROS | V28: =ROUND(R28,0) -> 102638 | W28: =T28*V28 -> 513190
A29: 27 | B29: SUMINISTRO | C29: SUMINISTRO, INSTALACIÓN Y AUTOMATIZACIÓN DE TANQUE HIDROACUMULADOR DE 300 LITROS DE LA RED DE SUMINISTRO DE AGUA POTABLE SEDE CAVRFFS (CALLE 64 # 128-10/50) | D29: Unidad | E29: 1 | F29: =+COLSAM!G28 -> 2975000 | G29: =+TESCOL!G28 -> 3213000 | H29: =+SOLHID!G28 -> 5140800 | I29: =+PRADO!G28 -> 2915500 | K29: =+MIN(F29:J29) -> 2915500 | L29: =IFERROR(AVERAGE(F29:J29),"") -> 3561075 | M29: =IFERROR(MEDIAN(F29:J29),"") -> 3094000 | N29: =IFERROR(GEOMEAN(F29:J29),"") -> 3459675.5 | O29: =IFERROR(HARMEAN(F29:J29),"") -> 3375850.3 | P29: =IFERROR(_xlfn.STDEV.S(F29:J29),"") -> 1060964.7 | Q29: =IFERROR(P29/L29,0) -> 0.29793383 | R29: =+L29 -> 3561075 | S29: =IF(R29="","",IF(R29=L29,L$2,IF(R29=M29,M$2,IF(R29=N29,N$2,"")))) -> PROMEDIO | T29: =E29 -> 1 | U29: =D29 -> Unidad | V29: =ROUND(R29,0) -> 3561075 | W29: =T29*V29 -> 3561075
A30: 28 | B30: SUMINISTRO | C30: SUMINISTRO, INSTALACIÓN Y AUTOMATIZACIÓN DE TABLERO DE CONTROL CON CERTIFICACIÓN RETIE PARA ARRANQUE DE TRES MOTOBOMBAS CON ALTERNACIÓN LÓGICA 220V 12 AMPERIOS (INCLUYE TOTALIZADOR TRIPOLAR DE 30 AMPERIOS, SIRENA DE EMERGENCIAS, ARRANCADORES, CONTACTORES, CABLEADO, DUCTERÍA Y TODOS LOS ELEMENTOS NECESARIOS PARA LA AUTOMATIZACIÓN DE LA RED DE SUMINISTRO DE AGUA POTABLE SEDE CAVRFFS (CALLE 64 # 128-10/50) | D30: Unidad | E30: 1 | F30: =+COLSAM!G29 -> 4522000 | G30: =+TESCOL!G29 -> 4284000 | H30: =+SOLHID!G29 -> 6777288 | I30: =+PRADO!G29 -> 4641000 | K30: =+MIN(F30:J30) -> 4284000 | L30: =IFERROR(AVERAGE(F30:J30),"") -> 5056072 | M30: =IFERROR(MEDIAN(F30:J30),"") -> 4581500 | N30: =IFERROR(GEOMEAN(F30:J30),"") -> 4968346.6 | O30: =IFERROR(HARMEAN(F30:J30),"") -> 4892426.3 | P30: =IFERROR(_xlfn.STDEV.S(F30:J30),"") -> 1157036.1 | Q30: =IFERROR(P30/L30,0) -> 0.2288409 | R30: =+L30 -> 5056072 | S30: =IF(R30="","",IF(R30=L30,L$2,IF(R30=M30,M$2,IF(R30=N30,N$2,"")))) -> PROMEDIO | T30: =E30 -> 1 | U30: =D30 -> Unidad | V30: =ROUND(R30,0) -> 5056072 | W30: =T30*V30 -> 5056072
A31: 29 | B31: SUMINISTRO | C31: SUMINISTRO, INSTALACIÓN Y AUTOMATIZACIÓN DE TABLERO DE CONTROL CON CERTIFICACIÓN RETIE PARA ARRANQUE DE DOS MOTOBOMBAS EYECTORAS DE 6AMPERIOS A 220V Y UNA BOMBA DE RECIRCULACIÓN DE 9 AMPERIOS A 220V (SELEOIDE, SIRENA DE EMERGENCIAS, ARRANCADORES, CONTACTORES, CABLEADO, DUCTERÍA Y TODOS LOS ELEMENTOS NECESARIOS PARA LA AUTOMATIZACIÓN DEL SISTEMA COMPLEMENTARIO PARA RECIRCULACIÓN DEL AGUA LLUVIA Y RESIDUAL TRATADA SEDE CAVRFFS (CALLE 64 # 128-10/50) | D31: Unidad | E31: 1 | F31: =+COLSAM!G30 -> 5355000 | G31: =+TESCOL!G30 -> 3570000 | H31: =+SOLHID!G30 -> 6426000 | I31: =+PRADO!G30 -> 3332000 | K31: =+MIN(F31:J31) -> 3332000 | L31: =IFERROR(AVERAGE(F31:J31),"") -> 4670750 | M31: =IFERROR(MEDIAN(F31:J31),"") -> 4462500 | N31: =IFERROR(GEOMEAN(F31:J31),"") -> 4497988.6 | O31: =IFERROR(HARMEAN(F31:J31),"") -> 4335614.5 | P31: =IFERROR(_xlfn.STDEV.S(F31:J31),"") -> 1477949.3 | Q31: =IFERROR(P31/L31,0) -> 0.31642656 | R31: =+L31 -> 4670750 | S31: =IF(R31="","",IF(R31=L31,L$2,IF(R31=M31,M$2,IF(R31=N31,N$2,"")))) -> PROMEDIO | T31: =E31 -> 1 | U31: =D31 -> Unidad | V31: =ROUND(R31,0) -> 4670750 | W31: =T31*V31 -> 4670750
A32: 30 | B32: SERVICIO | C32: ESTUDIO DE CARGAS CALCULADAS DE LA ACOMETIDA ELÉCTRICA TRIFÁSICA PARA LA ADECUACIÓN DE LAS HIDROLAVADORAS AL SISTEMA ELÉCTRICO CONFORME A LA NTC2050 Y RETIE DE LA SEDE CAVRFFS) (CALLE 64 # 128-10/50) | D32: Unidad | E32: 1 | F32: =+COLSAM!G31 -> 2856000 | G32: =+TESCOL!G31 -> 3570000 | H32: =+SOLHID!G31 -> 3427200 | I32: =+PRADO!G31 -> 3094000 | K32: =+MIN(F32:J32) -> 2856000 | L32: =IFERROR(AVERAGE(F32:J32),"") -> 3236800 | M32: =IFERROR(MEDIAN(F32:J32),"") -> 3260600 | N32: =IFERROR(GEOMEAN(F32:J32),"") -> 3224568 | O32: =IFERROR(HARMEAN(F32:J32),"") -> 3212227.8 | P32: =IFERROR(_xlfn.STDEV.S(F32:J32),"") -> 322838.91 | Q32: =IFERROR(P32/L32,0) -> 0.099740147 | R32: =+L32 -> 3236800 | S32: =IF(R32="","",IF(R32=L32,L$2,IF(R32=M32,M$2,IF(R32=N32,N$2,"")))) -> PROMEDIO | T32: =E32 -> 1 | U32: =D32 -> Unidad | V32: =ROUND(R32,0) -> 3236800 | W32: =T32*V32 -> 3236800
A33: 31 | B33: SERVICIO | C33: RETIRO DE BOMBA CENTRÍFUGA MARCA BARNES / POTENCIA DE 2 HP / REFERENCIA 1E0508 / MODELO AP3-EE 1.5 20-1-301 / 220 VOLTIOS, SECADO, RESTAURACIÓN DEL AISLAMIENTO, CAMBIO DE RODAMIENTOS, SELLO MECANICO E INSTALACIÓN DE BOMBA DE LA RED DE SUMINISTRO DE AGUA POTABLE SEDE CAVRFFS (CALLE 64 # 128-10/50) | D33: Unidad | E33: 2 | F33: =+COLSAM!G32 -> 952000 | G33: =+TESCOL!G32 -> 1071000 | H33: =+SOLHID!G32 -> 1142400 | I33: =+PRADO!G32 -> 1011500 | K33: =+MIN(F33:J33) -> 952000 | L33: =IFERROR(AVERAGE(F33:J33),"") -> 1044225 | M33: =IFERROR(MEDIAN(F33:J33),"") -> 1041250 | N33: =IFERROR(GEOMEAN(F33:J33),"") -> 1041843.8 | O33: =IFERROR(HARMEAN(F33:J33),"") -> 1039471.9 | P33: =IFERROR(_xlfn.STDEV.S(F33:J33),"") -> 81509.933 | Q33: =IFERROR(P33/L33,0) -> 0.078057826 | R33: =+L33 -> 1044225 | S33: =IF(R33="","",IF(R33=L33,L$2,IF(R33=M33,M$2,IF(R33=N33,N$2,"")))) -> PROMEDIO | T33: =E33 -> 2 | U33: =D33 -> Unidad | V33: =ROUND(R33,0) -> 1044225 | W33: =T33*V33 -> 2088450
A34: 32 | B34: SERVICIO | C34: RETIRO DE BOMBA CENTRÍFUGA MARCA BARNES / POTENCIA DE 2 HP / REFERENCIA 1E0508 / MODELO AP3-EE 1.5 20-1-301 / 220 VOLTIOS, SECADO, RESTAURACIÓN DEL AISLAMIENTO, CAMBIO DE RODAMIENTOS, SELLO MECANICO E INSTALACIÓN DE BOMBA DEL SISTEMA COMPLEMENTARIO PARA RECIRCULACIÓN DEL AGUA LLUVIA Y RESIDUAL TRATADA SEDE CAVRFFS (CALLE 64 # 128-10/50) | D34: Unidad | E34: 3 | F34: =+COLSAM!G33 -> 952000 | G34: =+TESCOL!G33 -> 1130500 | H34: =+SOLHID!G33 -> 1142400 | I34: =+PRADO!G33 -> 1071000 | K34: =+MIN(F34:J34) -> 952000 | L34: =IFERROR(AVERAGE(F34:J34),"") -> 1073975 | M34: =IFERROR(MEDIAN(F34:J34),"") -> 1100750 | N34: =IFERROR(GEOMEAN(F34:J34),"") -> 1071220.3 | O34: =IFERROR(HARMEAN(F34:J34),"") -> 1068364.2 | P34: =IFERROR(_xlfn.STDEV.S(F34:J34),"") -> 87108.759 | Q34: =IFERROR(P34/L34,0) -> 0.08110874 | R34: =+L34 -> 1073975 | S34: =IF(R34="","",IF(R34=L34,L$2,IF(R34=M34,M$2,IF(R34=N34,N$2,"")))) -> PROMEDIO | T34: =E34 -> 3 | U34: =D34 -> Unidad | V34: =ROUND(R34,0) -> 1073975 | W34: =T34*V34 -> 3221925
... A49: 47 | B49: SERVICIO | C49: TANQUE AGUA RESIDUAL - SUBTERRANEO DE 25 M3 x 1 UNIDAD - SEDE PRINCIPAL DE LA ENTIDAD (AV. CARACAS # 54-38) | D49: Número de lavados | E49: 2 | F49: =+COLSAM!G48 -> 6545000 | G49: =+TESCOL!G48 -> 7378000 | H49: =+SOLHID!G48 -> 5236000 | I49: =+PRADO!G48 -> 7140000 | K49: =+MIN(F49:J49) -> 5236000 | L49: =IFERROR(AVERAGE(F49:J49),"") -> 6574750 | M49: =IFERROR(MEDIAN(F49:J49),"") -> 6842500 | N49: =IFERROR(GEOMEAN(F49:J49),"") -> 6518332.9 | O49: =IFERROR(HARMEAN(F49:J49),"") -> 6458196.3 | P49: =IFERROR(_xlfn.STDEV.S(F49:J49),"") -> 958793.47 | Q49: =IFERROR(P49/L49,0) -> 0.14582965 | R49: =+L49 -> 6574750 | S49: =IF(R49="","",IF(R49=L49,L$2,IF(R49=M49,M$2,IF(R49=N49,N$2,"")))) -> PROMEDIO | T49: =E49 -> 2 | U49: =D49 -> Número de lavados | V49: =ROUND(R49,0) -> 6574750 | W49: =T49*V49 -> 13149500
A50: 48 | B50: SERVICIO | C50: TANQUE DE CRIBADO AGUA RESIDUAL – SUBTERRANEO DE 9 M3 x 1 UNIDAD - SEDE CAVRFFS (CALLE 64 N° 128-10) | D50: Número de lavados | E50: 2 | F50: =+COLSAM!G49 -> 5355000 | G50: =+TESCOL!G49 -> 7080619 | H50: =+SOLHID!G49 -> 4219740 | I50: =+PRADO!G49 -> 6902000 | K50: =+MIN(F50:J50) -> 4219740 | L50: =IFERROR(AVERAGE(F50:J50),"") -> 5889339.8 | M50: =IFERROR(MEDIAN(F50:J50),"") -> 6128500 | N50: =IFERROR(GEOMEAN(F50:J50),"") -> 5764648.6 | O50: =IFERROR(HARMEAN(F50:J50),"") -> 5635081.3 | P50: =IFERROR(_xlfn.STDEV.S(F50:J50),"") -> 1356184.5 | Q50: =IFERROR(P50/L50,0) -> 0.23027785 | R50: =+L50 -> 5889339.8 | S50: =IF(R50="","",IF(R50=L50,L$2,IF(R50=M50,M$2,IF(R50=N50,N$2,"")))) -> PROMEDIO | T50: =E50 -> 2 | U50: =D50 -> Número de lavados | V50: =ROUND(R50,0) -> 5889340 | W50: =T50*V50 -> 11778680 | Y50: =+V50/$V$52 -> 0.10677697
A51: 49 | B51: SERVICIO | C51: TANQUE DE ESTABILIZACIÓN AGUA RESIDUAL – PLÁSTICO DE 2.000 L x 1 UNIDAD - SEDE CAVRFFS (CALLE 64 N° 128-10) | D51: Número de lavados | E51: 2 | F51: =+COLSAM!G50 -> 297500 | G51: =+TESCOL!G50 -> 583100 | H51: =+SOLHID!G50 -> 565250 | I51: =+PRADO!G50 -> 535500 | K51: =+MIN(F51:J51) -> 297500 | L51: =IFERROR(AVERAGE(F51:J51),"") -> 495337.5 | M51: =IFERROR(MEDIAN(F51:J51),"") -> 550375 | N51: =IFERROR(GEOMEAN(F51:J51),"") -> 478693.48 | O51: =IFERROR(HARMEAN(F51:J51),"") -> 459091.58 | P51: =IFERROR(_xlfn.STDEV.S(F51:J51),"") -> 133345.06 | Q51: =IFERROR(P51/L51,0) -> 0.26920042 | R51: =+L51 -> 495337.5 | S51: =IF(R51="","",IF(R51=L51,L$2,IF(R51=M51,M$2,IF(R51=N51,N$2,"")))) -> PROMEDIO | T51: =E51 -> 2 | U51: =D51 -> Número de lavados | V51: =ROUND(R51,0) -> 495338 | W51: =T51*V51 -> 990676 | Y51: =+V51/$V$52 -> 0.0089807503
F52: =+SUM(F3:F51) -> 52546830 | G52: =+SUM(G3:G51) -> 57227219 | K52: =+SUM(K3:K51) -> 44069270 | L52: =+SUM(L3:L51) -> 55155518 | M52: =+SUM(M3:M51) -> 54201049 | N52: =+SUM(N3:N51) -> 54227844 | O52: =+SUM(O3:O51) -> 53327639 | P52: =+SUM(P3:P51) -> 11018498 | R52: =+SUM(R3:R51) -> 55155518 | V52: =+SUM(V3:V51) -> 55155525 | W52: =+SUM(W3:W51) -> 94485305 | Y52: =+ROUND(W52*12%,0) -> 11338237

Sheet Hoja2
B2: ÍTEM/ EQUIPOS | C2: TIPO | D2: DESCRIPCIÓN | E2: COTIZACIÓN No. 1 Sol-Ars SAS | F2: COTIZACIÓN No. 2 SERVICIOS INTEGRALES DE INGENIERIA Y CONSTRUCCIÓN SAS | G2: MENOR VALOR | H2: PROMEDIO | I2: MEDIANA | J2: MEDIA GEOMÉTRICA | K2: DESVIACIÓN ESTÁNDAR | L2: COEFICIENTE DE VARIACIÓN CV
B3: 1 | C3: SERVICIO | D3: DIAGNÓSTICO GENERAL DEL SISTEMA DE CALEFACCIÓN DE LA SEDE PRINCIPAL UBICADO EN LA AVENIDA CARACAS No 54-43 | E3: 10055500 | F3: 10917256 | G3: 10055500 | H3: 10486378 | I3: 10486378 | J3: 10477522 | K3: 609353.76 | L3: 0.058109077
B4: 2 | C4: SERVICIO | D4: DIAGNÓSTICO GENERAL DEL SISTEMA DE CALEFACCIÓN DE LA SEDE DEL CENTRO DE ATENCIÓN VALORACIÓN Y REHABILITACIÓN DE FLORA Y FAUNA SILVESTRE UBICADO EN LA CALLE 64 # 128-10/50 ENGATIVA | E4: 54097400 | F4: 58733547 | G4: 54097400 | H4: 56415474 | I4: 56415474 | J4: 56367829 | K4: 3278251.1 | L4: 0.058109077
B5: 3 | C5: SERVICIO | D5: MANTENIMIENTO PREVENTIVO SISTEMA DE CALEFACCIÓN SEDE PRINCIPAL SEGÚN LO DESCRITO EN LA FICHA TÉCNICA DEL PROCESO. | E5: 4703475 | F5: 5106562.5 | G5: 4703475 | H5: 4905018.8 | I5: 4905018.8 | J5: 4900876.4 | K5: 285025.91 | L5: 0.058109036
B6: 4 | C6: SERVICIO | D6: MANTENIMIENTO PREVENTIVO SISTEMA DE CALEFACCIÓN SEDE DEL CENTRO DE ATENCIÓN VALORACIÓN Y REHABILITACIÓN DE FLORA Y FAUNA SILVESTRE UBICADO EN LA CALLE 64 # 128-10/50 ENGATIVA | E6: 78720129 | F6: 85466444 | G6: 78720129 | H6: 82093286 | I6: 82093286 | J6: 82023957 | K6: 4770364.9 | L6: 0.058109074
B7: 5 | C7: SERVICIO | D7: MANTENIMIENTO GENERAL DE CALENTADORES DE TIRO FORZADO MARCA CHALLENGER WHG7104 - | E7: 535500 | F7: 581660.1 | G7: 535500 | H7: 558580.05 | I7: 558580.05 | J7: 558103.02 | K7: 32640.12 | L7: 0.058434095
B8: 6 | C8: SERVICIO | D8: LAVADO DEL CIRCUITO CERRADO DE CALEFACCIÓN EN LA SEDE PRINCIPAL Y APLICACIÓN DE QUÍMICO DESINCRUSTANTE Y SUAVIZANTE, PUESTA A PUNTO | E8: 8121750 | F8: 8821844.8 | G8: 8121750 | H8: 8471797.4 | I8: 8471797.4 | J8: 8464562.5 | K8: 495041.82 | L8: 0.058434095
B9: 7 | C9: SERVICIO | D9: LIMPIEZA FLUIDO SOLAR Y APLICACIÓN DE MONOPROPILENGLICOL EN LA SEDE PRINCIPAL | E9: 11126500 | F9: 12085604 | G9: 11126500 | H9: 11606052 | I9: 11606052 | J9: 11596141 | K9: 678189.15 | L9: 0.058434095
B10: 8 | C10: SERVICIO | D10: REPARACIÓN AISLAMIENTOS ENERGIA SOLAR Y REPINTADA EN LA SEDE PRINCIPAL | E10: 5414500 | F10: 5881229.9 | G10: 5414500 | H10: 5647865 | I10: 5647865 | J10: 5643041.7 | K10: 330027.88 | L10: 0.058434095
B11: 9 | C11: SERVICIO | D11: LAVADO INTERNO DE TANQUE DE ACUMULACIÓN DE AGUA CALIENTE EN LA SEDE PRINCIPAL | E11: 1392300 | F11: 1512316.3 | G11: 1392300 | H11: 1452308.1 | I11: 1452308.1 | J11: 1451067.9 | K11: 84864.311 | L11: 0.058434095
B12: 10 | C12: SERVICIO | D12: LAVADO DEL CIRCUITO CERRADO SOLAR Y CALEFACCIÓN Y PUESTA A PUNTO DE CIRCUITOS EN LA SEDE DEL CAVRFFS | E12: 4165000 | F12: 4524023 | G12: 4165000 | H12: 4344511.5 | I12: 4344511.5 | J12: 4340801.3 | K12: 253867.6 | L12: 0.058434095
B13: 11 | C13: SERVICIO | D13: DRENAJE, LAVADO INTERNO DE TANQUES DE CALENTAMIENTO Y CIRCUITOS DE CALEFACCIÓN EN LA SEDE DEL CAVRFFS | E13: 773500 | F13: 839788.95 | G13: 773500 | H13: 806644.47 | I13: 806644.47 | J13: 805963.25 | K13: 46873.366 | L13: 0.058109077
B14: 12 | C14: SERVICIO | D14: EQUIPOS MOVILES PARA CALEFACCIÓN AUXILIAR EN ÁREA DE NEONATOS, HOSPITALIZACIÓN Y REPTILES, | E14: 4343500 | F14: 4715738 | G14: 4343500 | H14: 4529619 | I14: 4529619 | J14: 4525793.6 | K14: 263211.98 | L14: 0.058109077
... B20: 18 | C20: SUMINISTRO | D20: SONDA DE TEMPERATURA NTC 10K FULL GAUGE SB41 | E20: 65450 | F20: 70411.11 | G20: 65450 | H20: 67930.555 | I20: 67930.555 | J20: 67885.25 | K20: 3508.0345 | L20: 0.051641482
B21: 19 | C21: SUMINISTRO | D21: SONDAS DE TEMPERATURA Y PRESIÓN | E21: 0 | F21: 83213.13 | G21: 0 | H21: 41606.565 | I21: 41606.565 | K21: 58840.569 | L21: 1.4142136
B22: 20 | C22: SUMINISTRO | D22: RELE 8 PINES 120V 10A RELPOL | E22: 108290 | F22: 116498.62 | G22: 108290 | H22: 112394.31 | I22: 112394.31 | J22: 112319.35 | K22: 5804.3709 | L22: 0.051642925
B23: 21 | C23: SUMINISTRO | D23: KIT DE ELECTRODOS Y ENCENDIDO PARA THERM8000S | E23: 96450.69 | F23: 103762.05 | G23: 96450.69 | H23: 100106.37 | I23: 100106.37 | J23: 100039.6 | K23: 5169.9122 | L23: 0.051644188
B24: 22 | C24: SUMINISTRO | D24: KIT DE EMPAQUES PARA THERM8000S | E24: 292459.16 | F24: 314627.67 | G24: 292459.16 | H24: 303543.42 | I24: 303543.42 | J24: 303340.97 | K24: 15675.504 | L24: 0.051641719

Sheet Hoja3
C4: ÍTEM/ EQUIPOS | D4: TIPO | E4: DESCRIPCIÓN | F4: UNIDAD DE MEDIDA | G4: CANTIDAD | H4: VALOR DE REFERENCIA UNITARIO | I4: VALOR DE REFERENCIA TOTAL
C5: 1 | D5: SERVICIO | E5: DIAGNÓSTICO GENERAL DEL SISTEMA DE CALEFACCIÓN DE LA SEDE PRINCIPAL UBICADO EN LA AVENIDA CARACAS No 54-43 | F5: SERVICIO | G5: 1 | H5: 10486378 | I5: 10486378 | J5: =+H5*G5-I5 -> 0
C6: 2 | D6: SERVICIO | E6: DIAGNÓSTICO GENERAL DEL SISTEMA DE CALEFACCIÓN DE LA SEDE DEL CENTRO DE ATENCIÓN VALORACIÓN Y REHABILITACIÓN DE FLORA Y FAUNA SILVESTRE UBICADO EN LA CALLE 64 # 128-10/50 ENGATIVA | F6: SERVICIO | G6: 1 | H6: 56415474 | I6: 56415474 | J6: =+H6*G6-I6 -> 0
C7: 3 | D7: SERVICIO | E7: MANTENIMIENTO PREVENTIVO SISTEMA DE CALEFACCIÓN SEDE PRINCIPAL SEGÚN LO DESCRITO EN LA FICHA TÉCNICA DEL PROCESO. | F7: SERVICIO | G7: 1 | H7: 4905019 | I7: 4905019 | J7: =+H7*G7-I7 -> 0
C8: 4 | D8: SERVICIO | E8: MANTENIMIENTO PREVENTIVO SISTEMA DE CALEFACCIÓN SEDE DEL CENTRO DE ATENCIÓN VALORACIÓN Y REHABILITACIÓN DE FLORA Y FAUNA SILVESTRE UBICADO EN LA CALLE 64 # 128-10/50 ENGATIVA | F8: SERVICIO | G8: 1 | H8: 82093286 | I8: 82093286 | J8: =+H8*G8-I8 -> 0
C9: 5 | D9: SERVICIO | E9: MANTENIMIENTO GENERAL DE CALENTADORES DE TIRO FORZADO MARCA CHALLENGER WHG7104 - | F9: SERVICIO | G9: 5 | H9: 558580 | I9: 2792900 | J9: =+H9*G9-I9 -> 0
C10: 6 | D10: SERVICIO | E10: LAVADO DEL CIRCUITO CERRADO DE CALEFACCIÓN EN LA SEDE PRINCIPAL Y APLICACIÓN DE QUÍMICO DESINCRUSTANTE Y SUAVIZANTE, PUESTA A PUNTO | F10: SERVICIO | G10: 1 | H10: 8471797 | I10: 8471797 | J10: =+H10*G10-I10 -> 0
C11: 7 | D11: SERVICIO | E11: LIMPIEZA FLUIDO SOLAR Y APLICACIÓN DE MONOPROPILENGLICOL EN LA SEDE PRINCIPAL | F11: SERVICIO | G11: 1 | H11: 11606052 | I11: 11606052 | J11: =+H11*G11-I11 -> 0
C12: 8 | D12: SERVICIO | E12: REPARACIÓN AISLAMIENTOS ENERGIA SOLAR Y REPINTADA EN LA SEDE PRINCIPAL | F12: SERVICIO | G12: 1 | H12: 5647865 | I12: 5647865 | J12: =+H12*G12-I12 -> 0
C13: 9 | D13: SERVICIO | E13: LAVADO INTERNO DE TANQUE DE ACUMULACIÓN DE AGUA CALIENTE EN LA SEDE PRINCIPAL | F13: SERVICIO | G13: 1 | H13: 1452308 | I13: 1452308 | J13: =+H13*G13-I13 -> 0
C14: 10 | D14: SERVICIO | E14: LAVADO DEL CIRCUITO CERRADO SOLAR Y CALEFACCIÓN Y PUESTA A PUNTO DE CIRCUITOS EN LA SEDE DEL CAVRFFS | F14: SERVICIO | G14: 4 | H14: 4344512 | I14: 17378048 | J14: =+H14*G14-I14 -> 0
C15: 11 | D15: SERVICIO | E15: DRENAJE, LAVADO INTERNO DE TANQUES DE CALENTAMIENTO Y CIRCUITOS DE CALEFACCIÓN EN LA SEDE DEL CAVRFFS | F15: SERVICIO | G15: 10 | H15: 806644 | I15: 8066440 | J15: =+H15*G15-I15 -> 0
C16: 12 | D16: SERVICIO | E16: EQUIPOS MOVILES PARA CALEFACCIÓN AUXILIAR EN ÁREA DE NEONATOS, HOSPITALIZACIÓN Y REPTILES, | F16: GBL | G16: 1 | H16: 4529619 | I16: 4529619 | J16: =+H16*G16-I16 -> 0
... C26: 22 | D26: SUMINISTRO | E26: KIT DE EMPAQUES PARA THERM8000S | F26: UND | G26: 3 | H26: 303543 | I26: 910629 | J26: =+H26*G26-I26 -> 0
I28: =+SUM(I5:I26) -> 242412248

Sheet Hoja1
C3: ÍTEM/ EQUIPOS | D3: TIPO | E3: DESCRIPCIÓN | F3: CANTIDAD | G3: UNIDAD DE MEDIDA | H3: VALOR DE REFERENCIA UNITARIO | I3: VALOR DE REFERENCIA TOTAL | J3: CRITERIO | L3: =+SUM(I4:I6) -> 51787815
C4: 1 | D4: SUMINISTRO | E4: AIRE ACONDICIONADO DE 4 VÍAS TIPO CASSETTE INVERTER (INCLUYE EVAPORADORA Y CONDENSADORA) | F4: 2 | G4: UNIDAD | H4: 12274136 | I4: 24548272 | J4: PROMEDIO
C5: 2 | D5: INSTALACION | E5: INSTALACIÓN DE EQUIPO Y SUMINISTRO E INSTALACIÓN DE ACCESORIOS | F5: 2 | G5: GLOBAL | H5: 1868300 | I5: 3736600 | J5: MENOR VALOR
C6: 3 | D6: SUMINISTRO E INSTALACIÓN | E6: EQUIPO AIRE ACONDICIONADO TIPO SPLIT, EL CUAL DEBE CONTAR CON DOS UNIDADES SEPARADAS, UNA INTERNA | F6: 3 | G6: UNIDAD | H6: 7834314.4 | I6: 23502943 | J6: MEDIA ARMONICA

Sheet COLSAM
A1: ÍTEM/ EQUIPOS | B1: TIPO | C1: DESCRIPCIÓN | D1: CANTIDAD | E1: PRECIO UNITARIO ANTES DE IVA | F1: IVA | G1: VALOR UNITARIO IVA INCLUIDO | H1: VALOR TOTAL
A2: 1 | B2: SERVICIO | C2: MANTENIMIENTO PREVENTIVO RED DE SUMINISTRO DE AGUA POTABLE SEDE CENTRAL (Av. Caracas # 54 - 38) | D2: 3 | E2: 260000 | F2: =+E2*19% -> 49400 | G2: =+E2+F2 -> 309400 | H2: =+D2*G2 -> 928200
A3: 2 | B3: SERVICIO | C3: MANTENIMIENTO PREVENTIVO RED DE SUMINISTRO DE AGUA POTABLE SEDE CENTRAL (Av. Caracas # 54 - 38) | D3: 3 | E3: 260000 | F3: =+E3*19% -> 49400 | G3: =+E3+F3 -> 309400 | H3: =+D3*G3 -> 928200
A4: 3 | B4: SERVICIO | C4: MANTENIMIENTO PREVENTIVO RED DE AGUAS RESIDUALES SEDE CENTRAL (Av. Caracas # 54 - 38) | D4: 3 | E4: 240000 | F4: =+E4*19% -> 45600 | G4: =+E4+F4 -> 285600 | H4: =+D4*G4 -> 856800
A5: 4 | B5: SERVICIO | C5: MANTENIMIENTO PREVENTIVO RED DE SUMINISTRO DE AGUA POTABLE SEDE CAVRFFS (CALLE 64 # 128-10/50) | D5: 3 | E5: 260000 | F5: =+E5*19% -> 49400 | G5: =+E5+F5 -> 309400 | H5: =+D5*G5 -> 928200
A6: 5 | B6: SERVICIO | C6: MANTENIMIENTO PREVENTIVO SISTEMA COMPLEMENTARIO PARA RECIRCULACIÓN DEL AGUA LLUVIA Y RESIDUAL TRATADA SEDE CAVRFFS (CALLE 64 # 128-10/50) | D6: 3 | E6: 260000 | F6: =+E6*19% -> 49400 | G6: =+E6+F6 -> 309400 | H6: =+D6*G6 -> 928200
A7: 6 | B7: SERVICIO | C7: MANTENIMIENTO PREVENTIVO PLANTA PARA TRATAMIENTO DE AGUAS CON CONTENIDO PATÓGENO SEDE CAVRFFS (CALLE 64 # 128-10/50) | D7: 3 | E7: 260000 | F7: =+E7*19% -> 49400 | G7: =+E7+F7 -> 309400 | H7: =+D7*G7 -> 928200
A8: 7 | B8: SERVICIO | C8: MANTENIMIENTO PREVENTIVO SISTEMA DE TRATAMIENTO HÍBRIDO PARA REÚSO DE AGUAS LLUVIAS Y RESIDUALES SEDE CAVRFFS (CALLE 64 # 128-10/50) | D8: 3 | E8: 260000 | F8: =+E8*19% -> 49400 | G8: =+E8+F8 -> 309400 | H8: =+D8*G8 -> 928200
A9: 8 | B9: SERVICIO | C9: MANTENIMIENTO PREVENTIVO RED DE SUMINISTRO DE AGUA POTABLE PARQUE MIRADOR DE LOS NEVADOS (Carrera 86A # 145-50) | D9: 3 | E9: 240000 | F9: =+E9*19% -> 45600 | G9: =+E9+F9 -> 285600 | H9: =+D9*G9 -> 856800
A10: 9 | B10: SERVICIO | C10: MANTENIMIENTO PREVENTIVO RED DE SUMINISTRO DE AGUA LLUVIA PARQUE MIRADOR DE LOS NEVADOS (Carrera 86A # 145-50) | D10: 3 | E10: 240000 | F10: =+E10*19% -> 45600 | G10: =+E10+F10 -> 285600 | H10: =+D10*G10 -> 856800
A11: 10 | B11: SERVICIO | C11: MANTENIMIENTO PREVENTIVO RED DE SUMINISTRO DE AGUA POTABLE PARQUE MIRADOR JUAN REY - ENTRE NUBES Carrera 11C ESTE 72A SUR - Antigua vía al llano (Av carrera 15 ESTE) (LOCALIDAD DE SAN CRISTOBAL) | D11: 3 | E11: 260000 | F11: =+E11*19% -> 49400 | G11: =+E11+F11 -> 309400 | H11: =+D11*G11 -> 928200
A12: 11 | B12: SERVICIO | C12: MANTENIMIENTO PREVENTIVO RED DE SUMINISTRO AGUAS LLUVIAS PARQUE MIRADOR JUAN REY - ENTRE NUBES Carrera 11C ESTE 72A SUR - Antigua vía al llano (Av carrera 15 ESTE) - (LOCALIDAD DE SAN CRISTOBAL) | D12: 3 | E12: 240000 | F12: =+E12*19% -> 45600 | G12: =+E12+F12 -> 285600 | H12: =+D12*G12 -> 856800
A13: 12 | B13: SERVICIO | C13: MANTENIMIENTO PREVENTIVO SISTEMAS DE LAVADO - HIDROLAVADORAS SEDE CAVRFFS (CALLE 64 # 128-10/50) | D13: 7 | E13: 85000 | F13: =+E13*19% -> 16150 | G13: =+E13+F13 -> 101150 | H13: =+D13*G13 -> 708050
... A50: 49 | B50: SERVICIO | C50: TANQUE DE ESTABILIZACIÓN AGUA RESIDUAL – PLÁSTICO DE 2.000 L x 1 UNIDAD - SEDE CAVRFFS (CALLE 64 N° 128-10) | D50: 2 | E50: 250000 | F50: =+E50*19% -> 47500 | G50: =+E50+F50 -> 297500 | H50: =+D50*G50 -> 595000
E51: TOTAL COTIZACIÓN | H51: =+SUM(H2:H50) -> 89072690

Sheet TESCOL
A1: ÍTEM/ EQUIPOS | B1: TIPO | C1: DESCRIPCIÓN | D1: CANTIDAD | E1: PRECIO UNITARIO ANTES DE IVA | F1: IVA | G1: VALOR UNITARIO IVA INCLUIDO | H1: VALOR TOTAL
A2: 1 | B2: SERVICIO | C2: MANTENIMIENTO PREVENTIVO RED DE SUMINISTRO DE AGUA POTABLE SEDE CENTRAL (Av. Caracas # 54 - 38) | D2: 3 | E2: 480000 | F2: =+E2*19% -> 91200 | G2: =+E2+F2 -> 571200 | H2: =+D2*G2 -> 1713600
A3: 2 | B3: SERVICIO | C3: MANTENIMIENTO PREVENTIVO RED DE SUMINISTRO DE AGUA POTABLE SEDE CENTRAL (Av. Caracas # 54 - 38) | D3: 3 | E3: 480000 | F3: =+E3*19% -> 91200 | G3: =+E3+F3 -> 571200 | H3: =+D3*G3 -> 1713600
A4: 3 | B4: SERVICIO | C4: MANTENIMIENTO PREVENTIVO RED DE AGUAS RESIDUALES SEDE CENTRAL (Av. Caracas # 54 - 38) | D4: 3 | E4: 480000 | F4: =+E4*19% -> 91200 | G4: =+E4+F4 -> 571200 | H4: =+D4*G4 -> 1713600
A5: 4 | B5: SERVICIO | C5: MANTENIMIENTO PREVENTIVO RED DE SUMINISTRO DE AGUA POTABLE SEDE CAVRFFS (CALLE 64 # 128-10/50) | D5: 3 | E5: 450000 | F5: =+E5*19% -> 85500 | G5: =+E5+F5 -> 535500 | H5: =+D5*G5 -> 1606500
A6: 5 | B6: SERVICIO | C6: MANTENIMIENTO PREVENTIVO SISTEMA COMPLEMENTARIO PARA RECIRCULACIÓN DEL AGUA LLUVIA Y RESIDUAL TRATADA SEDE CAVRFFS (CALLE 64 # 128-10/50) | D6: 3 | E6: 400000 | F6: =+E6*19% -> 76000 | G6: =+E6+F6 -> 476000 | H6: =+D6*G6 -> 1428000
A7: 6 | B7: SERVICIO | C7: MANTENIMIENTO PREVENTIVO PLANTA PARA TRATAMIENTO DE AGUAS CON CONTENIDO PATÓGENO SEDE CAVRFFS (CALLE 64 # 128-10/50) | D7: 3 | E7: 400000 | F7: =+E7*19% -> 76000 | G7: =+E7+F7 -> 476000 | H7: =+D7*G7 -> 1428000
A8: 7 | B8: SERVICIO | C8: MANTENIMIENTO PREVENTIVO SISTEMA DE TRATAMIENTO HÍBRIDO PARA REÚSO DE AGUAS LLUVIAS Y RESIDUALES SEDE CAVRFFS (CALLE 64 # 128-10/50) | D8: 3 | E8: 450000 | F8: =+E8*19% -> 85500 | G8: =+E8+F8 -> 535500 | H8: =+D8*G8 -> 1606500
A9: 8 | B9: SERVICIO | C9: MANTENIMIENTO PREVENTIVO RED DE SUMINISTRO DE AGUA POTABLE PARQUE MIRADOR DE LOS NEVADOS (Carrera 86A # 145-50) | D9: 3 | E9: 450000 | F9: =+E9*19% -> 85500 | G9: =+E9+F9 -> 535500 | H9: =+D9*G9 -> 1606500
A10: 9 | B10: SERVICIO | C10: MANTENIMIENTO PREVENTIVO RED DE SUMINISTRO DE AGUA LLUVIA PARQUE MIRADOR DE LOS NEVADOS (Carrera 86A # 145-50) | D10: 3 | E10: 400000 | F10: =+E10*19% -> 76000 | G10: =+E10+F10 -> 476000 | H10: =+D10*G10 -> 1428000
A11: 10 | B11: SERVICIO | C11: MANTENIMIENTO PREVENTIVO RED DE SUMINISTRO DE AGUA POTABLE PARQUE MIRADOR JUAN REY - ENTRE NUBES Carrera 11C ESTE 72A SUR - Antigua vía al llano (Av carrera 15 ESTE) (LOCALIDAD DE SAN CRISTOBAL) | D11: 3 | E11: 450000 | F11: =+E11*19% -> 85500 | G11: =+E11+F11 -> 535500 | H11: =+D11*G11 -> 1606500
A12: 11 | B12: SERVICIO | C12: MANTENIMIENTO PREVENTIVO RED DE SUMINISTRO AGUAS LLUVIAS PARQUE MIRADOR JUAN REY - ENTRE NUBES Carrera 11C ESTE 72A SUR - Antigua vía al llano (Av carrera 15 ESTE) - (LOCALIDAD DE SAN CRISTOBAL) | D12: 3 | E12: 400000 | F12: =+E12*19% -> 76000 | G12: =+E12+F12 -> 476000 | H12: =+D12*G12 -> 1428000
A13: 12 | B13: SERVICIO | C13: MANTENIMIENTO PREVENTIVO SISTEMAS DE LAVADO - HIDROLAVADORAS SEDE CAVRFFS (CALLE 64 # 128-10/50) | D13: 7 | E13: 120000 | F13: =+E13*19% -> 22800 | G13: =+E13+F13 -> 142800 | H13: =+D13*G13 -> 999600
... A50: 49 | B50: SERVICIO | C50: TANQUE DE ESTABILIZACIÓN AGUA RESIDUAL – PLÁSTICO DE 2.000 L x 1 UNIDAD - SEDE CAVRFFS (CALLE 64 N° 128-10) | D50: 2 | E50: 490000 | F50: =+E50*19% -> 93100 | G50: =+E50+F50 -> 583100 | H50: =+D50*G50 -> 1166200
E51: TOTAL COTIZACIÓN | H51: =+SUM(H2:H50) -> 102506838

Sheet SOLHID
A1: ÍTEM/ EQUIPOS | B1: TIPO | C1: DESCRIPCIÓN | D1: CANTIDAD | E1: PRECIO UNITARIO ANTES DE IVA | F1: IVA | G1: VALOR UNITARIO IVA INCLUIDO | H1: VALOR TOTAL
A2: 1 | B2: SERVICIO | C2: MANTENIMIENTO PREVENTIVO RED DE SUMINISTRO DE AGUA POTABLE SEDE CENTRAL (Av. Caracas # 54 - 38) | D2: 3 | E2: =265000*1.2 -> 318000 | F2: =+E2*19% -> 60420 | G2: =+E2+F2 -> 378420 | H2: =+D2*G2 -> 1135260
A3: 2 | B3: SERVICIO | C3: MANTENIMIENTO PREVENTIVO RED DE SUMINISTRO DE AGUA POTABLE SEDE CENTRAL (Av. Caracas # 54 - 38) | D3: 3 | E3: =265000*1.2 -> 318000 | F3: =+E3*19% -> 60420 | G3: =+E3+F3 -> 378420 | H3: =+D3*G3 -> 1135260
A4: 3 | B4: SERVICIO | C4: MANTENIMIENTO PREVENTIVO RED DE AGUAS RESIDUALES SEDE CENTRAL (Av. Caracas # 54 - 38) | D4: 3 | E4: =240000*1.2 -> 288000 | F4: =+E4*19% -> 54720 | G4: =+E4+F4 -> 342720 | H4: =+D4*G4 -> 1028160
A5: 4 | B5: SERVICIO | C5: MANTENIMIENTO PREVENTIVO RED DE SUMINISTRO DE AGUA POTABLE SEDE CAVRFFS (CALLE 64 # 128-10/50) | D5: 3 | E5: =265000*1.2 -> 318000 | F5: =+E5*19% -> 60420 | G5: =+E5+F5 -> 378420 | H5: =+D5*G5 -> 1135260
A6: 5 | B6: SERVICIO | C6: MANTENIMIENTO PREVENTIVO SISTEMA COMPLEMENTARIO PARA RECIRCULACIÓN DEL AGUA LLUVIA Y RESIDUAL TRATADA SEDE CAVRFFS (CALLE 64 # 128-10/50) | D6: 3 | E6: =265000*1.2 -> 318000 | F6: =+E6*19% -> 60420 | G6: =+E6+F6 -> 378420 | H6: =+D6*G6 -> 1135260
A7: 6 | B7: SERVICIO | C7: MANTENIMIENTO PREVENTIVO PLANTA PARA TRATAMIENTO DE AGUAS CON CONTENIDO PATÓGENO SEDE CAVRFFS (CALLE 64 # 128-10/50) | D7: 3 | E7: =265000*1.2 -> 318000 | F7: =+E7*19% -> 60420 | G7: =+E7+F7 -> 378420 | H7: =+D7*G7 -> 1135260
A8: 7 | B8: SERVICIO | C8: MANTENIMIENTO PREVENTIVO SISTEMA DE TRATAMIENTO HÍBRIDO PARA REÚSO DE AGUAS LLUVIAS Y RESIDUALES SEDE CAVRFFS (CALLE 64 # 128-10/50) | D8: 3 | E8: =265000*1.2 -> 318000 | F8: =+E8*19% -> 60420 | G8: =+E8+F8 -> 378420 | H8: =+D8*G8 -> 1135260
A9: 8 | B9: SERVICIO | C9: MANTENIMIENTO PREVENTIVO RED DE SUMINISTRO DE AGUA POTABLE PARQUE MIRADOR DE LOS NEVADOS (Carrera 86A # 145-50) | D9: 3 | E9: =240000*1.2 -> 288000 | F9: =+E9*19% -> 54720 | G9: =+E9+F9 -> 342720 | H9: =+D9*G9 -> 1028160
A10: 9 | B10: SERVICIO | C10: MANTENIMIENTO PREVENTIVO RED DE SUMINISTRO DE AGUA LLUVIA PARQUE MIRADOR DE LOS NEVADOS (Carrera 86A # 145-50) | D10: 3 | E10: =240000*1.2 -> 288000 | F10: =+E10*19% -> 54720 | G10: =+E10+F10 -> 342720 | H10: =+D10*G10 -> 1028160
A11: 10 | B11: SERVICIO | C11: MANTENIMIENTO PREVENTIVO RED DE SUMINISTRO DE AGUA POTABLE PARQUE MIRADOR JUAN REY - ENTRE NUBES Carrera 11C ESTE 72A SUR - Antigua vía al llano (Av carrera 15 ESTE) (LOCALIDAD DE SAN CRISTOBAL) | D11: 3 | E11: =265000*1.2 -> 318000 | F11: =+E11*19% -> 60420 | G11: =+E11+F11 -> 378420 | H11: =+D11*G11 -> 1135260
A12: 11 | B12: SERVICIO | C12: MANTENIMIENTO PREVENTIVO RED DE SUMINISTRO AGUAS LLUVIAS PARQUE MIRADOR JUAN REY - ENTRE NUBES Carrera 11C ESTE 72A SUR - Antigua vía al llano (Av carrera 15 ESTE) - (LOCALIDAD DE SAN CRISTOBAL) | D12: 3 | E12: =240000*1.2 -> 288000 | F12: =+E12*19% -> 54720 | G12: =+E12+F12 -> 342720 | H12: =+D12*G12 -> 1028160
A13: 12 | B13: SERVICIO | C13: MANTENIMIENTO PREVENTIVO SISTEMAS DE LAVADO - HIDROLAVADORAS SEDE CAVRFFS (CALLE 64 # 128-10/50) | D13: 7 | E13: =85000*1.2 -> 102000 | F13: =+E13*19% -> 19380 | G13: =+E13+F13 -> 121380 | H13: =+D13*G13 -> 849660
A14: 13 | B14: SERVICIO | C14: DIAGNÓSTICO DE BOMBA SUMERGIBLE DE 3 HP DE POTENCIA – BOMBA DEL TANQUE DE LA RED DE AGUAS RESIDUALES SEDE CENTRAL (Av. Caracas # 54 - 38) | D14: 1 | E14: =160000*1.2 -> 192000 | F14: =+E14*19% -> 36480 | G14: =+E14+F14 -> 228480 | H14: =+D14*G14 -> 228480
A15: 14 | B15: SERVICIO | C15: DIAGNÓSTICO DE BOMBA SUMERGIBLE BLUE PUMP – MODELO 80WQ1.5-49 DE 2 HP DE POTENCIA - BOMBA DE EMERGENCIA TIPO INATASCABLE DE LA SEDE CENTRAL (Av. Caracas # 54 - 38) | D15: 1 | E15: =160000*1.2 -> 192000 | F15: =+E15*19% -> 36480 | G15: =+E15+F15 -> 228480 | H15: =+D15*G15 -> 228480
A16: 15 | B16: SERVICIO | C16: DIAGNÓSTICO DE BOMBA CENTRIFUGA LR 38324 / MARCA WEG / POTENCIA DE 3 HP / 220 VOLTIOS. DE LA RED DE SUMINISTRO DE AGUA POTABLE SEDE CENTRAL (Av. Caracas # 54 - 38) | D16: 1 | E16: =160000*1.2 -> 192000 | F16: =+E16*19% -> 36480 | G16: =+E16+F16 -> 228480 | H16: =+D16*G16 -> 228480
A17: 16 | B17: SERVICIO | C17: DIAGNÓSTICO BOMBA SUMERGIBLE EYECTORA MARCA FLOWPRESS / MODELO SW 0.5T / 220V / POTENCIA 0.5 HP / FRECUENCIA 60 HZ. DEL SISTEMA DE TRATAMIENTO HÍBRIDO PARA REÚSO DE AGUAS LLUVIAS Y RESIDUALES SEDE CAVRFFS (CALLE 64 # 128-10/50) | D17: 1 | E17: =160000*1.2 -> 192000 | F17: =+E17*19% -> 36480 | G17: =+E17+F17 -> 228480 | H17: =+D17*G17 -> 228480
A18: 17 | B18: SERVICIO | C18: DIAGNÓSTICO GENERAL DEL SISTEMA DE TRATAMIENTO IMPLEMENTADO PARA MANEJO DE AGUAS CON CONTENIDO PATÓGENO DE LA ENFERMERÍA Y LA VETERINARÍA EN EL CAVRFFS | D18: 1 | E18: =366000*1.2 -> 439200 | F18: =+E18*19% -> 83448 | G18: =+E18+F18 -> 522648 | H18: =+D18*G18 -> 522648
A19: 18 | B19: SERVICIO | C19: DIAGNÓSTICO DE BOMBA BARNES MODELO 20 15HCP 7,5 DE 2” DE DESCARGA, BOMBA NÚMERO 2 DE LA RED DE SUMINISTRO DE AGUA POTABLE PARQUE MIRADOR DE LOS NEVADOS (Carrera 86A # 145-50) | D19: 1 | E19: =160000*1.2 -> 192000 | F19: =+E19*19% -> 36480 | G19: =+E19+F19 -> 228480 | H19: =+D19*G19 -> 228480
A20: 19 | B20: SUMINISTRO | C20: SUMINISTRO, INSTALACIÓN Y AUTOMATIZACIÓN DE TANQUE HIDROACUMULADOR DE 500 LITROS DE LA RED DE SUMINISTRO DE AGUA POTABLE SEDE CENTRAL (Av. Caracas # 54 - 38) | D20: 1 | E20: =420000*1.2 -> 504000 | F20: =+E20*19% -> 95760 | G20: =+E20+F20 -> 599760 | H20: =+D20*G20 -> 599760
A21: 20 | B21: SUMINISTRO | C21: SUMINISTRO E INATALACIÓN DE MANÓMETRO DE 0 A 200 PSI CON GLISERINA DE LA BOMBA NÚMERO 2 DE LA RED DE SUMINISTRO DE AGUA POTABLE SEDE CENTRAL (Av. Caracas # 54 - 38) | D21: 1 | E21: =84000*1.2 -> 100800 | F21: =+E21*19% -> 19152 | G21: =+E21+F21 -> 119952 | H21: =+D21*G21 -> 119952
A22: 21 | B22: SUMINISTRO | C22: CAMBIO DE RODAMIENTOS Y SELLO MECÁNICO DE LA BOMBA NÚMERO 1 DE 5HP DEL SISTEMA DE BOMBEO DE AGUA LLUVIA DE LA SEDE PRINCIPAL DE LA SDA (Av. Caracas # 54 - 38) | D22: 1 | E22: =433000*1.2 -> 519600 | F22: =+E22*19% -> 98724 | G22: =+E22+F22 -> 618324 | H22: =+D22*G22 -> 618324
A23: 22 | B23: SUMINISTRO | C23: SUMINISTRO E INSTALACIÓN DE VÁLVULA DE PIE EN 3” DE SUCCIÓN DE LA BOMBA NÚMERO 2 DE LA RED DE SUMINISTRO DE AGUAS LLUVIAS SEDE CENTRAL (Av. Caracas # 54 - 38) | D23: 1 | E23: =853000*1.2 -> 1023600 | F23: =+E23*19% -> 194484 | G23: =+E23+F23 -> 1218084 | H23: =+D23*G23 -> 1218084
A24: 23 | B24: SUMINISTRO | C24: SUMINISTRO E INSTALACIÓN DE TUBERÍA EN ACERO INOXIDABLE PARA LA SUCCIÓN DE LA BOMBA NÚMERO 2 DE LA RED DE SUMINISTRO DE AGUAS LLUVIAS SEDE CENTRAL (Av. Caracas # 54 - 38) | D24: 1 | E24: =875000*1.2 -> 1050000 | F24: =+E24*19% -> 199500 | G24: =+E24+F24 -> 1249500 | H24: =+D24*G24 -> 1249500
A25: 24 | B25: SUMINISTRO | C25: SUMINISTRO, INSTALACIÓN Y AUTOMATIZACIÓN DE SIRENA DE EMERGECNIAS DE LA RED DE AGUAS RESIDUALES SEDE CENTRAL (Av. Caracas # 54 - 38) | D25: 1 | E25: =190000*1.2 -> 228000 | F25: =+E25*19% -> 43320 | G25: =+E25+F25 -> 271320 | H25: =+D25*G25 -> 271320
A26: 25 | B26: SUMINISTRO | C26: SUMINISTRO, INSTALACIÓN Y AUTOMATIZACIÓN DE CONTACTOR EN EL TABLERO DE CONTROL DE LA RED DE AGUAS RESIDUALES SEDE CENTRAL (Av. Caracas # 54 - 38) | D26: 1 | E26: =285000*1.2 -> 342000 | F26: =+E26*19% -> 64980 | G26: =+E26+F26 -> 406980 | H26: =+D26*G26 -> 406980
A27: 26 | B27: SUMINISTRO | C27: SUMINISTRO E INSTALACIÓN DE CABLEADO ELÉCTRICO ENCAUCHETADO 2X16 AWG CORTOCIRCUIDATO DE FLOTADOR ELÉCTRICO DE LA RED DE AGUAS RESIDUALES SEDE CENTRAL (Av. Caracas # 54 - 38) | D27: 5 | E27: =75000*1.2 -> 90000 | F27: =+E27*19% -> 17100 | G27: =+E27+F27 -> 107100 | H27: =+D27*G27 -> 535500
A28: 27 | B28: SUMINISTRO | C28: SUMINISTRO, INSTALACIÓN Y AUTOMATIZACIÓN DE TANQUE HIDROACUMULADOR DE 300 LITROS DE LA RED DE SUMINISTRO DE AGUA POTABLE SEDE CAVRFFS (CALLE 64 # 128-10/50) | D28: 1 | E28: =3600000*1.2 -> 4320000 | F28: =+E28*19% -> 820800 | G28: =+E28+F28 -> 5140800 | H28: =+D28*G28 -> 5140800
A29: 28 | B29: SUMINISTRO | C29: SUMINISTRO, INSTALACIÓN Y AUTOMATIZACIÓN DE TABLERO DE CONTROL CON CERTIFICACIÓN RETIE PARA ARRANQUE DE TRES MOTOBOMBAS CON ALTERNACIÓN LÓGICA 220V 12 AMPERIOS (INCLUYE TOTALIZADOR TRIPOLAR DE 30 AMPERIOS, SIRENA DE EMERGENCIAS, ARRANCADORES, CONTACTORES, CABLEADO, DUCTERÍA Y TODOS LOS ELEMENTOS NECESARIOS PARA LA AUTOMATIZACIÓN DE LA RED DE SUMINISTRO DE AGUA POTABLE SEDE CAVRFFS (CALLE 64 # 128-10/50) | D29: 1 | E29: =4746000*1.2 -> 5695200 | F29: =+E29*19% -> 1082088 | G29: =+E29+F29 -> 6777288 | H29: =+D29*G29 -> 6777288
A30: 29 | B30: SUMINISTRO | C30: SUMINISTRO, INSTALACIÓN Y AUTOMATIZACIÓN DE TABLERO DE CONTROL CON CERTIFICACIÓN RETIE PARA ARRANQUE DE DOS MOTOBOMBAS EYECTORAS DE 6AMPERIOS A 220V Y UNA BOMBA DE RECIRCULACIÓN DE 9 AMPERIOS A 220V (SELEOIDE, SIRENA DE EMERGENCIAS, ARRANCADORES, CONTACTORES, CABLEADO, DUCTERÍA Y TODOS LOS ELEMENTOS NECESARIOS PARA LA AUTOMATIZACIÓN DEL SISTEMA COMPLEMENTARIO PARA RECIRCULACIÓN DEL AGUA LLUVIA Y RESIDUAL TRATADA SEDE CAVRFFS (CALLE 64 # 128-10/50) | D30: 1 | E30: =4500000*1.2 -> 5400000 | F30: =+E30*19% -> 1026000 | G30: =+E30+F30 -> 6426000 | H30: =+D30*G30 -> 6426000
A31: 30 | B31: SERVICIO | C31: ESTUDIO DE CARGAS CALCULADAS DE LA ACOMETIDA ELÉCTRICA TRIFÁSICA PARA LA ADECUACIÓN DE LAS HIDROLAVADORAS AL SISTEMA ELÉCTRICO CONFORME A LA NTC2050 Y RETIE DE LA SEDE CAVRFFS) (CALLE 64 # 128-10/50) | D31: 1 | E31: =2400000*1.2 -> 2880000 | F31: =+E31*19% -> 547200 | G31: =+E31+F31 -> 3427200 | H31: =+D31*G31 -> 3427200
A32: 31 | B32: SERVICIO | C32: RETIRO DE BOMBA CENTRÍFUGA MARCA BARNES / POTENCIA DE 2 HP / REFERENCIA 1E0508 / MODELO AP3-EE 1.5 20-1-301 / 220 VOLTIOS, SECADO, RESTAURACIÓN DEL AISLAMIENTO, CAMBIO DE RODAMIENTOS, SELLO MECANICO E INSTALACIÓN DE BOMBA DE LA RED DE SUMINISTRO DE AGUA POTABLE SEDE CAVRFFS (CALLE 64 # 128-10/50) | D32: 2 | E32: =800000*1.2 -> 960000 | F32: =+E32*19% -> 182400 | G32: =+E32+F32 -> 1142400 | H32: =+D32*G32 -> 2284800
A33: 32 | B33: SERVICIO | C33: RETIRO DE BOMBA CENTRÍFUGA MARCA BARNES / POTENCIA DE 2 HP / REFERENCIA 1E0508 / MODELO AP3-EE 1.5 20-1-301 / 220 VOLTIOS, SECADO, RESTAURACIÓN DEL AISLAMIENTO, CAMBIO DE RODAMIENTOS, SELLO MECANICO E INSTALACIÓN DE BOMBA DEL SISTEMA COMPLEMENTARIO PARA RECIRCULACIÓN DEL AGUA LLUVIA Y RESIDUAL TRATADA SEDE CAVRFFS (CALLE 64 # 128-10/50) | D33: 3 | E33: =800000*1.2 -> 960000 | F33: =+E33*19% -> 182400 | G33: =+E33+F33 -> 1142400 | H33: =+D33*G33 -> 3427200
A34: 33 | B34: SUMINISTRO | C34: SUMINISTRO E INSTALACIÓN DE PRESOSTATO DE 20 A 40 PSI DE LA RED DE SUMINISTRO DE AGUA POTABLE SEDE CAVRFFS (CALLE 64 # 128-10/50) | D34: 3 | E34: =157000*1.2 -> 188400 | F34: =+E34*19% -> 35796 | G34: =+E34+F34 -> 224196 | H34: =+D34*G34 -> 672588
A35: 34 | B35: SUMINISTRO | C35: SUMINISTRO E INATALACIÓN DE MANÓMETRO DE 0 A 200 PSI CON GLISERINA DE LA RED DE SUMINISTRO DE AGUA POTABLE SEDE CAVRFFS (CALLE 64 # 128-10/50) | D35: 1 | E35: =84000*1.2 -> 100800 | F35: =+E35*19% -> 19152 | G35: =+E35+F35 -> 119952 | H35: =+D35*G35 -> 119952
A36: 35 | B36: SUMINISTRO | C36: SUMINISTRO E INSTALACION DE TABLERO ELECTRICO PARA DOS MOTOBOMBAS SUMERGIBLES DE 1 HP CON ALTERNANCIA, ARRANCADORES DIRECTOS Y PROTECIONES TERMICAS – CON CERTIFICACIÓN RETIE RED DE SUMINISTRO DE AGUA POTABLE PARQUE MIRADOR JUAN REY - ENTRE NUBES - Carrera 11C ESTE 72A SUR - Antigua vía al llano (Av carrera 15 ESTE) (LOCALIDAD DE SAN CRISTOBAL) | D36: 1 | E36: =4155000*1.2 -> 4986000 | F36: =+E36*19% -> 947340 | G36: =+E36+F36 -> 5933340 | H36: =+D36*G36 -> 5933340
A37: 36 | B37: SERVICIO | C37: TANQUE DE AGUA POTABLE SUBTERRANEO DE 110 M3 x 1 UNIDAD - SEDE PRINCIPAL DE LA ENTIDAD (AV. CARACAS # 54-38) | D37: 2 | E37: 655000 | F37: =+E37*19% -> 124450 | G37: =+E37+F37 -> 779450 | H37: =+D37*G37 -> 1558900
A38: 37 | B38: SERVICIO | C38: TANQUE DE AGUA POTABLE SUBTERRANEO DE 50 M3 x 1 UNIDAD - PARQUE MIRADOR DE LOS NEVADOS (Carrera 86A n.º 145-50) | D38: 2 | E38: =380000*1.2 -> 456000 | F38: =+E38*19% -> 86640 | G38: =+E38+F38 -> 542640 | H38: =+D38*G38 -> 1085280
A39: 38 | B39: SERVICIO | C39: TANQUE DE AGUA POTABLE SUBTERRANEO DE 43 M3 x 1 UNIDAD - SEDE CAVRFFS (CALLE 64 N° 128-10) | D39: 2 | E39: =380000*1.2 -> 456000 | F39: =+E39*19% -> 86640 | G39: =+E39+F39 -> 542640 | H39: =+D39*G39 -> 1085280
A40: 39 | B40: SERVICIO | C40: TANQUE DE AGUA POTABLE PLASTICO DE 2000 LTS x 1 UNIDAD - Parque Entre Nubes | D40: 2 | E40: 325000 | F40: =+E40*19% -> 61750 | G40: =+E40+F40 -> 386750 | H40: =+D40*G40 -> 773500
...

Sheet PRADO
A1: ÍTEM/ EQUIPOS | B1: TIPO | C1: DESCRIPCIÓN | D1: CANTIDAD | E1: PRECIO UNITARIO ANTES DE IVA | F1: IVA | G1: VALOR UNITARIO IVA INCLUIDO | H1: VALOR TOTAL
A2: 1 | B2: SERVICIO | C2: MANTENIMIENTO PREVENTIVO RED DE SUMINISTRO DE AGUA POTABLE SEDE CENTRAL (Av. Caracas # 54 - 38) | D2: 3 | E2: 320000 | F2: =+E2*19% -> 60800 | G2: =+E2+F2 -> 380800 | H2: =+D2*G2 -> 1142400
A3: 2 | B3: SERVICIO | C3: MANTENIMIENTO PREVENTIVO RED DE SUMINISTRO DE AGUA POTABLE SEDE CENTRAL (Av. Caracas # 54 - 38) | D3: 3 | E3: 320000 | F3: =+E3*19% -> 60800 | G3: =+E3+F3 -> 380800 | H3: =+D3*G3 -> 1142400
