Workbook

Sheet PORTADA
A1: MINISTERIO DE TRANSPORTE
A3: INSTITUTO NACIONAL DE VÍAS
A4: SUBDIRECCION GESTIÓN INTEGRAL DE CARRETERAS NACIONALES
A9: INFORME TRIMESTRAL
A10: DEL ADMINISTRADOR VIAL GRUPO No. 01
A11: VERSIÓN No. 1 DE FECHA: 30/SEP/2024
A12: CONSORCIO ADMINISTRACION VI 2023
A13: TERRITORIAL ANTIOQUIA
A18: CARRETERAS:
A19: LA MANSA - PRIMAVERA, RUTA 6003
A20: PR0+0000 AL PR44+0200
A21: PR88+0100 AL PR90+0000, PR90+0615 AL PR90+0740 (SECTOR DE LA VÍA ANTIGUA, LADO DERECHO DE LOS PUENTES LOMALINDA), PR92+0024 AL PR92+0280 (SECTOR DE LA VÍA ANTIGUA, LADO IZQUIERDO DE LOS TÚNELES KACHOTIS), PR93+0700 AL PR95+0031
... A36: Sabaneta, octubre de 2024

Sheet TABLA DE CONTENIDO
A1: INSTITUTO NACIONAL DE VÍAS
A2: INFORME FINAL PERÍODO JUNIO - SEPTIEMBRE DE 2024
A3: ADMINISTRACIÓN VIAL GRUPO 01 TERRITORIAL ANTIOQUIA
A5: TABLA DE CONTENIDO
A7: ÍTEM | B7: DESCRIPCIÓN
A9: Cuadro No. 1 | B9: Generalidades | E9: 1
A10: Cuadro No. 2 | B10: Cumplimiento indicadores de servicio de mantenimiento rutinario (M.R.) | E10: 2
A11: Cuadro No. 3 | B11: Relación estado de la red criterio de transitabilidad (visual) | E11: 3
A12: Gráfico No. 1 | B12: Estado de la red criterio de transitabilidad - visual (Semáforo) 6003 | E12: 4
A13: Gráfico No. 1 | B13: Estado de la red criterio de transitabilidad - visual (Semáforo) 6204 | E13: 5
A14: Gráfico No. 1 | B14: Estado de la red criterio de transitabilidad - visual (Semáforo) 6205 | E14: 6
A15: Gráfico No. 1 | B15: Estado de la red criterio de transitabilidad - visual (Semáforo) 6206 | E15: 7
A16: Gráfico No. 2 | B16: Estado de las vías en Torta-CRITERIO DE TRANSITABILIDAD (VISUAL) | E16: 8
A17: Cuadro No. 4 | B17: Relación estado de la red CRITERIO TÉCNICO | E17: 9
A18: Gráfico No. 3 | B18: Estado de la red criterio Técnico 6003 | E18: 10
A19: Gráfico No. 3 | B19: Estado de la red criterio Técnico 6204 | E19: 11
A20: Gráfico No. 3 | B20: Estado de la red criterio Técnico 6205 | E20: 12
... A58: Capacitación Trabajadores Servicio M.R. | B58: Capacitación Trabajadores Servicio de Mantenimiento Rutinario | E58: 50

Sheet GENERALIDADES 
B1: INSTITUTO NACIONAL DE VÍAS
B2: DIRECCIÓN TERRITORIAL ANTIOQUIA
B4: CUADRO No. 1
B6: GENERALIDADES
B8: NOMBRE DEL INGENIERO RESIDENTE: | C8: =+DATOS!C10 -> CARLOS EDUARDO GARCIA CASTILLO
B9: NOMBRE DEL INGENIERO AUXILIAR I: | C9: =+DATOS!C11 -> TATIANA JASBLEYDI MORENO LUGO
B10: NOMBRE DEL INGENIERO AUXILIAR II: | C10: =+DATOS!C12 -> YENNY KATHERINE CORTES MOYANO
B11: SECTOR ADMINISTRADO: | C11: RUTA 6003 - LA MANSA - PRIMAVERA, PR 0+000 AL PR 44+0200; DEL PR 88+0100 AL PR 90+0000,PR90+0615 AL PR90+740 (SECTOR DE LA VÍA ANTIGUA, LADO DERECHO DE LOS PUENTES LOMALINDA), PR92+0024 AL PR92+280 (SECTOR DE LA VÍA ANTIGUA, LADO IZQUIERDO DE LOS TÚNELES KACHOTIS) Y PR93+0700 AL PR95+0031 RUTA 6204 - PUENTE AURRÁ - MEDELLÍN, PR16+0000 AL PR71+0000. RUTA 6205 - HATILLO - CISNEROS, PR09+0000 A PR09+0700 - Paso urbano Barbosa; PR53+0000 A PR54+1158 - Paso urbano Cisneros RUTA 6206 - CISNEROS - PUERTO BERRIO - CRUCE RUTA 45, PR00+0000 A PR01+0000 - Paso Cisneros; PUENTE LA MALENA - PUERTO BERRIO, INCLUIDO PUENTE SOBRE EL RIO MAGDALENA, PR95+0198 A PR97+1261 - Paso urbano Puerto Berrio
B12: DIRECCIÓN OFICINA: | C12: CALLE 65 Sur #46 08 SABANETA ANTIOQUIA
B13: TELÉFONO OFICINA: | C13: 604 - 5966007
B14: CELULARES | J14: CORREO ELECTRÓNICO: | K14: amvial2024@gmail.com
B15: Ingeniero(s) Residente(s): | C15: 3212033309
B16: Ingeniero Auxiliar I: | C16: 3203784430
B17: Ingeniero Auxiliar II: | C17: 3219815259
A20: 1 | B20: CARRETERAS A CARGO
B21: CARRETERA | C21: CÓDIGO | D21: LONGITUD (km) | G21: PRi | H21: PRf | I21: No. DE PUENTES | J21: MICROEMPRESA | K21: OBSERVACIONES
D22: P | E22: A | F22: T
B23: La Mansa - Primavera | C23: 6003 | D23: 44.2 | F23: =+D23+E23 -> 44.2 | G23: 0+0000 | H23: 44200 | I23: 9 | J23: C.T.A. COOPTAHIS
B24: La Mansa - Primavera | C24: 6003 | D24: 1.896 | F24: =SUM(D24:E24) -> 1.896 | G24: 88+0100 | H24: 90+0000 | J24: PRESTASER NORDESTE S.A.S
B25: La Mansa - Primavera | C25: 6003 | D25: 0.134 | F25: =+D25 -> 0.134 | G25: 90+0615 | H25: 90+0740 | J25: PRESTASER NORDESTE S.A.S
B26: La Mansa - Primavera | C26: 6003 | D26: 0.521 | F26: =+D26 -> 0.521 | G26: 92+0024 | H26: 92+0280 | J26: PRESTASER NORDESTE S.A.S
B27: La Mansa - Primavera | C27: 6003 | D27: 1.209 | F27: =+D27 -> 1.209 | G27: 93+0700 | H27: 95+0031 | J27: PRESTASER NORDESTE S.A.S
B28: Santa Fe de Antioquia - Medellín | C28: 6204 | D28: =55040/1000 -> 55.04 | F28: =E28+D28 -> 55.04 | G28: 16+0000 | H28: 71+0000 | I28: 13 | J28: PRESTASER NORDESTE S.A.S
B29: Hatillo - Cisneros | C29: 6205 | D29: 0.7 | F29: =E29+D29 -> 0.7 | G29: 09+0000 | H29: 09+0700 | J29: C.T.A. SANTIAGO
B30: Hatillo - Cisneros | C30: 6205 | D30: 2.12 | F30: =E30+D30 -> 2.12 | G30: 53+0000 | H30: 54+1158 | J30: C.T.A. SANTIAGO
B31: Cisneros - Puerto Berrío | C31: 6206 | D31: 1 | F31: =E31+D31 -> 1 | G31: 0+0000 | H31: 1+0000 | I31: 1 | J31: C.T.A. SANTIAGO
B32: Cisneros - Puerto Berrío | C32: 6206 | D32: 3.063 | F32: =E32+D32 -> 3.063 | G32: 95+0198 | H32: 97+1261 | I32: 2 | J32: C.T.A. SANTIAGO
B33: TOTALES | D33: =SUM(D23:D32) -> 109.883 | E33: =SUM(E23:E32) -> 0 | F33: =SUM(F23:F32) -> 109.883 | I33: =SUM(I23:I32) -> 25
C34: P: Pavimento | F34: A: Afirmado | I34: T: Total
K36: VOLVER A TABLA DE CONTENIDO
B37: NOTA: CUALQUIER CAMBIO DE DIRECCIÓN, CORREO ELECTRÓNICO O TELÉFONO SE DEBE INFORMAR

Sheet CUMPLIMIENTO %
A1: INSTITUTO NACIONAL DE VÍAS
A2: DIRECCIÓN TERRITORIAL ANTIOQUIA
A3: CUADRO No. 2
A5: CUMPLIMIENTO INDICADORES DE SERVICIO DE MANTENIMIENTO RUTINARIO (M.R.)
A7: INGENIERO RESIDENTE: | C7: =+DATOS!C10 -> CARLOS EDUARDO GARCIA CASTILLO | G7: FECHA: | I7: =+DATOS!C14 -> SEPTIEMBRE DE 2024
A9: MICROEMPRESA | C9: CONTRATISTA DE SERVICIO DE M.R. | E9: CONTRATISTA DE SERVICIO DE M.R. | G9: CONTRATISTA DE SERVICIO DE M.R. | I9: CONTRATISTA DE SERVICIO DE M.R.
C10: COOPTAHIS - CTO 1410-2024 | E10: CTA SANTIAGO - CTO 1411-2024 | G10: PRESTASER NORDESTE SAS CTO 1412-2024
A11: INDICADOR | C11: % | E11: % | G11: % | I11: %
A12: ROCERÍA Y DESM. MANUAL | C12: 96 | E12: 98 | G12: 97
A13: LIMPIEZA MANUAL CUNETAS | C13: 97 | E13: 99 | G13: 97
A14: LIMPIEZA ENCOLES Y DESCOLES | C14: 96 | E14: 96 | G14: 96
A15: LIMPIEZA OBRAS DE ARTE | C15: 96 | E15: 96 | G15: 95
A16: MANTENIMIENTO PUENTES | C16: 95 | E16: 95 | G16: 94
A17: LIMPIEZA SEÑALES Y MOJONES | C17: 97 | E17: 96 | G17: 96
A18: DESPEJE DE DERRUMBES | C18: 99 | E18: NO HUBO | G18: 98
A19: PINTURA, RENOVACIÓN DE INDICACIONES EN EL MOJÓN | C19: NO HUBO | E19: NO HUBO | G19: NO HUBO
A20: BACHEO CARRETERA PAV. | C20: 97 | E20: 96 | G20: 96
A21: PARCHEO CARRETERA PAV. | C21: 98 | E21: NO HUBO | G21: NO HUBO
A22: LIMPIEZA DE LA CALZADA | C22: 96 | E22: 97 | G22: 96
A23: ARBORIZACIÓN (SIEMBRA) | C23: NO HUBO | E23: NO HUBO | G23: NO HUBO
A24: PODA, CORTE Y RETIRO DE ÁRBOLES | C24: 95 | E24: 95 | G24: 96
A25: ATENCIÓN DE EMERGENCIAS | C25: 100 | E25: 100 | G25: 100
A28: OBSERVACIONES : | C28: BUENO | E28: REGULAR | G28: MALO | I28: NO HUBO
A30: * Indicar nombre de cada contratista de Mantenimiento Rutinario (M.R.) al que se le aplica el indicador. Resolución N°
A31: En caso de no cumplir totalmente con el indicador, informar la razón.
A32: Indicar el Porcentaje de cumplimiento mensual para cada CONTRATISTA DE SERVICIO DE MANTENIMIENTO RUTINARIO
I33: VOLVER A TABLA DE CONTENIDO

Sheet ESTADO RED VIS 
A1: INSTITUTO NACIONAL DE VÍAS
A2: DIRECCIÓN TERRITORIAL ANTIOQUIA
A4: CUADRO No 3
A6: RELACIÓN ESTADO DE LA RED CRITERIO DE TRANSITABILIDAD (VISUAL)
A8: INGENIERO RESIDENTE: | C8: =+'CUMPLIMIENTO %'!C7 -> CARLOS EDUARDO GARCIA CASTILLO | E8: TRIMESTRE EVALUADO: | G8: =+DATOS!C16 -> JUN - SEP DE 2024
A10: CÓDIGO VÍA | B10: PR INICIAL | C10: PR FINAL | D10: CARRETERA | E10: Kms. | F10: TIPO DE | G10: ESTADO
F11: SUPERFICIE
A13: 6003 | B13: 0+0000 | C13: 12+0100 | D13: La Mansa - Primavera | E13: =11468+100 -> 11568 | F13: P | G13: B
A15: 6003 | B15: =+C13 -> 12+0100 | C15: 14+0000 | D15: La Mansa - Primavera | E15: =1860-100 -> 1760 | F15: P | G15: B | J15: VÍA 6003
J16: BUENO | K16: =+SUMIF(G$13:G$33,"B",E$13:E$33)/1000 -> 20.1
A17: 6003 | B17: =+C15 -> 14+0000 | C17: 15000 | D17: La Mansa - Primavera | E17: 1015 | F17: P | G17: B | J17: REGULAR | K17: =+SUMIF(G$13:G$33,"R",E$13:E$33)/1000 -> 27.542
J18: MALO | K18: =+SUMIF(G$13:G$33,"M",E$13:E$33)/1000 -> 0
A19: 6003 | B19: =+C17 -> 15000 | C19: 31000 | D19: La Mansa - Primavera | E19: 16244 | F19: P | G19: R | J19: TOTAL | K19: =SUM(K16:K18) -> 47.642
A21: 6003 | B21: =+C19 -> 31000 | C21: 34000 | D21: La Mansa - Primavera | E21: 3015 | F21: P | G21: R
A23: 6003 | B23: =+C21 -> 34000 | C23: 38000 | D23: La Mansa - Primavera | E23: 4027 | F23: P | G23: B
A25: 6003 | B25: =+C23 -> 38000 | C25: 44200 | D25: La Mansa - Primavera | E25: 6253 | F25: P | G25: R
A27: 6003 | B27: 88+0100 | C27: 90+0000 | D27: La Mansa - Primavera | E27: =898+998 -> 1896 | F27: P | G27: R
A29: 6003 | B29: 90+0615 | C29: 90+0740 | D29: La Mansa - Primavera | E29: 134 | F29: P | G29: R | J29: VÍA ANTIGUA LOMA LINDA
A31: 6003 | B31: 92+0024 | C31: 92+0280 | D31: La Mansa - Primavera | E31: 521 | F31: P | G31: B | J31: VÍA ANTIGUA KACHOTIS
A33: 6003 | B33: 93+0420 | C33: 95+0031 | D33: La Mansa - Primavera | E33: =182+996+31 -> 1209 | F33: P | G33: B
A36: 6204 | B36: 16+0000 | C36: 190000 | D36: Santa Fé de Antioquia - Medellin | E36: 3013 | F36: P | G36: M | J36: VÍA 6204
J37: BUENO | K37: =+SUMIF(G$36:G$43,"B",E$36:E$43) -> 0
A38: 6204 | B38: 19+0000 | C38: 23+0000 | D38: Santa Fé de Antioquia - Medellin | E38: 3672 | F38: P | G38: R | J38: REGULAR | K38: =+SUMIF(G$36:G$43,"R",E$36:E$43)/1000 -> 6.4861
J39: MALO | K39: =+SUMIF(G$36:G$43,"M",E$36:E$43)/1000 -> 48.553
A40: 6204 | B40: 23+0000 | C40: 680000 | D40: Santa Fé de Antioquia - Medellin | E40: 45540 | F40: P | G40: M | J40: TOTAL | K40: =SUM(K37:K39) -> 55.0391
A42: 6204 | B42: 680000 | C42: 710000 | D42: Santa Fé de Antioquia - Medellin | E42: 2814.1 | F42: P | G42: R
A45: 6205 | B45: 9+0000 | C45: 9+0700 | D45: Hatillo - Cisneros | E45: 700 | F45: P | G45: B | J45: VÍA 6205
J46: BUENO | K46: =+SUMIF(G$45:G$49,"B",E$45:E$49)/1000 -> 0.7
A47: 6205 | B47: 53+0000 | C47: 54+0000 | D47: Hatillo - Cisneros | E47: 962 | F47: P | G47: M | J47: REGULAR | K47: =+SUMIF(G$45:G$49,"R",E$45:E$49)/1000 -> 1.158
J48: MALO | K48: =+SUMIF(G$45:G$49,"M",E$45:E$49)/1000 -> 0.962
A49: 6205 | B49: 54+0000 | C49: 54+1158 | D49: Hatillo - Cisneros | E49: 1158 | F49: P | G49: R | J49: TOTAL | K49: =SUM(K46:K48) -> 2.82
A52: 6206 | B52: 0+0000 | C52: 1+0000 | D52: Cisneros - Puerto Berrío - Cruice Ruta 45 | E52: 1000 | F52: P | G52: B | J52: VÍA 6206
J53: BUENO | K53: =+SUMIF(G$52:G$56,"B",E$52:E$56)/1000 -> 1
A54: 6206 | B54: 95+0198 | C54: 96+0000 | D54: =+D52 -> Cisneros - Puerto Berrío - Cruice Ruta 45 | E54: 804 | F54: P | G54: R | J54: REGULAR | K54: =+SUMIF(G$52:G$56,"R",E$52:E$56)/1000 -> 3.222
J55: MALO | K55: =+SUMIF(G$52:G$56,"M",E$52:E$56)/1000 -> 0
A56: 6206 | B56: 96+0000 | C56: 97+1261 | D56: =+D54 -> Cisneros - Puerto Berrío - Cruice Ruta 45 | E56: 2418 | F56: P | G56: R | J56: TOTAL | K56: =SUM(K53:K55) -> 4.222
E57: =+SUM(E13:E56) -> 109723.1
A59: Nota: La información contenida es un ejemplo sobre la forma de diligenciar este cuadro.Debe presentarse a color.
E62: CONVENCIONES | G62: NO CAMBIAR ESTOS TIPOS DE COLORES
E63: B | F63: BUENO
...

Sheet SEMAFORO VIS 6003
A1: INSTITUTO NACIONAL DE VÍAS
A2: DIRECCIÓN TERRITORIAL ANTIOQUIA
A3: GRÁFICO No. 1
A4: ESTADO DE LAS VÍAS CRITERIO DE TRANSITABILIDAD (VISUAL)
A7: NOMBRE DE LA VÍA: | B7: LA MANSA - PRIMAVERA | BI7: Código de la vía: | CC7: 6003
A9: SECTOR | B9: 01 | H9: LA MANSA - PEÑALISA | BH9: PR 0+0000 A PR 44+0200
B10: 02 | H10: PEAJE AMAGA | BH10: PR 88+0100 A PR 90+0000
B11: 03 | H11: LOMA LINDA | BH11: PR 90+0615 A PR 90+0740 | CO11: SECTOR DE LA VÍA ANTIGUA, LADO DERECHO DE LOS PUENTES LOMA LINDA
B12: 04 | H12: KACHOTIS | BH12: PR 92+0024 A PR 92+0280 | CO12: SECTOR DE LA VÍA ANTIGUA, LADO IZQUIERDO DE LOS TÚNELES KACHOTIS
B13: 05 | H13: PRIMAVERA | BH13: PR 93+0700 A PR 95+0031
A14: INGENIERO RESIDENTE: | E14: =+DATOS!C10 -> CARLOS EDUARDO GARCIA CASTILLO | CL14: TRIMESTRE EVALUADO | CO14: =+DATOS!C16 -> JUN - SEP DE 2024
A38: CÓDIGO | AT38: SECTOR | CT38: Longitud y Porcentaje
B39: 01 | CJ39: 02 | CQ39: 03 | CT39: sobre el total de la vía
A40: PR | CT40: o del ítem
A41: ÍTEM | B41: 75 | H41: 10 | R41: 20 | AB41: 30 | AI41: 80 | AL41: 40 | AV41: 50 | BF41: 60 | BP41: 70 | BZ41: 80 | CJ41: 90 | CO41: 95 | CT41: B | CV41: R | CX41: M
CT42: km | CU42: % | CV42: km | CW42: % | CX42: km | CY42: %
A43: Pavimento
B44: B | C44: B | D44: B | E44: b | F44: b | G44: b | H44: b | I44: b | J44: b | K44: b | L44: b | M44: B | N44: B | O44: B | P44: B | Q44: R | R44: R | S44: R | T44: R | U44: R | V44: R | W44: R | X44: R | Y44: R | Z44: R | AA44: R | AB44: R | AC44: R | AD44: R | AE44: R | AF44: R | AG44: R | AH44: R | AI44: R | AJ44: B | AK44: B | AL44: B | AM44: B | AN44: B | AO44: R | AP44: R | AQ44: R | AR44: R | AS44: R | CL44: R | CM44: R | CQ44: R | CS44: B | CT44: =(COUNTIF($B$44:$CS$44,"B")) -> 21 | CU44: =+CT44/($CT$44+$CV$44+$CX$44) -> 0.4375 | CV44: =(COUNTIF($B$44:$CS$44,"r")) -> 27 | CW44: =+CV44/($CT$44+$CV$44+$CX$44) -> 0.5625 | CX44: =(COUNTIF($B$44:$CS$44,"m")) -> 0 | CY44: =+CX44/($CT$44+$CV$44+$CX$44) -> 0
A45: Afirmado | B45: 1.093 | C45: 1.022 | D45: 1.014 | N45: =0.799-0.1 -> 0.699 | O45: 0.96 | P45: 1.015 | Q45: 1.238 | R45: 1 | S45: 1 | T45: 1 | U45: 1 | V45: 1 | W45: 1 | X45: 1 | Y45: 1 | Z45: 1.002 | AA45: 1.001 | AB45: 1 | AC45: 1 | AD45: 1 | AE45: 1 | AF45: 1.003 | AG45: 1.005 | AH45: 1 | AI45: 1.01 | AJ45: 1.006 | AK45: 1.008 | AL45: 1.003 | AM45: 1.01 | AN45: 1.01 | AO45: 1.015 | AP45: 1.014 | AQ45: 1.008 | AR45: 1.003 | AS45: 1.003 | AT45: 1.006 | BG45: 0.3 | BZ45: 0.532 | CA45: 0.985 | CB45: 1 | CC45: 0.25 | CE45: 0.096 | CF45: 0.995 | CG45: 1.001 | CH45: 0.998 | CI45: 0.997 | CJ45: 1.002 | CK45: 0.989 | CL45: 0.998 | CM45: 0.998 | CN45: 0.996 | CO45: 0.999 | CP45: 0.997 | CQ45: 0.999 | CR45: =0.996+0.031 -> 1.027
A47: Puentes (Son: 9 ) | E47: 1.001 | F47: 1.002 | G47: 1.001 | H47: 1.018 | I47: 1.002 | J47: 0.918 | K47: 1.01 | L47: 0.914 | M47: =0.993+0.1 -> 1.093
CT48: 4 | CU48: =+CT48/($CT$48+$CV$48+$CX$48) -> 0.44444444 | CV48: 1 | CW48: =+CV48/($CT$48+$CV$48+$CX$48) -> 0.11111111 | CX48: 4 | CY48: =+CX48/($CT$48+$CV$48+$CX$48) -> 0.44444444
A49: Cunetas
B50: B | C50: B | D50: B | E50: B | F50: B | G50: B | H50: B | I50: B | J50: B | K50: B | L50: B | M50: B | N50: b | O50: r | P50: r | Q50: R | R50: R | S50: R | T50: R | U50: R | V50: r | W50: r | X50: r | Y50: r | Z50: r | AA50: R | AB50: R | AC50: R | AD50: R | AE50: R | AF50: R | AG50: R | AH50: r | AI50: R | AJ50: B | AK50: b | AL50: B | AM50: B | AN50: R | AO50: r | AP50: R | AQ50: B | AR50: R | AS50: R | AT50: r | CL50: R | CM50: R | CN50: R | CR50: R | CS50: R | CT50: 16 | CU50: =+CT50/($CT$50+$CV$50+$CX$50) -> 0.33333333 | CV50: =(COUNTIF($B$50:$CS$50,"R")) -> 32 | CW50: =+CV50/($CT$50+$CV$50+$CX$50) -> 0.66666667 | CX50: =(COUNTIF($B$50:$CS$50,"M")) -> 0 | CY50: =+CX50/($CT$50+$CV$50+$CX$50) -> 0
A51: Señalización Vertical
B52: B | C52: B | D52: B | E52: b | F52: b | G52: b | H52: b | I52: b | J52: b | K52: b | L52: b | M52: b | N52: R | O52: R | P52: R | Q52: R | R52: R | S52: R | T52: R | U52: R | V52: R | W52: R | X52: R | Y52: R | Z52: R | AA52: R | AB52: R | AC52: R | AD52: R | AE52: R | AF52: R | AG52: R | AH52: R | AI52: R | AJ52: R | AK52: R | AL52: R | AM52: R | AN52: R | AO52: R | AP52: R | AQ52: R | AR52: R | AS52: R | AT52: B | CL52: R | CM52: R | CN52: R | CR52: B | CS52: B | CT52: =(COUNTIF($B$52:$CS$52,"B")) -> 15 | CU52: =+CT52/($CT$52+$CV$52+$CX$52) -> 0.3125 | CV52: 33 | CW52: =+CV52/($CT$52+$CV$52+$CX$52) -> 0.6875 | CX52: =(COUNTIF($B$52:$CS$52,"M")) -> 0 | CY52: =+CX52/($CT$52+$CV$52+$CX$52) -> 0
A53: Señalización horizontal
B54: R | C54: R | D54: R | E54: r | F54: r | G54: r | H54: r | I54: r | J54: r | K54: r | L54: r | M54: R | N54: M | O54: M | P54: M | Q54: M | R54: M | S54: M | T54: M | U54: M | V54: M | W54: M | X54: M | Y54: M | Z54: M | AA54: M | AB54: M | AC54: M | AD54: M | AE54: M | AF54: M | AG54: M | AH54: M | AI54: M | AJ54: M | AK54: M | AL54: M | AM54: R | AN54: R | AO54: R | AP54: R | AQ54: R | AR54: R | AS54: R | AT54: R | CL54: R | CM54: B | CN54: B | CR54: R | CS54: B | CT54: =(COUNTIF($B$54:$CS$54,"B")) -> 3 | CU54: =+CT54/($CT$54+$CV$54+$CX$54) -> 0.046875 | CV54: 36 | CW54: =+CV54/($CT$54+$CV$54+$CX$54) -> 0.5625 | CX54: =(COUNTIF($B$54:$CS$54,"M")) -> 25 | CY54: =+CX54/($CT$54+$CV$54+$CX$54) -> 0.390625
A55: Rocería
B56: B | C56: B | D56: B | E56: B | F56: B | G56: B | H56: B | I56: B | J56: B | K56: B | L56: B | M56: B | N56: B | O56: B | P56: B | Q56: B | R56: B | S56: B | T56: B | U56: B | V56: B | W56: B | X56: B | Y56: B | Z56: B | AA56: B | AB56: B | AC56: B | AD56: B | AE56: B | AF56: B | AG56: B | AH56: B | AI56: B | AJ56: B | AK56: B | AL56: B | AM56: B | AN56: B | AO56: B | AP56: B | AQ56: B | AR56: B | AS56: B | AT56: B | CL56: B | CM56: B | CN56: B | CR56: B | CS56: B | CT56: 48 | CU56: =+CT56/($CT$56+$CV$56+$CX$56) -> 1 | CV56: =(COUNTIF($B$56:$CS$56,"R")) -> 0 | CW56: =+CV56/($CT$56+$CV$56+$CX$56) -> 0 | CX56: =(COUNTIF($B$56:$CS$56,"M")) -> 0 | CY56: =+CX56/($CT$56+$CV$56+$CX$56) -> 0
A57: Alcantarillas | DB57: CONVENCIONES
B58: B | C58: B | D58: B | E58: b | F58: R | G58: R | H58: R | I58: B | J58: R | K58: B | L58: B | M58: B | N58: R | O58: B | P58: B | Q58: B | R58: B | S58: B | T58: B | U58: B | V58: B | W58: B | X58: B | Y58: B | Z58: B | AA58: B | AB58: B | AC58: B | AD58: B | AE58: B | AF58: B | AG58: B | AH58: B | AI58: B | AJ58: B | AK58: B | AL58: B | AM58: B | AN58: B | AO58: R | AP58: B | AQ58: B | AR58: B | AS58: B | AT58: B | CL58: R | CM58: R | CN58: R | CR58: B | CS58: R | CT58: 38 | CU58: =+CT58/($CT$58+$CV$58+$CX$58) -> 0.79166667 | CV58: 10 | CW58: =+CV58/($CT$58+$CV$58+$CX$58) -> 0.20833333 | CX58: =(COUNTIF($B$58:$CS$58,"M")) -> 0 | CY58: =+CX58/($CT$58+$CV$58+$CX$58) -> 0 | DB58: B | DC58: BUENO
A59: Limpiezas de bermas | DB59: R | DC59: REGULAR
B60: b | C60: B | D60: B | E60: b | F60: b | G60: b | H60: b | I60: b | J60: b | K60: b | L60: b | M60: B | N60: B | O60: B | P60: B | Q60: B | R60: B | S60: B | T60: B | U60: B | V60: B | W60: B | X60: B | Y60: B | Z60: B | AA60: B | AB60: B | AC60: B | AD60: B | AE60: B | AF60: B | AG60: B | AH60: B | AI60: B | AJ60: B | AK60: B | AL60: B | AM60: B | AN60: B | AO60: B | AP60: B | AQ60: B | AR60: B | AS60: B | AT60: B | CL60: B | CM60: B | CN60: B | CR60: B | CS60: B | CT60: =(COUNTIF($B$60:$CS$60,"B")) -> 50 | CU60: =+CT60/($CT$60+$CV$60+$CX$60) -> 1 | CV60: =(COUNTIF($B$60:$CS$60,"R")) -> 0 | CW60: =+CV60/($CT$60+$CV$60+$CX$60) -> 0 | CX60: =(COUNTIF($B$60:$CS$60,"M")) -> 0 | CY60: =+CX60/($CT$60+$CV$60+$CX$60) -> 0 | DB60: M | DC60: MALO
A61: NOTAS:
A62: La calificación corresponde al criterio visual a SEPTIEMBRE de 2024.
A63: El pavimento, señalización, bermas, rocería y cunetas se dibujan y analizan por kilómetro; los puentes se hace por ítem
A64: El gráfico de alcantarillas muestra el kilometro pero el porcentaje es sobre el número de obras
A65: NOTA: Indicar en el mapa los PRs y nombre de cada uno de los sitios importantes
A66: Hacer montaje del mapa de la red vial sobre cartografía o mapas aerofotogramétricos
CU67: VOLVER A TABLA DE CONTENIDO

Sheet SEMAFORO VIS 6204
A1: INSTITUTO NACIONAL DE VÍAS
A2: DIRECCIÓN TERRITORIAL ANTIOQUIA
A3: GRAFICO No. 1
A4: ESTADO DE LAS VÍAS CRITERIO DE TRANSITABILIDAD (VISUAL)
A7: NOMBRE DE LA VÍA: | B7: SANTA FÉ DE ANTIOQUIA - MEDELLÍN | BF7: Código de la vía: | BH7: 6204
A9: SECTOR: | B9: 01 | G9: PUENTE AURRÁ - MEDELLÍN | BF9: PR 16+0000 A PR 71+0000
A10: INGENIERO RESIDENTE: | B10: =+DATOS!C10 -> CARLOS EDUARDO GARCIA CASTILLO | BG10: TRIMESTRE EVALUADO | BH10: =+DATOS!C16 -> JUN - SEP DE 2024
B41: SECTOR | BE41: Longitud y Porcentaje
A42: CÓDIGO | B42: 01 | BE42: sobre el total de la vía
A43: PR | BE43: o del ítem
A44: ÍTEM | B44: 16 | F44: 20 | J44: 22 | P44: 30 | Z44: 40 | AJ44: 50 | AT44: 60 | AZ44: 70 | BD44: 71 | BE44: B | BF44: % | BG44: R | BH44: % | BI44: M
BE45: km | BG45: km | BI45: km | BJ45: %
A46: Pavimento
B47: M | C47: M | D47: M | E47: R | F47: R | G47: R | H47: R | I47: M | J47: M | K47: M | L47: M | M47: M | N47: M | O47: M | P47: M | Q47: M | R47: M | S47: M | T47: M | U47: M | V47: M | W47: M | X47: M | Y47: M | Z47: M | AA47: M | AB47: M | AC47: M | AD47: M | AE47: M | AF47: M | AG47: M | AH47: M | AI47: M | AJ47: M | AK47: M | AL47: M | AM47: M | AN47: M | AO47: M | AP47: M | AQ47: M | AR47: M | AS47: M | AT47: M | AU47: M | AV47: M | AW47: M | AX47: M | AY47: M | AZ47: M | BA47: M | BB47: R | BC47: R | BD47: R | BE47: =(COUNTIF($B$47:$BD$47,"B")) -> 0 | BF47: =+BE47/(BI47+BG47+BE47) -> 0 | BG47: =(COUNTIF($B$47:$BD$47,"r")) -> 7 | BH47: =+BG47/(BI47+BG47+BE47) -> 0.12727273 | BI47: =(COUNTIF($B$47:$BD$47,"m")) -> 48 | BJ47: =+BI47/(BI47+BG47+BE47) -> 0.87272727
A48: Afirmado
B49: NO APLICA
A50: Puentes (Son: 13)
B51: M | H51: b | L51: b | V51: r | Z51: b | AA51: b | AE51: b | AF51: b | AH51: b | AK51: b | AT51: b | BE51: 12 | BF51: =+BE51/13 -> 0.92307692 | BG51: 0 | BH51: =+BG51/13 -> 0 | BI51: 1 | BJ51: =+BI51/13 -> 0.076923077
A52: Cunetas
B53: B | C53: B | D53: R | E53: B | F53: B | G53: B | H53: M | I53: B | J53: B | K53: B | L53: B | M53: B | N53: B | O53: B | P53: B | Q53: R | R53: R | S53: R | T53: R | U53: R | V53: B | W53: B | X53: B | Y53: M | Z53: B | AA53: B | AB53: R | AC53: R | AD53: R | AE53: R | AF53: B | AG53: B | AH53: B | AI53: B | AJ53: M | AK53: M | AL53: R | AM53: R | AN53: R | AO53: R | AP53: B | AQ53: B | AR53: B | AS53: B | AT53: B | AU53: B | AV53: B | AW53: R | AX53: R | AY53: B | AZ53: B | BA53: B | BB53: B | BC53: B | BD53: B | BE53: =(COUNTIF($B$53:$BD$53,"B")) -> 35 | BF53: =+BE53/55 -> 0.63636364 | BG53: =(COUNTIF($B$53:$BD$53,"R")) -> 16 | BH53: =+BG53/55 -> 0.29090909 | BI53: =(COUNTIF($B$53:$BD$53,"M")) -> 4 | BJ53: =+BI53/55 -> 0.072727273
A54: Señalización Vertical
B55: R | C55: R | D55: R | E55: R | F55: R | G55: R | H55: R | I55: R | J55: R | K55: R | L55: M | M55: M | N55: R | O55: R | P55: R | Q55: R | R55: R | S55: R | T55: R | U55: R | V55: M | W55: M | X55: R | Y55: R | Z55: R | AA55: R | AB55: R | AC55: R | AD55: R | AE55: R | AF55: R | AG55: R | AH55: R | AI55: R | AJ55: R | AK55: R | AL55: M | AM55: M | AN55: M | AO55: M | AP55: B | AQ55: B | AR55: R | AS55: R | AT55: R | AU55: R | AV55: R | AW55: R | AX55: R | AY55: R | AZ55: R | BA55: B | BB55: B | BC55: B | BD55: B | BE55: =(COUNTIF($B$55:$BD$55,"B")) -> 6 | BF55: =+BE55/55 -> 0.10909091 | BG55: =(COUNTIF($B$55:$BD$55,"R")) -> 41 | BH55: =+BG55/55 -> 0.74545455 | BI55: =(COUNTIF($B$55:$BD$55,"M")) -> 8 | BJ55: =+BI55/55 -> 0.14545455
A56: Señalización horizontal
B57: M | C57: M | D57: M | E57: M | F57: M | G57: M | H57: M | I57: M | J57: M | K57: M | L57: M | M57: M | N57: M | O57: M | P57: M | Q57: M | R57: M | S57: M | T57: M | U57: M | V57: M | W57: M | X57: M | Y57: M | Z57: M | AA57: M | AB57: M | AC57: M | AD57: M | AE57: M | AF57: M | AG57: M | AH57: M | AI57: M | AJ57: M | AK57: M | AL57: M | AM57: M | AN57: M | AO57: M | AP57: M | AQ57: M | AR57: M | AS57: M | AT57: M | AU57: M | AV57: M | AW57: M | AX57: M | AY57: M | AZ57: M | BA57: R | BB57: R | BC57: r | BD57: B | BE57: =(COUNTIF($B$57:$BD$57,"B")) -> 1 | BF57: =+BE57/55 -> 0.018181818 | BG57: =(COUNTIF($B$57:$BD$57,"R")) -> 3 | BH57: =+BG57/55 -> 0.054545455 | BI57: =(COUNTIF($B$57:$BD$57,"M")) -> 51 | BJ57: =+BI57/55 -> 0.92727273
A58: Rocería
B59: m | C59: m | D59: m | E59: m | F59: r | G59: r | H59: r | I59: m | J59: m | K59: m | L59: m | M59: m | N59: m | O59: m | P59: m | Q59: m | R59: m | S59: m | T59: m | U59: m | V59: m | W59: m | X59: m | Y59: m | Z59: m | AA59: m | AB59: m | AC59: m | AD59: m | AE59: m | AF59: m | AG59: m | AH59: m | AI59: m | AJ59: m | AK59: r | AL59: r | AM59: r | AN59: m | AO59: m | AP59: m | AQ59: m | AR59: m | AS59: m | AT59: m | AU59: m | AV59: m | AW59: r | AX59: r | AY59: r | AZ59: r | BA59: r | BB59: r | BC59: r | BD59: r | BE59: =(COUNTIF($B$59:$BD$59,"B")) -> 0 | BF59: =+BE59/55 -> 0 | BG59: =(COUNTIF($B$59:$BD$59,"R")) -> 14 | BH59: =+BG59/55 -> 0.25454545 | BI59: =(COUNTIF($B$59:$BD$59,"M")) -> 41 | BJ59: =+BI59/55 -> 0.74545455
A60: Alcantarillas | BM60: CONVENCIONES
B61: r | C61: r | D61: r | E61: r | F61: r | G61: r | H61: r | I61: r | J61: r | K61: r | L61: r | M61: r | N61: r | O61: r | P61: r | Q61: r | R61: R | S61: R | T61: r | U61: r | V61: r | W61: r | X61: r | Y61: r | Z61: r | AA61: r | AB61: r | AC61: r | AD61: r | AE61: r | AF61: r | AG61: r | AH61: r | AI61: r | AJ61: r | AK61: r | AL61: r | AM61: M | AN61: R | AO61: R | AP61: r | AQ61: r | AR61: r | AS61: r | AT61: r | AU61: r | AV61: r | AW61: r | AX61: r | AY61: r | AZ61: r | BA61: r | BB61: r | BC61: r | BD61: r | BE61: 49 | BF61: =+BE61/55 -> 0.89090909 | BG61: 5 | BH61: =+BG61/55 -> 0.090909091 | BI61: 1 | BJ61: =+BI61/55 -> 0.018181818 | BM61: B | BN61: BUENO
A62: Limpiezas de bermas | BM62: R | BN62: REGULAR
B63: r | C63: r | D63: r | E63: r | F63: r | G63: r | H63: r | I63: r | J63: r | K63: r | L63: r | M63: r | N63: r | O63: r | P63: m | Q63: m | R63: m | S63: m | T63: m | U63: m | V63: m | W63: m | X63: m | Y63: m | Z63: m | AA63: m | AB63: m | AC63: m | AD63: m | AE63: m | AF63: m | AG63: m | AH63: m | AI63: m | AJ63: m | AK63: m | AL63: m | AM63: m | AN63: m | AO63: m | AP63: r | AQ63: r | AR63: r | AS63: r | AT63: r | AU63: r | AV63: r | AW63: r | AX63: r | AY63: r | AZ63: r | BA63: r | BB63: r | BC63: r | BD63: r | BE63: 52 | BF63: =+BE63/55 -> 0.94545455 | BG63: 3 | BH63: =+BG63/55 -> 0.054545455 | BI63: =(COUNTIF($B$63:$BD$63,"M")) -> 26 | BJ63: =+BI63/55 -> 0.47272727 | BM63: M | BN63: MALO
A64: NOTAS:
A65: La calificación corresponde al criterio visual a SEPTIEMBRE de 2024.
A66: Este tramo no cuenta con contrato de mantenimiento rutinario
A67: El pavimento, señalización, bermas, rocería y cunetas se dibujan y analizan por kilómetro; los puentes se hace por ítem
A68: El gráfico de alcantarillas muestra el kilometro pero el porcentaje es sobre el número de obras
A69: NOTA: Indicar en el mapa los PRs y nombre de cada uno de los sitios importantes
A70: Hacer montaje del mapa de la red vial sobre cartografía o mapas aerofotogramétricos
BE71: VOLVER A TABLA DE CONTENIDO

Sheet SEMAFORO VIS 6205
A1: INSTITUTO NACIONAL DE VÍAS
A2: DIRECCIÓN TERRITORIAL ANTIOQUIA
A3: GRAFICO No. 1
A4: ESTADO DE LAS VÍAS CRITERIO DE TRANSITABILIDAD (VISUAL)
A7: NOMBRE DE LA VÍA: | D7: HATILLO - CISNEROS | S7: Código de la vía: | V7: 6205
A9: SECTOR: | B9: 01 | F9: PASO NACIONAL BARBOSA | U9: PR 9+0000 A PR 9+0700
B10: 02 | F10: PASO NACIONAL CISNEROS | U10: PR 53+0000 A PR 54+1158
A12: INGENIERO RESIDENTE: | B12: =+DATOS!C10 -> CARLOS EDUARDO GARCIA CASTILLO | V12: TRIMESTRE EVALUADO | W12: =+DATOS!C16 -> JUN - SEP DE 2024
A38: CÓDIGO | B38: SECTOR | S38: Longitud y Porcentaje
B39: 1 | F39: 2 | S39: sobre el total de la vía
A40: PR | S40: o del ítem
A41: ÍTEM | B41: 9 | D41: 9+700 | F41: 53 | L41: 54 | O41: 54+1158 | S41: B | U41: R | W41: M
S42: km | T42: % | U42: km | V42: % | W42: km | X42: %
A43: Pavimento
S44: =+'ESTADO RED VIS '!K46 -> 0.7 | T44: =+S44/(S44+U44+W44) -> 0.24822695 | U44: =+'ESTADO RED VIS '!K47 -> 1.158 | V44: =+U44/(S44+U44+W44) -> 0.4106383 | W44: =+'ESTADO RED VIS '!K48 -> 0.962 | X44: =+W44/(S44+W44+U44) -> 0.34113475
A45: Afirmado
B46: NO APLICA
A47: Puentes (Son: 0 )
S48: =(COUNTIF($B$48:$Q$48,"B")) -> 0 | T48: 0 | U48: =(COUNTIF($B$48:$R$48,"B")) -> 0 | V48: 0 | W48: =(COUNTIF($B$48:$Q$48,"B")) -> 0 | X48: 0
A49: Cunetas
B50: B | F50: B | L50: B | S50: =(COUNTIF($B$50:$R$50,"B")) -> 3 | T50: =+S50/3 -> 1 | U50: =(COUNTIF($B$50:$Q$50,"R")) -> 0 | V50: =+U50/3 -> 0 | W50: =(COUNTIF($B$50:$Q$50,"M")) -> 0 | X50: =+W50/3 -> 0
A51: Señalización Vertical
B52: R | F52: B | L52: B | S52: =(COUNTIF($B$52:$Q$52,"B")) -> 2 | T52: =+S52/3 -> 0.66666667 | U52: =(COUNTIF($B$52:$Q$52,"R")) -> 1 | V52: =+U52/3 -> 0.33333333 | W52: =(COUNTIF($B$52:$Q$52,"M")) -> 0 | X52: =+W52/3 -> 0
A53: Señalización horizontal
B54: R | F54: B | L54: B | S54: =(COUNTIF($B$54:$Q$54,"B")) -> 2 | T54: =+S54/3 -> 0.66666667 | U54: =(COUNTIF($B$54:$Q$54,"R")) -> 1 | V54: =+U54/3 -> 0.33333333 | W54: =(COUNTIF($B$54:$Q$54,"M")) -> 0 | X54: =+W54/3 -> 0
A55: Rocería
B56: B | F56: B | L56: B | S56: =(COUNTIF($B$56:$Q$56,"B")) -> 3 | T56: =+S56/3 -> 1 | U56: =(COUNTIF($B$56:$Q$56,"R")) -> 0 | V56: =+U56/3 -> 0 | W56: =(COUNTIF($B$56:$Q$56,"M")) -> 0 | X56: =+W56/3 -> 0
A57: Alcantarillas | AA57: CONVENCIONES
B58: B | F58: B | L58: B | S58: =(COUNTIF($B$58:$Q$58,"B")) -> 3 | T58: =+S58/3 -> 1 | U58: =(COUNTIF($B$58:$Q$58,"R")) -> 0 | V58: =+U58/3 -> 0 | W58: =(COUNTIF($B$58:$Q$58,"M")) -> 0 | X58: =+W58/3 -> 0 | AA58: B | AB58: BUENO
A59: Limpiezas de bermas | AA59: R | AB59: REGULAR
B60: B | F60: B | L60: B | S60: =(COUNTIF($B$60:$Q$60,"B")) -> 3 | T60: =+S60/3 -> 1 | U60: =(COUNTIF($B$60:$R$60,"R")) -> 0 | V60: =+U60/3 -> 0 | W60: =(COUNTIF($B$60:$Q$60,"M")) -> 0 | X60: =+W60/3 -> 0 | AA60: M | AB60: MALO
A61: NOTAS:
A62: La calificación corresponde al criterio visual a SEPTIEMBRE de 2024
A63: El pavimento, señalización, bermas, rocería y cunetas se dibujan y analizan por kilómetro; los puentes se hace por ítem
A64: El gráfico de alcantarillas muestra el kilometro pero el porcentaje es sobre el número de obras
A65: NOTA: Indicar en el mapa los PRs y nombre de cada uno de los sitios importantes
A66: Hacer montaje del mapa de la red vial sobre cartografía o mapas aerofotogramétricos
S67: VOLVER A TABLA DE CONTENIDO

Sheet SEMAFORO VIS 6206
A1: INSTITUTO NACIONAL DE VÍAS
A2: DIRECCIÓN TERRITORIAL ANTIOQUIA
A3: GRAFICO No. 1
A4: ESTADO DE LAS VÍAS CRITERIO DE TRANSITABILIDAD (VISUAL)
A7: NOMBRE DE LA VÍA: | B7: CISNEROS - PUERTO BERRÍO - CRUCE RUTA 45 | AD7: Código de la vía: | AE7: 6206
A9: SECTOR: | B9: 01 | F9: PASO NACIONAL CISNEROS | AB9: PR 0+0000 A PR 1+0000
B10: 02 | F10: PASO NACIONAL PUERTO BERRÍO | AB10: PR 95+0198 A PR 97+1261
A12: INGENIERO RESIDENTE: | D12: CARLOS EDUARDO GARCIA CASTILLO | AC12: TRIMESTRE EVALUADO | AD12: =+DATOS!C16 -> JUN - SEP DE 2024
A27: CÓDIGO | AA27: Longitud y Porcentaje
B28: 1 | H28: 2 | AA28: sobre el total de la vía
A29: PR | AA29: o del ítem
A30: ÍTEM | B30: 0 | G30: 1 | H30: 95+0198 | L30: 96 | R30: 97 | V30: 97+1261 | AA30: B | AC30: R | AE30: M
AA31: km | AB31: % | AC31: km | AD31: % | AE31: km | AF31: %
A32: Pavimento
H33: R | I33: R | J33: R | K33: R | L33: R | M33: R | N33: R | O33: R | P33: R | Q33: R | R33: R | S33: R | T33: R | U33: R | V33: R | W33: R | X33: R | Y33: R | AA33: =+'ESTADO RED VIS '!K53 -> 1 | AB33: =+AA33/(AA33+AC33+AE33) -> 0.23685457 | AC33: =+'ESTADO RED VIS '!K54 -> 3.222 | AD33: =+AC33/(AA33+AC33+AE33) -> 0.76314543 | AE33: =+'ESTADO RED VIS '!K55 -> 0 | AF33: =+AE33/(AA33+AC33+AE33) -> 0
A34: Afirmado
B35: NO APLICA
A36: Puentes (Son: 3 )
B37: B | H37: R | T37: R | AA37: =(COUNTIF($B$37:$X$37,"B")) -> 1 | AB37: =+AA37/4.7 -> 0.21276596 | AC37: =(COUNTIF($B$37:$Y$37,"R")) -> 2 | AD37: =+AC37/3 -> 0.66666667 | AE37: =(COUNTIF($B$37:$X$37,"M")) -> 0 | AF37: =+AE37/4.7 -> 0
A38: Cunetas
B39: B | H39: B | N39: B | T39: B | AA39: 4.06 | AB39: =+AA39/4.06 -> 1 | AC39: =(COUNTIF($B$39:$Y$39,"R")) -> 0 | AD39: =+AC39/4.7 -> 0 | AE39: =(COUNTIF($B$39:$Y$39,"M")) -> 0 | AF39: =+AE39/4.7 -> 0
A40: Señalización Vertical
B41: B | H41: R | N41: R | T41: R | AA41: =(COUNTIF($B$41:$Y$41,"B")) -> 1 | AB41: =+AA41/4.7 -> 0.21276596 | AC41: 3.06 | AD41: =+AC41/4.7 -> 0.65106383 | AE41: =(COUNTIF($B$41:$Y$41,"M")) -> 0 | AF41: =+AE41/4.7 -> 0
A42: Señalización horizontal
B43: B | H43: R | I43: R | J43: R | K43: m | L43: m | M43: m | N43: R | O43: R | P43: R | Q43: R | R43: R | S43: R | T43: B | AA43: 2 | AB43: =+AA43/4.7 -> 0.42553191 | AC43: 2.06 | AD43: =+AC43/(AA43+AC43+AE43) -> 0.43277311 | AE43: 0.7 | AF43: =+AE43/4.7 -> 0.14893617
A44: Rocería
B45: B | H45: B | N45: B | T45: B | AA45: 4.06 | AB45: =+AA45/4.06 -> 1 | AC45: =(COUNTIF($B$45:$Y$45,"R")) -> 0 | AD45: 0 | AE45: =(COUNTIF($B$45:$Y$45,"M")) -> 0 | AF45: =+AE45/4.7 -> 0
A46: Alcantarillas | AI46: CONVENCIONES
B47: B | H47: R | N47: R | T47: R | AA47: =(COUNTIF($B$47:$X$47,"B")) -> 1 | AB47: =+AA47/4.06 -> 0.24630542 | AC47: 3.06 | AD47: =+AC47/4.06 -> 0.75369458 | AE47: =(COUNTIF($B$47:$X$47,"M")) -> 0 | AF47: =+AE47/4.7 -> 0 | AI47: B | AJ47: BUENO
A48: Limpiezas de bermas | AI48: R | AJ48: REGULAR
B49: B | H49: B | N49: B | T49: B | AA49: 4.06 | AB49: =+AA49/4.06 -> 1 | AC49: =(COUNTIF($B$49:$Y$49,"R")) -> 0 | AD49: =+AC49/4.7 -> 0 | AE49: =(COUNTIF($A$48:$W$48,"M")) -> 0 | AF49: =+AE49/4.7 -> 0 | AI49: M | AJ49: MALO
A50: NOTAS:
A51: La calificación corresponde al criterio visual a SEPTIEMBRE de 2024
A52: El pavimento, señalización, bermas, rocería y cunetas se dibujan y analizan por kilómetro; los puentes se hace por ítem
A53: El gráfico de alcantarillas muestra el kilometro pero el porcentaje es sobre el número de obras
A54: NOTA: Indicar en el mapa los PRs y nombre de cada uno de los sitios importantes
A55: Hacer montaje del mapa de la red vial sobre cartografía o mapas aerofotogramétricos
AA56: VOLVER A TABLA DE CONTENIDO

Sheet TORTA EST. VIAS VIS 
A1: INSTITUTO NACIONAL DE VÍAS
A2: DIRECCIÓN TERRITORIAL ANTIOQUIA
A4: GRAFICO No. 2
A6: ESTADO DE LAS VÍAS EN TORTA-CRITERIO DE TRANSITABILIDAD (VISUAL)
A8: INGENIERO RESIDENTE: | B8: CARLOS EDUARDO GARCIA CASTILLO
A10: PERIODO EVALUADO: | B10: =+DATOS!C16 -> JUN - SEP DE 2024
A13: CARRETERA | B13: TRIMESTRE ANTERIOR | C13: TRIMESTRE EVALUADO
A16: LA MANSA - PRIMAVERA SECTOR PAVIMENTADO PR 0+0000 al PR 44+0200, PR 88+0100 al PR 90+0000 PR 90+0615 al PR90+0740 PR92+0024 al PR 92+0280 PR 93+0700 al PR 95+0031 | F16: TRIMESTRE ANTERIOR | I16: TRIMESTRE EVALUADO
F17: KM | G17: % | I17: KM | J17: %
F18: 46.148 | G18: =+F18/F21 -> 0.94623744 | I18: =+'SEMAFORO VIS 6003'!CT44 -> 21 | J18: =+I18/I21 -> 0.4375
F19: 2.622 | G19: =+F19/F21 -> 0.053762559 | I19: =+'SEMAFORO VIS 6003'!CV44 -> 27 | J19: =+I19/I21 -> 0.5625
F20: 0 | G20: =+F20/F21 -> 0 | I20: =+'SEMAFORO VIS 6003'!CX44 -> 0 | J20: =+I20/I21 -> 0
F21: =SUM(F18:F20) -> 48.77 | G21: =SUM(G18:G20) -> 1 | I21: =SUM(I18:I20) -> 48 | J21: =SUM(J18:J20) -> 1
F26: TRIMESTRE ANTERIOR | I26: TRIMESTRE EVALUADO
F27: KM | G27: % | I27: KM | J27: %
F28: 0 | G28: =+F28/F31 -> 0 | I28: =+'ESTADO RED VIS '!K37 -> 0 | J28: =+I28/I31 -> 0
F29: 6.6171 | G29: =+F29/F31 -> 0.1202226 | I29: =+'ESTADO RED VIS '!K38 -> 6.4861 | J29: =+I29/I31 -> 0.11784531
A30: SANTA FÉ DE ANTIOQUIA - MEDELLÍN | F30: 48.4233 | G30: =+F30/F31 -> 0.8797774 | I30: =+'ESTADO RED VIS '!K39 -> 48.553 | J30: =+I30/I31 -> 0.88215469
A31: PR 16+0000 A PR 71+0000 | F31: =SUM(F28:F30) -> 55.0404 | G31: 1 | I31: =SUM(I28:I30) -> 55.0391 | J31: =SUM(J28:J30) -> 1
F36: TRIMESTRE ANTERIOR | I36: TRIMESTRE EVALUADO
F37: KM | G37: % | I37: KM | J37: %
A38: HATILLO - CISNEROS | F38: 0.7 | G38: =F38/F41 -> 0.24822695 | I38: =+'ESTADO RED VIS '!K46 -> 0.7 | J38: =I38/I41 -> 0.24822695
A39: (PASO NACIONAL POR BARBOSA) | F39: 1.158 | G39: =+F39/F41 -> 0.4106383 | I39: =+'ESTADO RED VIS '!K47 -> 1.158 | J39: =+I39/I41 -> 0.4106383
A40: PR9+0000 A PR9+0700 | F40: 0.962 | G40: =+F40/F41 -> 0.34113475 | I40: =+'ESTADO RED VIS '!K48 -> 0.962 | J40: =+I40/I41 -> 0.34113475
F41: =SUM(F38:F40) -> 2.82 | G41: =SUM(G38:G40) -> 1 | I41: =SUM(I38:I40) -> 2.82 | J41: =SUM(J38:J40) -> 1
A42: (PASO NACIONAL POR CISNEROS)
A43: PR53+0000 A PR54+1158
F46: TRIMESTRE ANTERIOR | I46: TRIMESTRE EVALUADO
A47: CISNEROS - PUERTO BERRÍO - | F47: KM | G47: % | I47: KM | J47: %
A48: CRUCE RUTA 45 | F48: 1 | G48: =+F48/F51 -> 0.24612355 | I48: =+'ESTADO RED VIS '!K53 -> 1 | J48: =+I48/I51 -> 0.23685457
A49: (PASO NACIONAL POR CISNEROS) | F49: 3.063 | G49: =+F49/F51 -> 0.75387645 | I49: =+'ESTADO RED VIS '!K54 -> 3.222 | J49: =+I49/I51 -> 0.76314543
A50: PR 0+0000 A PR 1+0000 | F50: 0 | G50: =+F50/F51 -> 0 | I50: =+'ESTADO RED VIS '!K55 -> 0 | J50: =+I50/I51 -> 0
F51: =SUM(F48:F50) -> 4.063 | G51: =SUM(G48:G50) -> 1 | I51: =SUM(I48:I50) -> 4.222 | J51: =SUM(J47:J50) -> 1
A52: (PASO NACIONAL POR PUERTO
A53: BERRÍO)
A54: PR 95+0198 A PR 97+1261
A58: CONVENCIONES | B58: NO CAMBIAR ESTOS TIPOS DE COLORES
A59: BUENO
A60: REGULAR
A61: MALO | C61: VOLVER A TABLA DE CONTENIDO

Sheet ESTADO RED TEC
A1: INSTITUTO NACIONAL DE VÍAS
A2: DIRECCIÓN TERRITORIAL ANTIOQUIA
A4: CUADRO No 4
A6: RELACIÓN ESTADO DE LA RED CRITERIO TÉCNICO
A8: INGENIERO RESIDENTE: | C8: =+DATOS!C10 -> CARLOS EDUARDO GARCIA CASTILLO | F8: PERIODO EVALUADO: | G8: =+DATOS!C16 -> JUN - SEP DE 2024
A10: CÓDIGO VÍA | B10: PR INICIAL | C10: PR FINAL | D10: CARRETERA | E10: Kms. | F10: TIPO DE | G10: ESTADO
F11: SUPERFICIE | G11: INICIAL | H11: FINAL
A13: 6003 | B13: 0+0000 | C13: 1+0000 | D13: LA MANSA-PRIMAVERA | E13: 1000 | F13: P | G13: B | H13: B
A15: 6003 | B15: 1+0000 | C15: 2+0000 | D15: LA MANSA-PRIMAVERA | E15: 844 | F15: P | G15: B | H15: B
A17: 6003 | B17: 2+0000 | C17: 3+0000 | D17: LA MANSA-PRIMAVERA | E17: 990 | F17: P | G17: B | H17: B
A19: 6003 | B19: 3+0000 | C19: 4+0000 | D19: LA MANSA-PRIMAVERA | E19: 983 | F19: P | G19: B | H19: B
A21: 6003 | B21: 4+0000 | C21: 5+0000 | D21: LA MANSA-PRIMAVERA | E21: 1000 | F21: P | G21: B | H21: B
A23: 6003 | B23: =+C21 -> 5+0000 | C23: 6+0000 | D23: LA MANSA-PRIMAVERA | E23: 1000 | F23: P | G23: B | H23: B
A25: 6003 | B25: 6+0000 | C25: 7+0000 | D25: LA MANSA-PRIMAVERA | E25: 1000 | F25: P | G25: B | H25: B
A27: 6003 | B27: =+C25 -> 7+0000 | C27: 8+0000 | D27: LA MANSA-PRIMAVERA | E27: =438+160+409 -> 1007 | F27: P | G27: B | H27: B
A29: 6003 | B29: =+C27 -> 8+0000 | C29: 9+0000 | D29: LA MANSA-PRIMAVERA | E29: 864 | F29: P | G29: B | H29: B
A31: 6003 | B31: =+C29 -> 9+0000 | C31: 10+0000 | D31: LA MANSA-PRIMAVERA | E31: 913 | F31: P | G31: B | H31: B
A33: 6003 | B33: 10+0000 | C33: 11+0000 | D33: LA MANSA-PRIMAVERA | E33: 1000 | F33: P | G33: B | H33: B
A35: 6003 | B35: 11+0000 | C35: 12+0000 | D35: LA MANSA-PRIMAVERA | E35: 867 | F35: P | G35: B | H35: B
A37: 6003 | B37: 12+0000 | C37: 13+0000 | D37: LA MANSA-PRIMAVERA | E37: 900 | F37: P | G37: B | H37: B
A39: 6003 | B39: 13+0000 | C39: 14+0000 | D39: LA MANSA-PRIMAVERA | E39: 960 | F39: P | G39: B | H39: B
A41: 6003 | B41: 14+0000 | C41: 16+0000 | D41: LA MANSA-PRIMAVERA | E41: 2253 | F41: P | G41: B | H41: B
A43: 6003 | B43: 16+0000 | C43: 19+0000 | D43: LA MANSA-PRIMAVERA | E43: 3000 | F43: P | G43: R | H43: R
A45: 6003 | B45: 19+0000 | C45: 20+0000 | D45: LA MANSA-PRIMAVERA | E45: 1000 | F45: P | G45: R | H45: M
A47: 6003 | B47: 20+0000 | C47: 22+0000 | D47: LA MANSA-PRIMAVERA | E47: 2000 | F47: P | G47: R | H47: R
A49: 6003 | B49: 22+0000 | C49: 23+0000 | D49: LA MANSA-PRIMAVERA | E49: 1000 | F49: P | G49: M | H49: M
A51: 6003 | B51: 23+0000 | C51: 35+0000 | D51: LA MANSA-PRIMAVERA | E51: 12027 | F51: P | G51: R | H51: R
N52: VÍA PAVIMENTADA RUTA 6003
A53: 6003 | B53: 35+0000 | C53: 36+0000 | D53: LA MANSA-PRIMAVERA | E53: 1008 | F53: P | G53: R | H53: B | N53: =+O53/$O$58 -> 0 | O53: =+(SUMIF(H$12:H$72,"MB",E$13:E$73))/1000 -> 0 | P53: MB
N54: =+O54/$O$58 -> 0.34820117 | O54: =+(SUMIF(H$13:H$73,"B",E$13:E$73))/1000 -> 16.589 | P54: B
A55: 6003 | B55: 36+0000 | C55: 40+0000 | D55: LA MANSA-PRIMAVERA | E55: 4038 | F55: P | G55: R | H55: R | N55: =+O55/$O$58 -> 0.60700642 | O55: =+(SUMIF(H$13:H$73,"R",E$13:E$73))/1000 -> 28.919 | P55: R
N56: =+O56/$O$58 -> 0.04479241 | O56: =+(SUMIF(H$13:H$73,"M",E$13:E$73))/1000 -> 2.134 | P56: M
A57: 6003 | B57: 40+0000 | C57: 41+0000 | D57: LA MANSA-PRIMAVERA | E57: 1014 | F57: P | G57: R | H57: R | N57: =+O57/$O$58 -> 0 | O57: =+(SUMIF(H$13:H$73,"MM",E$13:E$73))/1000 -> 0 | P57: MM
N58: =SUM(N53:N57) -> 1 | O58: =SUM(O53:O57) -> 47.642
A59: 6003 | B59: 41+0000 | C59: 44+0200 | D59: LA MANSA-PRIMAVERA | E59: 3214 | F59: P | G59: M | H59: R
A61: 6003 | B61: 88+0100 | C61: 89+0000 | D61: LA MANSA-PRIMAVERA | E61: 898 | F61: P | G61: R | H61: R
A63: 6003 | B63: 89+0000 | C63: 90+0000 | D63: LA MANSA-PRIMAVERA | E63: 998 | F63: P | G63: R | H63: R
A65: 6003 | B65: 93+0420 | C65: 94+0000 | D65: LA MANSA-PRIMAVERA | E65: 182 | F65: P | G65: B | H65: R
A67: 6003 | B67: 94+0000 | C67: 95+0000 | D67: LA MANSA-PRIMAVERA | E67: 996 | F67: P | G67: R | H67: R
A69: 6003 | B69: 95+0000 | C69: 95+0031 | D69: LA MANSA-PRIMAVERA | E69: 31 | F69: P | G69: R | H69: R
...

Sheet SEMAFORO TEC 6003
A1: INSTITUTO NACIONAL DE VÍAS
A2: DIRECCIÓN TERRITORIAL ANTIOQUIA
A3: GRAFICO No. 3
A4: ESTADO DE LA RED CRITERIO TÉCNICO
A6: NOMBRE DE LA VÍA: | B6: La Mansa - Primavera | CU6: Código de la vía: | CX6: 6003
A8: SECTOR | B8: 01 | H8: LA MANSA - PEÑALISA | BI8: PR 0+0000 A PR 44+0200
B9: 02 | H9: PEAJE AMAGA | BI9: PR 88+0100 A PR90+0000
B10: 03 | H10: LOMA LINDA | BI10: PR 90+0615 A PR 90+0740 | CS10: SECTOR DE LA VÍA ANTIGUA, LADO DERECHO DE LOS PUENTES LOMA LINDA
B11: 04 | H11: KACHOTIS | BI11: PR 92+0024 A PR 92+0280 | CS11: SECTOR DE LA VÍA ANTIGUA, LADO IZQUIERDO DE LOS TÚNELES KACHOTIS
B12: 05 | H12: PRIMAVERA | BI12: PR 93+0700 A PR 95+0031
A13: INGENIERO RESIDENTE: | C13: =+DATOS!C10 -> CARLOS EDUARDO GARCIA CASTILLO | CT13: PERIODO EVALUADO: | CU13: =+DATOS!C16 -> JUN - SEP DE 2024
A37: CÓDIGO | B37: SECTOR | CU37: Longitud y Porcentaje
B38: 01 | CJ38: 02 | CO38: 03 | CU38: sobre el total de la vía
A39: PR | CU39: o del ítem
A40: ÍTEM | B40: 75 | I40: 10 | S40: 20 | AC40: 30 | AM40: 40 | AW40: 50 | BG40: 60 | BQ40: 70 | CA40: 80 | CK40: 90 | CP40: 95 | CS40: MB | CU40: B | CW40: R | CY40: M | DA40: MM
CS41: km | CT41: % | CU41: km | CV41: % | CW41: km | CX41: % | CY41: km | CZ41: % | DA41: km | DB41: %
A42: Pavimento | CS42: MB | CT42: MB
B43: B | C43: B | D43: B | E43: B | F43: B | G43: B | H43: B | I43: B | J43: B | K43: B | L43: B | M43: b | N43: b | O43: b | P43: r | Q43: R | R43: R | S43: R | T43: m | U43: m | V43: R | W43: R | X43: r | Y43: R | Z43: R | AA43: r | AB43: r | AC43: r | AD43: R | AE43: R | AF43: R | AG43: R | AH43: R | AI43: R | AJ43: r | AK43: b | AL43: r | AM43: R | AN43: R | AO43: R | AP43: r | AQ43: R | AR43: r | AS43: R | CL43: R | CM43: R | CN43: r | CQ43: m | CR43: r | CS43: =+'ESTADO RED TEC'!O53 -> 0 | CT43: =+CS43/($CS$43+$CU$43+$CW$43+$CY$43+$DA$43) -> 0 | CU43: =+'ESTADO RED TEC'!O54 -> 16.589 | CV43: =+CU43/($CS$43+$CU$43+$CW$43+$CY$43+$DA$43) -> 0.34820117 | CW43: =+'ESTADO RED TEC'!O55 -> 28.919 | CX43: =+CW43/($CS$43+$CU$43+$CW$43+$CY$43+$DA$43) -> 0.60700642 | CY43: =+'ESTADO RED TEC'!O56 -> 2.134 | CZ43: =+CY43/($CS$43+$CU$43+$CW$43+$CY$43+$DA$43) -> 0.04479241 | DA43: =+'ESTADO RED TEC'!O57 -> 0 | DB43: =+DA43/($CS$43+$CU$43+$CW$43+$CY$43+$DA$43) -> 0 | DC43: =+CT43+CV43+CX43+CZ43+DB43 -> 1
A44: Afirmado | CS44: MB | CT44: MB
DC45: =+CT45+CV45+CX45+CZ45+DB45 -> 0
A46: Puentes(Son: 9) | CS46: MB | CT46: MB
G47: MB | I47: MB | N47: MB | AG47: R | AH47: M | AI47: M | AK47: M | AM47: B | AP47: M | CS47: 3 | CT47: =+CS47/(CS47+CU47+CW47+CY47+DA47) -> 0.33333333 | CU47: 1 | CV47: =+CU47/(CS47+CU47+CW47+CY47+DA47) -> 0.11111111 | CW47: 1 | CX47: =+CW47/(CS47+CU47+CW47+CY47+DA47) -> 0.11111111 | CY47: 4 | CZ47: =+CY47/(CS47+CU47+CW47+CY47+DA47) -> 0.44444444 | DA47: 0 | DB47: =+DA47/(CS47+CU47+CW47+CY47+DA47) -> 0 | DC47: =+CT47+CV47+CX47+CZ47+DB47 -> 1
A48: Cunetas | CS48: MB | CT48: MB
B49: MB | C49: MB | D49: MB | E49: MB | F49: MB | G49: MB | H49: MB | I49: MB | J49: MB | K49: MB | L49: MB | M49: MB | N49: MB | O49: R | P49: B | Q49: M | R49: R | S49: R | T49: B | U49: B | V49: R | W49: B | X49: B | Y49: B | Z49: B | AA49: B | AB49: B | AC49: B | AD49: B | AE49: B | AF49: B | AG49: B | AH49: B | AI49: B | AJ49: B | AK49: B | AL49: B | AM49: B | AN49: B | AO49: B | AP49: B | AQ49: R | AR49: B | AS49: B | CL49: B | CM49: B | CQ49: MB | CR49: B | CS49: 14 | CT49: 0.2937 | CU49: 23 | CV49: 0.4826 | CW49: 8 | CX49: 0.1679 | CY49: 2.66 | CZ49: 0.0558 | DA49: 0 | DB49: 0 | DC49: =+CT49+CV49+CX49+CZ49+DB49 -> 1
A50: Señalización Vertical | CS50: MB | CT50: MB
B51: b | C51: b | D51: r | E51: r | F51: r | G51: r | H51: r | I51: b | J51: r | K51: b | L51: r | M51: b | N51: B | O51: R | P51: m | Q51: R | R51: B | S51: B | T51: B | U51: R | V51: R | W51: R | X51: B | Y51: R | Z51: m | AA51: R | AB51: m | AC51: R | AD51: R | AE51: B | AF51: B | AG51: R | AH51: R | AI51: m | AJ51: R | AK51: m | AL51: R | AM51: B | AN51: R | AO51: B | AP51: B | AQ51: B | AR51: B | AS51: R | CL51: B | CM51: b | CQ51: B | CR51: B | CS51: 0 | CT51: 0 | CU51: 13.5 | CV51: 0.2833 | CW51: 31 | CX51: 0.6504 | CY51: 3.16 | CZ51: 0.0663 | DA51: 0 | DB51: 0 | DC51: =+CT51+CV51+CX51+CZ51+DB51 -> 1
A52: Señalización horizontal | CS52: MB | CT52: MB
B53: R | C53: R | D53: R | E53: m | F53: R | G53: r | H53: r | I53: r | J53: r | K53: r | L53: r | M53: r | N53: m | O53: M | P53: r | Q53: m | R53: r | S53: R | T53: m | U53: R | V53: R | W53: R | X53: R | Y53: m | Z53: m | AA53: R | AB53: m | AC53: m | AD53: R | AE53: R | AF53: M | AG53: M | AH53: r | AI53: R | AJ53: R | AK53: m | AL53: R | AM53: R | AN53: R | AO53: R | AP53: R | AQ53: R | AR53: R | AS53: R | CL53: r | CM53: B | CQ53: B | CR53: R | CS53: 0 | CT53: 0 | CU53: 8 | CV53: 0.1679 | CW53: 25.66 | CX53: 0.5384 | CY53: 8 | CZ53: 0.1679 | DA53: 6 | DB53: 0.1259 | DC53: =+CT53+CV53+CX53+CZ53+DB53 -> 1.0001
A54: Rocería | CS54: MB | CT54: MB | DE54: CONVENCIONES | DG54: NO CAMBIAR ESTOS TIPOS DE COLORES
B55: B | C55: B | D55: B | E55: B | F55: B | G55: B | H55: B | I55: B | J55: B | K55: B | L55: B | M55: B | N55: B | O55: B | P55: B | Q55: B | R55: B | S55: B | T55: B | U55: B | V55: B | W55: B | X55: B | Y55: B | Z55: B | AA55: B | AB55: B | AC55: B | AD55: B | AE55: B | AF55: B | AG55: B | AH55: B | AI55: B | AJ55: B | AK55: B | AL55: B | AM55: B | AN55: B | AO55: B | AP55: B | AQ55: B | AR55: B | AS55: B | CL55: B | CM55: B | CQ55: B | CR55: B | CS55: 0 | CT55: 0 | CU55: 47.66 | CV55: 1 | CW55: 0 | CX55: 0 | CY55: 0 | CZ55: 0 | DA55: 0 | DB55: 0 | DC55: =+CT55+CV55+CX55+CZ55+DB55 -> 1 | DE55: MB | DF55: MUY BUENO
A56: Alcantarillas | CS56: MB | CT56: MB | DE56: B | DF56: BUENO
B57: MB | C57: MB | D57: B | E57: B | K57: M | L57: mb | M57: B | N57: R | O57: R | P57: B | Q57: B | R57: M | S57: R | T57: B | U57: B | V57: R | W57: B | X57: R | Y57: M | Z57: B | AA57: B | AB57: R | AC57: B | AD57: R | AE57: B | AF57: R | AG57: B | AH57: B | AI57: R | AJ57: R | AK57: M | AL57: R | AM57: R | AN57: R | AO57: R | AP57: B | AQ57: R | AR57: R | AS57: R | CL57: r | CM57: R | CQ57: MB | CR57: R | CS57: 5 | CT57: 0.1049 | CU57: 17 | CV57: 0.3567 | CW57: 21.66 | CX57: 0.4545 | CY57: 4 | CZ57: 0.0839 | DA57: 0 | DB57: 0 | DC57: =+CT57+CV57+CX57+CZ57+DB57 -> 1 | DE57: R | DF57: REGULAR
A58: Limpiezas de bermas | CS58: MB | CT58: MB | DE58: M | DF58: MALO
B59: B | C59: B | D59: B | E59: B | F59: B | G59: B | H59: B | I59: B | J59: B | K59: B | L59: B | M59: B | N59: B | O59: B | P59: B | Q59: B | R59: B | S59: B | T59: B | U59: B | V59: B | W59: B | X59: B | Y59: B | Z59: B | AA59: B | AB59: B | AC59: B | AD59: B | AE59: B | AF59: B | AG59: B | AH59: B | AI59: B | AJ59: B | AK59: B | AL59: B | AM59: B | AN59: B | AO59: B | AP59: B | AQ59: B | AR59: B | AS59: B | CL59: b | CM59: B | CQ59: B | CR59: B | CS59: 0 | CT59: 0 | CU59: 47.66 | CV59: 1 | CW59: 0 | CX59: 0 | CY59: 0 | CZ59: 0 | DA59: 0 | DB59: 0 | DC59: =+CT59+CV59+CX59+CZ59+DB59 -> 1 | DE59: MM | DF59: MUY MALO
A61: NOTA: Indicar en el mapa los PRs y nombres de cada uno de los sitios importantes
A62: Hacer montaje del mapa de la red vial sobre cartografía o mapas aerofotogramétricos
CU63: VOLVER A TABLA DE CONTENIDO

Sheet SEMAFORO TEC 6204
A1: INSTITUTO NACIONAL DE VÍAS
A2: DIRECCIÓN TERRITORIAL ANTIOQUIA
A3: GRAFICO No. 3
A4: ESTADO DE LA RED CRITERIO TÉCNICO
A7: NOMBRE DE LA VÍA: | B7: SANTA FÉ DE ANTIOQUIA - MEDELLÍN | BF7: Código de la vía: | BH7: 6204
A9: SECTOR | B9: 01 | I9: PUENTE AURRÁ - MEDELLÍN | BF9: PR 16+0000 A PR 71+0000
A11: INGENIERO RESIDENTE: | E11: =+DATOS!C10 -> CARLOS EDUARDO GARCIA CASTILLO | BH11: PERIODO EVALUADO: | BI11: =+DATOS!C16 -> JUN - SEP DE 2024
A43: CÓDIGO | B43: SECTOR | BF43: Longitud y Porcentaje
A44: 6204 | B44: 01 | BF44: sobre el total de la vía
A45: PR | BF45: o del ítem
A46: ÍTEM | B46: 16 | F46: 20 | J46: 25 | K46: 25 | P46: 30 | U46: 35 | Z46: 40 | AE46: 45 | AJ46: 50 | AO46: 55 | AT46: 60 | AY46: 65 | BD46: 70 | BF46: MB | BH46: B | BJ46: R | BL46: M | BN46: MM
BF47: km | BG47: % | BH47: km | BI47: % | BJ47: km | BK47: % | BL47: km | BM47: % | BN47: km | BO47: %
A48: Pavimento | BF48: MB | BG48: MB
B49: M | C49: M | D49: M | E49: M | F49: M | G49: M | H49: M | I49: M | J49: M | K49: M | L49: M | M49: M | N49: M | O49: M | P49: M | Q49: M | R49: M | S49: M | T49: M | U49: M | V49: M | W49: M | X49: M | Y49: M | Z49: M | AA49: M | AB49: M | AC49: M | AD49: M | AE49: M | AF49: mm | AG49: M | AH49: M | AI49: M | AJ49: M | AK49: r | AL49: MM | AM49: M | AN49: M | AO49: R | AP49: M | AQ49: M | AR49: M | AS49: MM | AT49: mm | AU49: mm | AV49: MM | AW49: MM | AX49: M | AY49: M | AZ49: M | BA49: M | BB49: R | BC49: R | BD49: R | BF49: =+'ESTADO RED TEC'!O76 -> 0 | BG49: =+BF49/($BF$49+$BH$49+$BJ$49+$BL$49+$BN$49) -> 0 | BH49: =+'ESTADO RED TEC'!O77 -> 0 | BI49: =+BH49/($BF$49+$BH$49+$BJ$49+$BL$49+$BN$49) -> 0 | BJ49: =+'ESTADO RED TEC'!O78 -> 5.0264 | BK49: =+BJ49/($BF$49+$BH$49+$BJ$49+$BL$49+$BN$49) -> 0.090973096 | BL49: =+'ESTADO RED TEC'!O79 -> 44.0676 | BM49: =+BL49/($BF$49+$BH$49+$BJ$49+$BL$49+$BN$49) -> 0.79758197 | BN49: =+'ESTADO RED TEC'!O80 -> 6.1575 | BO49: =+BN49/($BF$49+$BH$49+$BJ$49+$BL$49+$BN$49) -> 0.11144494
A50: Afirmado | B50: NO APLICA | BF50: MB | BG50: MB
BF51: 0 | BG51: 0 | BH51: 0 | BI51: 0 | BJ51: 0 | BK51: =+BJ51/2.488 -> 0 | BL51: 0 | BM51: =+BL51/2.488 -> 0 | BN51: 0 | BO51: 0
A52: Puentes (Son: 13) | BF52: MB | BG52: MB
B53: R | G53: B | I53: B | L53: mb | V53: B | Y53: B | Z53: B | AA53: B | AD53: B | AF53: B | AH53: B | AL53: B | BF53: 1 | BG53: 0.0769 | BH53: 11 | BI53: 0.8462 | BJ53: 1 | BK53: 0.0769 | BL53: 0 | BM53: 0 | BN53: 0 | BO53: 0
A54: Cunetas | BF54: MB | BG54: MB
B55: B | C55: R | D55: B | E55: B | F55: B | G55: B | H55: B | I55: B | L55: MM | M55: B | N55: B | O55: B | P55: R | Q55: R | R55: R | S55: R | T55: R | U55: B | V55: MM | W55: B | X55: B | Y55: MM | Z55: B | AA55: B | AB55: R | AC55: R | AD55: R | AE55: B | AF55: R | AG55: B | AH55: B | AI55: B | AJ55: B | AK55: B | AL55: B | AM55: MM | AN55: R | AO55: R | AP55: R | AQ55: B | AR55: R | AS55: B | AT55: R | AU55: B | AV55: R | AW55: R | AX55: B | AY55: B | AZ55: B | BA55: B | BB55: B | BC55: B | BD55: B | BF55: 0 | BG55: 0 | BH55: 34.54 | BI55: 0.62994272 | BJ55: 16 | BK55: 0.28882378 | BL55: 4.5 | BM55: 0.081231689 | BN55: 0 | BO55: 0
A56: Señalización Vertical | BF56: MB | BG56: MB
B57: R | C57: R | D57: R | E57: R | F57: R | G57: R | H57: R | I57: R | J57: R | K57: R | L57: MM | M57: MM | N57: R | O57: R | P57: R | Q57: R | R57: R | S57: R | T57: R | U57: R | V57: R | W57: R | X57: MM | Y57: MM | Z57: R | AA57: R | AB57: B | AC57: B | AD57: B | AE57: B | AF57: B | AG57: B | AH57: B | AI57: B | AJ57: MM | AK57: MM | AL57: MM | AM57: MM | AN57: B | AO57: B | AP57: B | AQ57: B | AR57: R | AS57: R | AT57: R | AU57: R | AV57: R | AW57: R | AX57: R | AY57: R | AZ57: R | BA57: R | BB57: R | BC57: R | BD57: R | BF57: 0 | BG57: =+BF57/($BF$57+$BH$57+$BJ$57+$BL$57+$BN$57) -> 0 | BH57: 12 | BI57: =+BH57/($BF$57+$BH$57+$BJ$57+$BL$57+$BN$57) -> 0.21802326 | BJ57: 34.54 | BK57: =+BJ57/($BF$57+$BH$57+$BJ$57+$BL$57+$BN$57) -> 0.6275436 | BL57: 8.5 | BM57: =+BL57/($BF$57+$BH$57+$BJ$57+$BL$57+$BN$57) -> 0.15443314 | BN57: 0 | BO57: =+BN57/($BF$57+$BH$57+$BJ$57+$BL$57+$BN$57) -> 0
A58: Señalización horizontal | BF58: MB | BG58: MB
B59: MM | C59: MM | D59: MM | E59: MM | F59: MM | G59: MM | H59: MM | I59: MM | J59: MM | K59: MM | L59: MM | M59: MM | N59: MM | O59: MM | P59: MM | Q59: MM | R59: MM | S59: MM | T59: MM | U59: MM | V59: MM | W59: MM | X59: MM | Y59: MM | Z59: MM | AA59: MM | AB59: MM | AC59: MM | AD59: MM | AE59: MM | AF59: MM | AG59: MM | AH59: MM | AI59: MM | AJ59: MM | AK59: MM | AL59: MM | AM59: MM | AN59: MM | AO59: MM | AP59: MM | AQ59: MM | AR59: MM | AS59: MM | AT59: MM | AU59: MM | AV59: MM | AW59: MM | AX59: MM | AY59: MM | AZ59: R | BA59: R | BB59: R | BC59: R | BD59: R | BF59: 0 | BG59: =+BF59/($BF$59+$BH$59+$BJ$59+$BL$59+$BN$59) -> 0 | BH59: 0 | BI59: =+BH59/($BF$59+$BH$59+$BJ$59+$BL$59+$BN$59) -> 0 | BJ59: 3.9 | BK59: =+BJ59/($BF$59+$BH$59+$BJ$59+$BL$59+$BN$59) -> 0.070857558 | BL59: 0 | BM59: =+BL59/($BF$59+$BH$59+$BJ$59+$BL$59+$BN$59) -> 0 | BN59: 51.14 | BO59: =+BN59/($BF$59+$BH$59+$BJ$59+$BL$59+$BN$59) -> 0.92914244
A60: Rocería | BF60: MB | BG60: MB | BR60: CONVENCIONES | BT60: NO CAMBIAR ESTOS TIPOS DE COLORES
B61: B | C61: B | D61: B | E61: B | F61: B | G61: B | H61: B | I61: B | J61: B | K61: B | L61: B | M61: B | N61: B | O61: B | P61: B | Q61: B | R61: B | S61: B | T61: B | U61: B | V61: B | W61: B | X61: B | Y61: B | Z61: MM | AA61: MM | AB61: MM | AC61: MM | AD61: MM | AE61: MM | AF61: MM | AG61: MM | AH61: MM | AI61: MM | AJ61: MM | AK61: MM | AL61: MM | AM61: MM | AN61: MM | AO61: MM | AP61: MM | AQ61: MM | AR61: MM | AS61: MM | AT61: MM | AU61: MM | AV61: MM | AW61: MM | AX61: MM | AY61: MM | AZ61: MM | BA61: MM | BB61: R | BC61: R | BD61: B | BF61: 0 | BG61: 0 | BH61: 46.64 | BI61: 0.72205946 | BJ61: 6 | BK61: 0.069046936 | BL61: 2.4 | BM61: 0.2088918 | BN61: 0 | BO61: 0 | BR61: MB | BS61: MUY BUENO
A62: Alcantarillas | BF62: MB | BG62: MB | BR62: B | BS62: BUENO
B63: B | C63: B | D63: B | E63: B | F63: B | G63: B | H63: B | I63: B | J63: B | K63: B | L63: B | M63: B | N63: B | O63: B | P63: R | Q63: R | R63: B | S63: B | T63: B | U63: B | V63: B | W63: B | X63: B | Y63: B | Z63: B | AA63: B | AB63: B | AC63: B | AD63: B | AE63: B | AF63: B | AG63: B | AH63: B | AI63: B | AJ63: R | AK63: R | AL63: R | AM63: R | AN63: R | AO63: R | AP63: B | AQ63: B | AR63: B | AS63: B | AT63: B | AU63: B | AV63: B | AW63: B | AX63: B | AY63: B | AZ63: B | BA63: B | BB63: B | BC63: B | BD63: B | BF63: 0 | BG63: 0 | BH63: 48.04 | BI63: 0.90974076 | BJ63: 5 | BK63: 0.090257432 | BL63: 2 | BM63: 0 | BN63: 0 | BO63: 0 | BR63: R | BS63: REGULAR
A64: Limpiezas de bermas | BF64: MB | BG64: MB | BR64: M | BS64: MALO
B65: B | C65: B | D65: B | E65: B | F65: B | G65: B | H65: B | I65: B | J65: B | K65: B | L65: B | M65: B | N65: B | O65: B | P65: B | Q65: B | R65: B | S65: B | T65: B | U65: B | V65: B | W65: B | X65: B | Y65: B | Z65: b | AA65: r | AB65: b | AC65: r | AD65: r | AE65: r | AF65: r | AG65: r | AH65: r | AI65: r | AJ65: r | AK65: r | AL65: r | AM65: M | AN65: r | AO65: M | AP65: M | AQ65: M | AR65: M | AS65: M | AT65: M | AU65: M | AV65: M | AW65: M | AX65: M | AY65: M | AZ65: R | BA65: R | BB65: R | BC65: R | BD65: R | BF65: 0 | BG65: 0 | BH65: 37 | BI65: 0.72205946 | BJ65: 6.04 | BK65: 0.069046936 | BL65: 12 | BM65: 0.2088918 | BN65: 0 | BO65: 0 | BR65: MM | BS65: MUY MALO
A67: NOTA: Indicar en el mapa los PRs y nombres de cada uno de los sitios importantes
A68: Hacer montaje del mapa de la red vial sobre cartografía o mapas aerofotogramétricos
BK69: VOLVER A TABLA DE CONTENIDO

Sheet SEMAFORO TEC 6205
A1: INSTITUTO NACIONAL DE VÍAS
A2: DIRECCIÓN TERRITORIAL ANTIOQUIA
A3: GRAFICO No. 3
A4: ESTADO DE LA RED CRITERIO TÉCNICO
A7: NOMBRE DE LA VÍA: | D7: HATILLO - CISNEROS | S7: Código de la vía: | V7: 6205
A9: SECTOR: | B9: 01 | F9: PASO NACIONAL BARBOSA | U9: PR 9+0000 A PR 9+0700
B10: 02 | F10: PASO NACIONAL CISNEROS | U10: PR 53+0000 A PR 54+1158
A13: INGENIERO RESIDENTE: | D13: CARLOS EDUARDO GARCIA CASTILLO | U13: PERIODO EVALUADO: | V13: =+DATOS!C16 -> JUN - SEP DE 2024
A44: CÓDIGO | B44: SECTOR | S44: Longitud y Porcentaje
A45: 6205 | B45: 01 | F45: 02 | S45: sobre el total de la vía
A46: PR | E46: 9+700 | N46: 54+0537 | O46: 54+0762 | Q46: 54+1158 | S46: o del ítem
A47: ÍTEM | B47: 9 | F47: 53 | L47: 54 | S47: MB | U47: B | W47: R | Y47: M | AA47: MM
S48: km | T48: % | U48: km | V48: % | W48: km | X48: % | Y48: km | Z48: % | AA48: km | AB48: %
A49: Pavimento | N49: CD | S49: MB | T49: MB
B50: R | C50: R | D50: R | E50: R | F50: M | G50: M | H50: M | I50: M | J50: M | K50: M | L50: R | M50: R | N50: CI | P50: R | Q50: M | S50: 0 | T50: =+S50/($S$50+$U$50+$W$50+$Y$50+$AA$50) -> 0 | U50: =+'ESTADO RED TEC'!Q187 -> 0 | V50: =+U50/($S$50+$U$50+$W$50+$Y$50+$AA$50) -> 0 | W50: =+'ESTADO RED TEC'!O188 -> 1.078 | X50: =+W50/($S$50+$U$50+$W$50+$Y$50+$AA$50) -> 0.35825856 | Y50: =+'ESTADO RED TEC'!O189 -> 1.931 | Z50: =+Y50/($S$50+$U$50+$W$50+$Y$50+$AA$50) -> 0.64174144 | AA50: =+'ESTADO RED TEC'!O190 -> 0 | AB50: =+AA50/($S$50+$U$50+$W$50+$Y$50+$AA$50) -> 0
A51: Afirmado | S51: MB | T51: MB
S52: 0 | T52: 0 | U52: 0 | V52: 0 | W52: 0 | X52: 0 | Y52: 0 | Z52: 0 | AA52: 0 | AB52: 0
A53: Puentes (Son: 0 ) | S53: MB | T53: MB
S54: 0 | T54: 0 | U54: 0 | V54: 0 | W54: 0 | X54: 0 | Y54: 0 | Z54: 0 | AA54: 0 | AB54: 0
A55: Cunetas | S55: MB | T55: MB
B56: B | C56: B | D56: B | E56: B | F56: B | G56: B | H56: B | I56: B | J56: B | K56: B | L56: B | M56: B | N56: B | O56: B | P56: B | Q56: B | S56: 0 | T56: 0 | U56: 3.01 | V56: 1 | W56: 0 | X56: 0 | Y56: 0 | Z56: 0 | AA56: 0 | AB56: 0
A57: Señalización Vertical | S57: MB | T57: MB
B58: R | C58: R | D58: R | E58: R | F58: R | G58: R | H58: R | I58: R | J58: R | K58: R | L58: R | M58: R | N58: R | O58: R | P58: R | Q58: R | S58: 0 | T58: 0 | U58: 0 | V58: 0 | W58: 3.01 | X58: 1 | Y58: 0 | Z58: 0 | AA58: 0 | AB58: 0
A59: Señalización horizontal | S59: MB | T59: MB
B60: R | C60: R | D60: R | E60: m | F60: m | G60: m | H60: m | I60: m | J60: m | K60: m | L60: m | M60: R | N60: R | O60: R | P60: R | Q60: R | S60: 0 | T60: 0 | U60: 0 | V60: 0 | W60: =1.15+0.189 -> 1.339 | X60: 0.4106383 | Y60: 1.67 | Z60: 0.5893617 | AA60: 0 | AB60: 0
A61: Rocería | S61: MB | T61: MB | AE61: CONVENCIONES | AG61: NO CAMBIAR ESTOS TIPOS DE COLORES
B62: B | C62: B | D62: B | E62: B | F62: B | G62: B | H62: B | I62: B | J62: B | K62: B | L62: B | M62: B | N62: B | O62: B | P62: B | Q62: B | S62: 0 | T62: 0 | U62: 2.85 | V62: 1 | W62: 0 | X62: 0 | Y62: 0 | Z62: 0 | AA62: 0 | AB62: 0 | AE62: MB | AF62: MUY BUENO
A63: Alcantarillas | S63: MB | T63: MB | AE63: B | AF63: BUENO
B64: R | C64: R | D64: R | E64: R | F64: R | G64: R | H64: R | I64: R | J64: R | K64: R | L64: R | M64: R | N64: R | O64: R | P64: R | Q64: R | S64: 0 | T64: 0 | U64: 0 | V64: 0 | W64: 3.01 | X64: 1 | Y64: 0 | Z64: 0 | AA64: 0 | AB64: 0 | AE64: R | AF64: REGULAR
A65: Limpiezas de bermas | S65: MB | T65: MB | AE65: M | AF65: MALO
B66: B | C66: B | D66: B | E66: B | F66: B | G66: B | H66: B | I66: B | J66: B | K66: B | L66: B | M66: B | N66: B | O66: B | P66: B | Q66: B | S66: 0 | T66: 0 | U66: 3.01 | V66: 1 | W66: 0 | X66: 0 | Y66: 0 | Z66: 0 | AA66: 0 | AB66: 0 | AE66: MM | AF66: MUY MALO
A68: NOTA: Indicar en el mapa los PRs y nombres de cada uno de los sitios importantes
A69: Hacer montaje del mapa de la red vial sobre cartografía o mapas aerofotogramétricos
W70: VOLVER A TABLA DE CONTENIDO

Sheet SEMAFORO TEC 6206
A1: INSTITUTO NACIONAL DE VÍAS
A2: DIRECCIÓN TERRITORIAL ANTIOQUIA
A3: GRAFICO No. 3
A4: ESTADO DE LA RED CRITERIO TÉCNICO
A7: NOMBRE DE LA VÍA: | B7: CISNEROS - PUERTO BERRÍO - CRUCE RUTA 45 | AB7: Código de la vía: | AD7: 6206
A9: SECTOR: | B9: 01 | F9: PASO NACIONAL CISNEROS | V9: PR 0+0000 A PR 1+0000
B10: 02 | F10: PASO NACIONAL. PUERTO BERRÍO | V10: PR 95+0198 A PR 97+1261
A13: INGENIERO RESIDENTE: | D13: CARLOS EDUARDO GARCIA CASTILLO | AB13: PERIODO EVALUADO: | AC13: =+DATOS!C16 -> JUN - SEP DE 2024
A34: CÓDIGO | B34: SECTOR | AA34: Longitud y Porcentaje
A35: 6206 | B35: 01 | H35: 02 | AA35: sobre el total de la vía
A36: PR | B36: 0 | G36: 1 | H36: 95 | N36: 96 | Q36: 96+0553 | R36: 96+0909 | T36: 97 | Y36: 97+1261 | AA36: o del ítem
A37: ÍTEM | AA37: MB | AC37: B | AE37: R | AG37: M | AI37: MM
AA38: km | AB38: % | AC38: km | AD38: % | AE38: km | AF38: % | AG38: km | AH38: % | AI38: km | AJ38: %
